{"text_format":"1","workbook":"xlsx","n_sheets":7,"sheets":["Read Me","Data Dictionary","Age Distribution","Vehicle Type Count by Agency","Summary Tables Age Distribution","Summary Tables Vehicle Type","Summary Tables Useful Life"],"not_rendered":{"charts":12,"images":0,"macros":1,"external_links":0,"defined_names":29,"comments":0,"pivot_tables":0},"unopened":[],"bounds":{"document_bytes":16777216,"sheet_cells":100000,"rows_first":2000,"rows_last":500,"rows_between":2000,"halvings":0,"cell_chars":16384,"cell_head_chars":4096},"cells_cut":0,"cells_raw":0,"read":"whole","date_system":"1900"}

{"sheet":"Read Me","index":0,"n_rows":0,"n_cols":0,"rows_kept":0,"cut":false,"hidden":false,"merged":[]}

{"sheet":"Data Dictionary","index":1,"n_rows":76,"n_cols":3,"rows_kept":76,"cut":false,"hidden":false,"merged":[]}
["Term","Who reports it?","Definition"]
["Agency","All","The transit agency's name."]
["City","All","The city in which the agency is headquartered."]
["State","All","The state in which the agency is headquartered."]
["Legacy NTD ID","All","A four-digit identifying number for each agency used in the legacy NTD system."]
["NTD ID","All","A five-digit identifying number for each agency used in the current NTD system."]
["Organization Type","All","Description of the agency's legal entity."]
["Reporter Type","All","The type of NTD report that the agency completed this year."]
["Primary UZA Population","DOES NOT APPLY TO: Rural General Public Transit Sub-recipients, Intercity Bus Sub-recipients","The population of the urbanized area primarily served by the agency."]
["Agency VOMS","DOES NOT APPLY TO: Building Reporters, Planning Reporters, Separate Service Reporters, Tribal Subsidy Reporters, Intercity Bus Sub-recipients","The number of revenue vehicles operated across the whole agency to meet the annual maximum service requirement. This is the revenue vehicle count during the peak season of the year; on the week and day that maximum service is provided. Vehicles operated in maximum service (VOMS) exclude atypical days and one-time special events."]
["Mode","DOES NOT APPLY TO: Planning Reporters, Tribal Subsidy Reporters, Intercity Bus Sub-recipients","A system for carrying transit passengers described by specific right-of-way (ROW), technology and operational features."]
["Type of Service","DOES NOT APPLY TO: Planning Reporters, Tribal Subsidy Reporters, Intercity Bus Sub-recipients","Describes how public transportation services are provided by the transit agency: directly operated (DO) or purchased transportation (PT) services."]
["Mode VOMS","DOES NOT APPLY TO: Building Reporters, Planning Reporters, Separate Service Reporters, Tribal Subsidy Reporters, Intercity Bus Sub-recipients","The number of revenue vehicles operated by the given mode and type of service to meet the annual maximum service requirement. This is the revenue vehicle count during the peak season of the year; on the week and day that maximum service is provided. Vehicles operated in maximum service (VOMS) exclude atypical days and one-time special events."]
["Rural General Public Transit",null,"Reporter type for agencies that do not operate in an urban area and are not Tribes."]
["Intercity Bus",null,"Reporter type for private bus lines providing non-transit service connecting wide-ranging areas."]
["Building Reporter",null,"Reporter type for agencies that are building a new transit service but not yet operating it."]
["Planning Reporter",null,"Reporter type for entities that expend funds in planning transit but do not operate service."]
["Separate Service",null,"Reporter type for agencies that have a contractual relationship with another NTD reporter to provide service but do not report any service themselves."]
["Tribal Subsidy",null,"Reporter type for Tribes that subsidize service but do not operate service or pay the full cost of service."]
["Full Reporter",null,"Reporter type for agencies that operate urban service and complete the most detailed level of NTD report. Urban agencies that operate more than 30 vehicles or operate Fixed Guideway service are required to complete Full Reports; other urban agencies may do so if they wish."]
["Reduced Reporter",null,"Reporter type for agencies that operate urban service but complete a simplified NTD report. Urban agencies that operate 30 or fewer vehicles and do not operate Fixed Guideway service are eligible to complete Reduced Reports. This is sometimes called a Small Systems Waiver Report."]
["Urbanized Area (UZA)",null,"An area defined by the U. S. Census Bureau that includes: \n- One or more incorporated cities, villages, and towns (central place) \n- The adjacent densely settled surrounding territory (urban fringe) that together has a minimum of 50,000 persons \nThe urban fringe generally consists of contiguous territory having a density of at least 1,000 persons per square mile. Urbanized areas do not conform to congressional districts or any other political boundaries."]
["Alaska Railroad (AR)",null,"The passenger service portion of the Alaska Railroad Corporation. The service encompasses only car miles for passenger cars; car miles for freight cars are specifically excluded."]
["Bus (MB)",null,"A transit mode comprised of rubber-tired passenger vehicles operating on fixed routes and schedules over roadways. Vehicles are powered by: \n- Diesel \n- Gasoline \n- Battery \n- Alternative fuel engines contained within the vehicle"]
["Bus Rapid Transit (RB)",null,"Fixed-route bus mode: \n- In which the majority of each line operates in a separated right-of-way dedicated for public transportation use during peak periods; and \n- That includes features that emulate the services provided by rail fixed guideway public transportation systems, including: \n   o Defined stations \n   o Traffic signal priority for public transportation vehicles \n   o Short headway bidirectional services for a substantial part of weekdays and weekend days \n   o Pre-board ticketing, platform level boarding, and separate branding \nThis mode may include portions of service that are fixed-guideway and non-fixed-guideway."]
["Cable Car (CC)",null,"A transit mode that is an electric railway with individually controlled transit vehicles attached to a moving cable located below the street surface and powered by engines or motors at a central location, not onboard the vehicle."]
["Commuter Bus (CB)",null,"Fixed-route bus systems that are primarily connecting outlying areas with a central city through bus service that operates with at least five miles of continuous closed-door service. This service may operate motorcoaches (aka over-the-road buses), and usually features peak scheduling, multiple-trip tickets, and limited stops in the central city."]
["Commuter Rail (CR)",null,"A transit mode that is an electric or diesel propelled railway for urban passenger train service consisting of local short distance travel operating between a central city and adjacent suburbs. Service must be operated on a regular basis by or under contract with a transit operator for the purpose of transporting passengers within urbanized areas (UZAs), or between urbanized areas and outlying areas. \nSuch rail service, using either locomotive hauled or self-propelled railroad passenger cars, is generally characterized by: \n- Multi-trip tickets \n- Specific station to station fares \n- Railroad employment practices \n- Usually only one or two stations in the central business district \nIt does not include: \n- Heavy rail (HR) rapid transit \n- Light rail (LR)/streetcar transit service \nIntercity rail service is excluded, except for that portion of such service that is operated by or under contract with a public transit agency for predominantly commuter services. Predominantly commuter service means that for any given trip segment (i.e., distance between any two stations), more than 50 percent of the average daily ridership makes a return trip on the same day. Only the predominantly commuter service portion of an intercity route is eligible for inclusion when determining commuter rail (CR) route miles."]
["Demand Response (DR)",null,"A transit mode comprised of automobiles, vans or small buses operating in response to calls from passengers or their agents to the transit operator, who then dispatches a vehicle to pick up the passengers and transport them to their destinations. A demand response (DR) operation is characterized by the following: \n- The vehicles do not operate over a fixed route or on a fixed schedule except, perhaps, on a temporary basis to satisfy a special need; and \n- Typically, the vehicle may be dispatched to pick up several passengers at different pick-up points before taking them to their respective destinations and may even be interrupted en route to these destinations to pick up other passengers. \nThe following types of operations fall under the above definitions provided they are not on a scheduled fixed route basis: \n- Many origins—many destinations \n- Many origins—one destination \n- One origin—many destinations \n- One origin—one destination"]
["Demand Response Taxi (DT)",null,"A special form of the demand response mode operated through taxicab providers. The mode is always purchased transportation type of service. In order to be reportable, there must be a system in place through which passengers can share rides."]
["Ferryboat (FB)",null,"A transit mode comprised of vessels carrying passengers and/or vehicles over a body of water that are generally steam or diesel powered. Intercity ferryboat (FB) service is excluded, except for that portion of such service that is operated by or under contract with a public transit agency for predominantly commuter services. Predominantly commuter service means that for any given trip segment (i.e., distance between any two piers), more than 50 percent of the average daily ridership makes a return trip on the ferryboat on the same day. Only the predominantly commuter service portion of an intercity route is eligible for inclusion when determining ferryboat (FB) route miles."]
["Heavy Rail (HR)",null,"A transit mode that is an electric railway with the capacity for a heavy volume of traffic. It is characterized by: \n- High speed and rapid acceleration passenger rail cars operating singly or in multi-car trains on fixed rails \n- Separate rights-of-way (ROW) from which all other vehicular and foot traffic are excluded \n- Sophisticated signaling \n- Raised platform loading"]
["Hybrid Rail (YR)",null,"Rail systems primarily operating routes on the National system of railroads, but not operating with the characteristics of commuter rail. This service typically operates light rail-type vehicles as diesel multipleunit trains (DMU’s). These trains do not meet Federal Railroad Administration standards, and so must operate with temporal separation from freight rail traffic."]
["Inclined Plane (IP)",null,"A transit mode that is a railway operating over exclusive right-of-way (ROW) on steep grades (slopes) with powerless vehicles propelled by moving cables attached to the vehicles and powered by engines or motors at a central location not onboard the vehicle. The special tramway types of vehicles have passenger seats that remain horizontal while the undercarriage (truck) is angled parallel to the slope."]
["Light Rail (LR)",null,"A transit mode that is typically an electric railway with a light volume traffic capacity compared to heavy rail (HR). It is characterized by: \n- Passenger rail cars operating singly (or in short, usually two car, trains) on fixed rails in shared or exclusive right-of-way (ROW) \n- Low or high platform loading \n- Vehicle power drawn from an overhead electric line via a trolley or a pantograph"]
["Monorail/Automated Guideway (MG)",null,"Monorail and Automated Guideway modes operate on exclusive guideway without using steel wheels on rails."]
["Streetcar Rail (SR)",null,"This mode is for rail transit systems operating entire routes predominantly on streets in mixed-traffic. This service typically operates with single-car trains powered by overhead catenaries and with frequent stops."]
["Trolleybus (TB)",null,"A transit mode comprised of electric rubber-tired passenger vehicles, manually steered and operating singly on city streets. Vehicles are propelled by a motor drawing current through overhead wires via trolleys, from a central power source not onboard the vehicle."]
["Vanpool (VP)",null,"A transit mode comprised of vans, small buses and other vehicles operating as a ride sharing arrangement, providing transportation to a group of individuals traveling directly between their homes and a regular destination within the same geographical area."]
["Jitney (JT)",null,"A transit mode comprising passenger cars or vans operating on fixed routes (sometimes with minor deviations) as demand warrants without fixed schedules or fixed stops."]
["Aerial Tramway (TR)",null,"A transit mode that is an electric system of aerial cables with suspended powerless passenger vehicles. The vehicles are propelled by separate cables attached to the vehicle suspension system and powered by engines or motors at a central location not on-board the vehicle."]
["Publico (PB)",null,"A transit mode comprised of passenger vans or small buses operating with fixed routes but no fixed schedules in Puerto Rico. Publicos (PB) are a privately owned and operated public transit service which is market oriented and unsubsidized, but regulated through a public service commission, state or local government. Publicos (PB) are operated under franchise agreements, fares are regulated by route and there are special insurance requirements. Vehicle capacity varies from 8 to 24, and the vehicles may be owned or leased by the operator."]
["Questionable (Q)",null,"FTA marks a data point as Questionable when there is reason to believe it is incorrect, but the reporting agency has been unable to correct the data or offer an explanation for its anomalous appearance."]
["Waived (W)",null,"FTA marks a data point as Waived when the reporting agency has not reported the data point according to NTD reporting requirements, but has received a waiver to report the data as-is for one year."]
["Vehicle Type","DOES NOT APPLY TO: Building Reporters, Planning Reporters, Separate Service Reporters, Tribal Subsidy Reporters, Intercity Bus Sub-recipients","The form of passenger conveyance used for revenue operations."]
["Aerial Tram","DOES NOT APPLY TO: Building Reporters, Planning Reporters, Separate Service Reporters, Tribal Subsidy Reporters, Intercity Bus Sub-recipients","Unpowered passenger vehicles suspended from a system of aerial cables and propelled by separate cables attached to the vehicle suspension system. Engines or motors at a central location, not onboard the vehicle, power the cable system."]
["Articulated Bus","DOES NOT APPLY TO: Building Reporters, Planning Reporters, Separate Service Reporters, Tribal Subsidy Reporters, Intercity Bus Sub-recipients","Extra-long (usually 54 ft. to 60 ft.) buses with two connected passenger compartments. The rear body section is connected to the main body by a joint mechanism that allows the vehicles to bend when in operation for sharp turns and curves and yet have a continuous interior."]
["Automated Guideway Vehicle","DOES NOT APPLY TO: Building Reporters, Planning Reporters, Separate Service Reporters, Tribal Subsidy Reporters, Intercity Bus Sub-recipients","Guided transit passenger vehicles operating under a fully automated system (no crew on transit units)."]
["Automobile","DOES NOT APPLY TO: Building Reporters, Planning Reporters, Separate Service Reporters, Tribal Subsidy Reporters, Intercity Bus Sub-recipients","Passenger cars, up to and including station wagons in size. Excludes minivans and anything larger."]
["Bus","DOES NOT APPLY TO: Building Reporters, Planning Reporters, Separate Service Reporters, Tribal Subsidy Reporters, Intercity Bus Sub-recipients","Rubber-tired passenger vehicles powered by diesel, gasoline, battery, or alternative fuel engines contained within the vehicle. Vehicles in this category do not include articulated, double-decked, or school buses, or cutaway vans."]
["Cable Car Vehicle","DOES NOT APPLY TO: Building Reporters, Planning Reporters, Separate Service Reporters, Tribal Subsidy Reporters, Intercity Bus Sub-recipients","Streetcar type of passenger vehicles operating by means of an attachment to a moving cable located below the street surface and powered by engines or motors at a central location not onboard the vehicles."]
["Commuter Rail Locomotive","DOES NOT APPLY TO: Building Reporters, Planning Reporters, Separate Service Reporters, Tribal Subsidy Reporters, Intercity Bus Sub-recipients","Commuter rail (CR) vehicles used to pull or push CR passenger coaches. Locomotives do not carry passengers themselves."]
["Commuter Rail Passenger Coach","DOES NOT APPLY TO: Building Reporters, Planning Reporters, Separate Service Reporters, Tribal Subsidy Reporters, Intercity Bus Sub-recipients","Commuter rail (CR) passenger vehicles not independently propelled and requiring one or more locomotives for propulsion."]
["Commuter Rail Self-Propelled Passenger Car","DOES NOT APPLY TO: Building Reporters, Planning Reporters, Separate Service Reporters, Tribal Subsidy Reporters, Intercity Bus Sub-recipients","Commuter rail (CR) passenger vehicles not requiring a separate locomotive for propulsion."]
["Cutaway","DOES NOT APPLY TO: Building Reporters, Planning Reporters, Separate Service Reporters, Tribal Subsidy Reporters, Intercity Bus Sub-recipients","A vehicle that consists of a bus body that is mounted on the chassis of a van or light-duty truck. The original van or light-duty truck chassis may be reinforced or extended. Cutaways typically seat 15 or more passengers and may accommodate some standing passengers. The cutaway manufacturer differs from the chassis manufacturer."]
["Double Decker Bus","DOES NOT APPLY TO: Building Reporters, Planning Reporters, Separate Service Reporters, Tribal Subsidy Reporters, Intercity Bus Sub-recipients","High capacity buses with two levels of seating, one over the other, connected by one or more stairways. Total bus height is usually 13 to 14.5 feet, and typical passenger seating capacity ranges from 40 to 80 people."]
["Ferryboat","DOES NOT APPLY TO: Building Reporters, Planning Reporters, Separate Service Reporters, Tribal Subsidy Reporters, Intercity Bus Sub-recipients","Passenger-carrying boats."]
["Heavy Rail Passenger Car","DOES NOT APPLY TO: Building Reporters, Planning Reporters, Separate Service Reporters, Tribal Subsidy Reporters, Intercity Bus Sub-recipients","Rail cars employed in heavy rail mode with: \n• Motive capability \n• Driven by electric power taken from overhead lines or electrified third rails \n• Configured for passenger traffic \n• Operated on exclusive right-of-way (ROW)"]
["Inclined Plane Vehicle","DOES NOT APPLY TO: Building Reporters, Planning Reporters, Separate Service Reporters, Tribal Subsidy Reporters, Intercity Bus Sub-recipients","Special type of passenger vehicles operating up and down slopes on rails via a cable mechanism."]
["Light Rail Vehicle","DOES NOT APPLY TO: Building Reporters, Planning Reporters, Separate Service Reporters, Tribal Subsidy Reporters, Intercity Bus Sub-recipients","Rail cars employed in light rail mode with: \n• Motive capability \n• Usually driven by electric power taken from overhead lines \n• Configured for passenger traffic \n• Usually operating on exclusive rights-of-way (ROW)"]
["Minivan","DOES NOT APPLY TO: Building Reporters, Planning Reporters, Separate Service Reporters, Tribal Subsidy Reporters, Intercity Bus Sub-recipients","A light duty vehicle having a typical seating capacity of up to seven passengers plus a driver. A minivan is smaller, lower and more streamlined than a full-sized van, but it is typically taller and has a higher floor than a passenger car. Minivans normally cannot accommodate standing passengers."]
["Monorail Vehicle","DOES NOT APPLY TO: Building Reporters, Planning Reporters, Separate Service Reporters, Tribal Subsidy Reporters, Intercity Bus Sub-recipients","Guided transit passenger vehicles operating on or suspended from a single rail, beam or tube."]
["Other","DOES NOT APPLY TO: Building Reporters, Planning Reporters, Separate Service Reporters, Tribal Subsidy Reporters, Intercity Bus Sub-recipients","A vehicle that does not fit any of the other prescribed categories."]
["Over-the-road Bus","DOES NOT APPLY TO: Building Reporters, Planning Reporters, Separate Service Reporters, Tribal Subsidy Reporters, Intercity Bus Sub-recipients","A bus characterized by an elevated passenger deck located over a baggage compartment."]
["School Bus","DOES NOT APPLY TO: Building Reporters, Planning Reporters, Separate Service Reporters, Tribal Subsidy Reporters, Intercity Bus Sub-recipients","Passenger vehicles that are: \n• Designed or used to carry more than ten passengers in addition to the driver; and \n• Used primarily for the purpose of transporting pre-primary, primary, or secondary school students to such schools either from home or from such schools to home."]
["Sports Utility Vehicle","DOES NOT APPLY TO: Building Reporters, Planning Reporters, Separate Service Reporters, Tribal Subsidy Reporters, Intercity Bus Sub-recipients","A high-performance four-wheel drive car built on a truck chassis. A passenger vehicle combines the towing capacity of a pickup truck with the passenger-carrying space of a minivan or station wagon. Most Sport Utility Vehicles (SUVs) are designed with a roughly square cross-section, an engine compartment, a combined passenger and cargo compartment, and no dedicated trunk. Most mid-size and full-size SUVs have three rows of seats with a cargo area directly behind the last row of seats. Compact SUVs and mini SUVs may have five or fewer seats."]
["Streetcar Rail Vehicle","DOES NOT APPLY TO: Building Reporters, Planning Reporters, Separate Service Reporters, Tribal Subsidy Reporters, Intercity Bus Sub-recipients","A modern streetcar vehicle powered by an overhead catenary and intended for street running. Contrast with vintage trolley."]
["Trolleybus","DOES NOT APPLY TO: Building Reporters, Planning Reporters, Separate Service Reporters, Tribal Subsidy Reporters, Intercity Bus Sub-recipients","Rubber-tired, electrically powered passenger vehicles operated on city streets drawing power from overhead lines with trolleys."]
["Van","DOES NOT APPLY TO: Building Reporters, Planning Reporters, Separate Service Reporters, Tribal Subsidy Reporters, Intercity Bus Sub-recipients","An enclosed vehicle having a typical seating capacity of eight to 18 passengers and a driver. A van is typically taller and with a higher floor than a minivan. A van is smaller than a cutaway bus. Vans normally cannot accommodate standing passengers."]
["Vintage Trolley","DOES NOT APPLY TO: Building Reporters, Planning Reporters, Separate Service Reporters, Tribal Subsidy Reporters, Intercity Bus Sub-recipients","Vintage or antique rail cars typically originally manufactured before 1975. The vehicles are typically operated in mixed traffic right-of-way (ROW), but may also operate on exclusive or controlled access ROW."]
["Total Active Fleet","DOES NOT APPLY TO: Building Reporters, Planning Reporters, Separate Service Reporters, Tribal Subsidy Reporters, Intercity Bus Sub-recipients","The vehicles available to operate in revenue service at the end of an agency’s fiscal year, including: \n• Spares \n• Vehicles temporarily out of service for routine maintenance and minor repairs \n• Operational vehicles"]
["Average Lifetime Miles per Vehicle","DOES NOT APPLY TO: Building Reporters, Planning Reporters, Separate Service Reporters, Tribal Subsidy Reporters, Intercity Bus Sub-recipients","The total miles accumulated on all active vehicles since date of manufacture divided by the number of active vehicles. Typically found by taking the average of all odometer readings at the end of the fiscal year."]
["Service Vehicles","DOES NOT APPLY TO: Building Reporters, Planning Reporters, Separate Service Reporters, Tribal Subsidy Reporters, Intercity Bus Sub-recipients","Vehicles that indirectly deliver transit service, maintain revenue vehicles, and perform transit-oriented administrative activities. Agencies must report service vehicles for which they have capital replacement responsibility. Service vehicles must be self-propelled and either road-worthy or major pieces of construction equipment to be reportable to the NTD. Examples of reportable service vehicles include: automobiles used by supervisors or maintenance staff, wreckers, tow trucks, work trains, tampers, diggers, etc. Flatbed train cars, golf carts, and fork lifts are not considered reportable service vehicles. "]
["Automobiles (Service)","DOES NOT APPLY TO: Building Reporters, Planning Reporters, Separate Service Reporters, Tribal Subsidy Reporters, Intercity Bus Sub-recipients","Passenger cars, up to and including station wagons in size. Excludes minivans and anything larger."]
["Trucks and other Rubber Tire Vehicles (Service)","DOES NOT APPLY TO: Building Reporters, Planning Reporters, Separate Service Reporters, Tribal Subsidy Reporters, Intercity Bus Sub-recipients","A self-propelled, motor vehicle designed primarily for the transportation of property or special purpose equipment. It may consist of a chassis and body; a chassis, cab and body; or it may be of integral construction so that the body and chassis form a single unit. This vehicle category also includes pickup trucks, vans, SUVs, and minivans."]
["Steel Wheel Vehicles (Service)","DOES NOT APPLY TO: Building Reporters, Planning Reporters, Separate Service Reporters, Tribal Subsidy Reporters, Intercity Bus Sub-recipients","In rail systems, vehicles with the specially designed cast or forged steel, essentially cylindrical element that rolls on the rail, carries the weight, and provides guidance for rail vehicles. Steel wheel vehicles exclude vehicles that are equipped for both road (rubber tires) and rail."]

{"sheet":"Age Distribution","index":2,"n_rows":7500,"n_cols":33,"rows_kept":2250,"cut":true,"hidden":false,"merged":[],"bounds":{"rows_first":1000,"rows_last":250,"rows_between":1000,"halvings":1}}
["Agency","City","State","Legacy NTD ID","NTD ID","Organization Type","Reporter Type","Primary UZA Population","Agency VOMS","Vehicle Type","Years Old:",0,1,2,3,4,5,6,7,8,9,10,11,12,"13-15","16-20","21-25","26-30","31-60","60+","Total Vehicles","Average Age Of Fleet (In Years)","Average Lifetime Miles Per Vehicle"]
["MTA New York City Transit","New York","NY",2008,20008,"Subsidiary Unit of a Transit Agency, Reporting Separately","Full Reporter",18351295,10856,"Van",null,0,2,10,0,0,0,0,0,0,0,0,0,0,0,0,0,0,0,0,12,1.8333333333333299,38864.833299999998]
["MTA New York City Transit","New York","NY",2008,20008,"Subsidiary Unit of a Transit Agency, Reporting Separately","Full Reporter",18351295,10856,"Trucks and other Rubber Tire Vehicles (Service)",null,215,79,76,228,56,87,75,96,69,59,109,81,44,76,47,2,0,0,0,1399]
["MTA New York City Transit","New York","NY",2008,20008,"Subsidiary Unit of a Transit Agency, Reporting Separately","Full Reporter",18351295,10856,"Steel Wheel Vehicles (Service)",null,0,0,0,0,0,10,28,0,0,16,15,1,3,6,5,21,53,184,31,373]
["MTA New York City Transit","New York","NY",2008,20008,"Subsidiary Unit of a Transit Agency, Reporting Separately","Full Reporter",18351295,10856,"Sports Utility Vehicle",null,0,0,70,0,244,0,120,14,0,0,0,0,0,0,0,0,0,0,0,448,4.3169642857142803,125167.0313]
["MTA New York City Transit","New York","NY",2008,20008,"Subsidiary Unit of a Transit Agency, Reporting Separately","Full Reporter",18351295,10856,"Over-the-road Bus",null,0,0,181,116,2,0,53,90,0,0,19,29,0,0,7,0,0,0,0,497,4.6016096579476802,159198.64790000001]
["MTA New York City Transit","New York","NY",2008,20008,"Subsidiary Unit of a Transit Agency, Reporting Separately","Full Reporter",18351295,10856,"Heavy Rail Passenger Car",null,136,2,24,0,93,23,0,0,0,0,0,1662,0,0,1842,0,200,2588,0,6570,23.955859969558599,1263381.5639]
["MTA New York City Transit","New York","NY",2008,20008,"Subsidiary Unit of a Transit Agency, Reporting Separately","Full Reporter",18351295,10856,"Cutaway",null,21,0,14,5,25,0,0,38,137,410,142,97,3,2,0,0,0,0,0,894,8.6666666666666607,483828.0626]
["MTA New York City Transit","New York","NY",2008,20008,"Subsidiary Unit of a Transit Agency, Reporting Separately","Full Reporter",18351295,10856,"Bus",null,196,211,211,551,31,14,225,306,47,540,160,115,100,312,189,0,0,0,0,3208,7.18640897755611,214330.55919999999]
["MTA New York City Transit","New York","NY",2008,20008,"Subsidiary Unit of a Transit Agency, Reporting Separately","Full Reporter",18351295,10856,"Automobiles (Service)",null,23,36,23,79,76,17,12,25,30,43,22,7,3,18,0,0,0,0,0,414]
["MTA New York City Transit","New York","NY",2008,20008,"Subsidiary Unit of a Transit Agency, Reporting Separately","Full Reporter",18351295,10856,"Automobile",null,0,0,0,179,243,121,0,0,0,0,0,0,0,0,0,0,0,0,0,543,3.89318600368324,86345.209900000002]
["MTA New York City Transit","New York","NY",2008,20008,"Subsidiary Unit of a Transit Agency, Reporting Separately","Full Reporter",18351295,10856,"Articulated Bus",null,166,46,3,0,0,56,265,96,89,0,0,0,0,40,0,0,0,0,0,761,5.1327201051248297,125724.9317]
["New Jersey Transit Corporation","Newark","NJ",2080,20080,"Other Publicly-Owned or Privately Chartered Corporation","Full Reporter",18351295,3873,"Van",null,27,44,27,20,5,3,3,0,2,0,0,0,0,0,0,0,0,0,0,131,1.7328244274809099,32641.335899999998]
["New Jersey Transit Corporation","Newark","NJ",2080,20080,"Other Publicly-Owned or Privately Chartered Corporation","Full Reporter",18351295,3873,"Trucks and other Rubber Tire Vehicles (Service)",null,8,19,77,154,72,49,58,61,26,42,97,25,37,44,13,14,7,1,0,804]
["New Jersey Transit Corporation","Newark","NJ",2080,20080,"Other Publicly-Owned or Privately Chartered Corporation","Full Reporter",18351295,3873,"Steel Wheel Vehicles (Service)",null,0,0,1,1,0,6,6,2,2,1,8,7,2,10,11,17,3,12,0,89]
["New Jersey Transit Corporation","Newark","NJ",2080,20080,"Other Publicly-Owned or Privately Chartered Corporation","Full Reporter",18351295,3873,"Over-the-road Bus",null,117,0,14,170,1,0,0,0,0,0,75,0,53,56,641,0,0,0,0,1127,11.6823425022182,621602.82790000003]
["New Jersey Transit Corporation","Newark","NJ",2080,20080,"Other Publicly-Owned or Privately Chartered Corporation","Full Reporter",18351295,3873,"Minivan",null,11,11,1,3,3,2,9,0,2,0,0,0,0,0,0,0,0,0,0,42,2.71428571428571,52798.571400000001]
["New Jersey Transit Corporation","Newark","NJ",2080,20080,"Other Publicly-Owned or Privately Chartered Corporation","Full Reporter",18351295,3873,"Light Rail Vehicle",null,0,0,0,0,0,0,0,0,0,0,0,0,0,34,59,0,0,0,0,93,16.0322580645161,567606.27960000001]
["New Jersey Transit Corporation","Newark","NJ",2080,20080,"Other Publicly-Owned or Privately Chartered Corporation","Full Reporter",18351295,3873,"Cutaway",null,0,0,163,82,57,20,0,0,40,21,7,0,0,0,0,0,0,0,0,390,3.7923076923076899,160293.21030000001]
["New Jersey Transit Corporation","Newark","NJ",2080,20080,"Other Publicly-Owned or Privately Chartered Corporation","Full Reporter",18351295,3873,"Commuter Rail Self-Propelled Passenger Car",null,0,0,0,0,0,0,0,0,0,0,0,0,0,0,0,0,0,156,0,156,40.615384615384599,1560386.6666999999]
["New Jersey Transit Corporation","Newark","NJ",2080,20080,"Other Publicly-Owned or Privately Chartered Corporation","Full Reporter",18351295,3873,"Commuter Rail Passenger Coach",null,0,0,0,0,0,0,99,0,0,0,0,318,0,78,180,93,1,156,0,925,16.932972972972902,869893.2108]
["New Jersey Transit Corporation","Newark","NJ",2080,20080,"Other Publicly-Owned or Privately Chartered Corporation","Full Reporter",18351295,3873,"Commuter Rail Locomotive",null,0,0,0,0,0,0,0,35,36,0,0,0,0,33,27,16,8,16,0,171,16.029239766081801,997573.76020000002]
["New Jersey Transit Corporation","Newark","NJ",2080,20080,"Other Publicly-Owned or Privately Chartered Corporation","Full Reporter",18351295,3873,"Bus",null,0,0,0,0,0,136,361,243,241,11,237,2,0,0,0,0,0,0,0,1231,7.2835093419983696,258654.98209999999]
["New Jersey Transit Corporation","Newark","NJ",2080,20080,"Other Publicly-Owned or Privately Chartered Corporation","Full Reporter",18351295,3873,"Automobiles (Service)",null,0,0,1,13,8,36,8,10,3,0,0,23,4,12,2,0,0,0,0,120]
["New Jersey Transit Corporation","Newark","NJ",2080,20080,"Other Publicly-Owned or Privately Chartered Corporation","Full Reporter",18351295,3873,"Automobile",null,0,0,64,0,26,0,0,0,1,0,0,0,0,0,0,0,0,0,0,91,2.6373626373626302,58942.692300000002]
["New Jersey Transit Corporation","Newark","NJ",2080,20080,"Other Publicly-Owned or Privately Chartered Corporation","Full Reporter",18351295,3873,"Articulated Bus",null,0,0,0,0,0,0,0,0,0,0,0,0,0,4,81,0,0,0,0,85,15.9529411764705,458130.18819999998]
["Los Angeles County Metropolitan Transportation Authority , dba: Metro","Los Angeles","CA",9154,90154,"Independent Public Agency or Authority of Transit Service","Full Reporter",12150996,3458,"Van",null,408,460,131,167,77,29,17,0,0,0,0,0,0,0,0,0,0,0,0,1289,1.3793638479441399,34911.623699999996]
["Los Angeles County Metropolitan Transportation Authority , dba: Metro","Los Angeles","CA",9154,90154,"Independent Public Agency or Authority of Transit Service","Full Reporter",12150996,3458,"Trucks and other Rubber Tire Vehicles (Service)",null,2,38,68,11,19,45,5,24,62,138,22,3,15,56,137,7,6,6,0,664]
["Los Angeles County Metropolitan Transportation Authority , dba: Metro","Los Angeles","CA",9154,90154,"Independent Public Agency or Authority of Transit Service","Full Reporter",12150996,3458,"Steel Wheel Vehicles (Service)",null,0,0,1,0,0,0,0,0,1,0,0,0,0,0,0,4,0,0,0,6]
["Los Angeles County Metropolitan Transportation Authority , dba: Metro","Los Angeles","CA",9154,90154,"Independent Public Agency or Authority of Transit Service","Full Reporter",12150996,3458,"Light Rail Vehicle",null,26,54,48,1,0,0,0,0,0,0,50,0,0,0,24,43,52,0,0,298,12.1778523489932,778404.46310000005]
["Los Angeles County Metropolitan Transportation Authority , dba: Metro","Los Angeles","CA",9154,90154,"Independent Public Agency or Authority of Transit Service","Full Reporter",12150996,3458,"Heavy Rail Passenger Car",null,0,0,0,0,0,0,0,0,0,0,0,0,0,0,74,0,30,0,0,104,22.019230769230699,1279503.3846]
["Los Angeles County Metropolitan Transportation Authority , dba: Metro","Los Angeles","CA",9154,90154,"Independent Public Agency or Authority of Transit Service","Full Reporter",12150996,3458,"Bus",null,0,0,0,339,557,0,149,0,90,91,257,0,0,150,338,0,0,0,0,1971,8.2541856925418493,294413.78289999999]
["Los Angeles County Metropolitan Transportation Authority , dba: Metro","Los Angeles","CA",9154,90154,"Independent Public Agency or Authority of Transit Service","Full Reporter",12150996,3458,"Automobiles (Service)",null,22,120,80,27,64,31,88,2,19,55,129,9,9,12,0,0,0,0,0,667]
["Los Angeles County Metropolitan Transportation Authority , dba: Metro","Los Angeles","CA",9154,90154,"Independent Public Agency or Authority of Transit Service","Full Reporter",12150996,3458,"Articulated Bus",null,0,0,0,0,0,0,0,0,0,0,0,95,96,197,0,0,0,0,0,388,12.262886597938101,416788.79639999999]
["King County Department of Metro Transit, dba: King County Metro","Seattle","WA",1,1,"City, County or Local Government Unit or Department of Transportation","Full Reporter",3059393,3150,"Van",null,0,0,13,60,27,131,34,6,40,2,5,0,0,0,0,0,0,0,0,318,5.04088050314465,59001.440300000002]
["King County Department of Metro Transit, dba: King County Metro","Seattle","WA",1,1,"City, County or Local Government Unit or Department of Transportation","Full Reporter",3059393,3150,"Trucks and other Rubber Tire Vehicles (Service)",null,0,68,42,54,29,28,5,11,12,16,37,36,5,26,7,5,0,0,0,381]
["King County Department of Metro Transit, dba: King County Metro","Seattle","WA",1,1,"City, County or Local Government Unit or Department of Transportation","Full Reporter",3059393,3150,"Trolleybus",null,0,0,0,174,0,0,0,0,0,0,0,0,0,0,0,0,0,0,0,174,3,52558.241399999999]
["King County Department of Metro Transit, dba: King County Metro","Seattle","WA",1,1,"City, County or Local Government Unit or Department of Transportation","Full Reporter",3059393,3150,"Streetcar Rail",null,0,0,0,7,0,0,0,0,0,0,0,3,0,0,0,0,0,0,0,10,5.4,84602.7]
["King County Department of Metro Transit, dba: King County Metro","Seattle","WA",1,1,"City, County or Local Government Unit or Department of Transportation","Full Reporter",3059393,3150,"Sports Utility Vehicle",null,6,0,0,0,0,0,0,0,0,0,0,0,0,0,0,0,0,0,0,6,0,2158]
["King County Department of Metro Transit, dba: King County Metro","Seattle","WA",1,1,"City, County or Local Government Unit or Department of Transportation","Full Reporter",3059393,3150,"Minivan",null,320,213,84,279,210,149,214,61,0,0,0,0,0,0,0,0,0,0,0,1530,2.9503267973856202,31067.475200000001]
["King County Department of Metro Transit, dba: King County Metro","Seattle","WA",1,1,"City, County or Local Government Unit or Department of Transportation","Full Reporter",3059393,3150,"Ferryboat",null,0,0,0,2,0,0,0,0,0,0,0,0,0,1,0,0,0,0,0,3,6.6666666666666599,117252.6667]
["King County Department of Metro Transit, dba: King County Metro","Seattle","WA",1,1,"City, County or Local Government Unit or Department of Transportation","Full Reporter",3059393,3150,"Cutaway",null,47,0,34,0,30,26,45,74,42,37,30,0,0,0,0,0,0,0,0,365,5.6849315068493098,199407.42189999999]
["King County Department of Metro Transit, dba: King County Metro","Seattle","WA",1,1,"City, County or Local Government Unit or Department of Transportation","Full Reporter",3059393,3150,"Bus",null,26,11,0,37,60,0,0,199,0,1,0,0,0,100,27,17,0,0,0,478,8.6610878661087796,318695.43930000003]
["King County Department of Metro Transit, dba: King County Metro","Seattle","WA",1,1,"City, County or Local Government Unit or Department of Transportation","Full Reporter",3059393,3150,"Automobiles (Service)",null,0,11,10,25,11,8,19,7,10,10,8,15,1,1,0,0,0,0,0,136]
["King County Department of Metro Transit, dba: King County Metro","Seattle","WA",1,1,"City, County or Local Government Unit or Department of Transportation","Full Reporter",3059393,3150,"Articulated Bus",null,84,38,100,105,60,43,114,14,56,35,38,0,0,190,0,0,0,0,0,877,6.3774230330672701,225502.6488]
["Washington Metropolitan Area Transit Authority","Washington","DC",3030,30030,"Independent Public Agency or Authority of Transit Service","Full Reporter",4586770,3139,"Van",null,0,266,1,0,120,120,280,12,0,0,0,0,0,0,0,0,0,0,0,799,3.8948685857321599,138367.30790000001]
["Washington Metropolitan Area Transit Authority","Washington","DC",3030,30030,"Independent Public Agency or Authority of Transit Service","Full Reporter",4586770,3139,"Trucks and other Rubber Tire Vehicles (Service)",null,14,25,129,117,153,268,231,58,63,201,27,44,26,8,21,0,1,2,0,1388]
["Washington Metropolitan Area Transit Authority","Washington","DC",3030,30030,"Independent Public Agency or Authority of Transit Service","Full Reporter",4586770,3139,"Steel Wheel Vehicles (Service)",null,0,0,2,2,5,32,31,6,6,0,0,0,1,1,14,6,0,0,0,106]
["Washington Metropolitan Area Transit Authority","Washington","DC",3030,30030,"Independent Public Agency or Authority of Transit Service","Full Reporter",4586770,3139,"Heavy Rail Passenger Car",null,0,278,186,76,4,4,0,0,0,0,24,102,52,18,14,0,26,330,0,1114,13.5296229802513,945613.01260000002]
["Washington Metropolitan Area Transit Authority","Washington","DC",3030,30030,"Independent Public Agency or Authority of Transit Service","Full Reporter",4586770,3139,"Bus",null,88,0,216,59,105,105,119,100,148,78,102,25,166,240,50,0,0,0,0,1601,7.5958775765146704,258235.78450000001]
["Washington Metropolitan Area Transit Authority","Washington","DC",3030,30030,"Independent Public Agency or Authority of Transit Service","Full Reporter",4586770,3139,"Automobiles (Service)",null,16,3,36,25,3,31,18,9,36,14,9,7,4,4,1,0,0,0,0,216]
["Washington Metropolitan Area Transit Authority","Washington","DC",3030,30030,"Independent Public Agency or Authority of Transit Service","Full Reporter",4586770,3139,"Articulated Bus",null,0,0,0,21,0,0,0,0,0,22,22,0,0,0,0,0,0,0,0,65,7.4,154577.55379999999]
["Chicago Transit Authority","Chicago","IL",5066,50066,"Independent Public Agency or Authority of Transit Service","Full Reporter",8608208,2711,"Trucks and other Rubber Tire Vehicles (Service)",null,68,44,95,67,17,28,19,30,6,12,26,47,9,149,52,23,34,0,0,726]
["Chicago Transit Authority","Chicago","IL",5066,50066,"Independent Public Agency or Authority of Transit Service","Full Reporter",8608208,2711,"Steel Wheel Vehicles (Service)",null,3,0,5,1,2,1,0,0,3,1,1,8,0,13,8,7,18,38,1,110]
["Chicago Transit Authority","Chicago","IL",5066,50066,"Independent Public Agency or Authority of Transit Service","Full Reporter",8608208,2711,"Heavy Rail Passenger Car",null,0,0,0,111,228,149,176,30,10,4,0,0,0,0,0,171,84,475,0,1438,17.981223922114001,923862.86230000004]
["Chicago Transit Authority","Chicago","IL",5066,50066,"Independent Public Agency or Authority of Transit Service","Full Reporter",8608208,2711,"Bus",null,0,0,162,169,94,0,0,0,0,99,334,171,423,0,103,0,0,0,0,1555,9.0598070739549801,346169.50160000002]
["Chicago Transit Authority","Chicago","IL",5066,50066,"Independent Public Agency or Authority of Transit Service","Full Reporter",8608208,2711,"Automobiles (Service)",null,0,0,0,6,0,1,1,1,0,2,0,1,4,4,11,0,0,0,0,31]
["Chicago Transit Authority","Chicago","IL",5066,50066,"Independent Public Agency or Authority of Transit Service","Full Reporter",8608208,2711,"Articulated Bus",null,0,0,0,0,0,79,18,0,0,167,40,0,0,0,0,0,0,0,0,304,7.9144736842105203,260990.31580000001]
["Metropolitan Transit Authority of Harris County, Texas ","Houston","TX",6008,60008,"Independent Public Agency or Authority of Transit Service","Full Reporter",4944332,2659,"Van",null,70,18,73,105,99,45,26,4,7,4,0,1,1,0,0,0,0,0,0,453,3.0883002207505501,48307.790300000001]
["Metropolitan Transit Authority of Harris County, Texas ","Houston","TX",6008,60008,"Independent Public Agency or Authority of Transit Service","Full Reporter",4944332,2659,"Trucks and other Rubber Tire Vehicles (Service)",null,0,24,37,50,43,41,21,14,12,26,29,8,6,25,15,4,8,2,0,365]
["Metropolitan Transit Authority of Harris County, Texas ","Houston","TX",6008,60008,"Independent Public Agency or Authority of Transit Service","Full Reporter",4944332,2659,"Sports Utility Vehicle",null,1,1,1,0,0,0,0,0,0,0,0,0,0,0,0,0,0,0,0,3,1,33942]
["Metropolitan Transit Authority of Harris County, Texas ","Houston","TX",6008,60008,"Independent Public Agency or Authority of Transit Service","Full Reporter",4944332,2659,"Over-the-road Bus",null,0,100,0,0,20,0,0,0,20,0,51,13,0,0,23,0,0,0,0,227,5.9955947136563799,234504.03520000001]
["Metropolitan Transit Authority of Harris County, Texas ","Houston","TX",6008,60008,"Independent Public Agency or Authority of Transit Service","Full Reporter",4944332,2659,"Minivan",null,26,37,43,15,2,0,16,6,0,0,1,0,0,0,0,0,0,0,0,146,2.2191780821917799,40739.917800000003]
["Metropolitan Transit Authority of Harris County, Texas ","Houston","TX",6008,60008,"Independent Public Agency or Authority of Transit Service","Full Reporter",4944332,2659,"Light Rail Vehicle",null,0,0,0,38,0,0,19,0,0,0,0,0,0,18,0,0,0,0,0,75,6.4,319044.06670000002]
["Metropolitan Transit Authority of Harris County, Texas ","Houston","TX",6008,60008,"Independent Public Agency or Authority of Transit Service","Full Reporter",4944332,2659,"Cutaway",null,10,40,46,40,30,2,0,0,0,0,0,0,0,0,0,0,0,0,0,168,2.2738095238095202,161504.32139999999]
["Metropolitan Transit Authority of Harris County, Texas ","Houston","TX",6008,60008,"Independent Public Agency or Authority of Transit Service","Full Reporter",4944332,2659,"Bus",null,0,100,80,0,164,38,7,100,80,50,46,38,0,0,56,0,0,0,0,759,6.2819499341238396,292487.12780000002]
["Metropolitan Transit Authority of Harris County, Texas ","Houston","TX",6008,60008,"Independent Public Agency or Authority of Transit Service","Full Reporter",4944332,2659,"Automobiles (Service)",null,0,0,0,0,9,11,9,0,0,11,8,0,2,3,4,0,0,0,0,57]
["Metropolitan Transit Authority of Harris County, Texas ","Houston","TX",6008,60008,"Independent Public Agency or Authority of Transit Service","Full Reporter",4944332,2659,"Articulated Bus",null,0,0,18,0,0,70,0,0,0,0,0,0,0,0,0,0,0,0,0,88,4.3863636363636296,209867.13639999999]
["Massachusetts Bay Transportation Authority","Boston","MA",1003,10003,"Independent Public Agency or Authority of Transit Service","Full Reporter",4181019,2423,"Van",null,1,76,23,12,143,90,0,0,1,105,6,27,0,0,0,0,0,0,0,484,5.1446280991735502,161522.75409999999]
["Massachusetts Bay Transportation Authority","Boston","MA",1003,10003,"Independent Public Agency or Authority of Transit Service","Full Reporter",4181019,2423,"Trucks and other Rubber Tire Vehicles (Service)",null,33,158,258,199,75,122,90,82,47,6,119,71,37,78,105,17,24,19,0,1540]
["Massachusetts Bay Transportation Authority","Boston","MA",1003,10003,"Independent Public Agency or Authority of Transit Service","Full Reporter",4181019,2423,"Trolleybus",null,0,0,0,0,0,0,0,0,0,0,0,0,0,28,0,0,0,0,0,28,14,273038]
["Massachusetts Bay Transportation Authority","Boston","MA",1003,10003,"Independent Public Agency or Authority of Transit Service","Full Reporter",4181019,2423,"Steel Wheel Vehicles (Service)",null,0,6,0,15,1,0,0,3,0,5,6,1,0,2,17,5,6,24,0,91]
["Massachusetts Bay Transportation Authority","Boston","MA",1003,10003,"Independent Public Agency or Authority of Transit Service","Full Reporter",4181019,2423,"Minivan",null,0,0,0,0,5,0,0,0,0,0,0,0,0,0,0,0,0,0,0,5,4,31876]
["Massachusetts Bay Transportation Authority","Boston","MA",1003,10003,"Independent Public Agency or Authority of Transit Service","Full Reporter",4181019,2423,"Light Rail Vehicle",null,0,0,0,0,0,0,0,0,0,0,0,0,0,0,95,20,47,47,10,219,25.671232876712299,708435.4155]
["Massachusetts Bay Transportation Authority","Boston","MA",1003,10003,"Independent Public Agency or Authority of Transit Service","Full Reporter",4181019,2423,"Heavy Rail Passenger Car",null,0,0,0,0,0,0,0,0,0,0,0,94,0,0,0,86,0,252,0,432,30.004629629629601,1534978.8703999999]
["Massachusetts Bay Transportation Authority","Boston","MA",1003,10003,"Independent Public Agency or Authority of Transit Service","Full Reporter",4181019,2423,"Ferryboat",null,1,1,0,0,0,0,0,0,0,0,0,0,0,0,4,1,3,4,0,14,23.857142857142801,240559.21429999999]
["Massachusetts Bay Transportation Authority","Boston","MA",1003,10003,"Independent Public Agency or Authority of Transit Service","Full Reporter",4181019,2423,"Commuter Rail Passenger Coach",null,0,0,0,0,0,0,72,0,0,0,0,0,0,33,29,0,165,123,0,422,24.644549763033101,1314818.1967]
["Massachusetts Bay Transportation Authority","Boston","MA",1003,10003,"Independent Public Agency or Authority of Transit Service","Full Reporter",4181019,2423,"Commuter Rail Locomotive",null,0,0,0,0,0,40,0,0,0,4,0,0,0,0,0,0,26,22,1,93,21.827956989247301,879094.95700000005]
["Massachusetts Bay Transportation Authority","Boston","MA",1003,10003,"Independent Public Agency or Authority of Transit Service","Full Reporter",4181019,2423,"Bus",null,0,8,281,3,61,0,0,0,0,0,0,0,310,192,0,36,0,0,0,891,9.0852974186307502,293806.69469999999]
["Massachusetts Bay Transportation Authority","Boston","MA",1003,10003,"Independent Public Agency or Authority of Transit Service","Full Reporter",4181019,2423,"Automobiles (Service)",null,0,0,0,20,6,18,1,5,3,0,0,3,0,1,3,0,0,0,0,60]
["Massachusetts Bay Transportation Authority","Boston","MA",1003,10003,"Independent Public Agency or Authority of Transit Service","Full Reporter",4181019,2423,"Automobile",null,0,0,0,11,98,0,0,106,0,19,0,0,0,0,0,0,0,0,0,234,5.7179487179487101,112039.95729999999]
["Massachusetts Bay Transportation Authority","Boston","MA",1003,10003,"Independent Public Agency or Authority of Transit Service","Full Reporter",4181019,2423,"Articulated Bus",null,0,0,23,0,0,0,0,0,24,0,0,0,0,53,0,0,0,0,0,100,9.8000000000000007,204047.73]
["Southeastern Pennsylvania Transportation Authority","Philadelphia","PA",3019,30019,"Independent Public Agency or Authority of Transit Service","Full Reporter",5441567,2372,"Vintage Trolley",null,0,0,0,0,0,0,0,0,0,0,0,0,0,0,0,0,0,0,18,18,70.7777777777777,1356795.7778]
["Southeastern Pennsylvania Transportation Authority","Philadelphia","PA",3019,30019,"Independent Public Agency or Authority of Transit Service","Full Reporter",5441567,2372,"Trucks and other Rubber Tire Vehicles (Service)",null,26,19,55,25,4,12,13,39,48,20,12,62,4,92,46,10,10,20,2,519]
["Southeastern Pennsylvania Transportation Authority","Philadelphia","PA",3019,30019,"Independent Public Agency or Authority of Transit Service","Full Reporter",5441567,2372,"Trolleybus",null,0,0,0,0,0,0,0,0,0,0,38,0,0,0,0,0,0,0,0,38,10,239959]
["Southeastern Pennsylvania Transportation Authority","Philadelphia","PA",3019,30019,"Independent Public Agency or Authority of Transit Service","Full Reporter",5441567,2372,"Streetcar Rail",null,0,0,0,0,0,0,0,0,0,0,0,0,0,0,0,0,0,141,0,141,37.347517730496399,778651.10640000005]
["Southeastern Pennsylvania Transportation Authority","Philadelphia","PA",3019,30019,"Independent Public Agency or Authority of Transit Service","Full Reporter",5441567,2372,"Steel Wheel Vehicles (Service)",null,0,0,3,4,2,0,0,0,1,4,5,2,1,0,15,0,13,17,11,78]
["Southeastern Pennsylvania Transportation Authority","Philadelphia","PA",3019,30019,"Independent Public Agency or Authority of Transit Service","Full Reporter",5441567,2372,"Heavy Rail Passenger Car",null,0,0,0,0,0,0,0,0,0,0,0,0,0,0,178,58,0,125,0,361,25.867036011080302,1146250.9086]
["Southeastern Pennsylvania Transportation Authority","Philadelphia","PA",3019,30019,"Independent Public Agency or Authority of Transit Service","Full Reporter",5441567,2372,"Cutaway",null,0,77,153,0,71,68,65,25,1,0,0,0,0,0,0,0,0,0,0,460,3.4347826086956501,110963.30869999999]
["Southeastern Pennsylvania Transportation Authority","Philadelphia","PA",3019,30019,"Independent Public Agency or Authority of Transit Service","Full Reporter",5441567,2372,"Commuter Rail Self-Propelled Passenger Car",null,0,0,0,0,0,0,41,52,27,0,0,0,0,0,0,0,0,231,0,351,30.535612535612501,1398824.8291]
["Southeastern Pennsylvania Transportation Authority","Philadelphia","PA",3019,30019,"Independent Public Agency or Authority of Transit Service","Full Reporter",5441567,2372,"Commuter Rail Passenger Coach",null,0,0,0,0,0,0,0,0,0,0,0,0,0,0,10,0,0,35,0,45,28.1111111111111,629429.77780000004]
["Southeastern Pennsylvania Transportation Authority","Philadelphia","PA",3019,30019,"Independent Public Agency or Authority of Transit Service","Full Reporter",5441567,2372,"Commuter Rail Locomotive",null,0,0,0,0,0,0,0,0,0,0,0,0,0,0,0,1,0,7,0,8,29.875,640527]
["Southeastern Pennsylvania Transportation Authority","Philadelphia","PA",3019,30019,"Independent Public Agency or Authority of Transit Service","Full Reporter",5441567,2372,"Bus",null,102,8,117,0,90,0,0,100,120,120,100,0,0,366,167,0,0,0,0,1290,9.3503875968992194,332029.33179999999]
["Southeastern Pennsylvania Transportation Authority","Philadelphia","PA",3019,30019,"Independent Public Agency or Authority of Transit Service","Full Reporter",5441567,2372,"Automobiles (Service)",null,16,5,16,13,0,6,0,1,36,37,43,11,0,8,2,0,0,0,0,194]
["Southeastern Pennsylvania Transportation Authority","Philadelphia","PA",3019,30019,"Independent Public Agency or Authority of Transit Service","Full Reporter",5441567,2372,"Articulated Bus",null,0,0,32,40,60,53,0,0,0,0,0,0,0,0,0,0,0,0,0,185,3.72432432432432,90363.226999999999]
["Maryland Transit Administration","Baltimore","MD",3034,30034,"State Government Unit or Department of Transportation","Full Reporter",2203663,1683,"Trucks and other Rubber Tire Vehicles (Service)",null,0,32,17,21,15,8,7,27,17,12,24,22,3,43,17,14,6,2,0,287]
["Maryland Transit Administration","Baltimore","MD",3034,30034,"State Government Unit or Department of Transportation","Full Reporter",2203663,1683,"Steel Wheel Vehicles (Service)",null,0,0,0,0,0,2,2,0,0,0,0,0,0,2,2,2,0,1,0,11]
["Maryland Transit Administration","Baltimore","MD",3034,30034,"State Government Unit or Department of Transportation","Full Reporter",2203663,1683,"Over-the-road Bus",null,0,0,0,0,0,0,0,0,15,0,0,0,0,0,0,0,0,0,0,15,8,23097]
["Maryland Transit Administration","Baltimore","MD",3034,30034,"State Government Unit or Department of Transportation","Full Reporter",2203663,1683,"Minivan",null,0,0,0,0,0,0,40,0,0,0,0,0,0,0,0,0,0,0,0,40,6,152142]
["Maryland Transit Administration","Baltimore","MD",3034,30034,"State Government Unit or Department of Transportation","Full Reporter",2203663,1683,"Light Rail Vehicle",null,0,0,0,0,0,0,0,0,0,0,0,0,0,0,18,6,29,0,0,53,23.8301886792452,959576.71699999995]
["Maryland Transit Administration","Baltimore","MD",3034,30034,"State Government Unit or Department of Transportation","Full Reporter",2203663,1683,"Heavy Rail Passenger Car",null,0,0,0,0,0,0,0,0,0,0,0,0,0,0,0,0,0,96,0,96,33.9583333333333,672371.41669999994]
["Maryland Transit Administration","Baltimore","MD",3034,30034,"State Government Unit or Department of Transportation","Full Reporter",2203663,1683,"Cutaway",null,0,147,0,0,83,0,0,121,18,30,0,0,0,0,0,0,0,0,0,399,4.3609022556390897,172958.10029999999]
["Maryland Transit Administration","Baltimore","MD",3034,30034,"State Government Unit or Department of Transportation","Full Reporter",2203663,1683,"Commuter Rail Passenger Coach",null,0,0,0,0,54,0,0,0,0,0,0,0,0,0,63,12,22,26,0,177,17.3898305084745,629263.64410000003]
["Maryland Transit Administration","Baltimore","MD",3034,30034,"State Government Unit or Department of Transportation","Full Reporter",2203663,1683,"Commuter Rail Locomotive",null,0,8,0,0,0,0,0,5,20,1,0,0,0,0,6,0,6,0,0,46,10.2173913043478,300978.02169999998]
["Maryland Transit Administration","Baltimore","MD",3034,30034,"State Government Unit or Department of Transportation","Full Reporter",2203663,1683,"Bus",null,41,43,129,0,51,45,97,13,66,70,0,0,10,119,0,0,0,0,0,684,6.1812865497076004,245822.6096]
["Maryland Transit Administration","Baltimore","MD",3034,30034,"State Government Unit or Department of Transportation","Full Reporter",2203663,1683,"Automobiles (Service)",null,0,23,46,8,7,12,4,1,11,1,5,9,5,11,3,0,0,0,0,146]
["Maryland Transit Administration","Baltimore","MD",3034,30034,"State Government Unit or Department of Transportation","Full Reporter",2203663,1683,"Automobile",null,0,0,144,0,0,0,0,0,0,0,0,0,0,0,0,0,0,0,0,144,2,95519]
["Maryland Transit Administration","Baltimore","MD",3034,30034,"State Government Unit or Department of Transportation","Full Reporter",2203663,1683,"Articulated Bus",null,0,0,0,0,0,10,0,12,0,30,0,0,0,0,0,0,0,0,0,52,7.7692307692307603,183494.88459999999]
["Pace - Suburban Bus Division","Arlington Heights","IL",5113,50113,"Independent Public Agency or Authority of Transit Service","Full Reporter",8608208,1510,"Van",null,68,55,70,0,0,134,0,29,15,5,1,5,6,1,0,0,0,0,0,389,3.55526992287917,43182.025699999998]
["Pace - Suburban Bus Division","Arlington Heights","IL",5113,50113,"Independent Public Agency or Authority of Transit Service","Full Reporter",8608208,1510,"Trucks and other Rubber Tire Vehicles (Service)",null,15,2,5,0,0,34,17,2,25,5,0,0,0,2,1,8,0,0,0,116]
["Pace - Suburban Bus Division","Arlington Heights","IL",5113,50113,"Independent Public Agency or Authority of Transit Service","Full Reporter",8608208,1510,"Over-the-road Bus",null,0,8,0,9,0,13,0,0,0,0,0,0,0,0,0,0,0,0,0,30,3.3333333333333299,195336.26670000001]
["Pace - Suburban Bus Division","Arlington Heights","IL",5113,50113,"Independent Public Agency or Authority of Transit Service","Full Reporter",8608208,1510,"Minivan",null,0,186,19,0,0,72,19,4,0,0,0,1,0,0,0,0,0,0,0,301,2.4485049833887,43682.980100000001]
["Pace - Suburban Bus Division","Arlington Heights","IL",5113,50113,"Independent Public Agency or Authority of Transit Service","Full Reporter",8608208,1510,"Cutaway",null,31,156,50,20,233,0,8,1,43,33,1,9,0,0,0,0,0,0,0,585,3.5094017094017,99171.849600000001]
["Pace - Suburban Bus Division","Arlington Heights","IL",5113,50113,"Independent Public Agency or Authority of Transit Service","Full Reporter",8608208,1510,"Bus",null,8,163,89,67,37,77,0,6,57,24,37,101,0,72,0,0,0,0,0,738,5.7425474254742497,214391.06099999999]
["Pace - Suburban Bus Division","Arlington Heights","IL",5113,50113,"Independent Public Agency or Authority of Transit Service","Full Reporter",8608208,1510,"Automobiles (Service)",null,0,4,26,0,3,0,0,0,32,6,0,0,0,0,0,0,0,0,0,71]
["Orange County Transportation Authority","Orange","CA",9036,90036,"Independent Public Agency or Authority of Transit Service","Full Reporter",12150996,1495,"Van",null,22,46,45,53,9,10,2,0,0,0,0,0,0,0,0,0,0,0,0,187,2.1016042780748601,45569.299500000001]
["Orange County Transportation Authority","Orange","CA",9036,90036,"Independent Public Agency or Authority of Transit Service","Full Reporter",12150996,1495,"Trucks and other Rubber Tire Vehicles (Service)",null,3,5,0,7,6,5,3,5,3,2,1,1,0,4,9,0,0,0,0,54]
["Orange County Transportation Authority","Orange","CA",9036,90036,"Independent Public Agency or Authority of Transit Service","Full Reporter",12150996,1495,"Sports Utility Vehicle",null,109,73,16,5,9,1,0,0,0,0,0,0,0,0,0,0,0,0,0,213,0.755868544600939,27101.5164]
["Orange County Transportation Authority","Orange","CA",9036,90036,"Independent Public Agency or Authority of Transit Service","Full Reporter",12150996,1495,"Minivan",null,42,65,16,12,5,0,6,0,0,0,0,0,0,0,0,0,0,0,0,146,1.2945205479452,37133.253400000001]
["Orange County Transportation Authority","Orange","CA",9036,90036,"Independent Public Agency or Authority of Transit Service","Full Reporter",12150996,1495,"Cutaway",null,0,0,132,0,0,115,0,0,1,0,18,0,0,5,0,0,0,0,0,271,4.0295202952029499,91591.579299999998]
["Orange County Transportation Authority","Orange","CA",9036,90036,"Independent Public Agency or Authority of Transit Service","Full Reporter",12150996,1495,"Bus",null,0,0,157,0,0,0,0,0,0,0,88,196,0,0,0,0,0,0,0,441,7.5963718820861601,299372.46260000003]
["Orange County Transportation Authority","Orange","CA",9036,90036,"Independent Public Agency or Authority of Transit Service","Full Reporter",12150996,1495,"Automobiles (Service)",null,0,0,0,26,0,6,57,0,0,0,0,0,0,2,8,0,0,0,0,99]
["Orange County Transportation Authority","Orange","CA",9036,90036,"Independent Public Agency or Authority of Transit Service","Full Reporter",12150996,1495,"Articulated Bus",null,0,0,16,0,0,20,0,0,0,0,0,0,0,0,0,0,0,0,0,36,3.6666666666666599,139432.55559999999]
["Denver Regional Transportation District","Denver","CO",8006,80006,"Independent Public Agency or Authority of Transit Service","Full Reporter",2374203,1457,"Trucks and other Rubber Tire Vehicles (Service)",null,25,32,21,32,20,30,29,21,16,18,15,17,5,28,14,6,3,1,0,333]
["Denver Regional Transportation District","Denver","CO",8006,80006,"Independent Public Agency or Authority of Transit Service","Full Reporter",2374203,1457,"Steel Wheel Vehicles (Service)",null,0,1,0,3,0,0,0,0,0,0,0,0,0,0,0,0,0,0,0,4]
["Denver Regional Transportation District","Denver","CO",8006,80006,"Independent Public Agency or Authority of Transit Service","Full Reporter",2374203,1457,"Over-the-road Bus",null,0,0,42,58,0,54,0,0,6,0,0,0,0,0,0,0,0,0,0,160,3.6,224838.42499999999]
["Denver Regional Transportation District","Denver","CO",8006,80006,"Independent Public Agency or Authority of Transit Service","Full Reporter",2374203,1457,"Light Rail Vehicle",null,0,0,0,0,0,0,0,18,32,5,25,9,19,15,32,17,0,0,0,172,12.656976744186,885871.83140000002]
["Denver Regional Transportation District","Denver","CO",8006,80006,"Independent Public Agency or Authority of Transit Service","Full Reporter",2374203,1457,"Cutaway",null,12,0,233,0,103,11,7,41,0,0,2,0,0,0,0,0,0,0,0,409,3.13447432762836,104262.511]
["Denver Regional Transportation District","Denver","CO",8006,80006,"Independent Public Agency or Authority of Transit Service","Full Reporter",2374203,1457,"Commuter Rail Self-Propelled Passenger Car",null,0,0,0,0,66,0,0,0,0,0,0,0,0,0,0,0,0,0,0,66,4,115072.803]
["Denver Regional Transportation District","Denver","CO",8006,80006,"Independent Public Agency or Authority of Transit Service","Full Reporter",2374203,1457,"Bus",null,13,58,38,177,122,0,0,0,4,0,48,38,163,106,0,0,0,0,0,767,7.06649282920469,342265.95049999998]
["Denver Regional Transportation District","Denver","CO",8006,80006,"Independent Public Agency or Authority of Transit Service","Full Reporter",2374203,1457,"Automobiles (Service)",null,1,3,2,0,13,0,5,4,10,0,0,4,0,2,1,0,0,0,0,45]
["Denver Regional Transportation District","Denver","CO",8006,80006,"Independent Public Agency or Authority of Transit Service","Full Reporter",2374203,1457,"Articulated Bus",null,0,0,6,18,92,0,0,0,0,0,0,0,0,0,0,0,0,0,0,116,3.7413793103448199,120455.8103]
["County of Miami-Dade , dba: Transportation & Public Work","Miami","FL",4034,40034,"City, County or Local Government Unit or Department of Transportation","Full Reporter",5502379,1396,"Van",null,215,13,17,24,19,108,12,0,0,0,0,0,0,0,0,0,0,0,0,408,1.9779411764705801,110286.8922]
["County of Miami-Dade , dba: Transportation & Public Work","Miami","FL",4034,40034,"City, County or Local Government Unit or Department of Transportation","Full Reporter",5502379,1396,"Trucks and other Rubber Tire Vehicles (Service)",null,2,0,6,1,4,0,0,8,0,4,1,24,20,41,31,16,12,7,0,177]
["County of Miami-Dade , dba: Transportation & Public Work","Miami","FL",4034,40034,"City, County or Local Government Unit or Department of Transportation","Full Reporter",5502379,1396,"Steel Wheel Vehicles (Service)",null,0,0,0,0,0,0,0,0,0,0,0,0,0,0,1,1,2,4,0,8]
["County of Miami-Dade , dba: Transportation & Public Work","Miami","FL",4034,40034,"City, County or Local Government Unit or Department of Transportation","Full Reporter",5502379,1396,"Over-the-road Bus",null,0,0,0,0,0,0,0,0,0,0,0,0,16,6,0,0,0,0,0,22,12.409090909090899,697733.54550000001]
["County of Miami-Dade , dba: Transportation & Public Work","Miami","FL",4034,40034,"City, County or Local Government Unit or Department of Transportation","Full Reporter",5502379,1396,"Minivan",null,0,2,0,2,0,0,0,0,0,0,0,0,0,0,0,0,0,0,0,4,2,86996.5]
["County of Miami-Dade , dba: Transportation & Public Work","Miami","FL",4034,40034,"City, County or Local Government Unit or Department of Transportation","Full Reporter",5502379,1396,"Heavy Rail Passenger Car",null,0,34,0,0,0,0,0,0,0,0,0,0,0,0,0,0,0,96,0,130,26.846153846153801,1561449.8922999999]
["County of Miami-Dade , dba: Transportation & Public Work","Miami","FL",4034,40034,"City, County or Local Government Unit or Department of Transportation","Full Reporter",5502379,1396,"Cutaway",null,0,1,3,1,2,13,20,10,2,1,0,0,0,0,0,0,0,0,0,53,5.6226415094339597,33137.905700000003]
["County of Miami-Dade , dba: Transportation & Public Work","Miami","FL",4034,40034,"City, County or Local Government Unit or Department of Transportation","Full Reporter",5502379,1396,"Bus",null,98,0,5,15,35,0,0,3,5,13,0,0,96,263,156,0,0,0,0,689,11.388969521044899,734679.28159999999]
["County of Miami-Dade , dba: Transportation & Public Work","Miami","FL",4034,40034,"City, County or Local Government Unit or Department of Transportation","Full Reporter",5502379,1396,"Automobiles (Service)",null,0,0,0,53,0,0,0,0,0,0,0,13,0,9,10,0,0,0,0,85]
["County of Miami-Dade , dba: Transportation & Public Work","Miami","FL",4034,40034,"City, County or Local Government Unit or Department of Transportation","Full Reporter",5502379,1396,"Automobile",null,16,48,7,25,36,64,1,0,0,0,0,0,0,0,0,0,0,0,0,197,3.08121827411167,222106.3046]
["County of Miami-Dade , dba: Transportation & Public Work","Miami","FL",4034,40034,"City, County or Local Government Unit or Department of Transportation","Full Reporter",5502379,1396,"Automated Guideway Vehicle",null,0,0,0,0,0,0,0,0,17,0,0,10,0,0,0,0,0,0,0,27,9.1111111111111107,348627.88890000002]
["County of Miami-Dade , dba: Transportation & Public Work","Miami","FL",4034,40034,"City, County or Local Government Unit or Department of Transportation","Full Reporter",5502379,1396,"Articulated Bus",null,0,10,11,43,0,0,0,0,25,0,0,0,0,0,0,0,0,0,0,89,4.0561797752808904,188927.61799999999]
["Metro-North Commuter Railroad Company, dba: MTA Metro-North Railroad","New York","NY",2078,20078,"Subsidiary Unit of a Transit Agency, Reporting Separately","Full Reporter",18351295,1168,"Trucks and other Rubber Tire Vehicles (Service)",null,139,144,76,80,34,42,103,19,2,16,40,3,8,21,13,21,10,2,0,773]
["Metro-North Commuter Railroad Company, dba: MTA Metro-North Railroad","New York","NY",2078,20078,"Subsidiary Unit of a Transit Agency, Reporting Separately","Full Reporter",18351295,1168,"Steel Wheel Vehicles (Service)",null,4,2,2,6,0,1,5,5,2,4,6,2,0,12,16,26,12,22,0,127]
["Metro-North Commuter Railroad Company, dba: MTA Metro-North Railroad","New York","NY",2078,20078,"Subsidiary Unit of a Transit Agency, Reporting Separately","Full Reporter",18351295,1168,"Ferryboat",null,0,0,0,0,0,0,0,0,0,0,0,0,0,0,1,0,1,0,0,2,22.5,182530]
["Metro-North Commuter Railroad Company, dba: MTA Metro-North Railroad","New York","NY",2078,20078,"Subsidiary Unit of a Transit Agency, Reporting Separately","Full Reporter",18351295,1168,"Commuter Rail Self-Propelled Passenger Car",null,0,0,0,24,80,112,110,51,25,0,0,0,76,258,0,0,0,166,0,902,14.0277161862527,876123.58429999999]
["Metro-North Commuter Railroad Company, dba: MTA Metro-North Railroad","New York","NY",2078,20078,"Subsidiary Unit of a Transit Agency, Reporting Separately","Full Reporter",18351295,1168,"Commuter Rail Passenger Coach",null,0,0,0,0,0,0,0,0,0,0,0,0,0,0,9,91,24,82,0,206,27.446601941747499,2350734.0630999999]
["Metro-North Commuter Railroad Company, dba: MTA Metro-North Railroad","New York","NY",2078,20078,"Subsidiary Unit of a Transit Agency, Reporting Separately","Full Reporter",18351295,1168,"Commuter Rail Locomotive",null,0,0,0,0,0,0,0,0,0,1,11,0,0,0,9,22,0,0,0,43,17.558139534883701,818631.39529999997]
["Metro-North Commuter Railroad Company, dba: MTA Metro-North Railroad","New York","NY",2078,20078,"Subsidiary Unit of a Transit Agency, Reporting Separately","Full Reporter",18351295,1168,"Bus",null,2,0,4,0,1,3,2,2,0,2,2,0,0,0,0,0,0,0,0,18,5.05555555555555,77515.388900000005]
["Access Services  ","El Monte","CA",9157,90157,"Independent Public Agency or Authority of Transit Service","Full Reporter",12150996,1144,"Van",null,0,1,18,0,185,97,119,57,3,0,3,0,0,0,0,0,0,0,0,483,5.0289855072463698,160989.82190000001]
["Access Services  ","El Monte","CA",9157,90157,"Independent Public Agency or Authority of Transit Service","Full Reporter",12150996,1144,"Trucks and other Rubber Tire Vehicles (Service)",null,0,3,1,0,1,0,2,0,0,0,1,0,0,0,0,0,0,0,0,8]
["Access Services  ","El Monte","CA",9157,90157,"Independent Public Agency or Authority of Transit Service","Full Reporter",12150996,1144,"Minivan",null,0,10,146,108,9,3,0,0,0,0,0,0,0,0,0,0,0,0,0,276,2.4528985507246301,84577.467399999994]
["Access Services  ","El Monte","CA",9157,90157,"Independent Public Agency or Authority of Transit Service","Full Reporter",12150996,1144,"Cutaway",null,4,1,0,15,14,6,0,0,0,0,0,0,0,0,0,0,0,0,0,40,3.3,123327.675]
["Access Services  ","El Monte","CA",9157,90157,"Independent Public Agency or Authority of Transit Service","Full Reporter",12150996,1144,"Automobiles (Service)",null,0,1,3,0,3,0,0,2,0,0,0,0,0,0,0,0,0,0,0,9]
["Access Services  ","El Monte","CA",9157,90157,"Independent Public Agency or Authority of Transit Service","Full Reporter",12150996,1144,"Automobile",null,0,0,0,0,0,1,6,0,2,0,1,1,1,0,0,0,0,0,0,12,7.5,133758.25]
["Utah Transit Authority","Salt Lake City","UT",8001,80001,"Independent Public Agency or Authority of Transit Service","Full Reporter",1021243,1113,"Van",null,5,47,38,54,42,44,15,55,14,33,0,20,28,1,0,0,0,0,0,396,5.3737373737373701,85200.080799999996]
["Utah Transit Authority","Salt Lake City","UT",8001,80001,"Independent Public Agency or Authority of Transit Service","Full Reporter",1021243,1113,"Trucks and other Rubber Tire Vehicles (Service)",null,0,27,10,5,14,25,71,89,8,29,55,37,17,46,48,0,0,0,0,481]
["Utah Transit Authority","Salt Lake City","UT",8001,80001,"Independent Public Agency or Authority of Transit Service","Full Reporter",1021243,1113,"Steel Wheel Vehicles (Service)",null,0,2,0,0,0,0,0,0,0,1,0,0,0,0,0,0,0,0,0,3]
["Utah Transit Authority","Salt Lake City","UT",8001,80001,"Independent Public Agency or Authority of Transit Service","Full Reporter",1021243,1113,"Over-the-road Bus",null,0,0,0,0,0,0,0,0,0,9,10,0,0,34,0,0,0,0,0,53,12.1698113207547,462984.69809999998]
["Utah Transit Authority","Salt Lake City","UT",8001,80001,"Independent Public Agency or Authority of Transit Service","Full Reporter",1021243,1113,"Light Rail Vehicle",null,0,0,0,0,0,0,0,0,73,0,0,0,0,7,30,0,0,0,0,110,11.3,668719.55449999997]
["Utah Transit Authority","Salt Lake City","UT",8001,80001,"Independent Public Agency or Authority of Transit Service","Full Reporter",1021243,1113,"Cutaway",null,0,23,34,19,49,32,34,32,0,0,2,0,0,0,0,0,0,0,0,225,4.2311111111111099,125324.1244]
["Utah Transit Authority","Salt Lake City","UT",8001,80001,"Independent Public Agency or Authority of Transit Service","Full Reporter",1021243,1113,"Commuter Rail Passenger Coach",null,0,0,0,0,0,0,0,0,0,17,0,20,0,0,0,0,0,14,0,51,19.6666666666666,719447.78430000006]
["Utah Transit Authority","Salt Lake City","UT",8001,80001,"Independent Public Agency or Authority of Transit Service","Full Reporter",1021243,1113,"Commuter Rail Locomotive",null,0,0,0,0,0,0,0,0,0,7,0,11,0,0,0,0,0,0,0,18,10.2222222222222,634481.38890000002]
["Utah Transit Authority","Salt Lake City","UT",8001,80001,"Independent Public Agency or Authority of Transit Service","Full Reporter",1021243,1113,"Bus",null,5,37,0,23,20,26,40,30,57,46,0,48,31,0,44,0,0,0,0,407,8.2850122850122805,364511.38079999998]
["Utah Transit Authority","Salt Lake City","UT",8001,80001,"Independent Public Agency or Authority of Transit Service","Full Reporter",1021243,1113,"Automobiles (Service)",null,0,1,0,1,0,3,6,1,3,0,15,6,3,8,12,0,0,0,0,59]
["Utah Transit Authority","Salt Lake City","UT",8001,80001,"Independent Public Agency or Authority of Transit Service","Full Reporter",1021243,1113,"Articulated Bus",null,0,25,0,0,0,0,0,0,0,0,0,0,0,0,0,0,0,0,0,25,1,28100]
["MTA Bus Company","New York","NY",2188,20188,"Subsidiary Unit of a Transit Agency, Reporting Separately","Full Reporter",18351295,1111,"Trucks and other Rubber Tire Vehicles (Service)",null,11,18,12,8,35,4,5,3,13,0,16,1,2,1,0,0,0,0,0,129]
["MTA Bus Company","New York","NY",2188,20188,"Subsidiary Unit of a Transit Agency, Reporting Separately","Full Reporter",18351295,1111,"Over-the-road Bus",null,0,0,0,0,0,0,0,0,0,0,22,157,187,125,25,0,0,0,0,516,12.050387596899199,354118.58529999998]
["MTA Bus Company","New York","NY",2188,20188,"Subsidiary Unit of a Transit Agency, Reporting Separately","Full Reporter",18351295,1111,"Bus",null,0,0,0,44,0,89,79,45,0,105,0,183,99,22,0,0,0,0,0,666,8.7057057057057001,297116.20870000002]
["MTA Bus Company","New York","NY",2188,20188,"Subsidiary Unit of a Transit Agency, Reporting Separately","Full Reporter",18351295,1111,"Automobiles (Service)",null,0,0,0,5,0,0,15,7,0,0,0,0,0,0,0,0,0,0,0,27]
["MTA Bus Company","New York","NY",2188,20188,"Subsidiary Unit of a Transit Agency, Reporting Separately","Full Reporter",18351295,1111,"Articulated Bus",null,0,40,69,6,0,0,0,0,0,0,0,0,0,0,0,0,0,0,0,115,1.70434782608695,80665.4087]
["Regional Public Transportation Authority, dba: Valley Metro","Phoenix","AZ",9136,90136,"Independent Public Agency or Authority of Transit Service","Full Reporter",3629114,1070,"Van",null,48,99,20,46,55,51,59,13,15,9,0,0,0,0,0,0,0,0,0,415,3.3686746987951799,48820.686699999998]
["Regional Public Transportation Authority, dba: Valley Metro","Phoenix","AZ",9136,90136,"Independent Public Agency or Authority of Transit Service","Full Reporter",3629114,1070,"Trucks and other Rubber Tire Vehicles (Service)",null,0,2,2,0,3,3,0,1,0,1,0,3,2,1,0,0,0,0,0,18]
["Regional Public Transportation Authority, dba: Valley Metro","Phoenix","AZ",9136,90136,"Independent Public Agency or Authority of Transit Service","Full Reporter",3629114,1070,"Cutaway",null,0,13,0,5,12,37,0,0,0,1,0,0,0,0,0,0,0,0,0,68,3.9705882352941102,148973.1029]
["Regional Public Transportation Authority, dba: Valley Metro","Phoenix","AZ",9136,90136,"Independent Public Agency or Authority of Transit Service","Full Reporter",3629114,1070,"Bus",null,39,16,9,0,0,16,36,22,19,21,51,28,10,0,0,0,0,0,0,267,6.6029962546816403,305147.43449999997]
["Regional Public Transportation Authority, dba: Valley Metro","Phoenix","AZ",9136,90136,"Independent Public Agency or Authority of Transit Service","Full Reporter",3629114,1070,"Automobiles (Service)",null,0,0,0,0,0,0,0,0,0,0,0,1,0,1,0,0,0,0,0,2]
["Regional Public Transportation Authority, dba: Valley Metro","Phoenix","AZ",9136,90136,"Independent Public Agency or Authority of Transit Service","Full Reporter",3629114,1070,"Articulated Bus",null,9,1,0,0,0,0,0,17,0,0,10,0,0,0,0,0,0,0,0,37,5.9459459459459403,199448.2432]
["Northeast Illinois Regional Commuter Railroad Corporation, dba: Metra","Chicago","IL",5118,50118,"Independent Public Agency or Authority of Transit Service","Full Reporter",8608208,1062,"Trucks and other Rubber Tire Vehicles (Service)",null,60,76,66,55,31,12,10,63,20,39,22,7,2,25,38,16,14,8,0,564]
["Northeast Illinois Regional Commuter Railroad Corporation, dba: Metra","Chicago","IL",5118,50118,"Independent Public Agency or Authority of Transit Service","Full Reporter",8608208,1062,"Steel Wheel Vehicles (Service)",null,3,0,2,1,0,0,0,2,1,0,1,2,2,7,16,17,12,10,0,76]
["Northeast Illinois Regional Commuter Railroad Corporation, dba: Metra","Chicago","IL",5118,50118,"Independent Public Agency or Authority of Transit Service","Full Reporter",8608208,1062,"Commuter Rail Self-Propelled Passenger Car",null,0,0,32,42,22,56,8,0,0,0,0,0,18,8,0,0,0,0,0,186,4.9784946236559096,150558.15590000001]
["Northeast Illinois Regional Commuter Railroad Corporation, dba: Metra","Chicago","IL",5118,50118,"Independent Public Agency or Authority of Transit Service","Full Reporter",8608208,1062,"Commuter Rail Passenger Coach",null,0,0,0,0,0,0,0,0,0,2,0,0,0,298,45,132,0,352,18,847,29.8110979929161,1221393.0319000001]
["Northeast Illinois Regional Commuter Railroad Corporation, dba: Metra","Chicago","IL",5118,50118,"Independent Public Agency or Authority of Transit Service","Full Reporter",8608208,1062,"Commuter Rail Locomotive",null,0,0,0,0,0,0,0,0,0,1,0,0,0,27,0,0,43,78,0,149,30.724832214765101,1399268.0671000001]
["Northeast Illinois Regional Commuter Railroad Corporation, dba: Metra","Chicago","IL",5118,50118,"Independent Public Agency or Authority of Transit Service","Full Reporter",8608208,1062,"Automobiles (Service)",null,1,2,34,0,5,0,0,13,0,0,0,0,2,0,0,0,0,0,0,57]
["Dallas Area Rapid Transit","Dallas","TX",6056,60056,"Independent Public Agency or Authority of Transit Service","Full Reporter",5121892,1062,"Van",null,35,26,1,68,11,0,0,0,0,0,0,0,0,0,0,0,0,0,0,141,1.95744680851063,55467.943299999999]
["Dallas Area Rapid Transit","Dallas","TX",6056,60056,"Independent Public Agency or Authority of Transit Service","Full Reporter",5121892,1062,"Trucks and other Rubber Tire Vehicles (Service)",null,3,22,20,58,14,14,5,12,34,35,48,29,29,19,13,3,0,0,0,358]
["Dallas Area Rapid Transit","Dallas","TX",6056,60056,"Independent Public Agency or Authority of Transit Service","Full Reporter",5121892,1062,"Streetcar Rail",null,0,0,0,4,0,0,0,0,0,0,0,0,0,0,0,0,0,0,0,4,3,57794]
["Dallas Area Rapid Transit","Dallas","TX",6056,60056,"Independent Public Agency or Authority of Transit Service","Full Reporter",5121892,1062,"Steel Wheel Vehicles (Service)",null,0,0,0,2,0,0,0,1,0,1,2,0,0,0,2,0,0,0,0,8]
["Dallas Area Rapid Transit","Dallas","TX",6056,60056,"Independent Public Agency or Authority of Transit Service","Full Reporter",5121892,1062,"Sports Utility Vehicle",null,0,24,13,2,0,0,0,0,0,0,0,0,0,0,0,0,0,0,0,39,1.4358974358974299,37880.666700000002]
["Dallas Area Rapid Transit","Dallas","TX",6056,60056,"Independent Public Agency or Authority of Transit Service","Full Reporter",5121892,1062,"Light Rail Vehicle",null,0,0,0,0,0,0,0,0,48,0,0,0,0,20,54,40,0,0,0,162,15.9444444444444,845200.59880000004]
["Dallas Area Rapid Transit","Dallas","TX",6056,60056,"Independent Public Agency or Authority of Transit Service","Full Reporter",5121892,1062,"Cutaway",null,9,73,27,0,1,45,53,0,0,0,0,4,0,0,0,0,0,0,0,212,3.3867924528301798,153766.22169999999]
["Dallas Area Rapid Transit","Dallas","TX",6056,60056,"Independent Public Agency or Authority of Transit Service","Full Reporter",5121892,1062,"Commuter Rail Passenger Coach",null,0,0,0,0,0,0,0,0,0,4,0,4,0,3,2,0,0,10,0,23,24.826086956521699,259982.43479999999]
["Dallas Area Rapid Transit","Dallas","TX",6056,60056,"Independent Public Agency or Authority of Transit Service","Full Reporter",5121892,1062,"Commuter Rail Locomotive",null,0,0,0,0,0,0,0,0,3,0,0,0,0,0,2,0,0,4,0,9,23.3333333333333,239367.22219999999]
["Dallas Area Rapid Transit","Dallas","TX",6056,60056,"Independent Public Agency or Authority of Transit Service","Full Reporter",5121892,1062,"Bus",null,7,0,46,17,239,62,156,1,0,0,0,0,0,0,0,0,0,0,0,528,4.4545454545454497,210355.3504]
["Dallas Area Rapid Transit","Dallas","TX",6056,60056,"Independent Public Agency or Authority of Transit Service","Full Reporter",5121892,1062,"Automobiles (Service)",null,0,27,29,22,28,29,0,2,16,9,18,5,5,14,0,0,0,0,0,204]
["MTA Long Island Rail Road","Jamaica","NY",2100,20100,"Subsidiary Unit of a Transit Agency, Reporting Separately","Full Reporter",18351295,1026,"Trucks and other Rubber Tire Vehicles (Service)",null,94,93,71,117,27,30,23,16,9,65,87,28,22,10,5,1,4,1,0,703]
["MTA Long Island Rail Road","Jamaica","NY",2100,20100,"Subsidiary Unit of a Transit Agency, Reporting Separately","Full Reporter",18351295,1026,"Steel Wheel Vehicles (Service)",null,0,0,3,2,0,0,4,1,1,6,4,24,9,12,25,11,1,49,0,152]
["MTA Long Island Rail Road","Jamaica","NY",2100,20100,"Subsidiary Unit of a Transit Agency, Reporting Separately","Full Reporter",18351295,1026,"Commuter Rail Self-Propelled Passenger Car",null,0,0,0,0,0,0,0,0,0,0,0,34,243,534,15,0,0,142,0,968,16.097107438016501,1069448.6198]
["MTA Long Island Rail Road","Jamaica","NY",2100,20100,"Subsidiary Unit of a Transit Agency, Reporting Separately","Full Reporter",18351295,1026,"Commuter Rail Passenger Coach",null,0,0,0,0,0,0,0,0,0,0,0,0,0,0,134,0,0,0,0,134,19.552238805970099,1101679]
["MTA Long Island Rail Road","Jamaica","NY",2100,20100,"Subsidiary Unit of a Transit Agency, Reporting Separately","Full Reporter",18351295,1026,"Commuter Rail Locomotive",null,0,0,0,0,0,0,0,0,0,0,0,0,0,0,45,0,0,0,0,45,19.511111111111099,746160]
["MTA Long Island Rail Road","Jamaica","NY",2100,20100,"Subsidiary Unit of a Transit Agency, Reporting Separately","Full Reporter",18351295,1026,"Automobiles (Service)",null,0,0,0,0,2,0,0,0,0,0,0,0,0,0,0,0,0,0,0,2]
["Pace-Suburban Bus Division, ADA Paratransit Services","Arlington Heights","IL",5182,50182,"Independent Public Agency or Authority of Transit Service","Full Reporter",8608208,1025,"Minivan",null,139,129,188,61,137,2,0,0,0,0,0,0,0,0,0,0,0,0,0,656,1.8993902439024299,87272.713399999993]
["Pace-Suburban Bus Division, ADA Paratransit Services","Arlington Heights","IL",5182,50182,"Independent Public Agency or Authority of Transit Service","Full Reporter",8608208,1025,"Cutaway",null,28,121,79,9,269,2,3,3,33,14,0,0,0,0,0,0,0,0,0,561,3.2459893048128299,110769.4777]
["City and County of San Francisco, dba: San Francisco Municipal Transportation Agency","San Francisco","CA",9015,90015,"City, County or Local Government Unit or Department of Transportation","Full Reporter",3281212,1014,"Trucks and other Rubber Tire Vehicles (Service)",null,0,48,11,16,2,18,7,2,22,2,5,4,10,4,50,54,38,19,0,312]
["City and County of San Francisco, dba: San Francisco Municipal Transportation Agency","San Francisco","CA",9015,90015,"City, County or Local Government Unit or Department of Transportation","Full Reporter",3281212,1014,"Trolleybus",null,0,58,0,0,60,0,0,0,0,0,0,0,0,0,201,0,0,0,0,319,12.2758620689655,214907.19750000001]
["City and County of San Francisco, dba: San Francisco Municipal Transportation Agency","San Francisco","CA",9015,90015,"City, County or Local Government Unit or Department of Transportation","Full Reporter",3281212,1014,"Streetcar Rail",null,0,0,0,0,0,0,0,0,0,0,0,0,0,0,0,0,0,0,45,45,77.688888888888798,3660118.9111000001]
["City and County of San Francisco, dba: San Francisco Municipal Transportation Agency","San Francisco","CA",9015,90015,"City, County or Local Government Unit or Department of Transportation","Full Reporter",3281212,1014,"Steel Wheel Vehicles (Service)",null,0,0,0,1,4,0,0,2,0,2,0,0,0,0,1,3,1,3,0,17]
["City and County of San Francisco, dba: San Francisco Municipal Transportation Agency","San Francisco","CA",9015,90015,"City, County or Local Government Unit or Department of Transportation","Full Reporter",3281212,1014,"Minivan",null,0,22,0,0,5,0,0,0,0,0,0,0,0,0,0,0,0,0,0,27,1.55555555555555,32375.963]
["City and County of San Francisco, dba: San Francisco Municipal Transportation Agency","San Francisco","CA",9015,90015,"City, County or Local Government Unit or Department of Transportation","Full Reporter",3281212,1014,"Light Rail Vehicle",null,0,18,0,0,0,0,0,0,0,0,0,0,0,0,0,149,0,0,0,167,20.62874251497,547619.79639999999]
["City and County of San Francisco, dba: San Francisco Municipal Transportation Agency","San Francisco","CA",9015,90015,"City, County or Local Government Unit or Department of Transportation","Full Reporter",3281212,1014,"Cutaway",null,0,27,0,0,35,0,26,0,1,0,8,0,10,0,0,0,0,0,0,107,4.9626168224298999,93005.224300000002]
["City and County of San Francisco, dba: San Francisco Municipal Transportation Agency","San Francisco","CA",9015,90015,"City, County or Local Government Unit or Department of Transportation","Full Reporter",3281212,1014,"Cable Car",null,0,0,0,0,0,0,0,0,0,0,0,0,0,0,0,1,3,2,30,36,107.555555555555,722045.97219999996]
["City and County of San Francisco, dba: San Francisco Municipal Transportation Agency","San Francisco","CA",9015,90015,"City, County or Local Government Unit or Department of Transportation","Full Reporter",3281212,1014,"Bus",null,0,30,78,24,0,112,0,0,0,0,0,86,0,0,143,0,0,0,0,473,9.4735729386892107,278756.46720000001]
["City and County of San Francisco, dba: San Francisco Municipal Transportation Agency","San Francisco","CA",9015,90015,"City, County or Local Government Unit or Department of Transportation","Full Reporter",3281212,1014,"Automobiles (Service)",null,0,27,0,0,41,26,1,0,23,27,0,12,0,0,8,6,12,0,0,183]
["City and County of San Francisco, dba: San Francisco Municipal Transportation Agency","San Francisco","CA",9015,90015,"City, County or Local Government Unit or Department of Transportation","Full Reporter",3281212,1014,"Articulated Bus",null,0,69,44,111,0,0,0,0,0,0,0,0,0,0,38,0,0,0,0,262,4.4809160305343498,105555.6069]
["Tri-County Metropolitan Transportation District of Oregon","Portland","OR",8,8,"Independent Public Agency or Authority of Transit Service","Full Reporter",1849898,961,"Trucks and other Rubber Tire Vehicles (Service)",null,25,18,29,21,49,10,16,0,0,32,34,4,0,5,37,15,4,5,0,304]
["Tri-County Metropolitan Transportation District of Oregon","Portland","OR",8,8,"Independent Public Agency or Authority of Transit Service","Full Reporter",1849898,961,"Light Rail Vehicle",null,0,0,0,0,18,0,0,0,0,0,22,0,0,27,6,46,0,26,0,145,18.924137931034402,1092006.5793000001]
["Tri-County Metropolitan Transportation District of Oregon","Portland","OR",8,8,"Independent Public Agency or Authority of Transit Service","Full Reporter",1849898,961,"Cutaway",null,0,0,41,49,27,0,84,41,0,0,24,0,0,0,0,0,0,0,0,266,5.1428571428571397,121859.5526]
["Tri-County Metropolitan Transportation District of Oregon","Portland","OR",8,8,"Independent Public Agency or Authority of Transit Service","Full Reporter",1849898,961,"Commuter Rail Self-Propelled Passenger Car",null,0,0,0,0,0,0,0,0,0,0,3,0,0,0,0,0,0,0,2,5,31.8,222036.2]
["Tri-County Metropolitan Transportation District of Oregon","Portland","OR",8,8,"Independent Public Agency or Authority of Transit Service","Full Reporter",1849898,961,"Commuter Rail Passenger Coach",null,0,0,0,0,0,0,0,0,0,0,1,0,0,0,0,0,0,0,0,1,10,347272]
["Tri-County Metropolitan Transportation District of Oregon","Portland","OR",8,8,"Independent Public Agency or Authority of Transit Service","Full Reporter",1849898,961,"Bus",null,0,107,77,30,90,70,59,0,0,0,40,0,0,64,133,0,0,0,0,670,7.4089552238805902,331873.23729999998]
["Tri-County Metropolitan Transportation District of Oregon","Portland","OR",8,8,"Independent Public Agency or Authority of Transit Service","Full Reporter",1849898,961,"Automobiles (Service)",null,0,1,0,0,0,0,0,0,0,2,5,0,0,2,15,10,1,2,0,38]
["Port Authority of Allegheny County","Pittsburgh","PA",3022,30022,"Independent Public Agency or Authority of Transit Service","Full Reporter",1733853,933,"Van",null,0,27,28,28,26,16,20,33,20,17,2,0,0,1,0,0,0,0,0,218,4.8073394495412796,162779.41279999999]
["Port Authority of Allegheny County","Pittsburgh","PA",3022,30022,"Independent Public Agency or Authority of Transit Service","Full Reporter",1733853,933,"Trucks and other Rubber Tire Vehicles (Service)",null,0,0,2,7,9,5,7,13,0,0,0,0,1,1,22,1,8,8,0,84]
["Port Authority of Allegheny County","Pittsburgh","PA",3022,30022,"Independent Public Agency or Authority of Transit Service","Full Reporter",1733853,933,"Steel Wheel Vehicles (Service)",null,0,0,0,0,0,0,0,0,0,0,0,0,0,0,0,1,2,1,0,4]
["Port Authority of Allegheny County","Pittsburgh","PA",3022,30022,"Independent Public Agency or Authority of Transit Service","Full Reporter",1733853,933,"Light Rail Vehicle",null,0,0,0,0,0,0,0,0,0,0,0,0,0,28,0,0,0,55,0,83,26.590361445783099,339434.15659999999]
["Port Authority of Allegheny County","Pittsburgh","PA",3022,30022,"Independent Public Agency or Authority of Transit Service","Full Reporter",1733853,933,"Inclined Plane Vehicle",null,0,0,0,0,0,0,0,0,0,0,0,0,0,0,0,0,0,0,2,2,148,14586]
["Port Authority of Allegheny County","Pittsburgh","PA",3022,30022,"Independent Public Agency or Authority of Transit Service","Full Reporter",1733853,933,"Bus",null,0,70,75,90,60,0,45,28,0,22,80,0,89,38,0,0,0,0,0,597,6.3249581239530901,264082.41879999998]
["Port Authority of Allegheny County","Pittsburgh","PA",3022,30022,"Independent Public Agency or Authority of Transit Service","Full Reporter",1733853,933,"Automobiles (Service)",null,0,0,6,34,18,7,23,29,14,34,0,1,5,28,28,2,0,1,0,230]
["Port Authority of Allegheny County","Pittsburgh","PA",3022,30022,"Independent Public Agency or Authority of Transit Service","Full Reporter",1733853,933,"Automobile",null,0,9,0,0,15,0,5,37,3,9,5,4,3,23,8,0,0,0,0,121,8.7520661157024797,173212.7273]
["Port Authority of Allegheny County","Pittsburgh","PA",3022,30022,"Independent Public Agency or Authority of Transit Service","Full Reporter",1733853,933,"Articulated Bus",null,0,25,0,0,0,40,0,61,0,0,0,0,0,8,0,0,0,0,0,134,5.6417910447761104,176332.8731]
["Metro Transit ","Minneapolis","MN",5027,50027,"Subsidiary Unit of a Transit Agency, Reporting Separately","Full Reporter",2650890,854,"Trucks and other Rubber Tire Vehicles (Service)",null,25,9,23,32,23,34,25,12,13,9,13,5,10,24,15,7,1,0,0,280]
["Metro Transit ","Minneapolis","MN",5027,50027,"Subsidiary Unit of a Transit Agency, Reporting Separately","Full Reporter",2650890,854,"Over-the-road Bus",null,0,0,7,3,7,4,12,4,3,24,0,0,0,0,0,0,0,0,0,64,6.421875,204222.5]
["Metro Transit ","Minneapolis","MN",5027,50027,"Subsidiary Unit of a Transit Agency, Reporting Separately","Full Reporter",2650890,854,"Light Rail Vehicle",null,0,5,0,0,20,35,4,0,0,0,0,2,1,24,0,0,0,0,0,91,7.2747252747252702,482779.92310000001]
["Metro Transit ","Minneapolis","MN",5027,50027,"Subsidiary Unit of a Transit Agency, Reporting Separately","Full Reporter",2650890,854,"Commuter Rail Passenger Coach",null,0,0,0,0,0,0,0,0,0,18,0,0,0,0,0,0,0,0,0,18,9,299030]
["Metro Transit ","Minneapolis","MN",5027,50027,"Subsidiary Unit of a Transit Agency, Reporting Separately","Full Reporter",2650890,854,"Commuter Rail Locomotive",null,0,0,0,0,0,0,0,0,0,1,5,0,0,0,0,0,0,0,0,6,9.8333333333333304,282574.5]
["Metro Transit ","Minneapolis","MN",5027,50027,"Subsidiary Unit of a Transit Agency, Reporting Separately","Full Reporter",2650890,854,"Bus",null,0,11,38,52,74,83,78,105,55,0,132,19,5,0,0,0,0,0,0,652,6.4202453987729999,275371.63189999998]
["Metro Transit ","Minneapolis","MN",5027,50027,"Subsidiary Unit of a Transit Agency, Reporting Separately","Full Reporter",2650890,854,"Automobiles (Service)",null,0,0,2,0,0,3,4,1,0,0,1,1,3,2,3,0,0,0,0,20]
["Metro Transit ","Minneapolis","MN",5027,50027,"Subsidiary Unit of a Transit Agency, Reporting Separately","Full Reporter",2650890,854,"Articulated Bus",null,0,7,30,24,0,3,0,25,40,11,15,10,5,0,0,0,0,0,0,170,6.2823529411764696,198180.54120000001]
["Metropolitan Atlanta Rapid Transit Authority","Atlanta","GA",4022,40022,"Independent Public Agency or Authority of Transit Service","Full Reporter",4515419,846,"Trucks and other Rubber Tire Vehicles (Service)",null,0,75,67,6,5,4,10,9,4,11,34,28,11,21,26,5,5,1,0,322]
["Metropolitan Atlanta Rapid Transit Authority","Atlanta","GA",4022,40022,"Independent Public Agency or Authority of Transit Service","Full Reporter",4515419,846,"Steel Wheel Vehicles (Service)",null,0,0,1,0,0,0,0,0,0,0,0,0,0,0,4,0,1,6,0,12]
["Metropolitan Atlanta Rapid Transit Authority","Atlanta","GA",4022,40022,"Independent Public Agency or Authority of Transit Service","Full Reporter",4515419,846,"Heavy Rail Passenger Car",null,0,0,0,0,0,0,0,0,0,0,0,0,0,22,78,0,22,184,0,306,28.6143790849673,2176341.5229000002]
["Metropolitan Atlanta Rapid Transit Authority","Atlanta","GA",4022,40022,"Independent Public Agency or Authority of Transit Service","Full Reporter",4515419,846,"Cutaway",null,24,0,0,24,92,0,0,0,0,0,0,0,0,0,0,0,0,0,0,140,3.1428571428571401,161980.20000000001]
["Metropolitan Atlanta Rapid Transit Authority","Atlanta","GA",4022,40022,"Independent Public Agency or Authority of Transit Service","Full Reporter",4515419,846,"Bus",null,69,26,0,0,177,159,0,0,96,5,0,0,7,69,0,0,0,0,0,608,5.5345394736842097,280970.41279999999]
["Metropolitan Atlanta Rapid Transit Authority","Atlanta","GA",4022,40022,"Independent Public Agency or Authority of Transit Service","Full Reporter",4515419,846,"Automobiles (Service)",null,0,0,26,17,0,21,0,0,5,0,11,20,0,5,4,0,0,0,0,109]
["Metropolitan Atlanta Rapid Transit Authority","Atlanta","GA",4022,40022,"Independent Public Agency or Authority of Transit Service","Full Reporter",4515419,846,"Articulated Bus",null,0,0,18,0,0,0,0,0,0,0,0,0,0,0,0,0,0,0,0,18,2,105030]
["VIA Metropolitan Transit","San Antonio","TX",6011,60011,"Independent Public Agency or Authority of Transit Service","Full Reporter",1758210,824,"Van",null,102,5,2,101,30,0,8,1,2,0,0,0,0,0,0,0,0,0,0,251,2.0039840637450199,79292.737099999998]
["VIA Metropolitan Transit","San Antonio","TX",6011,60011,"Independent Public Agency or Authority of Transit Service","Full Reporter",1758210,824,"Trucks and other Rubber Tire Vehicles (Service)",null,30,6,0,17,4,12,23,9,8,5,5,8,1,9,6,2,0,0,0,145]
["VIA Metropolitan Transit","San Antonio","TX",6011,60011,"Independent Public Agency or Authority of Transit Service","Full Reporter",1758210,824,"Sports Utility Vehicle",null,3,3,0,0,0,0,0,0,0,0,0,0,0,0,0,0,0,0,0,6,0.5,23110.5]
["VIA Metropolitan Transit","San Antonio","TX",6011,60011,"Independent Public Agency or Authority of Transit Service","Full Reporter",1758210,824,"Minivan",null,0,67,15,0,0,0,0,0,0,0,0,0,0,0,0,0,0,0,0,82,1.18292682926829,35641.841500000002]
["VIA Metropolitan Transit","San Antonio","TX",6011,60011,"Independent Public Agency or Authority of Transit Service","Full Reporter",1758210,824,"Cutaway",null,0,15,0,0,0,118,0,0,0,0,0,0,21,0,0,0,0,0,0,154,5.5649350649350602,250742.25320000001]
["VIA Metropolitan Transit","San Antonio","TX",6011,60011,"Independent Public Agency or Authority of Transit Service","Full Reporter",1758210,824,"Bus",null,44,270,15,0,0,0,3,0,34,0,37,0,14,50,0,0,0,0,0,467,3.8072805139186201,215093.0086]
["VIA Metropolitan Transit","San Antonio","TX",6011,60011,"Independent Public Agency or Authority of Transit Service","Full Reporter",1758210,824,"Automobiles (Service)",null,0,0,5,6,0,0,1,0,1,8,1,0,0,0,3,0,0,0,0,25]
["VIA Metropolitan Transit","San Antonio","TX",6011,60011,"Independent Public Agency or Authority of Transit Service","Full Reporter",1758210,824,"Articulated Bus",null,0,0,0,0,0,3,16,0,0,0,0,0,0,0,0,0,0,0,0,19,5.8421052631578902,286580.57890000002]
["City and County of Honolulu, dba: City & County of Honolulu DTS","Honolulu","HI",9002,90002,"City, County or Local Government Unit or Department of Transportation","Full Reporter",802459,817,"Van",null,0,1,19,0,0,0,0,0,0,0,0,0,0,0,0,0,0,0,0,20,1.95,29019.25]
["City and County of Honolulu, dba: City & County of Honolulu DTS","Honolulu","HI",9002,90002,"City, County or Local Government Unit or Department of Transportation","Full Reporter",802459,817,"Trucks and other Rubber Tire Vehicles (Service)",null,0,0,1,1,0,2,2,0,3,0,0,1,0,0,1,2,1,2,0,16]
["City and County of Honolulu, dba: City & County of Honolulu DTS","Honolulu","HI",9002,90002,"City, County or Local Government Unit or Department of Transportation","Full Reporter",802459,817,"Sports Utility Vehicle",null,1,1,0,0,0,0,0,0,0,0,0,0,0,0,0,0,0,0,0,2,0.5,13865.5]
["City and County of Honolulu, dba: City & County of Honolulu DTS","Honolulu","HI",9002,90002,"City, County or Local Government Unit or Department of Transportation","Full Reporter",802459,817,"Minivan",null,0,2,1,0,0,0,0,0,0,0,0,0,0,0,0,0,0,0,0,3,1.3333333333333299,25190.666700000002]
["City and County of Honolulu, dba: City & County of Honolulu DTS","Honolulu","HI",9002,90002,"City, County or Local Government Unit or Department of Transportation","Full Reporter",802459,817,"Cutaway",null,0,27,0,0,99,0,0,38,0,0,10,0,0,0,0,0,0,0,0,174,4.5344827586206797,203443]
["City and County of Honolulu, dba: City & County of Honolulu DTS","Honolulu","HI",9002,90002,"City, County or Local Government Unit or Department of Transportation","Full Reporter",802459,817,"Bus",null,8,4,21,42,29,0,76,10,24,0,0,0,40,70,72,33,0,0,0,429,10.510489510489499,456264.22610000003]
["City and County of Honolulu, dba: City & County of Honolulu DTS","Honolulu","HI",9002,90002,"City, County or Local Government Unit or Department of Transportation","Full Reporter",802459,817,"Automobiles (Service)",null,0,0,8,3,0,7,5,6,3,3,2,6,3,6,9,1,0,0,0,62]
["City and County of Honolulu, dba: City & County of Honolulu DTS","Honolulu","HI",9002,90002,"City, County or Local Government Unit or Department of Transportation","Full Reporter",802459,817,"Articulated Bus",null,0,0,0,24,0,0,0,0,20,10,0,9,0,26,26,0,0,0,0,115,10.756521739130401,478742.39130000002]
["Alameda-Contra Costa Transit District","Oakland","CA",9014,90014,"Independent Public Agency or Authority of Transit Service","Full Reporter",3281212,794,"Van",null,0,0,0,0,0,0,4,0,0,0,3,0,0,0,0,0,0,0,0,7,7.71428571428571,201947.28570000001]
["Alameda-Contra Costa Transit District","Oakland","CA",9014,90014,"Independent Public Agency or Authority of Transit Service","Full Reporter",3281212,794,"Trucks and other Rubber Tire Vehicles (Service)",null,3,9,12,9,8,7,0,1,0,4,3,4,10,2,18,8,0,0,0,98]
["Alameda-Contra Costa Transit District","Oakland","CA",9014,90014,"Independent Public Agency or Authority of Transit Service","Full Reporter",3281212,794,"Over-the-road Bus",null,0,0,0,0,0,0,0,0,0,0,0,0,0,39,7,0,0,0,0,46,15.4565217391304,483564.13040000002]
["Alameda-Contra Costa Transit District","Oakland","CA",9014,90014,"Independent Public Agency or Authority of Transit Service","Full Reporter",3281212,794,"Cutaway",null,0,26,20,3,35,42,8,8,0,54,3,26,19,14,6,0,0,0,0,264,7.0227272727272698,220473.6856]
["Alameda-Contra Costa Transit District","Oakland","CA",9014,90014,"Independent Public Agency or Authority of Transit Service","Full Reporter",3281212,794,"Bus",null,0,10,25,71,78,54,65,0,13,39,27,0,51,85,0,0,0,0,0,518,7.4459459459459403,286291.14289999998]
["Alameda-Contra Costa Transit District","Oakland","CA",9014,90014,"Independent Public Agency or Authority of Transit Service","Full Reporter",3281212,794,"Automobiles (Service)",null,1,5,5,2,3,0,0,0,0,1,6,3,5,4,22,0,0,0,0,57]
["Alameda-Contra Costa Transit District","Oakland","CA",9014,90014,"Independent Public Agency or Authority of Transit Service","Full Reporter",3281212,794,"Articulated Bus",null,0,29,0,0,0,23,0,0,0,9,0,0,23,26,0,0,0,0,0,110,8.1,281601.08179999999]
["San Diego Metropolitan Transit System","San Diego","CA",9026,90026,"Independent Public Agency or Authority of Transit Service","Full Reporter",2956746,793,"Vintage Trolley",null,0,0,0,0,0,0,0,0,0,0,0,0,0,0,0,0,0,0,2,2,72,11598.5]
["San Diego Metropolitan Transit System","San Diego","CA",9026,90026,"Independent Public Agency or Authority of Transit Service","Full Reporter",2956746,793,"Trucks and other Rubber Tire Vehicles (Service)",null,0,3,0,0,0,0,0,1,2,0,1,5,0,1,2,0,0,0,0,15]
["San Diego Metropolitan Transit System","San Diego","CA",9026,90026,"Independent Public Agency or Authority of Transit Service","Full Reporter",2956746,793,"Over-the-road Bus",null,0,0,0,0,0,0,0,0,0,0,0,24,0,0,0,0,0,0,0,24,11,373629]
["San Diego Metropolitan Transit System","San Diego","CA",9026,90026,"Independent Public Agency or Authority of Transit Service","Full Reporter",2956746,793,"Light Rail Vehicle",null,0,0,0,0,0,0,0,65,0,0,0,0,0,11,0,52,0,0,0,128,14.015625,860595.07030000002]
["San Diego Metropolitan Transit System","San Diego","CA",9026,90026,"Independent Public Agency or Authority of Transit Service","Full Reporter",2956746,793,"Cutaway",null,0,26,77,5,61,0,40,3,0,3,0,0,0,0,0,0,0,0,0,215,3.3813953488371999,107840.1023]
["San Diego Metropolitan Transit System","San Diego","CA",9026,90026,"Independent Public Agency or Authority of Transit Service","Full Reporter",2956746,793,"Bus",null,0,46,38,50,50,50,53,26,0,75,55,7,0,12,0,0,0,0,0,462,5.8008658008658003,229940.73379999999]
["San Diego Metropolitan Transit System","San Diego","CA",9026,90026,"Independent Public Agency or Authority of Transit Service","Full Reporter",2956746,793,"Automobiles (Service)",null,0,0,0,0,1,0,1,0,0,0,0,5,2,1,1,0,0,0,0,11]
["San Diego Metropolitan Transit System","San Diego","CA",9026,90026,"Independent Public Agency or Authority of Transit Service","Full Reporter",2956746,793,"Articulated Bus",null,0,27,0,13,0,47,0,0,0,0,26,0,0,0,0,0,0,0,0,113,4.9646017699114999,189003.96460000001]
["Capital Metropolitan Transportation Authority, dba: Capital Metro","Austin","TX",6048,60048,"Independent Public Agency or Authority of Transit Service","Full Reporter",1362416,758,"Van",null,85,101,23,6,71,0,0,0,0,0,0,0,0,0,0,0,0,0,0,286,1.56993006993007,50555.895100000002]
["Capital Metropolitan Transportation Authority, dba: Capital Metro","Austin","TX",6048,60048,"Independent Public Agency or Authority of Transit Service","Full Reporter",1362416,758,"Trucks and other Rubber Tire Vehicles (Service)",null,0,0,0,0,0,0,0,0,0,1,10,3,2,2,4,0,0,0,0,22]
["Capital Metropolitan Transportation Authority, dba: Capital Metro","Austin","TX",6048,60048,"Independent Public Agency or Authority of Transit Service","Full Reporter",1362416,758,"Steel Wheel Vehicles (Service)",null,0,0,0,1,2,0,0,0,0,0,0,0,0,0,0,0,0,0,0,3]
["Capital Metropolitan Transportation Authority, dba: Capital Metro","Austin","TX",6048,60048,"Independent Public Agency or Authority of Transit Service","Full Reporter",1362416,758,"Over-the-road Bus",null,0,0,6,0,0,0,0,0,0,0,0,0,4,6,0,0,0,0,0,16,9.375,441479.25]
["Capital Metropolitan Transportation Authority, dba: Capital Metro","Austin","TX",6048,60048,"Independent Public Agency or Authority of Transit Service","Full Reporter",1362416,758,"Minivan",null,0,0,0,0,20,0,0,0,0,0,0,0,0,0,0,0,0,0,0,20,4,147788]
["Capital Metropolitan Transportation Authority, dba: Capital Metro","Austin","TX",6048,60048,"Independent Public Agency or Authority of Transit Service","Full Reporter",1362416,758,"Cutaway",null,23,9,18,3,0,3,0,0,3,7,3,0,0,0,0,0,0,0,0,69,2.6956521739130399,92113.347800000003]
["Capital Metropolitan Transportation Authority, dba: Capital Metro","Austin","TX",6048,60048,"Independent Public Agency or Authority of Transit Service","Full Reporter",1362416,758,"Commuter Rail Self-Propelled Passenger Car",null,0,4,0,0,0,0,0,0,0,0,0,6,0,0,0,0,0,0,0,10,7,264010.2]
["Capital Metropolitan Transportation Authority, dba: Capital Metro","Austin","TX",6048,60048,"Independent Public Agency or Authority of Transit Service","Full Reporter",1362416,758,"Bus",null,0,40,97,48,18,0,54,1,10,33,20,1,0,22,65,0,0,0,0,409,6.87775061124694,298733.21759999997]
["Capital Metropolitan Transportation Authority, dba: Capital Metro","Austin","TX",6048,60048,"Independent Public Agency or Authority of Transit Service","Full Reporter",1362416,758,"Automobiles (Service)",null,0,8,6,0,0,0,0,6,0,0,0,14,0,15,2,0,0,0,0,51]
["Capital Metropolitan Transportation Authority, dba: Capital Metro","Austin","TX",6048,60048,"Independent Public Agency or Authority of Transit Service","Full Reporter",1362416,758,"Articulated Bus",null,0,7,0,0,0,22,0,0,0,0,0,0,0,0,0,0,0,0,0,29,4.0344827586206797,210413.72409999999]
["OATS, Inc.","Columbia","MO","7R03-017","7R03-70133","Private-Non-Profit Corporation","Rural Reporter",0,725,"Van",null,0,8,0,1,0,0,10,0,0,6,2,0,0,1,5,0,0,0,0,33,7.3333333333333304,0]
["OATS, Inc.","Columbia","MO","7R03-017","7R03-70133","Private-Non-Profit Corporation","Rural Reporter",0,725,"Minivan",null,0,13,14,12,7,0,22,25,0,51,10,7,5,5,3,0,0,0,0,174,7.0574712643678099,0]
["OATS, Inc.","Columbia","MO","7R03-017","7R03-70133","Private-Non-Profit Corporation","Rural Reporter",0,725,"Cutaway",null,28,35,40,15,46,9,85,48,1,191,53,0,46,24,5,0,0,0,0,626,7.1150159744408903,0]
["OATS, Inc.","Columbia","MO","7R03-017","7R03-70133","Private-Non-Profit Corporation","Rural Reporter",0,725,"Automobile",null,0,0,0,3,0,0,0,0,0,0,0,7,0,10,0,0,0,0,0,20,11.1,0]
["San Diego Association of Governments","San Diego","CA",9095,90095,"MPO, COG or Other Planning Agency","Full Reporter",2956746,714,"Van",null,314,196,89,81,12,4,3,0,0,0,0,0,0,0,0,0,0,0,0,699,1.0057224606580799,27431.4692]
["Regional Transportation Commission of Southern Nevada","Las Vegas","NV",9045,90045,"Independent Public Agency or Authority of Transit Service","Full Reporter",1886011,707,"Double Decker Bus",null,0,0,0,0,0,0,0,0,0,0,0,81,0,39,0,0,0,0,0,120,11.65,417314.63329999999]
["Regional Transportation Commission of Southern Nevada","Las Vegas","NV",9045,90045,"Independent Public Agency or Authority of Transit Service","Full Reporter",1886011,707,"Cutaway",null,120,80,80,82,40,0,0,0,0,0,0,0,0,0,0,0,0,0,0,402,1.60696517412935,67661.746299999999]
["Regional Transportation Commission of Southern Nevada","Las Vegas","NV",9045,90045,"Independent Public Agency or Authority of Transit Service","Full Reporter",1886011,707,"Bus",null,34,1,30,35,0,30,0,0,0,0,3,0,0,0,0,0,0,0,0,133,2.60150375939849,174180.6992]
["Regional Transportation Commission of Southern Nevada","Las Vegas","NV",9045,90045,"Independent Public Agency or Authority of Transit Service","Full Reporter",1886011,707,"Articulated Bus",null,0,20,25,20,0,36,0,0,0,38,12,0,0,0,0,0,0,0,0,151,5.1125827814569504,155672.09270000001]
["California Vanpool Authority","Hanford","CA",9230,90230,"City, County or Local Government Unit or Department of Transportation","Full Reporter",87941,685,"Van",null,1,167,120,20,12,109,15,152,30,49,27,21,32,26,5,0,0,0,0,786,5.3638676844783699,107401.7977]
["California Vanpool Authority","Hanford","CA",9230,90230,"City, County or Local Government Unit or Department of Transportation","Full Reporter",87941,685,"Trucks and other Rubber Tire Vehicles (Service)",null,0,0,0,0,0,0,0,2,0,0,0,0,0,0,0,0,0,0,0,2]
["California Vanpool Authority","Hanford","CA",9230,90230,"City, County or Local Government Unit or Department of Transportation","Full Reporter",87941,685,"Automobiles (Service)",null,0,0,0,0,0,0,0,6,0,0,0,0,0,0,0,0,0,0,0,6]
["Potomac and Rappahannock Transportation Commission","Woodbridge","VA",3070,30070,"Independent Public Agency or Authority of Transit Service","Full Reporter",4586770,659,"Van",null,0,1,2,5,9,5,7,2,4,2,2,3,5,0,0,0,0,0,0,47,6.3829787234042499,120617.766]
["Potomac and Rappahannock Transportation Commission","Woodbridge","VA",3070,30070,"Independent Public Agency or Authority of Transit Service","Full Reporter",4586770,659,"Trucks and other Rubber Tire Vehicles (Service)",null,2,0,0,1,0,0,0,0,0,1,0,0,0,0,0,0,0,0,0,4]
["Potomac and Rappahannock Transportation Commission","Woodbridge","VA",3070,30070,"Independent Public Agency or Authority of Transit Service","Full Reporter",4586770,659,"Over-the-road Bus",null,0,5,0,0,1,0,5,4,0,11,11,1,10,13,35,0,0,0,0,96,12,504947.6458]
["Potomac and Rappahannock Transportation Commission","Woodbridge","VA",3070,30070,"Independent Public Agency or Authority of Transit Service","Full Reporter",4586770,659,"Minivan",null,0,0,2,2,4,5,3,1,4,1,4,1,1,0,0,0,0,0,0,28,6.4285714285714199,103225.85709999999]
["Potomac and Rappahannock Transportation Commission","Woodbridge","VA",3070,30070,"Independent Public Agency or Authority of Transit Service","Full Reporter",4586770,659,"Bus",null,0,0,13,0,0,16,13,0,2,0,0,0,1,4,0,0,0,0,0,49,5.3877551020408099,230958.57139999999]
["Snohomish County Public Transportation Benefit Area Corporation","Everett","WA",29,29,"Independent Public Agency or Authority of Transit Service","Full Reporter",3059393,648,"Van",null,79,59,101,0,81,20,44,29,0,18,15,23,0,0,0,0,0,0,0,469,3.6609808102345398,45747.029900000001]
["Snohomish County Public Transportation Benefit Area Corporation","Everett","WA",29,29,"Independent Public Agency or Authority of Transit Service","Full Reporter",3059393,648,"Trucks and other Rubber Tire Vehicles (Service)",null,2,1,0,0,1,0,1,1,0,0,3,3,0,1,1,0,0,2,0,16]
["Snohomish County Public Transportation Benefit Area Corporation","Everett","WA",29,29,"Independent Public Agency or Authority of Transit Service","Full Reporter",3059393,648,"Double Decker Bus",null,0,17,0,22,0,0,0,0,23,0,0,0,0,0,0,0,0,0,0,62,4.3064516129032198,127894.4516]
["Snohomish County Public Transportation Benefit Area Corporation","Everett","WA",29,29,"Independent Public Agency or Authority of Transit Service","Full Reporter",3059393,648,"Bus",null,0,37,13,32,15,13,0,24,0,0,12,0,0,33,0,0,0,0,0,179,5.7094972067039098,272672.28490000003]
["Snohomish County Public Transportation Benefit Area Corporation","Everett","WA",29,29,"Independent Public Agency or Authority of Transit Service","Full Reporter",3059393,648,"Automobiles (Service)",null,2,1,11,4,0,0,0,0,4,0,12,29,5,14,9,1,0,0,0,92]
["Snohomish County Public Transportation Benefit Area Corporation","Everett","WA",29,29,"Independent Public Agency or Authority of Transit Service","Full Reporter",3059393,648,"Articulated Bus",null,18,14,10,0,0,0,0,0,0,15,0,8,0,38,10,0,0,0,0,113,8.6283185840707901,331046.3982]
["Santa Clara Valley Transportation Authority","San Jose","CA",9013,90013,"Independent Public Agency or Authority of Transit Service","Full Reporter",1664496,642,"Vintage Trolley",null,0,0,0,0,0,0,0,0,0,0,0,0,0,0,0,0,0,0,1,1,90,25781]
["Santa Clara Valley Transportation Authority","San Jose","CA",9013,90013,"Independent Public Agency or Authority of Transit Service","Full Reporter",1664496,642,"Van",null,0,0,0,0,0,0,77,0,0,0,0,0,0,0,0,0,0,0,0,77,6,165900.7922]
["Santa Clara Valley Transportation Authority","San Jose","CA",9013,90013,"Independent Public Agency or Authority of Transit Service","Full Reporter",1664496,642,"Trucks and other Rubber Tire Vehicles (Service)",null,0,39,0,0,7,18,16,6,35,3,14,13,3,12,38,10,5,3,0,222]
["Santa Clara Valley Transportation Authority","San Jose","CA",9013,90013,"Independent Public Agency or Authority of Transit Service","Full Reporter",1664496,642,"Steel Wheel Vehicles (Service)",null,0,0,0,0,0,0,0,0,0,0,0,0,0,0,1,0,0,0,0,1]
["Santa Clara Valley Transportation Authority","San Jose","CA",9013,90013,"Independent Public Agency or Authority of Transit Service","Full Reporter",1664496,642,"Light Rail Vehicle",null,0,0,0,0,0,0,0,0,0,0,0,0,0,0,99,0,0,0,0,99,16,565282]
["Santa Clara Valley Transportation Authority","San Jose","CA",9013,90013,"Independent Public Agency or Authority of Transit Service","Full Reporter",1664496,642,"Cutaway",null,0,30,0,1,0,0,0,0,0,0,0,0,0,0,0,0,0,0,0,31,1.06451612903225,34019.645199999999]
["Santa Clara Valley Transportation Authority","San Jose","CA",9013,90013,"Independent Public Agency or Authority of Transit Service","Full Reporter",1664496,642,"Bus",null,0,61,54,1,73,0,0,20,70,0,0,0,0,22,139,0,0,0,0,440,8.6181818181818102,366241.8591]
["Santa Clara Valley Transportation Authority","San Jose","CA",9013,90013,"Independent Public Agency or Authority of Transit Service","Full Reporter",1664496,642,"Automobiles (Service)",null,0,17,0,1,2,11,7,0,0,0,3,9,0,0,39,0,0,0,0,89]
["Santa Clara Valley Transportation Authority","San Jose","CA",9013,90013,"Independent Public Agency or Authority of Transit Service","Full Reporter",1664496,642,"Automobile",null,0,0,0,64,0,0,18,0,0,0,0,0,0,0,0,0,0,0,0,82,3.6585365853658498,37971.877999999997]
["Santa Clara Valley Transportation Authority","San Jose","CA",9013,90013,"Independent Public Agency or Authority of Transit Service","Full Reporter",1664496,642,"Articulated Bus",null,0,0,0,0,29,0,0,0,0,0,0,0,0,18,11,0,0,0,0,58,9.68965517241379,411831.10340000002]
["Central Florida Regional Transportation Authority","Orlando","FL",4035,40035,"Independent Public Agency or Authority of Transit Service","Full Reporter",1510516,603,"Van",null,0,23,13,7,24,0,18,0,0,4,0,0,0,0,0,0,0,0,0,89,3.48314606741573,53541.584300000002]
["Central Florida Regional Transportation Authority","Orlando","FL",4035,40035,"Independent Public Agency or Authority of Transit Service","Full Reporter",1510516,603,"Trucks and other Rubber Tire Vehicles (Service)",null,4,1,3,5,5,5,13,3,0,13,8,7,3,5,1,1,0,0,0,77]
["Central Florida Regional Transportation Authority","Orlando","FL",4035,40035,"Independent Public Agency or Authority of Transit Service","Full Reporter",1510516,603,"Sports Utility Vehicle",null,0,17,0,23,38,20,0,0,0,0,0,0,0,0,0,0,0,0,0,98,3.4489795918367299,62466.398000000001]
["Central Florida Regional Transportation Authority","Orlando","FL",4035,40035,"Independent Public Agency or Authority of Transit Service","Full Reporter",1510516,603,"Minivan",null,49,0,0,0,0,0,0,0,0,0,0,0,0,0,0,0,0,0,0,49,0,11658]
["Central Florida Regional Transportation Authority","Orlando","FL",4035,40035,"Independent Public Agency or Authority of Transit Service","Full Reporter",1510516,603,"Cutaway",null,22,0,6,36,42,10,0,0,1,0,0,0,0,0,0,0,0,0,0,117,2.9572649572649499,176455.44440000001]
["Central Florida Regional Transportation Authority","Orlando","FL",4035,40035,"Independent Public Agency or Authority of Transit Service","Full Reporter",1510516,603,"Bus",null,0,0,25,55,24,18,30,0,27,25,37,52,14,0,0,0,0,0,0,307,6.9446254071661198,410448.17920000001]
["Central Florida Regional Transportation Authority","Orlando","FL",4035,40035,"Independent Public Agency or Authority of Transit Service","Full Reporter",1510516,603,"Automobiles (Service)",null,0,0,4,7,5,0,0,0,1,0,0,0,1,1,0,0,0,0,0,19]
["Central Florida Regional Transportation Authority","Orlando","FL",4035,40035,"Independent Public Agency or Authority of Transit Service","Full Reporter",1510516,603,"Articulated Bus",null,0,0,10,0,2,4,0,0,2,0,0,0,0,0,0,0,0,0,0,18,3.55555555555555,185209.77780000001]
["San Francisco Bay Area Rapid Transit District","Oakland","CA",9003,90003,"Independent Public Agency or Authority of Transit Service","Full Reporter",3281212,566,"Trucks and other Rubber Tire Vehicles (Service)",null,2,28,21,39,3,2,35,17,2,21,10,11,2,15,31,15,2,1,0,257]
["San Francisco Bay Area Rapid Transit District","Oakland","CA",9003,90003,"Independent Public Agency or Authority of Transit Service","Full Reporter",3281212,566,"Steel Wheel Vehicles (Service)",null,0,0,7,4,0,0,0,3,0,2,1,1,0,0,6,2,2,4,0,32]
["San Francisco Bay Area Rapid Transit District","Oakland","CA",9003,90003,"Independent Public Agency or Authority of Transit Service","Full Reporter",3281212,566,"Heavy Rail Passenger Car",null,0,0,22,0,0,0,0,0,0,0,0,0,0,0,0,79,148,441,0,690,37.452173913043403,1952457.9652]
["San Francisco Bay Area Rapid Transit District","Oakland","CA",9003,90003,"Independent Public Agency or Authority of Transit Service","Full Reporter",3281212,566,"Commuter Rail Self-Propelled Passenger Car",null,0,0,8,0,0,0,0,0,0,0,0,0,0,0,0,0,0,0,0,8,2,8145]
["San Francisco Bay Area Rapid Transit District","Oakland","CA",9003,90003,"Independent Public Agency or Authority of Transit Service","Full Reporter",3281212,566,"Automobiles (Service)",null,0,26,31,29,24,1,11,30,0,10,21,0,1,8,7,1,0,0,0,200]
["San Francisco Bay Area Rapid Transit District","Oakland","CA",9003,90003,"Independent Public Agency or Authority of Transit Service","Full Reporter",3281212,566,"Automated Guideway Vehicle",null,0,0,0,0,4,0,0,0,0,0,0,0,0,0,0,0,0,0,0,4,4,371103]
["Metro Mobility","St. Paul","MN",5155,50155,"City, County or Local Government Unit or Department of Transportation","Full Reporter",2650890,532,"Sports Utility Vehicle",null,0,0,7,24,0,0,0,0,0,0,0,0,0,0,0,0,0,0,0,31,2.7741935483870899,157940.80650000001]
["Metro Mobility","St. Paul","MN",5155,50155,"City, County or Local Government Unit or Department of Transportation","Full Reporter",2650890,532,"Cutaway",null,100,160,86,55,91,79,11,0,0,0,0,0,0,0,0,0,0,0,0,582,2.27147766323024,130907.701]
["Pierce County Transportation Benefit Area Authority","Tacoma","WA",3,3,"Independent Public Agency or Authority of Transit Service","Full Reporter",3059393,531,"Van",null,27,54,84,52,28,25,19,0,58,0,3,3,1,0,0,0,0,0,0,354,3.5819209039548001,54090.226000000002]
["Pierce County Transportation Benefit Area Authority","Tacoma","WA",3,3,"Independent Public Agency or Authority of Transit Service","Full Reporter",3059393,531,"Trucks and other Rubber Tire Vehicles (Service)",null,12,13,15,2,40,0,2,1,3,5,6,9,0,11,1,1,0,0,0,121]
["Pierce County Transportation Benefit Area Authority","Tacoma","WA",3,3,"Independent Public Agency or Authority of Transit Service","Full Reporter",3059393,531,"Other",null,0,0,0,0,0,0,0,0,0,0,0,1,0,1,0,0,0,0,0,2,12,159385]
["Pierce County Transportation Benefit Area Authority","Tacoma","WA",3,3,"Independent Public Agency or Authority of Transit Service","Full Reporter",3059393,531,"Cutaway",null,0,0,39,0,32,0,37,0,0,0,0,0,0,0,0,0,0,0,0,108,3.9629629629629601,97717.611099999995]
["Pierce County Transportation Benefit Area Authority","Tacoma","WA",3,3,"Independent Public Agency or Authority of Transit Service","Full Reporter",3059393,531,"Bus",null,8,7,10,10,6,6,0,0,9,0,11,10,15,45,22,0,0,0,0,159,9.9811320754716899,427003.7107]
["Pierce County Transportation Benefit Area Authority","Tacoma","WA",3,3,"Independent Public Agency or Authority of Transit Service","Full Reporter",3059393,531,"Automobiles (Service)",null,0,0,0,0,0,0,0,0,0,0,0,0,2,3,0,0,0,0,0,5]
["City of Phoenix Public Transit Department , dba: Valley Metro","Phoenix","AZ",9032,90032,"City, County or Local Government Unit or Department of Transportation","Full Reporter",3629114,526,"Trucks and other Rubber Tire Vehicles (Service)",null,0,6,5,0,0,0,0,0,0,0,0,2,0,0,0,0,0,0,0,13]
["City of Phoenix Public Transit Department , dba: Valley Metro","Phoenix","AZ",9032,90032,"City, County or Local Government Unit or Department of Transportation","Full Reporter",3629114,526,"Cutaway",null,25,0,52,0,24,40,0,0,0,0,0,0,0,0,0,0,0,0,0,141,2.83687943262411,98595.1489]
["City of Phoenix Public Transit Department , dba: Valley Metro","Phoenix","AZ",9032,90032,"City, County or Local Government Unit or Department of Transportation","Full Reporter",3629114,526,"Bus",null,36,50,0,80,0,120,0,0,0,0,0,95,0,39,0,0,0,0,0,420,6,271355.83809999999]
["City of Phoenix Public Transit Department , dba: Valley Metro","Phoenix","AZ",9032,90032,"City, County or Local Government Unit or Department of Transportation","Full Reporter",3629114,526,"Automobiles (Service)",null,5,1,1,9,6,6,0,0,0,2,2,4,0,4,3,0,0,0,0,43]
["City of Phoenix Public Transit Department , dba: Valley Metro","Phoenix","AZ",9032,90032,"City, County or Local Government Unit or Department of Transportation","Full Reporter",3629114,526,"Articulated Bus",null,0,30,20,0,0,0,0,0,0,0,14,29,0,0,0,0,0,0,0,93,5.6881720430107503,225134.38709999999]
["Broward County Board of County Commissioners, dba: Broward County Transit Division","Plantation","FL",4029,40029,"City, County or Local Government Unit or Department of Transportation","Full Reporter",5502379,507,"Van",null,0,0,0,1,0,0,0,0,0,3,0,1,0,0,0,0,0,0,0,5,8.1999999999999993,179937]
["Broward County Board of County Commissioners, dba: Broward County Transit Division","Plantation","FL",4029,40029,"City, County or Local Government Unit or Department of Transportation","Full Reporter",5502379,507,"Trucks and other Rubber Tire Vehicles (Service)",null,0,53,4,0,0,0,0,1,0,0,1,1,1,5,1,0,0,0,0,67]
["Broward County Board of County Commissioners, dba: Broward County Transit Division","Plantation","FL",4029,40029,"City, County or Local Government Unit or Department of Transportation","Full Reporter",5502379,507,"Over-the-road Bus",null,30,0,0,9,5,0,0,0,0,0,0,0,0,0,0,0,0,0,0,44,1.0681818181818099,63593.318200000002]
["Broward County Board of County Commissioners, dba: Broward County Transit Division","Plantation","FL",4029,40029,"City, County or Local Government Unit or Department of Transportation","Full Reporter",5502379,507,"Minivan",null,0,0,44,24,0,0,0,0,0,0,0,0,0,0,0,0,0,0,0,68,2.3529411764705799,132202.7647]
["Broward County Board of County Commissioners, dba: Broward County Transit Division","Plantation","FL",4029,40029,"City, County or Local Government Unit or Department of Transportation","Full Reporter",5502379,507,"Cutaway",null,0,1,0,87,58,7,0,1,0,0,0,0,0,0,0,0,0,0,0,154,3.4805194805194799,176097.12340000001]
["Broward County Board of County Commissioners, dba: Broward County Transit Division","Plantation","FL",4029,40029,"City, County or Local Government Unit or Department of Transportation","Full Reporter",5502379,507,"Bus",null,30,0,0,0,20,49,10,48,0,5,38,41,0,30,4,0,0,0,0,275,7.5090909090908999,394328.58549999999]
["Broward County Board of County Commissioners, dba: Broward County Transit Division","Plantation","FL",4029,40029,"City, County or Local Government Unit or Department of Transportation","Full Reporter",5502379,507,"Automobiles (Service)",null,0,0,0,1,0,0,0,0,0,0,1,4,2,1,1,0,0,0,0,10]
["Broward County Board of County Commissioners, dba: Broward County Transit Division","Plantation","FL",4029,40029,"City, County or Local Government Unit or Department of Transportation","Full Reporter",5502379,507,"Articulated Bus",null,0,0,0,17,0,0,0,10,0,15,0,0,1,0,0,0,0,0,0,43,6.2325581395348797,266928.88370000001]
["Delaware Transit Corporation","Dover","DE",3075,30075,"Independent Public Agency or Authority of Transit Service","Full Reporter",5441567,502,"Trucks and other Rubber Tire Vehicles (Service)",null,2,6,4,4,11,2,7,1,4,0,2,8,0,3,1,0,0,0,0,55]
["Delaware Transit Corporation","Dover","DE",3075,30075,"Independent Public Agency or Authority of Transit Service","Full Reporter",5441567,502,"Over-the-road Bus",null,0,4,0,0,0,0,6,0,0,1,0,0,2,4,0,0,0,0,0,17,7.5882352941176396,336541.4118]
["Delaware Transit Corporation","Dover","DE",3075,30075,"Independent Public Agency or Authority of Transit Service","Full Reporter",5441567,502,"Cutaway",null,55,74,90,52,104,9,0,0,0,0,0,0,0,0,0,0,0,0,0,384,2.2682291666666599,86305.403600000005]
["Delaware Transit Corporation","Dover","DE",3075,30075,"Independent Public Agency or Authority of Transit Service","Full Reporter",5441567,502,"Bus",null,0,4,0,8,72,0,8,0,44,27,73,1,11,0,0,0,0,0,0,248,7.38709677419354,235015.25810000001]
["Delaware Transit Corporation","Dover","DE",3075,30075,"Independent Public Agency or Authority of Transit Service","Full Reporter",5441567,502,"Automobiles (Service)",null,5,28,0,0,4,0,2,0,11,1,8,0,0,0,1,0,0,0,0,60]
["Bi-State Development Agency of the Missouri-Illinois Metropolitan District, dba: d.b.a. (St. Louis) Metro","St. Louis","MO",7006,70006,"Independent Public Agency or Authority of Transit Service","Full Reporter",2150706,493,"Van",null,0,0,17,37,0,0,0,0,0,0,0,0,0,0,0,0,0,0,0,54,2.6851851851851798,146706.38889999999]
["Bi-State Development Agency of the Missouri-Illinois Metropolitan District, dba: d.b.a. (St. Louis) Metro","St. Louis","MO",7006,70006,"Independent Public Agency or Authority of Transit Service","Full Reporter",2150706,493,"Trucks and other Rubber Tire Vehicles (Service)",null,6,4,1,9,16,2,25,18,0,0,21,2,6,41,40,7,3,0,0,201]
["Bi-State Development Agency of the Missouri-Illinois Metropolitan District, dba: d.b.a. (St. Louis) Metro","St. Louis","MO",7006,70006,"Independent Public Agency or Authority of Transit Service","Full Reporter",2150706,493,"Light Rail Vehicle",null,0,0,0,0,0,0,0,0,0,0,0,0,0,22,34,21,10,0,0,87,19.310344827586199,1418079.0575000001]
["Bi-State Development Agency of the Missouri-Illinois Metropolitan District, dba: d.b.a. (St. Louis) Metro","St. Louis","MO",7006,70006,"Independent Public Agency or Authority of Transit Service","Full Reporter",2150706,493,"Cutaway",null,0,0,0,0,0,0,0,0,49,0,21,0,0,0,0,0,0,0,0,70,8.6,442038.6286]
["Bi-State Development Agency of the Missouri-Illinois Metropolitan District, dba: d.b.a. (St. Louis) Metro","St. Louis","MO",7006,70006,"Independent Public Agency or Authority of Transit Service","Full Reporter",2150706,493,"Bus",null,28,29,1,47,51,51,43,50,0,4,26,0,0,7,74,0,0,0,0,411,7.1021897810218899,356390.42580000003]
["Bi-State Development Agency of the Missouri-Illinois Metropolitan District, dba: d.b.a. (St. Louis) Metro","St. Louis","MO",7006,70006,"Independent Public Agency or Authority of Transit Service","Full Reporter",2150706,493,"Automobiles (Service)",null,1,0,1,0,5,5,10,3,0,0,27,0,1,6,0,0,0,0,0,59]
["Bi-State Development Agency of the Missouri-Illinois Metropolitan District, dba: d.b.a. (St. Louis) Metro","St. Louis","MO",7006,70006,"Independent Public Agency or Authority of Transit Service","Full Reporter",2150706,493,"Articulated Bus",null,0,0,0,0,0,0,0,0,0,0,0,0,0,6,9,0,0,0,0,15,15.6,108722.5333]
["The Greater Cleveland Regional Transit Authority","Cleveland","OH",5015,50015,"Independent Public Agency or Authority of Transit Service","Full Reporter",1780673,472,"Van",null,2,7,0,4,8,0,0,0,0,0,0,0,0,0,0,0,0,0,0,21,2.4285714285714199,126699.38099999999]
["The Greater Cleveland Regional Transit Authority","Cleveland","OH",5015,50015,"Independent Public Agency or Authority of Transit Service","Full Reporter",1780673,472,"Trucks and other Rubber Tire Vehicles (Service)",null,2,1,2,8,14,7,3,0,2,1,12,4,0,2,4,2,4,1,0,69]
["The Greater Cleveland Regional Transit Authority","Cleveland","OH",5015,50015,"Independent Public Agency or Authority of Transit Service","Full Reporter",1780673,472,"Steel Wheel Vehicles (Service)",null,1,0,0,0,0,0,0,0,0,2,0,1,0,1,3,0,5,6,1,20]
["The Greater Cleveland Regional Transit Authority","Cleveland","OH",5015,50015,"Independent Public Agency or Authority of Transit Service","Full Reporter",1780673,472,"Sports Utility Vehicle",null,1,0,0,0,0,0,0,0,0,0,0,0,0,0,0,0,0,0,0,1,0,5752]
["The Greater Cleveland Regional Transit Authority","Cleveland","OH",5015,50015,"Independent Public Agency or Authority of Transit Service","Full Reporter",1780673,472,"Over-the-road Bus",null,0,0,0,0,0,0,0,0,6,0,0,6,0,0,11,0,0,0,0,23,13.086956521739101,334668.26089999999]
["The Greater Cleveland Regional Transit Authority","Cleveland","OH",5015,50015,"Independent Public Agency or Authority of Transit Service","Full Reporter",1780673,472,"Minivan",null,3,1,0,0,20,3,2,0,0,0,0,0,0,0,0,0,0,0,0,29,3.72413793103448,84879.413799999995]
["The Greater Cleveland Regional Transit Authority","Cleveland","OH",5015,50015,"Independent Public Agency or Authority of Transit Service","Full Reporter",1780673,472,"Light Rail Vehicle",null,0,0,0,0,0,0,0,0,0,0,0,0,0,0,0,0,0,34,0,34,37,947847]
["The Greater Cleveland Regional Transit Authority","Cleveland","OH",5015,50015,"Independent Public Agency or Authority of Transit Service","Full Reporter",1780673,472,"Heavy Rail Passenger Car",null,0,0,0,0,0,0,0,0,0,0,0,0,0,0,0,0,0,40,0,40,34,1435805.15]
["The Greater Cleveland Regional Transit Authority","Cleveland","OH",5015,50015,"Independent Public Agency or Authority of Transit Service","Full Reporter",1780673,472,"Cutaway",null,0,37,0,0,0,20,0,0,7,32,18,0,0,0,0,0,0,0,0,114,5.7982456140350802,190226.37719999999]
["The Greater Cleveland Regional Transit Authority","Cleveland","OH",5015,50015,"Independent Public Agency or Authority of Transit Service","Full Reporter",1780673,472,"Bus",null,23,29,16,101,24,0,0,0,0,0,0,0,44,58,0,0,0,0,0,295,5.9864406779661001,290035.1017]
["The Greater Cleveland Regional Transit Authority","Cleveland","OH",5015,50015,"Independent Public Agency or Authority of Transit Service","Full Reporter",1780673,472,"Automobiles (Service)",null,5,8,5,6,12,13,1,0,4,0,7,1,3,2,1,0,0,0,0,68]
["The Greater Cleveland Regional Transit Authority","Cleveland","OH",5015,50015,"Independent Public Agency or Authority of Transit Service","Full Reporter",1780673,472,"Automobile",null,0,0,0,0,0,0,19,0,0,0,0,0,0,0,0,0,0,0,0,19,6,170472]
["The Greater Cleveland Regional Transit Authority","Cleveland","OH",5015,50015,"Independent Public Agency or Authority of Transit Service","Full Reporter",1780673,472,"Articulated Bus",null,0,0,0,0,23,0,0,0,0,20,0,21,0,0,0,0,0,0,0,64,7.859375,215417.73439999999]
["Ben Franklin Transit","Richland","WA",18,18,"Independent Public Agency or Authority of Transit Service","Full Reporter",210975,429,"Van",null,6,59,0,0,65,16,0,0,35,20,92,23,12,15,7,1,0,0,0,351,7.1965811965811897,83969.569799999997]
["Ben Franklin Transit","Richland","WA",18,18,"Independent Public Agency or Authority of Transit Service","Full Reporter",210975,429,"Trucks and other Rubber Tire Vehicles (Service)",null,1,1,0,1,1,0,0,0,0,0,1,1,0,10,1,1,0,0,0,18]
["Ben Franklin Transit","Richland","WA",18,18,"Independent Public Agency or Authority of Transit Service","Full Reporter",210975,429,"Cutaway",null,35,0,0,0,40,0,0,0,2,15,0,0,0,4,0,0,0,0,0,96,3.78125,112751.3438]
["Ben Franklin Transit","Richland","WA",18,18,"Independent Public Agency or Authority of Transit Service","Full Reporter",210975,429,"Bus",null,19,0,3,9,4,9,0,0,0,9,0,5,2,5,7,0,0,0,0,72,6.2777777777777697,253318.3333]
["Ben Franklin Transit","Richland","WA",18,18,"Independent Public Agency or Authority of Transit Service","Full Reporter",210975,429,"Automobiles (Service)",null,0,0,0,0,0,0,0,0,0,0,10,8,2,3,0,2,0,0,0,25]
["Board of County Commissioners, Palm Beach County, dba: Palm Tran, Inc.","West Palm Beach","FL",4037,40037,"City, County or Local Government Unit or Department of Transportation","Full Reporter",5502379,414,"Trucks and other Rubber Tire Vehicles (Service)",null,1,1,0,5,2,5,0,6,2,1,3,0,7,5,0,0,0,0,0,38]
["Board of County Commissioners, Palm Beach County, dba: Palm Tran, Inc.","West Palm Beach","FL",4037,40037,"City, County or Local Government Unit or Department of Transportation","Full Reporter",5502379,414,"Minivan",null,0,0,0,0,40,0,0,0,0,0,0,0,0,0,0,0,0,0,0,40,4,153272.75]
["Board of County Commissioners, Palm Beach County, dba: Palm Tran, Inc.","West Palm Beach","FL",4037,40037,"City, County or Local Government Unit or Department of Transportation","Full Reporter",5502379,414,"Cutaway",null,0,0,0,0,188,10,0,0,0,0,0,0,0,0,0,0,0,0,0,198,4.0505050505050502,177371.40400000001]
["Board of County Commissioners, Palm Beach County, dba: Palm Tran, Inc.","West Palm Beach","FL",4037,40037,"City, County or Local Government Unit or Department of Transportation","Full Reporter",5502379,414,"Bus",null,0,14,10,19,9,10,14,28,18,10,11,10,0,0,0,0,0,0,0,153,5.9542483660130703,320632.8235]
["Board of County Commissioners, Palm Beach County, dba: Palm Tran, Inc.","West Palm Beach","FL",4037,40037,"City, County or Local Government Unit or Department of Transportation","Full Reporter",5502379,414,"Automobiles (Service)",null,0,0,0,14,0,11,0,8,3,0,3,0,6,0,0,0,0,0,0,45]
["Board of County Commissioners, Palm Beach County, dba: Palm Tran, Inc.","West Palm Beach","FL",4037,40037,"City, County or Local Government Unit or Department of Transportation","Full Reporter",5502379,414,"Articulated Bus",null,0,0,0,0,0,0,6,0,0,0,0,0,0,0,0,0,0,0,0,6,6,317329]
["Enterprise Rideshare - Michigan","Farmington Hills","MI",5193,50193,"Private Provider Reporting on Behalf of a Public Entity","Full Reporter",3734090,407,"Van",null,151,28,7,11,1,0,0,0,0,0,0,0,0,0,0,0,0,0,0,198,0.39898989898989901,27362.353500000001]
["Enterprise Rideshare - Michigan","Farmington Hills","MI",5193,50193,"Private Provider Reporting on Behalf of a Public Entity","Full Reporter",3734090,407,"Sports Utility Vehicle",null,20,126,16,4,14,0,0,0,0,0,0,0,0,0,0,0,0,0,0,180,1.25555555555555,39869.433299999997]
["Enterprise Rideshare - Michigan","Farmington Hills","MI",5193,50193,"Private Provider Reporting on Behalf of a Public Entity","Full Reporter",3734090,407,"Minivan",null,0,2,0,9,10,0,0,0,0,0,0,0,0,0,0,0,0,0,0,21,3.2857142857142798,83332.666700000002]
["Milwaukee County, dba: Milwaukee County Transit System","Milwaukee","WI",5008,50008,"City, County or Local Government Unit or Department of Transportation","Full Reporter",1376476,405,"Trucks and other Rubber Tire Vehicles (Service)",null,7,4,7,2,0,0,2,2,4,4,0,0,7,8,11,3,1,3,0,65]
["Milwaukee County, dba: Milwaukee County Transit System","Milwaukee","WI",5008,50008,"City, County or Local Government Unit or Department of Transportation","Full Reporter",1376476,405,"Bus",null,0,15,30,28,35,55,55,34,90,0,0,0,8,32,0,0,0,0,0,382,6.2801047120418803,329098.13870000001]
["City of Charlotte North Carolina, dba: Charlotte Area Transit System","Charlotte","NC",4008,40008,"City, County or Local Government Unit or Department of Transportation","Full Reporter",1249442,404,"Van",null,37,1,0,0,0,0,0,18,0,18,0,3,0,0,0,0,0,0,0,77,4.1818181818181799,93731.792199999996]
["City of Charlotte North Carolina, dba: Charlotte Area Transit System","Charlotte","NC",4008,40008,"City, County or Local Government Unit or Department of Transportation","Full Reporter",1249442,404,"Trucks and other Rubber Tire Vehicles (Service)",null,3,25,9,14,5,4,17,7,0,0,2,4,9,25,3,0,0,0,0,127]
["City of Charlotte North Carolina, dba: Charlotte Area Transit System","Charlotte","NC",4008,40008,"City, County or Local Government Unit or Department of Transportation","Full Reporter",1249442,404,"Streetcar Rail",null,0,0,0,0,0,0,0,0,0,0,0,0,0,3,0,0,0,0,0,3,14,75382]
["City of Charlotte North Carolina, dba: Charlotte Area Transit System","Charlotte","NC",4008,40008,"City, County or Local Government Unit or Department of Transportation","Full Reporter",1249442,404,"Steel Wheel Vehicles (Service)",null,0,0,0,0,0,0,0,0,0,0,0,0,1,0,0,0,0,0,0,1]
["City of Charlotte North Carolina, dba: Charlotte Area Transit System","Charlotte","NC",4008,40008,"City, County or Local Government Unit or Department of Transportation","Full Reporter",1249442,404,"Over-the-road Bus",null,0,18,4,0,0,0,0,0,0,0,0,0,0,0,18,0,0,0,0,40,8.3000000000000007,223798.75]
["City of Charlotte North Carolina, dba: Charlotte Area Transit System","Charlotte","NC",4008,40008,"City, County or Local Government Unit or Department of Transportation","Full Reporter",1249442,404,"Minivan",null,0,2,0,0,0,0,14,1,0,0,12,3,11,6,0,0,0,0,0,49,9.3061224489795897,150721.9388]
["City of Charlotte North Carolina, dba: Charlotte Area Transit System","Charlotte","NC",4008,40008,"City, County or Local Government Unit or Department of Transportation","Full Reporter",1249442,404,"Light Rail Vehicle",null,0,0,0,0,22,0,0,0,0,3,0,15,0,0,0,0,0,0,0,40,7,261323.75]
["City of Charlotte North Carolina, dba: Charlotte Area Transit System","Charlotte","NC",4008,40008,"City, County or Local Government Unit or Department of Transportation","Full Reporter",1249442,404,"Cutaway",null,0,19,0,20,0,0,10,15,0,3,14,0,0,0,0,0,0,0,0,81,5.07407407407407,164333.95060000001]
["City of Charlotte North Carolina, dba: Charlotte Area Transit System","Charlotte","NC",4008,40008,"City, County or Local Government Unit or Department of Transportation","Full Reporter",1249442,404,"Bus",null,28,48,0,20,14,20,78,58,0,64,14,48,0,156,36,0,0,0,0,584,8.9691780821917799,357484.34250000003]
["City of Charlotte North Carolina, dba: Charlotte Area Transit System","Charlotte","NC",4008,40008,"City, County or Local Government Unit or Department of Transportation","Full Reporter",1249442,404,"Automobiles (Service)",null,0,0,0,0,0,0,1,1,0,0,1,0,1,13,6,0,0,0,0,23]
["San Mateo County Transit District","San Carlos","CA",9009,90009,"Independent Public Agency or Authority of Transit Service","Full Reporter",3281212,399,"Van",null,0,10,0,0,14,0,0,0,0,0,0,0,0,0,0,0,0,0,0,24,2.75,80334.5]
["San Mateo County Transit District","San Carlos","CA",9009,90009,"Independent Public Agency or Authority of Transit Service","Full Reporter",3281212,399,"Trucks and other Rubber Tire Vehicles (Service)",null,0,5,1,0,3,2,5,0,3,1,2,0,0,0,0,0,0,0,0,22]
["San Mateo County Transit District","San Carlos","CA",9009,90009,"Independent Public Agency or Authority of Transit Service","Full Reporter",3281212,399,"Cutaway",null,0,9,0,21,0,16,2,0,0,6,0,0,0,1,0,0,0,0,0,55,4.2363636363636301,115015.7818]
["San Mateo County Transit District","San Carlos","CA",9009,90009,"Independent Public Agency or Authority of Transit Service","Full Reporter",3281212,399,"Bus",null,0,50,0,0,35,29,0,0,0,135,0,0,0,62,0,0,0,0,0,311,7.97427652733119,217723.9357]
["San Mateo County Transit District","San Carlos","CA",9009,90009,"Independent Public Agency or Authority of Transit Service","Full Reporter",3281212,399,"Automobiles (Service)",null,0,0,14,0,0,0,4,0,12,21,0,0,0,0,0,0,0,0,0,51]
["San Mateo County Transit District","San Carlos","CA",9009,90009,"Independent Public Agency or Authority of Transit Service","Full Reporter",3281212,399,"Automobile",null,0,0,0,0,12,0,0,0,0,0,0,0,0,0,0,0,0,0,0,12,4,85235]
["San Mateo County Transit District","San Carlos","CA",9009,90009,"Independent Public Agency or Authority of Transit Service","Full Reporter",3281212,399,"Articulated Bus",null,0,0,0,0,0,0,0,0,0,0,0,0,0,0,55,0,0,0,0,55,16,401209.83639999997]
["Transportation District Commission of Hampton Roads, dba: Hampton Roads Transit","Hampton","VA",3083,30083,"Independent Public Agency or Authority of Transit Service","Full Reporter",1439666,397,"Van",null,8,6,3,7,0,0,3,0,0,0,0,0,0,0,0,0,0,0,0,27,1.88888888888888,39371.963000000003]
["Transportation District Commission of Hampton Roads, dba: Hampton Roads Transit","Hampton","VA",3083,30083,"Independent Public Agency or Authority of Transit Service","Full Reporter",1439666,397,"Trucks and other Rubber Tire Vehicles (Service)",null,0,0,1,1,0,1,4,10,8,2,0,1,0,1,3,1,0,0,0,33]
["Transportation District Commission of Hampton Roads, dba: Hampton Roads Transit","Hampton","VA",3083,30083,"Independent Public Agency or Authority of Transit Service","Full Reporter",1439666,397,"Sports Utility Vehicle",null,3,5,0,0,0,0,0,0,0,0,0,0,0,0,0,0,0,0,0,8,0.625,20929.25]
["Transportation District Commission of Hampton Roads, dba: Hampton Roads Transit","Hampton","VA",3083,30083,"Independent Public Agency or Authority of Transit Service","Full Reporter",1439666,397,"Minivan",null,10,2,0,0,0,0,0,0,0,0,0,0,0,0,0,0,0,0,0,12,0.16666666666666599,13273.6667]
["Transportation District Commission of Hampton Roads, dba: Hampton Roads Transit","Hampton","VA",3083,30083,"Independent Public Agency or Authority of Transit Service","Full Reporter",1439666,397,"Light Rail Vehicle",null,0,0,0,0,0,0,0,0,0,9,0,0,0,0,0,0,0,0,0,9,9,307264]
["Transportation District Commission of Hampton Roads, dba: Hampton Roads Transit","Hampton","VA",3083,30083,"Independent Public Agency or Authority of Transit Service","Full Reporter",1439666,397,"Ferryboat",null,0,2,0,0,0,0,0,0,0,0,0,0,0,0,0,0,1,1,0,4,15.5,54795.25]
["Transportation District Commission of Hampton Roads, dba: Hampton Roads Transit","Hampton","VA",3083,30083,"Independent Public Agency or Authority of Transit Service","Full Reporter",1439666,397,"Cutaway",null,0,0,0,76,0,0,0,0,0,0,0,0,0,0,0,0,0,0,0,76,3,159701]
["Transportation District Commission of Hampton Roads, dba: Hampton Roads Transit","Hampton","VA",3083,30083,"Independent Public Agency or Authority of Transit Service","Full Reporter",1439666,397,"Bus",null,0,1,0,55,0,5,9,16,0,2,22,54,21,19,60,0,0,0,0,264,10.276515151515101,436289.44319999998]
["Transportation District Commission of Hampton Roads, dba: Hampton Roads Transit","Hampton","VA",3083,30083,"Independent Public Agency or Authority of Transit Service","Full Reporter",1439666,397,"Automobiles (Service)",null,0,0,1,0,1,2,8,1,6,19,14,2,10,0,0,0,0,0,0,64]
["Transportation District Commission of Hampton Roads, dba: Hampton Roads Transit","Hampton","VA",3083,30083,"Independent Public Agency or Authority of Transit Service","Full Reporter",1439666,397,"Automobile",null,0,0,0,29,1,0,0,0,0,0,0,0,0,0,0,0,0,0,0,30,3.0333333333333301,92843.466700000004]
["Central Puget Sound Regional Transit Authority, dba: Sound Transit","Seattle","WA",40,40,"Independent Public Agency or Authority of Transit Service","Full Reporter",3059393,384,"Trucks and other Rubber Tire Vehicles (Service)",null,1,14,14,18,20,5,4,2,5,1,1,11,11,10,7,0,0,0,0,124]
["Central Puget Sound Regional Transit Authority, dba: Sound Transit","Seattle","WA",40,40,"Independent Public Agency or Authority of Transit Service","Full Reporter",3059393,384,"Steel Wheel Vehicles (Service)",null,0,0,0,0,0,0,0,0,0,0,0,0,0,0,2,0,0,0,0,2]
["Central Puget Sound Regional Transit Authority, dba: Sound Transit","Seattle","WA",40,40,"Independent Public Agency or Authority of Transit Service","Full Reporter",3059393,384,"Over-the-road Bus",null,0,12,0,0,0,0,0,0,16,3,7,0,0,12,0,0,0,0,0,50,7.86,735181.02]
["Central Puget Sound Regional Transit Authority, dba: Sound Transit","Seattle","WA",40,40,"Independent Public Agency or Authority of Transit Service","Full Reporter",3059393,384,"Light Rail Vehicle",null,0,0,0,0,0,0,0,0,27,0,0,0,35,0,3,0,0,0,0,65,10.5230769230769,534703.53850000002]
["Central Puget Sound Regional Transit Authority, dba: Sound Transit","Seattle","WA",40,40,"Independent Public Agency or Authority of Transit Service","Full Reporter",3059393,384,"Double Decker Bus",null,0,32,0,5,0,0,0,0,0,0,0,0,0,0,0,0,0,0,0,37,1.27027027027027,66766.810800000007]
["Central Puget Sound Regional Transit Authority, dba: Sound Transit","Seattle","WA",40,40,"Independent Public Agency or Authority of Transit Service","Full Reporter",3059393,384,"Commuter Rail Passenger Coach",null,2,7,0,0,0,0,0,0,0,0,0,0,0,7,51,0,0,0,0,67,15,319659.68660000002]
["Central Puget Sound Regional Transit Authority, dba: Sound Transit","Seattle","WA",40,40,"Independent Public Agency or Authority of Transit Service","Full Reporter",3059393,384,"Commuter Rail Locomotive",null,0,0,0,0,0,3,0,0,0,0,0,0,0,0,11,0,0,0,0,14,15.1428571428571,270887.57140000002]
["Central Puget Sound Regional Transit Authority, dba: Sound Transit","Seattle","WA",40,40,"Independent Public Agency or Authority of Transit Service","Full Reporter",3059393,384,"Bus",null,0,0,5,20,0,0,24,0,0,0,30,0,0,3,11,0,0,0,0,93,7.9784946236559096,447631.69890000002]
["Central Puget Sound Regional Transit Authority, dba: Sound Transit","Seattle","WA",40,40,"Independent Public Agency or Authority of Transit Service","Full Reporter",3059393,384,"Automobiles (Service)",null,0,8,3,2,8,2,4,6,2,8,0,1,0,0,0,0,0,0,0,44]
["Central Puget Sound Regional Transit Authority, dba: Sound Transit","Seattle","WA",40,40,"Independent Public Agency or Authority of Transit Service","Full Reporter",3059393,384,"Articulated Bus",null,0,0,0,0,22,0,19,34,37,0,2,0,0,37,1,0,0,0,0,152,8.5,415198.72369999997]
["City of Los Angeles, dba: City of Los Angeles Department of Transportation","Los Angeles","CA",9147,90147,"City, County or Local Government Unit or Department of Transportation","Full Reporter",12150996,359,"Van",null,0,0,3,2,6,0,5,7,8,11,9,0,3,7,0,0,0,0,0,61,8.2131147540983598,70976.278699999995]
["City of Los Angeles, dba: City of Los Angeles Department of Transportation","Los Angeles","CA",9147,90147,"City, County or Local Government Unit or Department of Transportation","Full Reporter",12150996,359,"Trucks and other Rubber Tire Vehicles (Service)",null,0,0,2,0,0,0,0,0,0,0,0,0,2,0,0,0,0,0,0,4]
["City of Los Angeles, dba: City of Los Angeles Department of Transportation","Los Angeles","CA",9147,90147,"City, County or Local Government Unit or Department of Transportation","Full Reporter",12150996,359,"Over-the-road Bus",null,0,6,9,0,0,0,93,2,0,0,0,0,0,0,0,0,0,0,0,110,5.41818181818181,204347.2727]
["City of Los Angeles, dba: City of Los Angeles Department of Transportation","Los Angeles","CA",9147,90147,"City, County or Local Government Unit or Department of Transportation","Full Reporter",12150996,359,"Cutaway",null,2,0,0,0,0,0,0,30,0,14,0,0,0,0,0,0,0,0,0,46,7.3043478260869499,157975.84779999999]
["City of Los Angeles, dba: City of Los Angeles Department of Transportation","Los Angeles","CA",9147,90147,"City, County or Local Government Unit or Department of Transportation","Full Reporter",12150996,359,"Bus",null,0,14,20,54,0,31,36,0,0,24,0,5,19,1,0,0,0,0,0,204,5.3970588235294104,168756.6471]
["Niagara Frontier Transportation Authority","Buffalo","NY",2004,20004,"Independent Public Agency or Authority of Transit Service","Full Reporter",935906,358,"Trucks and other Rubber Tire Vehicles (Service)",null,5,7,10,7,8,7,0,4,7,8,6,2,3,9,13,5,3,0,0,104]
["Niagara Frontier Transportation Authority","Buffalo","NY",2004,20004,"Independent Public Agency or Authority of Transit Service","Full Reporter",935906,358,"Light Rail Vehicle",null,0,0,0,0,0,0,0,0,0,0,0,0,0,0,0,0,0,27,0,27,34,1398973.5926000001]
["Niagara Frontier Transportation Authority","Buffalo","NY",2004,20004,"Independent Public Agency or Authority of Transit Service","Full Reporter",935906,358,"Cutaway",null,0,10,0,0,0,24,16,10,5,0,15,0,0,0,0,0,0,0,0,80,6.0750000000000002,198970.97500000001]
["Niagara Frontier Transportation Authority","Buffalo","NY",2004,20004,"Independent Public Agency or Authority of Transit Service","Full Reporter",935906,358,"Bus",null,0,0,24,44,0,4,14,30,67,0,0,13,30,36,81,0,0,0,0,343,9.8688046647230294,344741.25660000002]
["Niagara Frontier Transportation Authority","Buffalo","NY",2004,20004,"Independent Public Agency or Authority of Transit Service","Full Reporter",935906,358,"Automobiles (Service)",null,0,0,0,0,1,1,0,1,1,0,0,0,0,0,0,0,0,1,0,5]
["Southwest Ohio Regional Transit Authority, dba: Metro / Access","Cincinnati","OH",5012,50012,"Independent Public Agency or Authority of Transit Service","Full Reporter",1624827,348,"Van",null,0,0,0,0,0,0,4,0,0,0,0,0,0,0,0,0,0,0,0,4,6,108114]
["Southwest Ohio Regional Transit Authority, dba: Metro / Access","Cincinnati","OH",5012,50012,"Independent Public Agency or Authority of Transit Service","Full Reporter",1624827,348,"Trucks and other Rubber Tire Vehicles (Service)",null,0,0,1,0,0,0,7,0,0,1,0,0,0,7,3,2,0,0,0,21]
["Southwest Ohio Regional Transit Authority, dba: Metro / Access","Cincinnati","OH",5012,50012,"Independent Public Agency or Authority of Transit Service","Full Reporter",1624827,348,"Streetcar Rail",null,0,0,0,5,0,0,0,0,0,0,0,0,0,0,0,0,0,0,0,5,3,48456]
["Southwest Ohio Regional Transit Authority, dba: Metro / Access","Cincinnati","OH",5012,50012,"Independent Public Agency or Authority of Transit Service","Full Reporter",1624827,348,"Cutaway",null,0,0,2,19,0,20,0,0,1,3,0,0,0,0,0,0,0,0,0,45,4.3555555555555499,182590.4]
["Southwest Ohio Regional Transit Authority, dba: Metro / Access","Cincinnati","OH",5012,50012,"Independent Public Agency or Authority of Transit Service","Full Reporter",1624827,348,"Bus",null,5,0,22,37,0,33,44,18,7,62,31,0,38,23,35,0,0,0,0,355,8.3887323943661904,311695.4423]
["Southwest Ohio Regional Transit Authority, dba: Metro / Access","Cincinnati","OH",5012,50012,"Independent Public Agency or Authority of Transit Service","Full Reporter",1624827,348,"Automobiles (Service)",null,0,0,0,0,1,3,5,0,3,10,1,4,6,4,2,0,0,0,0,39]
["Southwest Ohio Regional Transit Authority, dba: Metro / Access","Cincinnati","OH",5012,50012,"Independent Public Agency or Authority of Transit Service","Full Reporter",1624827,348,"Articulated Bus",null,0,0,0,0,0,0,0,0,0,5,0,0,0,0,0,0,0,0,0,5,9,338954]
["Pinellas Suncoast Transit Authority","St. Petersburg","FL",4027,40027,"Independent Public Agency or Authority of Transit Service","Full Reporter",2441770,345,"Trucks and other Rubber Tire Vehicles (Service)",null,0,0,3,0,0,5,2,1,0,1,1,0,1,1,1,0,0,0,0,16]
["Pinellas Suncoast Transit Authority","St. Petersburg","FL",4027,40027,"Independent Public Agency or Authority of Transit Service","Full Reporter",2441770,345,"Bus",null,2,5,7,15,12,10,9,2,15,12,28,22,46,20,19,1,0,0,0,225,9.4844444444444402,488449.13329999999]
["Pinellas Suncoast Transit Authority","St. Petersburg","FL",4027,40027,"Independent Public Agency or Authority of Transit Service","Full Reporter",2441770,345,"Automobiles (Service)",null,0,0,0,0,12,0,8,0,6,0,0,0,5,0,0,0,0,0,0,31]
["Westchester County, dba: The Bee-Line System","White Plains","NY",2076,20076,"City, County or Local Government Unit or Department of Transportation","Full Reporter",18351295,343,"Van",null,0,0,0,0,0,0,7,0,0,0,0,0,0,0,0,0,0,0,0,7,6,217689]
["Westchester County, dba: The Bee-Line System","White Plains","NY",2076,20076,"City, County or Local Government Unit or Department of Transportation","Full Reporter",18351295,343,"Trucks and other Rubber Tire Vehicles (Service)",null,1,7,1,1,9,3,0,3,0,3,0,1,0,1,0,0,0,0,0,30]
["Westchester County, dba: The Bee-Line System","White Plains","NY",2076,20076,"City, County or Local Government Unit or Department of Transportation","Full Reporter",18351295,343,"Minivan",null,0,0,6,0,0,0,0,0,0,0,0,0,0,0,0,0,0,0,0,6,2,113461]
["Westchester County, dba: The Bee-Line System","White Plains","NY",2076,20076,"City, County or Local Government Unit or Department of Transportation","Full Reporter",18351295,343,"Cutaway",null,30,15,8,0,0,0,0,0,0,1,0,0,0,0,0,0,0,0,0,54,0.74074074074074003,61601.5]
["Westchester County, dba: The Bee-Line System","White Plains","NY",2076,20076,"City, County or Local Government Unit or Department of Transportation","Full Reporter",18351295,343,"Bus",null,0,0,0,0,0,0,0,0,0,95,27,0,108,17,0,0,0,0,0,247,10.6963562753036,312946.02020000003]
["Westchester County, dba: The Bee-Line System","White Plains","NY",2076,20076,"City, County or Local Government Unit or Department of Transportation","Full Reporter",18351295,343,"Automobile",null,10,20,5,0,0,0,0,0,0,0,0,0,0,0,0,0,0,0,0,35,0.85714285714285698,65626.428599999999]
["Westchester County, dba: The Bee-Line System","White Plains","NY",2076,20076,"City, County or Local Government Unit or Department of Transportation","Full Reporter",18351295,343,"Articulated Bus",null,24,0,0,0,0,0,0,0,0,0,0,0,0,9,45,0,0,0,0,78,10.9615384615384,395043.5]
["City of Tucson","Tucson   ","AZ",9033,90033,"City, County or Local Government Unit or Department of Transportation","Full Reporter",843168,336,"Trucks and other Rubber Tire Vehicles (Service)",null,0,0,0,6,8,13,2,0,0,1,2,0,1,1,0,0,0,0,0,34]
["City of Tucson","Tucson   ","AZ",9033,90033,"City, County or Local Government Unit or Department of Transportation","Full Reporter",843168,336,"Streetcar Rail",null,0,0,0,0,0,8,0,0,0,0,0,0,0,0,0,0,0,0,0,8,5,101635]
["City of Tucson","Tucson   ","AZ",9033,90033,"City, County or Local Government Unit or Department of Transportation","Full Reporter",843168,336,"Minivan",null,0,0,0,0,10,0,0,0,0,0,0,0,0,0,0,0,0,0,0,10,4,104369]
["City of Tucson","Tucson   ","AZ",9033,90033,"City, County or Local Government Unit or Department of Transportation","Full Reporter",843168,336,"Cutaway",null,0,19,28,37,22,2,0,9,0,2,0,0,0,0,0,0,0,0,0,119,3.0672268907563001,111135.46219999999]
["City of Tucson","Tucson   ","AZ",9033,90033,"City, County or Local Government Unit or Department of Transportation","Full Reporter",843168,336,"Bus",null,0,0,0,21,24,0,47,20,0,25,65,12,0,32,0,0,0,0,0,246,8.1463414634146307,311419.54070000001]
["City of Tucson","Tucson   ","AZ",9033,90033,"City, County or Local Government Unit or Department of Transportation","Full Reporter",843168,336,"Automobiles (Service)",null,0,0,6,2,0,0,3,0,0,3,0,0,0,0,0,0,0,0,0,14]
["City of Tucson","Tucson   ","AZ",9033,90033,"City, County or Local Government Unit or Department of Transportation","Full Reporter",843168,336,"Automobile",null,0,0,0,0,10,0,0,0,0,0,0,0,0,0,0,0,0,0,0,10,4,115112]
["Greater Richmond Transit Company","Richmond","VA",3006,30006,"Other Publicly-Owned or Privately Chartered Corporation","Full Reporter",953556,330,"Van",null,17,14,9,23,9,3,3,5,3,0,0,3,0,0,0,0,0,0,0,89,2.9438202247190999,194719.3034]
["Greater Richmond Transit Company","Richmond","VA",3006,30006,"Other Publicly-Owned or Privately Chartered Corporation","Full Reporter",953556,330,"Trucks and other Rubber Tire Vehicles (Service)",null,5,6,0,0,0,0,0,2,7,0,0,1,4,6,0,2,1,0,0,34]
["Greater Richmond Transit Company","Richmond","VA",3006,30006,"Other Publicly-Owned or Privately Chartered Corporation","Full Reporter",953556,330,"Sports Utility Vehicle",null,7,0,1,0,0,0,0,0,0,0,0,0,0,0,0,0,0,0,0,8,0.25,21510.625]
["Greater Richmond Transit Company","Richmond","VA",3006,30006,"Other Publicly-Owned or Privately Chartered Corporation","Full Reporter",953556,330,"Over-the-road Bus",null,0,0,0,0,0,0,0,0,5,0,3,0,0,0,0,0,0,0,0,8,8.75,262667.625]
["Greater Richmond Transit Company","Richmond","VA",3006,30006,"Other Publicly-Owned or Privately Chartered Corporation","Full Reporter",953556,330,"Minivan",null,16,29,8,4,6,5,0,0,0,0,0,0,0,0,0,0,0,0,0,68,1.5588235294117601,43013.7353]
["Greater Richmond Transit Company","Richmond","VA",3006,30006,"Other Publicly-Owned or Privately Chartered Corporation","Full Reporter",953556,330,"Cutaway",null,10,13,12,0,0,15,20,0,0,31,0,0,0,0,0,0,0,0,0,101,5.0594059405940497,178570.09899999999]
["Greater Richmond Transit Company","Richmond","VA",3006,30006,"Other Publicly-Owned or Privately Chartered Corporation","Full Reporter",953556,330,"Bus",null,26,28,0,0,34,8,14,0,13,0,18,0,0,16,0,0,0,0,0,157,5.1719745222929898,190197.1274]
["Greater Richmond Transit Company","Richmond","VA",3006,30006,"Other Publicly-Owned or Privately Chartered Corporation","Full Reporter",953556,330,"Automobiles (Service)",null,0,2,0,1,0,0,0,0,1,0,0,0,2,0,0,0,0,0,0,6]
["Greater Richmond Transit Company","Richmond","VA",3006,30006,"Other Publicly-Owned or Privately Chartered Corporation","Full Reporter",953556,330,"Automobile",null,8,0,0,0,0,0,0,0,0,0,0,0,0,0,0,0,0,0,0,8,0,3979]
["Transit Authority of River City","Louisville","KY",4018,40018,"Independent Public Agency or Authority of Transit Service","Full Reporter",972546,328,"Van",null,0,0,0,0,0,0,30,0,0,0,0,0,0,0,0,0,0,0,0,30,6,222053]
["Transit Authority of River City","Louisville","KY",4018,40018,"Independent Public Agency or Authority of Transit Service","Full Reporter",972546,328,"Trucks and other Rubber Tire Vehicles (Service)",null,0,0,0,1,0,0,0,1,0,0,0,0,0,3,3,2,0,1,0,11]
["Transit Authority of River City","Louisville","KY",4018,40018,"Independent Public Agency or Authority of Transit Service","Full Reporter",972546,328,"Cutaway",null,10,6,0,0,23,0,0,32,2,0,0,0,0,0,0,0,0,0,0,73,4.6301369863013697,208985.5068]
["Transit Authority of River City","Louisville","KY",4018,40018,"Independent Public Agency or Authority of Transit Service","Full Reporter",972546,328,"Bus",null,0,2,32,0,21,48,0,0,9,20,9,4,1,39,36,0,0,0,0,221,8.8144796380090504,356252.43890000001]
["Transit Authority of River City","Louisville","KY",4018,40018,"Independent Public Agency or Authority of Transit Service","Full Reporter",972546,328,"Automobiles (Service)",null,0,0,5,1,6,2,5,2,0,0,4,1,1,4,6,1,0,0,0,38]
["Central Ohio Transit Authority","Columbus","OH",5016,50016,"Independent Public Agency or Authority of Transit Service","Full Reporter",1368035,328,"Van",null,20,0,0,0,12,0,0,0,0,0,0,0,0,0,0,0,0,0,0,32,1.5,69294.75]
["Central Ohio Transit Authority","Columbus","OH",5016,50016,"Independent Public Agency or Authority of Transit Service","Full Reporter",1368035,328,"Trucks and other Rubber Tire Vehicles (Service)",null,10,0,1,3,3,1,11,3,0,2,2,0,0,0,0,1,0,0,0,37]
["Central Ohio Transit Authority","Columbus","OH",5016,50016,"Independent Public Agency or Authority of Transit Service","Full Reporter",1368035,328,"Cutaway",null,0,0,20,0,12,0,0,0,0,0,0,0,0,0,0,0,0,0,0,32,2.75,209852.375]
["Central Ohio Transit Authority","Columbus","OH",5016,50016,"Independent Public Agency or Authority of Transit Service","Full Reporter",1368035,328,"Bus",null,1,26,20,38,35,37,31,44,46,39,24,0,0,0,0,0,0,0,0,341,5.74193548387096,286641.50150000001]
["Central Ohio Transit Authority","Columbus","OH",5016,50016,"Independent Public Agency or Authority of Transit Service","Full Reporter",1368035,328,"Automobiles (Service)",null,5,0,10,6,0,0,4,1,1,7,0,0,0,0,0,0,0,0,0,34]
["County of Nassau, dba: Nassau Inter County Express","Garden City","NY",2206,20206,"City, County or Local Government Unit or Department of Transportation","Full Reporter",18351295,323,"Van",null,0,0,34,0,0,27,0,0,0,0,0,0,0,0,0,0,0,0,0,61,3.3278688524590101,103732.08199999999]
["County of Nassau, dba: Nassau Inter County Express","Garden City","NY",2206,20206,"City, County or Local Government Unit or Department of Transportation","Full Reporter",18351295,323,"Trucks and other Rubber Tire Vehicles (Service)",null,0,5,1,0,0,2,0,0,0,1,3,0,0,1,2,0,0,0,0,15]
["County of Nassau, dba: Nassau Inter County Express","Garden City","NY",2206,20206,"City, County or Local Government Unit or Department of Transportation","Full Reporter",18351295,323,"Cutaway",null,0,15,0,0,0,0,0,0,10,1,6,0,0,0,0,0,0,0,0,32,5.125,179539.9688]
["County of Nassau, dba: Nassau Inter County Express","Garden City","NY",2206,20206,"City, County or Local Government Unit or Department of Transportation","Full Reporter",18351295,323,"Bus",null,0,0,36,52,0,0,45,0,39,99,1,0,0,0,0,0,0,0,0,272,6.2904411764705799,277268.8493]
["County of Nassau, dba: Nassau Inter County Express","Garden City","NY",2206,20206,"City, County or Local Government Unit or Department of Transportation","Full Reporter",18351295,323,"Automobiles (Service)",null,0,11,0,0,0,23,0,0,0,1,0,3,3,0,0,0,0,0,0,41]
["County of Nassau, dba: Nassau Inter County Express","Garden City","NY",2206,20206,"City, County or Local Government Unit or Department of Transportation","Full Reporter",18351295,323,"Automobile",null,0,5,0,0,0,0,0,0,0,0,0,0,0,0,0,0,0,0,0,5,1,45659]
["County of Nassau, dba: Nassau Inter County Express","Garden City","NY",2206,20206,"City, County or Local Government Unit or Department of Transportation","Full Reporter",18351295,323,"Articulated Bus",null,0,0,5,0,0,0,0,0,0,0,0,0,0,0,0,0,0,0,0,5,2,37282]
["Suburban Mobility Authority for Regional Transportation","Detroit","MI",5031,50031,"Independent Public Agency or Authority of Transit Service","Full Reporter",3734090,322,"Van",null,0,0,1,0,0,0,0,0,0,0,0,0,0,0,0,0,0,0,0,1,2,4611]
["Suburban Mobility Authority for Regional Transportation","Detroit","MI",5031,50031,"Independent Public Agency or Authority of Transit Service","Full Reporter",3734090,322,"Trucks and other Rubber Tire Vehicles (Service)",null,0,0,2,1,2,1,1,2,1,1,0,1,1,4,5,0,0,0,0,22]
["Suburban Mobility Authority for Regional Transportation","Detroit","MI",5031,50031,"Independent Public Agency or Authority of Transit Service","Full Reporter",3734090,322,"Cutaway",null,0,8,14,69,1,0,47,1,0,0,0,0,0,0,0,0,0,0,0,140,3.8285714285714199,121684.2714]
["Suburban Mobility Authority for Regional Transportation","Detroit","MI",5031,50031,"Independent Public Agency or Authority of Transit Service","Full Reporter",3734090,322,"Bus",null,0,80,59,0,12,3,0,3,0,0,0,0,0,81,0,0,0,0,0,238,6.2058823529411704,261753.62179999999]
["Suburban Mobility Authority for Regional Transportation","Detroit","MI",5031,50031,"Independent Public Agency or Authority of Transit Service","Full Reporter",3734090,322,"Automobiles (Service)",null,0,0,0,0,0,0,1,0,0,0,0,0,0,1,0,0,0,0,0,2]
["Suburban Mobility Authority for Regional Transportation","Detroit","MI",5031,50031,"Independent Public Agency or Authority of Transit Service","Full Reporter",3734090,322,"Articulated Bus",null,0,0,0,0,0,0,0,0,2,0,0,0,0,0,0,0,0,0,0,2,8,155361]
["Kansas City Area Transportation Authority","Kansas City","MO",7005,70005,"Independent Public Agency or Authority of Transit Service","Full Reporter",1519417,311,"Van",null,2,15,0,2,0,2,0,0,0,0,0,0,0,0,0,0,0,0,0,21,1.4761904761904701,39703.904799999997]
["Kansas City Area Transportation Authority","Kansas City","MO",7005,70005,"Independent Public Agency or Authority of Transit Service","Full Reporter",1519417,311,"Trucks and other Rubber Tire Vehicles (Service)",null,0,0,10,1,0,3,1,2,0,0,2,2,2,2,2,1,0,0,0,28]
["Kansas City Area Transportation Authority","Kansas City","MO",7005,70005,"Independent Public Agency or Authority of Transit Service","Full Reporter",1519417,311,"Sports Utility Vehicle",null,6,3,0,0,0,0,0,0,0,0,0,0,0,0,0,0,0,0,0,9,0.33333333333333298,17915.4444]
["Kansas City Area Transportation Authority","Kansas City","MO",7005,70005,"Independent Public Agency or Authority of Transit Service","Full Reporter",1519417,311,"Minivan",null,7,26,0,0,1,3,0,0,0,0,0,0,0,0,0,0,0,0,0,37,1.21621621621621,31221.837800000001]
["Kansas City Area Transportation Authority","Kansas City","MO",7005,70005,"Independent Public Agency or Authority of Transit Service","Full Reporter",1519417,311,"Cutaway",null,0,2,2,2,33,0,0,0,14,0,0,0,0,0,0,0,0,0,0,53,4.8301886792452802,213243.94339999999]
["Kansas City Area Transportation Authority","Kansas City","MO",7005,70005,"Independent Public Agency or Authority of Transit Service","Full Reporter",1519417,311,"Bus",null,38,20,4,15,23,2,12,29,20,0,16,12,9,11,0,0,0,0,0,211,5.4644549763033101,243256.4455]
["Kansas City Area Transportation Authority","Kansas City","MO",7005,70005,"Independent Public Agency or Authority of Transit Service","Full Reporter",1519417,311,"Automobiles (Service)",null,5,4,2,5,3,8,3,3,0,7,3,1,6,0,0,0,0,0,0,50]
["Kansas City Area Transportation Authority","Kansas City","MO",7005,70005,"Independent Public Agency or Authority of Transit Service","Full Reporter",1519417,311,"Automobile",null,0,0,0,0,1,1,0,0,0,0,2,0,0,0,0,0,0,0,0,4,7.25,226846.5]
["City of Detroit , dba: Detroit Department of Transportation","Detroit","MI",5119,50119,"City, County or Local Government Unit or Department of Transportation","Full Reporter",3734090,309,"Trucks and other Rubber Tire Vehicles (Service)",null,9,0,0,0,13,14,0,0,0,0,0,0,0,0,0,0,0,0,0,36]
["City of Detroit , dba: Detroit Department of Transportation","Detroit","MI",5119,50119,"City, County or Local Government Unit or Department of Transportation","Full Reporter",3734090,309,"Bus",null,0,29,0,39,31,0,44,0,47,0,0,0,0,112,0,0,0,0,0,302,7.9006622516556204,365269.4437]
["City of Detroit , dba: Detroit Department of Transportation","Detroit","MI",5119,50119,"City, County or Local Government Unit or Department of Transportation","Full Reporter",3734090,309,"Articulated Bus",null,0,0,0,10,0,0,0,0,0,0,0,0,0,0,0,0,0,0,0,10,3,93434]
["Montgomery County, Maryland, dba: Ride On, Montgomery County Transit","Rockville","MD",3051,30051,"City, County or Local Government Unit or Department of Transportation","Full Reporter",4586770,307,"Trucks and other Rubber Tire Vehicles (Service)",null,2,5,8,3,5,1,0,0,1,5,2,1,2,10,2,0,0,0,0,47]
["Montgomery County, Maryland, dba: Ride On, Montgomery County Transit","Rockville","MD",3051,30051,"City, County or Local Government Unit or Department of Transportation","Full Reporter",4586770,307,"Bus",null,4,59,57,0,62,28,7,13,0,70,24,7,4,34,0,0,0,0,0,369,5.7750677506774997,267185.81300000002]
["Spokane Transit Authority","Spokane","WA",2,2,"Independent Public Agency or Authority of Transit Service","Full Reporter",387847,306,"Van",null,8,12,0,0,29,11,8,9,10,17,11,12,16,0,0,0,0,0,0,143,6.72027972027972,49735.104899999998]
["Spokane Transit Authority","Spokane","WA",2,2,"Independent Public Agency or Authority of Transit Service","Full Reporter",387847,306,"Trucks and other Rubber Tire Vehicles (Service)",null,8,2,3,0,2,2,2,3,4,3,3,1,1,3,1,0,1,0,0,39]
["Spokane Transit Authority","Spokane","WA",2,2,"Independent Public Agency or Authority of Transit Service","Full Reporter",387847,306,"Cutaway",null,0,12,7,10,0,10,53,15,0,0,1,0,0,0,0,0,0,0,0,108,4.9907407407407396,105190.5833]
["Spokane Transit Authority","Spokane","WA",2,2,"Independent Public Agency or Authority of Transit Service","Full Reporter",387847,306,"Bus",null,6,0,7,0,8,0,6,0,10,12,20,20,19,14,0,0,0,0,0,122,9.0819672131147495,440918.90159999998]
["Spokane Transit Authority","Spokane","WA",2,2,"Independent Public Agency or Authority of Transit Service","Full Reporter",387847,306,"Automobiles (Service)",null,0,1,1,1,0,0,0,0,0,0,1,2,0,0,0,0,0,0,0,6]
["Spokane Transit Authority","Spokane","WA",2,2,"Independent Public Agency or Authority of Transit Service","Full Reporter",387847,306,"Articulated Bus",null,7,3,0,0,0,0,0,0,0,4,0,0,6,0,0,0,0,0,0,20,5.55,232297.05]
["Port Authority Trans-Hudson Corporation","Jersey City","NJ",2098,20098,"Independent Public Agency or Authority of Transit Service","Full Reporter",18351295,304,"Trucks and other Rubber Tire Vehicles (Service)",null,7,10,2,7,2,1,2,5,0,0,0,6,2,3,0,0,0,0,0,47]
["Port Authority Trans-Hudson Corporation","Jersey City","NJ",2098,20098,"Independent Public Agency or Authority of Transit Service","Full Reporter",18351295,304,"Steel Wheel Vehicles (Service)",null,0,0,6,6,0,0,0,20,8,0,0,0,0,14,2,1,0,54,0,111]
["Port Authority Trans-Hudson Corporation","Jersey City","NJ",2098,20098,"Independent Public Agency or Authority of Transit Service","Full Reporter",18351295,304,"Heavy Rail Passenger Car",null,0,0,0,0,0,0,10,118,153,69,0,0,0,0,0,0,0,0,0,350,7.8028571428571398,313359.1029]
["Port Authority Trans-Hudson Corporation","Jersey City","NJ",2098,20098,"Independent Public Agency or Authority of Transit Service","Full Reporter",18351295,304,"Ferryboat",null,0,0,0,0,0,0,0,0,0,0,0,0,0,0,3,3,0,0,0,6,20.8333333333333,670519.16669999994]
["Cape Cod Regional Transit Authority","Hyannis","MA",1105,10105,"Independent Public Agency or Authority of Transit Service","Full Reporter",246695,303,"Trucks and other Rubber Tire Vehicles (Service)",null,0,1,1,1,0,0,1,1,1,0,1,0,2,1,0,0,0,0,0,10]
["Cape Cod Regional Transit Authority","Hyannis","MA",1105,10105,"Independent Public Agency or Authority of Transit Service","Full Reporter",246695,303,"Minivan",null,2,0,0,0,7,0,0,0,0,0,0,0,0,0,0,0,0,0,0,9,3.1111111111111098,78630.555600000007]
["Cape Cod Regional Transit Authority","Hyannis","MA",1105,10105,"Independent Public Agency or Authority of Transit Service","Full Reporter",246695,303,"Cutaway",null,22,1,35,0,12,4,0,7,7,6,2,0,0,0,0,0,0,0,0,96,3.3125,80047.770799999998]
["Cape Cod Regional Transit Authority","Hyannis","MA",1105,10105,"Independent Public Agency or Authority of Transit Service","Full Reporter",246695,303,"Bus",null,3,0,0,0,0,3,0,0,4,0,6,0,12,0,0,0,0,0,0,28,8.96428571428571,460852.78570000001]
["Victor Valley Transit Authority","Hesperia","CA",9148,90148,"Independent Public Agency or Authority of Transit Service","Full Reporter",328454,302,"Van",null,85,85,37,83,7,0,0,0,3,0,0,0,0,0,0,0,0,0,0,300,1.5333333333333301,25188.443299999999]
["Victor Valley Transit Authority","Hesperia","CA",9148,90148,"Independent Public Agency or Authority of Transit Service","Full Reporter",328454,302,"Trucks and other Rubber Tire Vehicles (Service)",null,4,0,1,0,1,0,3,1,2,0,0,3,0,2,0,0,0,0,0,17]
["Victor Valley Transit Authority","Hesperia","CA",9148,90148,"Independent Public Agency or Authority of Transit Service","Full Reporter",328454,302,"Over-the-road Bus",null,0,0,0,5,0,0,0,0,0,0,0,0,0,0,0,0,0,0,0,5,3,136798]
["Victor Valley Transit Authority","Hesperia","CA",9148,90148,"Independent Public Agency or Authority of Transit Service","Full Reporter",328454,302,"Cutaway",null,0,11,11,3,0,6,3,12,7,0,5,1,0,0,0,0,0,0,0,59,4.9322033898304998,190018.81359999999]
["Victor Valley Transit Authority","Hesperia","CA",9148,90148,"Independent Public Agency or Authority of Transit Service","Full Reporter",328454,302,"Bus",null,9,0,5,1,9,0,0,3,5,1,7,0,0,2,9,0,0,0,0,51,7.23529411764705,297081.7255]
["Victor Valley Transit Authority","Hesperia","CA",9148,90148,"Independent Public Agency or Authority of Transit Service","Full Reporter",328454,302,"Automobiles (Service)",null,0,2,4,0,1,3,0,4,0,0,0,0,0,0,0,0,0,0,0,14]
["Rhode Island Public Transit Authority","Providence","RI",1001,10001,"Independent Public Agency or Authority of Transit Service","Full Reporter",1190956,299,"Van",null,0,4,1,3,0,0,0,0,0,0,0,0,0,0,0,0,0,0,0,8,1.875,32204.25]
["Rhode Island Public Transit Authority","Providence","RI",1001,10001,"Independent Public Agency or Authority of Transit Service","Full Reporter",1190956,299,"Trucks and other Rubber Tire Vehicles (Service)",null,5,0,0,0,0,0,0,0,8,0,0,3,0,0,0,0,0,0,0,16]
["Rhode Island Public Transit Authority","Providence","RI",1001,10001,"Independent Public Agency or Authority of Transit Service","Full Reporter",1190956,299,"Cutaway",null,0,0,0,0,0,0,27,46,0,0,2,0,0,0,0,0,0,0,0,75,6.72,230608.53330000001]
["Rhode Island Public Transit Authority","Providence","RI",1001,10001,"Independent Public Agency or Authority of Transit Service","Full Reporter",1190956,299,"Bus",null,0,0,42,36,0,50,0,0,72,24,0,0,0,38,0,0,0,0,0,262,6.6145038167938903,310169.22519999999]
["Rhode Island Public Transit Authority","Providence","RI",1001,10001,"Independent Public Agency or Authority of Transit Service","Full Reporter",1190956,299,"Automobiles (Service)",null,0,0,4,0,5,0,0,6,0,0,0,0,0,9,0,0,0,0,0,24]
["Foothill Transit","West Covina","CA",9146,90146,"Independent Public Agency or Authority of Transit Service","Full Reporter",12150996,296,"Trucks and other Rubber Tire Vehicles (Service)",null,0,0,2,0,1,1,0,0,1,0,0,0,0,0,0,0,0,0,0,5]
["Foothill Transit","West Covina","CA",9146,90146,"Independent Public Agency or Authority of Transit Service","Full Reporter",12150996,296,"Bus",null,0,1,62,0,60,76,14,0,2,42,0,0,10,57,0,0,0,0,0,324,6.6080246913580201,307559.52470000001]
["Foothill Transit","West Covina","CA",9146,90146,"Independent Public Agency or Authority of Transit Service","Full Reporter",12150996,296,"Automobiles (Service)",null,0,4,0,1,2,0,15,0,0,0,0,0,0,0,0,0,0,0,0,22]
["Foothill Transit","West Covina","CA",9146,90146,"Independent Public Agency or Authority of Transit Service","Full Reporter",12150996,296,"Articulated Bus",null,0,0,0,0,0,0,0,0,0,0,0,0,30,0,0,0,0,0,0,30,12,671664]
["Riverside Transit Agency","Riverside","CA",9031,90031,"Independent Public Agency or Authority of Transit Service","Full Reporter",1932666,293,"Trucks and other Rubber Tire Vehicles (Service)",null,0,0,0,0,0,0,0,0,0,0,2,0,1,2,0,0,0,0,0,5]
["Riverside Transit Agency","Riverside","CA",9031,90031,"Independent Public Agency or Authority of Transit Service","Full Reporter",1932666,293,"Cutaway",null,0,29,46,0,0,43,10,0,0,2,0,0,0,0,0,0,0,0,0,130,3.18461538461538,163435.96919999999]
["Riverside Transit Agency","Riverside","CA",9031,90031,"Independent Public Agency or Authority of Transit Service","Full Reporter",1932666,293,"Bus",null,0,0,62,1,11,97,0,12,0,0,0,0,0,0,0,0,0,0,0,183,4.0437158469945302,213254.4809]
["Riverside Transit Agency","Riverside","CA",9031,90031,"Independent Public Agency or Authority of Transit Service","Full Reporter",1932666,293,"Automobiles (Service)",null,0,4,39,0,0,2,0,13,0,0,0,0,0,0,0,0,0,0,0,58]
["Fort Worth Transportation Authority, dba: Trinity Metro","Fort Worth","TX",6007,60007,"Independent Public Agency or Authority of Transit Service","Full Reporter",5121892,292,"Trucks and other Rubber Tire Vehicles (Service)",null,0,2,30,3,0,1,5,6,1,0,2,0,0,1,10,1,1,0,0,63]
["Fort Worth Transportation Authority, dba: Trinity Metro","Fort Worth","TX",6007,60007,"Independent Public Agency or Authority of Transit Service","Full Reporter",5121892,292,"Cutaway",null,0,0,0,0,43,0,0,0,0,0,0,0,0,0,0,0,0,0,0,43,4,148758.23259999999]
["Fort Worth Transportation Authority, dba: Trinity Metro","Fort Worth","TX",6007,60007,"Independent Public Agency or Authority of Transit Service","Full Reporter",5121892,292,"Bus",null,10,0,0,75,0,0,0,0,0,9,20,0,14,3,9,0,0,0,0,140,6.1428571428571397,220582.55]
["Fort Worth Transportation Authority, dba: Trinity Metro","Fort Worth","TX",6007,60007,"Independent Public Agency or Authority of Transit Service","Full Reporter",5121892,292,"Automobiles (Service)",null,0,0,1,0,0,3,2,0,0,0,0,0,0,0,0,0,0,0,0,6]
["Fort Worth Transportation Authority, dba: Trinity Metro","Fort Worth","TX",6007,60007,"Independent Public Agency or Authority of Transit Service","Full Reporter",5121892,292,"Articulated Bus",null,6,0,0,0,0,0,0,0,8,0,0,0,0,0,0,0,0,0,0,14,4.5714285714285703,146421.14290000001]
["Suffolk County , dba: Dept of Public Works - Transportation Division","Yaphank","NY",2072,20072,"City, County or Local Government Unit or Department of Transportation","Full Reporter",18351295,290,"Trucks and other Rubber Tire Vehicles (Service)",null,0,3,0,0,0,0,0,0,0,1,0,0,0,0,0,0,0,0,0,4]
["Suffolk County , dba: Dept of Public Works - Transportation Division","Yaphank","NY",2072,20072,"City, County or Local Government Unit or Department of Transportation","Full Reporter",18351295,290,"Cutaway",null,35,107,0,44,0,35,12,0,0,0,0,0,0,0,0,0,0,0,0,233,2.0858369098712402,141578.103]
["Suffolk County , dba: Dept of Public Works - Transportation Division","Yaphank","NY",2072,20072,"City, County or Local Government Unit or Department of Transportation","Full Reporter",18351295,290,"Bus",null,0,30,0,0,0,0,0,0,70,0,4,0,0,7,0,0,0,0,0,111,6.49549549549549,378867.54950000002]
["City of Raleigh, dba: GoRaleigh","Raleigh","NC",4007,40007,"City, County or Local Government Unit or Department of Transportation","Full Reporter",884891,289,"Trucks and other Rubber Tire Vehicles (Service)",null,0,1,0,0,0,0,0,0,0,0,1,0,0,0,0,0,0,0,0,2]
["City of Raleigh, dba: GoRaleigh","Raleigh","NC",4007,40007,"City, County or Local Government Unit or Department of Transportation","Full Reporter",884891,289,"Cutaway",null,0,0,9,0,0,0,0,0,0,0,0,0,0,0,0,0,0,0,0,9,2,28651]
["City of Raleigh, dba: GoRaleigh","Raleigh","NC",4007,40007,"City, County or Local Government Unit or Department of Transportation","Full Reporter",884891,289,"Bus",null,0,4,11,0,21,0,2,7,0,19,6,15,0,4,0,0,0,0,0,89,7.0224719101123503,302707.24719999998]
["City of Raleigh, dba: GoRaleigh","Raleigh","NC",4007,40007,"City, County or Local Government Unit or Department of Transportation","Full Reporter",884891,289,"Automobiles (Service)",null,0,1,0,0,0,0,4,1,1,1,0,0,0,0,0,0,0,0,0,8]
["Intercity Transit","Olympia","WA",19,19,"Independent Public Agency or Authority of Transit Service","Full Reporter",176617,282,"Van",null,25,0,2,38,49,45,23,19,4,33,1,0,0,1,0,0,0,0,0,240,4.8458333333333297,72513.004199999996]
["Intercity Transit","Olympia","WA",19,19,"Independent Public Agency or Authority of Transit Service","Full Reporter",176617,282,"Trucks and other Rubber Tire Vehicles (Service)",null,1,2,1,0,2,1,1,1,0,2,4,0,0,1,0,0,0,0,0,16]
["Intercity Transit","Olympia","WA",19,19,"Independent Public Agency or Authority of Transit Service","Full Reporter",176617,282,"Cutaway",null,12,0,0,0,0,0,10,18,0,2,5,0,0,3,0,0,0,0,0,50,5.98,170824.04]
["Intercity Transit","Olympia","WA",19,19,"Independent Public Agency or Authority of Transit Service","Full Reporter",176617,282,"Bus",null,0,0,0,0,10,0,7,0,6,0,0,23,0,25,0,0,0,0,0,71,10.084507042253501,467645.84509999998]
["Intercity Transit","Olympia","WA",19,19,"Independent Public Agency or Authority of Transit Service","Full Reporter",176617,282,"Automobiles (Service)",null,0,0,0,0,0,0,2,0,0,0,0,0,0,2,0,0,0,0,0,4]
["Capital District Transportation Authority","Albany","NY",2002,20002,"Independent Public Agency or Authority of Transit Service","Full Reporter",594962,272,"Trucks and other Rubber Tire Vehicles (Service)",null,0,3,3,0,1,8,0,7,3,0,0,10,1,3,3,1,1,3,0,47]
["Capital District Transportation Authority","Albany","NY",2002,20002,"Independent Public Agency or Authority of Transit Service","Full Reporter",594962,272,"Cutaway",null,0,6,6,9,0,0,8,0,0,2,0,0,0,0,0,0,0,0,0,31,3.5806451612903198,161072.83869999999]
["Capital District Transportation Authority","Albany","NY",2002,20002,"Independent Public Agency or Authority of Transit Service","Full Reporter",594962,272,"Bus",null,12,24,12,12,15,20,20,2,40,21,22,23,0,0,8,0,0,0,0,231,6.5454545454545396,260839.6667]
["Capital District Transportation Authority","Albany","NY",2002,20002,"Independent Public Agency or Authority of Transit Service","Full Reporter",594962,272,"Articulated Bus",null,2,6,0,2,0,0,0,0,0,0,0,0,0,0,0,0,0,0,0,10,1.2,32980.400000000001]
["Enterprise Rideshare","Atlanta","GA",4203,40203,"Private-For-Profit Corporation","Full Reporter",4515419,272,"Van",null,179,24,12,12,0,0,0,0,0,0,0,0,0,0,0,0,0,0,0,227,0.370044052863436,20167.7709]
["Enterprise Rideshare","Atlanta","GA",4203,40203,"Private-For-Profit Corporation","Full Reporter",4515419,272,"Sports Utility Vehicle",null,0,34,4,0,0,0,0,0,0,0,0,0,0,0,0,0,0,0,0,38,1.1052631578947301,30250.6842]
["Enterprise Rideshare","Atlanta","GA",4203,40203,"Private-For-Profit Corporation","Full Reporter",4515419,272,"Minivan",null,0,2,0,0,0,0,0,0,0,0,0,0,0,0,0,0,0,0,0,2,1,86727]
["Salem Area Mass Transit District, dba: Salem-Keizer Transit","Salem","OR",25,25,"Independent Public Agency or Authority of Transit Service","Full Reporter",236632,267,"Van",null,3,2,2,7,3,0,0,0,2,0,0,0,0,0,0,0,0,0,0,19,2.8947368421052602,39603.473700000002]
["Salem Area Mass Transit District, dba: Salem-Keizer Transit","Salem","OR",25,25,"Independent Public Agency or Authority of Transit Service","Full Reporter",236632,267,"Trucks and other Rubber Tire Vehicles (Service)",null,0,0,0,1,3,1,1,2,0,1,0,0,1,1,0,0,0,0,0,11]
["Salem Area Mass Transit District, dba: Salem-Keizer Transit","Salem","OR",25,25,"Independent Public Agency or Authority of Transit Service","Full Reporter",236632,267,"Sports Utility Vehicle",null,1,0,1,1,0,0,0,0,0,0,0,0,0,0,0,0,0,0,0,3,1.6666666666666601,21829.333299999998]
["Salem Area Mass Transit District, dba: Salem-Keizer Transit","Salem","OR",25,25,"Independent Public Agency or Authority of Transit Service","Full Reporter",236632,267,"Minivan",null,5,8,0,0,0,0,0,0,0,0,0,0,0,0,0,0,0,0,0,13,0.61538461538461497,19593.692299999999]
["Salem Area Mass Transit District, dba: Salem-Keizer Transit","Salem","OR",25,25,"Independent Public Agency or Authority of Transit Service","Full Reporter",236632,267,"Cutaway",null,0,0,0,0,0,4,2,0,1,5,5,6,0,0,0,0,0,0,0,23,8.7391304347826093,198848.30429999999]
["Salem Area Mass Transit District, dba: Salem-Keizer Transit","Salem","OR",25,25,"Independent Public Agency or Authority of Transit Service","Full Reporter",236632,267,"Bus",null,5,0,0,0,0,0,4,13,6,0,14,0,3,11,24,0,0,0,0,80,10.85,370515.5625]
["Salem Area Mass Transit District, dba: Salem-Keizer Transit","Salem","OR",25,25,"Independent Public Agency or Authority of Transit Service","Full Reporter",236632,267,"Automobiles (Service)",null,0,0,0,0,3,0,4,0,0,0,0,0,0,0,0,0,0,0,0,7]
["Metropolitan Transit Authority","Nashville","TN",4004,40004,"Independent Public Agency or Authority of Transit Service","Full Reporter",969587,266,"Trucks and other Rubber Tire Vehicles (Service)",null,0,4,1,1,6,2,4,10,9,2,0,3,10,3,2,0,0,0,0,57]
["Metropolitan Transit Authority","Nashville","TN",4004,40004,"Independent Public Agency or Authority of Transit Service","Full Reporter",969587,266,"Over-the-road Bus",null,0,0,0,0,0,0,0,0,0,5,0,0,0,0,0,0,0,0,0,5,9,308783]
["Metropolitan Transit Authority","Nashville","TN",4004,40004,"Independent Public Agency or Authority of Transit Service","Full Reporter",969587,266,"Cutaway",null,0,0,0,0,0,49,7,0,35,0,0,0,0,0,0,0,0,0,0,91,6.2307692307692299,237804.05489999999]
["Metropolitan Transit Authority","Nashville","TN",4004,40004,"Independent Public Agency or Authority of Transit Service","Full Reporter",969587,266,"Bus",null,0,4,0,9,4,0,12,0,25,4,0,0,19,55,0,0,0,0,0,132,10.113636363636299,419997.25]
["Metropolitan Transit Authority","Nashville","TN",4004,40004,"Independent Public Agency or Authority of Transit Service","Full Reporter",969587,266,"Automobiles (Service)",null,0,0,0,0,0,2,0,0,1,0,0,0,0,0,0,0,0,0,0,3]
["Metropolitan Transit Authority","Nashville","TN",4004,40004,"Independent Public Agency or Authority of Transit Service","Full Reporter",969587,266,"Articulated Bus",null,0,4,0,0,12,10,0,0,14,5,0,0,0,0,0,0,0,0,0,45,5.7555555555555502,228253.4]
["Ann Arbor Area Transportation Authority","Ann Arbor","MI",5040,50040,"Independent Public Agency or Authority of Transit Service","Full Reporter",306022,265,"Van",null,86,12,9,1,0,1,0,0,0,0,0,0,0,0,0,0,0,0,0,109,0.34862385321100903,16325.7798]
["Ann Arbor Area Transportation Authority","Ann Arbor","MI",5040,50040,"Independent Public Agency or Authority of Transit Service","Full Reporter",306022,265,"Trucks and other Rubber Tire Vehicles (Service)",null,2,0,7,0,1,0,5,0,0,0,2,0,0,0,0,0,0,0,0,17]
["Ann Arbor Area Transportation Authority","Ann Arbor","MI",5040,50040,"Independent Public Agency or Authority of Transit Service","Full Reporter",306022,265,"Cutaway",null,0,0,0,11,0,5,0,0,0,0,0,0,0,0,0,0,0,0,0,16,3.625,168161.375]
["Ann Arbor Area Transportation Authority","Ann Arbor","MI",5040,50040,"Independent Public Agency or Authority of Transit Service","Full Reporter",306022,265,"Bus",null,0,10,9,18,0,16,0,10,4,7,5,15,0,8,0,0,0,0,0,102,6.4901960784313699,261891.3137]
["Ann Arbor Area Transportation Authority","Ann Arbor","MI",5040,50040,"Independent Public Agency or Authority of Transit Service","Full Reporter",306022,265,"Automobiles (Service)",null,0,0,1,2,0,0,0,0,0,0,1,0,0,0,0,0,0,0,0,4]
["Regional Transportation Commission of Washoe County","Reno","NV",9001,90001,"Independent Public Agency or Authority of Transit Service","Full Reporter",392141,264,"Van",null,20,69,31,24,0,0,0,0,0,0,0,0,0,0,0,0,0,0,0,144,1.4097222222222201,31952.3125]
["Regional Transportation Commission of Washoe County","Reno","NV",9001,90001,"Independent Public Agency or Authority of Transit Service","Full Reporter",392141,264,"Trucks and other Rubber Tire Vehicles (Service)",null,0,0,2,0,0,0,0,0,0,0,0,1,0,0,1,0,0,0,0,4]
["Regional Transportation Commission of Washoe County","Reno","NV",9001,90001,"Independent Public Agency or Authority of Transit Service","Full Reporter",392141,264,"Minivan",null,0,5,2,0,7,0,0,0,2,0,0,0,0,0,0,0,0,0,0,16,3.3125,11741.3125]
["Regional Transportation Commission of Washoe County","Reno","NV",9001,90001,"Independent Public Agency or Authority of Transit Service","Full Reporter",392141,264,"Cutaway",null,0,0,15,15,0,0,15,0,0,0,0,0,0,0,0,0,0,0,0,45,3.6666666666666599,112159.3333]
["Regional Transportation Commission of Washoe County","Reno","NV",9001,90001,"Independent Public Agency or Authority of Transit Service","Full Reporter",392141,264,"Bus",null,6,0,0,0,0,12,0,0,0,7,5,16,8,12,0,0,0,0,0,66,9.2575757575757507,440573.96970000002]
["Regional Transportation Commission of Washoe County","Reno","NV",9001,90001,"Independent Public Agency or Authority of Transit Service","Full Reporter",392141,264,"Articulated Bus",null,0,0,0,0,0,0,0,0,8,0,0,0,0,0,0,0,0,0,0,8,8,267055]
["Pioneer Valley Transit Authority","Springfield","MA",1008,10008,"Independent Public Agency or Authority of Transit Service","Full Reporter",621300,263,"Van",null,0,0,0,0,0,0,2,0,0,0,0,0,0,0,0,0,0,0,0,2,6,133754]
["Pioneer Valley Transit Authority","Springfield","MA",1008,10008,"Independent Public Agency or Authority of Transit Service","Full Reporter",621300,263,"Trucks and other Rubber Tire Vehicles (Service)",null,1,6,7,0,11,2,2,2,0,6,2,0,0,1,2,1,0,0,0,43]
["Pioneer Valley Transit Authority","Springfield","MA",1008,10008,"Independent Public Agency or Authority of Transit Service","Full Reporter",621300,263,"Cutaway",null,17,32,32,21,10,27,0,3,0,0,0,0,0,0,0,0,0,0,0,142,2.5,71030.823900000003]
["Pioneer Valley Transit Authority","Springfield","MA",1008,10008,"Independent Public Agency or Authority of Transit Service","Full Reporter",621300,263,"Bus",null,4,0,3,15,13,0,11,29,31,7,30,13,30,1,0,0,0,0,0,187,8.0160427807486592,223467.492]
["Pioneer Valley Transit Authority","Springfield","MA",1008,10008,"Independent Public Agency or Authority of Transit Service","Full Reporter",621300,263,"Automobiles (Service)",null,0,0,0,0,0,0,3,0,0,0,0,0,0,0,0,0,0,0,0,3]
["Pioneer Valley Transit Authority","Springfield","MA",1008,10008,"Independent Public Agency or Authority of Transit Service","Full Reporter",621300,263,"Articulated Bus",null,0,0,0,0,0,4,0,0,0,0,0,0,0,0,0,0,0,0,0,4,5,133147]
["Kitsap Transit","Bremerton","WA",20,20,"Independent Public Agency or Authority of Transit Service","Full Reporter",198979,258,"Van",null,11,3,12,1,0,7,0,0,45,30,9,0,24,23,4,0,0,0,0,169,8.6331360946745495,73166.863899999997]
["Kitsap Transit","Bremerton","WA",20,20,"Independent Public Agency or Authority of Transit Service","Full Reporter",198979,258,"Trucks and other Rubber Tire Vehicles (Service)",null,0,0,0,0,0,0,0,0,4,3,0,0,12,13,8,0,0,0,0,40]
["Kitsap Transit","Bremerton","WA",20,20,"Independent Public Agency or Authority of Transit Service","Full Reporter",198979,258,"Over-the-road Bus",null,0,0,0,0,0,0,0,0,0,0,0,0,0,0,12,30,0,0,0,42,21.3095238095238,360298.26189999998]
["Kitsap Transit","Bremerton","WA",20,20,"Independent Public Agency or Authority of Transit Service","Full Reporter",198979,258,"Ferryboat",null,0,0,0,0,0,0,1,0,0,0,0,0,0,0,0,2,2,0,1,6,34.8333333333333,595682.66669999994]
["Kitsap Transit","Bremerton","WA",20,20,"Independent Public Agency or Authority of Transit Service","Full Reporter",198979,258,"Cutaway",null,0,17,8,5,0,11,9,0,14,14,2,0,0,2,0,0,0,0,0,82,5.4268292682926802,156957.7683]
["Kitsap Transit","Bremerton","WA",20,20,"Independent Public Agency or Authority of Transit Service","Full Reporter",198979,258,"Bus",null,5,2,8,0,0,0,0,0,0,0,0,0,0,46,0,0,0,0,0,61,11.032786885245899,390683.45899999997]
["Kitsap Transit","Bremerton","WA",20,20,"Independent Public Agency or Authority of Transit Service","Full Reporter",198979,258,"Automobiles (Service)",null,0,0,0,0,0,0,0,0,0,0,0,0,0,8,0,0,0,0,0,8]
["City of Madison","Madison","WI",5005,50005,"City, County or Local Government Unit or Department of Transportation","Full Reporter",401661,254,"Trucks and other Rubber Tire Vehicles (Service)",null,1,1,2,0,0,0,3,0,1,1,1,0,0,0,6,0,0,0,0,16]
["City of Madison","Madison","WI",5005,50005,"City, County or Local Government Unit or Department of Transportation","Full Reporter",401661,254,"Bus",null,15,15,15,15,20,0,14,14,14,33,0,5,16,37,2,0,0,0,0,215,7.2558139534883699,283917.31630000001]
["City of Madison","Madison","WI",5005,50005,"City, County or Local Government Unit or Department of Transportation","Full Reporter",401661,254,"Automobiles (Service)",null,1,0,0,0,3,2,0,0,0,7,0,0,0,0,0,0,0,0,0,13]
["Jacksonville Transportation Authority","Jacksonville","FL",4040,40040,"Independent Public Agency or Authority of Transit Service","Full Reporter",1065219,253,"Van",null,2,0,0,0,0,0,5,0,0,0,0,0,0,0,0,0,0,0,0,7,4.2857142857142803,171325.57139999999]
["Jacksonville Transportation Authority","Jacksonville","FL",4040,40040,"Independent Public Agency or Authority of Transit Service","Full Reporter",1065219,253,"Trucks and other Rubber Tire Vehicles (Service)",null,3,6,4,6,5,1,5,3,1,4,2,0,0,4,0,0,0,0,0,44]
["Jacksonville Transportation Authority","Jacksonville","FL",4040,40040,"Independent Public Agency or Authority of Transit Service","Full Reporter",1065219,253,"Ferryboat",null,0,0,0,0,0,0,0,0,0,0,0,0,0,0,0,1,0,0,0,1,22,516337]
["Jacksonville Transportation Authority","Jacksonville","FL",4040,40040,"Independent Public Agency or Authority of Transit Service","Full Reporter",1065219,253,"Cutaway",null,0,11,30,18,31,7,0,0,0,0,0,0,0,0,0,0,0,0,0,97,2.9278350515463898,160750.31959999999]
["Jacksonville Transportation Authority","Jacksonville","FL",4040,40040,"Independent Public Agency or Authority of Transit Service","Full Reporter",1065219,253,"Bus",null,0,16,23,23,10,13,0,16,13,12,9,25,0,19,0,0,0,0,0,179,6.6592178770949699,385189.44130000001]
["Jacksonville Transportation Authority","Jacksonville","FL",4040,40040,"Independent Public Agency or Authority of Transit Service","Full Reporter",1065219,253,"Automobiles (Service)",null,0,2,5,2,3,0,9,3,1,0,0,3,0,2,0,0,0,0,0,30]
["Jacksonville Transportation Authority","Jacksonville","FL",4040,40040,"Independent Public Agency or Authority of Transit Service","Full Reporter",1065219,253,"Automated Guideway Vehicle",null,0,0,0,0,0,0,0,0,0,0,0,0,0,0,3,3,0,0,0,6,19.1666666666666,706855.83330000006]
["Omnitrans","San Bernardino","CA",9029,90029,"Independent Public Agency or Authority of Transit Service","Full Reporter",1932666,250,"Trucks and other Rubber Tire Vehicles (Service)",null,2,6,6,1,0,0,0,0,13,0,3,0,1,0,2,1,0,1,0,36]
["Omnitrans","San Bernardino","CA",9029,90029,"Independent Public Agency or Authority of Transit Service","Full Reporter",1932666,250,"Cutaway",null,10,23,0,26,0,15,0,0,0,13,19,0,0,0,0,0,0,0,0,106,4.5566037735849001,143577.99059999999]
["Omnitrans","San Bernardino","CA",9029,90029,"Independent Public Agency or Authority of Transit Service","Full Reporter",1932666,250,"Bus",null,20,0,13,15,16,0,20,17,0,27,0,0,0,20,9,0,0,0,0,157,6.8152866242038197,352102.18469999998]
["Omnitrans","San Bernardino","CA",9029,90029,"Independent Public Agency or Authority of Transit Service","Full Reporter",1932666,250,"Automobiles (Service)",null,18,12,14,1,0,0,0,1,0,0,0,1,0,1,0,0,0,0,0,48]
["Omnitrans","San Bernardino","CA",9029,90029,"Independent Public Agency or Authority of Transit Service","Full Reporter",1932666,250,"Articulated Bus",null,1,0,0,0,0,0,14,0,0,0,0,0,0,0,0,0,0,0,0,15,5.6,172330.46669999999]
["Central Pennsylvania Transportation Authority","York","PA",3027,30027,"Independent Public Agency or Authority of Transit Service","Full Reporter",232045,248,"Van",null,0,9,0,4,6,0,4,0,0,0,0,0,0,0,0,0,0,0,0,23,3,56305.608699999997]
["Central Pennsylvania Transportation Authority","York","PA",3027,30027,"Independent Public Agency or Authority of Transit Service","Full Reporter",232045,248,"Trucks and other Rubber Tire Vehicles (Service)",null,0,0,0,1,1,3,0,0,1,0,1,0,0,0,0,0,0,0,0,7]
["Central Pennsylvania Transportation Authority","York","PA",3027,30027,"Independent Public Agency or Authority of Transit Service","Full Reporter",232045,248,"Over-the-road Bus",null,0,2,0,0,1,1,1,2,1,0,0,6,0,0,0,0,0,0,0,14,7.5,226483]
["Central Pennsylvania Transportation Authority","York","PA",3027,30027,"Independent Public Agency or Authority of Transit Service","Full Reporter",232045,248,"Minivan",null,0,3,3,0,0,0,4,0,5,1,1,0,0,0,0,0,0,0,0,17,5.4117647058823497,113549.7647]
["Central Pennsylvania Transportation Authority","York","PA",3027,30027,"Independent Public Agency or Authority of Transit Service","Full Reporter",232045,248,"Cutaway",null,0,47,17,39,13,45,9,11,10,3,1,0,1,0,0,0,0,0,0,196,3.75,126869.3673]
["Central Pennsylvania Transportation Authority","York","PA",3027,30027,"Independent Public Agency or Authority of Transit Service","Full Reporter",232045,248,"Bus",null,0,8,0,0,0,3,0,0,0,3,0,0,1,9,3,2,0,0,0,29,9.4482758620689609,338002.68969999999]
["Central Pennsylvania Transportation Authority","York","PA",3027,30027,"Independent Public Agency or Authority of Transit Service","Full Reporter",232045,248,"Automobiles (Service)",null,5,0,2,0,3,0,1,0,2,0,0,0,0,3,2,0,0,0,0,18]
["Regional Transit Service - Monroe County, dba: RTS Monroe (MB) and RTS Access (DR)","Rochester","NY",2113,20113,"Independent Public Agency or Authority of Transit Service","Full Reporter",720572,247,"Van",null,2,1,0,1,0,0,0,0,0,0,0,0,0,0,0,0,0,0,0,4,1,30895.75]
["Regional Transit Service - Monroe County, dba: RTS Monroe (MB) and RTS Access (DR)","Rochester","NY",2113,20113,"Independent Public Agency or Authority of Transit Service","Full Reporter",720572,247,"Trucks and other Rubber Tire Vehicles (Service)",null,1,1,0,1,0,0,0,0,4,0,0,0,0,2,1,3,0,0,0,13]
["Regional Transit Service - Monroe County, dba: RTS Monroe (MB) and RTS Access (DR)","Rochester","NY",2113,20113,"Independent Public Agency or Authority of Transit Service","Full Reporter",720572,247,"Cutaway",null,0,7,22,0,0,18,0,6,0,3,0,0,0,0,0,0,0,0,0,56,3.75,126703.66069999999]
["Regional Transit Service - Monroe County, dba: RTS Monroe (MB) and RTS Access (DR)","Rochester","NY",2113,20113,"Independent Public Agency or Authority of Transit Service","Full Reporter",720572,247,"Bus",null,0,1,21,0,0,0,52,26,0,50,0,0,22,22,0,0,0,0,0,194,7.9432989690721598,186827.44330000001]
["Regional Transit Service - Monroe County, dba: RTS Monroe (MB) and RTS Access (DR)","Rochester","NY",2113,20113,"Independent Public Agency or Authority of Transit Service","Full Reporter",720572,247,"Automobiles (Service)",null,0,0,2,0,6,1,1,3,4,1,1,0,0,0,0,0,0,0,0,19]
["Regional Transit Service - Monroe County, dba: RTS Monroe (MB) and RTS Access (DR)","Rochester","NY",2113,20113,"Independent Public Agency or Authority of Transit Service","Full Reporter",720572,247,"Articulated Bus",null,0,0,0,0,0,0,20,0,10,0,0,0,0,0,0,0,0,0,0,30,6.6666666666666599,145463]
["Fairfax County, VA, dba: Fairfax Connector Bus System","Fairfax","VA",3068,30068,"City, County or Local Government Unit or Department of Transportation","Full Reporter",4586770,245,"Trucks and other Rubber Tire Vehicles (Service)",null,0,4,1,2,1,4,0,2,2,1,4,1,0,0,0,0,1,0,0,23]
["Fairfax County, VA, dba: Fairfax Connector Bus System","Fairfax","VA",3068,30068,"City, County or Local Government Unit or Department of Transportation","Full Reporter",4586770,245,"Bus",null,14,0,0,17,17,19,35,68,0,45,26,67,0,0,0,0,0,0,0,308,7.4740259740259702,310563.32789999997]
["Fairfax County, VA, dba: Fairfax Connector Bus System","Fairfax","VA",3068,30068,"City, County or Local Government Unit or Department of Transportation","Full Reporter",4586770,245,"Automobiles (Service)",null,1,1,0,5,0,2,8,4,2,0,0,0,0,0,0,0,0,0,0,23]
["Lane Transit District","Eugene","OR",7,7,"Independent Public Agency or Authority of Transit Service","Full Reporter",247421,242,"Van",null,8,3,6,0,1,2,0,2,0,1,0,0,0,0,0,0,0,0,0,23,2.2608695652173898,52950.869599999998]
["Lane Transit District","Eugene","OR",7,7,"Independent Public Agency or Authority of Transit Service","Full Reporter",247421,242,"Trucks and other Rubber Tire Vehicles (Service)",null,0,6,2,1,1,3,0,2,3,0,3,5,3,1,0,1,0,0,0,31]
["Lane Transit District","Eugene","OR",7,7,"Independent Public Agency or Authority of Transit Service","Full Reporter",247421,242,"Cutaway",null,0,0,0,8,1,2,0,6,12,9,0,10,1,1,0,0,0,0,0,50,7.84,213045.2]
["Lane Transit District","Eugene","OR",7,7,"Independent Public Agency or Authority of Transit Service","Full Reporter",247421,242,"Bus",null,0,0,5,0,0,0,0,24,0,0,0,20,0,19,2,0,0,0,0,70,10.3,409488.9]
["Lane Transit District","Eugene","OR",7,7,"Independent Public Agency or Authority of Transit Service","Full Reporter",247421,242,"Automobiles (Service)",null,0,2,0,0,0,0,0,0,0,0,0,1,0,0,0,0,0,0,0,3]
["Lane Transit District","Eugene","OR",7,7,"Independent Public Agency or Authority of Transit Service","Full Reporter",247421,242,"Articulated Bus",null,0,0,0,7,3,0,0,0,5,5,0,11,0,1,0,0,0,0,0,32,7.90625,272697.625]
["Mass Transportation Authority ","Flint","MI",5032,50032,"Independent Public Agency or Authority of Transit Service","Full Reporter",356218,242,"Trucks and other Rubber Tire Vehicles (Service)",null,1,0,2,6,2,0,0,0,0,0,1,0,0,2,0,0,0,1,0,15]
["Mass Transportation Authority ","Flint","MI",5032,50032,"Independent Public Agency or Authority of Transit Service","Full Reporter",356218,242,"Over-the-road Bus",null,0,5,0,8,0,0,2,0,0,0,0,0,5,0,2,0,0,0,0,22,6.2727272727272698,412057.90909999999]
["Mass Transportation Authority ","Flint","MI",5032,50032,"Independent Public Agency or Authority of Transit Service","Full Reporter",356218,242,"Cutaway",null,0,4,20,13,13,61,12,2,0,0,1,0,1,4,0,0,0,0,0,131,4.6412213740458004,135109.22899999999]
["Mass Transportation Authority ","Flint","MI",5032,50032,"Independent Public Agency or Authority of Transit Service","Full Reporter",356218,242,"Bus",null,0,18,3,17,0,6,10,0,1,0,0,0,0,0,29,37,1,0,0,122,12.360655737704899,408172.40980000002]
["Mass Transportation Authority ","Flint","MI",5032,50032,"Independent Public Agency or Authority of Transit Service","Full Reporter",356218,242,"Automobiles (Service)",null,0,1,1,1,0,0,0,1,1,0,0,0,0,1,1,0,0,0,0,7]
["Mass Transportation Authority ","Flint","MI",5032,50032,"Independent Public Agency or Authority of Transit Service","Full Reporter",356218,242,"Automobile",null,6,26,5,0,4,13,0,0,0,0,0,0,0,0,0,0,0,0,0,54,2.1666666666666599,45647.259299999998]
["Connecticut Department of Transportation - CTTRANSIT - Hartford Division","Hartford","CT",1048,10048,"State Government Unit or Department of Transportation","Full Reporter",924859,236,"Trucks and other Rubber Tire Vehicles (Service)",null,0,8,1,12,2,0,0,0,0,0,0,2,0,2,2,1,0,0,0,30]
["Connecticut Department of Transportation - CTTRANSIT - Hartford Division","Hartford","CT",1048,10048,"State Government Unit or Department of Transportation","Full Reporter",924859,236,"Over-the-road Bus",null,0,0,0,0,0,0,0,0,2,0,0,0,0,4,0,0,0,0,0,6,12.6666666666666,459459]
["Connecticut Department of Transportation - CTTRANSIT - Hartford Division","Hartford","CT",1048,10048,"State Government Unit or Department of Transportation","Full Reporter",924859,236,"Bus",null,0,83,26,0,30,0,5,0,0,0,2,64,0,55,0,0,0,0,0,265,6.5320754716981098,229434.41130000001]
["Connecticut Department of Transportation - CTTRANSIT - Hartford Division","Hartford","CT",1048,10048,"State Government Unit or Department of Transportation","Full Reporter",924859,236,"Automobiles (Service)",null,0,0,2,0,3,0,0,0,0,0,2,0,0,0,0,0,0,0,0,7]
["Connecticut Department of Transportation - CTTRANSIT - Hartford Division","Hartford","CT",1048,10048,"State Government Unit or Department of Transportation","Full Reporter",924859,236,"Articulated Bus",null,0,0,0,0,12,0,0,10,0,0,0,0,0,0,0,0,0,0,0,22,5.3636363636363598,211464.7273]
["Des Moines Area Regional Transit Authority","Des Moines","IA",7010,70010,"Independent Public Agency or Authority of Transit Service","Full Reporter",450070,233,"Van",null,0,15,14,16,15,10,1,0,0,0,0,0,0,0,0,0,0,0,0,71,2.9154929577464701,50200.633800000003]
["Des Moines Area Regional Transit Authority","Des Moines","IA",7010,70010,"Independent Public Agency or Authority of Transit Service","Full Reporter",450070,233,"Trucks and other Rubber Tire Vehicles (Service)",null,3,2,4,0,4,1,0,2,0,0,0,0,0,1,0,0,0,0,0,17]
["Des Moines Area Regional Transit Authority","Des Moines","IA",7010,70010,"Independent Public Agency or Authority of Transit Service","Full Reporter",450070,233,"Minivan",null,5,11,0,6,8,9,0,1,2,0,0,0,0,0,0,0,0,0,0,42,3.0714285714285698,52660.7143]
["Des Moines Area Regional Transit Authority","Des Moines","IA",7010,70010,"Independent Public Agency or Authority of Transit Service","Full Reporter",450070,233,"Cutaway",null,6,6,5,10,0,0,5,1,1,0,0,0,0,0,0,0,0,0,0,34,2.6764705882352899,96761.705900000001]
["Des Moines Area Regional Transit Authority","Des Moines","IA",7010,70010,"Independent Public Agency or Authority of Transit Service","Full Reporter",450070,233,"Bus",null,7,0,27,0,6,6,7,2,19,1,7,0,17,7,4,0,0,0,0,110,6.9818181818181797,196544]
["Des Moines Area Regional Transit Authority","Des Moines","IA",7010,70010,"Independent Public Agency or Authority of Transit Service","Full Reporter",450070,233,"Automobiles (Service)",null,0,0,0,0,0,0,0,0,0,1,0,0,0,0,0,0,0,0,0,1]
["Des Moines Area Regional Transit Authority","Des Moines","IA",7010,70010,"Independent Public Agency or Authority of Transit Service","Full Reporter",450070,233,"Articulated Bus",null,0,0,0,0,0,0,0,0,0,0,0,0,0,0,6,0,0,0,0,6,18,267108.6667]
["North County Transit District","Oceanside","CA",9030,90030,"Independent Public Agency or Authority of Transit Service","Full Reporter",2956746,233,"Trucks and other Rubber Tire Vehicles (Service)",null,2,0,0,3,1,0,3,1,0,0,6,6,0,7,5,0,0,0,0,34]
["North County Transit District","Oceanside","CA",9030,90030,"Independent Public Agency or Authority of Transit Service","Full Reporter",2956746,233,"Steel Wheel Vehicles (Service)",null,0,0,3,0,0,0,0,0,0,0,0,0,0,2,0,0,0,0,0,5]
["North County Transit District","Oceanside","CA",9030,90030,"Independent Public Agency or Authority of Transit Service","Full Reporter",2956746,233,"Minivan",null,0,0,0,0,21,0,0,0,0,0,0,0,0,0,0,0,0,0,0,21,4,166234]
["North County Transit District","Oceanside","CA",9030,90030,"Independent Public Agency or Authority of Transit Service","Full Reporter",2956746,233,"Light Rail Vehicle",null,0,0,0,0,0,0,0,0,0,0,0,0,12,0,0,0,0,0,0,12,12,553210]
["North County Transit District","Oceanside","CA",9030,90030,"Independent Public Agency or Authority of Transit Service","Full Reporter",2956746,233,"Cutaway",null,0,0,2,0,30,0,0,0,24,1,0,0,0,0,0,0,0,0,0,57,5.70175438596491,180227.2807]
["North County Transit District","Oceanside","CA",9030,90030,"Independent Public Agency or Authority of Transit Service","Full Reporter",2956746,233,"Commuter Rail Passenger Coach",null,0,0,0,0,0,0,0,0,0,0,0,0,0,6,6,16,0,0,0,28,21.214285714285701,1109929.6429000001]
["North County Transit District","Oceanside","CA",9030,90030,"Independent Public Agency or Authority of Transit Service","Full Reporter",2956746,233,"Commuter Rail Locomotive",null,0,0,0,0,0,0,0,0,0,0,0,0,0,0,2,5,0,0,0,7,22,956167.71429999999]
["North County Transit District","Oceanside","CA",9030,90030,"Independent Public Agency or Authority of Transit Service","Full Reporter",2956746,233,"Bus",null,0,0,26,0,0,0,30,0,0,0,0,12,0,65,9,0,0,0,0,142,9.9507042253521103,435467.04930000001]
["North County Transit District","Oceanside","CA",9030,90030,"Independent Public Agency or Authority of Transit Service","Full Reporter",2956746,233,"Automobiles (Service)",null,0,0,0,11,0,9,4,0,0,1,1,8,9,8,2,0,0,0,0,53]
["Sacramento Regional Transit District","Sacramento","CA",9019,90019,"Independent Public Agency or Authority of Transit Service","Full Reporter",1723634,232,"Trucks and other Rubber Tire Vehicles (Service)",null,1,11,5,33,47,16,7,0,0,8,0,0,1,15,3,2,0,0,0,149]
["Sacramento Regional Transit District","Sacramento","CA",9019,90019,"Independent Public Agency or Authority of Transit Service","Full Reporter",1723634,232,"Steel Wheel Vehicles (Service)",null,0,0,0,0,0,0,0,0,0,0,0,0,0,0,0,1,0,0,0,1]
["Sacramento Regional Transit District","Sacramento","CA",9019,90019,"Independent Public Agency or Authority of Transit Service","Full Reporter",1723634,232,"Light Rail Vehicle",null,0,0,0,0,0,0,0,0,0,0,0,0,0,40,0,0,10,45,0,95,24.042105263157801,963545.88419999997]
["Sacramento Regional Transit District","Sacramento","CA",9019,90019,"Independent Public Agency or Authority of Transit Service","Full Reporter",1723634,232,"Cutaway",null,0,11,0,11,0,0,0,0,0,3,0,1,0,0,0,0,0,0,0,26,3.1538461538461502,62928.615400000002]
["Sacramento Regional Transit District","Sacramento","CA",9019,90019,"Independent Public Agency or Authority of Transit Service","Full Reporter",1723634,232,"Bus",null,0,0,0,0,96,0,6,0,0,0,91,0,0,5,0,0,0,0,0,198,7.0454545454545396,260856.08590000001]
["Sacramento Regional Transit District","Sacramento","CA",9019,90019,"Independent Public Agency or Authority of Transit Service","Full Reporter",1723634,232,"Automobiles (Service)",null,8,0,1,0,12,0,0,3,0,4,0,0,0,2,0,0,0,0,0,30]
["Interurban Transit Partnership","Grand Rapids","MI",5033,50033,"Independent Public Agency or Authority of Transit Service","Full Reporter",569935,229,"Van",null,1,9,6,2,3,0,0,0,0,0,0,0,0,0,0,0,0,0,0,21,1.8571428571428501,52951.809500000003]
["Interurban Transit Partnership","Grand Rapids","MI",5033,50033,"Independent Public Agency or Authority of Transit Service","Full Reporter",569935,229,"Trucks and other Rubber Tire Vehicles (Service)",null,0,2,0,2,8,7,8,3,0,1,2,2,0,2,2,0,0,0,0,39]
["Interurban Transit Partnership","Grand Rapids","MI",5033,50033,"Independent Public Agency or Authority of Transit Service","Full Reporter",569935,229,"Sports Utility Vehicle",null,0,0,0,0,0,5,0,0,0,0,0,0,0,0,0,0,0,0,0,5,5,104421]
["Interurban Transit Partnership","Grand Rapids","MI",5033,50033,"Independent Public Agency or Authority of Transit Service","Full Reporter",569935,229,"Cutaway",null,0,12,31,11,0,0,12,2,0,0,0,0,0,0,0,0,0,0,0,68,2.8382352941176401,108520.9559]
["Interurban Transit Partnership","Grand Rapids","MI",5033,50033,"Independent Public Agency or Authority of Transit Service","Full Reporter",569935,229,"Bus",null,0,32,1,0,10,8,23,17,0,38,7,13,10,0,0,0,0,0,0,159,6.5786163522012497,316613.15090000001]
["Interurban Transit Partnership","Grand Rapids","MI",5033,50033,"Independent Public Agency or Authority of Transit Service","Full Reporter",569935,229,"Automobiles (Service)",null,0,0,1,0,0,2,1,0,1,1,1,0,1,0,0,0,0,0,0,8]
["Academy Lines, Inc.","Hoboken","NJ",2122,20122,"Private-For-Profit Corporation","Full Reporter",18351295,225,"Over-the-road Bus",null,0,64,0,0,0,0,0,0,2,0,0,9,8,105,36,0,0,0,0,224,10.8660714285714,510726.93300000002]
["Central New York Regional Transportation Authority, dba: New York Regional Transportation Authority","Syracuse","NY",2018,20018,"Independent Public Agency or Authority of Transit Service","Full Reporter",412317,222,"Trucks and other Rubber Tire Vehicles (Service)",null,0,0,1,0,1,1,0,0,0,1,0,0,0,1,0,1,0,1,0,7]
["Central New York Regional Transportation Authority, dba: New York Regional Transportation Authority","Syracuse","NY",2018,20018,"Independent Public Agency or Authority of Transit Service","Full Reporter",412317,222,"Over-the-road Bus",null,0,0,0,7,0,0,0,0,0,5,0,0,0,0,0,0,0,0,0,12,5.5,242299.9167]
["Central New York Regional Transportation Authority, dba: New York Regional Transportation Authority","Syracuse","NY",2018,20018,"Independent Public Agency or Authority of Transit Service","Full Reporter",412317,222,"Cutaway",null,12,0,13,0,0,4,4,4,11,15,0,0,0,0,0,0,0,0,0,63,5.0952380952380896,100001.14290000001]
["Central New York Regional Transportation Authority, dba: New York Regional Transportation Authority","Syracuse","NY",2018,20018,"Independent Public Agency or Authority of Transit Service","Full Reporter",412317,222,"Bus",null,0,42,7,0,0,0,68,12,19,9,6,11,0,54,1,0,0,0,0,229,7.4192139737991196,208483.8253]
["Central New York Regional Transportation Authority, dba: New York Regional Transportation Authority","Syracuse","NY",2018,20018,"Independent Public Agency or Authority of Transit Service","Full Reporter",412317,222,"Automobiles (Service)",null,0,4,0,8,1,3,8,3,0,2,2,4,0,0,2,0,0,0,0,37]
["Metropolitan Council","St. Paul","MN",5154,50154,"City, County or Local Government Unit or Department of Transportation","Full Reporter",2650890,218,"Van",null,15,0,44,0,0,0,0,0,0,0,0,0,0,0,0,0,0,0,0,59,1.49152542372881,29849.220300000001]
["Metropolitan Council","St. Paul","MN",5154,50154,"City, County or Local Government Unit or Department of Transportation","Full Reporter",2650890,218,"Trucks and other Rubber Tire Vehicles (Service)",null,0,0,0,3,0,0,0,0,0,0,0,0,0,0,0,0,0,0,0,3]
["Metropolitan Council","St. Paul","MN",5154,50154,"City, County or Local Government Unit or Department of Transportation","Full Reporter",2650890,218,"Cutaway",null,27,2,1,37,7,3,3,3,0,0,1,0,0,0,0,0,0,0,0,84,2.46428571428571,98519.047600000005]
["Metropolitan Council","St. Paul","MN",5154,50154,"City, County or Local Government Unit or Department of Transportation","Full Reporter",2650890,218,"Bus",null,24,0,19,3,16,0,13,8,6,8,0,0,8,1,0,0,0,0,0,106,4.4905660377358396,209486.93400000001]
["Central Arkansas Development Council, dba: South Central Arkansas Transit","Benton","AR","6R01-002","6R01-60246","Private-Non-Profit Corporation","Rural Reporter",0,215,"Van",null,0,5,7,0,1,2,0,0,0,0,0,0,3,2,9,0,0,0,0,29,8.5862068965517206,0]
["Central Arkansas Development Council, dba: South Central Arkansas Transit","Benton","AR","6R01-002","6R01-60246","Private-Non-Profit Corporation","Rural Reporter",0,215,"Trucks and other Rubber Tire Vehicles (Service)",null,0,0,0,0,0,0,0,0,0,0,0,0,0,1,0,0,0,0,0,1]
["Central Arkansas Development Council, dba: South Central Arkansas Transit","Benton","AR","6R01-002","6R01-60246","Private-Non-Profit Corporation","Rural Reporter",0,215,"Minivan",null,0,8,9,4,11,3,0,0,8,0,2,1,2,0,0,0,0,0,0,48,4.5,0]
["Central Arkansas Development Council, dba: South Central Arkansas Transit","Benton","AR","6R01-002","6R01-60246","Private-Non-Profit Corporation","Rural Reporter",0,215,"Cutaway",null,11,15,2,8,15,7,0,3,8,22,11,5,10,12,4,0,0,0,0,133,7.0676691729323302,0]
["Central Arkansas Development Council, dba: South Central Arkansas Transit","Benton","AR","6R01-002","6R01-60246","Private-Non-Profit Corporation","Rural Reporter",0,215,"Bus",null,0,0,0,0,0,0,0,0,0,0,0,0,1,0,0,0,0,0,0,1,12,0]
["Central Arkansas Development Council, dba: South Central Arkansas Transit","Benton","AR","6R01-002","6R01-60246","Private-Non-Profit Corporation","Rural Reporter",0,215,"Automobile",null,0,0,0,0,0,0,0,0,0,0,0,0,0,3,1,0,0,0,0,4,14.25,0]
["METRO Regional Transit Authority ","Akron","OH",5010,50010,"Independent Public Agency or Authority of Transit Service","Full Reporter",569499,214,"Trucks and other Rubber Tire Vehicles (Service)",null,0,0,0,1,4,0,0,0,0,3,1,0,0,0,0,0,0,0,0,9]
["METRO Regional Transit Authority ","Akron","OH",5010,50010,"Independent Public Agency or Authority of Transit Service","Full Reporter",569499,214,"Over-the-road Bus",null,0,0,0,0,0,0,0,0,0,6,0,0,0,0,2,0,0,0,0,8,11,419051.5]
["METRO Regional Transit Authority ","Akron","OH",5010,50010,"Independent Public Agency or Authority of Transit Service","Full Reporter",569499,214,"Cutaway",null,0,0,8,13,29,31,0,0,0,0,0,0,0,0,0,0,0,0,0,81,4.0246913580246897,88487.580199999997]
["METRO Regional Transit Authority ","Akron","OH",5010,50010,"Independent Public Agency or Authority of Transit Service","Full Reporter",569499,214,"Bus",null,8,8,11,8,6,10,32,18,11,4,2,7,8,0,0,0,0,0,0,133,5.7368421052631504,237904.37590000001]
["METRO Regional Transit Authority ","Akron","OH",5010,50010,"Independent Public Agency or Authority of Transit Service","Full Reporter",569499,214,"Automobile",null,0,0,0,0,0,0,7,0,0,0,0,0,0,0,0,0,0,0,0,7,6,164636]
["METRO Regional Transit Authority ","Akron","OH",5010,50010,"Independent Public Agency or Authority of Transit Service","Full Reporter",569499,214,"Articulated Bus",null,0,0,0,0,0,6,0,0,0,0,0,0,0,0,0,0,0,0,0,6,5,157140.5]
["Indianapolis and Marion County Public Transportation","Indianapolis","IN",5050,50050,"Independent Public Agency or Authority of Transit Service","Full Reporter",1487483,211,"Trucks and other Rubber Tire Vehicles (Service)",null,2,7,0,7,0,1,1,0,4,1,2,0,0,5,2,0,0,0,0,32]
["Indianapolis and Marion County Public Transportation","Indianapolis","IN",5050,50050,"Independent Public Agency or Authority of Transit Service","Full Reporter",1487483,211,"Minivan",null,0,0,0,0,0,0,4,0,0,0,0,0,0,0,0,0,0,0,0,4,6,164997]
["Indianapolis and Marion County Public Transportation","Indianapolis","IN",5050,50050,"Independent Public Agency or Authority of Transit Service","Full Reporter",1487483,211,"Cutaway",null,17,16,0,37,2,0,0,1,0,1,0,0,0,0,0,0,0,0,0,74,2.0405405405405399,132880.36489999999]
["Indianapolis and Marion County Public Transportation","Indianapolis","IN",5050,50050,"Independent Public Agency or Authority of Transit Service","Full Reporter",1487483,211,"Bus",null,17,16,13,13,13,4,0,0,22,0,0,10,0,19,45,7,0,0,0,179,9.2905027932960902,336291.27370000002]
["Indianapolis and Marion County Public Transportation","Indianapolis","IN",5050,50050,"Independent Public Agency or Authority of Transit Service","Full Reporter",1487483,211,"Automobiles (Service)",null,0,0,0,0,0,0,0,0,0,1,0,0,0,0,1,0,0,0,0,2]
["Indianapolis and Marion County Public Transportation","Indianapolis","IN",5050,50050,"Independent Public Agency or Authority of Transit Service","Full Reporter",1487483,211,"Articulated Bus",null,0,0,0,0,0,0,0,0,0,0,0,0,0,0,5,0,0,0,0,5,16,178051]
["Penquis Community Action Program","Bangor","ME","1R03-006","1R03-10134","Private-Non-Profit Corporation","Rural Reporter",0,207,"Van",null,7,0,0,0,4,0,0,0,4,0,0,0,0,0,0,0,0,0,0,15,3.2,0]
["Penquis Community Action Program","Bangor","ME","1R03-006","1R03-10134","Private-Non-Profit Corporation","Rural Reporter",0,207,"Minivan",null,0,0,0,2,0,0,0,1,0,0,0,0,0,0,0,0,0,0,0,3,4.3333333333333304,0]
["Penquis Community Action Program","Bangor","ME","1R03-006","1R03-10134","Private-Non-Profit Corporation","Rural Reporter",0,207,"Cutaway",null,0,0,2,0,0,1,0,0,0,0,0,0,0,0,0,0,0,0,0,3,3,0]
["Toledo Area Regional Transit Authority","Toledo","OH",5022,50022,"Independent Public Agency or Authority of Transit Service","Full Reporter",507643,207,"Trucks and other Rubber Tire Vehicles (Service)",null,0,0,0,0,0,0,0,0,0,0,0,0,0,1,0,1,1,0,0,3]
["Toledo Area Regional Transit Authority","Toledo","OH",5022,50022,"Independent Public Agency or Authority of Transit Service","Full Reporter",507643,207,"School Bus",null,0,1,0,0,0,0,0,1,0,0,0,0,1,2,0,0,0,0,0,5,9.8000000000000007,4466.8]
["Toledo Area Regional Transit Authority","Toledo","OH",5022,50022,"Independent Public Agency or Authority of Transit Service","Full Reporter",507643,207,"Cutaway",null,0,0,0,15,0,0,0,1,1,10,4,0,0,0,0,0,0,0,0,31,6.1290322580645098,181603.58059999999]
["Toledo Area Regional Transit Authority","Toledo","OH",5022,50022,"Independent Public Agency or Authority of Transit Service","Full Reporter",507643,207,"Bus",null,11,0,0,5,0,0,9,40,18,19,8,0,0,6,49,0,0,0,0,165,9.93333333333333,182250.3273]
["Toledo Area Regional Transit Authority","Toledo","OH",5022,50022,"Independent Public Agency or Authority of Transit Service","Full Reporter",507643,207,"Automobiles (Service)",null,0,0,0,0,0,0,0,0,1,1,0,0,4,2,3,0,0,0,0,11]
["Blue Water Area Transportation Commission","Port Huron","MI",5148,50148,"Independent Public Agency or Authority of Transit Service","Full Reporter",87106,203,"Trucks and other Rubber Tire Vehicles (Service)",null,0,0,0,0,2,0,1,0,0,0,0,0,0,0,2,0,0,0,0,5]
["Blue Water Area Transportation Commission","Port Huron","MI",5148,50148,"Independent Public Agency or Authority of Transit Service","Full Reporter",87106,203,"Bus",null,0,0,0,4,3,0,17,0,22,0,31,0,1,1,3,0,1,0,0,83,8.6024096385542101,198705.84340000001]
["Long Beach Transit","Long Beach","CA",9023,90023,"Other Publicly-Owned or Privately Chartered Corporation","Full Reporter",12150996,197,"Van",null,0,0,0,0,10,0,0,0,0,0,0,0,0,0,0,0,0,0,0,10,4,50378.5]
["Long Beach Transit","Long Beach","CA",9023,90023,"Other Publicly-Owned or Privately Chartered Corporation","Full Reporter",12150996,197,"Trucks and other Rubber Tire Vehicles (Service)",null,3,0,7,3,3,4,6,0,0,3,0,2,0,0,0,0,0,0,0,31]
["Long Beach Transit","Long Beach","CA",9023,90023,"Other Publicly-Owned or Privately Chartered Corporation","Full Reporter",12150996,197,"Bus",null,40,0,10,8,0,31,33,0,0,25,0,15,0,36,13,0,0,0,0,211,6.9336492890995203,250715.33180000001]
["Long Beach Transit","Long Beach","CA",9023,90023,"Other Publicly-Owned or Privately Chartered Corporation","Full Reporter",12150996,197,"Automobiles (Service)",null,4,0,0,2,2,0,0,1,1,4,5,3,0,0,0,0,0,0,0,22]
["Long Beach Transit","Long Beach","CA",9023,90023,"Other Publicly-Owned or Privately Chartered Corporation","Full Reporter",12150996,197,"Articulated Bus",null,0,0,0,13,0,0,0,0,0,0,0,0,0,0,0,0,0,0,0,13,3,84517.538499999995]
["Southern California Regional Rail Authority, dba: Metrolink","Los Angeles","CA",9151,90151,"Independent Public Agency or Authority of Transit Service","Full Reporter",12150996,195,"Trucks and other Rubber Tire Vehicles (Service)",null,1,0,0,0,1,0,0,8,1,0,5,0,1,12,1,3,0,0,0,33]
["Southern California Regional Rail Authority, dba: Metrolink","Los Angeles","CA",9151,90151,"Independent Public Agency or Authority of Transit Service","Full Reporter",12150996,195,"Steel Wheel Vehicles (Service)",null,0,0,0,0,0,0,0,0,0,4,0,0,2,2,0,5,0,0,0,13]
["Southern California Regional Rail Authority, dba: Metrolink","Los Angeles","CA",9151,90151,"Independent Public Agency or Authority of Transit Service","Full Reporter",12150996,195,"Commuter Rail Passenger Coach",null,0,0,0,0,0,22,0,0,105,0,0,0,0,0,24,31,54,0,0,236,14.834745762711799,794754.55079999997]
["Southern California Regional Rail Authority, dba: Metrolink","Los Angeles","CA",9151,90151,"Independent Public Agency or Authority of Transit Service","Full Reporter",12150996,195,"Commuter Rail Locomotive",null,0,0,8,0,0,0,0,0,0,1,13,0,0,0,4,18,10,1,0,55,17.272727272727199,788127.38179999997]
["Southern California Regional Rail Authority, dba: Metrolink","Los Angeles","CA",9151,90151,"Independent Public Agency or Authority of Transit Service","Full Reporter",12150996,195,"Automobiles (Service)",null,9,0,0,33,0,8,0,14,0,39,0,16,0,13,3,0,0,0,0,135]
["City of El Paso, dba: Sun Metro","El Paso","TX",6006,60006,"City, County or Local Government Unit or Department of Transportation","Full Reporter",803086,193,"Van",null,0,0,0,0,0,0,3,0,0,0,0,0,0,0,0,0,0,0,0,3,6,100490]
["City of El Paso, dba: Sun Metro","El Paso","TX",6006,60006,"City, County or Local Government Unit or Department of Transportation","Full Reporter",803086,193,"Trucks and other Rubber Tire Vehicles (Service)",null,12,1,1,0,0,0,0,0,16,0,5,0,0,3,14,2,0,1,0,55]
["City of El Paso, dba: Sun Metro","El Paso","TX",6006,60006,"City, County or Local Government Unit or Department of Transportation","Full Reporter",803086,193,"Cutaway",null,0,0,3,0,35,0,34,0,1,0,3,0,0,0,0,0,0,0,0,76,5.1052631578947301,249683.21049999999]
["City of El Paso, dba: Sun Metro","El Paso","TX",6006,60006,"City, County or Local Government Unit or Department of Transportation","Full Reporter",803086,193,"Bus",null,0,2,0,0,22,0,0,0,8,0,40,55,0,24,0,0,0,0,0,151,9.9006622516556195,526444.48340000003]
["City of El Paso, dba: Sun Metro","El Paso","TX",6006,60006,"City, County or Local Government Unit or Department of Transportation","Full Reporter",803086,193,"Automobiles (Service)",null,0,0,0,0,0,0,9,0,0,0,0,0,0,0,4,1,0,0,0,14]
["City of El Paso, dba: Sun Metro","El Paso","TX",6006,60006,"City, County or Local Government Unit or Department of Transportation","Full Reporter",803086,193,"Articulated Bus",null,0,0,0,0,13,0,0,0,0,0,0,0,0,0,0,0,0,0,0,13,4,184197]
["City of Albuquerque Transit Department, dba: ABQRIDE","Albuquerque","NM",6019,60019,"City, County or Local Government Unit or Department of Transportation","Full Reporter",741318,193,"Trucks and other Rubber Tire Vehicles (Service)",null,0,0,0,0,0,1,0,4,0,0,0,0,0,0,0,0,0,1,0,6]
["City of Albuquerque Transit Department, dba: ABQRIDE","Albuquerque","NM",6019,60019,"City, County or Local Government Unit or Department of Transportation","Full Reporter",741318,193,"Cutaway",null,44,0,40,0,0,0,38,0,0,0,0,0,0,0,0,0,0,0,0,122,2.5245901639344202,92138.262300000002]
["City of Albuquerque Transit Department, dba: ABQRIDE","Albuquerque","NM",6019,60019,"City, County or Local Government Unit or Department of Transportation","Full Reporter",741318,193,"Bus",null,0,0,0,20,21,0,0,0,0,34,0,57,0,0,0,0,0,0,0,132,8.1590909090908994,338519.88640000002]
["City of Albuquerque Transit Department, dba: ABQRIDE","Albuquerque","NM",6019,60019,"City, County or Local Government Unit or Department of Transportation","Full Reporter",741318,193,"Articulated Bus",null,0,0,0,0,0,0,0,0,0,6,0,6,0,11,0,0,0,0,0,23,11.9130434782608,678888.86959999998]
["Hudson Transit Lines, Inc.","Mahwah","NJ",2126,20126,"Private-For-Profit Corporation","Full Reporter",18351295,184,"Over-the-road Bus",null,0,10,33,15,41,9,1,3,5,11,29,6,17,16,0,0,0,0,0,196,6.4489795918367303,612896.36219999997]
["Hudson Transit Lines, Inc.","Mahwah","NJ",2126,20126,"Private-For-Profit Corporation","Full Reporter",18351295,184,"Cutaway",null,0,0,0,2,1,0,0,0,0,0,0,0,0,0,0,0,0,0,0,3,3.3333333333333299,31422.333299999998]
["Hudson Transit Lines, Inc.","Mahwah","NJ",2126,20126,"Private-For-Profit Corporation","Full Reporter",18351295,184,"Bus",null,0,0,0,0,0,1,0,0,0,1,0,2,0,0,0,0,0,0,0,4,9,300826.75]
["Rural Transit Enterprises Coordinated, Inc.","Mt. Vernon","KY","4R04-019","4R04-40941","Private-Non-Profit Corporation","Rural Reporter",0,183,"Van",null,0,4,8,0,7,0,0,4,0,4,1,2,2,1,2,0,0,0,0,35,6.2285714285714198,0]
["Rural Transit Enterprises Coordinated, Inc.","Mt. Vernon","KY","4R04-019","4R04-40941","Private-Non-Profit Corporation","Rural Reporter",0,183,"Sports Utility Vehicle",null,0,0,0,3,0,0,0,0,0,0,1,0,0,0,0,0,0,0,0,4,4.75,0]
["Rural Transit Enterprises Coordinated, Inc.","Mt. Vernon","KY","4R04-019","4R04-40941","Private-Non-Profit Corporation","Rural Reporter",0,183,"Minivan",null,0,9,0,11,14,0,5,0,4,0,3,1,1,0,0,0,0,0,0,48,4.4375,0]
["Rural Transit Enterprises Coordinated, Inc.","Mt. Vernon","KY","4R04-019","4R04-40941","Private-Non-Profit Corporation","Rural Reporter",0,183,"Cutaway",null,2,53,67,6,6,0,2,0,6,26,3,1,1,0,0,0,0,0,0,173,3.3294797687861202,0]
["Rural Transit Enterprises Coordinated, Inc.","Mt. Vernon","KY","4R04-019","4R04-40941","Private-Non-Profit Corporation","Rural Reporter",0,183,"Bus",null,0,0,0,0,0,0,0,0,0,1,0,0,1,1,0,0,0,0,0,3,11.3333333333333,0]
["Rural Transit Enterprises Coordinated, Inc.","Mt. Vernon","KY","4R04-019","4R04-40941","Private-Non-Profit Corporation","Rural Reporter",0,183,"Automobiles (Service)",null,0,0,1,1,0,0,0,0,0,0,0,1,0,0,0,1,0,0,0,4]
["South Central Transit Authority","Lancaster","PA",null,30202,"Independent Public Agency or Authority of Transit Service","Full Reporter",402004,182,"Van",null,0,0,0,0,3,0,0,0,0,0,0,0,0,0,0,0,0,0,0,3,4,143649]
["South Central Transit Authority","Lancaster","PA",null,30202,"Independent Public Agency or Authority of Transit Service","Full Reporter",402004,182,"Trucks and other Rubber Tire Vehicles (Service)",null,0,0,0,0,0,0,0,1,0,0,0,0,1,2,1,0,0,1,0,6]
["South Central Transit Authority","Lancaster","PA",null,30202,"Independent Public Agency or Authority of Transit Service","Full Reporter",402004,182,"Minivan",null,3,0,0,2,0,0,1,0,0,11,0,0,0,0,0,0,0,0,0,17,6.5294117647058796,155555.9412]
["South Central Transit Authority","Lancaster","PA",null,30202,"Independent Public Agency or Authority of Transit Service","Full Reporter",402004,182,"Cutaway",null,0,23,24,16,26,9,9,6,0,0,0,0,0,0,0,0,0,0,0,113,3.2212389380530899,101789.0442]
["South Central Transit Authority","Lancaster","PA",null,30202,"Independent Public Agency or Authority of Transit Service","Full Reporter",402004,182,"Bus",null,0,8,8,13,0,3,2,0,5,10,8,13,2,22,0,0,0,0,0,94,8.0531914893616996,287073.29790000001]
["South Central Transit Authority","Lancaster","PA",null,30202,"Independent Public Agency or Authority of Transit Service","Full Reporter",402004,182,"Automobiles (Service)",null,0,0,0,0,2,0,0,1,3,0,2,1,0,1,0,0,0,0,0,10]
["Clark County Public Transportation Benefit Area Authority","Vancouver","WA",24,24,"Independent Public Agency or Authority of Transit Service","Full Reporter",1849898,180,"Van",null,10,2,1,5,0,8,2,0,9,2,0,0,0,0,0,0,0,0,0,39,4.1282051282051198,61957.692300000002]
["Clark County Public Transportation Benefit Area Authority","Vancouver","WA",24,24,"Independent Public Agency or Authority of Transit Service","Full Reporter",1849898,180,"Trucks and other Rubber Tire Vehicles (Service)",null,3,1,4,2,3,4,0,0,0,5,3,3,0,0,1,1,0,0,0,30]
["Clark County Public Transportation Benefit Area Authority","Vancouver","WA",24,24,"Independent Public Agency or Authority of Transit Service","Full Reporter",1849898,180,"Minivan",null,11,0,0,0,9,0,0,0,0,0,0,0,0,0,0,0,0,0,0,20,1.8,22346.55]
["Clark County Public Transportation Benefit Area Authority","Vancouver","WA",24,24,"Independent Public Agency or Authority of Transit Service","Full Reporter",1849898,180,"Cutaway",null,0,1,0,14,0,0,2,0,9,0,6,10,3,3,0,0,0,0,0,48,7.8125,257299.2917]
["Clark County Public Transportation Benefit Area Authority","Vancouver","WA",24,24,"Independent Public Agency or Authority of Transit Service","Full Reporter",1849898,180,"Bus",null,14,0,4,18,0,0,0,0,8,7,22,0,0,29,1,0,0,0,0,103,8.3495145631067906,373155.96120000002]
["Clark County Public Transportation Benefit Area Authority","Vancouver","WA",24,24,"Independent Public Agency or Authority of Transit Service","Full Reporter",1849898,180,"Automobiles (Service)",null,0,1,0,0,0,1,0,0,0,0,0,0,0,0,0,0,0,0,0,2]
["Clark County Public Transportation Benefit Area Authority","Vancouver","WA",24,24,"Independent Public Agency or Authority of Transit Service","Full Reporter",1849898,180,"Articulated Bus",null,0,0,10,0,0,0,0,0,0,0,0,0,0,0,0,0,0,0,0,10,2,79134]
["Montachusett Regional Transit Authority","Fitchburg","MA",1061,10061,"Independent Public Agency or Authority of Transit Service","Full Reporter",116960,179,"Van",null,0,0,8,0,0,0,0,0,0,0,4,2,0,0,0,0,0,0,0,14,5.5714285714285703,116943.5]
["Montachusett Regional Transit Authority","Fitchburg","MA",1061,10061,"Independent Public Agency or Authority of Transit Service","Full Reporter",116960,179,"Trucks and other Rubber Tire Vehicles (Service)",null,3,0,0,1,0,6,0,0,3,2,0,0,0,0,1,0,0,0,0,16]
["Montachusett Regional Transit Authority","Fitchburg","MA",1061,10061,"Independent Public Agency or Authority of Transit Service","Full Reporter",116960,179,"Cutaway",null,12,12,13,18,15,10,0,25,25,5,5,11,3,3,2,0,0,0,0,159,5.6855345911949602,120293.69809999999]
["Montachusett Regional Transit Authority","Fitchburg","MA",1061,10061,"Independent Public Agency or Authority of Transit Service","Full Reporter",116960,179,"Bus",null,0,0,2,0,0,8,0,0,3,0,0,5,0,5,0,0,0,0,0,23,8.2173913043478208,240191.56520000001]
["Montachusett Regional Transit Authority","Fitchburg","MA",1061,10061,"Independent Public Agency or Authority of Transit Service","Full Reporter",116960,179,"Automobiles (Service)",null,0,0,0,0,0,0,0,0,0,0,0,0,0,3,0,0,0,0,0,3]
["KI BOIS Community Action Foundation, Inc.","Stigler","OK","6R04-010","6R04-60172","Private-Non-Profit Corporation","Rural Reporter",0,179,"Van",null,1,30,0,3,0,0,0,0,0,0,0,3,2,1,2,0,0,0,0,42,3.4047619047619002,0]
["KI BOIS Community Action Foundation, Inc.","Stigler","OK","6R04-010","6R04-60172","Private-Non-Profit Corporation","Rural Reporter",0,179,"Sports Utility Vehicle",null,0,0,0,0,3,0,20,0,0,0,0,0,0,0,0,0,0,0,0,23,5.7391304347826004,0]
["KI BOIS Community Action Foundation, Inc.","Stigler","OK","6R04-010","6R04-60172","Private-Non-Profit Corporation","Rural Reporter",0,179,"Minivan",null,0,22,18,0,11,14,2,11,0,3,2,0,0,0,0,0,0,0,0,83,3.7108433734939701,0]
["KI BOIS Community Action Foundation, Inc.","Stigler","OK","6R04-010","6R04-60172","Private-Non-Profit Corporation","Rural Reporter",0,179,"Cutaway",null,0,0,3,9,13,1,14,13,0,13,6,8,1,7,0,0,0,0,0,88,7.2045454545454497,0]
["Greater Dayton Regional Transit Authority","Dayton","OH",5017,50017,"Independent Public Agency or Authority of Transit Service","Full Reporter",724091,178,"Trucks and other Rubber Tire Vehicles (Service)",null,1,3,6,3,4,0,7,3,0,2,1,0,2,1,5,5,0,0,0,43]
["Greater Dayton Regional Transit Authority","Dayton","OH",5017,50017,"Independent Public Agency or Authority of Transit Service","Full Reporter",724091,178,"Trolleybus",null,0,0,0,0,4,0,0,0,0,0,0,0,0,0,33,0,0,0,0,37,18.270270270270199,305948.08110000001]
["Greater Dayton Regional Transit Authority","Dayton","OH",5017,50017,"Independent Public Agency or Authority of Transit Service","Full Reporter",724091,178,"Cutaway",null,0,45,30,0,0,0,0,0,0,0,0,0,0,0,0,0,0,0,0,75,1.4,57438.2]
["Greater Dayton Regional Transit Authority","Dayton","OH",5017,50017,"Independent Public Agency or Authority of Transit Service","Full Reporter",724091,178,"Bus",null,28,25,24,0,0,0,4,0,50,24,4,5,0,0,1,0,0,0,0,165,5,295735.58179999999]
["Greater Dayton Regional Transit Authority","Dayton","OH",5017,50017,"Independent Public Agency or Authority of Transit Service","Full Reporter",724091,178,"Automobiles (Service)",null,0,0,0,1,0,0,0,0,0,0,0,0,0,0,0,0,0,0,0,1]
["Capital Area Transportation Authority","Lansing","MI",5036,50036,"Independent Public Agency or Authority of Transit Service","Full Reporter",313532,174,"Trucks and other Rubber Tire Vehicles (Service)",null,0,15,2,0,0,6,0,0,3,1,1,4,1,1,0,0,0,0,0,34]
["Capital Area Transportation Authority","Lansing","MI",5036,50036,"Independent Public Agency or Authority of Transit Service","Full Reporter",313532,174,"Minivan",null,0,12,0,31,7,3,0,0,0,0,0,0,0,0,0,0,0,0,0,53,2.7924528301886702,127047.73579999999]
["Capital Area Transportation Authority","Lansing","MI",5036,50036,"Independent Public Agency or Authority of Transit Service","Full Reporter",313532,174,"Cutaway",null,0,0,0,6,5,16,6,0,10,3,3,0,0,0,0,0,0,0,0,49,5.9387755102040796,181364.77549999999]
["Capital Area Transportation Authority","Lansing","MI",5036,50036,"Independent Public Agency or Authority of Transit Service","Full Reporter",313532,174,"Bus",null,0,0,7,7,8,10,4,3,4,9,1,0,7,12,17,0,0,0,0,89,9.3033707865168491,355153.41570000001]
["Capital Area Transportation Authority","Lansing","MI",5036,50036,"Independent Public Agency or Authority of Transit Service","Full Reporter",313532,174,"Automobiles (Service)",null,1,0,0,0,0,0,0,0,0,0,0,0,0,0,0,0,0,0,0,1]
["Capital Area Transportation Authority","Lansing","MI",5036,50036,"Independent Public Agency or Authority of Transit Service","Full Reporter",313532,174,"Articulated Bus",null,0,0,0,0,0,0,0,0,0,2,0,3,0,7,0,0,0,0,0,12,12.5,328233.75]
["Lehigh and Northampton Transportation Authority","Allentown","PA",3010,30010,"Independent Public Agency or Authority of Transit Service","Full Reporter",664651,173,"Trucks and other Rubber Tire Vehicles (Service)",null,0,0,0,0,0,1,0,1,3,3,0,0,0,3,1,1,0,0,0,13]
["Lehigh and Northampton Transportation Authority","Allentown","PA",3010,30010,"Independent Public Agency or Authority of Transit Service","Full Reporter",664651,173,"Cutaway",null,11,0,34,15,0,19,20,20,0,0,0,0,0,0,0,0,0,0,0,119,3.9327731092436902,149919.14290000001]
["Lehigh and Northampton Transportation Authority","Allentown","PA",3010,30010,"Independent Public Agency or Authority of Transit Service","Full Reporter",664651,173,"Bus",null,8,16,3,0,9,0,10,0,5,0,0,0,8,20,26,0,0,0,0,105,9.2952380952380906,342130.15240000002]
["Lehigh and Northampton Transportation Authority","Allentown","PA",3010,30010,"Independent Public Agency or Authority of Transit Service","Full Reporter",664651,173,"Automobiles (Service)",null,0,0,0,0,0,0,0,3,0,0,0,0,0,1,1,0,0,0,0,5]
["City of Colorado Springs, dba: Mountain Metropolitan Transit","Colorado Springs","CO",8005,80005,"City, County or Local Government Unit or Department of Transportation","Full Reporter",559409,173,"Van",null,0,0,1,0,17,0,7,0,0,0,0,0,0,0,0,0,0,0,0,25,4.4800000000000004,86701.6]
["City of Colorado Springs, dba: Mountain Metropolitan Transit","Colorado Springs","CO",8005,80005,"City, County or Local Government Unit or Department of Transportation","Full Reporter",559409,173,"Trucks and other Rubber Tire Vehicles (Service)",null,0,0,0,0,0,0,0,0,1,0,2,1,0,0,1,0,0,0,0,5]
["City of Colorado Springs, dba: Mountain Metropolitan Transit","Colorado Springs","CO",8005,80005,"City, County or Local Government Unit or Department of Transportation","Full Reporter",559409,173,"Minivan",null,11,0,0,0,0,0,0,0,0,0,0,0,0,0,0,0,0,0,0,11,0,5185]
["City of Colorado Springs, dba: Mountain Metropolitan Transit","Colorado Springs","CO",8005,80005,"City, County or Local Government Unit or Department of Transportation","Full Reporter",559409,173,"Cutaway",null,0,14,0,0,0,18,0,0,16,0,0,0,0,0,0,0,0,0,0,48,4.8333333333333304,217205]
["City of Colorado Springs, dba: Mountain Metropolitan Transit","Colorado Springs","CO",8005,80005,"City, County or Local Government Unit or Department of Transportation","Full Reporter",559409,173,"Bus",null,9,10,8,6,0,0,0,0,0,0,6,6,11,4,0,0,0,0,0,60,5.9,293386.76669999998]
["City of Colorado Springs, dba: Mountain Metropolitan Transit","Colorado Springs","CO",8005,80005,"City, County or Local Government Unit or Department of Transportation","Full Reporter",559409,173,"Automobiles (Service)",null,0,0,0,0,1,0,0,14,2,4,1,0,1,0,0,0,0,0,0,23]
["Hillsborough Area Regional Transit Authority","Tampa","FL",4041,40041,"Independent Public Agency or Authority of Transit Service","Full Reporter",2441770,172,"Van",null,0,0,0,0,18,0,12,6,0,0,0,0,0,0,0,0,0,0,0,36,5.1666666666666599,327599.1667]
["Hillsborough Area Regional Transit Authority","Tampa","FL",4041,40041,"Independent Public Agency or Authority of Transit Service","Full Reporter",2441770,172,"Trucks and other Rubber Tire Vehicles (Service)",null,0,2,2,1,0,0,0,6,0,0,4,0,0,3,0,0,0,0,0,18]
["Hillsborough Area Regional Transit Authority","Tampa","FL",4041,40041,"Independent Public Agency or Authority of Transit Service","Full Reporter",2441770,172,"Light Rail Vehicle",null,0,0,0,0,0,0,0,0,0,0,0,0,0,1,8,0,0,1,0,10,19.8,119578]
["Hillsborough Area Regional Transit Authority","Tampa","FL",4041,40041,"Independent Public Agency or Authority of Transit Service","Full Reporter",2441770,172,"Cutaway",null,0,10,8,0,27,0,0,0,0,0,0,0,0,0,0,0,0,0,0,45,2.9777777777777699,115512.5333]
["Hillsborough Area Regional Transit Authority","Tampa","FL",4041,40041,"Independent Public Agency or Authority of Transit Service","Full Reporter",2441770,172,"Bus",null,0,25,13,22,0,12,14,0,29,29,0,5,12,10,0,0,0,0,0,171,6.3333333333333304,323219.75439999998]
["Hillsborough Area Regional Transit Authority","Tampa","FL",4041,40041,"Independent Public Agency or Authority of Transit Service","Full Reporter",2441770,172,"Automobiles (Service)",null,0,0,6,0,8,1,1,1,2,0,14,5,0,0,1,0,0,0,0,39]
["City of Santa Monica, dba: Big Blue Bus","Santa Monica","CA",9008,90008,"City, County or Local Government Unit or Department of Transportation","Full Reporter",12150996,172,"Van",null,0,0,0,0,1,0,0,0,0,0,0,0,0,0,0,0,0,0,0,1,4,36358]
["City of Santa Monica, dba: Big Blue Bus","Santa Monica","CA",9008,90008,"City, County or Local Government Unit or Department of Transportation","Full Reporter",12150996,172,"Trucks and other Rubber Tire Vehicles (Service)",null,0,0,0,0,0,0,1,1,0,1,0,1,0,0,0,0,0,0,0,4]
["City of Santa Monica, dba: Big Blue Bus","Santa Monica","CA",9008,90008,"City, County or Local Government Unit or Department of Transportation","Full Reporter",12150996,172,"Cutaway",null,0,0,0,2,4,0,0,0,0,0,0,0,0,0,0,0,0,0,0,6,3.6666666666666599,39001.666700000002]
["City of Santa Monica, dba: Big Blue Bus","Santa Monica","CA",9008,90008,"City, County or Local Government Unit or Department of Transportation","Full Reporter",12150996,172,"Bus",null,7,19,6,4,24,44,1,19,5,0,0,0,10,32,0,0,0,0,0,171,6.4678362573099397,178293.42689999999]
["City of Santa Monica, dba: Big Blue Bus","Santa Monica","CA",9008,90008,"City, County or Local Government Unit or Department of Transportation","Full Reporter",12150996,172,"Automobiles (Service)",null,3,0,3,0,4,3,0,0,0,3,0,0,0,2,0,0,0,0,0,18]
["City of Santa Monica, dba: Big Blue Bus","Santa Monica","CA",9008,90008,"City, County or Local Government Unit or Department of Transportation","Full Reporter",12150996,172,"Articulated Bus",null,0,0,0,7,0,0,0,21,0,0,0,0,0,0,0,0,0,0,0,28,6,179450.5]
["Southeast Missouri Transportation, Inc.","Fredericktown","TX","7R03-029","7R03-70091","Private-Non-Profit Corporation","Rural Reporter",0,167,"Van",null,0,0,0,2,4,0,2,1,0,0,0,0,27,0,0,0,0,0,0,36,10.1388888888888,0]
["Southeast Missouri Transportation, Inc.","Fredericktown","TX","7R03-029","7R03-70091","Private-Non-Profit Corporation","Rural Reporter",0,167,"Minivan",null,0,6,0,7,14,0,10,1,16,0,7,3,0,0,0,0,0,0,0,64,5.953125,0]
["Southeast Missouri Transportation, Inc.","Fredericktown","TX","7R03-029","7R03-70091","Private-Non-Profit Corporation","Rural Reporter",0,167,"Cutaway",null,6,18,1,6,2,5,5,10,8,9,3,0,0,0,0,0,0,0,0,73,4.7397260273972597,0]
["Southeast Missouri Transportation, Inc.","Fredericktown","TX","7R03-029","7R03-70091","Private-Non-Profit Corporation","Rural Reporter",0,167,"Bus",null,3,1,0,0,0,0,0,2,0,0,0,0,0,0,0,0,0,0,0,6,2.5,0]
["New Orleans Regional Transit Authority","New Orleans","LA",6032,60032,"Independent Public Agency or Authority of Transit Service","Full Reporter",899703,165,"Vintage Trolley",null,0,0,0,0,0,0,0,0,0,0,0,0,0,0,0,0,0,0,35,35,95,1722671]
["New Orleans Regional Transit Authority","New Orleans","LA",6032,60032,"Independent Public Agency or Authority of Transit Service","Full Reporter",899703,165,"Van",null,0,0,17,8,0,0,3,0,0,0,0,0,0,0,0,0,0,0,0,28,2.71428571428571,96734.071400000001]
["New Orleans Regional Transit Authority","New Orleans","LA",6032,60032,"Independent Public Agency or Authority of Transit Service","Full Reporter",899703,165,"Trucks and other Rubber Tire Vehicles (Service)",null,2,2,0,28,6,2,1,0,0,3,6,8,0,1,5,1,0,0,0,65]
["New Orleans Regional Transit Authority","New Orleans","LA",6032,60032,"Independent Public Agency or Authority of Transit Service","Full Reporter",899703,165,"Streetcar Rail",null,0,0,0,0,0,0,0,0,0,0,0,0,0,24,0,7,0,0,0,31,15.580645161290301,216261.0968]
["New Orleans Regional Transit Authority","New Orleans","LA",6032,60032,"Independent Public Agency or Authority of Transit Service","Full Reporter",899703,165,"Steel Wheel Vehicles (Service)",null,0,0,0,0,0,0,0,0,0,0,0,0,0,0,0,0,0,0,1,1]
["New Orleans Regional Transit Authority","New Orleans","LA",6032,60032,"Independent Public Agency or Authority of Transit Service","Full Reporter",899703,165,"Over-the-road Bus",null,0,0,0,0,0,0,0,0,0,0,0,0,0,4,0,0,0,0,0,4,13,140423]
["New Orleans Regional Transit Authority","New Orleans","LA",6032,60032,"Independent Public Agency or Authority of Transit Service","Full Reporter",899703,165,"Ferryboat",null,0,0,0,0,0,0,0,0,0,0,0,0,0,0,0,0,0,2,1,3,52.3333333333333,447445.6667]
["New Orleans Regional Transit Authority","New Orleans","LA",6032,60032,"Independent Public Agency or Authority of Transit Service","Full Reporter",899703,165,"Cutaway",null,0,0,0,0,0,13,0,0,0,10,0,0,0,0,0,0,0,0,0,23,6.7391304347826004,171370.30429999999]
["New Orleans Regional Transit Authority","New Orleans","LA",6032,60032,"Independent Public Agency or Authority of Transit Service","Full Reporter",899703,165,"Bus",null,0,0,0,0,0,0,8,0,75,0,29,0,0,0,0,0,0,0,0,112,8.375,315093.58039999998]
["New Orleans Regional Transit Authority","New Orleans","LA",6032,60032,"Independent Public Agency or Authority of Transit Service","Full Reporter",899703,165,"Automobiles (Service)",null,0,0,0,0,0,0,0,0,6,0,0,0,0,0,0,0,0,0,0,6]
["New Orleans Regional Transit Authority","New Orleans","LA",6032,60032,"Independent Public Agency or Authority of Transit Service","Full Reporter",899703,165,"Articulated Bus",null,0,0,0,0,0,0,11,0,5,0,0,0,0,0,0,0,0,0,0,16,6.625,249589.625]
["Municipality of Anchorage, dba: Public Transportation","Anchorage","AK",12,12,"City, County or Local Government Unit or Department of Transportation","Full Reporter",251243,162,"Van",null,5,8,26,0,4,0,15,1,3,0,0,0,0,0,0,0,0,0,0,62,3.1774193548387002,58250.758099999999]
["Municipality of Anchorage, dba: Public Transportation","Anchorage","AK",12,12,"City, County or Local Government Unit or Department of Transportation","Full Reporter",251243,162,"Trucks and other Rubber Tire Vehicles (Service)",null,0,0,0,3,0,4,9,2,0,0,2,1,2,2,2,1,0,0,0,28]
["Municipality of Anchorage, dba: Public Transportation","Anchorage","AK",12,12,"City, County or Local Government Unit or Department of Transportation","Full Reporter",251243,162,"Sports Utility Vehicle",null,27,10,1,0,0,0,0,0,0,0,0,0,0,0,0,0,0,0,0,38,0.31578947368421001,18494.4211]
["Municipality of Anchorage, dba: Public Transportation","Anchorage","AK",12,12,"City, County or Local Government Unit or Department of Transportation","Full Reporter",251243,162,"Cutaway",null,0,10,13,0,0,4,11,10,1,0,0,1,0,0,0,0,0,0,0,50,4.22,116888.26]
["Municipality of Anchorage, dba: Public Transportation","Anchorage","AK",12,12,"City, County or Local Government Unit or Department of Transportation","Full Reporter",251243,162,"Bus",null,0,0,0,0,0,11,0,8,15,0,18,0,0,0,2,0,0,0,0,54,8.3518518518518494,348675.59259999997]
["City of Gainesville, FL, dba: Regional Transit System","Gainesville","FL",4030,40030,"City, County or Local Government Unit or Department of Transportation","Full Reporter",187781,158,"Van",null,7,1,3,0,0,0,0,0,0,0,0,0,0,0,0,0,0,0,0,11,0.63636363636363602,29400]
["City of Gainesville, FL, dba: Regional Transit System","Gainesville","FL",4030,40030,"City, County or Local Government Unit or Department of Transportation","Full Reporter",187781,158,"Trucks and other Rubber Tire Vehicles (Service)",null,3,0,0,0,0,0,0,3,0,0,1,0,0,1,0,0,0,0,0,8]
["City of Gainesville, FL, dba: Regional Transit System","Gainesville","FL",4030,40030,"City, County or Local Government Unit or Department of Transportation","Full Reporter",187781,158,"Sports Utility Vehicle",null,1,0,1,0,0,0,0,0,0,0,0,0,0,0,0,0,0,0,0,2,1,29368.5]
["City of Gainesville, FL, dba: Regional Transit System","Gainesville","FL",4030,40030,"City, County or Local Government Unit or Department of Transportation","Full Reporter",187781,158,"Minivan",null,0,0,1,0,0,0,0,0,0,0,0,0,0,0,0,0,0,0,0,1,2,60025]
["City of Gainesville, FL, dba: Regional Transit System","Gainesville","FL",4030,40030,"City, County or Local Government Unit or Department of Transportation","Full Reporter",187781,158,"Cutaway",null,1,1,11,5,0,0,1,0,0,0,0,0,0,0,0,0,0,0,0,19,2.3157894736842102,127358.2105]
["City of Gainesville, FL, dba: Regional Transit System","Gainesville","FL",4030,40030,"City, County or Local Government Unit or Department of Transportation","Full Reporter",187781,158,"Bus",null,10,0,7,2,3,3,8,6,17,4,0,18,14,13,29,0,0,0,0,134,9.9626865671641696,403986.17910000001]
["City of Gainesville, FL, dba: Regional Transit System","Gainesville","FL",4030,40030,"City, County or Local Government Unit or Department of Transportation","Full Reporter",187781,158,"Automobiles (Service)",null,0,5,1,3,2,3,6,3,4,0,5,3,1,0,0,0,0,0,0,36]
["County of Volusia, dba: VOTRAN","South Daytona","FL",4032,40032,"City, County or Local Government Unit or Department of Transportation","Full Reporter",349064,156,"Van",null,8,0,0,3,0,0,0,0,0,0,0,0,0,0,0,0,0,0,0,11,0.81818181818181801,32634.363600000001]
["County of Volusia, dba: VOTRAN","South Daytona","FL",4032,40032,"City, County or Local Government Unit or Department of Transportation","Full Reporter",349064,156,"Trucks and other Rubber Tire Vehicles (Service)",null,0,0,0,0,0,1,0,0,11,3,0,1,1,1,0,0,0,0,0,18]
["County of Volusia, dba: VOTRAN","South Daytona","FL",4032,40032,"City, County or Local Government Unit or Department of Transportation","Full Reporter",349064,156,"Cutaway",null,0,14,8,16,1,0,11,0,7,0,6,4,1,2,1,0,0,0,0,71,5.1549295774647801,181309.56340000001]
["County of Volusia, dba: VOTRAN","South Daytona","FL",4032,40032,"City, County or Local Government Unit or Department of Transportation","Full Reporter",349064,156,"Bus",null,5,0,4,11,9,4,6,0,9,0,11,0,6,11,6,0,0,0,0,82,8.0487804878048692,399672.04879999999]
["County of Volusia, dba: VOTRAN","South Daytona","FL",4032,40032,"City, County or Local Government Unit or Department of Transportation","Full Reporter",349064,156,"Automobiles (Service)",null,0,0,0,0,0,0,0,0,0,0,0,1,0,0,0,0,0,0,0,1]
["Golden Gate Bridge, Highway and Transportation District","San Francisco","CA",9016,90016,"Independent Public Agency or Authority of Transit Service","Full Reporter",3281212,154,"Trucks and other Rubber Tire Vehicles (Service)",null,0,8,9,5,3,2,10,3,4,7,9,5,4,7,3,0,0,0,0,79]
["Golden Gate Bridge, Highway and Transportation District","San Francisco","CA",9016,90016,"Independent Public Agency or Authority of Transit Service","Full Reporter",3281212,154,"Over-the-road Bus",null,0,0,0,0,25,0,32,0,23,0,0,0,0,0,0,0,0,0,0,80,5.95,163733.36249999999]
["Golden Gate Bridge, Highway and Transportation District","San Francisco","CA",9016,90016,"Independent Public Agency or Authority of Transit Service","Full Reporter",3281212,154,"Ferryboat",null,0,0,0,0,0,0,0,0,0,0,0,0,0,0,4,0,0,3,0,7,28.714285714285701,724021.57140000002]
["Golden Gate Bridge, Highway and Transportation District","San Francisco","CA",9016,90016,"Independent Public Agency or Authority of Transit Service","Full Reporter",3281212,154,"Cutaway",null,0,0,0,0,0,14,0,0,0,0,0,0,0,0,0,0,0,0,0,14,5,167756]
["Golden Gate Bridge, Highway and Transportation District","San Francisco","CA",9016,90016,"Independent Public Agency or Authority of Transit Service","Full Reporter",3281212,154,"Bus",null,0,0,0,0,0,0,0,0,0,0,0,0,0,70,0,0,0,0,0,70,15,590914]
["Golden Gate Bridge, Highway and Transportation District","San Francisco","CA",9016,90016,"Independent Public Agency or Authority of Transit Service","Full Reporter",3281212,154,"Automobiles (Service)",null,0,6,0,2,0,0,1,7,0,4,12,0,0,0,0,0,0,0,0,32]
["City of Fresno, dba: Fresno Area Express","Fresno","CA",9027,90027,"City, County or Local Government Unit or Department of Transportation","Full Reporter",654628,150,"Trucks and other Rubber Tire Vehicles (Service)",null,0,1,4,0,0,0,1,0,0,2,1,0,0,8,3,1,0,0,0,21]
["City of Fresno, dba: Fresno Area Express","Fresno","CA",9027,90027,"City, County or Local Government Unit or Department of Transportation","Full Reporter",654628,150,"Cutaway",null,0,11,0,8,22,0,0,2,0,0,3,1,1,1,0,0,0,0,0,49,4.1428571428571397,129352.6327]
["City of Fresno, dba: Fresno Area Express","Fresno","CA",9027,90027,"City, County or Local Government Unit or Department of Transportation","Full Reporter",654628,150,"Bus",null,0,26,17,0,8,2,3,9,0,17,0,0,14,13,0,0,0,0,0,109,6.2293577981651298,262204.15600000002]
["City of Fresno, dba: Fresno Area Express","Fresno","CA",9027,90027,"City, County or Local Government Unit or Department of Transportation","Full Reporter",654628,150,"Automobiles (Service)",null,0,11,4,0,3,0,4,0,0,1,8,4,0,5,0,0,0,0,0,40]
["City of Fresno, dba: Fresno Area Express","Fresno","CA",9027,90027,"City, County or Local Government Unit or Department of Transportation","Full Reporter",654628,150,"Automobile",null,0,5,0,0,1,0,0,0,0,0,0,0,0,0,0,0,0,0,0,6,1.5,35922.5]
["Greater Hartford Transit District","Hartford","CT",1017,10017,"Independent Public Agency or Authority of Transit Service","Full Reporter",924859,147,"Trucks and other Rubber Tire Vehicles (Service)",null,0,2,0,3,0,0,1,0,0,0,0,0,0,0,1,0,1,0,0,8]
["Greater Hartford Transit District","Hartford","CT",1017,10017,"Independent Public Agency or Authority of Transit Service","Full Reporter",924859,147,"Cutaway",null,25,35,75,0,11,11,0,0,0,0,0,0,0,0,0,0,0,0,0,157,1.80891719745222,67482.426800000001]
["Greater Hartford Transit District","Hartford","CT",1017,10017,"Independent Public Agency or Authority of Transit Service","Full Reporter",924859,147,"Automobiles (Service)",null,0,1,0,2,1,0,0,1,0,2,0,0,0,0,0,0,0,0,0,7]
["City of Memphis, dba: Memphis Area Transit Authority","Memphis","TN",4003,40003,"City, County or Local Government Unit or Department of Transportation","Full Reporter",1060061,145,"Van",null,0,8,0,0,10,2,0,2,0,1,0,0,1,0,0,0,0,0,0,24,3.875,141709.1667]
["City of Memphis, dba: Memphis Area Transit Authority","Memphis","TN",4003,40003,"City, County or Local Government Unit or Department of Transportation","Full Reporter",1060061,145,"Trucks and other Rubber Tire Vehicles (Service)",null,3,0,1,0,4,4,10,1,9,5,0,0,0,0,0,1,1,0,0,39]
["City of Memphis, dba: Memphis Area Transit Authority","Memphis","TN",4003,40003,"City, County or Local Government Unit or Department of Transportation","Full Reporter",1060061,145,"Light Rail Vehicle",null,0,0,0,0,0,0,0,0,0,0,0,0,0,1,0,0,0,0,3,4,72.75,1841.5]
["City of Memphis, dba: Memphis Area Transit Authority","Memphis","TN",4003,40003,"City, County or Local Government Unit or Department of Transportation","Full Reporter",1060061,145,"Bus",null,9,15,12,11,27,0,15,0,38,9,0,4,0,2,0,0,0,0,0,142,5.1338028169014001,283930.57750000001]
["City of Memphis, dba: Memphis Area Transit Authority","Memphis","TN",4003,40003,"City, County or Local Government Unit or Department of Transportation","Full Reporter",1060061,145,"Automobiles (Service)",null,0,0,0,1,0,0,0,0,5,0,0,1,0,0,0,0,0,0,0,7]
["Madison County Transit District","Granite City","IL",5146,50146,"Independent Public Agency or Authority of Transit Service","Full Reporter",2150706,144,"Van",null,18,0,0,0,4,23,5,7,0,6,0,0,4,0,0,0,0,0,0,67,4.6567164179104399,55707.283600000002]
["Madison County Transit District","Granite City","IL",5146,50146,"Independent Public Agency or Authority of Transit Service","Full Reporter",2150706,144,"Trucks and other Rubber Tire Vehicles (Service)",null,1,0,6,7,1,1,0,2,2,0,1,1,1,3,0,1,0,0,0,27]
["Madison County Transit District","Granite City","IL",5146,50146,"Independent Public Agency or Authority of Transit Service","Full Reporter",2150706,144,"Minivan",null,4,7,5,0,0,0,0,0,0,0,0,0,0,0,0,0,0,0,0,16,1.0625,18704.375]
["Madison County Transit District","Granite City","IL",5146,50146,"Independent Public Agency or Authority of Transit Service","Full Reporter",2150706,144,"Cutaway",null,0,13,0,0,0,0,28,0,0,0,0,0,0,0,0,0,0,0,0,41,4.4146341463414602,104924.8049]
["Madison County Transit District","Granite City","IL",5146,50146,"Independent Public Agency or Authority of Transit Service","Full Reporter",2150706,144,"Bus",null,0,0,0,0,0,0,26,6,44,0,0,0,0,0,0,0,0,0,0,76,7.2368421052631504,353451.38160000002]
["Madison County Transit District","Granite City","IL",5146,50146,"Independent Public Agency or Authority of Transit Service","Full Reporter",2150706,144,"Automobiles (Service)",null,0,3,0,19,0,0,0,0,0,0,0,0,0,0,0,0,0,0,0,22]
["Peninsula Corridor Joint Powers Board, dba: Caltrain","San Carlos","CA",9134,90134,"Independent Public Agency or Authority of Transit Service","Full Reporter",3281212,141,"Trucks and other Rubber Tire Vehicles (Service)",null,15,8,6,11,22,14,3,6,7,4,5,5,3,6,12,3,0,0,0,130]
["Peninsula Corridor Joint Powers Board, dba: Caltrain","San Carlos","CA",9134,90134,"Independent Public Agency or Authority of Transit Service","Full Reporter",3281212,141,"Steel Wheel Vehicles (Service)",null,0,0,1,0,0,0,0,0,0,1,1,2,0,0,0,0,2,44,0,51]
["Peninsula Corridor Joint Powers Board, dba: Caltrain","San Carlos","CA",9134,90134,"Independent Public Agency or Authority of Transit Service","Full Reporter",3281212,141,"Commuter Rail Passenger Coach",null,0,0,0,0,0,0,0,0,0,0,8,0,0,0,37,15,0,73,0,133,25.834586466165401,1204930.6466000001]
["Peninsula Corridor Joint Powers Board, dba: Caltrain","San Carlos","CA",9134,90134,"Independent Public Agency or Authority of Transit Service","Full Reporter",3281212,141,"Commuter Rail Locomotive",null,0,0,0,0,0,0,0,0,0,0,0,0,0,6,3,0,0,20,0,29,27.931034482758601,1197975.9654999999]
["Peninsula Corridor Joint Powers Board, dba: Caltrain","San Carlos","CA",9134,90134,"Independent Public Agency or Authority of Transit Service","Full Reporter",3281212,141,"Automobiles (Service)",null,0,0,0,0,0,0,0,0,0,0,0,0,0,1,0,0,0,0,0,1]
["Research Triangle Regional Public Transportation Authority, dba: GoTriangle","Research Triangle Park","NC",4108,40108,"Independent Public Agency or Authority of Transit Service","Full Reporter",347602,140,"Van",null,0,3,3,7,2,8,4,4,0,3,1,0,0,0,0,0,0,0,0,35,4.7714285714285696,70805.428599999999]
["Research Triangle Regional Public Transportation Authority, dba: GoTriangle","Research Triangle Park","NC",4108,40108,"Independent Public Agency or Authority of Transit Service","Full Reporter",347602,140,"Trucks and other Rubber Tire Vehicles (Service)",null,0,0,3,0,0,0,1,0,1,0,0,1,0,0,0,0,0,0,0,6]
["Research Triangle Regional Public Transportation Authority, dba: GoTriangle","Research Triangle Park","NC",4108,40108,"Independent Public Agency or Authority of Transit Service","Full Reporter",347602,140,"Minivan",null,0,0,0,0,0,0,0,0,1,9,2,1,0,0,0,0,0,0,0,13,9.2307692307692299,111480.1538]
["Research Triangle Regional Public Transportation Authority, dba: GoTriangle","Research Triangle Park","NC",4108,40108,"Independent Public Agency or Authority of Transit Service","Full Reporter",347602,140,"Cutaway",null,0,0,5,0,0,6,0,0,3,0,6,0,0,0,0,0,0,0,0,20,6.2,221051.95]
["Research Triangle Regional Public Transportation Authority, dba: GoTriangle","Research Triangle Park","NC",4108,40108,"Independent Public Agency or Authority of Transit Service","Full Reporter",347602,140,"Bus",null,0,10,0,0,0,0,0,16,8,12,20,0,3,0,0,0,0,0,0,69,7.6811594202898501,355123.89860000001]
["Research Triangle Regional Public Transportation Authority, dba: GoTriangle","Research Triangle Park","NC",4108,40108,"Independent Public Agency or Authority of Transit Service","Full Reporter",347602,140,"Automobiles (Service)",null,0,0,3,0,0,0,0,0,0,0,0,0,1,0,0,0,0,0,0,4]
["Minnesota Valley Transit Authority","Burnsville","MN",5222,50519,"Independent Public Agency or Authority of Transit Service","Full Reporter",2650890,140,"Over-the-road Bus",null,13,7,0,11,0,2,1,0,1,2,0,1,15,0,0,0,0,0,0,53,5.1509433962264097,225313.43400000001]
["Minnesota Valley Transit Authority","Burnsville","MN",5222,50519,"Independent Public Agency or Authority of Transit Service","Full Reporter",2650890,140,"Cutaway",null,0,0,0,7,0,0,4,0,3,0,0,0,0,0,0,0,0,0,0,14,4.9285714285714199,154798.42860000001]
["Minnesota Valley Transit Authority","Burnsville","MN",5222,50519,"Independent Public Agency or Authority of Transit Service","Full Reporter",2650890,140,"Bus",null,13,19,0,22,0,6,9,0,2,11,0,9,0,7,0,0,0,0,0,98,4.8979591836734597,214882.7041]
["Minnesota Valley Transit Authority","Burnsville","MN",5222,50519,"Independent Public Agency or Authority of Transit Service","Full Reporter",2650890,140,"Automobiles (Service)",null,0,0,1,0,1,1,0,0,0,0,0,0,0,0,0,0,0,0,0,3]
["Central Contra Costa Transit Authority, dba: COUNTY CONNECTION","Concord","CA",9078,90078,"Independent Public Agency or Authority of Transit Service","Full Reporter",615968,140,"Trucks and other Rubber Tire Vehicles (Service)",null,0,0,2,0,0,0,1,0,0,0,0,0,0,0,0,1,0,0,0,4]
["Central Contra Costa Transit Authority, dba: COUNTY CONNECTION","Concord","CA",9078,90078,"Independent Public Agency or Authority of Transit Service","Full Reporter",615968,140,"Minivan",null,0,0,0,0,3,0,0,0,0,0,0,0,0,0,0,0,0,0,0,3,4,59336]
["Central Contra Costa Transit Authority, dba: COUNTY CONNECTION","Concord","CA",9078,90078,"Independent Public Agency or Authority of Transit Service","Full Reporter",615968,140,"Cutaway",null,3,0,0,14,0,0,0,40,0,2,0,0,0,0,0,0,0,0,0,59,5.7627118644067696,145384.71189999999]
["Central Contra Costa Transit Authority, dba: COUNTY CONNECTION","Concord","CA",9078,90078,"Independent Public Agency or Authority of Transit Service","Full Reporter",615968,140,"Bus",null,0,31,4,33,7,10,0,0,0,40,0,0,0,0,3,0,0,0,0,128,4.875,120205.5938]
["Central Contra Costa Transit Authority, dba: COUNTY CONNECTION","Concord","CA",9078,90078,"Independent Public Agency or Authority of Transit Service","Full Reporter",615968,140,"Automobiles (Service)",null,0,2,2,0,3,0,0,0,3,0,0,0,1,0,1,0,0,0,0,12]
["Paratransit, Inc.","Sacramento","CA",9223,90223,"Independent Public Agency or Authority of Transit Service","Full Reporter",1723634,137,"Van",null,0,0,0,0,0,0,0,0,12,0,0,0,0,0,0,0,0,0,0,12,8,140690]
["Paratransit, Inc.","Sacramento","CA",9223,90223,"Independent Public Agency or Authority of Transit Service","Full Reporter",1723634,137,"Trucks and other Rubber Tire Vehicles (Service)",null,0,0,0,0,0,0,0,0,0,0,0,1,0,0,1,0,0,0,0,2]
["Paratransit, Inc.","Sacramento","CA",9223,90223,"Independent Public Agency or Authority of Transit Service","Full Reporter",1723634,137,"Cutaway",null,0,0,0,0,0,0,50,60,0,0,0,20,0,0,0,4,0,0,0,134,7.6417910447761104,162171.2537]
["Rural Community Transportation","Lyndonville","VT","1R06-010","1R06-10148","Private-Non-Profit Corporation","Rural Reporter",0,135,"Over-the-road Bus",null,0,0,0,0,0,1,0,0,0,0,0,0,0,0,0,0,0,0,0,1,5,0]
["Rural Community Transportation","Lyndonville","VT","1R06-010","1R06-10148","Private-Non-Profit Corporation","Rural Reporter",0,135,"Minivan",null,0,1,0,2,0,0,3,0,0,0,0,0,0,0,0,0,0,0,0,6,4.1666666666666599,0]
["Rural Community Transportation","Lyndonville","VT","1R06-010","1R06-10148","Private-Non-Profit Corporation","Rural Reporter",0,135,"Cutaway",null,0,5,4,0,4,0,0,0,0,3,0,1,0,0,0,0,0,0,0,17,3.9411764705882302,0]
["Rural Community Transportation","Lyndonville","VT","1R06-010","1R06-10148","Private-Non-Profit Corporation","Rural Reporter",0,135,"Bus",null,0,0,0,0,0,1,0,0,2,0,0,0,0,0,0,0,0,0,0,3,7,0]
["Brevard Board of County Commissioners, dba: Space Coast Area Transit","Cocoa","FL",4063,40063,"City, County or Local Government Unit or Department of Transportation","Full Reporter",452791,135,"Van",null,12,0,2,0,0,26,3,13,9,4,3,0,5,0,0,0,0,0,0,77,5.7272727272727204,186159.70129999999]
["Brevard Board of County Commissioners, dba: Space Coast Area Transit","Cocoa","FL",4063,40063,"City, County or Local Government Unit or Department of Transportation","Full Reporter",452791,135,"Trucks and other Rubber Tire Vehicles (Service)",null,1,0,0,0,0,1,1,2,1,5,2,0,0,1,0,0,0,0,0,14]
["Brevard Board of County Commissioners, dba: Space Coast Area Transit","Cocoa","FL",4063,40063,"City, County or Local Government Unit or Department of Transportation","Full Reporter",452791,135,"Cutaway",null,0,0,0,0,0,9,9,8,0,0,0,0,0,0,0,0,0,0,0,26,5.9615384615384599,426468.38459999999]
["Brevard Board of County Commissioners, dba: Space Coast Area Transit","Cocoa","FL",4063,40063,"City, County or Local Government Unit or Department of Transportation","Full Reporter",452791,135,"Bus",null,4,0,0,3,0,0,0,18,0,0,3,8,0,3,0,0,0,0,0,39,7.6410256410256396,525400.25639999995]
["Mid-Cumberland Human Resource Agency","Nashville","TN",4204,40204,"Independent Public Agency or Authority of Transit Service","Reduced Reporter",133228,128,"Van",null,0,47,18,6,20,15,1,2,1,0,0,0,0,0,0,0,0,0,0,110,2.5818181818181798,79439.545499999993]
["Mid-Cumberland Human Resource Agency","Nashville","TN",4204,40204,"Independent Public Agency or Authority of Transit Service","Reduced Reporter",133228,128,"Minivan",null,0,3,0,0,12,0,0,0,0,0,0,0,0,0,0,0,0,0,0,15,3.4,125231.26669999999]
["Cumberland Dauphin-Harrisburg Transit Authority, dba: Capital Area Transit","Harrisburg","PA",3014,30014,"Independent Public Agency or Authority of Transit Service","Full Reporter",444474,125,"Trucks and other Rubber Tire Vehicles (Service)",null,0,0,0,0,2,0,0,0,0,1,0,0,0,1,0,0,0,0,0,4]
["Cumberland Dauphin-Harrisburg Transit Authority, dba: Capital Area Transit","Harrisburg","PA",3014,30014,"Independent Public Agency or Authority of Transit Service","Full Reporter",444474,125,"Over-the-road Bus",null,0,0,0,0,0,0,0,0,2,0,0,0,0,0,0,0,0,0,0,2,8,329226]
["Cumberland Dauphin-Harrisburg Transit Authority, dba: Capital Area Transit","Harrisburg","PA",3014,30014,"Independent Public Agency or Authority of Transit Service","Full Reporter",444474,125,"Cutaway",null,0,12,17,1,3,10,6,0,2,0,0,0,0,0,0,0,0,0,0,51,3.1960784313725399,110285.8431]
["Cumberland Dauphin-Harrisburg Transit Authority, dba: Capital Area Transit","Harrisburg","PA",3014,30014,"Independent Public Agency or Authority of Transit Service","Full Reporter",444474,125,"Bus",null,0,9,4,0,6,7,7,12,0,0,6,0,25,0,0,0,0,0,0,76,7.3947368421052602,220675.40789999999]
["Cumberland Dauphin-Harrisburg Transit Authority, dba: Capital Area Transit","Harrisburg","PA",3014,30014,"Independent Public Agency or Authority of Transit Service","Full Reporter",444474,125,"Automobiles (Service)",null,0,0,0,0,0,0,0,0,0,0,7,0,0,0,0,0,0,0,0,7]
["Rides Mass Transit District","Harrisburg","IL",5211,50211,"Independent Public Agency or Authority of Transit Service","Full Reporter",67821,125,"Van",null,0,0,0,0,0,0,0,0,0,0,0,0,0,0,1,0,0,0,0,1,18,3652]
["Rides Mass Transit District","Harrisburg","IL",5211,50211,"Independent Public Agency or Authority of Transit Service","Full Reporter",67821,125,"Trucks and other Rubber Tire Vehicles (Service)",null,0,8,0,0,0,2,0,0,0,0,0,0,0,0,0,0,0,0,0,10]
["Rides Mass Transit District","Harrisburg","IL",5211,50211,"Independent Public Agency or Authority of Transit Service","Full Reporter",67821,125,"Minivan",null,0,0,1,0,1,1,0,0,1,0,3,0,0,0,0,0,0,0,0,7,7,176099.14290000001]
["Rides Mass Transit District","Harrisburg","IL",5211,50211,"Independent Public Agency or Authority of Transit Service","Full Reporter",67821,125,"Cutaway",null,0,6,22,0,18,2,12,11,5,22,16,5,3,7,4,1,0,0,0,134,7.2014925373134302,228227.3731]
["Rides Mass Transit District","Harrisburg","IL",5211,50211,"Independent Public Agency or Authority of Transit Service","Full Reporter",67821,125,"Bus",null,0,0,4,0,0,0,0,0,0,0,0,0,0,0,4,0,0,0,0,8,11,130874.375]
["Rides Mass Transit District","Harrisburg","IL",5211,50211,"Independent Public Agency or Authority of Transit Service","Full Reporter",67821,125,"Automobiles (Service)",null,0,0,0,0,5,0,0,0,0,0,0,2,2,0,1,0,0,0,0,10]
["Metropolitan Bus Authority","San Juan","PR",4086,40086,"Independent Public Agency or Authority of Transit Service","Full Reporter",2148346,124,"Van",null,0,0,0,0,0,0,0,6,0,14,0,0,0,0,0,0,0,0,0,20,8.4,327070.25]
["Metropolitan Bus Authority","San Juan","PR",4086,40086,"Independent Public Agency or Authority of Transit Service","Full Reporter",2148346,124,"Trucks and other Rubber Tire Vehicles (Service)",null,0,12,0,0,0,0,0,4,22,3,0,0,0,6,2,1,0,0,0,50]
["Metropolitan Bus Authority","San Juan","PR",4086,40086,"Independent Public Agency or Authority of Transit Service","Full Reporter",2148346,124,"Cutaway",null,0,10,0,0,0,0,0,0,0,0,0,0,0,0,0,0,0,0,0,10,1,25460]
["Metropolitan Bus Authority","San Juan","PR",4086,40086,"Independent Public Agency or Authority of Transit Service","Full Reporter",2148346,124,"Bus",null,0,0,0,0,0,16,0,0,40,0,0,27,0,28,2,0,0,0,0,113,9.7699115044247709,247418.6372]
["Metropolitan Bus Authority","San Juan","PR",4086,40086,"Independent Public Agency or Authority of Transit Service","Full Reporter",2148346,124,"Automobile",null,0,25,0,0,0,0,0,0,0,0,0,0,0,0,0,0,0,0,0,25,1,23411]
["Transit Authority of Northern Kentucky","Fort Wright","KY",4019,40019,"Independent Public Agency or Authority of Transit Service","Full Reporter",1624827,123,"Trucks and other Rubber Tire Vehicles (Service)",null,0,0,1,2,0,2,0,0,0,4,1,0,0,0,1,0,2,0,0,13]
["Transit Authority of Northern Kentucky","Fort Wright","KY",4019,40019,"Independent Public Agency or Authority of Transit Service","Full Reporter",1624827,123,"Bus",null,19,13,10,15,8,20,11,11,0,8,7,8,10,6,0,0,0,0,0,146,5.3493150684931496,216563.21919999999]
["Tampa Bay Area Regional Transit Authority","Tampa","FL",4200,40200,"Independent Public Agency or Authority of Transit Service","Full Reporter",2441770,123,"Van",null,4,4,6,4,1,0,0,0,0,0,0,0,0,0,0,0,0,0,0,19,1.6842105263157801,40473.263200000001]
["Tampa Bay Area Regional Transit Authority","Tampa","FL",4200,40200,"Independent Public Agency or Authority of Transit Service","Full Reporter",2441770,123,"Sports Utility Vehicle",null,56,5,4,0,0,0,0,0,0,0,0,0,0,0,0,0,0,0,0,65,0.2,17109.9692]
["Tampa Bay Area Regional Transit Authority","Tampa","FL",4200,40200,"Independent Public Agency or Authority of Transit Service","Full Reporter",2441770,123,"Minivan",null,13,0,0,0,0,0,0,0,0,0,0,0,0,0,0,0,0,0,0,13,0,13534]
["Georgia State Road and Tollway Authority","Atlanta","GA",null,40264,"State Government Unit or Department of Transportation","Full Reporter",4515419,121,"Trucks and other Rubber Tire Vehicles (Service)",null,0,0,0,3,2,1,0,0,0,0,0,0,0,0,0,0,0,0,0,6]
["Georgia State Road and Tollway Authority","Atlanta","GA",null,40264,"State Government Unit or Department of Transportation","Full Reporter",4515419,121,"Over-the-road Bus",null,0,0,0,0,0,0,0,21,0,28,0,16,37,48,0,0,0,0,0,150,11.2733333333333,409052.04670000001]
["Georgia State Road and Tollway Authority","Atlanta","GA",null,40264,"State Government Unit or Department of Transportation","Full Reporter",4515419,121,"Automobiles (Service)",null,0,0,0,1,0,0,0,0,0,0,0,0,0,0,0,0,0,0,0,1]
["Daniel Boone Development Council","Manchester","KY","4R04-003","4R04-41023","Private-Non-Profit Corporation","Rural Reporter",0,120,"Van",null,0,0,0,0,0,0,0,0,0,2,0,0,0,5,0,0,0,0,0,7,13,0]
["Daniel Boone Development Council","Manchester","KY","4R04-003","4R04-41023","Private-Non-Profit Corporation","Rural Reporter",0,120,"Sports Utility Vehicle",null,0,6,6,3,0,0,0,0,3,6,0,0,0,4,2,0,0,0,0,30,6.5333333333333297,0]
["Daniel Boone Development Council","Manchester","KY","4R04-003","4R04-41023","Private-Non-Profit Corporation","Rural Reporter",0,120,"Minivan",null,5,12,4,15,4,5,8,4,3,0,10,5,3,5,0,0,0,0,0,83,5.6506024096385499,0]
["Daniel Boone Development Council","Manchester","KY","4R04-003","4R04-41023","Private-Non-Profit Corporation","Rural Reporter",0,120,"Cutaway",null,0,0,0,0,0,0,0,0,15,1,1,0,5,0,0,0,0,0,0,22,9.0454545454545396,0]
["Daniel Boone Development Council","Manchester","KY","4R04-003","4R04-41023","Private-Non-Profit Corporation","Rural Reporter",0,120,"Automobiles (Service)",null,0,0,0,0,0,0,0,0,0,1,0,0,0,1,0,0,0,0,0,2]
["Monterey-Salinas Transit","Monterey","CA",9062,90062,"Independent Public Agency or Authority of Transit Service","Full Reporter",114237,120,"Trucks and other Rubber Tire Vehicles (Service)",null,0,2,2,3,0,0,0,0,0,0,0,0,0,3,3,0,0,0,0,13]
["Monterey-Salinas Transit","Monterey","CA",9062,90062,"Independent Public Agency or Authority of Transit Service","Full Reporter",114237,120,"Over-the-road Bus",null,0,0,0,2,0,0,0,1,1,2,0,0,0,0,0,0,0,0,0,6,6.5,538493.66669999994]
["Monterey-Salinas Transit","Monterey","CA",9062,90062,"Independent Public Agency or Authority of Transit Service","Full Reporter",114237,120,"Minivan",null,0,0,0,0,0,0,0,0,3,0,0,0,0,0,0,0,0,0,0,3,8,159536]
["Monterey-Salinas Transit","Monterey","CA",9062,90062,"Independent Public Agency or Authority of Transit Service","Full Reporter",114237,120,"Cutaway",null,0,1,6,29,0,12,1,3,6,1,1,3,0,0,0,0,0,0,0,63,4.55555555555555,189637.95240000001]
["Monterey-Salinas Transit","Monterey","CA",9062,90062,"Independent Public Agency or Authority of Transit Service","Full Reporter",114237,120,"Bus",null,20,0,0,18,0,5,0,0,0,0,0,15,0,22,6,0,0,0,0,86,7.7906976744185998,295690.62790000002]
["Monterey-Salinas Transit","Monterey","CA",9062,90062,"Independent Public Agency or Authority of Transit Service","Full Reporter",114237,120,"Automobiles (Service)",null,0,4,4,2,0,0,0,0,3,5,1,1,0,0,0,0,0,0,0,20]
["Erie Metropolitan Transit Authority","Erie","PA",3013,30013,"Independent Public Agency or Authority of Transit Service","Full Reporter",196611,117,"Trucks and other Rubber Tire Vehicles (Service)",null,2,0,0,0,0,2,0,0,0,0,0,1,0,1,2,0,2,0,0,10]
["Erie Metropolitan Transit Authority","Erie","PA",3013,30013,"Independent Public Agency or Authority of Transit Service","Full Reporter",196611,117,"Cutaway",null,0,0,7,0,6,9,29,0,2,0,0,0,0,0,0,0,0,0,0,53,5.1509433962264097,108098.5094]
["Erie Metropolitan Transit Authority","Erie","PA",3013,30013,"Independent Public Agency or Authority of Transit Service","Full Reporter",196611,117,"Bus",null,0,5,0,0,0,12,0,0,12,5,1,4,5,10,18,8,0,0,0,80,11.8125,359373.36249999999]
["Erie Metropolitan Transit Authority","Erie","PA",3013,30013,"Independent Public Agency or Authority of Transit Service","Full Reporter",196611,117,"Automobiles (Service)",null,0,0,0,0,0,1,0,0,0,0,3,0,0,0,0,0,0,0,0,4]
["Whatcom Transportation Authority","Bellingham","WA",21,21,"Independent Public Agency or Authority of Transit Service","Full Reporter",114473,114,"Van",null,0,0,0,0,5,12,7,6,0,0,0,0,0,0,0,0,0,0,0,30,5.4666666666666597,84184.1]
["Whatcom Transportation Authority","Bellingham","WA",21,21,"Independent Public Agency or Authority of Transit Service","Full Reporter",114473,114,"Trucks and other Rubber Tire Vehicles (Service)",null,0,1,0,1,0,6,2,3,0,0,8,0,2,4,0,0,0,0,0,27]
["Whatcom Transportation Authority","Bellingham","WA",21,21,"Independent Public Agency or Authority of Transit Service","Full Reporter",114473,114,"Cutaway",null,0,5,13,6,5,6,6,0,1,0,0,0,0,0,0,0,0,0,0,42,3.4047619047619002,89481.190499999997]
["Whatcom Transportation Authority","Bellingham","WA",21,21,"Independent Public Agency or Authority of Transit Service","Full Reporter",114473,114,"Bus",null,0,0,7,0,0,0,8,8,11,14,3,7,0,3,0,0,0,0,0,61,7.8852459016393404,304938.57380000001]
["Whatcom Transportation Authority","Bellingham","WA",21,21,"Independent Public Agency or Authority of Transit Service","Full Reporter",114473,114,"Automobiles (Service)",null,0,3,0,2,0,0,0,0,0,0,0,0,0,0,0,0,0,0,0,5]
["Greater Attleboro-Taunton Regional Transit Authority","Taunton","MA",1064,10064,"Independent Public Agency or Authority of Transit Service","Full Reporter",1190956,113,"Van",null,0,8,14,0,6,4,5,0,10,2,0,0,0,0,0,0,0,0,0,49,4.2448979591836702,104551.6327]
["Greater Attleboro-Taunton Regional Transit Authority","Taunton","MA",1064,10064,"Independent Public Agency or Authority of Transit Service","Full Reporter",1190956,113,"Trucks and other Rubber Tire Vehicles (Service)",null,0,0,0,0,1,0,0,1,0,0,0,0,0,0,2,0,0,0,0,4]
["Greater Attleboro-Taunton Regional Transit Authority","Taunton","MA",1064,10064,"Independent Public Agency or Authority of Transit Service","Full Reporter",1190956,113,"Cutaway",null,0,5,8,1,5,12,10,3,1,4,1,0,0,0,0,0,0,0,0,50,4.78,114085.38]
["Greater Attleboro-Taunton Regional Transit Authority","Taunton","MA",1064,10064,"Independent Public Agency or Authority of Transit Service","Full Reporter",1190956,113,"Bus",null,2,0,2,11,0,0,1,2,6,0,2,0,6,3,0,0,0,0,0,35,6.9142857142857101,249812.28570000001]
["Greater Attleboro-Taunton Regional Transit Authority","Taunton","MA",1064,10064,"Independent Public Agency or Authority of Transit Service","Full Reporter",1190956,113,"Automobiles (Service)",null,0,2,0,0,1,0,0,1,0,0,1,0,2,0,0,0,0,0,0,7]
["Champaign-Urbana Mass Transit District","Urbana","IL",5060,50060,"Independent Public Agency or Authority of Transit Service","Full Reporter",145361,113,"Trucks and other Rubber Tire Vehicles (Service)",null,0,1,0,0,0,0,1,0,1,1,0,0,0,0,1,0,0,0,0,5]
["Champaign-Urbana Mass Transit District","Urbana","IL",5060,50060,"Independent Public Agency or Authority of Transit Service","Full Reporter",145361,113,"Cutaway",null,0,0,2,0,0,6,3,0,3,0,0,0,0,0,0,0,0,0,0,14,5.4285714285714199,102623.4286]
["Champaign-Urbana Mass Transit District","Urbana","IL",5060,50060,"Independent Public Agency or Authority of Transit Service","Full Reporter",145361,113,"Bus",null,0,22,12,0,0,10,0,36,0,5,0,0,0,10,0,0,0,0,0,95,5.7157894736842101,218260.18950000001]
["Champaign-Urbana Mass Transit District","Urbana","IL",5060,50060,"Independent Public Agency or Authority of Transit Service","Full Reporter",145361,113,"Automobiles (Service)",null,0,0,4,0,0,0,3,0,0,1,0,0,0,0,0,0,0,0,0,8]
["Champaign-Urbana Mass Transit District","Urbana","IL",5060,50060,"Independent Public Agency or Authority of Transit Service","Full Reporter",145361,113,"Articulated Bus",null,0,0,0,0,0,0,0,0,0,4,0,0,0,0,12,0,0,0,0,16,15,220938.25]
["Transit Authority of Omaha","Omaha","NE",7002,70002,"Independent Public Agency or Authority of Transit Service","Full Reporter",725008,113,"Trucks and other Rubber Tire Vehicles (Service)",null,0,0,0,0,0,0,0,1,1,1,0,0,0,0,2,0,0,0,0,5]
["Transit Authority of Omaha","Omaha","NE",7002,70002,"Independent Public Agency or Authority of Transit Service","Full Reporter",725008,113,"Cutaway",null,9,0,0,0,0,0,10,0,9,0,2,2,0,0,0,0,0,0,0,32,5.4375,192131.875]
["Transit Authority of Omaha","Omaha","NE",7002,70002,"Independent Public Agency or Authority of Transit Service","Full Reporter",725008,113,"Bus",null,29,0,0,5,10,8,0,9,24,8,0,0,0,0,37,14,0,0,0,144,9.8125,317838]
["Transit Authority of Omaha","Omaha","NE",7002,70002,"Independent Public Agency or Authority of Transit Service","Full Reporter",725008,113,"Automobiles (Service)",null,0,1,0,0,0,0,0,0,0,0,0,0,0,0,2,0,0,0,0,3]
["Transit Authority of Omaha","Omaha","NE",7002,70002,"Independent Public Agency or Authority of Transit Service","Full Reporter",725008,113,"Automobile",null,0,0,0,0,4,0,0,0,0,0,0,0,0,0,0,0,0,0,0,4,4,85627]
["South Central Illinois Mass Transit District","Centralia","IL","5R01-040","5R01-50327","Independent Public Agency or Authority of Transit Service","Rural Reporter",0,112,"Van",null,0,0,0,0,0,0,0,0,0,0,0,0,0,1,2,0,0,0,0,3,16.6666666666666,0]
["South Central Illinois Mass Transit District","Centralia","IL","5R01-040","5R01-50327","Independent Public Agency or Authority of Transit Service","Rural Reporter",0,112,"Trucks and other Rubber Tire Vehicles (Service)",null,0,0,0,0,1,0,0,0,0,0,0,0,0,1,1,1,0,0,0,4]
["South Central Illinois Mass Transit District","Centralia","IL","5R01-040","5R01-50327","Independent Public Agency or Authority of Transit Service","Rural Reporter",0,112,"Minivan",null,0,0,0,0,0,3,0,0,3,2,6,2,2,0,2,0,0,0,0,20,9.85,0]
["South Central Illinois Mass Transit District","Centralia","IL","5R01-040","5R01-50327","Independent Public Agency or Authority of Transit Service","Rural Reporter",0,112,"Cutaway",null,0,3,0,2,10,4,0,6,6,15,20,7,8,8,14,0,0,0,0,103,9.9126213592232997,0]
["South Central Illinois Mass Transit District","Centralia","IL","5R01-040","5R01-50327","Independent Public Agency or Authority of Transit Service","Rural Reporter",0,112,"Bus",null,0,0,0,0,4,0,8,0,0,3,0,0,4,2,0,0,0,0,0,21,8.0476190476190403,0]
["South Central Illinois Mass Transit District","Centralia","IL","5R01-040","5R01-50327","Independent Public Agency or Authority of Transit Service","Rural Reporter",0,112,"Automobiles (Service)",null,0,0,0,0,0,0,0,0,1,0,0,0,0,0,0,0,0,0,0,1]
["Corpus Christi Regional Transportation Authority","Corpus Christi","TX",6051,60051,"Independent Public Agency or Authority of Transit Service","Full Reporter",320069,112,"Van",null,0,2,0,0,0,0,0,0,0,0,0,0,0,0,0,0,0,0,0,2,1,78956]
["Corpus Christi Regional Transportation Authority","Corpus Christi","TX",6051,60051,"Independent Public Agency or Authority of Transit Service","Full Reporter",320069,112,"Trucks and other Rubber Tire Vehicles (Service)",null,0,12,0,0,0,0,7,0,0,0,0,0,0,0,0,0,1,0,0,20]
["Corpus Christi Regional Transportation Authority","Corpus Christi","TX",6051,60051,"Independent Public Agency or Authority of Transit Service","Full Reporter",320069,112,"Sports Utility Vehicle",null,1,0,0,0,0,0,0,0,0,0,0,0,0,0,0,0,0,0,0,1,0,23770]
["Corpus Christi Regional Transportation Authority","Corpus Christi","TX",6051,60051,"Independent Public Agency or Authority of Transit Service","Full Reporter",320069,112,"Minivan",null,5,1,1,0,0,0,0,0,0,0,0,0,0,0,0,0,0,0,0,7,0.42857142857142799,39947.571400000001]
["Corpus Christi Regional Transportation Authority","Corpus Christi","TX",6051,60051,"Independent Public Agency or Authority of Transit Service","Full Reporter",320069,112,"Cutaway",null,0,7,0,5,18,22,3,0,1,0,0,0,0,0,0,0,0,0,0,56,4.1071428571428497,179644.78570000001]
["Corpus Christi Regional Transportation Authority","Corpus Christi","TX",6051,60051,"Independent Public Agency or Authority of Transit Service","Full Reporter",320069,112,"Bus",null,0,11,0,29,0,0,10,0,5,10,5,0,0,0,0,0,0,0,0,70,4.8285714285714203,251921.88570000001]
["Corpus Christi Regional Transportation Authority","Corpus Christi","TX",6051,60051,"Independent Public Agency or Authority of Transit Service","Full Reporter",320069,112,"Automobiles (Service)",null,0,13,0,0,0,0,3,3,0,3,2,0,0,0,0,0,0,0,0,24]
["Lee County, dba: Lee County Transit","Fort Myers","FL",4028,40028,"City, County or Local Government Unit or Department of Transportation","Full Reporter",530290,111,"Van",null,10,2,4,11,2,1,0,1,0,0,0,0,0,0,0,0,0,0,0,31,2.0322580645161201,39641.032299999999]
["Lee County, dba: Lee County Transit","Fort Myers","FL",4028,40028,"City, County or Local Government Unit or Department of Transportation","Full Reporter",530290,111,"Trucks and other Rubber Tire Vehicles (Service)",null,2,0,2,0,3,0,2,0,2,1,0,0,0,0,1,0,0,0,0,13]
["Lee County, dba: Lee County Transit","Fort Myers","FL",4028,40028,"City, County or Local Government Unit or Department of Transportation","Full Reporter",530290,111,"Other",null,0,0,0,2,0,0,0,0,0,0,0,0,0,0,0,0,0,0,0,2,3,4707]
["Lee County, dba: Lee County Transit","Fort Myers","FL",4028,40028,"City, County or Local Government Unit or Department of Transportation","Full Reporter",530290,111,"Cutaway",null,0,8,15,8,1,8,0,0,2,0,0,0,0,0,0,0,0,0,0,42,2.9047619047619002,118070.8333]
["Lee County, dba: Lee County Transit","Fort Myers","FL",4028,40028,"City, County or Local Government Unit or Department of Transportation","Full Reporter",530290,111,"Bus",null,0,0,10,0,0,23,2,10,8,0,2,2,0,0,0,0,0,0,0,57,5.6666666666666599,329130.52630000003]
["Lee County, dba: Lee County Transit","Fort Myers","FL",4028,40028,"City, County or Local Government Unit or Department of Transportation","Full Reporter",530290,111,"Automobiles (Service)",null,0,0,0,0,3,4,0,0,4,6,0,3,1,3,0,0,0,0,0,24]
["Community Action Development Corporation","Frederick","OK","6R04-017","6R04-60165","Private-Non-Profit Corporation","Rural Reporter",0,111,"Van",null,0,3,0,0,0,0,0,0,0,0,0,0,0,3,7,0,0,0,0,13,13.769230769230701,0]
["Community Action Development Corporation","Frederick","OK","6R04-017","6R04-60165","Private-Non-Profit Corporation","Rural Reporter",0,111,"Sports Utility Vehicle",null,0,0,0,0,0,0,6,0,0,0,0,0,0,0,0,0,0,0,0,6,6,0]
["Community Action Development Corporation","Frederick","OK","6R04-017","6R04-60165","Private-Non-Profit Corporation","Rural Reporter",0,111,"Minivan",null,0,18,0,3,0,0,0,9,0,8,8,9,2,2,1,0,0,0,0,60,6.7833333333333297,0]
["Community Action Development Corporation","Frederick","OK","6R04-017","6R04-60165","Private-Non-Profit Corporation","Rural Reporter",0,111,"Cutaway",null,0,0,0,0,0,0,0,1,2,10,0,8,3,8,1,1,0,0,0,34,11.323529411764699,0]
["Centre Area Transportation Authority","State College","PA",3054,30054,"Independent Public Agency or Authority of Transit Service","Full Reporter",87454,110,"Van",null,0,5,10,7,2,3,10,3,4,2,1,0,5,0,0,0,0,0,0,52,5.1923076923076898,87722.211500000005]
["Centre Area Transportation Authority","State College","PA",3054,30054,"Independent Public Agency or Authority of Transit Service","Full Reporter",87454,110,"Trucks and other Rubber Tire Vehicles (Service)",null,0,2,0,0,0,0,0,0,2,0,0,0,0,0,1,0,0,0,0,5]
["Centre Area Transportation Authority","State College","PA",3054,30054,"Independent Public Agency or Authority of Transit Service","Full Reporter",87454,110,"Cutaway",null,0,0,0,8,0,0,2,0,0,1,0,0,0,0,0,0,0,0,0,11,4.0909090909090899,113124.0909]
["Centre Area Transportation Authority","State College","PA",3054,30054,"Independent Public Agency or Authority of Transit Service","Full Reporter",87454,110,"Bus",null,0,0,0,0,12,0,17,11,0,0,0,0,0,4,20,2,0,0,0,66,10.560606060606,321753.8333]
["Centre Area Transportation Authority","State College","PA",3054,30054,"Independent Public Agency or Authority of Transit Service","Full Reporter",87454,110,"Automobiles (Service)",null,0,1,8,0,5,0,2,0,0,0,2,0,0,0,0,0,0,0,0,18]
["Prince George's County, Maryland, dba: Prince George's County Transit","Largo","MD",3085,30085,"City, County or Local Government Unit or Department of Transportation","Full Reporter",4586770,109,"Cutaway",null,0,13,0,1,0,0,5,5,10,0,0,0,0,0,0,0,0,0,0,34,4.73529411764705,67402.529399999999]
["Prince George's County, Maryland, dba: Prince George's County Transit","Largo","MD",3085,30085,"City, County or Local Government Unit or Department of Transportation","Full Reporter",4586770,109,"Bus",null,0,0,0,0,0,0,14,22,22,14,18,13,10,0,0,0,0,0,0,113,8.6991150442477796,304809.29200000002]
["Lexington Transit Authority","Lexington","KY",4017,40017,"Independent Public Agency or Authority of Transit Service","Full Reporter",290263,108,"Van",null,2,2,0,0,0,0,0,0,0,0,0,0,0,0,0,0,0,0,0,4,0.5,24461.5]
["Lexington Transit Authority","Lexington","KY",4017,40017,"Independent Public Agency or Authority of Transit Service","Full Reporter",290263,108,"Trucks and other Rubber Tire Vehicles (Service)",null,0,0,0,4,1,2,10,1,4,2,3,4,2,2,0,0,0,0,0,35]
["Lexington Transit Authority","Lexington","KY",4017,40017,"Independent Public Agency or Authority of Transit Service","Full Reporter",290263,108,"Sports Utility Vehicle",null,0,4,1,0,0,0,1,0,0,0,0,0,0,0,0,0,0,0,0,6,2,40884]
["Lexington Transit Authority","Lexington","KY",4017,40017,"Independent Public Agency or Authority of Transit Service","Full Reporter",290263,108,"Cutaway",null,0,0,0,0,0,1,3,0,0,0,0,0,0,0,0,0,0,0,0,4,5.75,160891.25]
["Lexington Transit Authority","Lexington","KY",4017,40017,"Independent Public Agency or Authority of Transit Service","Full Reporter",290263,108,"Bus",null,1,5,12,0,3,0,3,7,0,3,0,17,0,10,3,0,0,0,0,64,7.953125,279486.15629999997]
["Lexington Transit Authority","Lexington","KY",4017,40017,"Independent Public Agency or Authority of Transit Service","Full Reporter",290263,108,"Automobiles (Service)",null,0,0,0,0,0,0,1,0,0,0,0,0,0,0,0,0,0,0,0,1]
["Area Agency on Aging of Southeast Arkansas , dba: Southeast Arkansas Transportation","Pine Bluff","AR","6R01-007","6R01-60140","Area Agency on Aging","Rural Reporter",0,108,"Van",null,0,0,2,0,1,6,0,7,6,15,5,2,0,0,0,0,0,0,0,44,7.7727272727272698,0]
["Area Agency on Aging of Southeast Arkansas , dba: Southeast Arkansas Transportation","Pine Bluff","AR","6R01-007","6R01-60140","Area Agency on Aging","Rural Reporter",0,108,"Trucks and other Rubber Tire Vehicles (Service)",null,0,2,1,0,0,0,0,0,0,0,0,1,0,1,0,1,1,0,0,7]
["Area Agency on Aging of Southeast Arkansas , dba: Southeast Arkansas Transportation","Pine Bluff","AR","6R01-007","6R01-60140","Area Agency on Aging","Rural Reporter",0,108,"Minivan",null,0,0,0,0,0,0,0,0,6,0,0,0,0,0,0,0,0,0,0,6,8,0]
["Area Agency on Aging of Southeast Arkansas , dba: Southeast Arkansas Transportation","Pine Bluff","AR","6R01-007","6R01-60140","Area Agency on Aging","Rural Reporter",0,108,"Cutaway",null,0,10,16,0,12,5,0,3,6,4,2,0,0,0,0,0,0,0,0,58,4.13793103448275,0]
["City of Montebello, dba: Montebello Bus Lines","Montebello","CA",9041,90041,"City, County or Local Government Unit or Department of Transportation","Full Reporter",12150996,107,"Trucks and other Rubber Tire Vehicles (Service)",null,0,0,0,0,0,0,1,0,0,0,0,0,0,0,1,1,0,0,0,3]
["City of Montebello, dba: Montebello Bus Lines","Montebello","CA",9041,90041,"City, County or Local Government Unit or Department of Transportation","Full Reporter",12150996,107,"Cutaway",null,0,0,0,0,0,0,0,0,0,0,2,0,0,3,0,0,0,0,0,5,12.6,256508.2]
["City of Montebello, dba: Montebello Bus Lines","Montebello","CA",9041,90041,"City, County or Local Government Unit or Department of Transportation","Full Reporter",12150996,107,"Bus",null,0,0,7,0,0,8,4,3,16,8,15,0,0,5,7,0,0,0,0,73,8.6712328767123292,337989.71230000001]
["City of Montebello, dba: Montebello Bus Lines","Montebello","CA",9041,90041,"City, County or Local Government Unit or Department of Transportation","Full Reporter",12150996,107,"Automobiles (Service)",null,0,0,0,0,0,0,1,0,0,0,0,0,0,0,0,0,0,0,0,1]
["City of Alexandria ","Alexandria","VA",3071,30071,"City, County or Local Government Unit or Department of Transportation","Full Reporter",4586770,105,"Trucks and other Rubber Tire Vehicles (Service)",null,0,0,2,1,2,0,0,0,0,0,0,0,1,0,1,1,0,0,0,8]
["City of Alexandria ","Alexandria","VA",3071,30071,"City, County or Local Government Unit or Department of Transportation","Full Reporter",4586770,105,"Bus",null,0,6,0,14,7,0,10,15,0,0,0,13,0,14,7,0,0,0,0,86,7.9069767441860401,194459.4767]
["City of Alexandria ","Alexandria","VA",3071,30071,"City, County or Local Government Unit or Department of Transportation","Full Reporter",4586770,105,"Automobiles (Service)",null,2,0,0,3,0,0,2,0,0,2,0,2,1,1,0,0,0,0,0,13]
["Santa Cruz Metropolitan Transit District","Santa Cruz","CA",9006,90006,"Independent Public Agency or Authority of Transit Service","Full Reporter",163703,105,"Minivan",null,0,0,0,2,0,0,0,0,0,0,0,0,0,0,0,0,0,0,0,2,3,16834]
["Southeast Vermont Transit, Inc","Wilmington","VT","1R06-005","1R06-10144","Private-Non-Profit Corporation","Rural Reporter",0,104,"Over-the-road Bus",null,0,0,0,0,0,0,1,1,1,1,1,0,0,0,0,0,0,0,0,5,8,0]
["Southeast Vermont Transit, Inc","Wilmington","VT","1R06-005","1R06-10144","Private-Non-Profit Corporation","Rural Reporter",0,104,"Bus",null,1,0,0,0,0,3,0,0,2,0,0,0,0,0,0,0,0,0,0,6,5.1666666666666599,0]
["Denton County Transportation Authority","Lewisville","TX",6101,60101,"Independent Public Agency or Authority of Transit Service","Full Reporter",366174,104,"Bus",null,0,3,4,3,3,6,18,6,0,0,0,5,12,0,0,0,0,0,0,60,6.85,198571.73329999999]
["West Texas Opportunities, Inc. ","Lamesa ","TX","6R05-020","6R05-60243","Independent Public Agency or Authority of Transit Service","Rural Reporter",0,100,"Automobile",null,0,0,0,0,0,0,0,0,0,2,0,0,0,0,0,0,0,0,0,2,9,0]
["Johnson County Kansas, dba: Johnson County Transit","Olathe","KS",7035,70035,"City, County or Local Government Unit or Department of Transportation","Full Reporter",1519417,100,"Over-the-road Bus",null,0,0,2,1,0,1,1,0,0,0,0,0,0,0,0,0,0,0,0,5,3.6,294506.8]
["Worcester Regional Transit Authority","Worcester","MA",1014,10014,"Independent Public Agency or Authority of Transit Service","Full Reporter",486514,99,"Bus",null,0,0,0,1,1,20,7,0,0,15,8,0,0,0,0,0,0,0,0,52,7,264421.21149999998]
["Birmingham-Jefferson County Transit Authority","Birmingham","AL",4042,40042,"Independent Public Agency or Authority of Transit Service","Full Reporter",749495,99,"Trucks and other Rubber Tire Vehicles (Service)",null,0,4,3,0,0,0,0,0,0,0,7,0,0,2,0,0,0,0,0,16]
["Connecticut Department of Transportation - CTTRANSIT New Haven Division","Hartford","CT",1055,10055,"State Government Unit or Department of Transportation","Full Reporter",562839,98,"Automobiles (Service)",null,0,0,1,0,0,0,0,0,0,0,0,2,0,0,0,0,0,0,0,3]
["Mecklenburg County ","Charlotte","NC",4228,40228,"City, County or Local Government Unit or Department of Transportation","Full Reporter",1249442,98,"Van",null,0,0,0,0,0,0,0,0,0,0,0,0,0,2,0,0,0,0,0,2,13,20869]
["Cobb County, dba: CobbLinc","Marietta","GA",4078,40078,"City, County or Local Government Unit or Department of Transportation","Full Reporter",4515419,97,"Trucks and other Rubber Tire Vehicles (Service)",null,0,0,1,1,0,1,0,0,0,0,0,0,0,0,1,0,0,0,0,4]
["Pennyrile Allied Community Services, Inc.","Hopkinsville","KY","4R04-015","4R04-40953","Private-Non-Profit Corporation","Rural Reporter",0,96,"Van",null,0,0,0,0,0,0,0,1,0,2,0,0,0,0,0,0,0,0,0,3,8.3333333333333304,0]
["South Central Tennessee Development District","Mt. Pleasant","TN","4R08-007","4R08-40954","Independent Public Agency or Authority of Transit Service","Rural Reporter",0,95,"Bus",null,0,1,2,0,2,2,0,0,0,0,0,0,0,0,0,0,0,0,0,7,3.2857142857142798,0]
["Southeast Tennessee Human Resource Agency-Rural Division","Dunlap","TN","4R08-004","4R08-40989","Independent Public Agency or Authority of Transit Service","Rural Reporter",0,95,"Cutaway",null,1,27,17,4,5,8,0,3,9,3,0,1,0,0,0,0,0,0,0,78,3.3846153846153801,0]
["City of Lubbock, dba: CITIBUS","Lubbock","TX",6010,60010,"City, County or Local Government Unit or Department of Transportation","Full Reporter",237356,94,"Cutaway",null,0,0,14,0,0,0,0,0,0,0,16,0,0,0,0,0,0,0,0,30,6.2666666666666604,175798.46669999999]
["Roaring Fork Transportation Authority","Glenwood Springs","CO","8R01-013","8R01-80289","Independent Public Agency or Authority of Transit Service","Rural Reporter",0,94,"Over-the-road Bus",null,0,1,6,1,0,0,0,0,8,2,0,1,2,3,0,0,0,0,0,24,7.4166666666666599,0]
["Town of Chapel Hill, dba: Chapel Hill Transit","Chapel Hill","NC",4051,40051,"City, County or Local Government Unit or Department of Transportation","Full Reporter",347602,93,"Cutaway",null,0,7,0,0,0,0,0,0,0,11,2,0,0,0,0,0,0,0,0,20,6.3,132672.9]
["Santa Barbara Metropolitan Transit District","Santa Barbara","CA",9020,90020,"Independent Public Agency or Authority of Transit Service","Full Reporter",195861,93,"Trucks and other Rubber Tire Vehicles (Service)",null,0,0,0,0,0,0,0,2,0,0,0,1,1,0,0,0,0,0,0,4]
["Santa Barbara Metropolitan Transit District","Santa Barbara","CA",9020,90020,"Independent Public Agency or Authority of Transit Service","Full Reporter",195861,93,"Articulated Bus",null,0,0,0,3,0,0,0,0,0,0,0,0,0,0,0,0,0,0,0,3,3,138077]
["San Joaquin Regional Transit District","Stockton","CA",9012,90012,"Independent Public Agency or Authority of Transit Service","Full Reporter",370583,92,"Articulated Bus",null,0,0,0,0,6,0,0,0,0,0,0,0,0,0,0,0,0,0,0,6,4,105305]
["Loudoun County, dba: Loudoun County Transit","Leesburg","VA",3081,30081,"City, County or Local Government Unit or Department of Transportation","Full Reporter",4586770,91,"Van",null,0,0,0,0,0,0,0,0,0,2,0,0,0,0,0,0,0,0,0,2,9,18715]
["Loudoun County, dba: Loudoun County Transit","Leesburg","VA",3081,30081,"City, County or Local Government Unit or Department of Transportation","Full Reporter",4586770,91,"Over-the-road Bus",null,0,16,0,0,0,2,3,5,7,3,2,2,7,16,0,0,0,0,0,63,8.0952380952380896,368322.07939999999]
["Laketran","Grand River","OH",5117,50117,"Independent Public Agency or Authority of Transit Service","Full Reporter",1780673,91,"Automobiles (Service)",null,1,0,1,0,0,3,0,1,0,0,1,1,0,0,0,0,0,0,0,8]
["Hill Country Transit District","San Saba","TX",6091,60091,"Independent Public Agency or Authority of Transit Service","Full Reporter",217630,91,"Cutaway",null,8,10,0,9,3,6,0,18,2,29,1,1,1,4,0,0,0,0,0,92,6.2065217391304301,156923.39129999999]
["Southern Indiana Development Commission, dba: SIDC Ride Solution","Washington","IN","5R02-032","5R02-50276","MPO, COG or Other Planning Agency","Rural Reporter",0,90,"Minivan",null,1,7,4,4,8,5,10,0,2,0,7,4,5,11,0,0,0,0,0,68,7.1029411764705799,0]
["Northwest Tennessee Human Resource Agency","Martin","TN","4R08-009","4R08-41106","Independent Public Agency or Authority of Transit Service","Rural Reporter",0,89,"Minivan",null,0,0,0,0,0,0,0,0,0,0,0,1,0,0,0,0,0,0,0,1,11,0]
["Southwest  Human Resource Agency","Henderson","TN","4R08-008","4R08-41151","Independent Public Agency or Authority of Transit Service","Rural Reporter",0,89,"Minivan",null,0,0,0,0,0,1,0,0,2,0,3,0,0,0,0,0,0,0,0,6,8.5,0]
["Island Transit","Coupeville","WA","0R03-013","0R03-00298","Independent Public Agency or Authority of Transit Service","Rural Reporter",0,88,"Minivan",null,17,2,6,0,0,3,0,10,4,0,18,0,0,7,0,0,0,0,0,67,6.1044776119402897,0]
["Sarasota County , dba: Sarasota County Area Transit","Sarasota","FL",4046,40046,"City, County or Local Government Unit or Department of Transportation","Full Reporter",643260,88,"Bus",null,4,20,10,10,20,4,6,15,5,4,1,0,2,2,2,0,0,0,0,105,4.5999999999999996,169859.84760000001]
["Arlington County, Virginia, dba: Arlington Transit","Arlington","VA",3080,30080,"City, County or Local Government Unit or Department of Transportation","Full Reporter",4586770,87,"Van",null,0,3,0,2,12,0,0,0,0,0,0,0,0,0,0,0,0,0,0,17,3.3529411764705799,90593.941200000001]
["Golden Empire Transit District","Bakersfield","CA",9004,90004,"Independent Public Agency or Authority of Transit Service","Full Reporter",523994,87,"Over-the-road Bus",null,0,2,0,0,0,0,0,0,0,0,0,0,0,0,0,0,0,0,0,2,1,92596]
["Norwalk Transit District","Norwalk","CT",1057,10057,"Independent Public Agency or Authority of Transit Service","Full Reporter",923311,86,"Bus",null,0,0,0,12,2,0,0,0,4,0,7,0,3,15,0,0,0,0,0,43,9.3953488372092995,214739.32560000001]
["City of Greensboro , dba: Greensboro Transit Authority","Greensboro","NC",4093,40093,"City, County or Local Government Unit or Department of Transportation","Full Reporter",311810,86,"Cutaway",null,0,16,0,11,0,9,0,0,10,6,14,0,0,0,0,0,0,0,0,66,5.5757575757575699,175523.30300000001]
["Tri-Valley Transit Inc","Middlebury","VT","1R06-001","1R06-10143","Private-Non-Profit Corporation","Rural Reporter",0,85,"Cutaway",null,0,7,10,5,2,5,7,3,5,2,7,3,1,0,0,0,0,0,0,57,5.45614035087719,0]
["Hampton Jitney, Inc.","Southampton","NY",2217,20217,"Private-For-Profit Corporation","Full Reporter",18351295,85,"Trucks and other Rubber Tire Vehicles (Service)",null,1,1,0,1,0,1,0,0,0,1,0,0,0,1,0,0,0,0,0,6]
["Chatham Area Transit Authority","Savannah","GA",4025,40025,"Independent Public Agency or Authority of Transit Service","Full Reporter",260677,85,"Cutaway",null,0,0,5,0,2,0,4,12,0,0,0,0,0,0,0,0,0,0,0,23,5.4782608695652097,152121.17389999999]
["Charleston Area Regional Transportation Authority","North Charleston","SC",4110,40110,"Independent Public Agency or Authority of Transit Service","Full Reporter",548404,85,"Trucks and other Rubber Tire Vehicles (Service)",null,0,1,0,0,0,1,0,0,0,0,0,0,0,0,0,0,0,2,0,4]
["Charleston Area Regional Transportation Authority","North Charleston","SC",4110,40110,"Independent Public Agency or Authority of Transit Service","Full Reporter",548404,85,"Minivan",null,0,10,0,0,0,0,0,0,0,0,0,0,0,0,0,0,0,0,0,10,1,37044]
["Marin County Transit District","San Rafael","CA",9234,90234,"Independent Public Agency or Authority of Transit Service","Full Reporter",3281212,85,"Van",null,0,4,0,0,0,0,0,0,0,0,0,0,0,0,0,0,0,0,0,4,1,1219.5]
["Town of Mountain Village","Mountain Village","CO","8R01-053","8R01-80256","City, County or Local Government Unit or Department of Transportation","Rural Reporter",0,84,"Sports Utility Vehicle",null,0,0,0,0,0,0,0,0,0,0,1,1,2,0,0,0,0,0,0,4,11.25,0]
["Town of Mountain Village","Mountain Village","CO","8R01-053","8R01-80256","City, County or Local Government Unit or Department of Transportation","Rural Reporter",0,84,"Aerial Tramway",null,0,9,0,0,0,0,0,0,0,0,2,0,0,7,22,6,22,0,0,68,17.735294117647001,0]
["Greater Peoria Mass Transit District","Peoria","IL",5056,50056,"Independent Public Agency or Authority of Transit Service","Full Reporter",266921,82,"Automobiles (Service)",null,0,2,0,0,11,0,0,0,0,2,0,0,0,1,0,0,0,0,0,16]
["City of Tallahassee, dba: StarMetro","Tallahassee","FL",4036,40036,"City, County or Local Government Unit or Department of Transportation","Full Reporter",240223,80,"Cutaway",null,0,0,18,4,3,1,0,0,0,0,0,0,4,0,0,0,0,0,0,30,3.7666666666666599,58773.333299999998]
["North Iowa Area Council of Governments","Mason City","IA","7R01-002","7R01-70185","Independent Public Agency or Authority of Transit Service","Rural Reporter",0,80,"Minivan",null,0,0,0,0,0,0,0,0,0,0,0,0,0,2,0,0,0,0,0,2,13,0]
["Piedmont Authority for Regional Transportation","Greensboro","NC",4173,40173,"Independent Public Agency or Authority of Transit Service","Full Reporter",311810,79,"Cutaway",null,0,2,0,0,6,0,0,0,0,0,0,0,0,0,0,0,0,0,0,8,3.25,121351.5]
["Piedmont Authority for Regional Transportation","Greensboro","NC",4173,40173,"Independent Public Agency or Authority of Transit Service","Full Reporter",311810,79,"Bus",null,0,8,0,0,0,0,0,0,6,8,5,0,0,0,0,0,0,0,0,27,6.5925925925925899,318368.3333]
["Bluegrass Community Action Agency","Frankfort","KY","4R04-001","4R04-40948","Private-Non-Profit Corporation","Rural Reporter",0,78,"Automobiles (Service)",null,0,0,0,0,0,0,0,0,0,0,0,0,0,0,1,0,0,0,0,1]
["STAR Transit","Terrell","TX",6114,60114,"City, County or Local Government Unit or Department of Transportation","Full Reporter",5121892,78,"Cutaway",null,0,23,5,3,27,9,5,1,2,1,0,0,0,0,0,0,0,0,0,76,3.3815789473684199,107771.90790000001]
["City of Lincoln, dba: StarTran","Lincoln","NE",7001,70001,"City, County or Local Government Unit or Department of Transportation","Full Reporter",258719,78,"Bus",null,0,0,0,0,13,0,0,13,0,0,0,0,15,9,17,0,0,0,0,67,11.0149253731343,319462.7463]
["County of Maui","Wailuku","HI",9241,90241,"City, County or Local Government Unit or Department of Transportation","Full Reporter",55934,78,"Cutaway",null,0,7,7,15,0,0,10,2,12,2,2,3,4,2,7,0,0,0,0,73,6.8219178082191698,153856.46580000001]
["Chattanooga Area Regional Transportation Authority","Chattanooga","TN",4001,40001,"City, County or Local Government Unit or Department of Transportation","Full Reporter",381112,77,"Trucks and other Rubber Tire Vehicles (Service)",null,0,0,0,0,0,0,0,0,4,0,0,0,0,2,0,1,0,0,0,7]
["Chattanooga Area Regional Transportation Authority","Chattanooga","TN",4001,40001,"City, County or Local Government Unit or Department of Transportation","Full Reporter",381112,77,"Bus",null,0,0,0,3,8,6,0,0,3,4,0,0,10,7,27,5,0,0,0,73,12.698630136986299,428687.6164]
["Rockland Coaches, Inc.","Westwood","NJ",2149,20149,"Private-For-Profit Corporation","Full Reporter",18351295,75,"Over-the-road Bus",null,30,0,0,0,0,0,0,0,0,0,0,0,0,51,25,0,0,0,0,106,11.2264150943396,533797.65090000001]
["Central Oklahoma Transportation and Parking Authority, dba: EMBARK","Oklahoma City","OK",6017,60017,"City, County or Local Government Unit or Department of Transportation","Full Reporter",861505,75,"Trucks and other Rubber Tire Vehicles (Service)",null,0,0,2,2,0,0,0,2,1,0,1,0,0,0,0,0,0,0,0,8]
["Brazos Transit District","Bryan","TX",6059,60059,"Independent Public Agency or Authority of Transit Service","Full Reporter",171345,75,"Cutaway",null,5,20,7,0,3,0,0,0,15,10,0,4,0,0,0,0,0,0,0,64,4.6875,144423.85939999999]
["Capital Area Rural Transportation System (CARTS - RURAL)","Austin","TX",null,"6R05-66271","Independent Public Agency or Authority of Transit Service","Rural Reporter",0,75,"Cutaway",null,3,0,37,1,10,0,9,10,7,0,13,3,1,8,6,0,0,0,0,108,6.3981481481481399,0]
["Gwinnett County Board of Commissioners, dba: Gwinnett County Transit","Lawrenceville","GA",4138,40138,"City, County or Local Government Unit or Department of Transportation","Full Reporter",4515419,74,"Over-the-road Bus",null,0,0,0,0,0,0,0,0,0,34,9,0,0,0,0,0,0,0,0,43,9.2093023255813904,256565.72089999999]
["Panhandle Community Services ","Amarillo ","TX","6R05-002","6R05-60192","Independent Public Agency or Authority of Transit Service","Rural Reporter",0,74,"Trucks and other Rubber Tire Vehicles (Service)",null,0,0,0,0,0,0,0,0,0,0,0,0,0,0,0,0,1,0,0,1]
["Antelope Valley Transit Authority","Lancaster","CA",9121,90121,"Independent Public Agency or Authority of Transit Service","Full Reporter",341219,74,"Bus",null,0,0,0,3,2,0,15,0,0,0,0,0,0,18,1,0,5,0,0,44,11.613636363636299,524590.97730000003]
["Antelope Valley Transit Authority","Lancaster","CA",9121,90121,"Independent Public Agency or Authority of Transit Service","Full Reporter",341219,74,"Articulated Bus",null,0,6,0,0,0,0,0,0,0,0,0,0,0,0,0,0,0,0,0,6,1,26018]
["Central Arkansas Transit Authority, dba: Rock Region METRO","North Little Rock","AR",6033,60033,"Independent Public Agency or Authority of Transit Service","Full Reporter",431388,73,"Vintage Trolley",null,0,0,0,0,0,0,0,0,0,0,0,0,2,0,3,0,0,0,0,5,15,144454]
["Central Arkansas Transit Authority, dba: Rock Region METRO","North Little Rock","AR",6033,60033,"Independent Public Agency or Authority of Transit Service","Full Reporter",431388,73,"Trucks and other Rubber Tire Vehicles (Service)",null,0,1,0,3,1,7,0,3,0,0,0,0,0,0,3,0,0,0,0,18]
["Rio Metro Regional Transit District","Albuquerque","NM",6111,60111,"Independent Public Agency or Authority of Transit Service","Full Reporter",741318,73,"Bus",null,0,1,0,3,0,2,0,0,1,0,0,0,0,0,0,0,0,0,0,7,4,253383.14290000001]
["Luzerne County Transportation Authority","Kingston","PA",3015,30015,"Independent Public Agency or Authority of Transit Service","Full Reporter",381502,72,"Bus",null,0,0,0,0,0,0,7,0,5,5,0,0,10,10,1,0,0,0,0,38,10.605263157894701,308071.52630000003]
["Gold Coast Transit","Oxnard","CA",9035,90035,"Independent Public Agency or Authority of Transit Service","Full Reporter",367260,72,"Trucks and other Rubber Tire Vehicles (Service)",null,0,0,0,0,0,1,0,0,0,0,0,1,0,0,1,0,0,0,0,3]
["County of Rockland , dba: Public Transportation - Transport of Rockland","Pomona","NY",2084,20084,"City, County or Local Government Unit or Department of Transportation","Full Reporter",18351295,71,"Automobiles (Service)",null,0,0,0,2,0,0,0,0,0,0,0,0,0,0,0,0,0,0,0,2]
["Ride Connection, Inc.","Portland","OR","0R02-022",376,"Private-Non-Profit Corporation","Full Reporter",1849898,70,"Minivan",null,0,5,0,5,3,0,2,0,5,0,1,0,1,0,0,0,0,0,0,22,4.8181818181818103,48482.5]
["Ride Connection, Inc.","Portland","OR","0R02-022",376,"Private-Non-Profit Corporation","Full Reporter",1849898,70,"Cutaway",null,0,6,0,1,5,2,0,3,5,0,0,2,1,0,4,0,0,0,0,29,7.1034482758620596,72512.034499999994]
["Bergen County, dba: Bergen County Community Transportation","Lodi","NJ",2192,20192,"City, County or Local Government Unit or Department of Transportation","Full Reporter",18351295,70,"Automobiles (Service)",null,0,0,0,0,0,0,0,0,0,0,0,0,1,0,0,0,0,0,0,1]
["Washington County Transportation Authority, dba: Freedom Transit","Washington","PA",3111,30111,"Independent Public Agency or Authority of Transit Service","Full Reporter",1733853,70,"Cutaway",null,0,2,13,12,6,6,8,1,2,3,0,0,1,0,0,0,0,0,0,54,4.2222222222222197,124607.1667]
["Central County Transportation Authority","Kalamazoo","MI",5035,50035,"Independent Public Agency or Authority of Transit Service","Full Reporter",209703,70,"Van",null,0,4,12,0,11,0,4,0,2,8,2,0,0,0,0,0,0,0,0,43,4.7441860465116203,130746.2791]
["Northern Indiana Commuter Transportation District","Chesterton","IN",5104,50104,"Independent Public Agency or Authority of Transit Service","Full Reporter",8608208,70,"Commuter Rail Passenger Coach",null,0,0,0,0,0,0,0,0,0,0,0,0,0,0,0,7,3,0,0,10,25.3,812055.2]
["Merrimack Valley Regional Transit Authority","Haverhill","MA",1013,10013,"Independent Public Agency or Authority of Transit Service","Full Reporter",4181019,69,"Over-the-road Bus",null,0,0,0,0,6,0,0,0,0,0,0,0,0,0,3,0,0,0,0,9,8.6666666666666607,207704.3333]
["JAUNT, Inc.","Charlottesville","VA",3045,30045,"Other Publicly-Owned or Privately Chartered Corporation","Full Reporter",92359,68,"Cutaway",null,18,21,17,0,13,13,6,3,7,0,0,0,0,0,0,0,0,0,0,98,2.9081632653061198,69727.438800000004]
["Big Bend Transit","Tallahassee","FL","4R02-011","4R02-41153","Private-Non-Profit Corporation","Rural Reporter",0,68,"Minivan",null,0,0,3,2,0,0,0,0,0,0,0,0,0,0,0,0,0,0,0,5,2.4,0]
["Duluth Transit Authority","Duluth","MN",5025,50025,"Independent Public Agency or Authority of Transit Service","Full Reporter",120378,68,"Automobiles (Service)",null,0,1,0,1,1,0,1,0,0,0,0,3,0,0,0,0,0,0,0,7]
["Central Texas Rural Transit District","Coleman","TX","6R05-005","6R05-60262","Independent Public Agency or Authority of Transit Service","Rural Reporter",0,68,"Cutaway",null,3,11,2,5,8,3,1,7,12,0,0,0,0,0,0,0,0,0,0,52,4.3846153846153797,0]
["County of Hawaii Mass Transit Agency","Hilo","HI","9R03-002","9R03-91080","City, County or Local Government Unit or Department of Transportation","Rural Reporter",0,68,"Trucks and other Rubber Tire Vehicles (Service)",null,0,0,0,0,0,0,0,0,0,0,0,0,0,0,0,1,0,0,0,1]
["Somerset County, dba: Somerset County Transportation","Somerville","NJ",2209,20209,"City, County or Local Government Unit or Department of Transportation","Full Reporter",18351295,67,"Trucks and other Rubber Tire Vehicles (Service)",null,0,0,0,0,0,0,0,0,0,0,0,1,0,1,1,0,0,0,0,3]
["Ms Coast Transportation Authority, dba: Coast Transit Authority","Gulfport","MS",4014,40014,"Independent Public Agency or Authority of Transit Service","Full Reporter",208948,67,"Cutaway",null,0,0,0,0,0,1,0,0,6,3,12,0,0,0,0,0,0,0,0,22,9.0909090909090899,356130.81819999998]
["Southwest Iowa Planning Council /SW Iowa Transit","Atlantic","IA","7R01-013","7R01-70258","Independent Public Agency or Authority of Transit Service","Rural Reporter",0,67,"Cutaway",null,0,16,2,4,4,2,6,4,9,5,8,2,0,2,0,0,0,0,0,64,5.734375,0]
["Stark Area Regional Transit Authority","Canton","OH",5011,50011,"Independent Public Agency or Authority of Transit Service","Full Reporter",279245,66,"Van",null,0,0,0,0,0,0,9,0,0,0,0,0,0,0,0,0,0,0,0,9,6,504168]
["City of Wichita , dba: Wichita Transit","Wichita","KS",7015,70015,"City, County or Local Government Unit or Department of Transportation","Full Reporter",472870,66,"Cutaway",null,0,0,10,14,0,0,0,0,1,0,0,0,0,0,0,0,0,0,0,25,2.8,131073.79999999999]
["County of Sonoma , dba: Sonoma County Transit","Santa Rosa","CA",9089,90089,"City, County or Local Government Unit or Department of Transportation","Full Reporter",308231,66,"Bus",null,0,4,0,7,0,9,4,0,10,5,0,0,5,0,0,0,0,0,0,44,6.3409090909090899,279818.68180000002]
["Tompkins Consolidated Area Transit","Ithaca","NY",2145,20145,"Private-Non-Profit Corporation","Full Reporter",53661,65,"Bus",null,11,0,5,2,0,0,0,14,0,2,0,3,10,1,4,0,0,0,0,52,6.9807692307692299,254222.51920000001]
["South Florida Regional Transportation Authority","Pompano Beach","FL",4077,40077,"Independent Public Agency or Authority of Transit Service","Full Reporter",5502379,65,"Commuter Rail Locomotive",null,0,0,0,0,0,12,0,0,0,0,0,0,0,0,0,0,0,4,0,16,13.25,1205235]
["Lakeland Area Mass Transit District ","Lakeland","FL",4031,40031,"Independent Public Agency or Authority of Transit Service","Full Reporter",262596,64,"Cutaway",null,3,0,10,11,1,1,9,1,1,0,0,0,0,0,0,0,0,0,0,37,3.5405405405405399,122079.3514]
["Escambia County Board of County Commissioners, FL, dba: Escambia County Area Transit Authority","Pensacola","FL",4038,40038,"City, County or Local Government Unit or Department of Transportation","Full Reporter",340067,64,"Bus",null,0,0,0,4,6,0,0,0,10,0,0,5,5,0,6,0,0,0,0,36,9.5,357158.86109999998]
["Central Midlands Regional Transportation Authority, dba: The COMET","Columbia","SC",4141,40141,"Independent Public Agency or Authority of Transit Service","Full Reporter",549777,64,"Bus",null,0,31,0,0,0,0,0,0,8,0,0,0,0,0,23,0,0,0,0,62,7.4677419354838701,234263.61290000001]
["Heart of Iowa Regional Transit Agency","Des Moines","IA","7R01-011","7R01-70066","Independent Public Agency or Authority of Transit Service","Rural Reporter",0,64,"Minivan",null,0,1,2,0,1,0,0,1,5,0,3,2,0,3,0,1,0,0,0,19,8.9473684210526301,0]
["CCTS d/b/a River Cities Transit","Pierre","SD","8R04-011","8R04-80171","Private-Non-Profit Corporation","Rural Reporter",0,64,"Bus",null,0,1,0,0,0,0,0,0,0,1,0,1,0,1,0,0,0,0,0,4,8.5,0]
["Good Wheels, Inc.","Ft. Myers","FL","4R02-042","4R02-40207","Private-Non-Profit Corporation","Rural Reporter",0,63,"Cutaway",null,0,0,4,3,2,0,0,3,1,7,0,9,2,0,0,0,0,0,0,31,7.74193548387096,0]
["Bay Area Transportation Authority","Traverse City","MI","5R03-010","5R03-50413","Independent Public Agency or Authority of Transit Service","Rural Reporter",0,63,"Bus",null,0,0,0,0,0,0,0,11,20,0,18,0,0,1,0,0,0,0,0,50,8.6199999999999992,0]
["City of Modesto , dba: Modesto Area Express","Modesto","CA",9007,90007,"City, County or Local Government Unit or Department of Transportation","Full Reporter",358172,63,"Minivan",null,0,0,0,0,1,0,0,0,0,0,0,0,0,0,0,0,0,0,0,1,4,84218]
["Yuma County Intergovernmental Public Transportation Authority","Yuma","AZ",9233,90233,"Independent Public Agency or Authority of Transit Service","Full Reporter",135267,63,"Bus",null,0,0,6,0,0,0,0,0,7,0,0,0,2,0,0,3,0,0,0,18,8.6111111111111107,277837.61109999998]
["Rock Island County Metropolitan Mass Transit District","Moline ","IL",5057,50057,"Independent Public Agency or Authority of Transit Service","Full Reporter",280051,62,"Ferryboat",null,0,0,0,0,0,0,0,0,0,0,0,0,0,0,3,0,0,0,0,3,18.3333333333333,86426.666700000002]
["Northeast Colorado Association of Local Government","Fort Morgan","CO","8R01-011","8R01-80221","MPO, COG or Other Planning Agency","Rural Reporter",0,62,"Bus",null,0,0,0,0,0,0,0,0,0,0,0,0,0,0,1,0,0,0,0,1,20,0]
["Clallam Transit System","Port Angeles","WA","0R03-009","0R03-00303","Independent Public Agency or Authority of Transit Service","Rural Reporter",0,61,"Cutaway",null,5,10,0,0,0,0,10,0,1,0,0,0,0,0,0,0,0,0,0,26,3,0]
["Transit Authority of Central Kentucky","Elizabethtown","KY",4191,40191,"Independent Public Agency or Authority of Transit Service","Full Reporter",73467,61,"Van",null,0,0,0,0,0,0,0,10,9,0,4,0,0,1,0,0,0,0,0,24,8.1666666666666607,164971.9167]
["Transit Authority of Central Kentucky","Elizabethtown","KY",4191,40191,"Independent Public Agency or Authority of Transit Service","Full Reporter",73467,61,"Bus",null,0,0,0,0,0,3,0,0,0,0,4,0,0,0,0,0,0,0,0,7,7.8571428571428497,69183]
["Greater Lafayette Public Transportation Corporation","Lafayette","IN",5051,50051,"Independent Public Agency or Authority of Transit Service","Full Reporter",147725,61,"Automobiles (Service)",null,1,1,0,2,1,0,1,1,1,1,0,0,0,0,0,0,0,0,0,9]
["County of Howard","Ellicott City","MD",3048,30048,"City, County or Local Government Unit or Department of Transportation","Full Reporter",2203663,60,"Cutaway",null,0,8,0,8,6,0,0,0,0,0,0,0,0,0,0,0,0,0,0,22,2.5454545454545401,117386.0909]
["Springfield Mass Transit District, dba: Sangamon Mass Transit District","Springfield","IL",5059,50059,"Independent Public Agency or Authority of Transit Service","Full Reporter",161316,60,"Trucks and other Rubber Tire Vehicles (Service)",null,0,0,0,2,0,0,0,0,0,0,0,0,0,0,0,1,0,0,0,3]
["City of Shreveport, dba: Shreveport Area Transit System","Shreveport","LA",6024,60024,"City, County or Local Government Unit or Department of Transportation","Full Reporter",298317,60,"Van",null,8,0,0,3,0,0,5,0,0,0,4,0,0,0,0,0,0,0,0,20,3.95,175494]
["Rural Economic Assistance League, Inc. ","Alice ","TX","6R05-011","6R05-60175","Private-Non-Profit Corporation","Rural Reporter",0,60,"Minivan",null,3,0,0,0,2,0,1,0,4,0,2,0,0,0,0,0,0,0,0,12,5.5,0]
["City of Yakima, dba: Yakima Transit","Yakima","WA",6,6,"City, County or Local Government Unit or Department of Transportation","Full Reporter",129534,59,"Bus",null,0,4,3,0,3,0,0,0,10,2,2,1,3,2,0,0,0,0,0,30,7.2,262577.23330000002]
["City of Kenosha, dba: Kenosha Area Transit","Kenosha","WI",5003,50003,"City, County or Local Government Unit or Department of Transportation","Full Reporter",124064,58,"Automobiles (Service)",null,0,0,0,0,0,0,0,0,1,0,0,0,0,0,0,0,0,0,0,1]
["Mid-Delta Transit","Helena West Helena","AR","6R01-004","6R01-60136","Private-Non-Profit Corporation","Rural Reporter",0,58,"Trucks and other Rubber Tire Vehicles (Service)",null,0,0,0,0,0,0,0,0,1,0,0,0,0,0,0,0,0,0,0,1]
["Rolling Plains Management Corporation / SHARP Lines","Crowell ","TX","6R05-008","6R05-60143","Other Publicly-Owned or Privately Chartered Corporation","Rural Reporter",0,58,"Van",null,0,3,0,0,0,3,0,0,0,0,0,0,0,0,0,0,0,0,0,6,3,0]
["Rolling Plains Management Corporation / SHARP Lines","Crowell ","TX","6R05-008","6R05-60143","Other Publicly-Owned or Privately Chartered Corporation","Rural Reporter",0,58,"Automobiles (Service)",null,0,0,0,0,5,0,0,4,0,0,0,0,0,0,0,0,0,0,0,9]
["Alternativa de Transporte Integrado -ATI","San Juan","PR",4094,40094,"State Government Unit or Department of Transportation","Full Reporter",2148346,57,"Trucks and other Rubber Tire Vehicles (Service)",null,13,4,7,1,0,0,1,2,4,0,0,0,1,13,0,0,0,0,0,46]
["Alternativa de Transporte Integrado -ATI","San Juan","PR",4094,40094,"State Government Unit or Department of Transportation","Full Reporter",2148346,57,"Articulated Bus",null,0,0,0,0,0,0,2,0,0,0,0,0,0,0,0,0,0,0,0,2,6,18642]
["North Arkansas Transportation Service","Harrison","AR","6R01-005","6R01-60189","Private-Non-Profit Corporation","Rural Reporter",0,57,"Bus",null,0,0,0,0,0,0,0,0,0,0,0,0,0,0,2,0,0,0,0,2,17,0]
["City of Everett, dba: EVERETT TRANSIT SYSTEM","Everett","WA",5,5,"City, County or Local Government Unit or Department of Transportation","Full Reporter",3059393,56,"Trucks and other Rubber Tire Vehicles (Service)",null,2,1,0,0,0,0,0,5,0,0,0,0,0,2,1,0,0,0,0,11]
["First Tennessee Human Resource Agency","Johnson City","TN","4R08-001",40950,"Independent Public Agency or Authority of Transit Service","Full Reporter",120415,56,"Automobile",null,0,0,0,0,0,0,0,0,0,0,2,0,0,0,0,0,0,0,0,2,10,148287]
["River Bend Transit","Davenport","IA",7049,70049,"Private-Non-Profit Corporation","Full Reporter",280051,56,"Trucks and other Rubber Tire Vehicles (Service)",null,1,0,0,0,0,0,0,0,0,0,0,0,0,0,0,0,0,0,0,1]
["Mayor and City Council Town of Ocean City","Ocean City","MD","3R03-026","3R03-30155","City, County or Local Government Unit or Department of Transportation","Rural Reporter",0,55,"Trucks and other Rubber Tire Vehicles (Service)",null,0,0,0,0,0,1,2,1,0,0,0,0,1,1,0,0,0,0,0,6]
["Mayor and City Council Town of Ocean City","Ocean City","MD","3R03-026","3R03-30155","City, County or Local Government Unit or Department of Transportation","Rural Reporter",0,55,"Articulated Bus",null,0,0,2,0,0,0,0,0,0,0,0,0,0,0,0,0,0,0,0,2,2,0]
["Little Dixie Community Action Agency, Inc.","Hugo","OK","6R04-002","6R04-60191","Private-Non-Profit Corporation","Rural Reporter",0,55,"Cutaway",null,0,0,0,1,0,0,6,2,1,5,2,0,0,5,0,0,0,0,0,22,8.6818181818181799,0]
["Regional Transit Authority/RIDES","Spencer","IA","7R01-003","7R01-70240","Private-Non-Profit Corporation","Rural Reporter",0,54,"Minivan",null,0,5,0,1,0,0,1,0,6,0,0,0,0,1,0,0,0,0,0,14,5.3571428571428497,0]
["Regional Transit Authority/RIDES","Spencer","IA","7R01-003","7R01-70240","Private-Non-Profit Corporation","Rural Reporter",0,54,"Automobiles (Service)",null,0,0,1,1,0,0,0,0,0,0,0,0,0,0,1,0,0,0,0,3]
["Broome County, dba: Department of Transportation/BC Transit","Vestal","NY",2003,20003,"City, County or Local Government Unit or Department of Transportation","Full Reporter",158084,53,"Automobiles (Service)",null,0,0,0,0,0,0,0,0,0,1,0,0,0,0,0,0,0,0,0,1]
["Bolivar County Council On Aging, Inc.","Cleveland","MS","4R05-002","4R05-41192","Private-Non-Profit Corporation","Rural Reporter",0,53,"Minivan",null,0,7,4,11,1,10,0,4,1,0,0,1,0,1,0,0,0,0,0,40,4.05,0]
["Bolivar County Council On Aging, Inc.","Cleveland","MS","4R05-002","4R05-41192","Private-Non-Profit Corporation","Rural Reporter",0,53,"Cutaway",null,1,5,6,0,1,2,0,0,0,0,1,0,0,0,0,0,0,0,0,16,2.5625,0]
["City of Fort Collins, dba: Transfort","Fort Collins","CO",8011,80011,"City, County or Local Government Unit or Department of Transportation","Full Reporter",264465,52,"Bus",null,0,0,0,10,7,0,0,6,0,7,3,0,0,0,8,2,0,0,0,43,8.8372093023255793,321080.60470000003]
["Transit Joint Powers Authority for Merced County, dba: Merced The Bus","Merced","CA",9173,90173,"Independent Public Agency or Authority of Transit Service","Full Reporter",136969,52,"Minivan",null,0,9,3,0,0,0,0,0,0,0,0,0,0,0,0,0,0,0,0,12,1.25,8520.5]
["Laredo Transit Management, Inc., dba: El Metro","Laredo","TX",6009,60009,"City, County or Local Government Unit or Department of Transportation","Full Reporter",235730,51,"Van",null,0,0,0,0,3,0,0,0,0,0,0,0,0,0,0,0,0,0,0,3,4,32832]
["Grant County Transportation Authority","Moses Lake","WA","0R03-011","0R03-00309","Independent Public Agency or Authority of Transit Service","Rural Reporter",0,50,"Van",null,0,0,0,6,0,0,2,0,0,1,0,0,0,0,0,0,0,0,0,9,4.3333333333333304,0]
["Grant County Transportation Authority","Moses Lake","WA","0R03-011","0R03-00309","Independent Public Agency or Authority of Transit Service","Rural Reporter",0,50,"Cutaway",null,3,6,0,0,6,6,3,0,0,4,0,0,0,0,0,0,0,0,0,28,4.0714285714285703,0]
["Western Reserve Transit Authority","Youngstown","OH",5024,50024,"Independent Public Agency or Authority of Transit Service","Full Reporter",387550,50,"Trucks and other Rubber Tire Vehicles (Service)",null,0,1,0,0,0,4,0,1,0,0,0,0,0,1,0,0,0,0,0,7]
["City of Eau Claire, dba: Eau Claire Transit","Eau Claire","WI",5099,50099,"City, County or Local Government Unit or Department of Transportation","Full Reporter",102852,50,"Bus",null,0,0,0,0,0,0,3,5,0,0,0,0,0,1,13,0,0,0,0,22,13.4545454545454,365484.27269999997]
["Yolo County Transportation District","Woodland","CA",9090,90090,"Independent Public Agency or Authority of Transit Service","Full Reporter",1723634,50,"Over-the-road Bus",null,0,0,0,0,0,0,0,0,0,6,0,0,0,0,0,0,0,0,0,6,9,370242.6667]
["Western Contra Costa Transit Authority","Pinole","CA",9159,90159,"Independent Public Agency or Authority of Transit Service","Full Reporter",3281212,50,"Bus",null,0,0,0,0,17,0,0,0,0,0,6,5,0,1,8,0,0,0,0,37,8.9729729729729701,358258.16220000002]
["Dutchess County, dba: Dutchess County Public Transit","Poughkeepsie","NY",2010,20010,"City, County or Local Government Unit or Department of Transportation","Full Reporter",423566,49,"Bus",null,0,11,10,11,5,7,0,0,5,0,0,0,0,0,0,0,0,0,0,49,3.2448979591836702,112574.12239999999]
["Collier County, dba: Collier Area Transit","Naples","FL",4140,40140,"City, County or Local Government Unit or Department of Transportation","Full Reporter",310298,49,"Automobiles (Service)",null,0,1,1,0,0,0,0,0,0,1,0,0,1,0,0,0,0,0,0,4]
["Portage Area Regional Transportation Authority","Kent","OH",5021,50021,"Independent Public Agency or Authority of Transit Service","Full Reporter",569499,49,"Bus",null,4,0,0,0,0,0,8,5,0,3,0,5,0,6,2,0,0,0,0,33,8.5757575757575708,192682.69699999999]
["City of Gardena, dba: GTrans","Gardena","CA",9042,90042,"City, County or Local Government Unit or Department of Transportation","Full Reporter",12150996,49,"Cutaway",null,0,0,0,0,0,0,0,2,0,0,0,0,0,2,0,0,0,0,0,4,11,112836.5]
["Alamo Area Council of Governments","San Antonio ","TX",6130,60130,"MPO, COG or Other Planning Agency","Full Reporter",1758210,48,"Bus",null,16,0,0,1,10,1,9,0,1,27,5,1,1,1,2,0,0,0,0,75,6.3066666666666604,177197.17329999999]
["Region XII Council of Governments/WITS","Carroll","IA","7R01-012","7R01-70224","Independent Public Agency or Authority of Transit Service","Rural Reporter",0,48,"Cutaway",null,0,5,0,1,0,2,0,3,5,2,1,3,2,1,1,0,0,0,0,26,7.4230769230769198,0]
["Region XII Council of Governments/WITS","Carroll","IA","7R01-012","7R01-70224","Independent Public Agency or Authority of Transit Service","Rural Reporter",0,48,"Automobile",null,0,0,0,0,0,0,0,0,0,0,0,0,0,0,0,0,1,0,0,1,29,0]
["Kerr Area Transportation Authority","Henderson","NC","4R06-025","4R06-41048","Independent Public Agency or Authority of Transit Service","Rural Reporter",0,47,"Van",null,0,0,0,0,0,2,2,0,0,0,0,0,0,0,0,0,0,0,0,4,5.5,0]
["Bloomington-Normal Public Transit System","Normal","IL",5047,50047,"Independent Public Agency or Authority of Transit Service","Full Reporter",132600,47,"Trucks and other Rubber Tire Vehicles (Service)",null,0,0,0,0,0,1,0,0,0,0,0,0,0,1,0,0,0,0,0,2]
["San Luis Obispo Regional Transit Authority","San Luis Obispo","CA",9206,90206,"Independent Public Agency or Authority of Transit Service","Full Reporter",59219,47,"Trucks and other Rubber Tire Vehicles (Service)",null,0,0,2,0,2,0,0,0,0,0,0,0,0,0,1,0,0,0,0,5]
["Link Transit","Wenatchee","WA",43,43,"Independent Public Agency or Authority of Transit Service","Full Reporter",67227,46,"Cutaway",null,3,2,0,0,7,0,1,4,0,0,0,0,0,0,0,0,0,0,0,17,3.7647058823529398,121121.7059]
["Kanawha Valley Regional Transportation Authority","Charleston","WV",3001,30001,"Independent Public Agency or Authority of Transit Service","Full Reporter",153199,46,"Trucks and other Rubber Tire Vehicles (Service)",null,0,0,0,1,0,0,0,0,1,0,0,0,0,1,1,0,0,1,0,5]
["Kanawha Valley Regional Transportation Authority","Charleston","WV",3001,30001,"Independent Public Agency or Authority of Transit Service","Full Reporter",153199,46,"Automobiles (Service)",null,0,1,0,1,0,0,0,0,2,0,0,0,0,1,1,0,0,0,0,6]
["Endless Mountains Transportation Authority, dba: BeST Transit","Athens","PA","3R04-017","3R04-30170","Independent Public Agency or Authority of Transit Service","Rural Reporter",0,46,"Cutaway",null,0,0,4,4,5,14,0,0,8,2,0,0,0,0,0,0,0,0,0,37,5.1891891891891797,0]
["City of Mobile, dba: THE WAVE TRANSIT SYSTEM","Mobile","AL",4043,40043,"City, County or Local Government Unit or Department of Transportation","Full Reporter",326183,46,"Trucks and other Rubber Tire Vehicles (Service)",null,1,0,0,0,0,0,5,0,0,0,0,0,0,0,0,0,0,0,0,6]
["Fort Wayne Public Transportation Corporation","Fort Wayne","IN",5044,50044,"Independent Public Agency or Authority of Transit Service","Full Reporter",313492,46,"Cutaway",null,0,0,0,3,5,0,8,2,2,6,0,0,0,0,0,0,0,0,0,26,6.1923076923076898,174877.6538]
["Jefferson Parish, dba: Jefferson Transit","Gretna","LA",6088,60088,"City, County or Local Government Unit or Department of Transportation","Full Reporter",899703,46,"Trucks and other Rubber Tire Vehicles (Service)",null,2,0,0,0,0,0,4,0,1,0,1,0,0,0,3,0,0,0,0,11]
["10-15 Regional Transit Agency","Ottumwa","IA","7R01-015","7R01-70242","Independent Public Agency or Authority of Transit Service","Rural Reporter",0,46,"Automobile",null,0,0,0,0,0,2,0,1,1,2,2,0,2,1,0,0,0,0,0,11,9.0909090909090899,0]
["Central Oregon Intergovernmental Council","Bend","OR",57,57,"MPO, COG or Other Planning Agency","Full Reporter",83794,45,"Bus",null,0,4,0,0,0,0,0,0,0,0,0,0,0,0,0,0,0,0,0,4,1,9039.5]
["Ventura County Transportation Commission","Ventura","CA",9164,90164,"Independent Public Agency or Authority of Transit Service","Full Reporter",367260,45,"Over-the-road Bus",null,0,2,1,0,25,1,0,0,0,0,3,0,0,0,0,0,0,0,0,32,4.34375,246921.125]
["Kern Regional Transit","Bakersfield","CA","9R02-037","9R02-91059","City, County or Local Government Unit or Department of Transportation","Rural Reporter",0,45,"Cutaway",null,0,2,0,6,0,0,6,10,0,3,0,0,0,6,0,0,0,0,0,33,7.3636363636363598,0]
["Monroe County Transportation  Authority","Scotrun","PA","3R04-012",30137,"Independent Public Agency or Authority of Transit Service","Full Reporter",54316,44,"Minivan",null,0,2,0,0,0,0,0,0,0,2,0,0,0,0,0,0,0,0,0,4,5,62200.5]
["Monroe County Transportation  Authority","Scotrun","PA","3R04-012",30137,"Independent Public Agency or Authority of Transit Service","Full Reporter",54316,44,"Cutaway",null,5,0,2,9,0,10,3,1,0,1,0,0,0,0,0,0,0,0,0,31,3.7096774193548301,134910.83869999999]
["Manatee County Board of County Commissioners, dba: Manatee County Area Transit","Sarasota","FL",4026,40026,"City, County or Local Government Unit or Department of Transportation","Full Reporter",643260,44,"Cutaway",null,3,0,1,8,5,9,0,1,8,0,0,0,0,0,0,0,0,0,0,35,4.6285714285714201,112256.5714]
["Santee Wateree Regional Transportation Authority","Sumter","SC",4100,40100,"Independent Public Agency or Authority of Transit Service","Full Reporter",73107,44,"Trucks and other Rubber Tire Vehicles (Service)",null,0,1,1,0,0,0,0,0,0,0,0,0,1,0,1,0,0,0,0,4]
["Fort Bend County, Texas, dba: Fort Bend County Public Transportation","Sugar Land","TX",6103,60103,"City, County or Local Government Unit or Department of Transportation","Full Reporter",4944332,44,"Cutaway",null,8,0,5,6,4,2,4,13,7,1,0,0,0,0,0,0,0,0,0,50,4.68,207589.28]
["Eastern Sierra Transit Authority","Bishop","CA","9R02-098","9R02-91062","Independent Public Agency or Authority of Transit Service","Rural Reporter",0,44,"Cutaway",null,1,0,1,1,8,6,1,0,1,2,3,0,0,0,0,0,0,0,0,24,5.375,0]
["West Virginia University - Morgantown Personal Rapid Transit","Morgantown","WV",3107,30107,"University","Full Reporter",70350,43,"Automated Guideway Vehicle",null,0,0,0,0,0,0,0,0,0,0,0,0,0,0,0,0,0,69,0,69,45,473556]
["Yadkin Valley Economic Development District, Inc.","Boonville","NC","4R06-070","4R06-41134","Private-Non-Profit Corporation","Rural Reporter",0,43,"Cutaway",null,0,0,8,4,11,1,7,0,0,0,0,0,0,0,0,0,0,0,0,31,3.8387096774193501,0]
["City of Fairfield, California, dba: Fairfield and Suisun Transit","Fairfield","CA",9092,90092,"City, County or Local Government Unit or Department of Transportation","Full Reporter",133683,43,"Cutaway",null,0,0,5,0,2,0,0,3,0,0,0,2,0,0,0,0,0,0,0,12,5.0833333333333304,137936.5]
["Okaloosa County Board of County Commissioners, dba: Emerald Coast Rider","Fort Walton Beach","FL",4128,40128,"City, County or Local Government Unit or Department of Transportation","Full Reporter",191917,42,"Bus",null,0,0,0,0,0,0,0,0,0,0,0,2,0,0,0,0,0,0,0,2,11,148454]
["KY River Foothills Development Council, Inc.","Richmond","KY","4R04-022","4R04-40979","Private-Non-Profit Corporation","Rural Reporter",0,42,"Minivan",null,0,0,2,2,0,0,0,0,0,0,2,0,0,0,0,0,0,0,0,6,5,0]
["Huron Transit Corporation","Bad Axe","MI","5R03-037","5R03-50370","City, County or Local Government Unit or Department of Transportation","Rural Reporter",0,42,"Bus",null,2,3,1,4,1,3,4,8,7,0,9,1,0,0,0,0,0,0,0,43,6.34883720930232,0]
["South Plains Community Action Association, Inc.","Levelland ","TX","6R05-035","6R05-60159","City, County or Local Government Unit or Department of Transportation","Rural Reporter",0,42,"Sports Utility Vehicle",null,0,0,0,0,0,0,0,0,1,0,0,0,0,0,0,0,0,0,0,1,8,0]
["Mid-Nebraska Community Action","Kearney","NE","7R04-005","7R04-70081","Private-Non-Profit Corporation","Rural Reporter",0,42,"Van",null,0,2,0,0,1,0,0,0,0,0,1,0,0,0,0,0,0,0,0,4,4,0]
["Mason County Transportation Authority","Shelton","WA","0R03-017","0R03-00315","Independent Public Agency or Authority of Transit Service","Rural Reporter",0,41,"Bus",null,0,3,0,2,0,1,0,0,3,0,0,3,0,3,5,0,0,0,0,20,9.9,0]
["Downeast Transportation, Inc. ","Ellsworth","ME","1R03-011","1R03-10175","Private-Non-Profit Corporation","Rural Reporter",0,41,"Bus",null,0,0,2,0,0,0,0,0,10,2,2,8,13,0,6,0,0,0,0,43,11.0232558139534,0]
["City of Waukesha , dba: Waukesha Metro Transit","Waukesha","WI",5096,50096,"City, County or Local Government Unit or Department of Transportation","Full Reporter",1376476,41,"Trucks and other Rubber Tire Vehicles (Service)",null,0,0,0,0,1,0,0,1,1,0,1,0,0,0,0,0,0,0,0,4]
["Greene County Transit Board, dba: Greene CATS Public Transit","Xenia","OH",5165,50165,"City, County or Local Government Unit or Department of Transportation","Full Reporter",724091,41,"Cutaway",null,3,14,0,0,10,9,3,1,0,0,0,0,0,0,0,0,0,0,0,40,3.1,108703.47500000001]
["Menominee Indian Tribe of Wisconsin","Keshena","WI","5T03",55228,"Tribe","Reduced Reporter",0,41,"Cutaway",null,0,3,0,0,0,3,9,0,4,0,6,1,3,2,1,0,0,0,0,32,8.03125,0]
["East Texas Council of Governments ","Kilgore","TX","6R05-029","6R05-60186","MPO, COG or Other Planning Agency","Rural Reporter",0,41,"Automobiles (Service)",null,3,0,0,0,0,0,0,0,0,1,0,0,0,0,0,0,0,0,0,4]
["Napa Valley Transportation Authority","Napa","CA",9088,90088,"Independent Public Agency or Authority of Transit Service","Full Reporter",83913,41,"Cutaway",null,0,0,3,0,5,0,7,11,0,0,2,2,0,0,0,0,0,0,0,30,6.2333333333333298,127764.23330000001]
["Connecticut Department of Transportation - CTTRANSIT Stamford Division","Hartford","CT",1056,10056,"State Government Unit or Department of Transportation","Full Reporter",923311,40,"Automobiles (Service)",null,0,0,0,0,0,0,0,0,0,0,0,1,0,0,0,0,0,0,0,1]
["Four County Transit","Cedar Bluff","VA","3R06-001","3R06-30174","Private-Non-Profit Corporation","Rural Reporter",0,40,"Trucks and other Rubber Tire Vehicles (Service)",null,1,1,2,0,0,0,1,0,0,0,0,0,0,0,0,0,0,0,0,5]
["Four County Transit","Cedar Bluff","VA","3R06-001","3R06-30174","Private-Non-Profit Corporation","Rural Reporter",0,40,"Bus",null,0,0,0,0,0,0,0,0,0,1,0,0,0,0,0,0,0,0,0,1,9,0]
["Tri-County Community Council, Inc","Bonifay","FL","4R02-018","4R02-41186","Private-Non-Profit Corporation","Rural Reporter",0,40,"School Bus",null,0,0,0,0,0,0,0,0,0,0,0,0,0,1,0,0,0,0,0,1,14,0]
["Tri-County Community Council, Inc","Bonifay","FL","4R02-018","4R02-41186","Private-Non-Profit Corporation","Rural Reporter",0,40,"Automobile",null,0,0,0,0,0,0,0,0,0,1,1,1,2,0,0,0,0,0,0,5,10.8,0]
["Saginaw Transit Authority Regional Service","Saginaw","MI",5039,50039,"Independent Public Agency or Authority of Transit Service","Full Reporter",126265,40,"Trucks and other Rubber Tire Vehicles (Service)",null,0,0,0,1,0,0,0,0,0,0,0,0,0,0,3,0,0,0,0,4]
["Shawnee Mass Transit District","Vienna","IL","5R01-035","5R01-50315","Independent Public Agency or Authority of Transit Service","Rural Reporter",0,40,"Bus",null,0,0,6,0,0,4,1,0,0,0,0,0,0,0,0,0,0,0,0,11,3.4545454545454501,0]
["Lake County Board of County Commissioners, dba: LakeXpress","Tavares","FL",4158,40158,"City, County or Local Government Unit or Department of Transportation","Full Reporter",131337,39,"Minivan",null,1,4,0,0,0,0,0,0,0,0,0,0,0,0,0,0,0,0,0,5,0.8,11022.2]
["City of Racine, Wisconsin, dba: RYDE","Racine","WI",5006,50006,"City, County or Local Government Unit or Department of Transportation","Full Reporter",133700,39,"Trucks and other Rubber Tire Vehicles (Service)",null,0,1,0,0,0,0,0,0,1,1,0,0,0,1,0,1,0,0,0,5]
["City of Santa Fe, dba: Santa Fe Trails","Santa Fe","NM",6077,60077,"City, County or Local Government Unit or Department of Transportation","Full Reporter",89284,39,"Van",null,0,0,0,0,4,0,4,2,0,0,0,0,1,0,0,0,0,0,0,11,6,98311.363599999997]
["City of Santa Fe, dba: Santa Fe Trails","Santa Fe","NM",6077,60077,"City, County or Local Government Unit or Department of Transportation","Full Reporter",89284,39,"Bus",null,0,0,0,7,5,0,1,7,0,0,6,0,0,0,0,0,0,0,0,26,6,199433.1923]
["Muskogee County Public Transit Authority","Muskogee","OK","6R04-015","6R04-60203","Independent Public Agency or Authority of Transit Service","Rural Reporter",0,39,"Van",null,0,1,0,0,0,0,0,0,0,0,0,0,0,3,0,0,0,0,0,4,10.75,0]
["Northeast Iowa Community Action Corporation","Decorah","IA","7R01-001","7R01-70195","Private-Non-Profit Corporation","Rural Reporter",0,39,"Minivan",null,0,0,0,0,5,4,0,0,4,0,1,0,0,0,0,0,0,0,0,14,5.8571428571428497,0]
["Park City Municipal Corporation","Park City","UT","8R06-001","8R06-80284","City, County or Local Government Unit or Department of Transportation","Rural Reporter",0,39,"Cutaway",null,0,2,0,0,0,0,0,0,5,1,0,0,0,0,0,0,0,0,0,8,6.375,0]
["Kennebec Valley Community Action Program","Waterville","ME","1R03-005","1R03-10155","Private-Non-Profit Corporation","Rural Reporter",0,38,"Cutaway",null,0,2,4,0,0,2,0,0,12,2,1,6,0,0,0,0,0,0,0,29,7.2413793103448203,0]
["Wayne Area Transportation Service","Lyons","NY","2R02-051","2R02-20983","Independent Public Agency or Authority of Transit Service","Rural Reporter",0,38,"Bus",null,0,0,0,0,0,0,0,0,5,0,0,0,0,0,0,0,0,0,0,5,8,0]
["Bay Transit","Urbanna","VA","3R06-015","3R06-30172","Area Agency on Aging","Rural Reporter",0,38,"Cutaway",null,8,8,9,11,7,0,4,1,1,1,0,0,1,1,0,0,0,0,0,52,3.1153846153846101,0]
["Williamsburg County Transit System","Kingstree","SC","4R07-020","4R07-40952","City, County or Local Government Unit or Department of Transportation","Rural Reporter",0,38,"Automobiles (Service)",null,2,0,0,0,0,0,0,0,0,0,0,0,0,0,0,0,0,0,0,2]
["Pigeon Forge Fun Time Trolleys","Pigeon Forge","TN","4R08-012","4R08-41136","City, County or Local Government Unit or Department of Transportation","Rural Reporter",0,38,"Other",null,0,0,0,0,0,2,1,0,0,0,0,0,0,0,0,0,0,0,0,3,5.3333333333333304,0]
["Butler County Regional Transit Authority","Hamilton","OH",5157,50157,"Independent Public Agency or Authority of Transit Service","Full Reporter",1624827,38,"Bus",null,0,0,3,12,0,0,0,0,0,0,0,0,0,4,0,0,0,0,0,19,4.9473684210526301,77639.894700000004]
["The Gulf Coast Center","Texas City","TX",6082,60082,"Independent Public Agency or Authority of Transit Service","Full Reporter",106383,38,"Bus",null,0,0,0,0,3,0,5,0,0,0,0,0,0,0,0,0,0,0,0,8,5.25,238212.25]
["City of Lawrence","Lawrence","KS",7048,70048,"City, County or Local Government Unit or Department of Transportation","Full Reporter",88053,38,"Bus",null,0,0,0,3,0,0,0,12,0,0,0,0,0,0,3,0,0,0,0,18,8.5,185001.1667]
["County of Placer, dba: Placer County Department of Public Works","Auburn","CA",9196,90196,"City, County or Local Government Unit or Department of Transportation","Full Reporter",1723634,38,"Over-the-road Bus",null,0,0,0,0,0,0,0,0,5,0,0,0,0,0,0,0,0,0,0,5,8,248333.4]
["County of Placer, dba: Placer County Department of Public Works","Auburn","CA",9196,90196,"City, County or Local Government Unit or Department of Transportation","Full Reporter",1723634,38,"Automobiles (Service)",null,0,1,1,1,0,2,0,2,0,0,0,0,2,1,0,0,0,0,0,10]
["Alaska Railroad Corporation","Anchorage","AK",41,41,"State Government Unit or Department of Transportation","Full Reporter",251243,37,"Trucks and other Rubber Tire Vehicles (Service)",null,3,0,1,3,2,1,3,3,1,4,1,1,3,3,27,1,1,7,0,65]
["Bloomington Public Transportation Corporation","Bloomington","IN",5110,50110,"Independent Public Agency or Authority of Transit Service","Full Reporter",108657,37,"Minivan",null,0,2,0,0,0,0,0,0,0,0,0,0,0,0,0,0,0,0,0,2,1,3941]
["City of Plymouth","City of Plymouth","MN",5219,50516,"City, County or Local Government Unit or Department of Transportation","Full Reporter",2650890,37,"Over-the-road Bus",null,5,0,0,0,0,0,0,0,0,0,0,0,0,0,0,0,0,0,0,5,0,3085]
["City of Columbia, dba: Go COMO","Columbia","MO",7016,70016,"City, County or Local Government Unit or Department of Transportation","Full Reporter",124748,37,"Automobiles (Service)",null,0,0,0,0,0,0,0,0,0,0,0,0,0,1,1,0,0,0,0,2]
["City of Fargo, dba: Metropolitan Area Transit","Fargo","ND",8003,80003,"City, County or Local Government Unit or Department of Transportation","Full Reporter",176676,37,"Automobiles (Service)",null,1,1,0,0,0,0,0,2,0,0,0,1,0,0,0,0,0,0,0,5]
["Frederick County, Maryland, dba: TransIT Services of Frederick County","Frederick","MD",3072,30072,"City, County or Local Government Unit or Department of Transportation","Full Reporter",141576,36,"Cutaway",null,4,6,2,3,3,0,0,0,0,4,0,0,0,0,0,0,0,0,0,22,3.0454545454545401,114920.9091]
["Metropolitan Evansville Transit System, dba: METS","Evansville","IN",5043,50043,"City, County or Local Government Unit or Department of Transportation","Full Reporter",229351,36,"Trucks and other Rubber Tire Vehicles (Service)",null,0,0,1,0,2,0,0,0,0,0,0,0,0,2,9,0,1,0,0,15]
["Muncie Indiana Transit System","Muncie","IN",5054,50054,"Independent Public Agency or Authority of Transit Service","Full Reporter",90580,36,"Trucks and other Rubber Tire Vehicles (Service)",null,0,0,0,1,0,0,0,0,0,1,0,0,0,0,1,0,0,0,0,3]
["Chickasaw Nation","Ada","OK","6T02",60002,"Tribe","Reduced Reporter",0,36,"Van",null,0,0,1,0,0,0,0,0,0,0,1,0,0,0,0,0,0,0,0,2,6,0]
["City of Santa Rosa","Santa Rosa","CA",9017,90017,"City, County or Local Government Unit or Department of Transportation","Full Reporter",308231,36,"Bus",null,0,0,4,0,0,6,0,7,0,0,0,3,0,0,8,0,0,0,0,28,9.0714285714285694,288851.10710000002]
["Waldo Community Action Partners","Belfast","ME","1R03-013","1R03-10169","Private-Non-Profit Corporation","Rural Reporter",0,35,"Minivan",null,0,0,0,2,4,0,1,1,0,2,0,0,0,0,0,0,0,0,0,10,5.3,0]
["Fulton County Transit Authority","Fulton","KY","4R04-004","4R04-41179","City, County or Local Government Unit or Department of Transportation","Rural Reporter",0,35,"Van",null,0,3,0,0,0,0,0,0,0,0,0,0,0,1,0,0,0,0,0,4,4.5,0]
["Fulton County Transit Authority","Fulton","KY","4R04-004","4R04-41179","City, County or Local Government Unit or Department of Transportation","Rural Reporter",0,35,"Cutaway",null,0,15,3,2,1,2,0,1,4,5,0,0,0,0,0,0,0,0,0,33,3.7878787878787801,0]
["Topeka Metropolitan Transit Authority","Topeka","KS",7014,70014,"Independent Public Agency or Authority of Transit Service","Full Reporter",150003,35,"Automobiles (Service)",null,0,0,0,0,0,0,0,3,0,0,0,0,1,0,0,0,0,0,0,4]
["Greater Portland Transit District","Portland","ME",1016,10016,"Independent Public Agency or Authority of Transit Service","Full Reporter",203914,34,"Cutaway",null,0,1,3,0,0,0,0,0,0,0,0,0,0,0,0,0,0,0,0,4,1.75,102576]
["Western Maine Transportation Services, Inc.","Auburn","ME",1098,10098,"Independent Public Agency or Authority of Transit Service","Full Reporter",59397,34,"Trucks and other Rubber Tire Vehicles (Service)",null,0,0,1,0,0,0,0,0,0,0,1,0,0,0,0,0,0,0,0,2]
["Martha's Vineyard Transit Authority","Edgartown","MA","1R02-003","1R02-10145","Independent Public Agency or Authority of Transit Service","Rural Reporter",0,34,"Automobiles (Service)",null,0,2,0,2,2,4,0,1,0,0,0,0,1,1,0,0,0,0,0,13]
["Beaver County Transit Authority","Rochester","PA",3023,30023,"Independent Public Agency or Authority of Transit Service","Full Reporter",1733853,34,"Automobiles (Service)",null,0,0,0,0,0,1,0,0,0,0,1,0,0,0,0,0,0,0,0,2]
["Schuylkill Transportation System","St. Clair","PA","3R04-006","3R04-30127","Independent Public Agency or Authority of Transit Service","Rural Reporter",0,34,"Cutaway",null,0,3,5,6,0,7,5,1,0,1,0,0,0,0,0,0,0,0,0,28,4,0]
["Delta Human Resource Agency","Covington","TN","4R08-010","4R08-41020","Independent Public Agency or Authority of Transit Service","Rural Reporter",0,34,"Automobiles (Service)",null,0,0,0,1,0,0,0,0,0,0,0,0,0,0,0,0,0,0,0,1]
["Central Community Transit","Wilmar","MN",null,"5R04-55314","Independent Public Agency or Authority of Transit Service","Rural Reporter",0,34,"Van",null,0,0,0,0,0,0,0,0,0,0,0,0,0,1,0,0,0,0,0,1,15,0]
["The Woodlands Township","The Woodlands","TX",6134,60134,"City, County or Local Government Unit or Department of Transportation","Full Reporter",239938,34,"Over-the-road Bus",null,0,10,10,5,0,0,0,0,0,0,0,0,0,0,0,0,0,0,0,25,1.8,98564.6]
["Altamont Corridor Express","Stockton","CA",9182,90182,"Independent Public Agency or Authority of Transit Service","Full Reporter",370583,34,"Trucks and other Rubber Tire Vehicles (Service)",null,0,0,0,0,1,0,1,0,0,0,0,1,1,1,0,0,0,0,0,5]
["Altamont Corridor Express","Stockton","CA",9182,90182,"Independent Public Agency or Authority of Transit Service","Full Reporter",370583,34,"Commuter Rail Locomotive",null,0,0,0,0,0,0,0,0,0,0,0,0,1,0,2,3,0,0,0,6,18.5,404158.1667]
["City of Glendale","Glendale","CA",null,99423,"City, County or Local Government Unit or Department of Transportation","Full Reporter",12150996,34,"Minivan",null,0,4,0,0,0,0,0,0,0,1,0,0,0,0,0,0,0,0,0,5,2.6,31358.400000000001]
["The Tri-State Transit Authority","Huntington","WV",3002,30002,"Independent Public Agency or Authority of Transit Service","Full Reporter",202637,33,"Bus",null,4,0,0,3,6,0,0,0,0,14,2,4,0,3,0,0,0,2,0,38,8.8421052631578902,234214.81580000001]
["Williamsburg Area Transit Authority","Williamsburg","VA",3076,30076,"Independent Public Agency or Authority of Transit Service","Full Reporter",75689,33,"Cutaway",null,1,2,0,0,0,0,2,0,0,0,0,0,0,0,0,0,0,0,0,5,2.8,94486.8]
["Council on Aging of St. Lucie, Inc., dba: Community Transit","Fort Pierce","FL",4097,40097,"Private Provider Reporting on Behalf of a Public Entity","Full Reporter",376047,33,"Minivan",null,0,0,3,0,0,0,0,0,0,0,0,0,0,0,0,0,0,0,0,3,2,1641]
["Ozaukee County , dba: Ozaukee County Transit Services ","Port Washington","WI",5161,50161,"City, County or Local Government Unit or Department of Transportation","Full Reporter",1376476,33,"Cutaway",null,4,6,0,2,0,0,1,0,0,0,0,0,0,0,0,0,0,0,0,13,1.3846153846153799,77844.384600000005]
["Shelby County ","Shelbyville","IL","5R01-021","5R01-50496","City, County or Local Government Unit or Department of Transportation","Rural Reporter",0,33,"Minivan",null,0,3,0,0,1,0,1,0,1,0,4,0,0,0,0,0,0,0,0,10,6.1,0]
["North Central Regional Transit District","Espanola","NM","6R03-031",60138,"State Government Unit or Department of Transportation","Reduced Reporter",89284,33,"Bus",null,0,0,1,0,1,1,0,0,0,0,0,0,0,0,0,0,0,0,0,3,3.6666666666666599,119150.6667]
["Northern Arizona Intergovernmental Public Transportation Authority","Flagstaff","AZ",9219,90219,"Independent Public Agency or Authority of Transit Service","Full Reporter",71957,33,"Sports Utility Vehicle",null,0,2,2,0,1,0,0,0,0,0,0,0,0,0,0,0,0,0,0,5,2,53973.599999999999]
["Dorchester County Council","Cambridge","MD","3R03-019","3R03-30161","City, County or Local Government Unit or Department of Transportation","Rural Reporter",0,32,"Automobiles (Service)",null,0,0,0,0,0,0,0,0,1,0,0,0,0,0,0,0,0,0,0,1]
["Indian River County","Vero Beach","FL",4104,40104,"City, County or Local Government Unit or Department of Transportation","Full Reporter",149422,32,"Bus",null,0,0,1,2,0,3,0,0,0,0,0,0,0,0,0,0,0,0,0,6,3.8333333333333299,256499.5]
["Buncombe County, dba: Mountain Mobility","Asheville ","NC",4224,40224,"City, County or Local Government Unit or Department of Transportation","Full Reporter",280648,32,"Trucks and other Rubber Tire Vehicles (Service)",null,0,0,0,0,0,0,0,0,0,0,0,0,0,1,1,0,0,0,0,2]
["Trailblazer Joint Powers Board","Glencoe","MN","5R04-058","5R04-50394","Independent Public Agency or Authority of Transit Service","Rural Reporter",0,32,"Cutaway",null,0,3,4,14,1,7,4,0,0,3,0,2,0,0,0,0,0,0,0,38,4.3421052631578902,0]
["Big Five Community Services, Inc.","Durant","OK","6R04-008","6R04-60258","Private-Non-Profit Corporation","Rural Reporter",0,32,"Cutaway",null,0,0,0,0,0,2,0,0,2,7,5,3,2,3,0,0,0,0,0,24,9.7916666666666607,0]
["Grand Gateway EDA/ Pelivan","Big Cabin","OK","6R04-006","6R04-60266","MPO, COG or Other Planning Agency","Rural Reporter",0,32,"School Bus",null,0,1,0,0,0,0,0,0,0,0,0,0,0,0,0,0,0,0,0,1,1,0]
["Woods Hole, Martha's Vineyard and Nantucket Steamship Authority","Woods Hole","MA",null,10183,"Independent Public Agency or Authority of Transit Service","Full Reporter",246695,31,"Ferryboat",null,0,0,1,0,0,0,0,0,0,0,0,0,1,1,0,1,0,5,1,10,30.1,35638.1]
["County of Fayette, dba: Fayette Area Coordinated Transportation","Lemont Furnace","PA",3087,30087,"City, County or Local Government Unit or Department of Transportation","Full Reporter",51370,31,"Trucks and other Rubber Tire Vehicles (Service)",null,0,0,0,0,0,1,1,0,1,1,0,0,0,0,0,0,0,0,0,4]
["Aaron E. Henry Community Health Services Center,In","Clarksdale","MS","4R05-001","4R05-41183","Private-Non-Profit Corporation","Rural Reporter",0,31,"Van",null,2,2,0,0,0,1,0,0,2,0,0,0,0,0,0,0,0,0,0,7,3.2857142857142798,0]
["AppalCart","Boone","NC","4R06-057","4R06-41127","Independent Public Agency or Authority of Transit Service","Rural Reporter",0,31,"Bus",null,0,9,0,0,3,0,1,2,2,0,2,4,0,0,0,0,0,0,0,23,5.2608695652173898,0]
["AppalCart","Boone","NC","4R06-057","4R06-41127","Independent Public Agency or Authority of Transit Service","Rural Reporter",0,31,"Automobiles (Service)",null,0,0,0,0,0,0,0,1,0,0,0,1,0,0,0,0,0,0,0,2]
["South Central Adult Services","Valley City","ND","8R03-016","8R03-80125","Private-Non-Profit Corporation","Rural Reporter",0,31,"Cutaway",null,0,0,1,1,0,1,0,1,0,0,0,3,1,1,0,0,0,0,0,9,8.55555555555555,0]
["Columbia County","St. Helens","OR","0R02-018","0R02-00375","City, County or Local Government Unit or Department of Transportation","Rural Reporter",0,30,"Cutaway",null,0,1,0,3,0,0,3,0,1,1,3,2,1,1,2,0,0,0,0,18,8.6666666666666607,0]
["Jalbert Leasing, Inc. , dba: C&J Bus Lines","Portsmouth","NH",1122,10122,"Private-For-Profit Corporation","Reduced Reporter",88200,30,"Automobiles (Service)",null,0,1,0,0,0,1,0,0,0,0,0,0,0,0,0,0,0,0,0,2]
["Gaston County","Gastonia","NC",4221,40221,"City, County or Local Government Unit or Department of Transportation","Reduced Reporter",169495,30,"Minivan",null,0,0,1,0,0,0,0,0,0,0,0,0,0,0,0,0,0,0,0,1,2,36240]
["Mississippi Band of Choctaw Indians","Choctaw","MS","4T04",44925,"Tribe","Reduced Reporter",0,30,"Minivan",null,0,1,0,2,2,3,0,0,2,0,1,0,0,2,0,0,0,0,0,13,6.3076923076923004,0]
["Jackson County Transportation, Inc.","Marianna","FL","4R02-019","4R02-41198","Private-Non-Profit Corporation","Rural Reporter",0,30,"Cutaway",null,0,0,3,2,3,0,3,3,1,0,0,0,0,0,0,0,0,0,0,15,4.7333333333333298,0]
["LINK Hendricks County, dba: Sycamore Svcs, Morgan County Connect, Senior Svcs","Danville","IN","5R02-008",50342,"Private-Non-Profit Corporation","Full Reporter",1487483,30,"Minivan",null,0,0,3,6,0,6,2,2,0,0,0,0,0,0,0,0,0,0,0,19,4.2105263157894699,90951.894700000004]
["LINK Hendricks County, dba: Sycamore Svcs, Morgan County Connect, Senior Svcs","Danville","IN","5R02-008",50342,"Private-Non-Profit Corporation","Full Reporter",1487483,30,"Cutaway",null,2,3,1,5,0,3,0,0,4,4,0,0,0,0,0,0,0,0,0,22,4.6818181818181799,81135.954500000007]
["Golden Crescent Regional Planning Commission","Victoria","TX",6095,60095,"MPO, COG or Other Planning Agency","Reduced Reporter",63683,30,"Van",null,0,1,0,0,0,0,1,0,2,0,0,0,0,0,0,0,0,0,0,4,5.75,159116]
["Golden Crescent Regional Planning Commission","Victoria","TX",6095,60095,"MPO, COG or Other Planning Agency","Reduced Reporter",63683,30,"Automobile",null,0,0,0,0,0,0,0,0,0,0,1,0,0,0,0,0,0,0,0,1,10,232910]
["Cape Girardeau County Transit Authority","Cape Girardeau","MO",7051,70051,"Independent Public Agency or Authority of Transit Service","Reduced Reporter",52900,30,"Cutaway",null,0,4,1,0,1,1,1,0,0,0,2,0,0,0,0,0,0,0,0,10,4.0999999999999996,63675.9]
["Seniors' Resource Center, Inc","Denver","CO","8R01-014",80292,"Private-Non-Profit Corporation","Reduced Reporter",2374203,30,"Cutaway",null,5,2,5,3,3,2,0,0,0,0,0,0,0,0,0,0,0,0,0,20,2.15,148865.4]
["West River Transit Authority, Inc.","Spearfish","SD","8R04-020","8R04-80253","Private-Non-Profit Corporation","Rural Reporter",0,30,"Other",null,0,0,0,0,0,0,0,0,0,0,0,0,0,0,1,0,0,0,0,1,16,0]
["West River Transit Authority, Inc.","Spearfish","SD","8R04-020","8R04-80253","Private-Non-Profit Corporation","Rural Reporter",0,30,"Minivan",null,0,0,1,1,1,0,0,1,0,0,3,0,2,1,1,0,0,0,0,11,9,0]
["Franklin Regional Transit Authority","Greenfield","MA","1R02-005","1R02-10173","Independent Public Agency or Authority of Transit Service","Rural Reporter",0,29,"Automobiles (Service)",null,0,0,0,0,0,0,0,0,0,0,0,0,0,1,0,0,0,0,0,1]
["New York City Department of Transportation","New York","NY",2082,20082,"City, County or Local Government Unit or Department of Transportation","Full Reporter",18351295,29,"Trucks and other Rubber Tire Vehicles (Service)",null,0,3,4,3,6,3,2,3,0,0,4,6,1,4,4,1,1,1,0,46]
["City of Williamsport, dba: River Valley Transit","Williamsport","PA",3026,30026,"City, County or Local Government Unit or Department of Transportation","Full Reporter",56142,29,"Cutaway",null,0,0,0,0,0,0,0,0,1,0,0,0,0,1,0,0,0,0,0,2,10.5,153201.5]
["East Alabama Regional Planning and Development Commission","Anniston","AL",4064,40064,"MPO, COG or Other Planning Agency","Reduced Reporter",79796,29,"Van",null,0,0,0,0,0,0,1,0,0,0,0,0,0,0,0,0,0,0,0,1,6,140207]
["St Johns County, Florida, dba: Sunshine Bus Co.","St. Augustine","FL",4155,40155,"City, County or Local Government Unit or Department of Transportation","Reduced Reporter",69173,29,"Trucks and other Rubber Tire Vehicles (Service)",null,0,0,0,0,0,0,0,0,0,0,0,0,0,0,2,0,0,0,0,2]
["City of Oxford","Oxford","MS","4R05-030","4R05-41052","City, County or Local Government Unit or Department of Transportation","Rural Reporter",0,29,"Cutaway",null,0,0,2,0,0,0,0,0,2,0,5,0,0,0,0,0,0,0,0,9,7.7777777777777697,0]
["City of Macomb","Macomb","IL","5R01-014","5R01-50232","City, County or Local Government Unit or Department of Transportation","Rural Reporter",0,29,"Bus",null,0,0,0,3,0,0,0,0,2,0,0,0,0,6,12,0,1,1,0,25,15.6,0]
["Marquette County Transit Authority","Marquette ","MI","5R03-049","5R03-50427","Independent Public Agency or Authority of Transit Service","Rural Reporter",0,29,"Bus",null,0,1,0,0,0,0,12,0,0,0,0,0,0,0,0,0,0,0,0,13,5.6153846153846096,0]
["City of Tyler, dba: Tyler Transit","Tyler","TX",6089,60089,"City, County or Local Government Unit or Department of Transportation","Reduced Reporter",130247,29,"Minivan",null,0,0,0,0,0,0,0,0,1,0,0,1,1,1,1,0,0,0,0,5,12.4,111299.2]
["City of Tyler, dba: Tyler Transit","Tyler","TX",6089,60089,"City, County or Local Government Unit or Department of Transportation","Reduced Reporter",130247,29,"Cutaway",null,0,2,5,2,1,1,0,0,0,0,0,0,0,0,0,0,0,0,0,11,2.4545454545454501,101504.7273]
["Flint Hills Area Transportation ","Manhattan","KS",7053,70053,"Private-Non-Profit Corporation","Reduced Reporter",54622,29,"Cutaway",null,1,2,8,2,1,1,2,4,5,1,1,0,0,2,0,0,0,0,0,30,5.3,147580.96669999999]
["City of Norwalk , dba: Norwalk Transit System ","Norwalk","CA",9022,90022,"City, County or Local Government Unit or Department of Transportation","Full Reporter",12150996,29,"Cutaway",null,0,2,0,0,0,0,0,0,4,0,0,0,0,0,0,0,0,0,0,6,5.6666666666666599,79612.333299999998]
["City of Pocatello, dba: Pocatello Regional Transit","Pocatello","ID",22,22,"City, County or Local Government Unit or Department of Transportation","Reduced Reporter",69809,28,"Cutaway",null,0,6,0,0,1,0,0,0,1,5,0,3,0,3,0,0,0,0,0,19,7.1052631578947301,196577.57889999999]
["City of Sharon, dba: Shenango Valley Shuttle Service","Hermitage","PA",3055,30055,"City, County or Local Government Unit or Department of Transportation","Reduced Reporter",387550,28,"Automobiles (Service)",null,0,0,1,0,0,0,0,2,0,0,0,0,0,0,0,0,0,0,0,3]
["City of Rocky Mount, dba: Tar River Transit","Rocky Mount","NC",4096,40096,"City, County or Local Government Unit or Department of Transportation","Reduced Reporter",68243,28,"Trucks and other Rubber Tire Vehicles (Service)",null,0,0,0,0,0,0,1,0,0,0,0,0,0,0,0,0,0,0,0,1]
["Charlotte County Government, dba: Charlotte County Transit Division","Punta Gorda","FL",4129,40129,"City, County or Local Government Unit or Department of Transportation","Full Reporter",169541,28,"Minivan",null,0,0,0,0,0,0,2,0,0,0,0,0,0,0,0,0,0,0,0,2,6,66465]
["Virgin Islands Department of Public Works","St. Croix","VI",4188,40188,"State Government Unit or Department of Transportation","Reduced Reporter",106405,28,"Cutaway",null,0,0,0,0,5,0,0,0,0,0,0,0,0,0,0,0,0,0,0,5,4,18933]
["Virgin Islands Department of Public Works","St. Croix","VI",4188,40188,"State Government Unit or Department of Transportation","Reduced Reporter",106405,28,"Bus",null,0,0,0,0,3,0,0,0,0,0,0,0,0,0,0,0,0,0,0,3,4,6682]
["Cedar Valley Services, Inc.","Austin","MN","5R04-030","5R04-50450","Independent Public Agency or Authority of Transit Service","Rural Reporter",0,28,"Cutaway",null,0,6,9,0,4,3,2,2,1,5,1,0,0,0,0,0,0,0,0,33,4.3636363636363598,0]
["City of Galveston , dba: City of Galveston Island Transit","Galveston","TX",6015,60015,"City, County or Local Government Unit or Department of Transportation","Reduced Reporter",54770,28,"Automobiles (Service)",null,0,0,1,0,0,0,0,0,0,0,0,0,0,0,0,0,0,0,0,1]
["University of Iowa","Iowa City","IA",7019,70019,"University","Full Reporter",106621,28,"Bus",null,1,0,0,0,0,5,0,8,0,3,12,0,1,0,3,3,0,0,0,36,9.9722222222222197,242727.88889999999]
["Imperial County Transportation Commission","El Centro","CA",9226,90226,"Independent Public Agency or Authority of Transit Service","Full Reporter",107672,28,"Cutaway",null,0,5,21,0,0,0,0,0,0,0,0,0,0,0,0,0,0,0,0,26,1.8076923076922999,61227.0769]
["Mountain Rides Transportation Authority","Ketchum","ID","0R01-003","0R01-00311","Independent Public Agency or Authority of Transit Service","Rural Reporter",0,27,"Automobiles (Service)",null,0,0,0,0,0,0,0,0,0,0,0,1,0,2,1,0,0,0,0,4]
["Regional Transportation Program, Inc.","Portland","ME",1069,10069,"Other","Reduced Reporter",203914,27,"Bus",null,0,0,0,0,0,1,0,0,0,0,0,0,0,0,0,0,0,0,0,1,5,310829]
["County of Mercer","Trenton","NJ",2211,20211,"City, County or Local Government Unit or Department of Transportation","Reduced Reporter",296668,27,"Minivan",null,2,0,0,0,0,0,0,0,0,0,0,0,0,0,0,0,0,0,0,2,0,4683]
["County of Mercer","Trenton","NJ",2211,20211,"City, County or Local Government Unit or Department of Transportation","Reduced Reporter",296668,27,"Cutaway",null,0,6,2,0,0,14,0,5,0,0,0,0,0,0,0,0,0,0,0,27,4.2592592592592498,95773.185200000007]
["City of Johnson City, dba: Johnson City Transit System","Johnson City","TN",4054,40054,"City, County or Local Government Unit or Department of Transportation","Reduced Reporter",120415,27,"Minivan",null,0,1,1,4,0,0,3,0,0,0,0,0,0,0,0,0,0,0,0,9,3.6666666666666599,68101.888900000005]
["Pee Dee Regional Transportation Authority","Florence","SC",4056,40056,"Independent Public Agency or Authority of Transit Service","Reduced Reporter",89557,27,"Cutaway",null,5,0,2,0,0,0,0,0,6,0,0,0,0,0,0,0,0,0,0,13,4,86080.692299999995]
["Henry County ","McDonough","GA",4181,40181,"City, County or Local Government Unit or Department of Transportation","Reduced Reporter",4515419,27,"Bus",null,0,0,0,0,0,0,0,1,0,0,0,0,0,0,0,0,0,0,0,1,7,38703]
["Fond du Lac, Wisconsin , dba: Fond du Lac Area Transit ","Fond du Lac","WI",5171,50171,"City, County or Local Government Unit or Department of Transportation","Reduced Reporter",54901,27,"Trucks and other Rubber Tire Vehicles (Service)",null,0,0,0,0,0,0,0,0,0,0,1,0,0,0,0,0,0,0,0,1]
["Harbor Transit Multi-Modal Transportation System","Grand Haven","MI",5196,50196,"Independent Public Agency or Authority of Transit Service","Reduced Reporter",161280,27,"Automobiles (Service)",null,0,0,0,0,0,0,0,0,1,0,0,0,0,0,0,0,0,0,0,1]
["Voluntary Action Center","Sycamore","IL",5215,50215,"Private-Non-Profit Corporation","Reduced Reporter",68545,27,"Bus",null,0,0,0,1,0,0,4,0,0,0,0,0,0,0,0,0,0,0,0,5,5.4,130810.6]
["City of Las Cruces NM, dba: RoadRUNNER Transit","Las Cruces","NM",6049,60049,"City, County or Local Government Unit or Department of Transportation","Reduced Reporter",128600,27,"Bus",null,2,0,1,0,0,0,0,0,1,0,4,0,0,8,0,0,0,0,0,16,10.125,347574.5]
["Metropolitan Transit Authority of Black Hawk County","Waterloo","IA",7013,70013,"Independent Public Agency or Authority of Transit Service","Reduced Reporter",113418,27,"Cutaway",null,1,3,0,6,0,0,2,1,0,5,0,1,0,0,0,0,0,0,0,19,5.0526315789473601,113921.0526]
["Palos Verdes Peninsula Transit Authority","Palos Verdes Peninsula","CA",null,90287,"Independent Public Agency or Authority of Transit Service","Reduced Reporter",12150996,27,"Cutaway",null,0,3,0,0,0,5,5,0,1,4,2,0,0,0,0,0,0,0,0,20,6.1,126548.2]
["Benton County","Corvallis","OR",65,65,"City, County or Local Government Unit or Department of Transportation","Reduced Reporter",62433,26,"Cutaway",null,0,0,1,0,1,0,2,0,2,0,2,0,1,4,2,0,0,0,0,15,10.3333333333333,151684.3333]
["Adirondack Transit Lines, Inc,","Hurley","NY",2177,20177,"Private-For-Profit Corporation","Full Reporter",18351295,26,"Automobiles (Service)",null,2,0,0,0,0,1,0,1,0,0,0,0,0,0,0,0,0,0,0,4]
["City of Charlottesville, dba: Charlottesville Area Transit","Charlottesville","VA",3036,30036,"City, County or Local Government Unit or Department of Transportation","Reduced Reporter",92359,26,"Bus",null,0,0,0,4,6,2,3,5,6,0,8,0,0,0,0,0,0,0,0,34,6.6764705882352899,228434.6471]
["Eastern Panhandle Transit Authority","Martinsburg","WV",3090,30090,"Independent Public Agency or Authority of Transit Service","Reduced Reporter",182696,26,"Sports Utility Vehicle",null,0,0,0,0,0,0,0,0,0,0,1,0,0,0,0,0,0,0,0,1,10,110078]
["Eastern Panhandle Transit Authority","Martinsburg","WV",3090,30090,"Independent Public Agency or Authority of Transit Service","Reduced Reporter",182696,26,"Bus",null,0,0,0,0,0,0,0,5,0,0,0,0,1,4,0,0,0,0,0,10,10.199999999999999,285623.90000000002]
["Columbus Consolidated Government, dba: Metra Transit System","Columbus","GA",4024,40024,"City, County or Local Government Unit or Department of Transportation","Reduced Reporter",253602,26,"Cutaway",null,0,0,2,3,2,0,2,0,0,0,2,1,0,0,0,0,0,0,0,12,5.3333333333333304,149509.4167]
["Municipality of Carolina","Carolina","PR",4125,40125,"City, County or Local Government Unit or Department of Transportation","Reduced Reporter",2148346,26,"Van",null,0,0,0,0,0,0,0,0,0,0,0,0,0,0,1,0,0,0,0,1,19,124000]
["Bamberg County Office On Aging","Bamberg","SC","4R07-027","4R07-40974","Area Agency on Aging","Rural Reporter",0,26,"Minivan",null,5,0,0,2,3,1,2,0,1,0,1,0,0,0,0,0,0,0,0,15,3.5333333333333301,0]
["Access Johnson County ","FRANKLIN","IN","5R02-036",50256,"Private-Non-Profit Corporation","Reduced Reporter",1487483,26,"Van",null,0,0,0,0,0,0,0,0,0,1,0,0,0,0,0,0,0,0,0,1,9,226872]
["St. Joseph County Transportation Authority","Three Rivers","MI","5R03-066","5R03-50436","Independent Public Agency or Authority of Transit Service","Rural Reporter",0,26,"Trucks and other Rubber Tire Vehicles (Service)",null,0,0,0,0,1,0,0,0,0,0,0,0,0,0,0,0,0,0,0,1]
["Midland-Odessa Urban Transit District","Midland","TX",6097,60097,"City, County or Local Government Unit or Department of Transportation","Reduced Reporter",126405,26,"Bus",null,0,0,0,0,0,0,0,0,3,12,0,0,4,0,0,0,0,0,0,19,9.4736842105263097,390317.1053]
["Lake Transit Authority","Visalia","CA","9R02-001","9R02-91053","Independent Public Agency or Authority of Transit Service","Rural Reporter",0,26,"Cutaway",null,0,11,2,2,8,4,0,7,2,5,0,0,0,0,0,0,0,0,0,41,4.4634146341463401,0]
["RiverCities Transit","Longview","WA",16,16,"City, County or Local Government Unit or Department of Transportation","Full Reporter",63952,25,"Trucks and other Rubber Tire Vehicles (Service)",null,0,0,0,0,0,0,1,0,0,0,0,0,0,0,0,0,0,0,0,1]
["Central Area Rural Transit System, Inc.","Soldotna","AK","0R04-006","0R04-00378","Private-Non-Profit Corporation","Rural Reporter",0,25,"Minivan",null,0,0,2,0,0,0,0,0,0,0,0,0,0,0,0,0,0,0,0,2,2,0]
["Berkshire Regional Transit Authority","Pittsfield","MA",1007,10007,"Subsidiary Unit of a Transit Agency, Reporting Separately","Full Reporter",59124,25,"Cutaway",null,7,1,5,5,5,2,0,10,1,0,0,0,0,0,0,0,0,0,0,36,3.7222222222222201,97243.888900000005]
["Ulster County , dba: UCAT","Kingston","NY",2178,20178,"City, County or Local Government Unit or Department of Transportation","Full Reporter",423566,25,"Bus",null,2,0,0,0,0,0,2,0,5,0,0,0,0,2,0,0,0,0,0,11,7.0909090909090899,283442.18180000002]
["City of Jackson, MS, dba: Planning & Development, Transit Services","Jackson","MS",4015,40015,"City, County or Local Government Unit or Department of Transportation","Full Reporter",351478,25,"Trucks and other Rubber Tire Vehicles (Service)",null,2,0,0,1,1,0,0,0,2,1,0,0,0,0,0,0,0,0,0,7]
["City of Jackson, MS, dba: Planning & Development, Transit Services","Jackson","MS",4015,40015,"City, County or Local Government Unit or Department of Transportation","Full Reporter",351478,25,"Bus",null,0,2,0,0,0,0,0,0,13,0,0,0,12,10,9,0,0,0,0,46,11.7173913043478,215791.23910000001]
["Macon-Bibb County Transit Authority, dba: Public Bus Transportation","Macon","GA",4130,40130,"Independent Public Agency or Authority of Transit Service","Reduced Reporter",137570,25,"Cutaway",null,3,2,0,6,1,1,2,1,12,0,0,0,0,0,0,0,0,0,0,28,5.1428571428571397,232055.96429999999]
["SMART Starkville-MSU Area Rapid Transit","MSU","MS","4R05-035","4R05-41030","University","Rural Reporter",0,25,"Minivan",null,0,0,0,0,0,0,1,0,0,2,0,0,0,0,0,0,0,0,0,3,8,0]
["SMART Starkville-MSU Area Rapid Transit","MSU","MS","4R05-035","4R05-41030","University","Rural Reporter",0,25,"Cutaway",null,7,0,0,0,0,0,0,0,0,0,0,0,0,0,0,4,0,0,0,11,8,0]
["University of Minnesota Transit","Minneapolis","MN",5218,50515,"University","Full Reporter",2650890,25,"Minivan",null,0,0,1,1,1,0,0,0,0,0,0,0,0,0,0,0,0,0,0,3,3,29875.333299999998]
["University of Minnesota Transit","Minneapolis","MN",5218,50515,"University","Full Reporter",2650890,25,"Articulated Bus",null,0,0,0,0,0,0,0,0,0,0,4,0,0,0,0,0,0,0,0,4,10,222613]
["Choctaw Nation of Oklahoma","Hugo","OK","6T03",60003,"Tribe","Reduced Reporter",0,25,"Cutaway",null,0,2,2,0,4,1,2,0,2,0,0,0,0,0,0,0,0,0,0,13,4.2307692307692299,0]
["McLennan County","Waco","TX",null,"6R05-66276","City, County or Local Government Unit or Department of Transportation","Rural Reporter",0,25,"Cutaway",null,0,0,0,0,0,0,0,0,10,0,0,0,0,0,0,0,0,0,0,10,8,0]
["Four County Mental Health, Inc.","Independence","KS","7R02-124","7R02-70209","Private-Non-Profit Corporation","Rural Reporter",0,25,"Cutaway",null,1,0,0,0,2,2,1,3,0,2,1,0,0,0,0,0,0,0,0,12,6.0833333333333304,0]
["Montrose County Seniors","Montrose","CO",null,"8R01-88215","Private-Non-Profit Corporation","Rural Reporter",0,25,"Automobile",null,0,0,0,0,0,1,0,0,0,0,0,0,0,0,1,0,0,0,0,2,11,0]
["Tahoe Transportation District","Zephyr Cove","NV","9R02-137",91092,"Independent Public Agency or Authority of Transit Service","Full Reporter",210000,25,"Van",null,0,0,1,0,0,0,0,0,0,0,0,0,0,1,0,0,0,0,0,2,8.5,48735]
["Biddeford-Saco-Old Orchard Beach Transit Committee Shuttle Bus","Biddeford","ME",1114,10114,"Independent Public Agency or Authority of Transit Service","Reduced Reporter",203914,24,"Bus",null,0,0,0,0,0,0,0,0,4,0,1,0,1,5,12,0,0,0,0,23,14.5652173913043,287197.13040000002]
["Morris County Human Services","Morristown","NJ",2210,20210,"City, County or Local Government Unit or Department of Transportation","Reduced Reporter",18351295,24,"Van",null,0,0,4,5,0,0,0,0,0,0,0,0,0,0,0,0,0,0,0,9,2.55555555555555,77648]
["Morris County Human Services","Morristown","NJ",2210,20210,"City, County or Local Government Unit or Department of Transportation","Reduced Reporter",18351295,24,"Automobile",null,0,0,0,1,0,0,0,0,0,0,0,0,0,0,0,0,0,0,0,1,3,53621]
["Monongalia County Urban Mass Transit Authority, dba: Mountain Line Transit Authority","Morgantown","WV",3089,30089,"Independent Public Agency or Authority of Transit Service","Reduced Reporter",70350,24,"Bus",null,0,0,0,0,5,0,0,0,3,7,0,0,0,0,2,0,0,0,0,17,8.4117647058823497,237719.1176]
["Bluefield Area Transit","Bluefield","WV","3R05-013","3R05-30121","City, County or Local Government Unit or Department of Transportation","Rural Reporter",0,24,"Trucks and other Rubber Tire Vehicles (Service)",null,0,0,0,0,0,0,0,1,0,0,0,0,0,1,0,0,0,0,0,2]
["Bluefield Area Transit","Bluefield","WV","3R05-013","3R05-30121","City, County or Local Government Unit or Department of Transportation","Rural Reporter",0,24,"Bus",null,0,1,0,2,0,0,4,4,1,0,0,0,0,0,0,0,0,0,0,12,5.5833333333333304,0]
["Town of Cary","Cary","NC",4143,40143,"City, County or Local Government Unit or Department of Transportation","Reduced Reporter",884891,24,"Van",null,0,0,0,0,16,0,0,0,0,0,0,0,0,0,0,0,0,0,0,16,4,58262]
["Kankakee-Iroquois Regional Planning Commission","Monon","IN","5R02-035","5R02-55310","MPO, COG or Other Planning Agency","Rural Reporter",0,24,"Cutaway",null,0,2,0,1,0,2,0,1,3,2,2,1,2,2,0,0,0,0,0,18,8.1666666666666607,0]
["Clinton Area Transit System","St. Johns","MI","5R03-023","5R03-50314","Independent Public Agency or Authority of Transit Service","Rural Reporter",0,24,"Van",null,0,2,0,0,0,0,0,0,0,0,0,0,0,0,0,0,0,0,0,2,1,0]
["Clare County Transit ","Harrison","MI","5R03-022","5R03-50453","City, County or Local Government Unit or Department of Transportation","Rural Reporter",0,24,"Van",null,0,0,1,0,0,0,0,0,0,0,0,0,0,1,0,0,0,0,0,2,7.5,0]
["Clare County Transit ","Harrison","MI","5R03-022","5R03-50453","City, County or Local Government Unit or Department of Transportation","Rural Reporter",0,24,"Cutaway",null,0,4,3,0,0,0,0,0,0,0,0,1,0,0,0,0,0,0,0,8,2.625,0]
["City of Amarillo, dba: Amarillo City Transit","Amarillo","TX",6001,60001,"City, County or Local Government Unit or Department of Transportation","Reduced Reporter",196651,24,"Cutaway",null,0,0,12,0,0,0,0,0,0,15,0,3,0,0,0,0,0,0,0,30,6.4,201213.53330000001]
["The Transit System, Inc.","Glen Rose ","TX","6R05-016","6R05-60264","Other Publicly-Owned or Privately Chartered Corporation","Rural Reporter",0,24,"Automobile",null,3,3,0,1,0,0,0,0,0,1,1,0,0,0,0,0,0,0,0,9,2.7777777777777701,0]
["Bis-Man Transit Board","Bismarck","ND",8019,80019,"Independent Public Agency or Authority of Transit Service","Reduced Reporter",81955,24,"Automobiles (Service)",null,0,0,0,0,0,0,0,0,0,1,0,0,0,0,0,2,0,0,0,3]
["City of Roseville, dba: Roseville Transit","Roseville","CA",9168,90168,"City, County or Local Government Unit or Department of Transportation","Reduced Reporter",1723634,24,"Automobiles (Service)",null,0,0,0,0,5,0,0,0,2,1,0,0,0,0,0,0,0,0,0,8]
["Baker Council on Aging","Macclenny","FL","4R02-002","4R02-41170","Private-Non-Profit Corporation","Rural Reporter",0,23,"Cutaway",null,10,10,2,1,0,0,0,0,4,2,0,0,1,0,0,0,0,0,0,30,2.6333333333333302,0]
["Murray-Calloway County Transit Authority","Murray","KY","4R04-011","4R04-41053","Independent Public Agency or Authority of Transit Service","Rural Reporter",0,23,"Van",null,0,2,0,0,0,0,0,0,0,0,0,0,0,0,0,0,0,0,0,2,1,0]
["Community Development Inc.","Richton","MS","4R05-027","4R05-41044","Private-Non-Profit Corporation","Rural Reporter",0,23,"Cutaway",null,4,2,1,1,0,0,0,0,3,0,0,0,0,0,0,0,0,0,0,11,2.8181818181818099,0]
["Claiborne County Human Resource Agency","Port Gibson","MS","4R05-003","4R05-41096","Private-Non-Profit Corporation","Rural Reporter",0,23,"Minivan",null,0,4,0,3,0,3,0,0,0,0,0,0,0,0,0,0,0,0,0,10,2.8,0]
["Natchez Transit System","Natchez","MS","4R05-013","4R05-41121","City, County or Local Government Unit or Department of Transportation","Rural Reporter",0,23,"Bus",null,1,0,0,0,0,0,0,3,0,0,0,1,0,1,0,0,0,0,0,6,7.5,0]
["Lowcountry Regional Transportation Authority","Bluffton","SC","4R07-007","4R07-41092","Independent Public Agency or Authority of Transit Service","Rural Reporter",0,23,"Automobiles (Service)",null,3,0,0,0,0,3,0,0,0,0,0,0,0,0,0,0,0,0,0,6]
["Greater Lapeer Transportation Authority","Lapeer ","MI","5R03-032","5R03-50335","Independent Public Agency or Authority of Transit Service","Rural Reporter",0,23,"Automobiles (Service)",null,0,0,0,0,0,0,0,0,0,1,0,0,0,0,0,0,0,0,0,1]
["Cadillac/Wexford Transit Authority","Cadillac","MI","5R03-017","5R03-50374","Independent Public Agency or Authority of Transit Service","Rural Reporter",0,23,"Cutaway",null,2,1,0,2,0,2,2,5,2,1,0,0,0,0,0,0,0,0,0,17,5.23529411764705,0]
["University of Arkansas, Fayetteville","Fayetteville","AR",6062,60062,"University","Reduced Reporter",295083,23,"Automobiles (Service)",null,0,0,0,0,0,0,0,1,0,0,0,0,0,0,0,0,0,0,0,1]
["Ozark Regional Transit","Springdale","AR",6072,60072,"Independent Public Agency or Authority of Transit Service","Full Reporter",295083,23,"Van",null,0,0,5,0,0,0,0,0,10,0,0,1,0,0,0,0,0,0,0,16,6.3125,206200]
["City of Pueblo, dba: Pueblo Transit","Pueblo","CO",8007,80007,"City, County or Local Government Unit or Department of Transportation","Full Reporter",136550,23,"Trucks and other Rubber Tire Vehicles (Service)",null,0,0,0,0,0,0,0,0,1,0,0,0,1,0,0,0,0,0,0,2]
["City of Pueblo, dba: Pueblo Transit","Pueblo","CO",8007,80007,"City, County or Local Government Unit or Department of Transportation","Full Reporter",136550,23,"Automobiles (Service)",null,0,1,1,0,0,0,0,0,1,0,0,1,0,0,0,0,0,0,0,4]
["Souris Basin Transit","Minot","ND","8R03-015","8R03-80302","Private-Non-Profit Corporation","Rural Reporter",0,23,"Cutaway",null,1,1,2,3,3,2,0,1,1,0,0,0,0,0,0,0,0,0,0,14,3.6428571428571401,0]
["Mendocino Transit Authority","Ukiah","CA","9R02-047","9R02-91047","Independent Public Agency or Authority of Transit Service","Rural Reporter",0,23,"Cutaway",null,2,0,4,1,0,8,0,6,0,0,0,2,1,0,0,0,0,0,0,24,5.2916666666666599,0]
["Southeast Area Transit District","Preston","CT",1040,10040,"Independent Public Agency or Authority of Transit Service","Full Reporter",209190,22,"Bus",null,11,0,0,0,0,2,0,0,0,0,2,8,8,3,0,0,0,0,0,34,7.5882352941176396,334575.0588]
["Cooperative Alliance for Seacoast Transportation","Dover","NH",1086,10086,"Independent Public Agency or Authority of Transit Service","Full Reporter",88087,22,"Automobiles (Service)",null,0,0,0,0,0,0,1,0,0,0,0,0,0,0,0,0,0,0,0,1]
["Greenville Transit Authority","Greenville","SC",4053,40053,"Independent Public Agency or Authority of Transit Service","Full Reporter",400492,22,"Automobiles (Service)",null,2,5,1,0,0,3,0,0,0,0,0,0,0,1,0,0,0,0,0,12]
["Rowan County, dba: Rowant Transit System","Salisbury","NC",4217,40217,"City, County or Local Government Unit or Department of Transportation","Reduced Reporter",214881,22,"Cutaway",null,0,0,4,6,0,0,0,0,2,0,1,0,0,0,0,0,0,0,0,13,4,99614.307700000005]
["Sumter County Board of County Commissioners","Bushnell","FL","4R02-032","4R02-40999","City, County or Local Government Unit or Department of Transportation","Rural Reporter",0,22,"Van",null,0,6,0,0,0,0,0,0,0,0,0,0,0,0,0,0,0,0,0,6,1,0]
["County of Muskegon, dba: Muskegon Area Transit System","Muskegon Heights","MI",5037,50037,"City, County or Local Government Unit or Department of Transportation","Reduced Reporter",161280,22,"Van",null,0,0,0,0,0,7,0,0,0,0,0,0,0,0,0,0,0,0,0,7,5,39531]
["City of Mankato , dba: Greater Mankato Transit System","Mankato ","MN",5205,50205,"City, County or Local Government Unit or Department of Transportation","Reduced Reporter",57584,22,"Automobiles (Service)",null,0,0,0,0,0,0,0,0,0,0,0,0,0,1,1,0,0,0,0,2]
["Roscommon County Transportation Authority","PRUDENVILLE","MI","5R03-059","5R03-50242","Independent Public Agency or Authority of Transit Service","Rural Reporter",0,22,"Van",null,0,0,0,0,1,0,0,0,0,1,0,0,0,0,0,0,0,0,0,2,6.5,0]
["City of Lawton  , dba: Lawton Area Transit System","Lawton","OK",6094,60094,"City, County or Local Government Unit or Department of Transportation","Reduced Reporter",94457,22,"Trucks and other Rubber Tire Vehicles (Service)",null,0,0,0,0,0,0,0,0,0,1,0,0,0,0,2,0,0,0,0,3]
["City of Carlsbad","Carlsbad","NM","6R03-027","6R03-60184","City, County or Local Government Unit or Department of Transportation","Rural Reporter",0,22,"Cutaway",null,0,0,0,1,0,1,0,1,0,5,1,1,2,3,0,0,0,0,0,15,9.8000000000000007,0]
["Cache Valley Transit District","Logan","UT",8028,80028,"Independent Public Agency or Authority of Transit Service","Full Reporter",94983,22,"Bus",null,0,2,0,5,0,0,0,0,6,0,5,5,0,3,0,0,0,0,0,26,8.0384615384615294,302630]
["Brookings Area Transit Authority","Brookings","SD","8R04-003","8R04-80187","Private-Non-Profit Corporation","Rural Reporter",0,22,"School Bus",null,0,0,0,0,0,0,0,0,0,0,0,0,0,0,0,0,1,0,0,1,27,0]
["Tillamook County Transportation District","Tillamook","OR","0R02-028","0R02-00296","City, County or Local Government Unit or Department of Transportation","Rural Reporter",0,21,"Van",null,0,2,0,0,0,0,0,0,0,1,0,0,0,0,0,0,0,0,0,3,3.6666666666666599,0]
["Tillamook County Transportation District","Tillamook","OR","0R02-028","0R02-00296","City, County or Local Government Unit or Department of Transportation","Rural Reporter",0,21,"Cutaway",null,1,2,1,1,4,1,0,1,4,1,0,0,0,1,0,0,0,0,0,17,5.23529411764705,0]
["Northwestern CT Transit District","Torrington","CT","1R01-004","1R01-10131","City, County or Local Government Unit or Department of Transportation","Rural Reporter",0,21,"Cutaway",null,3,5,0,0,0,0,3,4,0,5,0,0,0,0,0,0,0,0,0,20,4.8,0]
["Fairmont Marion County Transit Authority","Fairmont","WV","3R05-015","3R05-30149","Independent Public Agency or Authority of Transit Service","Rural Reporter",0,21,"Van",null,0,3,1,1,1,3,0,2,0,0,0,0,0,0,0,0,0,0,0,11,3.72727272727272,0]
["Fairmont Marion County Transit Authority","Fairmont","WV","3R05-015","3R05-30149","Independent Public Agency or Authority of Transit Service","Rural Reporter",0,21,"Automobiles (Service)",null,0,1,0,0,0,0,0,0,1,0,0,0,0,0,0,0,0,0,0,2]
["Goldsboro-Wayne Transportation Authority","Goldsboro","NC",4132,40132,"Independent Public Agency or Authority of Transit Service","Reduced Reporter",61054,21,"Minivan",null,0,0,0,0,0,0,1,0,0,0,0,0,0,0,0,0,0,0,0,1,6,125162]
["City of Clemson, dba: Clemson Area Transit","Clemson","SC",4208,40208,"City, County or Local Government Unit or Department of Transportation","Full Reporter",400492,21,"Trucks and other Rubber Tire Vehicles (Service)",null,0,0,0,0,0,0,0,1,0,0,0,0,0,0,0,0,0,0,0,1]
["Craven County","New Bern","NC",4210,40210,"City, County or Local Government Unit or Department of Transportation","Reduced Reporter",50503,21,"Automobile",null,0,0,0,0,0,0,0,0,0,1,0,0,0,0,1,0,0,0,0,2,12.5,160307.5]
["VPSI","Clermont","FL","4R02-075","4R02-41095","Private-For-Profit Corporation","Rural Reporter",0,21,"Van",null,6,6,5,12,1,0,0,0,0,0,0,0,0,0,0,0,0,0,0,30,1.86666666666666,0]
["Rockingham County Council on Aging","Reidsville","NC","4R06-051","4R06-40929","City, County or Local Government Unit or Department of Transportation","Rural Reporter",0,21,"Van",null,0,5,5,3,2,8,4,0,2,0,0,0,0,0,0,0,0,0,0,29,3.8620689655172402,0]
["Harnett County","Lillington","NC","4R06-019","4R06-41119","City, County or Local Government Unit or Department of Transportation","Rural Reporter",0,21,"Minivan",null,0,0,0,1,0,0,0,0,0,2,0,1,0,0,0,0,0,0,0,4,8,0]
["City of Jackson Transportation Authority, dba: Jackson Area Transportation Authority","Jackson","MI",5034,50034,"Independent Public Agency or Authority of Transit Service","Full Reporter",90057,21,"Cutaway",null,0,0,1,0,0,3,0,0,0,0,0,0,0,0,0,0,0,0,0,4,4.25,84596.5]
["City of Sheboygan, dba: Shoreline Metro","Sheboygan","WI",5088,50088,"City, County or Local Government Unit or Department of Transportation","Reduced Reporter",71313,21,"Bus",null,0,0,0,0,0,0,0,0,5,0,0,0,0,11,9,0,0,0,0,25,13.8,414358.6]
["City of Wausau, Wisconsin, dba: Metro Ride","WAUSAU","WI",5091,50091,"City, County or Local Government Unit or Department of Transportation","Reduced Reporter",74632,21,"Cutaway",null,0,0,0,0,0,0,4,0,0,0,0,0,0,0,0,0,0,0,0,4,6,39880]
["Muscogee (Creek) Nation","Okmulgee","OK","6T08",66170,"Tribe","Reduced Reporter",0,21,"Automobile",null,0,0,0,2,0,0,0,0,1,0,0,0,1,0,0,0,0,0,0,4,6.5,0]
["Cities Area Transit","Grand Forks","ND",8008,80008,"City, County or Local Government Unit or Department of Transportation","Full Reporter",61270,21,"Van",null,2,0,0,0,1,0,1,0,1,0,0,0,0,0,0,0,0,0,0,5,3.6,84326.6]
["Greeley, City Of","Greeley","CO",8010,80010,"City, County or Local Government Unit or Department of Transportation","Reduced Reporter",117825,21,"Cutaway",null,0,0,0,4,3,0,0,0,1,0,1,0,0,0,0,0,0,0,0,9,4.6666666666666599,87793]
["Steamboat Springs, City of ","Steamboat Springs","CO","8R01-020","8R01-80186","City, County or Local Government Unit or Department of Transportation","Rural Reporter",0,21,"Over-the-road Bus",null,0,0,0,0,1,0,0,0,0,0,0,0,0,3,0,0,0,0,0,4,11.5,0]
["Southern Teton Area Rapid Transit","Jackson","WY","8R05-010","8R05-80188","Independent Public Agency or Authority of Transit Service","Rural Reporter",0,21,"Cutaway",null,0,0,0,0,0,0,0,0,0,0,1,0,0,4,0,0,0,0,0,5,13.6,0]
["Targhee Regional Public Transit Authority","Idaho Falls","ID",42,42,"Independent Public Agency or Authority of Transit Service","Reduced Reporter",90733,20,"Trucks and other Rubber Tire Vehicles (Service)",null,0,0,0,0,0,0,0,0,0,0,0,0,0,1,0,1,0,0,0,2]
["Cumberland County, dba: Cumberland Area Transit System","Bridgeton","NJ",2193,20193,"City, County or Local Government Unit or Department of Transportation","Full Reporter",95259,20,"Trucks and other Rubber Tire Vehicles (Service)",null,0,0,0,0,1,0,0,0,0,0,0,0,0,0,0,0,0,0,0,1]
["Mid-Ohio Valley Transit Authority","Parkersburg","WV",3003,30003,"Independent Public Agency or Authority of Transit Service","Reduced Reporter",67229,20,"Van",null,0,0,0,0,1,0,0,0,0,0,0,0,0,0,0,0,0,0,0,1,4,70062]
["Garrett County Community Action Committee, Inc","Oakland","MD","3R03-008","3R03-30117","City, County or Local Government Unit or Department of Transportation","Rural Reporter",0,20,"Minivan",null,0,0,0,0,0,0,0,1,2,0,0,0,0,0,0,0,0,0,0,3,7.6666666666666599,0]
["Tri River Transit","Hamlin","WV","3R05-021","3R05-30183","Independent Public Agency or Authority of Transit Service","Rural Reporter",0,20,"Trucks and other Rubber Tire Vehicles (Service)",null,0,0,0,0,0,0,0,1,0,0,0,0,0,0,0,0,0,0,0,1]
["Mississippi Valley State University Mass Transit","Itta Bena","MS","4R05-018","4R05-41024","University","Rural Reporter",0,20,"Bus",null,0,0,0,0,0,0,0,4,1,1,1,1,0,0,0,0,0,0,0,8,8.25,0]
["City of Battle Creek, dba: Battle Creek Transit","Battle Creek","MI",5030,50030,"City, County or Local Government Unit or Department of Transportation","Reduced Reporter",78393,20,"Trucks and other Rubber Tire Vehicles (Service)",null,0,0,0,0,1,0,0,0,0,0,0,1,0,0,0,1,0,0,0,3]
["City of Battle Creek, dba: Battle Creek Transit","Battle Creek","MI",5030,50030,"City, County or Local Government Unit or Department of Transportation","Reduced Reporter",78393,20,"Automobiles (Service)",null,0,0,0,0,0,0,0,2,0,0,0,0,0,1,0,0,0,0,0,3]
["Paul Bunyan Transit","Bemidji","MN","5R04-007","5R04-50489","Independent Public Agency or Authority of Transit Service","Rural Reporter",0,20,"Van",null,0,0,0,0,0,0,0,0,0,0,0,0,1,0,0,0,0,0,0,1,12,0]
["OSU-Stillwater Community Transit","Stillwater","OK","6R04-014","6R04-60160","University","Rural Reporter",0,20,"Sports Utility Vehicle",null,0,0,0,0,0,0,0,1,0,0,0,0,0,0,0,0,0,0,0,1,7,0]
["OSU-Stillwater Community Transit","Stillwater","OK","6R04-014","6R04-60160","University","Rural Reporter",0,20,"Bus",null,0,8,0,0,0,0,0,0,9,0,0,0,0,0,0,0,0,0,0,17,4.7058823529411704,0]
["City of Rapid City, dba: Rapid Transit System","Rapid City","SD",8014,80014,"City, County or Local Government Unit or Department of Transportation","Reduced Reporter",81251,20,"Cutaway",null,2,4,4,0,4,7,2,0,0,3,4,2,3,0,0,0,0,0,0,35,5.71428571428571,107195.2571]
["Tuolumne County Transit","Sonora","CA","9R02-035","9R02-91057","Independent Public Agency or Authority of Transit Service","Rural Reporter",0,20,"Cutaway",null,0,0,4,0,4,4,0,2,0,0,0,0,0,0,0,0,0,0,0,14,4.1428571428571397,0]
["Pullman Transit","Pullman","WA","0R03-020","0R03-00294","City, County or Local Government Unit or Department of Transportation","Rural Reporter",0,19,"Trucks and other Rubber Tire Vehicles (Service)",null,0,0,0,0,0,0,1,0,0,0,0,0,0,0,2,0,0,0,0,3]
["York County Community Action Corporation","Sanford","ME",1099,10099,"Private-Non-Profit Corporation","Reduced Reporter",88200,19,"Van",null,0,0,0,0,0,0,0,0,0,2,4,2,0,1,0,0,0,0,0,9,10.3333333333333,187950.6667]
["City of Baltimore","Baltimore","MD",null,30201,"City, County or Local Government Unit or Department of Transportation","Full Reporter",2203663,19,"Ferryboat",null,0,0,0,0,0,0,0,1,1,1,0,0,0,0,0,0,0,0,0,3,8,79891.333299999998]
["Potomac Valley Transit Authority","Petersburg","WV","3R05-018","3R05-30135","Independent Public Agency or Authority of Transit Service","Rural Reporter",0,19,"Automobiles (Service)",null,0,0,0,0,0,0,0,0,1,0,0,0,0,0,0,0,0,0,0,1]
["Augusta Richmond County Transit Department","Augusta","GA",4023,40023,"City, County or Local Government Unit or Department of Transportation","Full Reporter",386787,19,"Bus",null,0,0,3,0,0,0,0,7,3,0,0,0,0,6,0,0,0,0,0,19,8.3684210526315699,275236.31579999998]
["Mountain Projects, Inc.","Waynesville","NC",4226,40226,"Private-Non-Profit Corporation","Reduced Reporter",280648,19,"Minivan",null,0,0,0,0,0,0,0,0,1,0,0,0,0,0,0,0,0,0,0,1,8,68725]
["Randolph County Senior Adult Association Inc.","Asheboro","NC","4R06-039","4R06-40921","Area Agency on Aging","Rural Reporter",0,19,"Cutaway",null,0,0,3,3,2,2,9,0,1,3,0,0,0,0,0,0,0,0,0,23,5.3043478260869499,0]
["City of Anderson , dba: City of Anderson Transit System","Anderson","IN",5041,50041,"City, County or Local Government Unit or Department of Transportation","Reduced Reporter",88133,19,"Cutaway",null,2,2,2,2,0,0,0,0,1,2,0,1,0,0,0,0,0,0,0,12,4.0833333333333304,129851.0833]
["Coles County","Charleston","IL","5R01-004","5R01-50447","City, County or Local Government Unit or Department of Transportation","Rural Reporter",0,19,"Cutaway",null,0,0,4,1,2,0,1,2,0,3,0,0,2,2,4,0,0,0,0,21,8.8571428571428505,0]
["Tri-County Action Program, Inc.","Waite Park","MN","5R04-019","5R04-50474","Independent Public Agency or Authority of Transit Service","Rural Reporter",0,19,"Cutaway",null,0,6,2,3,1,1,3,1,0,3,2,1,0,0,0,0,0,0,0,23,4.8260869565217304,0]
["Chillicothe Transit System","Chillicothe","OH","5R05-047","5R05-50429","City, County or Local Government Unit or Department of Transportation","Rural Reporter",0,19,"Cutaway",null,1,6,2,2,0,3,0,3,1,2,0,0,0,0,0,0,0,0,0,20,3.9,0]
["Senior Center Resources and Public Transit, Inc.","Greenville ","TX","6R05-047","6R05-60176","Independent Public Agency or Authority of Transit Service","Rural Reporter",0,19,"Automobiles (Service)",null,0,0,0,0,0,0,0,0,1,0,0,0,0,0,0,0,0,0,0,1]
["Confederated Salish and Kootenai Tribes","Pablo","MT","8T04",88134,"Tribe","Reduced Reporter",0,19,"Minivan",null,0,0,0,7,0,0,0,0,6,0,0,0,0,0,0,0,0,0,0,13,5.3076923076923004,0]
["Summit County","Breckenridge","CO","8R01-021","8R01-80161","City, County or Local Government Unit or Department of Transportation","Rural Reporter",0,19,"Cutaway",null,0,0,0,0,0,0,0,0,1,0,0,0,0,0,0,0,0,0,0,1,8,0]
["University of Wyoming","Laramie","WY","8R05-006","8R05-80140","Independent Public Agency or Authority of Transit Service","Rural Reporter",0,19,"Minivan",null,0,2,0,3,0,2,0,0,1,0,2,0,0,0,0,0,0,0,0,10,4.9000000000000004,0]
["Morongo Basin Transit Authority","Joshua Tree","CA","9R02-049","9R02-91090","Independent Public Agency or Authority of Transit Service","Rural Reporter",0,19,"Bus",null,0,0,3,0,0,0,3,0,0,0,0,1,0,0,0,0,0,0,0,7,5,0]
["City of Wilsonville, dba: South Metro Area Regional Transit","Wilsonville","OR",46,46,"City, County or Local Government Unit or Department of Transportation","Full Reporter",1849898,18,"Bus",null,0,0,0,0,2,1,1,0,0,0,0,1,0,2,3,0,0,0,0,10,11,243938.8]
["St. Mary's County Government , dba: St. Mary's Transit System","California","MD",3109,30109,"City, County or Local Government Unit or Department of Transportation","Reduced Reporter",58875,18,"Trucks and other Rubber Tire Vehicles (Service)",null,0,0,1,0,0,0,0,0,0,0,0,0,0,0,0,0,0,0,0,1]
["St. Mary's County Government , dba: St. Mary's Transit System","California","MD",3109,30109,"City, County or Local Government Unit or Department of Transportation","Reduced Reporter",58875,18,"Automobiles (Service)",null,1,0,0,0,0,1,0,0,0,1,0,1,1,2,0,0,0,0,0,7]
["Baltimore County Department of Aging","Towson","MD","3R03-010","3R03-30130","City, County or Local Government Unit or Department of Transportation","Rural Reporter",0,18,"Cutaway",null,0,0,4,0,4,0,0,0,2,3,4,0,0,0,0,0,0,0,0,17,6.2941176470588198,0]
["Rutherford County","Spindale","NC","4R06-042","4R06-40983","City, County or Local Government Unit or Department of Transportation","Rural Reporter",0,18,"Cutaway",null,0,0,0,1,1,0,1,0,0,0,0,0,0,0,0,0,0,0,0,3,4.3333333333333304,0]
["Ashe County Transportation Authority Inc","West Jefferson","NC","4R06-058","4R06-41029","Independent Public Agency or Authority of Transit Service","Rural Reporter",0,18,"Minivan",null,0,0,0,0,0,2,0,0,0,0,0,0,0,0,0,0,0,0,0,2,5,0]
["Michiana Area Council of Governments","South Bend","IN",5149,50149,"MPO, COG or Other Planning Agency","Full Reporter",143592,18,"Minivan",null,2,0,2,5,0,2,0,0,0,0,0,0,0,0,0,0,0,0,0,11,2.63636363636363,80189.727299999999]
["Kalkaska Public Transit Authority","Kalkaska","MI","5R03-045","5R03-50282","Independent Public Agency or Authority of Transit Service","Rural Reporter",0,18,"School Bus",null,0,0,0,1,0,0,0,1,0,0,0,0,0,4,0,0,0,0,0,6,11,0]
["Delta Area Transit Authority","Escanaba","MI","5R03-025","5R03-50356","Independent Public Agency or Authority of Transit Service","Rural Reporter",0,18,"Cutaway",null,1,0,0,0,0,0,0,1,3,4,0,0,0,1,0,0,0,0,0,10,8,0]
["Gladwin City/County Transit","Gladwin","MI","5R03-030","5R03-50395","City, County or Local Government Unit or Department of Transportation","Rural Reporter",0,18,"Van",null,0,1,1,0,0,0,0,0,0,0,1,0,0,0,0,0,0,0,0,3,4.3333333333333304,0]
["Gladwin City/County Transit","Gladwin","MI","5R03-030","5R03-50395","City, County or Local Government Unit or Department of Transportation","Rural Reporter",0,18,"Bus",null,0,0,0,0,1,0,0,2,0,9,0,0,0,3,0,0,0,0,0,15,9.4,0]
["Yates Township Transportation System","Idlewild","MI","5R03-070","5R03-50476","City, County or Local Government Unit or Department of Transportation","Rural Reporter",0,18,"Bus",null,0,2,3,1,0,0,0,7,0,1,0,1,0,2,0,0,0,0,0,17,6.23529411764705,0]
["Hancock Area Transportation Services","Findlay","OH","5R05-054","5R05-50377","Private-Non-Profit Corporation","Rural Reporter",0,18,"Cutaway",null,0,2,4,0,2,4,0,2,1,0,0,0,0,0,0,0,0,0,0,15,4,0]
["City of Beaumont, dba: Beaumont Municipal Transit System","Beaumont","TX",6016,60016,"City, County or Local Government Unit or Department of Transportation","Full Reporter",147922,18,"Bus",null,0,0,3,0,0,0,0,0,0,0,14,0,0,0,0,0,0,0,0,17,8.5882352941176396,380657.4706]
["Delaware, Dubuque & Jackson County Regional Transi","Dubuque","IA","7R01-008","7R01-70136","Independent Public Agency or Authority of Transit Service","Rural Reporter",0,18,"Minivan",null,0,1,0,0,3,0,0,0,0,0,0,0,0,0,0,1,0,0,0,5,6.8,0]
["West River Transit","Bismarck","ND","8R03-021","8R03-80238","Private-Non-Profit Corporation","Rural Reporter",0,18,"Sports Utility Vehicle",null,0,0,0,0,0,1,0,0,0,0,0,0,0,0,1,0,0,0,0,2,11,0]
["Community Transit, Inc.","Sisseton","SD","8R04-004","8R04-80300","Private-Non-Profit Corporation","Rural Reporter",0,18,"Minivan",null,2,0,0,2,1,0,1,0,2,1,0,0,0,1,1,0,0,0,0,11,6.5454545454545396,0]
["San Benito County LTA","Hollister","CA","9R02-013","9R02-91009","Independent Public Agency or Authority of Transit Service","Rural Reporter",0,18,"Minivan",null,0,0,0,0,0,2,0,0,0,0,0,0,0,0,0,0,0,0,0,2,5,0]
["Manchester Transit Authority","Manchester","NH",1002,10002,"Independent Public Agency or Authority of Transit Service","Reduced Reporter",158377,17,"Trucks and other Rubber Tire Vehicles (Service)",null,0,0,0,0,0,0,0,0,0,0,0,0,0,0,2,0,0,0,0,2]
["Chenango County","Norwich","NY","2R02-017","2R02-20935","City, County or Local Government Unit or Department of Transportation","Rural Reporter",0,17,"Cutaway",null,0,0,0,0,0,0,0,0,3,17,0,0,0,0,0,0,0,0,0,20,8.85,0]
["City of Albany , dba: Albany Transit System","Albany","GA",4021,40021,"City, County or Local Government Unit or Department of Transportation","Full Reporter",95779,17,"Trucks and other Rubber Tire Vehicles (Service)",null,0,2,0,0,0,0,0,0,4,0,1,0,0,0,0,0,0,0,0,7]
["City of Albany , dba: Albany Transit System","Albany","GA",4021,40021,"City, County or Local Government Unit or Department of Transportation","Full Reporter",95779,17,"Automobiles (Service)",null,0,0,0,0,0,1,0,0,2,0,0,0,0,0,0,0,0,0,0,3]
["Lancaster County Council on Aging, dba: LARS ","Lancaster","SC",4237,40237,"Private-Non-Profit Corporation","Reduced Reporter",1249442,17,"Cutaway",null,0,6,1,0,0,0,0,2,0,1,0,0,0,0,0,0,0,0,0,10,3.1,64378.8]
["South Central Community Action Agency, Inc.","D'Lo","MS","4R05-015","4R05-40922","Private-Non-Profit Corporation","Rural Reporter",0,17,"Cutaway",null,0,1,1,1,0,0,0,0,4,0,0,0,0,0,0,0,0,0,0,7,5.4285714285714199,0]
["Transp. Administration of Cleveland County. Inc","Shelby","NC","4R06-017","4R06-41082","Private-Non-Profit Corporation","Rural Reporter",0,17,"Cutaway",null,0,0,0,0,0,0,3,0,0,0,0,0,0,0,1,0,0,0,0,4,8.5,0]
["River Valley Metro Mass Transit District","Bourbonnais","IL",5159,50159,"City, County or Local Government Unit or Department of Transportation","Full Reporter",81926,17,"Automobiles (Service)",null,1,0,0,0,1,0,0,0,0,0,0,0,0,0,0,0,0,0,0,2]
["Charlevoix County Public Transportation","Boyne City","MI","5R03-021","5R03-50313","City, County or Local Government Unit or Department of Transportation","Rural Reporter",0,17,"Van",null,0,0,0,0,0,0,2,0,0,0,0,0,0,0,0,0,0,0,0,2,6,0]
["City of Cleburne","Cleburne","TX",6113,60113,"City, County or Local Government Unit or Department of Transportation","Reduced Reporter",5121892,17,"Trucks and other Rubber Tire Vehicles (Service)",null,0,0,0,0,0,0,0,0,0,0,1,0,0,0,0,0,0,0,0,1]
["City of Jefferson","Jefferson City","MO",7043,70043,"City, County or Local Government Unit or Department of Transportation","Reduced Reporter",58533,17,"Bus",null,0,0,0,0,0,0,2,2,0,0,0,0,3,5,0,0,0,0,0,12,10.5833333333333,293229.5833]
["Ponca Tribe of Nebraska","Niobrara","NE","7T01",77063,"Tribe","Reduced Reporter",0,17,"Minivan",null,1,1,3,5,4,0,1,0,0,0,0,0,0,0,0,0,0,0,0,15,2.93333333333333,0]
["Yankton Transit, Inc.","Yankton","SD","8R04-021","8R04-80271","Private-Non-Profit Corporation","Rural Reporter",0,17,"Van",null,0,0,0,0,0,0,0,0,2,0,0,0,0,2,0,0,0,0,0,4,10.5,0]
["City of Simi Valley, dba: Simi Valley Transit","Simi Valley","CA",9050,90050,"City, County or Local Government Unit or Department of Transportation","Reduced Reporter",125206,17,"Bus",null,0,0,0,0,6,0,0,0,3,0,0,0,0,2,0,0,0,0,0,11,6.9090909090909003,231654.18179999999]
["Columbia County Public Transportation","Dayton","WA","0R03-001","0R03-00383","Independent Public Agency or Authority of Transit Service","Rural Reporter",0,16,"Van",null,0,0,7,0,0,0,0,1,0,0,0,0,3,0,0,0,0,0,0,11,5.1818181818181799,0]
["Salem County","Salem","NJ","2R01-015","2R01-20944","Area Agency on Aging","Rural Reporter",0,16,"Trucks and other Rubber Tire Vehicles (Service)",null,0,0,0,0,0,0,0,0,0,0,0,0,0,0,1,0,0,0,0,1]
["Ohio Valley Regional Transportation Authority","Wheeling","WV",3035,30035,"Independent Public Agency or Authority of Transit Service","Full Reporter",81249,16,"Van",null,1,0,0,0,1,0,0,0,0,1,1,0,0,0,0,0,0,0,0,4,5.75,85275.5]
["Queen Anne's County Department of Aging","Centreville ","MD","3R03-002","3R03-30192","City, County or Local Government Unit or Department of Transportation","Rural Reporter",0,16,"Minivan",null,0,0,0,0,0,0,0,0,0,0,1,0,0,0,0,0,0,0,0,1,10,0]
["Municipality of Mayaguez","Mayaguez","PR",4194,40194,"City, County or Local Government Unit or Department of Transportation","Reduced Reporter",109572,16,"Automobiles (Service)",null,0,0,0,0,0,0,0,0,0,0,0,0,0,1,0,0,0,0,0,1]
["Suwannee Valley Transit Authority","Live Oak","FL","4R02-005","4R02-41050","Independent Public Agency or Authority of Transit Service","Rural Reporter",0,16,"Van",null,1,0,2,0,1,0,2,0,1,0,0,0,0,0,0,0,0,0,0,7,4,0]
["N-Route","Vicksburg","MS","4R05-020","4R05-40957","Private-Non-Profit Corporation","Rural Reporter",0,16,"Van",null,0,1,4,0,0,0,0,0,0,0,0,0,0,0,0,0,0,0,0,5,1.8,0]
["Sampson County","Clinton","NC","4R06-043","4R06-40933","City, County or Local Government Unit or Department of Transportation","Rural Reporter",0,16,"Van",null,0,0,2,0,0,1,0,0,0,1,0,0,0,0,2,0,0,0,0,6,8.6666666666666607,0]
["Senior Services Incorporated of Chester County","Chester","SC","4R07-016","4R07-41146","City, County or Local Government Unit or Department of Transportation","Rural Reporter",0,16,"Minivan",null,0,1,0,1,0,0,0,0,0,0,0,0,0,0,0,0,0,0,0,2,2,0]
["City of Quincy","Quincy","IL","5R01-018","5R01-50258","City, County or Local Government Unit or Department of Transportation","Rural Reporter",0,16,"Cutaway",null,0,0,0,0,0,0,0,0,0,11,0,1,0,0,2,0,0,0,0,14,10.5714285714285,0]
["Boone County Commissioners","Lebanon","IN","5R02-011","5R02-50230","Private-Non-Profit Corporation","Rural Reporter",0,16,"Van",null,0,0,0,0,0,1,0,0,0,0,0,0,0,0,0,0,0,0,0,1,5,0]
["Crawford County Transportation Authority","Grayling","MI","5R03-024","5R03-50503","Independent Public Agency or Authority of Transit Service","Rural Reporter",0,16,"Van",null,0,0,0,0,0,2,0,0,0,0,0,0,0,0,0,0,0,0,0,2,5,0]
["Fayette County Transportation Program","Washington Court House","OH","5R05-051","5R05-50410","Private-Non-Profit Corporation","Rural Reporter",0,16,"Van",null,0,0,0,0,2,1,0,0,0,0,0,0,0,0,0,0,0,0,0,3,4.3333333333333304,0]
["Fayette County Transportation Program","Washington Court House","OH","5R05-051","5R05-50410","Private-Non-Profit Corporation","Rural Reporter",0,16,"Minivan",null,0,0,0,0,3,0,0,0,3,0,0,0,0,0,0,0,0,0,0,6,6,0]
["San Marcos Urban Transit District","Austin","TX",6131,60131,"Independent Public Agency or Authority of Transit Service","Reduced Reporter",52826,16,"Cutaway",null,0,0,1,0,0,0,0,0,4,0,6,0,0,0,0,0,0,0,0,11,8.5454545454545396,192586.81820000001]
["Kleberg County Human Services ","Kingsville ","TX","6R05-010","6R05-60147","Independent Public Agency or Authority of Transit Service","Rural Reporter",0,16,"Trucks and other Rubber Tire Vehicles (Service)",null,0,0,0,0,0,0,0,0,1,0,0,0,0,0,0,0,0,0,0,1]
["Doger Area Rapids Transit, City of Fort Dodge","Fort Dodge","IA","7R01-019","7R01-70108","Independent Public Agency or Authority of Transit Service","Rural Reporter",0,16,"Trucks and other Rubber Tire Vehicles (Service)",null,0,0,0,0,0,0,0,0,0,0,0,1,0,0,0,0,0,0,0,1]
["City of Lodi","Lodi","CA",9175,90175,"City, County or Local Government Unit or Department of Transportation","Reduced Reporter",68738,16,"Automobiles (Service)",null,0,0,0,0,1,0,0,0,0,0,0,0,0,0,0,0,0,0,0,1]
["City of Petaluma","Petaluma","CA",9213,90213,"City, County or Local Government Unit or Department of Transportation","Full Reporter",64078,16,"Automobiles (Service)",null,0,0,0,0,0,0,0,0,0,0,1,0,0,1,0,0,0,0,0,2]
["City of Nashua, dba: Nashua Transit System","Nashua","NH",1087,10087,"City, County or Local Government Unit or Department of Transportation","Full Reporter",226400,15,"Van",null,0,0,0,0,0,0,0,0,0,8,0,0,0,0,1,0,0,0,0,9,9.8888888888888893,182465]
["Nantucket Regional Transit Authority","Nantucket","MA","1R02-004","1R02-10162","Independent Public Agency or Authority of Transit Service","Rural Reporter",0,15,"Automobiles (Service)",null,0,0,0,0,3,1,0,0,0,0,0,0,0,0,0,0,0,0,0,4]
["Olympia Trails Bus Company, Inc.","Elizabeth","NJ",2165,20165,"Private-For-Profit Corporation","Reduced Reporter",18351295,15,"Over-the-road Bus",null,0,4,0,0,0,0,0,0,0,0,0,0,0,2,0,0,0,0,0,6,5.3333333333333304,64452.666700000002]
["Greene Co. Transit Inc.","Stanardsville","VA","3R06-005","3R06-30154","City, County or Local Government Unit or Department of Transportation","Rural Reporter",0,15,"Van",null,0,0,0,0,0,0,1,0,0,0,0,0,0,0,0,0,0,0,0,1,6,0]
["Municipality of San Lorenzo","San Lorenzo","PR",4195,40195,"City, County or Local Government Unit or Department of Transportation","Reduced Reporter",2148346,15,"Van",null,0,0,0,0,0,0,2,0,1,0,0,0,0,0,0,0,0,0,0,3,6.6666666666666599,79453]
["Municipality of San Lorenzo","San Lorenzo","PR",4195,40195,"City, County or Local Government Unit or Department of Transportation","Reduced Reporter",2148346,15,"Automobiles (Service)",null,0,0,0,0,0,0,0,1,0,0,0,0,0,0,0,0,0,0,0,1]
["Opportunity Enterprises, Inc.","Valparaiso","IN",5131,50131,"Private-Non-Profit Corporation","Reduced Reporter",8608208,15,"Cutaway",null,0,4,4,2,0,2,1,1,0,4,0,0,0,0,0,0,0,0,0,18,4.2777777777777697,115147.11109999999]
["City of  Ottawa","Ottawa","IL","5R01-061","5R01-50219","City, County or Local Government Unit or Department of Transportation","Rural Reporter",0,15,"Minivan",null,0,0,1,0,1,0,0,0,0,0,2,0,0,0,0,0,0,0,0,4,6.5,0]
["Shiawassee Area Transportation Agency","Owosso","MI","5R03-065","5R03-50227","Independent Public Agency or Authority of Transit Service","Rural Reporter",0,15,"Trucks and other Rubber Tire Vehicles (Service)",null,0,0,0,0,0,1,0,0,0,0,0,0,0,0,0,0,0,0,0,1]
["ALTRAN Transit Authority","Munising","MI","5R03-001","5R03-50511","Independent Public Agency or Authority of Transit Service","Rural Reporter",0,15,"Cutaway",null,0,0,0,4,0,1,0,0,1,0,0,0,0,1,0,0,0,0,0,7,5.4285714285714199,0]
["ALTRAN Transit Authority","Munising","MI","5R03-001","5R03-50511","Independent Public Agency or Authority of Transit Service","Rural Reporter",0,15,"Bus",null,0,0,4,0,0,0,1,0,0,0,1,0,0,0,0,0,0,0,0,6,4,0]
["Aspermont Small Business Development Center, Inc.","Aspermont ","TX","6R05-001","6R05-60202","Private-Non-Profit Corporation","Rural Reporter",0,15,"Sports Utility Vehicle",null,0,0,0,0,0,0,0,1,0,0,0,0,0,0,0,0,0,0,0,1,7,0]
["Dunklin County Transit Service, Inc.","Malden","MO","7R03-007","7R03-70063","Private-Non-Profit Corporation","Rural Reporter",0,15,"Cutaway",null,0,0,0,1,1,0,0,0,0,1,0,0,1,0,0,0,0,0,0,4,7,0]
["Eastern Nebraska ","Omaha","NE","7R04-018","7R04-70160","Area Agency on Aging","Rural Reporter",0,15,"Minivan",null,0,4,0,2,1,0,3,0,0,0,0,0,0,1,0,0,0,0,0,11,4.2727272727272698,0]
["Rehabilitation Enterprises of North Eastern Wyoming (RENEW)","Sheridan","WY","8R05-045","8R05-80293","Private-Non-Profit Corporation","Rural Reporter",0,15,"Automobile",null,0,0,0,0,0,0,0,1,0,1,0,0,0,0,0,0,0,0,0,2,8,0]
["City of Alhambra","Alhambra","CA",null,90247,"City, County or Local Government Unit or Department of Transportation","Reduced Reporter",12150996,15,"Bus",null,0,0,0,0,0,0,0,0,4,0,0,2,2,0,0,0,0,0,0,8,9.75,223290.75]
["Josephine County, dba: Josephine Community Transit","Grants Pass","OR",59,59,"City, County or Local Government Unit or Department of Transportation","Reduced Reporter",50520,14,"Bus",null,0,0,2,2,0,0,0,3,0,0,0,0,0,1,1,0,0,0,0,9,7.3333333333333304,270633.6667]
["Okanogan Transit","Omak","WA",null,"0R03-00405","City, County or Local Government Unit or Department of Transportation","Rural Reporter",0,14,"Cutaway",null,0,0,7,0,3,0,0,0,0,0,0,0,0,0,0,0,0,0,0,10,2.6,0]
["Windham Region Transit District","Willimantic","CT","1R01-005","1R01-10149","City, County or Local Government Unit or Department of Transportation","Rural Reporter",0,14,"Trucks and other Rubber Tire Vehicles (Service)",null,0,0,1,0,0,0,0,0,0,0,0,0,0,0,0,0,0,0,0,1]
["Board of County Commissioners of Calvert County, Maryland","Prince Frederick","MD","3R03-005",30131,"City, County or Local Government Unit or Department of Transportation","Reduced Reporter",58875,14,"Bus",null,0,0,0,0,0,2,0,1,0,0,0,0,0,0,0,0,0,0,0,3,5.6666666666666599,345389.6667]
["Randolph County Senior Center , dba: Country Roads Transit","Elkins","WV","3R05-023","3R05-30122","Private-Non-Profit Corporation","Rural Reporter",0,14,"Cutaway",null,0,1,1,0,0,0,0,0,0,0,0,0,0,0,0,0,0,0,0,2,1.5,0]
["Calhoun County Senior Citizens Association, Inc.","Blountstown","FL","4R02-012","4R02-41091","Private-Non-Profit Corporation","Rural Reporter",0,14,"Van",null,0,4,4,1,0,1,0,6,2,3,0,3,0,0,0,0,0,0,0,24,5.75,0]
["Middle Kentucky River Area Development Council, Inc.","Jackson","KY","4R04-024","4R04-40909","Private-Non-Profit Corporation","Rural Reporter",0,14,"Van",null,0,0,2,0,0,0,0,0,0,1,1,2,0,0,1,0,0,0,0,7,9,0]
["City of Gatlinburg","Gatlinburg","TN","4R08-011","4R08-41102","City, County or Local Government Unit or Department of Transportation","Rural Reporter",0,14,"Trucks and other Rubber Tire Vehicles (Service)",null,0,0,0,0,0,0,0,0,0,0,0,0,0,1,0,0,0,0,0,1]
["South Lake County Community Services, Inc.","Crown Point","IN",5167,50167,"Private-Non-Profit Corporation","Reduced Reporter",8608208,14,"Van",null,0,0,0,0,0,0,0,3,0,0,0,0,0,0,0,0,0,0,0,3,7,86467]
["Huntington County Council on Aging","Huntington","IN","5R02-010","5R02-50361","Private-Non-Profit Corporation","Rural Reporter",0,14,"Cutaway",null,0,0,0,1,0,0,0,0,1,0,0,1,0,0,0,0,0,0,0,3,7.3333333333333304,0]
["Huntington County Council on Aging","Huntington","IN","5R02-010","5R02-50361","Private-Non-Profit Corporation","Rural Reporter",0,14,"Automobile",null,0,1,0,0,0,0,0,0,0,0,0,0,0,0,1,0,0,0,0,2,9,0]
["City of McAllen , dba: Metro McAllen","McAllen","TX",6099,60099,"City, County or Local Government Unit or Department of Transportation","Reduced Reporter",728825,14,"Van",null,0,0,0,0,1,0,0,0,0,0,0,0,0,0,0,0,0,0,0,1,4,61304]
["City of McAllen , dba: Metro McAllen","McAllen","TX",6099,60099,"City, County or Local Government Unit or Department of Transportation","Reduced Reporter",728825,14,"Bus",null,0,0,0,2,3,0,2,0,6,0,0,0,0,0,2,0,0,0,0,15,7.4666666666666597,238174.53330000001]
["Ripley County Transit, Inc.","Doniphan","MO","7R03-010","7R03-70114","Private-Non-Profit Corporation","Rural Reporter",0,14,"Cutaway",null,0,0,0,0,0,0,0,0,1,0,0,0,0,0,0,0,0,0,0,1,8,0]
["Navajo Nation","Window Rock","AZ","9T05",90005,"Tribe","Reduced Reporter",0,14,"Van",null,0,0,1,2,0,0,0,0,0,0,0,0,0,0,0,0,0,0,0,3,2.6666666666666599,0]
["City of Arcadia, dba: Arcadia Transit","Arcadia","CA",9044,90044,"City, County or Local Government Unit or Department of Transportation","Reduced Reporter",12150996,14,"Cutaway",null,0,0,0,0,0,0,10,0,0,8,0,0,0,0,0,0,0,0,0,18,7.3333333333333304,116087.88890000001]
["City of Scottsdale , dba: Scottsdale Trolley","Scottsdale","AZ",9131,90131,"City, County or Local Government Unit or Department of Transportation","Full Reporter",3629114,14,"Bus",null,4,4,0,0,0,13,0,0,0,0,0,0,6,2,0,0,0,0,0,29,5.8275862068965498,178709.03450000001]
["Humboldt Transit Authority","Eureka","CA","9R02-016","9R02-91036","Independent Public Agency or Authority of Transit Service","Rural Reporter",0,14,"Bus",null,0,1,0,4,5,0,2,2,0,0,0,2,0,0,0,0,0,0,0,16,5.0625,0]
["Humboldt Transit Authority","Eureka","CA","9R02-016","9R02-91036","Independent Public Agency or Authority of Transit Service","Rural Reporter",0,14,"Automobiles (Service)",null,0,0,1,0,1,1,1,1,0,0,1,1,2,0,1,0,0,0,0,10]
["City of Albany","Albany","OR",61,61,"City, County or Local Government Unit or Department of Transportation","Reduced Reporter",56997,13,"Automobile",null,0,0,0,0,0,0,0,0,0,0,0,0,0,2,1,0,0,0,0,3,15.3333333333333,158049]
["City of Oneonta","Oneonta","NY","2R02-053","2R02-20960","City, County or Local Government Unit or Department of Transportation","Rural Reporter",0,13,"Cutaway",null,0,0,0,0,0,0,0,0,0,3,1,0,0,0,0,0,0,0,0,4,9.25,0]
["Wyoming Transit Service","Warsaw","NY","2R02-052","2R02-20980","Independent Public Agency or Authority of Transit Service","Rural Reporter",0,13,"Cutaway",null,0,0,0,0,0,10,2,0,0,6,0,0,0,0,0,0,0,0,0,18,6.4444444444444402,0]
["City of Kingsport, dba: Kingsport Area Transit Service","Kingsport","TN",4080,40080,"City, County or Local Government Unit or Department of Transportation","Reduced Reporter",106571,13,"Cutaway",null,2,0,0,0,0,0,1,3,4,0,2,0,1,0,0,0,0,0,0,13,7,139807.07689999999]
["Stanly County","Albemarle","NC","4R06-045","4R06-41181","City, County or Local Government Unit or Department of Transportation","Rural Reporter",0,13,"School Bus",null,0,0,0,0,0,0,0,0,0,0,0,0,0,0,0,1,0,0,0,1,21,0]
["Stanly County","Albemarle","NC","4R06-045","4R06-41181","City, County or Local Government Unit or Department of Transportation","Rural Reporter",0,13,"Minivan",null,0,0,0,0,0,0,0,0,0,2,0,0,0,0,0,0,0,0,0,2,9,0]
["Lawrence County Port Authority","Ironton","OH",5186,50186,"Independent Public Agency or Authority of Transit Service","Reduced Reporter",202637,13,"Minivan",null,0,0,0,0,0,0,1,0,3,1,0,0,0,1,0,0,0,0,0,6,8.6666666666666607,117753.5]
["Lawrence County Port Authority","Ironton","OH",5186,50186,"Independent Public Agency or Authority of Transit Service","Reduced Reporter",202637,13,"Cutaway",null,0,2,2,0,0,0,0,0,0,0,0,0,0,0,0,0,0,0,0,4,1.5,44849]
["Ashtabula County Transportation System","Ashtabula","OH","5R05-042","5R05-50390","City, County or Local Government Unit or Department of Transportation","Rural Reporter",0,13,"Minivan",null,0,0,1,0,0,0,0,0,0,0,0,0,0,0,0,0,0,0,0,1,2,0]
["Eureka Springs Transit","Eureka Springs","AR","6R01-003","6R01-60161","City, County or Local Government Unit or Department of Transportation","Rural Reporter",0,13,"Trucks and other Rubber Tire Vehicles (Service)",null,0,0,0,0,0,0,0,0,2,0,0,0,0,0,1,0,0,0,0,3]
["Area Agency on Aging of Western Arkansas, Inc., dba: Western Transit System","Fort Smith","AR","6R01-018","6R01-60257","Area Agency on Aging","Rural Reporter",0,13,"Van",null,0,1,0,0,0,0,10,0,0,0,0,0,0,0,0,0,0,0,0,11,5.5454545454545396,0]
["James River Senior Citizens Center, Inc.","Jamestown","ND","8R03-007","8R03-80124","Private-Non-Profit Corporation","Rural Reporter",0,13,"Minivan",null,0,0,0,0,1,0,0,0,0,0,1,0,1,0,0,0,0,0,0,3,8.6666666666666607,0]
["City of Tracy","Tracy","CA",9197,90197,"City, County or Local Government Unit or Department of Transportation","Reduced Reporter",87569,13,"Bus",null,0,5,0,0,0,0,0,0,0,0,0,0,1,2,0,0,0,0,0,8,5.625,77882.625]
["City of Calabasas","Calabasas","CA",null,90257,"City, County or Local Government Unit or Department of Transportation","Reduced Reporter",12150996,13,"Minivan",null,0,0,1,0,0,0,0,0,0,0,0,0,0,0,0,0,0,0,0,1,2,35029]
["City of El Monte , dba: City of El Monte Transportation Division","El Monte","CA",null,90265,"City, County or Local Government Unit or Department of Transportation","Reduced Reporter",12150996,13,"Trucks and other Rubber Tire Vehicles (Service)",null,0,0,0,0,0,0,0,0,0,1,0,0,0,0,0,1,0,0,0,2]
["City of El Monte , dba: City of El Monte Transportation Division","El Monte","CA",null,90265,"City, County or Local Government Unit or Department of Transportation","Reduced Reporter",12150996,13,"Automobiles (Service)",null,0,2,0,0,0,0,0,0,0,0,0,0,0,0,1,0,0,0,0,3]
["County of Sacramento Municipal Services Agency Department of Transportation","Sacramento","CA","9R02-109","9R02-90216","City, County or Local Government Unit or Department of Transportation","Rural Reporter",0,13,"Over-the-road Bus",null,0,0,0,0,1,0,0,0,0,0,0,0,0,0,0,0,0,0,0,1,4,0]
["Coos County Area Transit","Coos Bay","OR","0R02-006","0R02-00307","Independent Public Agency or Authority of Transit Service","Rural Reporter",0,12,"Van",null,0,1,0,1,0,0,0,0,0,0,0,0,0,0,0,0,0,0,0,2,2,0]
["Curry County Public Transit Service District","Gold Beach","OR","0R02-029","0R02-00308","Private Provider Reporting on Behalf of a Public Entity","Rural Reporter",0,12,"Van",null,0,0,0,0,0,1,0,0,1,0,0,0,0,0,0,0,0,0,0,2,6.5,0]
["Senior Citizens of Sweet Home, Inc.","Sweet Home","OR","0R02-059","0R02-00348","Private-Non-Profit Corporation","Rural Reporter",0,12,"Bus",null,0,2,2,0,2,0,0,1,0,2,1,1,1,0,0,0,0,0,0,12,6,0]
["Ketchikan Gateway Borough","Ketchikan","AK","0R04-004","0R04-00358","City, County or Local Government Unit or Department of Transportation","Rural Reporter",0,12,"Cutaway",null,0,0,0,0,0,0,0,0,0,0,1,0,0,0,0,0,0,0,0,1,10,0]
["Monroe Bus Corporation","Brooklyn","NY",2137,20137,"Private-For-Profit Corporation","Full Reporter",423566,12,"Over-the-road Bus",null,0,0,0,0,0,0,0,0,0,0,0,4,0,1,15,1,0,0,0,21,16.857142857142801,326819.3333]
["Cecil County Government - SSCT","Elkton","MD",3108,30108,"City, County or Local Government Unit or Department of Transportation","Reduced Reporter",5441567,12,"Van",null,0,0,0,0,1,0,0,0,0,0,0,0,0,0,0,0,0,0,0,1,4,25434]
["Tuscaloosa County Parking and Transit Authority","Tuscaloosa","AL",4045,40045,"Independent Public Agency or Authority of Transit Service","Reduced Reporter",139114,12,"Trucks and other Rubber Tire Vehicles (Service)",null,0,0,0,0,0,2,0,0,2,1,0,0,0,2,0,0,0,0,0,7]
["Municipality of Toa Baja","Toa Baja","PR",4182,40182,"City, County or Local Government Unit or Department of Transportation","Reduced Reporter",2148346,12,"School Bus",null,0,0,0,0,0,0,0,0,0,0,0,0,1,0,0,0,0,0,0,1,12,63807]
["Martin County","Stuart","FL",4192,40192,"City, County or Local Government Unit or Department of Transportation","Full Reporter",376047,12,"Bus",null,2,6,2,1,0,0,0,0,0,0,0,0,0,0,0,0,0,0,0,11,1.1818181818181801,70207.545499999993]
["Pitt County, dba: Pitt Area Transit System","Greenville","NC",4220,40220,"City, County or Local Government Unit or Department of Transportation","Reduced Reporter",117798,12,"Van",null,0,0,0,0,0,2,0,6,2,4,0,0,0,0,0,0,0,0,0,14,7.4285714285714199,145617]
["Copiah County Human Resource Agency","Hazlehurst","MS","4R05-019","4R05-40987","Private-Non-Profit Corporation","Rural Reporter",0,12,"Van",null,0,0,0,0,0,0,0,0,0,0,1,0,0,0,0,0,0,0,0,1,10,0]
["Carteret County","Morehead City","NC","4R06-012","4R06-40944","City, County or Local Government Unit or Department of Transportation","Rural Reporter",0,12,"Minivan",null,0,0,0,0,2,0,0,0,0,0,0,0,0,0,0,0,0,0,0,2,4,0]
["Mitchell County Transportation Authority","Bakersville","NC","4R06-032","4R06-41043","City, County or Local Government Unit or Department of Transportation","Rural Reporter",0,12,"Cutaway",null,0,0,0,0,1,2,1,0,0,0,0,0,0,0,0,0,0,0,0,4,5,0]
["Avery County Transportation Authority","Newland","NC","4R06-002","4R06-41130","City, County or Local Government Unit or Department of Transportation","Rural Reporter",0,12,"Minivan",null,0,0,0,1,0,2,0,1,0,0,0,0,0,0,0,0,0,0,0,4,5,0]
["Columbus County","Whiteville","NC","4R06-013","4R06-41172","City, County or Local Government Unit or Department of Transportation","Rural Reporter",0,12,"Van",null,0,2,0,0,0,2,2,0,0,0,0,0,0,0,0,0,0,0,0,6,4,0]
["Delaware County Transit Board","Delaware","OH",5199,50199,"Independent Public Agency or Authority of Transit Service","Full Reporter",1368035,12,"Cutaway",null,5,4,4,0,2,3,0,2,2,1,1,0,0,0,0,0,0,0,0,24,3.5,106867.6667]
["Hancock Area Rural Transit ","Greenfield ","IN",5201,50201,"Private-Non-Profit Corporation","Reduced Reporter",1487483,12,"Automobile",null,0,0,0,0,0,0,0,0,1,0,0,1,0,1,0,0,0,0,0,3,10.6666666666666,189037.6667]
["City of Freeport","Freeport","IL","5R01-007","5R01-50412","City, County or Local Government Unit or Department of Transportation","Rural Reporter",0,12,"Minivan",null,3,0,0,0,1,0,0,0,0,0,0,0,0,0,0,0,0,0,0,4,1,0]
["Noble Co. Council on Aging","Kendalville","IN","5R02-021","5R02-50422","Private-Non-Profit Corporation","Rural Reporter",0,12,"Minivan",null,0,1,1,2,1,2,0,0,3,0,0,0,0,0,0,0,0,0,0,10,4.7,0]
["Alma-Dial-A-Ride","Alma","MI","5R03-004","5R03-50492","City, County or Local Government Unit or Department of Transportation","Rural Reporter",0,12,"Cutaway",null,0,0,0,0,0,0,1,3,0,0,1,2,0,2,0,0,0,0,0,9,9.55555555555555,0]
["Carroll County Transit","Carrollton","OH","5R05-045","5R05-50255","City, County or Local Government Unit or Department of Transportation","Rural Reporter",0,12,"Minivan",null,2,2,1,0,2,0,0,0,1,0,1,0,0,0,0,0,0,0,0,9,3.3333333333333299,0]
["Transportation for Logan County","Bellefonatine","OH","5R05-058","5R05-50424","Private-Non-Profit Corporation","Rural Reporter",0,12,"Cutaway",null,3,1,0,1,0,1,0,0,1,0,2,0,1,0,0,0,0,0,0,10,4.9000000000000004,0]
["Horizons of Tuscarawas & Carroll Counties","Dover","OH",null,"5R05-55328","Private-Non-Profit Corporation","Rural Reporter",0,12,"Cutaway",null,0,1,2,1,0,0,0,1,1,0,0,0,0,0,0,0,0,0,0,6,3.8333333333333299,0]
["Calcasieu Office of Community Services","Lake Charles","LA","6R02-006","6R02-60198","City, County or Local Government Unit or Department of Transportation","Rural Reporter",0,12,"Minivan",null,0,0,0,0,0,1,0,0,0,0,0,0,0,0,0,0,0,0,0,1,5,0]
["Webb County Community Action Agency ","Laredo ","TX","6R05-018","6R05-60185","City, County or Local Government Unit or Department of Transportation","Rural Reporter",0,12,"Automobiles (Service)",null,0,0,0,0,0,0,1,0,0,0,0,0,0,0,0,0,0,0,0,1]
["Senior Resource Development Agency, Pueblo, Inc., dba: SRDA ","Pueblo","CO","8R01-016","8R01-80267","Private-Non-Profit Corporation","Rural Reporter",0,12,"Over-the-road Bus",null,3,0,0,0,0,0,0,0,0,0,0,0,0,0,0,0,0,0,0,3,0,0]
["City of Aberdeen - Aberdeen Ride Line","Aberdeen","SD","8R04-001","8R04-80126","City, County or Local Government Unit or Department of Transportation","Rural Reporter",0,12,"Minivan",null,0,0,0,0,0,0,0,0,0,1,1,0,0,1,0,0,0,0,0,3,10.6666666666666,0]
["City of Whittier","Whittier","CA",null,90295,"City, County or Local Government Unit or Department of Transportation","Reduced Reporter",12150996,12,"Van",null,0,0,0,0,0,0,0,0,0,0,1,0,0,0,0,0,0,0,0,1,10,108034]
["City of Whittier","Whittier","CA",null,90295,"City, County or Local Government Unit or Department of Transportation","Reduced Reporter",12150996,12,"Automobile",null,0,0,0,0,0,0,0,0,0,0,0,1,1,0,0,0,0,0,0,2,11.5,93905.5]
["Government of Guam-Guam Regional Transit Authority, dba: Guam Public Transit System","Hagatna","GU","9R05-001","9R05-90999","State Government Unit or Department of Transportation","Rural Reporter",0,12,"Van",null,0,0,0,0,0,0,0,0,0,0,0,0,0,0,1,0,0,0,0,1,17,0]
["Government of Guam-Guam Regional Transit Authority, dba: Guam Public Transit System","Hagatna","GU","9R05-001","9R05-90999","State Government Unit or Department of Transportation","Rural Reporter",0,12,"Cutaway",null,0,0,0,11,0,0,0,0,0,0,0,0,0,0,3,3,0,0,0,17,8.5294117647058805,0]
["Kalispel Tribe of Indians","Usk","WA","0T09",9,"Tribe","Reduced Reporter",0,11,"Automobile",null,0,0,0,0,0,0,0,0,0,0,0,1,0,1,2,0,0,0,0,4,14.5,0]
["Stillaguamish Tribe of Indians","Arlington","WA","0T17",17,"Tribe","Reduced Reporter",0,11,"Automobile",null,0,0,0,1,0,0,1,0,0,0,0,0,0,0,0,0,0,0,0,2,4.5,0]
["City of Woodburn","Woodburn","OR","0R02-007","0R02-00360","City, County or Local Government Unit or Department of Transportation","Rural Reporter",0,11,"Cutaway",null,0,0,0,1,0,0,0,1,0,0,1,0,0,0,0,0,0,0,0,3,6.6666666666666599,0]
["Middletown Transit District","Middletown","CT",1063,10063,"Independent Public Agency or Authority of Transit Service","Reduced Reporter",924859,11,"Trucks and other Rubber Tire Vehicles (Service)",null,0,0,1,0,0,0,0,0,0,0,0,0,0,0,0,0,0,0,0,1]
["City of Hazleton, dba: Hazleton Public Transit","Hazleton","PA",3093,30093,"City, County or Local Government Unit or Department of Transportation","Reduced Reporter",56827,11,"Cutaway",null,0,0,1,1,0,1,0,1,0,0,1,0,0,0,0,0,0,0,0,5,5.4,105060.6]
["Central Shenandoah Planning District Commission","Staunton","VA",3113,30989,"MPO, COG or Other Planning Agency","Reduced Reporter",56611,11,"Cutaway",null,0,10,0,0,0,2,0,0,0,0,0,0,0,0,0,0,0,0,0,12,1.6666666666666601,47108.416700000002]
["Pulaski Area Transit","Pulaski","VA","3R06-020","3R06-30115","Private-Non-Profit Corporation","Rural Reporter",0,11,"Cutaway",null,2,1,0,3,2,2,1,0,0,0,0,0,0,0,0,0,0,0,0,11,3.0909090909090899,0]
["City of Ashland, dba: Ashland Bus System","Ashland","KY",4016,40016,"City, County or Local Government Unit or Department of Transportation","Reduced Reporter",202637,11,"Cutaway",null,0,0,4,0,0,0,0,0,0,2,0,0,0,1,0,0,0,0,0,7,5.71428571428571,150540.14290000001]
["Hall Area Transit","Gainesville","GA",4144,40144,"City, County or Local Government Unit or Department of Transportation","Reduced Reporter",130846,11,"Trucks and other Rubber Tire Vehicles (Service)",null,0,0,0,1,0,0,0,0,0,0,0,0,0,0,0,0,0,0,0,1]
["Liberty County Board of County Commissioners","Bristol","FL","4R02-021","4R02-40923","City, County or Local Government Unit or Department of Transportation","Rural Reporter",0,11,"Sports Utility Vehicle",null,0,0,0,0,1,1,0,2,0,0,0,0,0,0,0,0,0,0,0,4,5.75,0]
["Liberty County Board of County Commissioners","Bristol","FL","4R02-021","4R02-40923","City, County or Local Government Unit or Department of Transportation","Rural Reporter",0,11,"Cutaway",null,0,0,0,0,0,1,0,0,0,0,0,0,0,1,0,0,0,0,0,2,9,0]
["Owen County Fiscal Court","Owenton","KY","4R04-032","4R04-40997","City, County or Local Government Unit or Department of Transportation","Rural Reporter",0,11,"Sports Utility Vehicle",null,0,2,0,0,0,0,1,0,0,0,0,0,0,0,0,0,0,0,0,3,2.6666666666666599,0]
["Madison County Citizens Services Agency","Canton","MS","4R05-025","4R05-40969","Private-Non-Profit Corporation","Rural Reporter",0,11,"Bus",null,0,0,0,0,0,0,0,0,0,0,0,0,0,1,0,0,0,0,0,1,13,0]
["Five County Child Development Program, Inc.","Prentiss","MS","4R05-004","4R05-41051","Private-Non-Profit Corporation","Rural Reporter",0,11,"Van",null,0,1,0,0,0,0,0,0,0,0,0,0,0,0,0,0,0,0,0,1,1,0]
["Climb-Up","Tupelo","MS",null,"4R05-44940","Private-Non-Profit Corporation","Rural Reporter",0,11,"Cutaway",null,0,0,0,1,0,0,0,0,0,0,0,0,0,0,0,0,0,0,0,1,3,0]
["Duplin County","Kenansville","NC","4R06-014","4R06-40915","City, County or Local Government Unit or Department of Transportation","Rural Reporter",0,11,"Cutaway",null,0,1,0,1,2,0,2,0,0,0,0,0,0,0,0,0,0,0,0,6,4,0]
["McCormick County Senior Center","McCormick","SC","4R07-018","4R07-41042","City, County or Local Government Unit or Department of Transportation","Rural Reporter",0,11,"Cutaway",null,0,0,0,2,0,0,0,0,1,3,3,1,0,0,0,0,0,0,0,10,8.1999999999999993,0]
["LaGrange County Council on Aging","LaGrange","IN","5R02-044","5R02-50305","Area Agency on Aging","Rural Reporter",0,11,"Automobile",null,0,0,0,0,0,2,0,0,0,0,0,0,0,0,0,0,0,0,0,2,5,0]
["Eastern Upper Peninsula Transportation Authority","Sault Ste Marie","MI","5R03-027","5R03-50241","Independent Public Agency or Authority of Transit Service","Rural Reporter",0,11,"Ferryboat",null,0,0,0,0,0,0,0,0,0,0,0,0,0,0,1,1,1,0,1,4,35.5,0]
["Branch Area Transit Authority","Coldwater","MI","5R03-015","5R03-50337","Independent Public Agency or Authority of Transit Service","Rural Reporter",0,11,"Cutaway",null,0,0,0,1,0,1,1,0,3,0,1,0,0,0,0,0,0,0,0,7,6.8571428571428497,0]
["Terrebonne Parish Consolidated Government, dba: Good Earth Transit","Houma","LA",6080,60080,"City, County or Local Government Unit or Department of Transportation","Reduced Reporter",144875,11,"Bus",null,0,0,0,0,0,0,0,4,0,0,8,0,0,0,0,0,0,0,0,12,9,302546.6667]
["City of Jonesboro , dba: Jonesboro Economical Transportation System","Jonesboro","AR",6104,60104,"City, County or Local Government Unit or Department of Transportation","Reduced Reporter",65419,11,"Trucks and other Rubber Tire Vehicles (Service)",null,0,0,0,0,0,0,0,0,0,0,0,0,2,2,0,0,0,0,0,4]
["Assumption Parish Council on Aging","Napoleonville","LA","6R02-002","6R02-60207","Area Agency on Aging","Rural Reporter",0,11,"Bus",null,0,0,0,0,0,0,1,0,0,0,0,0,0,0,0,0,0,0,0,1,6,0]
["Allen Council on Aging","Oakdale","LA","6R02-001","6R02-60249","Area Agency on Aging","Rural Reporter",0,11,"Van",null,0,0,0,0,0,1,0,0,0,0,0,1,0,0,0,0,0,0,0,2,8,0]
["Senior Citizen Industries, dba: Hall County Public Transportation","Grand Island","NE",7052,70052,"Private-Non-Profit Corporation","Reduced Reporter",50440,11,"Minivan",null,0,0,0,0,0,2,0,0,0,0,0,0,0,0,0,0,0,0,0,2,5,66144]
["Scotts Bluff Public Transit, dba: Tri City Roadrunner","Gering","NE","7R04-052","7R04-70183","City, County or Local Government Unit or Department of Transportation","Rural Reporter",0,11,"Minivan",null,0,0,0,1,0,0,1,0,0,0,1,0,0,0,0,0,0,0,0,3,6.3333333333333304,0]
["Oglala Sioux Tribe","Pine Ridge","SD","8T08",88122,"Tribe","Reduced Reporter",0,11,"Bus",null,0,0,0,0,0,0,0,0,0,0,2,0,0,0,0,0,0,0,0,2,10,0]
["Valley County Transit","Glasgow","MT","8R02-006","8R02-80183","City, County or Local Government Unit or Department of Transportation","Rural Reporter",0,11,"Cutaway",null,0,0,0,0,0,1,0,1,2,1,0,0,0,0,0,0,0,0,0,5,7.4,0]
["Senior Citizens Council","Sheridan","WY","8R05-011","8R05-80193","Private-Non-Profit Corporation","Rural Reporter",0,11,"Cutaway",null,1,1,1,0,0,0,0,0,0,0,0,1,0,0,0,0,0,0,0,4,3.5,0]
["Amador Regional Transit System","Jackson","CA","9R02-018","9R02-91000","Independent Public Agency or Authority of Transit Service","Rural Reporter",0,11,"Trucks and other Rubber Tire Vehicles (Service)",null,0,0,0,1,0,0,0,0,0,0,0,0,0,0,1,0,0,0,0,2]
["Mountain Area Regional Transit Authority, dba: Mountain Transit","Big Bear Lake","CA","9R02-050","9R02-91012","Independent Public Agency or Authority of Transit Service","Rural Reporter",0,11,"Automobiles (Service)",null,0,0,0,0,0,0,0,0,0,0,1,1,0,0,0,0,0,0,0,2]
["Calaveras County Department of Public Works, dba: Calaveras Transit","San Andreas","CA","9R02-007","9R02-91063","City, County or Local Government Unit or Department of Transportation","Rural Reporter",0,11,"Cutaway",null,0,0,5,1,0,2,0,0,1,0,0,0,0,0,0,0,0,0,0,9,3.4444444444444402,0]
["SNTC-Laughlin","Laughlin","NV","9R04-036","9R04-91072","Private-Non-Profit Corporation","Rural Reporter",0,11,"Automobiles (Service)",null,0,0,0,0,0,0,0,0,0,0,0,0,0,0,1,0,0,0,0,1]
["Senior Services of Snohomish County","Mukilteo","WA","0R03-021","0R03-00033","City, County or Local Government Unit or Department of Transportation","Rural Reporter",0,10,"Minivan",null,0,0,0,0,0,0,0,0,0,0,0,1,0,0,0,0,0,0,0,1,11,0]
["Valley Transit","Wasilla","AK","0R04-002","0R04-00327","Private-Non-Profit Corporation","Rural Reporter",0,10,"Automobile",null,0,0,0,0,0,0,2,0,0,0,0,0,0,0,0,0,0,0,0,2,6,0]
["VNA Home Healthcare, Hospice & Community Service","Keene","NH","1R04-004","1R04-10159","Private-Non-Profit Corporation","Rural Reporter",0,10,"Cutaway",null,0,2,4,0,0,1,0,0,0,0,0,0,0,0,0,0,0,0,0,7,2.1428571428571401,0]
["City of Hattiesburg, dba: Hub City Transit","Hattiesburg","MS",4060,40060,"City, County or Local Government Unit or Department of Transportation","Reduced Reporter",80358,10,"Automobiles (Service)",null,0,0,3,0,0,0,0,0,0,0,0,0,0,0,0,0,0,0,0,3]
["City of Franklin , dba: Franklin Transit Authority","Franklin","TN",4162,40162,"City, County or Local Government Unit or Department of Transportation","Reduced Reporter",969587,10,"Cutaway",null,0,2,3,2,1,1,0,1,1,0,0,0,0,0,0,0,0,0,0,11,3.4545454545454501,111548.9091]
["City of Key West Department of Transportation","Key West","FL","4R02-009","4R02-41060","City, County or Local Government Unit or Department of Transportation","Rural Reporter",0,10,"Cutaway",null,0,1,0,0,0,0,0,0,0,0,0,0,0,0,0,0,0,0,0,1,1,0]
["Pierce County Transit","Blackshear","GA","4R03-071","4R03-41126","City, County or Local Government Unit or Department of Transportation","Rural Reporter",0,10,"Cutaway",null,0,6,1,0,0,2,0,0,0,0,0,0,0,0,0,0,0,0,0,9,2,0]
["Person County","Roxboro","NC","4R06-063","4R06-41010","City, County or Local Government Unit or Department of Transportation","Rural Reporter",0,10,"Cutaway",null,0,0,0,1,1,1,2,0,0,0,0,0,0,0,0,0,0,0,0,5,4.8,0]
["Richmond Interagency Transportation Inc.","Rockingham","NC","4R06-040","4R06-41124","Private-Non-Profit Corporation","Rural Reporter",0,10,"Van",null,0,4,4,0,0,0,0,0,1,0,0,0,0,0,0,0,0,0,0,9,2.2222222222222201,0]
["Rock Island County","Rock Island","IL","5R01-052","5R01-50237","City, County or Local Government Unit or Department of Transportation","Rural Reporter",0,10,"Minivan",null,0,2,2,0,0,0,5,0,2,0,0,0,0,0,0,0,0,0,0,11,4.7272727272727204,0]
["Kendall County, dba: Kendall Area Transit","Yorkville","IL","5R01-049","5R01-50352","City, County or Local Government Unit or Department of Transportation","Rural Reporter",0,10,"Minivan",null,0,2,0,0,0,1,0,0,0,0,0,0,0,0,0,0,0,0,0,3,2.3333333333333299,0]
["DeKalb County Council on Aging","Auburn","IN","5R02-041","5R02-50330","Private-Non-Profit Corporation","Rural Reporter",0,10,"Minivan",null,0,2,0,3,0,2,0,0,0,0,0,0,0,0,0,0,0,0,0,7,3,0]
["DeKalb County Council on Aging","Auburn","IN","5R02-041","5R02-50330","Private-Non-Profit Corporation","Rural Reporter",0,10,"Cutaway",null,1,0,1,1,1,0,0,1,0,0,0,0,0,0,0,0,0,0,0,5,3.2,0]
["Y Miami Go","Peru","IN","5R02-023","5R02-50454","Private-Non-Profit Corporation","Rural Reporter",0,10,"Automobile",null,0,0,1,0,0,0,0,0,0,0,0,0,0,0,0,0,0,0,0,1,2,0]
["Schoolcraft Transit Authority","Manistique","MI","5R03-064","5R03-50240","Independent Public Agency or Authority of Transit Service","Rural Reporter",0,10,"Minivan",null,0,0,0,1,0,0,1,0,2,0,0,0,0,0,0,0,0,0,0,4,6.25,0]
["Lenawee Transportation Corporation","Adrian","MI","5R03-046","5R03-50473","City, County or Local Government Unit or Department of Transportation","Rural Reporter",0,10,"Minivan",null,0,1,0,0,1,0,0,0,0,0,0,0,0,0,0,0,0,0,0,2,2.5,0]
["Harrison County Rural Transit","Cadiz","OH","5R05-055","5R05-50462","City, County or Local Government Unit or Department of Transportation","Rural Reporter",0,10,"Minivan",null,0,2,3,1,2,0,0,1,0,0,1,0,0,0,0,0,0,0,0,10,3.6,0]
["City of Alexandria","Alexandria","LA",6025,60025,"City, County or Local Government Unit or Department of Transportation","Reduced Reporter",82804,10,"Cutaway",null,0,0,0,3,0,0,4,0,0,0,0,0,0,0,0,0,0,0,0,7,4.71428571428571,119919.85709999999]
["City of Fort Smith, dba: Fort Smith Transit","Fort Smith","AR",6086,60086,"City, County or Local Government Unit or Department of Transportation","Reduced Reporter",122947,10,"Cutaway",null,4,0,5,2,2,2,0,0,0,0,0,0,0,0,0,0,0,0,0,15,2.2666666666666599,104424.1333]
["Community Services, Inc. ","Corsicana ","TX","6R05-012",60260,"Private-Non-Profit Corporation","Reduced Reporter",5121892,10,"Cutaway",null,0,3,2,0,0,4,0,1,1,0,0,0,0,0,0,0,0,0,0,11,3.8181818181818099,124843.9091]
["Central Oklahoma Community Action Agency","Shawnee","OK","6R04-013","6R04-60259","Private-Non-Profit Corporation","Rural Reporter",0,10,"Minivan",null,0,3,1,2,0,0,0,1,1,0,0,0,1,0,0,0,0,0,0,9,4.2222222222222197,0]
["City of St. George","St. George","UT",8026,80026,"City, County or Local Government Unit or Department of Transportation","Reduced Reporter",98370,10,"Cutaway",null,0,0,1,0,0,1,0,0,0,0,0,0,0,0,0,0,0,0,0,2,3.5,23212.5]
["Mountain Express","Crested Butte","CO","8R01-009","8R01-80159","City, County or Local Government Unit or Department of Transportation","Rural Reporter",0,10,"Trucks and other Rubber Tire Vehicles (Service)",null,2,1,0,0,0,0,0,1,0,0,0,0,1,1,0,0,0,0,0,6]
["Sanders County Council on Aging","Hot Springs","MT","8R02-016","8R02-80164","Private-Non-Profit Corporation","Rural Reporter",0,10,"Van",null,0,1,0,0,0,0,0,0,0,0,0,0,0,0,0,0,0,0,0,1,1,0]
["Butte Silver Bow Transit","Butte","MT","8R02-001","8R02-80174","City, County or Local Government Unit or Department of Transportation","Rural Reporter",0,10,"Minivan",null,0,0,0,3,0,0,0,0,0,0,0,0,0,0,0,0,0,0,0,3,3,0]
["San Francisco Bay Area Water Emergency Transportation Authority, dba: San Francisco Bay Ferry","San Francisco","CA",9225,90225,"Independent Public Agency or Authority of Transit Service","Full Reporter",3281212,10,"Automobiles (Service)",null,0,0,1,0,0,0,0,0,0,0,0,0,0,0,0,0,0,0,0,1]
["City of Tulare, dba: Tulare Intermodal Express","Tulare","CA",9244,90244,"City, County or Local Government Unit or Department of Transportation","Full Reporter",219454,10,"Bus",null,0,0,0,4,0,0,0,0,0,4,0,0,0,2,0,0,0,0,0,10,7.6,357168.3]
["City of West Hollywood","West Hollywood","CA",null,90294,"City, County or Local Government Unit or Department of Transportation","Reduced Reporter",12150996,10,"Cutaway",null,0,0,1,0,0,0,0,0,5,0,0,0,0,0,0,0,0,0,0,6,7,136343.6667]
["City of Cottonwood","Cottonwood","AZ","9R01-009","9R01-91010","City, County or Local Government Unit or Department of Transportation","Rural Reporter",0,10,"Cutaway",null,0,0,1,4,2,0,0,0,4,1,1,0,1,0,0,0,0,0,0,14,6.0714285714285703,0]
["City of Dixon ","Dixon","CA","9R02-006","9R02-91041","City, County or Local Government Unit or Department of Transportation","Rural Reporter",0,10,"Minivan",null,0,0,0,0,0,0,0,0,2,0,0,0,0,0,0,0,0,0,0,2,8,0]
["Elko County","Elko","NV","9R04-032","9R04-91061","City, County or Local Government Unit or Department of Transportation","Rural Reporter",0,10,"Minivan",null,0,0,0,0,0,0,0,0,0,0,0,0,0,0,0,1,0,0,0,1,22,0]
["TransIV Buses - College of Southern Idaho","Twin Falls","ID","0R01-001","0R01-00357","Independent Public Agency or Authority of Transit Service","Rural Reporter",0,9,"Cutaway",null,0,3,2,0,0,0,0,0,3,0,3,0,0,1,0,0,0,0,0,12,6.25,0]
["Belknap-Merrimack CAP/Concord Area Transit","Concord","NH","1R04-005","1R04-10161","Private-Non-Profit Corporation","Rural Reporter",0,9,"Cutaway",null,0,3,0,0,0,0,0,4,0,0,0,0,0,0,0,0,0,0,0,7,4.4285714285714199,0]
["Mountain Transit Authority","Summersville","WV","3R05-017","3R05-30140","Independent Public Agency or Authority of Transit Service","Rural Reporter",0,9,"Cutaway",null,0,2,0,0,7,0,0,0,0,0,0,0,0,0,0,0,0,0,0,9,3.3333333333333299,0]
["Little Kanawha Transit Authority","Grantsville","WV","3R05-020","3R05-30162","Independent Public Agency or Authority of Transit Service","Rural Reporter",0,9,"Van",null,0,0,0,0,1,0,0,4,0,0,1,0,0,0,0,0,0,0,0,6,7,0]
["City of Owensboro, dba: Owensboro Transit Systems","Owensboro","KY",4020,40020,"City, County or Local Government Unit or Department of Transportation","Reduced Reporter",70543,9,"Bus",null,1,0,0,0,0,0,2,1,0,3,1,0,0,0,5,0,0,0,0,13,10.4615384615384,213166.07689999999]
["Municipality of San Sebastian","San Sebastian","PR",4183,40183,"City, County or Local Government Unit or Department of Transportation","Reduced Reporter",306196,9,"Bus",null,0,0,0,0,0,0,0,0,1,0,0,0,0,0,0,0,0,0,0,1,8,42969]
["Center for Pan Asian Community Services, Inc.","Chamblee","GA",null,40246,"Private-Non-Profit Corporation","Reduced Reporter",4515419,9,"Minivan",null,0,0,0,1,0,0,0,0,0,0,0,0,0,0,0,0,0,0,0,1,3,55031]
["Murray County Transportation System","Chatsworth","GA","4R03-085","4R03-41040","City, County or Local Government Unit or Department of Transportation","Rural Reporter",0,9,"Cutaway",null,0,6,0,0,1,0,0,0,0,0,0,0,0,0,0,0,0,0,0,7,1.4285714285714199,0]
["Graham County","Robbinsville","NC","4R06-015","4R06-40913","City, County or Local Government Unit or Department of Transportation","Rural Reporter",0,9,"Sports Utility Vehicle",null,0,0,0,2,0,0,0,0,0,0,0,0,0,0,0,0,0,0,0,2,3,0]
["Choanoke Public Transportation Authority","Rich Square","NC","4R06-060","4R06-41131","Private-Non-Profit Corporation","Rural Reporter",0,9,"Cutaway",null,0,3,0,3,4,1,6,0,0,0,0,0,2,1,0,0,0,0,0,20,5.3,0]
["Jackson County","Sylva","NC","4R06-023","4R06-41167","City, County or Local Government Unit or Department of Transportation","Rural Reporter",0,9,"Automobiles (Service)",null,0,0,0,1,0,0,0,0,0,2,1,0,0,0,0,0,0,0,0,4]
["Steel Valley Regional Transit Authority","Steubenville","OH",5142,50142,"Independent Public Agency or Authority of Transit Service","Reduced Reporter",70889,9,"Minivan",null,0,0,3,0,0,0,0,0,0,0,0,0,0,0,0,0,0,0,0,3,2,5671]
["Bois Forte Reservation Tribal Council","Nett Lake","MN","5T06",55252,"Tribe","Reduced Reporter",0,9,"Van",null,0,0,0,0,0,0,0,0,0,0,1,0,0,0,0,0,0,0,0,1,10,0]
["Marshall County Commissioners","Plymouth","IN","5R02-012","5R02-50246","Private-Non-Profit Corporation","Rural Reporter",0,9,"Automobile",null,0,0,0,0,0,0,0,0,0,0,0,1,0,0,0,0,0,0,0,1,11,0]
["Mecosta Osceola Transit Authority","Big Rapids","MI","5R03-051","5R03-50416","Independent Public Agency or Authority of Transit Service","Rural Reporter",0,9,"Bus",null,1,0,0,2,5,1,0,0,0,0,0,0,0,0,0,0,0,0,0,9,3.4444444444444402,0]
["Athens Transit","Athens","OH","5R05-043","5R05-50278","Private-Non-Profit Corporation","Rural Reporter",0,9,"Bus",null,0,0,0,0,0,0,0,0,0,0,0,0,0,0,3,0,0,0,0,3,17.3333333333333,0]
["Pike County/Community Action Transit System","Piketon","OH","5R05-068","5R05-50464","Private-Non-Profit Corporation","Rural Reporter",0,9,"Cutaway",null,1,2,1,0,0,1,0,0,1,2,0,0,0,0,0,0,0,0,0,8,4.375,0]
["City of Port Arthur ","Port Arthur","TX",6013,60013,"City, County or Local Government Unit or Department of Transportation","Reduced Reporter",153150,9,"Trucks and other Rubber Tire Vehicles (Service)",null,0,0,0,0,0,0,1,0,1,2,0,1,0,1,0,0,0,0,0,6]
["St. Martin, Iberia, Lafayette Community Action Agency, dba: SMILE Community Action Agency","Lafayette","LA",6132,60132,"Private-Non-Profit Corporation","Reduced Reporter",252720,9,"Cutaway",null,0,0,0,0,0,0,2,0,0,0,0,0,0,0,0,0,0,0,0,2,6,160222]
["Evangeline Council on Aging","Ville Platte","LA","6R02-012","6R02-60169","Area Agency on Aging","Rural Reporter",0,9,"Van",null,0,0,0,0,0,1,1,0,0,0,0,0,0,0,0,0,0,0,0,2,5.5,0]
["Washita Valley Community Action Council","Chickasha","OK","6R04-001","6R04-60220","Private-Non-Profit Corporation","Rural Reporter",0,9,"Minivan",null,1,0,1,2,0,0,0,0,0,1,0,0,0,0,0,0,0,0,0,5,3.4,0]
["Marshalltown Municipal Transit","Marshalltown","IA","7R01-020","7R01-70092","Independent Public Agency or Authority of Transit Service","Rural Reporter",0,9,"Bus",null,0,0,0,0,0,1,1,0,1,1,0,0,0,0,0,2,3,0,0,9,16.6666666666666,0]
["Tri-Valley Developmental Services","Chanute","KS","7R02-064","7R02-70135","Private-Non-Profit Corporation","Rural Reporter",0,9,"Cutaway",null,0,0,0,0,4,1,2,1,0,0,0,1,0,0,0,0,0,0,0,9,5.6666666666666599,0]
["Webster County Public Transit","Red Cloud","NE","7R04-058","7R04-70159","City, County or Local Government Unit or Department of Transportation","Rural Reporter",0,9,"Automobile",null,0,0,0,0,0,0,0,0,0,0,0,0,0,0,1,0,0,0,0,1,19,0]
["City of Loveland, Colorado, dba: City of Loveland Transit","Loveland","CO",8025,80025,"City, County or Local Government Unit or Department of Transportation","Full Reporter",264465,9,"Automobiles (Service)",null,0,0,0,0,0,0,0,0,0,0,1,0,0,0,0,0,0,0,0,1]
["Town of Avon","Avon","CO",null,"8R01-88228","City, County or Local Government Unit or Department of Transportation","Rural Reporter",0,9,"Cutaway",null,0,0,0,1,0,1,0,0,0,0,0,0,0,0,0,0,0,0,0,2,4,0]
["Williston Council for the Aging ","Williston","ND","8R03-022","8R03-80160","Private-Non-Profit Corporation","Rural Reporter",0,9,"Cutaway",null,0,1,1,0,0,0,0,2,1,0,2,0,0,0,0,1,0,0,0,8,8.25,0]
["City of Mitchell - Palace Transit","Mitchell","SD","8R04-009","8R04-80116","City, County or Local Government Unit or Department of Transportation","Rural Reporter",0,9,"Cutaway",null,0,0,2,4,0,0,0,0,1,1,0,0,0,2,0,0,0,0,0,10,6.2,0]
["Carson Area Metropolitan Planning Organization","Carson City","NV",9215,90215,"MPO, COG or Other Planning Agency","Reduced Reporter",58079,9,"Minivan",null,0,0,0,0,0,0,0,0,0,0,0,1,0,0,0,0,0,0,0,1,11,54493]
["City of Delano","Delano","CA",9238,90238,"City, County or Local Government Unit or Department of Transportation","Reduced Reporter",54372,9,"Cutaway",null,0,1,0,3,4,0,0,1,0,0,1,1,0,0,0,0,0,0,0,11,4.9090909090909003,103793.0909]
["City of Shafter","Shafter","CA","9R02-029","9R02-91120","City, County or Local Government Unit or Department of Transportation","Rural Reporter",0,9,"Cutaway",null,0,0,0,4,0,0,0,0,0,0,0,0,0,0,0,0,0,0,0,4,3,0]
["City of Seattle, dba: Seattle Center Monorail","Seattle","WA",23,23,"City, County or Local Government Unit or Department of Transportation","Full Reporter",3059393,8,"Monorail Vehicle",null,0,0,0,0,0,0,0,0,0,0,0,0,0,0,0,0,0,8,0,8,56,1318870]
["Confederated Tribes of the Umatilla Indian Reservation","Pendleton","OR","0T06",119,"Tribe","Reduced Reporter",0,8,"Cutaway",null,1,0,1,2,0,0,0,1,0,1,0,0,0,0,0,0,0,0,0,6,4,0]
["Grant County Transportation District","John Day","OR","0R02-023","0R02-00313","City, County or Local Government Unit or Department of Transportation","Rural Reporter",0,8,"Bus",null,0,0,1,0,0,0,0,0,0,0,0,0,0,0,0,0,0,0,0,1,2,0]
["City of Canby","Canby","OR","0R02-025","0R02-00330","City, County or Local Government Unit or Department of Transportation","Rural Reporter",0,8,"Cutaway",null,0,0,3,0,0,0,2,0,2,1,0,0,0,0,1,0,0,0,0,9,6.55555555555555,0]
["Rural Resources Community Action","Colville","WA","0R03-032","0R03-00286","Private-Non-Profit Corporation","Rural Reporter",0,8,"Cutaway",null,0,2,0,0,0,3,0,0,0,3,0,0,0,0,0,0,0,0,0,8,5.5,0]
["Sunshine Transit Coalition","Talkeetna","AK",null,"0R04-00399","Private-Non-Profit Corporation","Rural Reporter",0,8,"Automobile",null,0,0,0,3,0,0,0,0,0,0,0,0,0,0,0,0,0,0,0,3,3,0]
["Greater Derry Salem Cooperative Alliance for Regional Transportation","Manchester","NH",1123,10123,"Independent Public Agency or Authority of Transit Service","Reduced Reporter",4181019,8,"Minivan",null,0,0,1,0,0,0,0,0,0,0,0,0,0,0,0,0,0,0,0,1,2,37904]
["BillyBey Ferry Company, LLC","New York","NY",2189,20189,"Private-For-Profit Corporation","Full Reporter",18351295,8,"Ferryboat",null,0,0,0,0,0,0,0,0,2,0,0,0,0,0,4,0,1,0,0,7,16,455601.57140000002]
["Weirton Transit Corporation","Weirton","WV",3066,30066,"Other Publicly-Owned or Privately Chartered Corporation","Reduced Reporter",70889,8,"Cutaway",null,0,3,0,1,0,0,0,2,0,1,0,0,0,0,0,0,0,0,0,7,4.1428571428571397,73650.857099999994]
["National Capital Region Transportation Planning Board","Washington","DC",3106,30106,"MPO, COG or Other Planning Agency","Reduced Reporter",4586770,8,"Van",null,0,2,3,2,0,0,0,0,0,0,0,0,0,0,0,0,0,0,0,7,2,37784.2857]
["Municipality of Barceloneta","Barceloneta","PR",4150,40150,"City, County or Local Government Unit or Department of Transportation","Reduced Reporter",71747,8,"Van",null,0,0,0,0,0,0,0,0,0,0,0,0,0,1,0,0,0,0,0,1,15,196007]
["Catawba Indian Nation","Rock Hill","SC","4T01",44907,"Tribe","Reduced Reporter",0,8,"School Bus",null,0,0,0,0,0,0,0,1,0,0,0,0,0,0,0,0,0,0,0,1,7,0]
["Blount County Commission","Oneonta","AL","4R01-003","4R01-40907","City, County or Local Government Unit or Department of Transportation","Rural Reporter",0,8,"Van",null,0,0,0,2,0,0,4,2,2,0,0,0,0,0,0,0,0,0,0,10,6,0]
["Martin County","Williamston","NC","4R06-029","4R06-40990","City, County or Local Government Unit or Department of Transportation","Rural Reporter",0,8,"Van",null,0,0,0,0,1,0,0,0,1,2,2,0,0,0,0,0,0,0,0,6,8.3333333333333304,0]
["Robeson County","Lumberton","NC","4R06-041","4R06-41187","City, County or Local Government Unit or Department of Transportation","Rural Reporter",0,8,"Cutaway",null,0,0,0,2,1,0,4,0,0,4,2,0,0,0,0,0,0,0,0,13,6.9230769230769198,0]
["City of Michigan , dba: Michigan City Transit","Michigan City","IN",5098,50098,"City, County or Local Government Unit or Department of Transportation","Reduced Reporter",66025,8,"Automobiles (Service)",null,0,0,0,0,0,0,0,0,0,0,1,0,0,0,0,0,0,0,0,1]
["City of Valparaiso","Valparaiso","IN",5183,50183,"City, County or Local Government Unit or Department of Transportation","Reduced Reporter",8608208,8,"Cutaway",null,0,0,3,2,0,0,0,0,0,0,0,0,0,0,0,0,0,0,0,5,2.4,164045.20000000001]
["Champaign County","Urbana","IL","5R01-032","5R01-50269","City, County or Local Government Unit or Department of Transportation","Rural Reporter",0,8,"Minivan",null,0,0,0,0,0,0,1,0,0,0,0,0,0,0,0,0,0,0,0,1,6,0]
["Kosciusko Area Bus Service","WARSAW","IN","5R02-016","5R02-50289","Private-Non-Profit Corporation","Rural Reporter",0,8,"Minivan",null,0,1,0,0,0,0,0,0,1,0,0,0,0,0,0,0,0,0,0,2,4.5,0]
["White County Public Transit","Monticello","IN","5R02-028","5R02-50444","Private-Non-Profit Corporation","Rural Reporter",0,8,"Automobile",null,0,1,0,0,0,0,0,0,0,0,0,0,0,0,0,0,0,0,0,1,1,0]
["Clinton County Commissioners","FRANKFORT","IN","5R02-003","5R02-50499","Private-Non-Profit Corporation","Rural Reporter",0,8,"Minivan",null,0,1,0,0,0,0,1,0,0,0,0,0,0,0,0,0,0,0,0,2,3.5,0]
["Winona, City of","Winona","MN","5R04-037","5R04-50349","Independent Public Agency or Authority of Transit Service","Rural Reporter",0,8,"Cutaway",null,1,1,3,0,3,0,0,0,0,2,0,0,0,0,0,0,0,0,0,10,3.7,0]
["Transportation Resources For Independent People of Sandusky (TRIPS)","Fremont","OH","5R05-070","5R05-50433","Private-Non-Profit Corporation","Rural Reporter",0,8,"Cutaway",null,5,4,3,2,0,0,0,0,0,0,0,0,0,0,0,0,0,0,0,14,1.1428571428571399,0]
["City of Watertown","Watertown","WI","5R06-044","5R06-50319","City, County or Local Government Unit or Department of Transportation","Rural Reporter",0,8,"Minivan",null,0,2,0,2,0,0,1,0,0,0,0,0,0,0,0,0,0,0,0,5,2.8,0]
["City of Wichita Falls , dba: Falls RIde","Wichita Falls","TX",6035,60035,"City, County or Local Government Unit or Department of Transportation","Reduced Reporter",99437,8,"Cutaway",null,0,0,0,2,0,0,0,0,0,0,0,0,0,0,0,0,0,0,0,2,3,74306]
["City of Grand Prairie , dba: Grand Connection","Grand Prairie","TX",6068,60068,"City, County or Local Government Unit or Department of Transportation","Reduced Reporter",5121892,8,"Cutaway",null,0,0,4,0,0,0,0,0,1,1,2,1,0,1,1,0,0,0,0,11,7.9090909090909003,136380.54550000001]
["Zia Therapy Center, Inc.","Alamogordo","NM","6R03-018",60206,"Private-Non-Profit Corporation","Reduced Reporter",128600,8,"Minivan",null,0,0,0,0,0,0,0,1,0,0,0,0,0,0,0,0,0,0,0,1,7,38026]
["St Mary Community Action Committee Assoc","Franklin","LA","6R02-023","6R02-60199","City, County or Local Government Unit or Department of Transportation","Rural Reporter",0,8,"Minivan",null,0,0,0,0,0,0,0,0,2,0,0,0,0,0,0,0,0,0,0,2,8,0]
["St Mary Community Action Committee Assoc","Franklin","LA","6R02-023","6R02-60199","City, County or Local Government Unit or Department of Transportation","Rural Reporter",0,8,"Cutaway",null,0,0,0,0,0,1,0,1,1,0,0,0,0,2,0,0,0,0,0,5,9.1999999999999993,0]
["Madison Voluntary Council on Aging","Tallulah","LA",null,"6R02-66268","Area Agency on Aging","Rural Reporter",0,8,"Minivan",null,0,1,0,2,2,0,0,0,0,0,0,0,0,0,0,0,0,0,0,5,3,0]
["City of Clovis","Clovis","NM","6R03-004","6R03-60225","City, County or Local Government Unit or Department of Transportation","Rural Reporter",0,8,"Automobiles (Service)",null,0,0,0,0,0,0,0,0,0,0,1,0,0,0,0,0,0,0,0,1]
["Jefferson County Service Organization","Oskaloosa","KS","7R02-008","7R02-70103","Private-Non-Profit Corporation","Rural Reporter",0,8,"Cutaway",null,0,0,0,0,0,0,0,0,1,0,0,0,0,0,0,0,0,0,0,1,8,0]
["Rosebud Sioux Tribe","Rosebud ","SD","8T09",88182,"Tribe","Reduced Reporter",0,8,"Van",null,0,0,1,0,0,1,0,0,0,0,0,0,0,0,0,0,0,0,0,2,3.5,0]
["Rosebud Sioux Tribe","Rosebud ","SD","8T09",88182,"Tribe","Reduced Reporter",0,8,"Cutaway",null,0,0,0,0,0,0,0,0,0,0,0,0,0,0,1,0,0,0,0,1,16,0]
["Southwest Transportation Services","Bowman","ND","8R03-017","8R03-80268","Private-Non-Profit Corporation","Rural Reporter",0,8,"Cutaway",null,0,0,0,0,0,1,0,0,0,0,0,0,0,0,1,0,0,0,0,2,10.5,0]
["Mariposa County Transit","Mariposa","CA","9R02-094","9R02-91082","City, County or Local Government Unit or Department of Transportation","Rural Reporter",0,8,"Minivan",null,0,1,0,0,0,0,0,2,0,0,0,0,0,0,0,0,0,0,0,3,5,0]
["Mariposa County Transit","Mariposa","CA","9R02-094","9R02-91082","City, County or Local Government Unit or Department of Transportation","Rural Reporter",0,8,"Cutaway",null,0,0,0,0,0,0,0,2,0,1,0,0,0,0,0,0,0,0,0,3,7.6666666666666599,0]
["Klamath Tribes","Chiloquin","OR","0T10",10,"Tribe","Reduced Reporter",0,7,"Automobile",null,0,0,0,0,0,0,0,0,1,0,0,0,0,0,0,0,0,0,0,1,8,0]
["Mt Si Senior Center","North Bend","WA","0R03-006","0R03-00317","Private-Non-Profit Corporation","Rural Reporter",0,7,"Minivan",null,0,0,0,0,0,0,0,0,0,0,0,1,0,1,0,0,0,0,0,2,13,0]
["Wahkiakum County Health & Human Services","Cathlamet","WA","0R03-056","0R03-00371","Independent Public Agency or Authority of Transit Service","Rural Reporter",0,7,"Minivan",null,0,0,0,0,1,0,0,0,0,0,0,0,2,0,0,0,0,0,0,3,9.3333333333333304,0]
["Houlton Band of Maliseet Indians","Littleton","ME","1T01",11140,"Tribe","Reduced Reporter",0,7,"Automobile",null,1,0,0,0,0,0,0,0,1,0,0,0,0,0,0,0,0,0,0,2,4,0]
["Newburgh Beacon Bus Corporation","New Windsor","NY",2148,20148,"Private Provider Reporting on Behalf of a Public Entity","Reduced Reporter",423566,7,"Cutaway",null,0,0,0,0,0,0,2,0,0,0,0,0,0,0,0,0,0,0,0,2,6,173561]
["City of Winchester","Winchester","VA",3099,30099,"City, County or Local Government Unit or Department of Transportation","Reduced Reporter",69449,7,"Cutaway",null,0,0,4,0,0,0,0,0,0,0,2,0,0,0,0,0,0,0,0,6,4.6666666666666599,93102.833299999998]
["Municipality of Humacao","Humacao","PR",4126,40126,"City, County or Local Government Unit or Department of Transportation","Reduced Reporter",2148346,7,"Van",null,0,1,0,0,0,0,0,0,0,0,0,0,0,0,1,0,0,0,0,2,9.5,19198]
["Municipality of Humacao","Humacao","PR",4126,40126,"City, County or Local Government Unit or Department of Transportation","Reduced Reporter",2148346,7,"Minivan",null,0,0,0,0,0,0,0,0,0,0,0,0,0,0,1,0,0,0,0,1,16,48614]
["Puerto Rico Maritime Transport Authority ","Puerto Real","PR",4175,40175,"City, County or Local Government Unit or Department of Transportation","Full Reporter",2148346,7,"Trucks and other Rubber Tire Vehicles (Service)",null,0,0,2,2,0,0,0,11,0,0,0,1,0,6,0,0,0,6,0,28]
["City of Deerfield Beach, dba: Northeast Focal Point","Deerfield Beach","FL",null,40239,"City, County or Local Government Unit or Department of Transportation","Reduced Reporter",5502379,7,"Cutaway",null,0,0,0,3,1,1,0,2,1,0,0,0,0,0,0,0,0,0,0,8,5,67208.25]
["Dekalb County Commission","Fort Payne","AL","4R01-011","4R01-40986","City, County or Local Government Unit or Department of Transportation","Rural Reporter",0,7,"Van",null,2,0,0,0,2,0,3,0,0,0,0,0,0,0,0,0,0,0,0,7,3.71428571428571,0]
["Maysville Transit System","Maysville","KY","4R04-013","4R04-41032","City, County or Local Government Unit or Department of Transportation","Rural Reporter",0,7,"Cutaway",null,0,0,0,1,0,0,0,0,0,0,0,0,0,0,0,0,0,0,0,1,3,0]
["Hyde County Private Non-Profit Transp. Corp. Inc.","Swan Quarter","NC","4R06-022","4R06-41038","Private-Non-Profit Corporation","Rural Reporter",0,7,"Van",null,0,0,0,1,0,0,1,0,0,2,0,0,0,1,0,0,0,0,0,5,8.1999999999999993,0]
["Hyde County Private Non-Profit Transp. Corp. Inc.","Swan Quarter","NC","4R06-022","4R06-41038","Private-Non-Profit Corporation","Rural Reporter",0,7,"Minivan",null,0,0,0,1,0,0,0,0,0,0,0,0,0,0,0,0,0,0,0,1,3,0]
["Sault Ste. Marie Tribe of Chippewa Indians","Sault Ste. Marie","MI",null,50523,"Tribe","Reduced Reporter",0,7,"Automobile",null,0,0,15,0,0,0,0,0,0,0,0,0,0,0,0,0,0,0,0,15,2,0]
["Woodford County","Eureka","IL","5R01-041","5R01-50329","City, County or Local Government Unit or Department of Transportation","Rural Reporter",0,7,"Cutaway",null,0,2,0,0,2,0,0,1,0,1,0,1,0,0,0,0,0,0,0,7,5.2857142857142803,0]
["Rusk County Transit Commission","Ladysmith","WI","5R06-006","5R06-50295","Independent Public Agency or Authority of Transit Service","Rural Reporter",0,7,"Minivan",null,0,0,0,0,0,0,0,2,0,0,0,1,0,0,0,0,0,0,0,3,8.3333333333333304,0]
["City of Stevens Point","Stevens Point","WI","5R06-041","5R06-50359","City, County or Local Government Unit or Department of Transportation","Rural Reporter",0,7,"Bus",null,0,0,0,0,0,0,0,3,0,0,0,1,0,1,5,0,0,0,0,10,12.9,0]
["City of Lake Charles, dba: Lake Charles Transit System","Lake Charles","LA",6023,60023,"City, County or Local Government Unit or Department of Transportation","Reduced Reporter",143440,7,"Automobiles (Service)",null,2,0,0,0,0,0,1,0,0,0,1,0,0,0,0,0,0,0,0,4]
["Cameron Council on Aging, Inc","Lake Charles","LA","6R02-008","6R02-60235","Area Agency on Aging","Rural Reporter",0,7,"Cutaway",null,0,0,0,0,0,0,0,1,0,0,0,0,0,0,0,0,0,0,0,1,7,0]
["City of Bettendorf, dba: Bettendorf Transit System","Bettendorf","IA",7007,70007,"City, County or Local Government Unit or Department of Transportation","Reduced Reporter",280051,7,"Cutaway",null,0,0,5,0,0,0,0,0,0,0,0,0,0,0,0,0,0,0,0,5,2,260131]
["Prairie Band Potawatomi Nation","Mayetta","KS","7T02",77075,"Tribe","Reduced Reporter",0,7,"Bus",null,0,0,0,0,0,0,0,1,0,0,0,0,0,0,0,0,0,0,0,1,7,0]
["Lyon County Area Transportation","Emporia","KS","7R02-022","7R02-70248","City, County or Local Government Unit or Department of Transportation","Rural Reporter",0,7,"Minivan",null,0,0,0,0,1,0,0,0,0,0,0,0,0,0,0,0,0,0,0,1,4,0]
["Lyon County Area Transportation","Emporia","KS","7R02-022","7R02-70248","City, County or Local Government Unit or Department of Transportation","Rural Reporter",0,7,"Cutaway",null,1,0,1,0,0,0,4,0,0,0,0,0,0,0,0,0,0,0,0,6,4.3333333333333304,0]
["Cheyenne River Sioux Tribe","Eagle Butte","SD","8T02",88158,"Tribe","Reduced Reporter",0,7,"Cutaway",null,0,0,0,0,0,0,0,0,0,0,1,0,0,0,0,0,0,0,0,1,10,0]
["Dolores County Senior Services","Dove Creek","CO","8R01-048","8R01-80168","City, County or Local Government Unit or Department of Transportation","Rural Reporter",0,7,"Cutaway",null,1,0,0,1,0,0,0,0,0,0,0,0,1,0,0,0,0,0,0,3,5,0]
["Montezuma County Public Transportation","Cortez","CO","8R01-025","8R01-80201","City, County or Local Government Unit or Department of Transportation","Rural Reporter",0,7,"Minivan",null,0,0,0,0,0,1,0,1,0,0,1,0,0,1,0,0,0,0,0,4,9,0]
["Fergus County Council on Aging","Lewistown","MT","8R02-007","8R02-80236","City, County or Local Government Unit or Department of Transportation","Rural Reporter",0,7,"Minivan",null,0,1,1,0,0,0,0,0,0,0,0,0,1,0,0,0,0,0,0,3,5,0]
["Campbell County Senior Citizens Association Inc","Gillette","WY","8R05-003","8R05-80163","Private-Non-Profit Corporation","Rural Reporter",0,7,"Minivan",null,0,0,0,0,0,0,3,0,0,1,2,0,0,1,0,0,0,0,0,7,8.71428571428571,0]
["City of La Mirada , dba: La Mirada Transit ","La Mirada","CA",9024,90024,"City, County or Local Government Unit or Department of Transportation","Full Reporter",12150996,7,"Cutaway",null,0,0,0,0,0,0,0,0,0,7,0,3,0,0,0,0,0,0,0,10,9.6,103793]
["City of Show Low, dba: Four Seasons Connection","Show Low","AZ","9R01-003","9R01-91001","City, County or Local Government Unit or Department of Transportation","Rural Reporter",0,7,"Trucks and other Rubber Tire Vehicles (Service)",null,0,0,0,0,0,0,0,0,1,0,0,0,0,0,0,0,0,0,0,1]
["City of Show Low, dba: Four Seasons Connection","Show Low","AZ","9R01-003","9R01-91001","City, County or Local Government Unit or Department of Transportation","Rural Reporter",0,7,"Cutaway",null,0,0,1,4,0,0,1,0,0,1,0,0,0,0,0,0,0,0,0,7,4.1428571428571397,0]
["City of Glens Falls , dba: Greater Glens Falls Transit","Queensbury","NY",2120,20120,"City, County or Local Government Unit or Department of Transportation","Reduced Reporter",65443,6,"Trucks and other Rubber Tire Vehicles (Service)",null,0,0,0,0,0,0,0,0,1,0,0,0,0,0,0,0,0,0,0,1]
["City of Corning","Corning","NY","2R02-019","2R02-20941","City, County or Local Government Unit or Department of Transportation","Rural Reporter",0,6,"Cutaway",null,0,0,0,0,3,0,2,3,0,0,0,0,0,0,0,0,0,0,0,8,5.625,0]
["Borough of Pottstown, dba: Pottstown Area Rapid Transit ","Pottstown","PA",3077,30077,"City, County or Local Government Unit or Department of Transportation","Full Reporter",107682,6,"Automobiles (Service)",null,0,0,0,0,0,0,0,0,1,0,1,0,0,0,0,0,0,0,0,2]
["Municipality of Dorado","Dorado","PR",4198,40198,"City, County or Local Government Unit or Department of Transportation","Reduced Reporter",2148346,6,"Bus",null,0,0,0,0,0,0,0,3,0,2,0,0,0,0,1,1,0,0,0,7,11.285714285714199,192888.71429999999]
["Pike Area Transit System","Troy","AL","4R01-030","4R01-41129","City, County or Local Government Unit or Department of Transportation","Rural Reporter",0,6,"Bus",null,0,0,0,0,0,0,0,0,0,1,0,0,0,0,0,0,0,0,0,1,9,0]
["Forsyth County Public Transportation","Cumming","GA","4R03-005","4R03-41088","City, County or Local Government Unit or Department of Transportation","Rural Reporter",0,6,"Cutaway",null,0,1,0,5,0,0,0,0,0,0,0,0,0,0,0,0,0,0,0,6,2.6666666666666599,0]
["Swain County  Focal Point on Aging Inc","Bryson City","NC","4R06-046","4R06-41066","City, County or Local Government Unit or Department of Transportation","Rural Reporter",0,6,"Minivan",null,0,0,0,0,0,0,0,1,0,0,0,0,0,0,0,0,0,0,0,1,7,0]
["Swain County  Focal Point on Aging Inc","Bryson City","NC","4R06-046","4R06-41066","City, County or Local Government Unit or Department of Transportation","Rural Reporter",0,6,"Cutaway",null,0,0,0,0,0,0,0,0,0,0,0,0,0,0,0,1,0,0,0,1,22,0]
["Fulton County","Lewistown","IL","5R01-031","5R01-50304","City, County or Local Government Unit or Department of Transportation","Rural Reporter",0,6,"Cutaway",null,0,0,0,0,1,1,0,2,1,0,0,0,0,0,0,0,0,0,0,5,6.2,0]
["Wabash County Transit","WABASH","IN","5R02-030","5R02-50441","Private-Non-Profit Corporation","Rural Reporter",0,6,"Minivan",null,0,0,0,1,0,2,0,1,2,0,0,0,0,0,0,0,0,0,0,6,6,0]
["Greenville Transit","Greenville","MI","5R03-033","5R03-50404","City, County or Local Government Unit or Department of Transportation","Rural Reporter",0,6,"Bus",null,0,0,0,3,0,2,0,0,0,0,0,0,1,0,0,0,0,0,0,6,5.1666666666666599,0]
["City of Waupaca","Waupaca","WI","5R06-045","5R06-50336","City, County or Local Government Unit or Department of Transportation","Rural Reporter",0,6,"Automobile",null,0,0,0,0,0,0,0,0,1,0,0,0,0,0,0,0,0,0,0,1,8,0]
["City of Pine Bluff, dba: Pine Bluff Transit","Pine Bluff","AR",6034,60034,"City, County or Local Government Unit or Department of Transportation","Reduced Reporter",53495,6,"Minivan",null,0,0,0,1,0,0,1,0,0,0,1,0,0,0,0,0,0,0,0,3,6.3333333333333304,149831.6667]
["City of Hot Springs, dba: Hot Springs Intracity Transit","Hot Springs","AR",6105,60105,"City, County or Local Government Unit or Department of Transportation","Reduced Reporter",55121,6,"Trucks and other Rubber Tire Vehicles (Service)",null,0,0,1,0,0,0,0,0,0,0,0,0,0,0,1,0,0,0,0,2]
["Plaquemines Parish Government","Belle Chasse","LA",6127,60127,"City, County or Local Government Unit or Department of Transportation","Full Reporter",899703,6,"Cutaway",null,0,0,0,0,0,2,0,0,2,0,0,0,0,0,0,0,0,0,0,4,6.5,178743.5]
["Pueblo of Laguna, dba: Shaa'srk'a Transit Program","Laguna","NM","6T15",60620,"Tribe","Reduced Reporter",0,6,"Minivan",null,0,0,1,0,0,0,0,0,0,0,0,0,0,0,0,0,0,0,0,1,2,0]
["Kiowa Tribe","Carnegie","OK","6T06",66164,"Tribe","Reduced Reporter",0,6,"Minivan",null,0,0,0,0,0,0,1,0,0,0,0,0,0,0,0,0,0,0,0,1,6,0]
["South Central Regional Transit District","Las Cruces","NM",null,66283,"Independent Public Agency or Authority of Transit Service","Reduced Reporter",128600,6,"Cutaway",null,0,0,1,5,0,0,2,0,0,0,0,0,0,0,0,0,0,0,0,8,3.625,358082.75]
["Claiborne Parish Police Jury OCS","Homer","LA","6R02-009","6R02-60234","City, County or Local Government Unit or Department of Transportation","Rural Reporter",0,6,"Minivan",null,0,0,0,1,0,0,0,0,0,0,0,0,0,0,0,0,0,0,0,1,3,0]
["Golden Spread Rural Frontier Coalition","Clayton","NM","6R03-009","6R03-60244","Private-Non-Profit Corporation","Rural Reporter",0,6,"Van",null,0,0,0,0,0,0,0,0,2,0,0,0,0,0,0,0,0,0,0,2,8,0]
["Nemaha County Transit","Seneca","KS","7R02-009","7R02-70213","City, County or Local Government Unit or Department of Transportation","Rural Reporter",0,6,"Minivan",null,0,0,0,1,1,0,0,0,0,2,0,0,0,0,0,0,0,0,0,4,6.25,0]
["Harvey County Department on Aging","Newton","KS","7R02-077","7R02-70238","City, County or Local Government Unit or Department of Transportation","Rural Reporter",0,6,"Cutaway",null,0,0,0,0,0,0,0,1,0,0,1,0,0,0,0,0,0,0,0,2,8.5,0]
["Avera St.Anthony's Hospital","O Neill","NE","7R04-031","7R04-70220","Private-Non-Profit Corporation","Rural Reporter",0,6,"Cutaway",null,0,0,0,0,0,0,0,0,1,0,0,0,0,0,0,0,0,0,0,1,8,0]
["Crow Tribe of Indians","Crow Agency","MT","8T14",88188,"Tribe","Reduced Reporter",0,6,"Van",null,0,0,0,0,0,0,0,1,0,0,0,0,0,0,0,0,0,0,0,1,7,0]
["Teller Senior Coalition","Woodland Park","CO",null,"8R01-88230","Private-Non-Profit Corporation","Rural Reporter",0,6,"Van",null,0,1,0,0,0,0,0,0,0,0,0,0,0,0,0,0,0,0,0,1,1,0]
["Teller Senior Coalition","Woodland Park","CO",null,"8R01-88230","Private-Non-Profit Corporation","Rural Reporter",0,6,"Articulated Bus",null,0,1,0,0,0,0,0,0,0,0,0,0,0,0,0,0,0,0,0,1,1,0]
["Urban Transportation District of Dawson County","Glendive","MT","8R02-009","8R02-80166","City, County or Local Government Unit or Department of Transportation","Rural Reporter",0,6,"Cutaway",null,0,1,0,0,0,0,0,0,1,0,0,1,0,1,1,0,0,0,0,5,10,0]
["Cody Council on Aging, Inc.","Cody","WY","8R05-054","8R05-80264","Private-Non-Profit Corporation","Rural Reporter",0,6,"Automobile",null,0,0,0,0,0,1,0,0,0,0,0,0,0,0,0,0,0,0,0,1,5,0]
["City of Baldwin Park, dba: Baldwin Park Transit","Baldwin Park","CA",null,90251,"City, County or Local Government Unit or Department of Transportation","Reduced Reporter",12150996,6,"Cutaway",null,0,0,0,0,0,0,0,0,0,0,1,0,0,0,0,0,0,0,0,1,10,190659]
["City of Bell Gardens","Bell Gardens","CA",null,90253,"City, County or Local Government Unit or Department of Transportation","Reduced Reporter",12150996,6,"Cutaway",null,0,0,0,0,0,0,0,0,0,4,2,1,0,0,0,0,0,0,0,7,9.5714285714285694,210530.14290000001]
["City of Arvin","Arvin","CA","9R02-056","9R02-91027","City, County or Local Government Unit or Department of Transportation","Rural Reporter",0,6,"Automobiles (Service)",null,0,0,0,0,0,1,0,0,0,0,0,0,0,0,0,0,0,0,0,1]
["Town of Truckee","Truckee","CA","9R02-054","9R02-91101","City, County or Local Government Unit or Department of Transportation","Rural Reporter",0,6,"Cutaway",null,0,1,4,0,0,0,0,0,0,1,0,0,0,0,0,0,0,0,0,6,3,0]
["Gulkana Village Council","Gakona","AK","0T08",85,"Tribe","Reduced Reporter",0,5,"Sports Utility Vehicle",null,0,0,0,2,0,0,0,0,0,0,0,0,0,0,0,0,0,0,0,2,3,0]
["Cowlitz Indian Tribe","Longview","WA","0T07",127,"Tribe","Reduced Reporter",0,5,"Cutaway",null,0,0,0,0,0,0,0,0,0,1,0,0,0,0,0,0,0,0,0,1,9,0]
["SMART Transit","Lewiston","ID","0R01-007","0R01-00347","Private-Non-Profit Corporation","Rural Reporter",0,5,"Minivan",null,0,0,0,0,0,0,0,0,0,0,1,0,0,0,0,0,0,0,0,1,10,0]
["Mashantucket Pequot Tribal Nation","Mashantucket","CT","1T03",11152,"Tribe","Reduced Reporter",0,5,"Cutaway",null,2,0,5,0,0,0,0,0,0,0,2,0,3,1,0,0,0,0,0,13,6.0769230769230704,0]
["Gloversville City Hall","Gloversville","NY","2R02-025","2R02-20981","City, County or Local Government Unit or Department of Transportation","Rural Reporter",0,5,"Bus",null,0,0,0,3,0,0,0,0,0,1,3,0,0,0,0,0,0,0,0,7,6.8571428571428497,0]
["City of Anderson , dba: Electric City Transit","Anderson","SC",4081,40081,"City, County or Local Government Unit or Department of Transportation","Reduced Reporter",75702,5,"Trucks and other Rubber Tire Vehicles (Service)",null,0,0,1,0,0,0,0,0,0,1,0,0,0,0,0,0,0,0,0,2]
["Town of Davie","Davie","FL",null,40262,"City, County or Local Government Unit or Department of Transportation","Reduced Reporter",5502379,5,"Cutaway",null,0,0,0,0,1,2,5,0,0,0,0,0,1,0,0,0,0,0,0,9,6.2222222222222197,196402.44440000001]
["Birmingham Regional Paratransit Consortium","Birmingham","AL","4R01-017","4R01-41118","Private-Non-Profit Corporation","Rural Reporter",0,5,"Van",null,0,0,0,3,2,0,0,0,0,0,0,0,0,0,0,0,0,0,0,5,3.4,0]
["Haralson County Transit","Buchanan","GA","4R03-084","4R03-41085","City, County or Local Government Unit or Department of Transportation","Rural Reporter",0,5,"Cutaway",null,0,1,2,0,0,1,0,0,0,0,0,0,0,0,0,0,0,0,0,4,2.5,0]
["Transylvania County","Brevard","NC","4R06-047","4R06-41115","City, County or Local Government Unit or Department of Transportation","Rural Reporter",0,5,"Cutaway",null,0,0,0,0,0,0,1,0,1,0,1,0,0,0,0,0,0,0,0,3,8,0]
["City of Niles , dba: Niles Dial-A-Ride Transportation","Niles","MI",5038,50038,"City, County or Local Government Unit or Department of Transportation","Reduced Reporter",278165,5,"Trucks and other Rubber Tire Vehicles (Service)",null,0,0,0,0,0,0,0,0,0,0,1,0,0,0,0,0,0,0,0,1]
["M-1 Rail, dba: QLINE Detroit","Detroit","MI",5213,50213,"Private-Non-Profit Corporation","Full Reporter",3734090,5,"Streetcar Rail",null,0,6,0,0,0,0,0,0,0,0,0,0,0,0,0,0,0,0,0,6,1,41540]
["Madison County Council of Governments","Anderson","IN","5R02-013","5R02-50272","MPO, COG or Other Planning Agency","Rural Reporter",0,5,"Cutaway",null,2,2,2,0,0,0,0,0,5,0,0,0,0,0,0,0,0,0,0,11,4.1818181818181799,0]
["Ontonagon County Public Transit","Ontonagon","MI","5R03-057","5R03-50371","City, County or Local Government Unit or Department of Transportation","Rural Reporter",0,5,"Trucks and other Rubber Tire Vehicles (Service)",null,0,0,0,0,0,0,1,0,1,0,0,0,0,0,0,0,0,0,0,2]
["Pioneer Resources - Muskegon","Muskegon","MI",null,"5R03-55323","Private-Non-Profit Corporation","Rural Reporter",0,5,"Van",null,0,5,0,0,0,0,0,0,0,0,0,0,0,0,0,0,0,0,0,5,1,0]
["Pioneer Resources - Muskegon","Muskegon","MI",null,"5R03-55323","Private-Non-Profit Corporation","Rural Reporter",0,5,"Cutaway",null,0,4,0,5,0,4,0,0,0,0,0,0,0,0,0,0,0,0,0,13,3,0]
["City of Baraboo","Baraboo","WI","5R06-009","5R06-50318","City, County or Local Government Unit or Department of Transportation","Rural Reporter",0,5,"Minivan",null,1,1,0,1,3,0,0,0,0,0,0,0,0,0,0,0,0,0,0,6,2.6666666666666599,0]
["Seminole Nation Public Transit","Wewoka","OK","6T12",66158,"Tribe","Reduced Reporter",0,5,"Cutaway",null,0,0,2,0,0,0,0,1,0,0,0,0,0,0,0,0,0,0,0,3,3.6666666666666599,0]
["Caldwell Parish Council on Aging","Columbia","LA","6R02-007","6R02-60209","Area Agency on Aging","Rural Reporter",0,5,"Cutaway",null,1,0,0,0,0,2,0,1,0,0,0,0,0,0,0,0,0,0,0,4,4.25,0]
["Friends of Elder Citizens-Jackson and Matagorda","Palacios","TX",null,"6R05-66278","Subsidiary Unit of a Transit Agency, Reporting Separately","Rural Reporter",0,5,"Minivan",null,0,0,0,0,0,0,0,0,0,0,0,0,2,0,0,0,0,0,0,2,12,0]
["Cowley County Council on Aging, Inc.","Winfield","KS","7R02-075","7R02-70235","Private-Non-Profit Corporation","Rural Reporter",0,5,"Cutaway",null,0,0,0,0,1,1,0,0,0,0,0,0,0,0,0,0,0,0,0,2,4.5,0]
["Multi Community Diversified Services, Inc.","McPherson","KS",null,"7R02-77083","Private-Non-Profit Corporation","Rural Reporter",0,5,"Minivan",null,1,0,0,0,1,1,1,0,0,0,0,0,0,0,0,0,0,0,0,4,3.75,0]
["Chappell Senior Center","Chappell","NE","7R04-017","7R04-70110","Private-Non-Profit Corporation","Rural Reporter",0,5,"Minivan",null,0,1,0,0,0,0,1,0,1,0,0,0,0,0,0,0,0,0,0,3,5,0]
["Chase County","Imperial","NE","7R04-009","7R04-70128","City, County or Local Government Unit or Department of Transportation","Rural Reporter",0,5,"Cutaway",null,0,0,0,1,0,0,1,0,1,0,0,0,0,0,0,0,0,0,0,3,5.6666666666666599,0]
["City of Columbus Transit","Columbus","NE","7R04-046","7R04-70214","City, County or Local Government Unit or Department of Transportation","Rural Reporter",0,5,"Cutaway",null,0,1,0,0,0,1,0,0,0,0,0,0,0,0,0,0,0,0,0,2,3,0]
["Trenton Indian Service Area Aging Program","Trenton","ND","8R03-019",80266,"Tribe","Reduced Reporter",0,5,"Minivan",null,0,0,0,2,3,0,0,0,0,0,0,0,0,0,0,0,0,0,0,5,3.6,0]
["Spirit Lake Tribe","Fort Totten","ND","8T11",88128,"Tribe","Reduced Reporter",0,5,"Bus",null,0,1,0,0,0,0,0,0,0,0,0,0,0,0,0,0,0,0,0,1,1,0]
["Wet Mountain Valley Rotary Community Service Inc., dba: Wet Mountain Valley Rotary Community Services Inc.","Westcliffe","CO","8R01-036","8R01-80118","Private-Non-Profit Corporation","Rural Reporter",0,5,"Cutaway",null,0,0,0,0,0,0,0,0,0,0,0,0,0,0,1,0,0,0,0,1,16,0]
["Pembina County Meals and Transportation","Drayton","ND","8R03-014","8R03-80129","Private-Non-Profit Corporation","Rural Reporter",0,5,"Minivan",null,0,1,0,0,2,0,0,0,1,0,0,0,1,0,0,0,0,0,0,5,5.8,0]
["Golden Valley/Billings County Council On Aging","Beach","ND","8R03-002","8R03-80270","Private-Non-Profit Corporation","Rural Reporter",0,5,"Automobile",null,0,0,0,0,0,0,1,0,0,0,0,0,0,0,0,0,0,0,0,1,6,0]
["South Big Horn Senior Citizens, Inc.","Greybull","WY","8R05-035","8R05-80120","Private-Non-Profit Corporation","Rural Reporter",0,5,"Minivan",null,0,0,2,1,1,0,0,0,0,0,1,0,0,0,0,0,0,0,0,5,4.2,0]
["Converse County Aging Services","Douglas","WY","8R05-024","8R05-80216","Private-Non-Profit Corporation","Rural Reporter",0,5,"Minivan",null,0,0,0,1,0,0,0,0,0,0,0,0,0,0,0,0,0,0,0,1,3,0]
["City of Manteca, dba: Manteca Transit","Manteca","CA",9217,90217,"City, County or Local Government Unit or Department of Transportation","Reduced Reporter",83578,5,"Cutaway",null,0,0,0,0,0,0,0,5,2,0,0,0,0,0,0,0,0,0,0,7,7.2857142857142803,196161.14290000001]
["City of South Pasadena","South Pasadena","CA",null,90292,"City, County or Local Government Unit or Department of Transportation","Reduced Reporter",12150996,5,"Trucks and other Rubber Tire Vehicles (Service)",null,0,0,1,0,0,0,0,0,0,0,0,0,0,0,0,0,0,0,0,1]
["Yavapai Regional Transit","Chino Valley","AZ",null,"9R01-99419","Private-Non-Profit Corporation","Rural Reporter",0,5,"Cutaway",null,1,0,1,1,1,0,0,0,0,0,0,2,0,0,0,0,0,0,0,6,5.1666666666666599,0]
["Lassen Transit Service Agency","Susanville","CA","9R02-021","9R02-91098","City, County or Local Government Unit or Department of Transportation","Rural Reporter",0,5,"Over-the-road Bus",null,0,0,0,0,0,0,0,0,0,0,0,0,0,0,1,0,0,0,0,1,18,0]
["Lyon County Human Services","Silver Springs","NV","9R04-012","9R04-91113","City, County or Local Government Unit or Department of Transportation","Rural Reporter",0,5,"Cutaway",null,0,0,0,0,0,0,0,0,3,0,0,0,0,0,0,0,0,0,0,3,8,0]
["Confederated Tribes of the Colville Indian Reservation","Nespelem","WA","0T04",4,"Tribe","Reduced Reporter",0,4,"Ferryboat",null,0,0,0,0,0,0,0,0,0,0,0,0,0,0,0,0,0,1,0,1,37,0]
["South Clackamas Transportation District","Molalla","OR","0R02-008","0R02-00301","Independent Public Agency or Authority of Transit Service","Rural Reporter",0,4,"Cutaway",null,3,0,2,0,1,0,0,0,0,0,0,0,0,0,0,0,0,0,0,6,1.3333333333333299,0]
["Glacier Valley Transit","Girdwood","AK","0R04-011","0R04-00345","Private-Non-Profit Corporation","Rural Reporter",0,4,"Cutaway",null,1,1,0,1,0,0,0,1,0,0,0,0,0,0,0,0,0,0,0,4,2.75,0]
["Blooms Bus Lines, Inc.","Taunton","MA",null,11159,"Private-For-Profit Corporation","Reduced Reporter",4181019,4,"Trucks and other Rubber Tire Vehicles (Service)",null,0,0,0,0,0,0,0,0,0,1,0,0,0,0,0,0,0,0,0,1]
["First Transit - Steuben","Elmira","NY","2R02-022","2R02-20946","City, County or Local Government Unit or Department of Transportation","Rural Reporter",0,4,"Bus",null,0,0,0,0,0,0,0,3,0,0,1,0,0,0,0,0,0,0,0,4,7.75,0]
["Municipality of Gurabo","Gurabo","PR",4123,40123,"City, County or Local Government Unit or Department of Transportation","Reduced Reporter",2148346,4,"Automobiles (Service)",null,0,0,0,0,0,0,0,0,1,0,0,0,0,0,0,0,0,0,0,1]
["City of Guntersville","Guntersville","AL","4R01-023","4R01-41009","City, County or Local Government Unit or Department of Transportation","Rural Reporter",0,4,"Van",null,0,1,0,0,2,0,0,0,2,0,0,0,0,0,0,0,0,0,0,5,5,0]
["Taylor County Transit","Butler","GA","4R03-047","4R03-41077","City, County or Local Government Unit or Department of Transportation","Rural Reporter",0,4,"Cutaway",null,0,2,1,0,0,0,0,0,0,0,0,0,0,0,0,0,0,0,0,3,1.3333333333333299,0]
["City of East Chicago, dba: East Chicago Transit","East Chicago","IN",5042,50042,"City, County or Local Government Unit or Department of Transportation","Reduced Reporter",8608208,4,"Bus",null,0,0,0,0,0,0,0,0,1,0,0,2,2,0,0,0,0,0,0,5,10.8,324503]
["New Castle Community Transit System","New Castle","IN","5R02-015","5R02-50358","City, County or Local Government Unit or Department of Transportation","Rural Reporter",0,4,"Minivan",null,0,0,0,0,0,0,0,0,1,0,0,0,0,0,0,0,0,0,0,1,8,0]
["City of Seymour","Seymour","IN","5R02-018","5R02-50501","City, County or Local Government Unit or Department of Transportation","Rural Reporter",0,4,"Cutaway",null,0,0,5,3,0,0,0,0,0,0,0,0,0,0,0,0,0,0,0,8,2.375,0]
["Key Opportunities","Hillsdale","MI",null,"5R03-55440","Private-Non-Profit Corporation","Rural Reporter",0,4,"Bus",null,0,0,0,0,0,0,0,1,0,1,0,0,0,0,0,0,0,0,0,2,8,0]
["City of Viroqua","Viroqua","WI","5R06-042","5R06-50266","City, County or Local Government Unit or Department of Transportation","Rural Reporter",0,4,"Cutaway",null,0,0,0,0,0,0,0,1,0,0,0,0,0,0,0,0,0,0,0,1,7,0]
["City of Guymon","Guymon","OK","6R04-012","6R04-60181","City, County or Local Government Unit or Department of Transportation","Rural Reporter",0,4,"Cutaway",null,0,0,0,0,0,0,0,0,1,2,2,0,2,1,0,0,0,0,0,8,10.375,0]
["City of Great Bend/Commission on Aging","Great Bend","KS","7R02-087","7R02-70123","City, County or Local Government Unit or Department of Transportation","Rural Reporter",0,4,"Cutaway",null,0,0,0,1,0,0,2,0,0,0,0,0,0,0,0,0,0,0,0,3,5,0]
["Harper County Department on Aging","Anthony","KS","7R02-083","7R02-70228","City, County or Local Government Unit or Department of Transportation","Rural Reporter",0,4,"Cutaway",null,0,0,0,1,0,0,1,0,0,0,0,0,0,0,0,0,0,0,0,2,4.5,0]
["City Of Sidney ","Sidney","NE","7R04-010","7R04-70074","City, County or Local Government Unit or Department of Transportation","Rural Reporter",0,4,"Cutaway",null,0,1,0,0,0,1,0,0,2,0,0,0,0,0,0,0,0,0,0,4,5.5,0]
["Oakland Heights","Oakland","NE","7R04-006","7R04-70124","Private-Non-Profit Corporation","Rural Reporter",0,4,"Minivan",null,0,1,0,0,0,0,0,1,0,0,0,0,0,0,0,0,0,0,0,2,4,0]
["Ogallala Transit System","Ogallala","NE","7R04-034","7R04-70127","City, County or Local Government Unit or Department of Transportation","Rural Reporter",0,4,"Cutaway",null,0,1,0,0,0,1,1,0,0,0,0,0,0,0,0,0,0,0,0,3,4,0]
["Kimball/Banner Extension Service","Kimball","NE","7R04-035","7R04-70200","City, County or Local Government Unit or Department of Transportation","Rural Reporter",0,4,"Cutaway",null,0,0,1,0,0,0,0,0,0,0,0,0,0,0,0,0,0,0,0,1,2,0]
["Turtle Mountain Band of Chippewa Indian","Belcourt","ND","8T13",88146,"Tribe","Reduced Reporter",0,4,"Cutaway",null,0,0,0,0,0,0,0,0,0,0,0,0,0,0,1,0,0,0,0,1,19,0]
["Lower Brule Sioux Tribe","Lower Brule","SD","8T06",88176,"Tribe","Reduced Reporter",0,4,"Cutaway",null,0,0,0,1,0,1,1,0,0,0,0,0,0,0,0,0,0,0,0,3,4.6666666666666599,0]
["Powder River County","Broadus","MT","8R02-017","8R02-80167","City, County or Local Government Unit or Department of Transportation","Rural Reporter",0,4,"Van",null,0,0,0,0,0,0,0,0,1,0,0,0,0,0,0,0,0,0,0,1,8,0]
["Niobrara Senior Center, Inc.","Lusk","WY","8R05-041","8R05-80217","Private-Non-Profit Corporation","Rural Reporter",0,4,"Cutaway",null,0,0,0,0,0,0,0,1,0,0,0,0,0,0,0,0,0,0,0,1,7,0]
["Eppson Center for Seniors","Laramie","WY","8R05-005","8R05-80252","Private-Non-Profit Corporation","Rural Reporter",0,4,"Automobile",null,0,0,0,0,0,0,0,0,0,0,0,0,0,1,0,0,0,0,0,1,15,0]
["Washakie County Senior Citizens Center","Worland","WY",null,"8R05-88224","Private-Non-Profit Corporation","Rural Reporter",0,4,"Cutaway",null,0,0,0,0,0,0,0,0,0,0,0,0,0,1,0,0,0,0,0,1,13,0]
["City of Bellflower","Bellflower","CA",null,90254,"City, County or Local Government Unit or Department of Transportation","Reduced Reporter",12150996,4,"Cutaway",null,0,0,0,0,0,0,0,0,0,0,2,0,2,0,0,0,0,0,0,4,11,269414.5]
["Susanville Indian Rancheria","Susanville","CA","9T08",99256,"Tribe","Reduced Reporter",0,4,"Van",null,1,0,0,0,0,0,0,0,0,0,0,0,0,0,0,0,0,0,0,1,0,0]
["Hopi Tribe, dba: Hopi Senom Transit","Kykotsmovi","AZ","9T24",99382,"Tribe","Reduced Reporter",0,4,"Bus",null,0,1,0,0,0,0,0,0,0,0,0,0,0,0,0,0,0,0,0,1,1,0]
["Glenn Transit Service","Willows","CA","9R02-009","9R02-91088","Independent Public Agency or Authority of Transit Service","Rural Reporter",0,4,"Cutaway",null,0,0,0,0,0,0,0,0,0,5,0,0,0,0,0,0,0,0,0,5,9,0]
["Lincoln County Transportation","Panaca","NV","9R04-005","9R04-91022","City, County or Local Government Unit or Department of Transportation","Rural Reporter",0,4,"Van",null,0,1,0,0,0,0,0,0,0,0,0,0,0,1,0,0,0,0,0,2,7.5,0]
["Garfield County Transportation Program","Pomeroy","WA","0R03-010","0R03-00282","City, County or Local Government Unit or Department of Transportation","Rural Reporter",0,3,"Sports Utility Vehicle",null,0,0,0,0,0,0,1,0,0,0,0,0,0,0,0,0,0,0,0,1,6,0]
["Aroostook Band of Micmacs","Presque Isle ","ME","1T02",11146,"Tribe","Reduced Reporter",0,3,"Van",null,0,0,0,0,0,0,0,2,0,0,0,0,0,0,0,0,0,0,0,2,7,0]
["Airport Corridor Transportation Association","Pittsburgh","PA",null,30990,"Private-Non-Profit Corporation","Reduced Reporter",1733853,3,"Cutaway",null,0,1,0,1,0,0,0,0,1,0,2,0,0,0,0,0,0,0,0,5,6.4,162135.6]
["Municipality of Aguada","Aguada","PR",4114,40114,"City, County or Local Government Unit or Department of Transportation","Reduced Reporter",306196,3,"Van",null,0,1,0,0,0,0,0,0,1,0,0,0,0,0,0,0,0,0,0,2,4.5,53727.5]
["City of Hinesville, Georgia, dba: Liberty Transit","Hinesville","GA",4193,40193,"City, County or Local Government Unit or Department of Transportation","Reduced Reporter",51456,3,"Bus",null,0,0,0,0,0,0,0,0,8,0,0,0,0,0,0,0,0,0,0,8,8,138640]
["Peach County Transit","Fort Valley","GA","4R03-043","4R03-40910","City, County or Local Government Unit or Department of Transportation","Rural Reporter",0,3,"Cutaway",null,0,0,1,1,1,0,0,0,0,0,0,0,0,0,0,0,0,0,0,3,3,0]
["Chattooga County Transit","Summerville","GA","4R03-077","4R03-41012","City, County or Local Government Unit or Department of Transportation","Rural Reporter",0,3,"Cutaway",null,0,1,0,0,0,2,0,0,0,0,0,0,0,0,0,0,0,0,0,3,3.6666666666666599,0]
["Hancock County Transit","Sparta","GA","4R03-022","4R03-41062","City, County or Local Government Unit or Department of Transportation","Rural Reporter",0,3,"Cutaway",null,0,1,1,0,0,0,0,0,0,0,0,0,0,0,0,0,0,0,0,2,1.5,0]
["Gateway Community Services Organization","West Liberty","KY","4R04-025","4R04-40972","Private-Non-Profit Corporation","Rural Reporter",0,3,"Van",null,0,1,0,0,0,0,0,0,0,0,0,0,0,0,0,0,0,0,0,1,1,0]
["Gateway Community Services Organization","West Liberty","KY","4R04-025","4R04-40972","Private-Non-Profit Corporation","Rural Reporter",0,3,"Automobile",null,0,0,0,0,0,0,0,0,0,1,0,0,0,0,0,0,0,0,0,1,9,0]
["Hibbing, City of","Hibbing","MN","5R04-003","5R04-50332","Independent Public Agency or Authority of Transit Service","Rural Reporter",0,3,"Cutaway",null,0,0,2,0,2,0,0,0,0,0,0,0,0,0,0,0,0,0,0,4,3,0]
["Village of Plover","Plover","WI","5R06-031","5R06-50277","City, County or Local Government Unit or Department of Transportation","Rural Reporter",0,3,"Automobile",null,0,0,0,0,0,0,0,0,0,1,0,0,0,0,0,0,0,0,0,1,9,0]
["City of Whitewater","Whitewater","WI","5R06-048","5R06-50375","City, County or Local Government Unit or Department of Transportation","Rural Reporter",0,3,"Cutaway",null,0,0,1,0,0,0,0,0,0,0,0,0,0,0,0,0,0,0,0,1,2,0]
["Town of Red River","Red River","NM","6R03-015","6R03-60237","City, County or Local Government Unit or Department of Transportation","Rural Reporter",0,3,"Van",null,0,0,0,0,0,0,0,0,1,0,0,0,0,0,0,0,0,0,0,1,8,0]
["Winnebago Tribe of Nebraska","Winnebago","NE","7T04",70004,"Tribe","Reduced Reporter",0,3,"Van",null,0,0,0,0,1,0,0,0,1,0,0,0,0,0,0,0,0,0,0,2,6,0]
["Sedgwick County Transportation - Dept. on Aging","Wichita","KS",7054,"7R02-70054","City, County or Local Government Unit or Department of Transportation","Rural Reporter",0,3,"Van",null,1,0,0,0,0,0,0,0,0,0,0,0,0,0,0,0,0,0,0,1,0,0]
["Elk County","Howard","KS","7R02-073","7R02-70158","Private-Non-Profit Corporation","Rural Reporter",0,3,"Cutaway",null,0,1,0,0,0,0,0,0,0,0,0,0,0,0,0,0,0,0,0,1,1,0]
["City of Paola/Lakemary Center","Paola","KS","7R02-058","7R02-70178","Private-Non-Profit Corporation","Rural Reporter",0,3,"Minivan",null,0,0,3,1,0,1,0,0,0,0,0,0,0,2,0,0,0,0,0,7,6.2857142857142803,0]
["Rice County Council on Aging","Lyons","KS","7R02-084","7R02-70210","Private-Non-Profit Corporation","Rural Reporter",0,3,"Minivan",null,0,0,0,0,1,1,0,0,0,0,0,0,0,0,0,0,0,0,0,2,4.5,0]
["Fullerton Area Senior Center","Fullerton","NE","7R04-042","7R04-70095","Private-Non-Profit Corporation","Rural Reporter",0,3,"Cutaway",null,0,0,0,0,0,0,0,0,0,0,1,0,0,0,0,0,0,0,0,1,10,0]
["Southeast Nebraska Community Action Partnership","Humboldt","NE","7R04-048","7R04-70112","Private-Non-Profit Corporation","Rural Reporter",0,3,"Van",null,0,0,0,0,0,0,0,0,0,0,0,0,0,0,1,0,0,0,0,1,16,0]
["Morrill County Handi Bus","Bridgeport","NE","7R04-041","7R04-70203","City, County or Local Government Unit or Department of Transportation","Rural Reporter",0,3,"Minivan",null,0,1,0,0,0,0,0,0,0,0,0,0,0,0,0,0,0,0,0,1,1,0]
["Yankton Sioux Tribe","Wagner","SD","8T16",88194,"Tribe","Reduced Reporter",0,3,"Cutaway",null,0,0,0,0,0,0,0,1,0,0,0,0,0,0,0,0,0,0,0,1,7,0]
["City of Black Hawk","Black Hawk","CO","8R01-004","8R01-80119","City, County or Local Government Unit or Department of Transportation","Rural Reporter",0,3,"Cutaway",null,0,0,0,0,2,0,0,0,0,0,0,0,0,0,0,0,0,0,0,2,4,0]
["Fallon County ","Baker","MT",null,"8R02-88217","City, County or Local Government Unit or Department of Transportation","Rural Reporter",0,3,"Van",null,0,0,0,0,0,0,0,0,0,1,0,0,0,0,0,0,0,0,0,1,9,0]
["Powell County Public Transportation","Deer Lodge","MT",null,"8R02-88218","City, County or Local Government Unit or Department of Transportation","Rural Reporter",0,3,"Minivan",null,0,1,0,0,1,0,0,0,0,0,0,0,0,0,0,0,0,0,0,2,2.5,0]
["City of Brandon - Brandon City Transit","Madison","SD","8R04-005","8R04-80154","City, County or Local Government Unit or Department of Transportation","Rural Reporter",0,3,"Van",null,0,0,0,0,0,0,0,0,0,0,0,0,0,1,0,0,0,0,0,1,14,0]
["Spink County Public Transit","Redfield","SD","8R04-016","8R04-80297","Private-Non-Profit Corporation","Rural Reporter",0,3,"Minivan",null,0,0,0,0,0,0,0,0,0,0,0,0,0,1,0,0,0,0,0,1,15,0]
["Meeteetse Recreation District","Meeteetse","WY","8R05-042","8R05-80222","Private-Non-Profit Corporation","Rural Reporter",0,3,"Sports Utility Vehicle",null,0,0,0,0,0,0,0,0,0,0,0,0,0,1,0,0,0,0,0,1,15,0]
["Reno-Sparks Indian Colony","Reno","NV","9T11",90011,"Tribe","Reduced Reporter",0,3,"Cutaway",null,0,0,0,0,0,0,0,3,0,0,0,0,0,0,1,0,0,0,0,4,9.75,0]
["Town of Quartzsite","Quartzsite","AZ",null,"9R01-99437","City, County or Local Government Unit or Department of Transportation","Rural Reporter",0,3,"Cutaway",null,1,1,0,0,0,0,0,0,0,1,0,0,0,0,0,0,0,0,0,3,3.3333333333333299,0]
["City of Rio Vista, dba: Rio Vista Delta Breeze","Rio Vista","CA","9R02-032","9R02-91014","City, County or Local Government Unit or Department of Transportation","Rural Reporter",0,3,"Van",null,0,0,0,0,0,0,0,1,0,0,0,0,0,0,0,0,0,0,0,1,7,0]
["City of Guadalupe","GUADALUPE","CA","9R02-042","9R02-91043","City, County or Local Government Unit or Department of Transportation","Rural Reporter",0,3,"Van",null,0,0,1,0,0,0,0,0,0,0,1,0,0,0,0,0,0,0,0,2,6,0]
["Chickaloon Native Village","Chickaloon","AK","0T30",30,"Tribe","Reduced Reporter",0,2,"Minivan",null,0,0,0,0,0,0,0,1,0,0,0,0,0,0,0,0,0,0,0,1,7,0]
["Lummi Nation","Bellingham","WA","0T11",95,"Tribe","Reduced Reporter",0,2,"Cutaway",null,0,0,0,0,2,0,0,0,0,0,0,0,0,0,0,0,0,0,0,2,4,0]
["Shoshone County","Wallace","ID",null,"0R01-00404","City, County or Local Government Unit or Department of Transportation","Rural Reporter",0,2,"Van",null,0,0,0,0,0,0,0,0,0,1,0,0,0,0,0,0,0,0,0,1,9,0]
["City of Silverton","Silverton","OR","0R02-027","0R02-00300","City, County or Local Government Unit or Department of Transportation","Rural Reporter",0,2,"Cutaway",null,0,0,0,0,0,0,0,0,0,1,0,0,0,0,0,0,0,0,0,1,9,0]
["City of Beverly","Beverly","MA",1157,10179,"City, County or Local Government Unit or Department of Transportation","Reduced Reporter",4181019,2,"Cutaway",null,0,0,0,0,0,0,2,0,0,0,0,0,0,0,0,0,0,0,0,2,6,145748]
["Municipality of Catano","Catano","PR",4163,40163,"City, County or Local Government Unit or Department of Transportation","Reduced Reporter",2148346,2,"Cutaway",null,0,1,0,0,0,0,0,0,0,0,1,0,0,0,0,0,0,0,0,2,5.5,28040]
["City of Coral Springs","Coral Springs","FL",null,40253,"City, County or Local Government Unit or Department of Transportation","Reduced Reporter",5502379,2,"Cutaway",null,2,0,0,0,0,0,0,0,0,0,0,0,0,0,0,0,0,0,0,2,0,227080]
["Tift Transit System","Tifton","GA","4R03-064","4R03-40940","City, County or Local Government Unit or Department of Transportation","Rural Reporter",0,2,"Cutaway",null,0,2,0,0,0,0,0,0,0,0,0,0,0,0,0,0,0,0,0,2,1,0]
["Wheeler County Transit","Alamo","GA","4R03-075","4R03-41103","City, County or Local Government Unit or Department of Transportation","Rural Reporter",0,2,"Cutaway",null,0,0,1,1,0,0,0,0,0,0,0,0,0,0,0,0,0,0,0,2,2.5,0]
["Social Circle Area Transit","Social Circle","GA","4R03-014","4R03-41155","City, County or Local Government Unit or Department of Transportation","Rural Reporter",0,2,"Cutaway",null,0,0,1,0,0,0,1,0,0,0,0,0,0,0,0,0,0,0,0,2,4,0]
["Forest County Potawatomi Community","Crandon","WI","5T14",50014,"Tribe","Reduced Reporter",0,2,"Minivan",null,0,0,1,0,0,0,0,0,0,0,0,0,0,0,0,0,0,0,0,1,2,0]
["City of Buchanan, dba: Buchanan Dial-A-Ride","St. Joseph","MI","5R03-016",50243,"City, County or Local Government Unit or Department of Transportation","Reduced Reporter",278165,2,"Cutaway",null,0,0,3,0,0,0,0,0,0,0,0,0,0,0,0,0,0,0,0,3,2,427920]
["Grant County","Lancaster","WI","5R06-016","5R06-50286","City, County or Local Government Unit or Department of Transportation","Rural Reporter",0,2,"Minivan",null,1,1,0,0,0,1,0,0,0,0,1,0,0,0,0,0,0,0,0,4,4,0]
["City of Lake Mills","Lake Mills","WI","5R06-020","5R06-50435","City, County or Local Government Unit or Department of Transportation","Rural Reporter",0,2,"Minivan",null,1,0,0,0,0,0,0,0,0,0,0,0,0,0,0,0,0,0,0,1,0,0]
["City of Mauston","Mauston","WI","5R06-024","5R06-50513","City, County or Local Government Unit or Department of Transportation","Rural Reporter",0,2,"Minivan",null,0,1,1,0,0,0,0,0,0,0,0,1,0,0,0,0,0,0,0,3,4.6666666666666599,0]
["Santee Sioux Nation","Niobrara   ","NE","7T03",77069,"Tribe","Reduced Reporter",0,2,"Van",null,0,3,0,0,0,0,0,0,0,0,0,0,0,0,0,0,0,0,0,3,1,0]
["Rooks County Transportation Service","Plainville","KS","7R02-054","7R02-70088","City, County or Local Government Unit or Department of Transportation","Rural Reporter",0,2,"Cutaway",null,0,0,0,1,0,0,0,0,0,0,0,0,0,0,0,0,0,0,0,1,3,0]
["City of Wilson","Wilson","KS","7R02-039","7R02-70171","City, County or Local Government Unit or Department of Transportation","Rural Reporter",0,2,"Van",null,0,0,0,0,0,0,0,0,0,0,0,0,0,0,1,0,0,0,0,1,17,0]
["Kingman County Council on Aging","Kingaman","KS","7R02-080","7R02-70206","City, County or Local Government Unit or Department of Transportation","Rural Reporter",0,2,"Minivan",null,0,0,0,0,0,0,0,1,0,1,0,0,0,0,0,0,0,0,0,2,8,0]
["City of Russell","Russell","KS","7R02-053","7R02-70241","City, County or Local Government Unit or Department of Transportation","Rural Reporter",0,2,"Cutaway",null,0,0,1,0,0,0,0,0,1,0,0,0,0,0,0,0,0,0,0,2,5,0]
["City of Bloomfield","Bloomfield","MO","7R03-001","7R03-70067","City, County or Local Government Unit or Department of Transportation","Rural Reporter",0,2,"Van",null,0,0,0,0,0,0,0,0,0,0,1,0,0,0,0,0,0,0,0,1,10,0]
["City of El Dorado Springs","El Dorado Springs","MO","7R03-013","7R03-70177","City, County or Local Government Unit or Department of Transportation","Rural Reporter",0,2,"Minivan",null,0,0,0,0,0,0,1,0,0,0,0,0,0,0,0,0,0,0,0,1,6,0]
["Guide Rock","Guide Rock","NE","7R04-059","7R04-70098","City, County or Local Government Unit or Department of Transportation","Rural Reporter",0,2,"Minivan",null,0,0,0,0,0,0,0,1,0,0,0,0,0,0,0,0,0,0,0,1,7,0]
["Wolf Memorial Good Samaritan Center","Albion","NE","7R04-002","7R04-70202","Private-Non-Profit Corporation","Rural Reporter",0,2,"Minivan",null,0,0,0,1,0,0,0,0,0,0,0,0,0,0,0,0,0,0,0,1,3,0]
["Shoshone and Arapaho Tribes DOT","Fort Washakie","WY","8T15",80015,"Tribe","Reduced Reporter",0,2,"Cutaway",null,0,0,0,0,0,0,1,0,0,0,0,0,0,0,0,0,0,0,0,1,6,0]
["Fort Belknap Indian Community","Harlem","MT","8T05",88170,"Tribe","Reduced Reporter",0,2,"Bus",null,0,1,1,0,1,0,0,0,0,0,0,1,0,0,0,0,0,0,0,4,4.5,0]
["Dickey County Senior Citizens","Ellendale","ND","8R03-003","8R03-80130","Private-Non-Profit Corporation","Rural Reporter",0,2,"Minivan",null,0,0,0,0,0,0,0,0,0,0,1,0,0,0,0,0,0,0,0,1,10,0]
["Kenmare Wheels & Meals","Kenmare","ND","8R03-027","8R03-80196","Private-Non-Profit Corporation","Rural Reporter",0,2,"Cutaway",null,0,0,1,0,0,0,0,0,0,0,0,0,0,0,0,0,0,0,0,1,2,0]
["East Dakota Transit, Inc.","Madison","SD","8R04-008","8R04-80190","Private-Non-Profit Corporation","Rural Reporter",0,2,"Cutaway",null,0,1,0,0,0,0,0,0,0,0,0,0,0,3,0,0,0,0,0,4,11.5,0]
["City of Santa Fe Springs","Santa Fe Springs","CA",null,90290,"City, County or Local Government Unit or Department of Transportation","Reduced Reporter",12150996,2,"Cutaway",null,0,0,0,0,0,0,0,0,0,1,1,0,0,0,0,0,0,0,0,2,9.5,122546.5]
["Chemehuevi Indian Tribe","Havasu Lake ","CA","9T27",99316,"Tribe","Reduced Reporter",0,2,"Ferryboat",null,0,0,0,0,0,1,0,0,0,0,0,0,0,0,0,1,0,0,0,2,14.5,0]
["Pyramid Lake Paiute Tribe","Nixon","NV","9T31",99406,"Tribe","Reduced Reporter",0,2,"Cutaway",null,0,0,0,2,0,0,0,0,0,0,0,0,0,0,0,0,0,0,0,2,3,0]
["City of Escalon","Escalon","CA","9R02-061","9R02-91078","City, County or Local Government Unit or Department of Transportation","Rural Reporter",0,2,"Minivan",null,0,0,0,1,0,0,0,0,0,0,0,0,0,0,0,0,0,0,0,1,3,0]
["Humboldt County, dba: Senior Citizens of Humboldt County, Inc","Winnemucca","NV","9R04-017","9R04-91023","City, County or Local Government Unit or Department of Transportation","Rural Reporter",0,2,"Cutaway",null,0,0,2,0,0,0,0,0,1,0,0,1,0,0,0,0,0,0,0,4,5.75,0]
["Lower Elwha Klallam Tribe","Port Angeles","WA",null,401,"Tribe","Reduced Reporter",0,1,"Van",null,0,0,0,0,0,0,0,0,0,0,0,0,0,1,0,0,0,0,0,1,13,0]
["Native Village of Unalakleet","Unalakleet","AK",null,420,"Tribe","Reduced Reporter",0,1,"Cutaway",null,0,1,0,0,0,0,0,0,0,0,0,0,0,0,0,0,0,0,0,1,1,0]
["Inter-Island Ferry Authority","Klawock","AK","0R04-010","0R04-00382","Independent Public Agency or Authority of Transit Service","Rural Reporter",0,1,"Trucks and other Rubber Tire Vehicles (Service)",null,0,0,0,0,0,0,0,0,0,1,0,0,2,1,0,0,0,0,0,4]
["Fulton County","Johnstown","NY","2R02-028","2R02-20964","City, County or Local Government Unit or Department of Transportation","Rural Reporter",0,1,"Over-the-road Bus",null,0,0,0,0,0,0,0,0,0,0,0,0,0,1,0,0,0,0,0,1,13,0]
["Oldham's Public Bus","LaGrange","KY",4218,40218,"City, County or Local Government Unit or Department of Transportation","Reduced Reporter",972546,1,"Cutaway",null,0,2,0,0,0,0,1,0,0,0,0,0,0,0,0,0,0,0,0,3,2.6666666666666599,41243]
["Poarch Band of Creek Indians","Atmore","AL","4T03",44919,"Tribe","Reduced Reporter",0,1,"Bus",null,0,1,0,0,1,0,0,0,0,0,0,0,0,0,0,0,0,0,0,2,2.5,0]
["Glasgow Transit System","Glasgow","KY","4R04-006","4R04-41083","City, County or Local Government Unit or Department of Transportation","Rural Reporter",0,1,"Cutaway",null,0,0,0,0,0,0,0,0,0,0,2,0,0,0,0,0,0,0,0,2,10,0]
["Fosston, City of","Fosston","MN","5R04-005","5R04-50430","Independent Public Agency or Authority of Transit Service","Rural Reporter",0,1,"Cutaway",null,0,0,0,0,0,0,0,1,0,0,0,0,0,0,0,0,0,0,0,1,7,0]
["Decatur County Transportation Bus","Oberlin","KS","7R02-119","7R02-70102","City, County or Local Government Unit or Department of Transportation","Rural Reporter",0,1,"Minivan",null,0,0,0,0,0,0,0,0,0,0,0,0,0,0,1,0,0,0,0,1,17,0]
["Hoisington Commission on Aging/City of Hoisington","Hoisington","KS","7R02-088","7R02-70115","City, County or Local Government Unit or Department of Transportation","Rural Reporter",0,1,"Cutaway",null,0,0,0,0,0,1,0,0,0,0,0,0,0,0,0,0,0,0,0,1,5,0]
["Grant County","Hyannis","NE","7R04-025","7R04-70079","City, County or Local Government Unit or Department of Transportation","Rural Reporter",0,1,"Cutaway",null,0,0,0,0,0,0,0,0,0,0,0,0,1,0,0,0,0,0,0,1,12,0]
["Southern Ute Indian Tribe","Ignacio","CO","8T17",80017,"Tribe","Reduced Reporter",0,1,"Cutaway",null,0,0,0,0,0,1,0,0,0,0,0,0,0,0,0,0,0,0,0,1,5,0]
["Mineral County Pioneer Council, Inc.","Superior","MT","8R02-029","8R02-80173","Private-Non-Profit Corporation","Rural Reporter",0,1,"Cutaway",null,0,0,0,0,0,0,0,0,1,0,0,0,0,0,0,0,0,0,0,1,8,0]
["Port of Administration Authority","Pago Pago","AS","9R06-001","9R06-91004","State Government Unit or Department of Transportation","Rural Reporter",0,1,"Ferryboat",null,0,0,1,0,0,0,0,0,0,0,0,0,0,0,0,0,0,0,0,1,2,0]
["Oneida County Hospital","Malad City","ID",null,"0R01-00422","Private-Non-Profit Corporation","Reduced Asset Reporter",0,0,"Cutaway",null,0,1,0,0,0,0,0,0,0,0,0,0,0,0,1,0,0,0,0,2,9,0]
["University of Idaho","Moscow","ID",null,"0R01-00429","University","Reduced Asset Reporter",0,0,"Cutaway",null,0,0,0,0,0,0,0,0,0,0,1,0,0,0,0,0,0,0,0,1,10,0]
["Tesh, Inc.","Coeur d'Alene","ID",null,"0R01-00433","Private-Non-Profit Corporation","Reduced Asset Reporter",0,0,"Automobile",null,0,0,0,0,0,0,1,0,0,4,0,1,0,0,1,1,0,0,0,8,11.75,0]
["Parma Senior Center","Parma","ID",null,"0R01-00436","Private-Non-Profit Corporation","Reduced Asset Reporter",0,0,"Minivan",null,0,0,0,0,1,0,0,1,1,0,0,0,0,0,1,0,0,0,0,4,9.5,0]
["New Plymouth Senior Center","New Plymouth","ID",null,"0R01-00442","Private-Non-Profit Corporation","Reduced Asset Reporter",0,0,"Cutaway",null,0,0,0,0,0,0,0,0,0,0,0,0,0,0,1,0,0,0,0,1,20,0]
["Gem County Senior Center","Emmett","ID",null,"0R01-00447","Private-Non-Profit Corporation","Reduced Asset Reporter",0,0,"Cutaway",null,0,0,0,1,0,0,0,0,0,0,0,0,0,0,0,0,0,0,0,1,3,0]
["Council Senior Center","Council","ID",null,"0R01-00448","Private-Non-Profit Corporation","Reduced Asset Reporter",0,0,"Cutaway",null,0,0,1,0,0,0,0,0,0,0,0,0,0,0,0,0,0,0,0,1,2,0]
["Bear Lake County Memorial Hospital","Montpelier","ID",null,"0R01-00453","City, County or Local Government Unit or Department of Transportation","Reduced Asset Reporter",0,0,"Minivan",null,0,0,0,0,1,0,0,0,0,0,0,0,0,0,0,0,0,0,0,1,4,0]
["Morrow County","Heppner","OR",null,"0R02-00409","City, County or Local Government Unit or Department of Transportation","Reduced Asset Reporter",0,0,"Cutaway",null,0,1,0,0,0,0,0,0,0,0,0,0,0,0,2,0,0,0,0,3,11.6666666666666,0]
["Sherman County","Moro","OR",null,"0R02-00410","City, County or Local Government Unit or Department of Transportation","Reduced Asset Reporter",0,0,"Van",null,0,2,0,0,1,2,0,1,0,0,0,0,0,0,0,0,0,0,0,6,3.8333333333333299,0]
["Gilliam County","Condon","OR",null,"0R02-00413","City, County or Local Government Unit or Department of Transportation","Reduced Asset Reporter",0,0,"Sports Utility Vehicle",null,0,0,0,2,1,0,1,0,0,0,0,0,0,0,0,0,0,0,0,4,4,0]
["Town of Ashford","Ashford","CT",null,"1R01-11177","City, County or Local Government Unit or Department of Transportation","Reduced Asset Reporter",0,0,"Cutaway",null,0,1,0,0,0,0,0,0,0,0,0,0,0,0,0,0,0,0,0,1,1,0]
["Town of Watertown","Watertown","CT",null,"1R01-11182","City, County or Local Government Unit or Department of Transportation","Reduced Asset Reporter",0,0,"Cutaway",null,0,0,0,0,1,0,0,0,0,0,1,0,0,0,0,0,0,0,0,2,7,0]
["Town of South Windsor","South Windsor","CT",null,"1R01-11190","City, County or Local Government Unit or Department of Transportation","Reduced Asset Reporter",0,0,"Cutaway",null,0,1,0,0,0,0,1,0,0,1,0,0,0,0,0,0,0,0,0,3,5.3333333333333304,0]
["Town of Somers","Somers","CT",null,"1R01-11191","City, County or Local Government Unit or Department of Transportation","Reduced Asset Reporter",0,0,"Cutaway",null,0,0,1,0,0,0,0,0,0,0,0,0,0,0,0,0,0,0,0,1,2,0]
["Town of Montville","Uncasville","CT",null,"1R01-11200","City, County or Local Government Unit or Department of Transportation","Reduced Asset Reporter",0,0,"Cutaway",null,0,0,0,0,0,1,0,0,0,0,0,0,0,0,0,0,0,0,0,1,5,0]
["Town of Groton","Groton","CT",null,"1R01-11208","City, County or Local Government Unit or Department of Transportation","Reduced Asset Reporter",0,0,"Cutaway",null,0,1,0,0,0,0,0,0,0,0,0,0,0,0,0,0,0,0,0,1,1,0]
["Town of Glastonbury","Glastonbury","CT",null,"1R01-11211","City, County or Local Government Unit or Department of Transportation","Reduced Asset Reporter",0,0,"Cutaway",null,0,0,1,0,0,0,0,0,0,0,0,0,0,0,0,0,0,0,0,1,2,0]
["Town of Avon (CT)","Avon","CT",null,"1R01-11220","City, County or Local Government Unit or Department of Transportation","Reduced Asset Reporter",0,0,"Cutaway",null,0,0,0,0,0,1,0,0,0,0,0,0,0,0,0,0,0,0,0,1,5,0]
["Norwalk Senior Center","Norwalk","CT",null,"1R01-11227","Private-Non-Profit Corporation","Reduced Asset Reporter",0,0,"Cutaway",null,0,0,0,0,0,1,0,0,0,0,0,0,0,0,0,0,0,0,0,1,5,0]
["Behavioral Health & Developmental Services , dba: Community Partners","Dover","NH",null,"1R04-11163","Private-Non-Profit Corporation","Reduced Asset Reporter",0,0,"Cutaway",null,0,0,1,0,0,2,0,0,1,0,0,0,0,0,0,0,0,0,0,4,5,0]
["Wentworth Senior Living Mark Wentworth Home","Portsmouth","NH",null,"1R04-11172","Private-Non-Profit Corporation","Reduced Asset Reporter",0,0,"Cutaway",null,0,0,0,0,0,0,0,1,0,0,0,0,0,0,0,0,0,0,0,1,7,0]
["Manadnock Adult Care Center","Jaffrey","NH",null,"1R04-11173","Private-Non-Profit Corporation","Reduced Asset Reporter",0,0,"Cutaway",null,0,0,1,0,0,2,0,0,0,0,0,0,0,0,0,0,0,0,0,3,4,0]
["City of Clifton","Clifton","NJ",null,"2R01-22935","City, County or Local Government Unit or Department of Transportation","Reduced Asset Reporter",0,0,"Van",null,0,0,0,0,0,0,0,0,0,0,1,0,0,0,0,0,0,0,0,1,10,0]
["County of Passaic","Wayne","NJ",null,"2R01-22938","City, County or Local Government Unit or Department of Transportation","Reduced Asset Reporter",0,0,"Van",null,0,0,0,0,0,0,0,0,0,0,0,0,0,0,1,0,0,0,0,1,16,0]
["County of Passaic","Wayne","NJ",null,"2R01-22938","City, County or Local Government Unit or Department of Transportation","Reduced Asset Reporter",0,0,"Bus",null,0,1,0,0,0,1,1,0,0,0,0,0,4,0,2,1,0,0,0,10,12.1,0]
["County of Union","Elizabeth","NJ",null,"2R01-22942","City, County or Local Government Unit or Department of Transportation","Reduced Asset Reporter",0,0,"Cutaway",null,0,10,8,4,0,10,4,3,2,2,3,2,1,0,0,0,0,0,0,49,4.71428571428571,0]
["Township of Cranford","Cranford","NJ",null,"2R01-22946","City, County or Local Government Unit or Department of Transportation","Reduced Asset Reporter",0,0,"Van",null,0,1,0,0,0,0,0,0,0,0,0,0,0,0,0,0,0,0,0,1,1,0]
["Township of Nutley","Nutley","NJ",null,"2R01-22948","City, County or Local Government Unit or Department of Transportation","Reduced Asset Reporter",0,0,"Minivan",null,0,0,0,0,0,0,0,0,0,0,0,0,0,1,0,0,0,0,0,1,13,0]
["Township of Union","Union","NJ",null,"2R01-22951","City, County or Local Government Unit or Department of Transportation","Reduced Asset Reporter",0,0,"Bus",null,0,0,0,0,0,0,0,0,1,0,0,0,0,0,0,2,0,0,0,3,18,0]
["Township of Union","Union","NJ",null,"2R01-22951","City, County or Local Government Unit or Department of Transportation","Reduced Asset Reporter",0,0,"Automobile",null,0,0,0,0,0,0,0,0,0,0,0,0,0,1,0,0,0,0,0,1,15,0]
["Township of Bloomfield","Bloomfield","NJ",null,"2R01-22953","City, County or Local Government Unit or Department of Transportation","Reduced Asset Reporter",0,0,"Bus",null,0,0,0,0,0,0,0,0,0,1,0,0,1,0,0,0,0,0,0,2,10.5,0]
["Township of Edison","Edison","NJ",null,"2R01-22955","City, County or Local Government Unit or Department of Transportation","Reduced Asset Reporter",0,0,"Cutaway",null,0,0,0,0,0,0,0,0,0,0,0,2,0,1,2,0,0,0,0,5,13.4,0]
["Township of Mahwah, Inc.","Mahwah","NJ",null,"2R01-22958","City, County or Local Government Unit or Department of Transportation","Reduced Asset Reporter",0,0,"Automobile",null,0,0,0,0,0,0,0,0,0,0,1,0,0,0,0,0,0,0,0,1,10,0]
["Township of Pequannock","Pompton Plains","NJ",null,"2R01-22962","City, County or Local Government Unit or Department of Transportation","Reduced Asset Reporter",0,0,"Automobile",null,0,1,1,0,0,0,0,0,0,0,0,0,0,0,0,0,0,0,0,2,1.5,0]
["City of Paterson","Paterson","NJ",null,"2R01-22968","City, County or Local Government Unit or Department of Transportation","Reduced Asset Reporter",0,0,"Cutaway",null,0,1,1,0,0,0,0,3,1,0,0,0,2,0,0,0,0,0,0,8,7,0]
["County of Hudson","Jersey City","NJ",null,"2R01-22969","City, County or Local Government Unit or Department of Transportation","Reduced Asset Reporter",0,0,"Cutaway",null,0,13,0,0,0,10,2,4,1,3,1,0,0,0,0,0,0,0,0,34,4.3529411764705799,0]
["Township of Brick","Brick","NJ",null,"2R01-22974","City, County or Local Government Unit or Department of Transportation","Reduced Asset Reporter",0,0,"Automobile",null,0,0,0,0,0,0,0,0,0,0,1,0,0,2,0,0,0,0,0,3,12.3333333333333,0]
["Township of Livingston","Livingston","NJ",null,"2R01-22975","City, County or Local Government Unit or Department of Transportation","Reduced Asset Reporter",0,0,"Minivan",null,0,0,0,0,0,0,0,0,0,0,0,1,0,0,0,0,0,0,0,1,11,0]
["Bucks County Transport, Inc.","Holicong","PA",null,"3R04-31030","Area Agency on Aging","Reduced Asset Reporter",0,0,"Cutaway",null,0,11,16,19,0,14,17,0,5,0,1,0,0,0,0,0,0,0,0,83,3.8795180722891498,0]
["Community Transit of Delaware County, Inc.","Eddystone","PA",null,"3R04-31033","Private-Non-Profit Corporation","Reduced Asset Reporter",0,0,"Trucks and other Rubber Tire Vehicles (Service)",null,0,2,0,0,0,0,1,0,0,0,0,0,0,0,0,0,0,0,0,3]
["Community Transit of Delaware County, Inc.","Eddystone","PA",null,"3R04-31033","Private-Non-Profit Corporation","Reduced Asset Reporter",0,0,"Automobiles (Service)",null,0,0,0,1,0,0,0,0,0,0,0,0,0,0,0,0,0,0,0,1]
["STEP, Inc.","Williamsport ","PA",null,"3R04-31036","Private-Non-Profit Corporation","Reduced Asset Reporter",0,0,"Minivan",null,0,6,2,0,0,0,2,0,0,0,0,0,0,0,0,0,0,0,0,10,2.2000000000000002,0]
["Pike County","Milford","PA",null,"3R04-31038","City, County or Local Government Unit or Department of Transportation","Reduced Asset Reporter",0,0,"Minivan",null,0,0,3,3,0,4,2,1,0,0,0,0,0,0,0,0,0,0,0,13,4.1538461538461497,0]
["Pike County","Milford","PA",null,"3R04-31038","City, County or Local Government Unit or Department of Transportation","Reduced Asset Reporter",0,0,"Cutaway",null,0,0,0,4,1,0,4,1,0,1,0,0,0,0,0,0,0,0,0,11,5.0909090909090899,0]
["Rover Community Transportation","Downingtown","PA",null,"3R04-31043","Private-For-Profit Corporation","Reduced Asset Reporter",0,0,"Cutaway",null,13,14,15,10,0,13,0,0,0,0,0,0,0,0,0,0,0,0,0,65,2.13846153846153,0]
["Somerset County","Somerset","PA",null,"3R04-31044","City, County or Local Government Unit or Department of Transportation","Reduced Asset Reporter",0,0,"Van",null,0,0,0,0,3,2,4,0,0,0,0,0,0,0,0,0,0,0,0,9,5.1111111111111098,0]
["Wood County Senior Citizens Association","Parkersburg","WV",null,"3R05-30991","Private-Non-Profit Corporation","Reduced Asset Reporter",0,0,"Cutaway",null,0,0,1,1,0,0,0,0,0,0,0,0,0,0,0,0,0,0,0,2,2.5,0]
["Raleigh County Community Action Association","Beckley","WV",null,"3R05-30999","Private-Non-Profit Corporation","Reduced Asset Reporter",0,0,"Cutaway",null,0,2,0,2,0,0,0,0,0,0,0,0,0,0,0,0,0,0,0,4,2,0]
["Monroe County Council on Aging","Lindside","WV",null,"3R05-31004","Private-Non-Profit Corporation","Reduced Asset Reporter",0,0,"Van",null,0,1,0,0,0,0,0,0,0,0,0,0,0,0,0,0,0,0,0,1,1,0]
["Jefferson County Council on Aging","Ranson","WV",null,"3R05-31010","Private-Non-Profit Corporation","Reduced Asset Reporter",0,0,"Minivan",null,0,1,0,1,0,0,0,0,0,0,0,0,0,0,0,0,0,0,0,2,2,0]
["Family Service Upper Ohio Valley","Wheeling","WV",null,"3R05-31015","Private-Non-Profit Corporation","Reduced Asset Reporter",0,0,"Minivan",null,0,2,2,0,0,0,0,0,0,0,0,0,0,0,0,0,0,0,0,4,1.5,0]
["Community Action of South Eastern WV (CASE)","Bluefield","WV",null,"3R05-31019","Private-Non-Profit Corporation","Reduced Asset Reporter",0,0,"Cutaway",null,0,0,1,0,0,0,0,0,0,0,0,0,0,0,0,0,0,0,0,1,2,0]
["Central WV Community Action, Inc.","Clarksburg","WV",null,"3R05-31023","Private-Non-Profit Corporation","Reduced Asset Reporter",0,0,"Minivan",null,0,0,1,0,0,0,0,0,0,0,0,0,0,0,0,0,0,0,0,1,2,0]
["Leslie, Knott, Letcher & Perry Community Action","Hazard","KY","4R04-008","4R04-41178","Private-Non-Profit Corporation","Reduced Asset Reporter",0,0,"Van",null,0,0,13,4,0,0,0,0,0,0,0,0,0,0,0,0,0,0,0,17,2.23529411764705,0]
["American Red Cross of West Michigan","Muskegon","MI",null,"5R03-55402","Private-Non-Profit Corporation","Reduced Asset Reporter",0,0,"Automobile",null,0,0,0,6,0,0,0,0,4,0,0,0,0,0,0,0,0,0,0,10,5,0]
["Wellspring Lutheran Services","Frankenmuth","MI",null,"5R03-55420","Private-Non-Profit Corporation","Reduced Asset Reporter",0,0,"Minivan",null,0,0,1,0,0,0,0,0,0,0,0,0,0,0,0,0,0,0,0,1,2,0]
["U.P. Community Services Inc.","Iron Mountain","MI",null,"5R03-55423","Private-Non-Profit Corporation","Reduced Asset Reporter",0,0,"Minivan",null,0,0,2,0,2,0,0,0,1,0,0,0,0,0,0,0,0,0,0,5,4,0]
["Presque Isle County Council on Aging","Posen","MI",null,"5R03-55427","Private-Non-Profit Corporation","Reduced Asset Reporter",0,0,"Van",null,0,0,0,0,1,0,0,0,0,0,0,0,0,0,0,0,0,0,0,1,4,0]
["Newaygo County Commission on Aging","White Cloud","MI",null,"5R03-55431","Private-Non-Profit Corporation","Reduced Asset Reporter",0,0,"Minivan",null,0,0,3,0,0,0,0,0,0,0,0,0,0,0,0,0,0,0,0,3,2,0]
["Milan Seniors for Healthy Living","Milan","MI",null,"5R03-55433","Private-Non-Profit Corporation","Reduced Asset Reporter",0,0,"Minivan",null,0,0,0,0,0,0,0,0,2,0,0,0,0,0,0,0,0,0,0,2,8,0]
["Marian E. Burch Adult Day Care & Rehabilitation Center","Battle Creek","MI",null,"5R03-55437","Private-Non-Profit Corporation","Reduced Asset Reporter",0,0,"Minivan",null,0,0,0,0,1,0,0,0,0,0,0,0,0,0,0,0,0,0,0,1,4,0]
["Lapeer Team Work, Inc.","Lapeer","MI",null,"5R03-55439","Private-Non-Profit Corporation","Reduced Asset Reporter",0,0,"Van",null,0,0,0,0,3,0,1,1,0,0,1,0,0,0,0,0,0,0,0,6,5.8333333333333304,0]
["Healthsource Saginaw, Inc.","Saginaw","MI",null,"5R03-55443","Private-Non-Profit Corporation","Reduced Asset Reporter",0,0,"Trucks and other Rubber Tire Vehicles (Service)",null,0,0,0,0,0,0,1,0,0,0,0,0,0,0,0,0,0,0,0,1]
["Goodwill Industries of Northern Wisconsin and Upper Michigan, Inc.","Calumet","MI",null,"5R03-55446","Private-Non-Profit Corporation","Reduced Asset Reporter",0,0,"Van",null,0,0,2,0,0,0,0,0,0,0,0,0,0,0,0,0,0,0,0,2,2,0]
["Georgetown Seniors, Inc","Jenison","MI",null,"5R03-55448","Private-Non-Profit Corporation","Reduced Asset Reporter",0,0,"Cutaway",null,0,2,0,0,0,0,0,0,0,0,0,0,0,0,0,0,0,0,0,2,1,0]
["Community Inclusive Recreation","Battle Creek","MI",null,"5R03-55451","Private-Non-Profit Corporation","Reduced Asset Reporter",0,0,"Cutaway",null,2,1,0,0,0,1,0,1,0,0,0,0,0,0,0,0,0,0,0,5,2.6,0]
["Adams Brown Counties Economic Opportunities, Inc.","Georgetown","OH",null,"5R05-55459","Private-Non-Profit Corporation","Reduced Asset Reporter",0,0,"Automobile",null,0,0,0,0,0,0,0,0,0,0,0,0,0,0,1,0,0,0,0,1,18,0]
["Adams County Senior Citizens Council, Inc","West Union","OH",null,"5R05-55461","Private-Non-Profit Corporation","Reduced Asset Reporter",0,0,"Van",null,0,0,0,0,0,0,0,1,0,0,0,0,0,0,0,0,0,0,0,1,7,0]
["Auglaize County Council on Aging ","Saint Marys","OH",null,"5R05-55464","Private-Non-Profit Corporation","Reduced Asset Reporter",0,0,"Minivan",null,0,0,0,1,0,0,0,0,0,0,0,0,0,0,2,0,0,0,0,3,12.3333333333333,0]
["Belmont County Board Of Developmental Disabilities","St. Clairsville","OH",null,"5R05-55465","City, County or Local Government Unit or Department of Transportation","Reduced Asset Reporter",0,0,"Cutaway",null,0,0,0,0,0,2,0,3,0,0,0,0,0,0,0,0,0,0,0,5,6.2,0]
["Country Neighbor Program, Inc.","Orwell","OH",null,"5R05-55470","Private-Non-Profit Corporation","Reduced Asset Reporter",0,0,"Van",null,0,0,0,0,0,0,0,1,1,0,0,0,0,0,0,0,0,0,0,2,7.5,0]
["Fairfield Center for disAbilities & Cerebral Palsy, Inc.","Lancaster","OH",null,"5R05-55472","Private-Non-Profit Corporation","Reduced Asset Reporter",0,0,"Van",null,0,0,0,0,0,0,0,0,1,0,0,0,0,0,0,0,0,0,0,1,8,0]
["FRS Transportation, Inc","Hillsboro","OH",null,"5R05-55474","Private-Non-Profit Corporation","Reduced Asset Reporter",0,0,"Cutaway",null,0,0,0,0,1,0,0,0,0,0,0,0,0,0,0,0,0,0,0,1,4,0]
["Guernsey County Senior Citizens Center, Inc.","Cambridge","OH",null,"5R05-55477","Private-Non-Profit Corporation","Reduced Asset Reporter",0,0,"Cutaway",null,0,0,1,0,0,0,0,0,0,0,0,0,0,0,0,0,0,0,0,1,2,0]
["Jackson County Board on Aging, Inc.","Jackson","OH",null,"5R05-55482","Private-Non-Profit Corporation","Reduced Asset Reporter",0,0,"Cutaway",null,0,0,0,1,0,0,1,0,0,0,0,0,1,0,0,0,0,0,0,3,7,0]
["Jeffco Workshop, Inc","Steubenville","OH",null,"5R05-55484","City, County or Local Government Unit or Department of Transportation","Reduced Asset Reporter",0,0,"Van",null,0,0,0,0,0,0,0,1,0,0,0,0,0,0,0,0,0,0,0,1,7,0]
["Lucy Idol Center","Vermilion","OH",null,"5R05-55487","Private-Non-Profit Corporation","Reduced Asset Reporter",0,0,"Van",null,0,0,0,0,0,0,0,0,1,0,0,0,0,0,0,0,0,0,0,1,8,0]
["Madison County Board of Developmental Disabilities","London","OH",null,"5R05-55488","City, County or Local Government Unit or Department of Transportation","Reduced Asset Reporter",0,0,"Cutaway",null,0,0,0,0,0,0,0,1,2,0,0,0,0,0,0,0,0,0,0,3,7.6666666666666599,0]
["O'Neill Senior Center","Marietta","OH",null,"5R05-55492","Private-Non-Profit Corporation","Reduced Asset Reporter",0,0,"Cutaway",null,0,1,0,1,0,1,0,1,0,0,0,0,0,0,0,0,0,0,0,4,4,0]
["Putnam County Council on Aging, Inc.","Ottawa","OH",null,"5R05-55494","Private-Non-Profit Corporation","Reduced Asset Reporter",0,0,"Van",null,0,0,0,0,0,0,0,0,0,0,0,0,0,1,0,0,0,0,0,1,14,0]
["Services for Aging, Inc.","Norwalk","OH",null,"5R05-55497","Private-Non-Profit Corporation","Reduced Asset Reporter",0,0,"Minivan",null,0,0,0,0,0,0,0,0,2,0,0,0,0,0,0,0,0,0,0,2,8,0]
["Mary McLeod-Bethune Intervention & Enrichment Center","Mansfield","OH",null,"5R05-55500","Private-Non-Profit Corporation","Reduced Asset Reporter",0,0,"Cutaway",null,0,0,0,0,0,0,0,1,1,0,0,0,0,0,0,0,0,0,0,2,7.5,0]
["United Senior Services","Springfield","OH",null,"5R05-55504","Private-Non-Profit Corporation","Reduced Asset Reporter",0,0,"Van",null,0,0,0,0,0,0,0,0,2,1,0,0,0,0,0,0,0,0,0,3,8.3333333333333304,0]
["Van Wert County Council on Aging"," Van Wert","OH",null,"5R05-55505","Private-Non-Profit Corporation","Reduced Asset Reporter",0,0,"Minivan",null,0,0,1,0,0,0,0,0,0,1,0,0,0,0,0,0,0,0,0,2,5.5,0]
["Woodland Centers, Inc.","Gallipolis","OH",null,"5R05-55510","Private-Non-Profit Corporation","Reduced Asset Reporter",0,0,"Minivan",null,0,0,0,2,0,1,0,0,1,0,0,1,0,0,0,0,0,0,0,5,6,0]
["County of Sauk","Baraboo","WI","5R06-058","5R06-50449","City, County or Local Government Unit or Department of Transportation","Reduced Asset Reporter",0,0,"Minivan",null,0,0,0,0,0,0,0,0,0,0,2,0,0,0,0,0,0,0,0,2,10,0]
["Aptiv, Inc.","La Crosse","WI",null,"5R06-55333","City, County or Local Government Unit or Department of Transportation","Reduced Asset Reporter",0,0,"Cutaway",null,0,0,0,0,0,0,0,0,7,0,0,0,0,0,0,0,0,0,0,7,8,0]
["Black River Industries, Inc.","Medford","WI",null,"5R06-55336","Private-Non-Profit Corporation","Reduced Asset Reporter",0,0,"Bus",null,0,0,1,0,0,0,0,0,0,0,0,0,0,0,0,0,0,0,0,1,2,0]
["County of Dodge","Juneau","WI",null,"5R06-55340","City, County or Local Government Unit or Department of Transportation","Reduced Asset Reporter",0,0,"Minivan",null,2,2,0,1,0,0,0,1,1,0,1,0,0,0,0,0,0,0,0,8,3.75,0]
["County of Marquette","Montello","WI",null,"5R06-55344","City, County or Local Government Unit or Department of Transportation","Reduced Asset Reporter",0,0,"Minivan",null,0,0,0,0,1,0,0,1,0,0,0,0,0,0,0,0,0,0,0,2,5.5,0]
["Diverse Options, Inc.","Ripon ","WI",null,"5R06-55349","Private-Non-Profit Corporation","Reduced Asset Reporter",0,0,"Cutaway",null,3,0,0,2,0,4,0,0,2,1,0,0,0,0,0,0,0,0,0,12,4.25,0]
["East Shore Industries, Inc.","Algoma","WI",null,"5R06-55350","Private-Non-Profit Corporation","Reduced Asset Reporter",0,0,"Cutaway",null,1,1,0,0,0,0,1,0,0,0,0,1,0,0,0,0,0,0,0,4,4.5,0]
["Highline Corporation","Hurley","WI",null,"5R06-55356","Private-Non-Profit Corporation","Reduced Asset Reporter",0,0,"Van",null,0,0,0,0,0,0,0,0,0,0,0,0,0,1,0,0,0,0,0,1,14,0]
["Hodan Community Services, Inc.","Mineral Point","WI",null,"5R06-55357","Private-Non-Profit Corporation","Reduced Asset Reporter",0,0,"Cutaway",null,2,2,0,0,0,0,2,1,7,0,0,0,0,0,0,0,0,0,0,14,5.5,0]
["New Hope Center, Inc.","Chilton","WI",null,"5R06-55363","Private-Non-Profit Corporation","Reduced Asset Reporter",0,0,"Van",null,0,0,0,0,0,0,0,0,0,0,0,0,0,1,0,0,0,0,0,1,13,0]
["North Central Health Care","Wausau","WI",null,"5R06-55368","Private-Non-Profit Corporation","Reduced Asset Reporter",0,0,"Minivan",null,0,0,0,0,0,0,0,0,0,0,1,0,0,0,0,0,0,0,0,1,10,0]
["United Community Center","Milwaukee ","WI",null,"5R06-55372","Private-Non-Profit Corporation","Reduced Asset Reporter",0,0,"Minivan",null,0,0,0,0,0,0,2,0,0,0,0,0,0,0,0,0,0,0,0,2,6,0]
["Wheels of Independence, Inc.","Wisconsin Rapids","WI",null,"5R06-55375","Private-Non-Profit Corporation","Reduced Asset Reporter",0,0,"Minivan",null,0,2,0,0,1,1,0,0,1,0,0,0,0,0,0,0,0,0,0,5,3.8,0]
["Brooke Industries","Fond du Lac","WI",null,"5R06-55382","Private-Non-Profit Corporation","Reduced Asset Reporter",0,0,"Cutaway",null,0,0,1,0,0,0,0,0,0,0,0,0,0,0,0,0,0,0,0,1,2,0]
["County of Crawford","Prairie du Chien","WI",null,"5R06-55385","City, County or Local Government Unit or Department of Transportation","Reduced Asset Reporter",0,0,"Minivan",null,0,0,0,0,0,0,1,1,0,0,0,1,0,0,0,0,0,0,0,3,8,0]
["County of Richland","Richland Center","WI",null,"5R06-55389","City, County or Local Government Unit or Department of Transportation","Reduced Asset Reporter",0,0,"Minivan",null,0,0,0,0,0,0,0,0,0,0,0,0,0,0,1,1,0,0,0,2,19,0]
["County of Wood","Wisconsin Rapids","WI",null,"5R06-55391","City, County or Local Government Unit or Department of Transportation","Reduced Asset Reporter",0,0,"Van",null,0,0,0,0,0,0,0,0,0,0,0,0,0,1,0,0,0,0,0,1,15,0]
["County of St. Croix","New Richmond","WI",null,"5R06-55395","City, County or Local Government Unit or Department of Transportation","Reduced Asset Reporter",0,0,"Cutaway",null,0,0,0,0,0,0,0,2,0,0,0,0,0,0,0,0,0,0,0,2,7,0]
["Covey","Oshkosh","WI",null,"5R06-55406","Private-Non-Profit Corporation","Reduced Asset Reporter",0,0,"Minivan",null,0,0,0,0,0,0,0,0,0,0,2,0,0,0,0,0,0,0,0,2,10,0]
["Goodwill Industries of SE Wisconsin, Inc.","Greendale","WI",null,"5R06-55407","Private-Non-Profit Corporation","Reduced Asset Reporter",0,0,"Minivan",null,0,0,0,0,4,0,0,0,0,0,0,0,0,0,0,0,0,0,0,4,4,0]
["County of Lincoln","Merrill","WI",null,"5R06-55413","City, County or Local Government Unit or Department of Transportation","Reduced Asset Reporter",0,0,"Minivan",null,0,0,0,0,0,0,0,0,0,0,0,1,0,0,0,0,0,0,0,1,11,0]
["Bethel Home","Oshkosh","WI",null,"5R06-55434","Private-Non-Profit Corporation","Reduced Asset Reporter",0,0,"Automobile",null,0,0,0,0,0,0,0,1,0,0,0,0,0,0,0,0,0,0,0,1,7,0]
["Acadia COA","Crowley","LA",null,"6R02-66284","Private-Non-Profit Corporation","Reduced Asset Reporter",0,0,"Cutaway",null,0,0,0,0,0,0,2,0,0,0,0,0,0,0,0,0,0,0,0,2,6,0]
["Donaldsonville ARC","Donaldsonville","LA",null,"6R02-66287","Private-Non-Profit Corporation","Reduced Asset Reporter",0,0,"Cutaway",null,1,1,0,0,0,0,0,0,0,0,1,0,0,1,0,0,0,0,0,4,6,0]
["Jefferson COA","Metairie","LA",null,"6R02-66289","Private-Non-Profit Corporation","Reduced Asset Reporter",0,0,"Van",null,0,0,0,0,0,0,0,0,0,0,1,0,0,0,0,0,0,0,0,1,10,0]
["Lincoln COA","Ruston","LA",null,"6R02-66292","Private-Non-Profit Corporation","Reduced Asset Reporter",0,0,"Cutaway",null,0,0,0,0,0,0,0,0,1,0,0,0,1,0,0,0,0,0,0,2,10,0]
["West Carroll Parish COA","Oak Grove","LA",null,"6R02-66298","Private-Non-Profit Corporation","Reduced Asset Reporter",0,0,"Minivan",null,0,0,0,0,0,0,1,0,0,0,0,0,0,0,0,0,0,0,0,1,6,0]
["Zapata County","Zapata","TX",null,"6R05-66320","City, County or Local Government Unit or Department of Transportation","Reduced Asset Reporter",0,0,"Van",null,0,0,0,0,0,0,1,0,0,2,0,0,0,0,0,0,0,0,0,3,8,0]
["Zapata County","Zapata","TX",null,"6R05-66320","City, County or Local Government Unit or Department of Transportation","Reduced Asset Reporter",0,0,"Minivan",null,0,0,0,0,0,1,0,0,0,0,0,0,0,0,0,0,0,0,0,1,5,0]
["Zapata County","Zapata","TX",null,"6R05-66320","City, County or Local Government Unit or Department of Transportation","Reduced Asset Reporter",0,0,"Cutaway",null,0,0,0,0,0,0,1,1,0,0,0,0,0,0,0,0,0,0,0,2,6.5,0]
["Dallas County Department of Health and Human Services","Dallas","TX",null,"6R05-66321","City, County or Local Government Unit or Department of Transportation","Reduced Asset Reporter",0,0,"Van",null,0,0,0,0,0,0,0,1,0,0,1,0,0,0,0,0,0,0,0,2,8.5,0]
["Dallas County Department of Health and Human Services","Dallas","TX",null,"6R05-66321","City, County or Local Government Unit or Department of Transportation","Reduced Asset Reporter",0,0,"Minivan",null,0,0,0,0,0,1,0,0,0,0,0,0,0,0,0,0,0,0,0,1,5,0]
["Mounting Horizons","Houston","TX",null,"6R05-66322","Private-Non-Profit Corporation","Reduced Asset Reporter",0,0,"Minivan",null,0,0,0,0,0,0,0,0,0,0,0,0,0,1,0,0,0,0,0,1,13,0]
["Mounting Horizons","Houston","TX",null,"6R05-66322","Private-Non-Profit Corporation","Reduced Asset Reporter",0,0,"Cutaway",null,0,0,0,0,0,0,0,0,1,0,0,0,0,0,0,0,0,0,0,1,8,0]
["NDMJ, Inc.","Tyler","TX",null,"6R05-66323","Private-For-Profit Corporation","Reduced Asset Reporter",0,0,"Minivan",null,0,0,0,0,0,1,0,0,0,0,0,0,0,0,0,0,0,0,0,1,5,0]
["NDMJ, Inc.","Tyler","TX",null,"6R05-66323","Private-For-Profit Corporation","Reduced Asset Reporter",0,0,"Cutaway",null,0,2,1,1,3,1,0,1,3,1,0,1,0,0,0,0,0,0,0,14,5.3571428571428497,0]
["NDMJ, Inc.","Tyler","TX",null,"6R05-66323","Private-For-Profit Corporation","Reduced Asset Reporter",0,0,"Automobile",null,0,0,0,0,0,0,0,0,0,0,0,0,0,1,0,0,0,0,0,1,15,0]
["Starr County","Rio Grande City","TX",null,"6R05-66324","City, County or Local Government Unit or Department of Transportation","Reduced Asset Reporter",0,0,"Van",null,0,0,0,0,0,0,0,0,0,0,0,0,0,0,1,0,0,0,0,1,17,0]
["Starr County","Rio Grande City","TX",null,"6R05-66324","City, County or Local Government Unit or Department of Transportation","Reduced Asset Reporter",0,0,"Minivan",null,0,0,0,0,0,3,0,0,1,0,0,0,0,0,0,0,0,0,0,4,5.75,0]
["Starr County","Rio Grande City","TX",null,"6R05-66324","City, County or Local Government Unit or Department of Transportation","Reduced Asset Reporter",0,0,"Cutaway",null,0,0,0,0,0,0,0,0,2,0,0,0,0,0,0,0,0,0,0,2,8,0]
["Big Bend Community Action Agency","Marfa","TX",null,"6R05-66325","Private-Non-Profit Corporation","Reduced Asset Reporter",0,0,"Minivan",null,0,0,0,0,1,0,0,0,0,0,0,0,0,1,0,0,0,0,0,2,9,0]
["Big Bend Community Action Agency","Marfa","TX",null,"6R05-66325","Private-Non-Profit Corporation","Reduced Asset Reporter",0,0,"Cutaway",null,0,0,0,0,0,0,1,0,0,0,0,0,0,0,0,0,0,0,0,1,6,0]
["Jim Hogg County Transportation","Hebbronville","TX",null,"6R05-66327","City, County or Local Government Unit or Department of Transportation","Reduced Asset Reporter",0,0,"Minivan",null,0,0,0,0,0,1,0,0,0,0,0,0,0,0,0,0,0,0,0,1,5,0]
["Jim Hogg County Transportation","Hebbronville","TX",null,"6R05-66327","City, County or Local Government Unit or Department of Transportation","Reduced Asset Reporter",0,0,"Cutaway",null,0,0,0,0,0,0,0,1,0,0,0,0,0,0,0,0,0,0,0,1,7,0]
["Montgomery County Meals On Wheels","Conroe","TX",null,"6R05-66328","Private-Non-Profit Corporation","Reduced Asset Reporter",0,0,"Van",null,0,0,1,0,0,0,1,0,0,0,0,0,0,0,0,0,0,0,0,2,4,0]
["Montgomery County Meals On Wheels","Conroe","TX",null,"6R05-66328","Private-Non-Profit Corporation","Reduced Asset Reporter",0,0,"Minivan",null,0,0,0,0,0,3,0,0,0,0,0,0,0,0,0,0,0,0,0,3,5,0]
["Montgomery County Meals On Wheels","Conroe","TX",null,"6R05-66328","Private-Non-Profit Corporation","Reduced Asset Reporter",0,0,"Cutaway",null,0,2,0,0,0,0,0,0,1,0,0,0,0,0,0,0,0,0,0,3,3.3333333333333299,0]
["Loop Trolley Transportation Development District","St. Louis","MO",7057,70057,"Independent Public Agency or Authority of Transit Service","Reduced Asset Reporter",2150706,0,"Trucks and other Rubber Tire Vehicles (Service)",null,0,0,0,0,0,0,0,0,0,0,0,0,0,1,0,0,0,0,0,1]
["Loop Trolley Transportation Development District","St. Louis","MO",7057,70057,"Independent Public Agency or Authority of Transit Service","Reduced Asset Reporter",2150706,0,"Streetcar Rail",null,0,0,0,0,0,0,0,0,0,0,0,0,0,0,0,0,2,0,0,2,27,47694]
["Town of Berthoud, dba: Berthoud Area Transportation Services (BATS)","Berthoud","CO","8R01-028","8R01-80202","City, County or Local Government Unit or Department of Transportation","Reduced Asset Reporter",0,0,"Van",null,0,0,0,0,0,0,0,0,0,0,1,0,0,0,0,0,0,0,0,1,10,0]
["Town of Berthoud, dba: Berthoud Area Transportation Services (BATS)","Berthoud","CO","8R01-028","8R01-80202","City, County or Local Government Unit or Department of Transportation","Reduced Asset Reporter",0,0,"Cutaway",null,0,0,0,0,0,0,0,0,1,1,0,0,0,0,0,0,0,0,0,2,8.5,0]
["San Miguel County","Norwood","CO",null,"8R01-88214","City, County or Local Government Unit or Department of Transportation","Reduced Asset Reporter",0,0,"Van",null,0,0,0,2,0,0,0,0,0,0,0,0,0,0,0,0,0,0,0,2,3,0]
["Baca County Seniors Van","Springfield","CO",null,"8R01-88278","City, County or Local Government Unit or Department of Transportation","Reduced Asset Reporter",0,0,"Bus",null,0,1,0,0,0,0,0,0,0,0,0,0,0,0,0,0,0,0,0,1,1,0]
["City and County of Broomfield","Broomfield","CO",null,"8R01-88279","City, County or Local Government Unit or Department of Transportation","Reduced Asset Reporter",0,0,"Minivan",null,0,1,1,0,0,0,0,0,0,0,0,0,0,0,0,0,0,0,0,2,1.5,0]
["City and County of Broomfield","Broomfield","CO",null,"8R01-88279","City, County or Local Government Unit or Department of Transportation","Reduced Asset Reporter",0,0,"Cutaway",null,1,1,0,0,1,1,0,0,0,1,0,0,0,0,0,0,0,0,0,5,3.8,0]
["City and County of Broomfield","Broomfield","CO",null,"8R01-88279","City, County or Local Government Unit or Department of Transportation","Reduced Asset Reporter",0,0,"Automobile",null,0,0,0,0,0,0,0,0,0,0,0,0,0,0,1,0,0,0,0,1,17,0]
["Lakewood Rides, City of Lakewood","Lakewood","CO",null,"8R01-88280","City, County or Local Government Unit or Department of Transportation","Reduced Asset Reporter",0,0,"Van",null,2,0,0,0,0,0,0,0,0,0,0,0,0,1,0,0,0,0,0,3,4.6666666666666599,0]
["Lakewood Rides, City of Lakewood","Lakewood","CO",null,"8R01-88280","City, County or Local Government Unit or Department of Transportation","Reduced Asset Reporter",0,0,"Minivan",null,0,0,0,0,0,0,1,0,0,2,0,0,0,0,0,0,0,0,0,3,8,0]
["Lakewood Rides, City of Lakewood","Lakewood","CO",null,"8R01-88280","City, County or Local Government Unit or Department of Transportation","Reduced Asset Reporter",0,0,"Cutaway",null,0,0,0,0,0,0,0,1,0,0,0,2,0,1,2,0,0,0,0,6,13,0]
["Lakewood Rides, City of Lakewood","Lakewood","CO",null,"8R01-88280","City, County or Local Government Unit or Department of Transportation","Reduced Asset Reporter",0,0,"Bus",null,0,1,0,0,0,0,0,0,0,0,0,0,0,0,0,0,0,0,0,1,1,0]
["Town of Estes Park","Estes Park","CO",null,"8R01-88281","City, County or Local Government Unit or Department of Transportation","Reduced Asset Reporter",0,0,"Cutaway",null,3,1,0,0,0,0,0,0,0,0,0,0,0,0,0,0,0,0,0,4,0.25,0]
["Town of Estes Park","Estes Park","CO",null,"8R01-88281","City, County or Local Government Unit or Department of Transportation","Reduced Asset Reporter",0,0,"Bus",null,0,0,0,0,0,0,0,0,0,0,0,0,0,1,0,0,0,0,0,1,14,0]
["Littleton Omnibus","Littleton","CO",null,"8R01-88282","City, County or Local Government Unit or Department of Transportation","Reduced Asset Reporter",0,0,"Cutaway",null,0,2,0,0,0,0,0,0,0,0,0,0,0,0,0,0,0,0,0,2,1,0]
["El Paso Fountain Valley Senior Citizens Program, dba: Fountain Valley Senior Center","Fountain","CO",null,"8R01-88283","Private-Non-Profit Corporation","Reduced Asset Reporter",0,0,"Van",null,1,0,2,0,0,0,0,0,0,0,0,0,0,0,0,0,0,0,0,3,1.3333333333333299,0]
["El Paso Fountain Valley Senior Citizens Program, dba: Fountain Valley Senior Center","Fountain","CO",null,"8R01-88283","Private-Non-Profit Corporation","Reduced Asset Reporter",0,0,"Minivan",null,0,0,0,0,0,0,0,0,1,0,0,0,0,0,0,0,0,0,0,1,8,0]
["El Paso Fountain Valley Senior Citizens Program, dba: Fountain Valley Senior Center","Fountain","CO",null,"8R01-88283","Private-Non-Profit Corporation","Reduced Asset Reporter",0,0,"Automobile",null,0,0,0,0,0,0,0,1,1,0,0,0,0,0,0,0,0,0,0,2,7.5,0]
["Silver Key Senior Services","Colorado Springs","CO",null,"8R01-88284","Private-Non-Profit Corporation","Reduced Asset Reporter",0,0,"Van",null,0,4,0,0,0,0,0,0,0,0,0,0,0,0,0,0,0,0,0,4,1,0]
["Silver Key Senior Services","Colorado Springs","CO",null,"8R01-88284","Private-Non-Profit Corporation","Reduced Asset Reporter",0,0,"Minivan",null,2,0,2,0,0,0,0,0,2,2,1,3,0,1,0,0,0,0,0,13,7.3076923076923004,0]
["Silver Key Senior Services","Colorado Springs","CO",null,"8R01-88284","Private-Non-Profit Corporation","Reduced Asset Reporter",0,0,"Cutaway",null,0,0,0,2,0,2,1,0,0,2,0,1,0,4,0,0,0,0,0,12,8.8333333333333304,0]
["Silver Key Senior Services","Colorado Springs","CO",null,"8R01-88284","Private-Non-Profit Corporation","Reduced Asset Reporter",0,0,"Automobile",null,0,0,0,2,0,0,0,0,0,0,0,0,0,0,0,0,0,0,0,2,3,0]
["Mountain Family Center","Granby","CO",null,"8R01-88286","Private-Non-Profit Corporation","Reduced Asset Reporter",0,0,"Van",null,1,0,2,0,0,0,0,0,0,0,0,0,0,0,0,0,0,0,0,3,1.3333333333333299,0]
["Mountain Family Center","Granby","CO",null,"8R01-88286","Private-Non-Profit Corporation","Reduced Asset Reporter",0,0,"Minivan",null,0,0,0,0,0,0,0,0,1,0,0,0,0,0,0,0,0,0,0,1,8,0]
["Mountain Family Center","Granby","CO",null,"8R01-88286","Private-Non-Profit Corporation","Reduced Asset Reporter",0,0,"Cutaway",null,0,0,0,0,0,0,0,0,0,0,0,0,0,1,0,0,0,0,0,1,14,0]
["Mountain Family Center","Granby","CO",null,"8R01-88286","Private-Non-Profit Corporation","Reduced Asset Reporter",0,0,"Automobile",null,0,0,0,0,0,0,0,1,1,0,0,0,0,0,0,0,0,0,0,2,7.5,0]
["Aspen, City of","Aspen","CO",null,"8R01-88287","City, County or Local Government Unit or Department of Transportation","Reduced Asset Reporter",0,0,"Cutaway",null,4,0,0,0,4,0,0,0,0,4,0,0,1,0,0,0,0,0,0,13,4.9230769230769198,0]
["Aspen, City of","Aspen","CO",null,"8R01-88287","City, County or Local Government Unit or Department of Transportation","Reduced Asset Reporter",0,0,"Bus",null,0,4,0,0,0,0,1,0,0,0,0,0,3,1,0,0,0,0,0,9,6.55555555555555,0]
["Envida","Colorado Springs","CO",null,"8R01-88288","Private-Non-Profit Corporation","Reduced Asset Reporter",0,0,"Van",null,0,3,2,0,0,0,0,0,0,0,0,0,0,0,0,0,0,0,0,5,1.4,0]
["Envida","Colorado Springs","CO",null,"8R01-88288","Private-Non-Profit Corporation","Reduced Asset Reporter",0,0,"Cutaway",null,2,0,0,2,0,0,3,0,0,0,0,0,0,0,0,0,0,0,0,7,3.4285714285714199,0]
["Castle Rock Senior Center","Castle Rock","CO",null,"8R01-88289","Private-Non-Profit Corporation","Reduced Asset Reporter",0,0,"Van",null,0,0,0,0,0,0,1,0,0,0,0,0,0,0,0,0,0,0,0,1,6,0]
["Castle Rock Senior Center","Castle Rock","CO",null,"8R01-88289","Private-Non-Profit Corporation","Reduced Asset Reporter",0,0,"Minivan",null,0,1,0,0,0,0,0,0,0,0,0,0,0,1,0,0,0,0,0,2,7,0]
["Castle Rock Senior Center","Castle Rock","CO",null,"8R01-88289","Private-Non-Profit Corporation","Reduced Asset Reporter",0,0,"Bus",null,1,1,0,0,0,1,0,0,0,0,0,0,0,0,0,0,0,0,0,3,2,0]
["Castle Rock Senior Center","Castle Rock","CO",null,"8R01-88289","Private-Non-Profit Corporation","Reduced Asset Reporter",0,0,"Automobile",null,1,2,0,0,1,0,0,0,0,0,0,0,0,0,0,0,0,0,0,4,1.5,0]
["La Plata County Senior Services","Durango","CO",null,"8R01-88290","City, County or Local Government Unit or Department of Transportation","Reduced Asset Reporter",0,0,"Van",null,0,0,1,0,0,0,0,0,0,0,0,0,0,0,0,0,0,0,0,1,2,0]
["La Plata County Senior Services","Durango","CO",null,"8R01-88290","City, County or Local Government Unit or Department of Transportation","Reduced Asset Reporter",0,0,"Minivan",null,1,0,0,0,0,0,0,0,0,0,0,0,0,0,0,0,0,0,0,1,0,0]
["La Plata County Senior Services","Durango","CO",null,"8R01-88290","City, County or Local Government Unit or Department of Transportation","Reduced Asset Reporter",0,0,"Cutaway",null,0,0,1,0,0,0,0,0,0,0,0,0,0,0,0,0,0,0,0,1,2,0]
["La Plata County Senior Services","Durango","CO",null,"8R01-88290","City, County or Local Government Unit or Department of Transportation","Reduced Asset Reporter",0,0,"Bus",null,1,0,0,0,0,0,0,0,0,0,0,0,0,0,0,0,0,0,0,1,0,0]
["Park County Senior Coalition","Fairplay","CO",null,"8R01-88291","Private-Non-Profit Corporation","Reduced Asset Reporter",0,0,"Sports Utility Vehicle",null,0,0,0,0,0,0,0,1,0,0,0,0,0,1,0,0,0,0,0,2,10,0]
["Park County Senior Coalition","Fairplay","CO",null,"8R01-88291","Private-Non-Profit Corporation","Reduced Asset Reporter",0,0,"Cutaway",null,0,0,0,0,0,0,0,0,0,0,2,0,0,0,0,1,0,0,0,3,15,0]
["High Country Senior Citizens, Inc","Dubois","WY","8R05-032","8R05-80131","Private-Non-Profit Corporation","Reduced Asset Reporter",0,0,"Minivan",null,0,0,0,0,0,1,0,0,0,0,0,0,0,0,0,0,0,0,0,1,5,0]
["High Country Senior Citizens, Inc","Dubois","WY","8R05-032","8R05-80131","Private-Non-Profit Corporation","Reduced Asset Reporter",0,0,"Cutaway",null,0,0,0,0,1,0,0,0,0,0,0,0,0,0,0,0,0,0,0,1,4,0]
["Kemmerer Senior Citizens Association","Kemmerer","WY","8R05-038","8R05-80178","Private-Non-Profit Corporation","Reduced Asset Reporter",0,0,"Cutaway",null,0,0,0,0,1,0,0,0,0,0,0,0,0,0,0,0,0,0,0,1,4,0]
["Kemmerer Senior Citizens Association","Kemmerer","WY","8R05-038","8R05-80178","Private-Non-Profit Corporation","Reduced Asset Reporter",0,0,"Bus",null,0,0,0,0,0,0,0,0,0,0,0,0,1,0,0,0,0,0,0,1,12,0]
["Senior Center of Jackson Hole","Jackson","WY","8R05-037","8R05-80180","Private-Non-Profit Corporation","Reduced Asset Reporter",0,0,"Cutaway",null,0,0,0,0,1,0,0,0,0,0,0,0,0,0,0,0,0,0,0,1,4,0]
["Senior Center of Jackson Hole","Jackson","WY","8R05-037","8R05-80180","Private-Non-Profit Corporation","Reduced Asset Reporter",0,0,"Bus",null,0,0,0,0,0,0,0,0,0,0,0,0,0,0,1,0,0,0,0,1,16,0]
["Senior Center of Jackson Hole","Jackson","WY","8R05-037","8R05-80180","Private-Non-Profit Corporation","Reduced Asset Reporter",0,0,"Automobile",null,0,0,0,0,0,1,0,0,0,0,0,0,0,0,1,0,0,0,0,2,12.5,0]
["North Big Horn Senior Center, Inc.","Lovell","WY","8R05-025","8R05-80199","Private-Non-Profit Corporation","Reduced Asset Reporter",0,0,"Minivan",null,0,0,0,0,0,1,1,0,1,0,0,1,0,2,0,0,0,0,0,6,9.6666666666666607,0]
["Hot Springs County Senior Citizens Center, Inc.","Thermopolis","WY","8R05-049","8R05-80209","Private-Non-Profit Corporation","Reduced Asset Reporter",0,0,"Minivan",null,0,0,0,1,0,0,0,0,0,0,0,0,0,0,0,0,0,0,0,1,3,0]
["Hot Springs County Senior Citizens Center, Inc.","Thermopolis","WY","8R05-049","8R05-80209","Private-Non-Profit Corporation","Reduced Asset Reporter",0,0,"Cutaway",null,0,0,0,0,0,0,0,1,0,0,0,0,0,0,0,0,0,0,0,1,7,0]
["Hot Springs County Senior Citizens Center, Inc.","Thermopolis","WY","8R05-049","8R05-80209","Private-Non-Profit Corporation","Reduced Asset Reporter",0,0,"Automobile",null,0,0,0,0,0,0,0,0,0,0,0,1,0,0,0,0,0,0,0,1,11,0]
["Carbon County Senior Services, Inc.","Rawlins","WY","8R05-044","8R05-80278","Private-Non-Profit Corporation","Reduced Asset Reporter",0,0,"Minivan",null,0,0,0,1,0,0,0,0,0,0,0,0,1,1,1,0,0,0,0,4,12,0]
["Carbon County Senior Services, Inc.","Rawlins","WY","8R05-044","8R05-80278","Private-Non-Profit Corporation","Reduced Asset Reporter",0,0,"Cutaway",null,0,0,1,0,0,0,0,0,0,0,0,0,0,0,0,0,0,0,0,1,2,0]
["Warm Valley Senior Center","Ft. Washakie","WY",null,"8R05-88223","Private-Non-Profit Corporation","Reduced Asset Reporter",0,0,"Cutaway",null,0,0,1,0,0,0,0,0,0,0,0,0,0,0,0,0,0,0,0,1,2,0]
["Memorial Hospital of Laramie County  , dba: Wyoming PACE","Cheyenne","WY",null,"8R05-88227","Private-Non-Profit Corporation","Reduced Asset Reporter",0,0,"Cutaway",null,0,1,0,1,0,2,1,0,0,0,0,0,0,0,0,0,0,0,0,5,4,0]
["TURN Community Services (Southern Utah)","Salt Lake City","UT",null,"8R06-88232","Private-Non-Profit Corporation","Reduced Asset Reporter",0,0,"Bus",null,1,2,2,0,0,0,0,0,0,0,0,0,0,0,0,0,0,0,0,5,1.2,0]
["United Way Community Services","Provo","UT",null,"8R06-88234","Private-Non-Profit Corporation","Reduced Asset Reporter",0,0,"Trucks and other Rubber Tire Vehicles (Service)",null,0,4,4,0,0,4,0,1,0,0,0,0,0,0,0,0,0,0,0,13]
["United Way Community Services","Provo","UT",null,"8R06-88234","Private-Non-Profit Corporation","Reduced Asset Reporter",0,0,"Cutaway",null,1,1,1,0,0,1,0,1,0,0,0,0,0,0,0,0,0,0,0,5,3,0]
["United Way Community Services","Provo","UT",null,"8R06-88234","Private-Non-Profit Corporation","Reduced Asset Reporter",0,0,"Automobile",null,1,1,1,0,0,0,0,0,0,0,0,0,0,0,0,0,0,0,0,3,1,0]
["Southwest Behavioral Health Center","St George","UT",null,"8R06-88241","Private-Non-Profit Corporation","Reduced Asset Reporter",0,0,"Cutaway",null,0,0,0,0,0,0,1,0,1,0,0,0,0,0,0,0,0,0,0,2,7,0]
["Red Rock Center for Independence","St George","UT",null,"8R06-88244","Private-Non-Profit Corporation","Reduced Asset Reporter",0,0,"Minivan",null,0,0,0,1,0,1,0,0,0,0,1,0,0,1,1,0,0,0,0,5,9.4,0]
["Red Rock Center for Independence","St George","UT",null,"8R06-88244","Private-Non-Profit Corporation","Reduced Asset Reporter",0,0,"Cutaway",null,0,0,0,0,0,1,0,0,0,0,0,0,0,0,0,0,0,0,0,1,5,0]
["Red Rock Center for Independence","St George","UT",null,"8R06-88244","Private-Non-Profit Corporation","Reduced Asset Reporter",0,0,"Automobile",null,0,0,0,0,0,1,0,0,0,1,0,0,1,0,0,1,0,0,0,4,12,0]
["Options for Independence","Logan","UT",null,"8R06-88248","Private-Non-Profit Corporation","Reduced Asset Reporter",0,0,"Minivan",null,0,0,0,0,1,0,0,0,0,0,0,0,0,0,0,0,0,0,0,1,4,0]
["Options for Independence","Logan","UT",null,"8R06-88248","Private-Non-Profit Corporation","Reduced Asset Reporter",0,0,"Cutaway",null,0,0,1,0,0,0,0,1,0,0,0,1,0,0,0,0,0,0,0,3,6.6666666666666599,0]
["Four Corners Community Behavioral Health, Inc.","Price","UT",null,"8R06-88256","Private-Non-Profit Corporation","Reduced Asset Reporter",0,0,"Van",null,0,0,0,0,0,0,0,0,2,0,0,0,0,0,0,0,0,0,0,2,8,0]
["Four Corners Community Behavioral Health, Inc.","Price","UT",null,"8R06-88256","Private-Non-Profit Corporation","Reduced Asset Reporter",0,0,"Minivan",null,0,0,0,0,0,0,0,0,0,0,0,0,0,1,0,0,0,0,0,1,13,0]
["Four Corners Community Behavioral Health, Inc.","Price","UT",null,"8R06-88256","Private-Non-Profit Corporation","Reduced Asset Reporter",0,0,"Cutaway",null,0,0,2,0,0,0,1,0,0,0,0,0,0,0,0,0,0,0,0,3,3.3333333333333299,0]
["Foundations for Independence ","South Jordan","UT",null,"8R06-88257","Private-Non-Profit Corporation","Reduced Asset Reporter",0,0,"Bus",null,0,0,0,0,0,0,0,0,1,0,0,0,0,2,0,0,0,0,0,3,12,0]
["Common Ground Outdoor Adventures","Logan","UT",null,"8R06-88265","Private-Non-Profit Corporation","Reduced Asset Reporter",0,0,"Minivan",null,0,2,0,0,0,0,0,0,0,0,0,0,0,0,0,0,0,0,0,2,1,0]
["Common Ground Outdoor Adventures","Logan","UT",null,"8R06-88265","Private-Non-Profit Corporation","Reduced Asset Reporter",0,0,"Bus",null,0,1,0,0,0,1,0,0,0,0,0,0,0,0,0,0,0,0,0,2,3,0]
["Cache Employment & Training Center (CETC)","Logan","UT",null,"8R06-88268","Private-Non-Profit Corporation","Reduced Asset Reporter",0,0,"Cutaway",null,0,2,3,0,0,2,0,0,0,0,0,0,0,0,0,0,0,0,0,7,2.5714285714285698,0]
["County of Shasta Department of Public Works","Redding","CA",null,"9R02-99438","City, County or Local Government Unit or Department of Transportation","Rural Reporter",0,0,"Cutaway",null,0,0,0,0,1,0,0,0,0,0,0,0,0,0,0,0,0,0,0,1,4,0]
["ABCD, Inc.","Canton","OH",null,"A0002-55329","Private-Non-Profit Corporation","Reduced Asset Reporter",0,0,"Cutaway",null,2,3,0,4,1,1,1,0,1,0,0,0,0,0,0,0,0,0,0,13,2.9230769230769198,0]
["ABCD, Inc.","Canton","OH",null,"A0002-55329","Private-Non-Profit Corporation","Reduced Asset Reporter",0,0,"Automobiles (Service)",null,0,1,0,0,0,1,0,0,0,0,0,0,0,0,0,0,0,0,0,2]
["Alamo Area Resource Center, Inc","San Antonio","TX",null,"A0010-66330","Private-Non-Profit Corporation","Reduced Asset Reporter",0,0,"Cutaway",null,0,0,1,0,0,0,0,0,0,0,0,0,0,0,0,0,0,0,0,1,2,0]
["St. Gregory the Great Catholic Church","San Antonio","TX",null,"A0010-66331","Private-Non-Profit Corporation","Reduced Asset Reporter",0,0,"Cutaway",null,0,0,1,1,0,0,0,0,0,0,0,0,0,0,0,0,0,0,0,2,2.5,0]
["Ride Connect Texas","San Antonio","TX",null,"A0010-66332","Private-Non-Profit Corporation","Reduced Asset Reporter",0,0,"Cutaway",null,0,0,1,0,0,0,0,0,0,0,0,0,0,0,0,0,0,0,0,1,2,0]
["Presa Community Service Center","San Antonio","TX",null,"A0010-66333","Private-Non-Profit Corporation","Reduced Asset Reporter",0,0,"Cutaway",null,0,0,0,0,0,0,3,0,0,2,1,0,1,0,2,0,0,0,0,9,10.4444444444444,0]
["Kirby Senior Center","San Antonio","TX",null,"A0010-66334","Private-Non-Profit Corporation","Reduced Asset Reporter",0,0,"Cutaway",null,0,0,2,0,0,1,0,0,0,0,0,0,0,0,0,0,0,0,0,3,3,0]
["Greater Randolph Area Service Program (GRASP) Inc.","Converse","TX",null,"A0010-66335","Private-Non-Profit Corporation","Reduced Asset Reporter",0,0,"Van",null,0,0,0,0,0,0,0,1,1,0,0,0,0,0,0,0,0,0,0,2,7.5,0]
["Greater Randolph Area Service Program (GRASP) Inc.","Converse","TX",null,"A0010-66335","Private-Non-Profit Corporation","Reduced Asset Reporter",0,0,"Cutaway",null,0,1,0,0,0,1,0,0,1,0,0,0,1,0,0,0,0,0,0,4,6.5,0]
["Eden Home, Inc. , dba: Eden Hill Communities","New Braunfels","TX",null,"A0010-66336","Private-Non-Profit Corporation","Reduced Asset Reporter",0,0,"Van",null,0,0,0,1,0,0,0,0,0,0,0,0,0,0,0,0,0,0,0,1,3,0]
["Eden Home, Inc. , dba: Eden Hill Communities","New Braunfels","TX",null,"A0010-66336","Private-Non-Profit Corporation","Reduced Asset Reporter",0,0,"Minivan",null,0,0,0,0,0,0,0,0,1,0,0,0,0,0,0,0,0,0,0,1,8,0]
["Eden Home, Inc. , dba: Eden Hill Communities","New Braunfels","TX",null,"A0010-66336","Private-Non-Profit Corporation","Reduced Asset Reporter",0,0,"Cutaway",null,0,1,0,0,0,0,1,0,0,0,0,0,0,0,0,0,0,0,0,2,3.5,0]
["Eden Home, Inc. , dba: Eden Hill Communities","New Braunfels","TX",null,"A0010-66336","Private-Non-Profit Corporation","Reduced Asset Reporter",0,0,"Bus",null,1,0,0,0,0,0,0,0,0,0,0,0,0,1,0,0,0,0,0,2,6.5,0]
["Eden Home, Inc. , dba: Eden Hill Communities","New Braunfels","TX",null,"A0010-66336","Private-Non-Profit Corporation","Reduced Asset Reporter",0,0,"Automobile",null,0,0,0,0,0,0,0,2,0,0,0,0,0,0,0,0,0,0,0,2,7,0]
["City of Allen Park","Allen Park","MI",null,"A0011-55518","City, County or Local Government Unit or Department of Transportation","Reduced Asset Reporter",0,0,"Van",null,0,1,0,0,0,0,0,0,0,0,0,0,0,0,1,0,0,0,0,2,9,0]
["City of Allen Park","Allen Park","MI",null,"A0011-55518","City, County or Local Government Unit or Department of Transportation","Reduced Asset Reporter",0,0,"Cutaway",null,0,0,0,0,0,0,0,0,0,1,0,0,0,0,0,0,0,0,0,1,9,0]
["City of Auburn Hills","Auburn Hills","MI",null,"A0011-55519","City, County or Local Government Unit or Department of Transportation","Reduced Asset Reporter",0,0,"Minivan",null,0,0,0,0,1,0,0,0,0,0,0,0,0,0,0,0,0,0,0,1,4,0]
["City of Auburn Hills","Auburn Hills","MI",null,"A0011-55519","City, County or Local Government Unit or Department of Transportation","Reduced Asset Reporter",0,0,"Cutaway",null,0,0,0,1,0,0,0,0,0,1,0,0,0,0,0,0,0,0,0,2,6,0]
["Bedford Health Van","Temperance ","MI",null,"A0011-55520","City, County or Local Government Unit or Department of Transportation","Reduced Asset Reporter",0,0,"Van",null,0,3,0,0,2,0,0,0,2,1,0,0,0,0,0,0,0,0,0,8,4.5,0]
["City of Belleville","Belleville","MI",null,"A0011-55521","City, County or Local Government Unit or Department of Transportation","Reduced Asset Reporter",0,0,"Van",null,0,0,0,0,0,0,0,0,0,1,0,0,0,0,0,0,0,0,0,1,9,0]
["City of Belleville","Belleville","MI",null,"A0011-55521","City, County or Local Government Unit or Department of Transportation","Reduced Asset Reporter",0,0,"Cutaway",null,0,0,0,0,0,0,0,0,0,1,0,0,0,1,0,0,0,0,0,2,11,0]
["City of Berkley","Berkley","MI",null,"A0011-55522","City, County or Local Government Unit or Department of Transportation","Reduced Asset Reporter",0,0,"Van",null,0,0,0,0,0,0,0,0,0,0,0,0,0,1,0,0,0,0,0,1,14,0]
["City of Berkley","Berkley","MI",null,"A0011-55522","City, County or Local Government Unit or Department of Transportation","Reduced Asset Reporter",0,0,"Cutaway",null,0,0,0,1,0,0,0,0,0,0,0,1,0,0,0,0,0,0,0,2,7,0]
["Bloomfield Township Senior Services","Bloomfield Township","MI",null,"A0011-55523","City, County or Local Government Unit or Department of Transportation","Reduced Asset Reporter",0,0,"Van",null,0,1,0,0,0,0,0,0,0,0,0,0,0,0,0,0,0,0,0,1,1,0]
["Bloomfield Township Senior Services","Bloomfield Township","MI",null,"A0011-55523","City, County or Local Government Unit or Department of Transportation","Reduced Asset Reporter",0,0,"Cutaway",null,1,0,0,0,0,0,0,2,0,0,0,0,0,0,0,0,0,0,0,3,4.6666666666666599,0]
["Brandon Township","Ortonville","MI",null,"A0011-55524","City, County or Local Government Unit or Department of Transportation","Reduced Asset Reporter",0,0,"Van",null,0,0,0,0,0,0,0,0,0,0,0,1,0,0,0,0,0,0,0,1,11,0]
["Brandon Township","Ortonville","MI",null,"A0011-55524","City, County or Local Government Unit or Department of Transportation","Reduced Asset Reporter",0,0,"Cutaway",null,0,0,1,0,0,0,0,1,0,0,0,0,0,0,0,0,0,0,0,2,4.5,0]
["Brownstown Township","Brownstown Township","MI",null,"A0011-55525","City, County or Local Government Unit or Department of Transportation","Reduced Asset Reporter",0,0,"Van",null,0,0,0,0,0,0,0,0,0,0,0,0,0,1,0,0,0,0,0,1,13,0]
["Brownstown Township","Brownstown Township","MI",null,"A0011-55525","City, County or Local Government Unit or Department of Transportation","Reduced Asset Reporter",0,0,"Cutaway",null,1,0,0,0,0,0,0,0,0,1,0,0,0,0,0,0,0,0,0,2,4.5,0]
["Canton Township","Canton","MI",null,"A0011-55526","City, County or Local Government Unit or Department of Transportation","Reduced Asset Reporter",0,0,"Cutaway",null,0,0,2,0,0,0,2,2,0,0,0,0,0,0,0,0,0,0,0,6,5,0]
["Catholic Charities of SE Michigan Oakland","Auburn Hills","MI",null,"A0011-55527","Private-Non-Profit Corporation","Reduced Asset Reporter",0,0,"Cutaway",null,0,0,0,0,0,0,0,1,0,0,0,0,0,0,0,0,0,0,0,1,7,0]
["Catholic Charities of SE Michigan Macomb","Auburn Hills","MI",null,"A0011-55528","Private-Non-Profit Corporation","Reduced Asset Reporter",0,0,"Van",null,0,0,0,0,0,0,0,0,0,0,0,1,0,0,0,0,0,0,0,1,11,0]
["Catholic Charities of SE Michigan Macomb","Auburn Hills","MI",null,"A0011-55528","Private-Non-Profit Corporation","Reduced Asset Reporter",0,0,"Cutaway",null,0,0,0,0,0,0,0,0,0,1,0,0,0,0,0,0,0,0,0,1,9,0]
["City of Southfield Parks and Recreation","Southfield ","MI",null,"A0011-55529","City, County or Local Government Unit or Department of Transportation","Reduced Asset Reporter",0,0,"Van",null,0,0,0,0,0,0,0,0,0,0,0,1,0,0,0,0,0,0,0,1,11,0]
["City of Southfield Parks and Recreation","Southfield ","MI",null,"A0011-55529","City, County or Local Government Unit or Department of Transportation","Reduced Asset Reporter",0,0,"Cutaway",null,0,0,1,2,0,0,2,1,0,2,0,0,0,0,0,0,0,0,0,8,5.625,0]
["City of Sterling Heights","Sterling Heights","MI",null,"A0011-55530","City, County or Local Government Unit or Department of Transportation","Reduced Asset Reporter",0,0,"Van",null,0,0,0,0,0,0,0,0,0,0,0,1,0,0,1,0,0,0,0,2,14.5,0]
["City of Sterling Heights","Sterling Heights","MI",null,"A0011-55530","City, County or Local Government Unit or Department of Transportation","Reduced Asset Reporter",0,0,"Cutaway",null,1,0,2,0,0,0,0,0,0,2,0,0,1,0,0,0,0,0,0,6,5.6666666666666599,0]
["City of Sterling Heights","Sterling Heights","MI",null,"A0011-55530","City, County or Local Government Unit or Department of Transportation","Reduced Asset Reporter",0,0,"Automobile",null,0,0,0,0,0,0,0,0,0,0,0,0,2,0,0,0,0,0,0,2,12,0]
["City of Clawson","Clawson","MI",null,"A0011-55531","City, County or Local Government Unit or Department of Transportation","Reduced Asset Reporter",0,0,"Cutaway",null,0,0,0,0,0,0,0,1,0,0,0,0,0,0,0,0,0,0,0,1,7,0]
["City of Clawson","Clawson","MI",null,"A0011-55531","City, County or Local Government Unit or Department of Transportation","Reduced Asset Reporter",0,0,"Automobile",null,0,0,1,0,0,0,0,0,0,0,0,0,0,0,0,0,0,0,0,1,2,0]
["Clinton Township","Clinton Township","MI",null,"A0011-55532","City, County or Local Government Unit or Department of Transportation","Reduced Asset Reporter",0,0,"Cutaway",null,0,0,0,1,0,0,1,1,0,0,0,0,0,0,0,0,0,0,0,3,5.3333333333333304,0]
["Community Social Services of Wayne County","Detroit","MI",null,"A0011-55533","Private-Non-Profit Corporation","Reduced Asset Reporter",0,0,"Van",null,0,0,0,0,0,0,0,0,1,1,1,0,2,1,2,0,0,0,0,8,12.625,0]
["Community Social Services of Wayne County","Detroit","MI",null,"A0011-55533","Private-Non-Profit Corporation","Reduced Asset Reporter",0,0,"Cutaway",null,0,0,0,0,0,0,0,2,0,1,0,0,0,0,0,0,0,0,0,3,7.6666666666666599,0]
["City of Dearborn","Dearborn","MI",null,"A0011-55534","City, County or Local Government Unit or Department of Transportation","Reduced Asset Reporter",0,0,"Van",null,0,1,5,0,0,0,0,0,0,0,0,0,0,0,0,0,0,0,0,6,1.8333333333333299,0]
["City of Dearborn","Dearborn","MI",null,"A0011-55534","City, County or Local Government Unit or Department of Transportation","Reduced Asset Reporter",0,0,"Cutaway",null,0,0,0,1,0,0,0,0,0,0,0,0,0,0,0,0,0,0,0,1,3,0]
["City of Dearborn Heights","Dearborn Heights","MI",null,"A0011-55535","City, County or Local Government Unit or Department of Transportation","Reduced Asset Reporter",0,0,"Cutaway",null,0,0,0,1,0,0,0,0,0,1,0,0,0,0,0,0,0,0,0,2,6,0]
["Downriver Community Conference","Southgate","MI",null,"A0011-55536","Private-Non-Profit Corporation","Reduced Asset Reporter",0,0,"Van",null,0,0,0,0,0,0,0,0,0,1,0,1,0,0,0,0,0,0,0,2,10,0]
["Downriver Community Conference","Southgate","MI",null,"A0011-55536","Private-Non-Profit Corporation","Reduced Asset Reporter",0,0,"Cutaway",null,0,0,0,2,0,0,1,2,0,0,0,0,1,0,0,0,0,0,0,6,6.3333333333333304,0]
["City of Ecorse","Ecorse","MI",null,"A0011-55537","City, County or Local Government Unit or Department of Transportation","Reduced Asset Reporter",0,0,"Van",null,0,0,2,0,0,0,0,0,0,0,0,0,0,0,0,0,0,0,0,2,2,0]
["City of Farmington Hills","Farmington Hills","MI",null,"A0011-55538","City, County or Local Government Unit or Department of Transportation","Reduced Asset Reporter",0,0,"Van",null,0,0,1,0,1,0,1,0,0,0,0,2,0,0,0,0,0,0,0,5,6.8,0]
["City of Farmington Hills","Farmington Hills","MI",null,"A0011-55538","City, County or Local Government Unit or Department of Transportation","Reduced Asset Reporter",0,0,"Cutaway",null,0,0,0,0,0,0,4,0,0,2,0,0,0,0,0,0,0,0,0,6,7,0]
["City of Ferndale","Ferndale","MI",null,"A0011-55539","City, County or Local Government Unit or Department of Transportation","Reduced Asset Reporter",0,0,"Van",null,0,0,0,0,0,0,1,0,0,0,0,0,0,0,0,0,0,0,0,1,6,0]
["City of Ferndale","Ferndale","MI",null,"A0011-55539","City, County or Local Government Unit or Department of Transportation","Reduced Asset Reporter",0,0,"Cutaway",null,1,0,0,0,0,0,0,0,0,0,0,0,0,0,0,0,0,0,0,1,0,0]
["City of Fraser","Fraser","MI",null,"A0011-55540","City, County or Local Government Unit or Department of Transportation","Reduced Asset Reporter",0,0,"Cutaway",null,0,0,0,1,0,0,0,1,0,0,0,0,0,0,0,0,0,0,0,2,5,0]
["Golden Services","Belleville","MI",null,"A0011-55541","Private-Non-Profit Corporation","Reduced Asset Reporter",0,0,"Van",null,0,0,1,0,0,0,0,0,0,0,0,0,0,0,0,0,0,0,0,1,2,0]
["Golden Services","Belleville","MI",null,"A0011-55541","Private-Non-Profit Corporation","Reduced Asset Reporter",0,0,"Minivan",null,0,0,1,0,0,0,0,0,0,0,0,0,0,0,0,0,0,0,0,1,2,0]
["Harrison Township","Harrison Township","MI",null,"A0011-55542","City, County or Local Government Unit or Department of Transportation","Reduced Asset Reporter",0,0,"Cutaway",null,0,0,1,1,0,0,1,0,0,0,0,0,0,0,0,0,0,0,0,3,3.6666666666666599,0]
["City of Hazel Park","Hazel Park","MI",null,"A0011-55543","City, County or Local Government Unit or Department of Transportation","Reduced Asset Reporter",0,0,"Cutaway",null,0,0,1,1,0,0,0,0,0,0,0,0,0,0,0,0,0,0,0,2,2.5,0]
["City of Highland Park","Highland Park","MI",null,"A0011-55544","City, County or Local Government Unit or Department of Transportation","Reduced Asset Reporter",0,0,"Cutaway",null,0,0,0,1,0,0,0,0,0,0,0,0,0,0,0,0,0,0,0,1,3,0]
["Highland Township","Highland","MI",null,"A0011-55545","City, County or Local Government Unit or Department of Transportation","Reduced Asset Reporter",0,0,"Van",null,0,0,0,0,0,0,0,0,0,0,0,1,0,0,0,0,0,0,0,1,11,0]
["Highland Township","Highland","MI",null,"A0011-55545","City, County or Local Government Unit or Department of Transportation","Reduced Asset Reporter",0,0,"Cutaway",null,0,0,0,0,0,0,3,0,0,1,0,0,0,0,0,0,0,0,0,4,6.75,0]
["Village of Holly","Holly","MI",null,"A0011-55546","City, County or Local Government Unit or Department of Transportation","Reduced Asset Reporter",0,0,"Van",null,0,0,0,0,0,0,0,0,0,0,0,1,0,0,0,0,0,0,0,1,11,0]
["Village of Holly","Holly","MI",null,"A0011-55546","City, County or Local Government Unit or Department of Transportation","Reduced Asset Reporter",0,0,"Cutaway",null,0,0,0,0,0,0,0,0,0,0,0,0,0,1,0,0,0,0,0,1,13,0]
["City of Huntington Woods","Huntington Woods","MI",null,"A0011-55547","City, County or Local Government Unit or Department of Transportation","Reduced Asset Reporter",0,0,"Cutaway",null,1,0,0,0,1,0,0,0,0,1,0,0,0,1,0,0,0,0,0,4,6.75,0]
["Independence Township","Clarkston","MI",null,"A0011-55548","City, County or Local Government Unit or Department of Transportation","Reduced Asset Reporter",0,0,"Van",null,0,1,0,0,0,0,0,0,0,0,0,0,0,0,0,0,0,0,0,1,1,0]
["Independence Township","Clarkston","MI",null,"A0011-55548","City, County or Local Government Unit or Department of Transportation","Reduced Asset Reporter",0,0,"Cutaway",null,0,0,2,0,0,0,0,1,0,2,0,0,0,0,0,0,0,0,0,5,5.8,0]
["Jewish Family Services","West Bloomfield","MI",null,"A0011-55549","Private-Non-Profit Corporation","Reduced Asset Reporter",0,0,"Van",null,0,0,0,0,1,0,0,0,0,0,0,0,0,0,0,0,0,0,0,1,4,0]
["Jewish Family Services","West Bloomfield","MI",null,"A0011-55549","Private-Non-Profit Corporation","Reduced Asset Reporter",0,0,"Automobile",null,1,2,4,4,5,0,0,0,0,0,0,0,0,0,0,0,0,0,0,16,2.625,0]
["Jewish Vocational Services","Southfield","MI",null,"A0011-55550","City, County or Local Government Unit or Department of Transportation","Reduced Asset Reporter",0,0,"Van",null,0,4,5,3,3,5,1,2,4,5,4,2,6,3,1,0,0,0,0,48,7.2291666666666599,0]
["Jewish Vocational Services","Southfield","MI",null,"A0011-55550","City, County or Local Government Unit or Department of Transportation","Reduced Asset Reporter",0,0,"Cutaway",null,0,0,0,1,0,0,0,0,0,1,0,0,0,0,0,0,0,0,0,2,6,0]
["City of Lincoln Park","Lincoln Park","MI",null,"A0011-55551","City, County or Local Government Unit or Department of Transportation","Reduced Asset Reporter",0,0,"Cutaway",null,0,0,1,1,0,0,0,0,0,0,0,0,0,0,0,0,0,0,0,2,2.5,0]
["City of Livonia","Livonia","MI",null,"A0011-55552","City, County or Local Government Unit or Department of Transportation","Reduced Asset Reporter",0,0,"Van",null,0,5,0,0,0,0,0,0,0,0,0,0,0,0,0,0,0,0,0,5,1,0]
["City of Livonia","Livonia","MI",null,"A0011-55552","City, County or Local Government Unit or Department of Transportation","Reduced Asset Reporter",0,0,"Minivan",null,0,0,0,0,1,0,0,0,0,0,0,0,0,0,0,0,0,0,0,1,4,0]
["City of Livonia","Livonia","MI",null,"A0011-55552","City, County or Local Government Unit or Department of Transportation","Reduced Asset Reporter",0,0,"Cutaway",null,1,0,5,3,0,0,0,2,0,0,0,0,0,0,0,0,0,0,0,11,3,0]
["Macomb Community Action","Clinton Township","MI",null,"A0011-55553","City, County or Local Government Unit or Department of Transportation","Reduced Asset Reporter",0,0,"Van",null,0,0,1,0,0,0,0,0,0,2,0,0,0,1,0,0,0,0,0,4,8.25,0]
["Macomb Community Action","Clinton Township","MI",null,"A0011-55553","City, County or Local Government Unit or Department of Transportation","Reduced Asset Reporter",0,0,"Cutaway",null,0,0,1,0,0,0,3,0,0,0,0,0,0,0,0,0,0,0,0,4,5,0]
["City of Madison Heights","Madison Heights","MI",null,"A0011-55554","City, County or Local Government Unit or Department of Transportation","Reduced Asset Reporter",0,0,"Van",null,0,1,0,0,0,1,0,0,1,0,0,0,0,0,0,0,0,0,0,3,4.6666666666666599,0]
["City of Madison Heights","Madison Heights","MI",null,"A0011-55554","City, County or Local Government Unit or Department of Transportation","Reduced Asset Reporter",0,0,"Cutaway",null,0,0,1,0,0,0,0,0,0,0,0,0,0,1,0,0,0,0,0,2,8,0]
["Monroe County Opportunity Program","Monroe","MI",null,"A0011-55555","City, County or Local Government Unit or Department of Transportation","Reduced Asset Reporter",0,0,"Van",null,0,1,0,0,0,0,0,0,0,3,0,1,0,0,0,0,0,0,0,5,7.8,0]
["Monroe County Opportunity Program","Monroe","MI",null,"A0011-55555","City, County or Local Government Unit or Department of Transportation","Reduced Asset Reporter",0,0,"Cutaway",null,0,0,0,1,0,0,1,2,0,0,0,0,0,0,0,0,0,0,0,4,5.75,0]
["City of Northville","Northville","MI",null,"A0011-55556","City, County or Local Government Unit or Department of Transportation","Reduced Asset Reporter",0,0,"Cutaway",null,2,0,2,0,0,0,0,0,0,3,0,0,0,0,0,0,0,0,0,7,4.4285714285714199,0]
["City of Oak Park","Oak Park","MI",null,"A0011-55557","City, County or Local Government Unit or Department of Transportation","Reduced Asset Reporter",0,0,"Cutaway",null,0,0,0,0,0,0,0,1,0,1,0,0,0,0,0,0,0,0,0,2,8,0]
["North Oakland Transportation Authority","Lake Orion","MI",null,"A0011-55558","Private-Non-Profit Corporation","Reduced Asset Reporter",0,0,"Van",null,0,0,6,1,1,0,3,0,0,0,0,0,0,0,0,0,0,0,0,11,3.3636363636363602,0]
["North Oakland Transportation Authority","Lake Orion","MI",null,"A0011-55558","Private-Non-Profit Corporation","Reduced Asset Reporter",0,0,"Minivan",null,0,0,0,1,0,0,0,0,0,0,0,0,0,0,0,0,0,0,0,1,3,0]
["North Oakland Transportation Authority","Lake Orion","MI",null,"A0011-55558","Private-Non-Profit Corporation","Reduced Asset Reporter",0,0,"Cutaway",null,1,0,0,2,0,0,1,2,0,0,0,0,0,0,0,0,0,0,0,6,4.3333333333333304,0]
["Older Persons Commission","Rochester","MI",null,"A0011-55559","City, County or Local Government Unit or Department of Transportation","Reduced Asset Reporter",0,0,"Van",null,0,0,0,0,1,2,0,0,0,0,0,0,0,0,0,0,0,0,0,3,4.6666666666666599,0]
["Older Persons Commission","Rochester","MI",null,"A0011-55559","City, County or Local Government Unit or Department of Transportation","Reduced Asset Reporter",0,0,"Cutaway",null,1,0,3,0,0,0,6,2,2,3,1,2,0,0,1,0,0,0,0,21,7,0]
["City of Grosse Pointe Farms, dba: Pointe Area Assisted Transportation Services","Grosse Pointe Farms","MI",null,"A0011-55560","City, County or Local Government Unit or Department of Transportation","Reduced Asset Reporter",0,0,"Cutaway",null,0,0,2,1,0,0,1,0,0,2,0,0,0,0,0,0,0,0,0,6,5.1666666666666599,0]
["Peoples Community Services","Detroit ","MI",null,"A0011-55561","Private-Non-Profit Corporation","Reduced Asset Reporter",0,0,"Cutaway",null,0,0,0,0,0,0,0,2,0,0,0,0,0,0,0,0,0,0,0,2,7,0]
["Recreational Authority of Roseville & Eastpointe","Eastpointe","MI",null,"A0011-55562","City, County or Local Government Unit or Department of Transportation","Reduced Asset Reporter",0,0,"Van",null,0,0,2,0,0,0,0,0,1,0,0,0,0,0,0,0,0,0,0,3,4,0]
["Recreational Authority of Roseville & Eastpointe","Eastpointe","MI",null,"A0011-55562","City, County or Local Government Unit or Department of Transportation","Reduced Asset Reporter",0,0,"Cutaway",null,0,0,0,1,0,0,1,0,0,1,0,0,0,0,0,0,0,0,0,3,6,0]
["Richmond Lenox EMS","Richmond","MI",null,"A0011-55563","City, County or Local Government Unit or Department of Transportation","Reduced Asset Reporter",0,0,"Cutaway",null,4,0,2,4,0,0,0,0,0,0,0,0,0,0,0,0,0,0,0,10,1.6,0]
["City of River Rouge","River Rouge","MI",null,"A0011-55564","City, County or Local Government Unit or Department of Transportation","Reduced Asset Reporter",0,0,"Van",null,0,0,0,0,0,0,0,0,0,0,0,1,0,0,0,0,0,0,0,1,11,0]
["City of River Rouge","River Rouge","MI",null,"A0011-55564","City, County or Local Government Unit or Department of Transportation","Reduced Asset Reporter",0,0,"Cutaway",null,0,0,0,1,0,0,0,0,0,0,0,0,0,0,0,0,0,0,0,1,3,0]
["City of Romulus","Romulus","MI",null,"A0011-55565","City, County or Local Government Unit or Department of Transportation","Reduced Asset Reporter",0,0,"Van",null,0,0,0,0,0,0,1,0,0,0,0,0,0,0,0,0,0,0,0,1,6,0]
["City of Romulus","Romulus","MI",null,"A0011-55565","City, County or Local Government Unit or Department of Transportation","Reduced Asset Reporter",0,0,"Cutaway",null,1,0,0,0,0,0,2,0,0,0,0,0,0,0,0,0,0,0,0,3,4,0]
["City of Royal Oak","Royal Oak","MI",null,"A0011-55566","City, County or Local Government Unit or Department of Transportation","Reduced Asset Reporter",0,0,"Van",null,0,0,1,0,0,0,0,0,1,0,0,0,0,0,0,0,0,0,0,2,5,0]
["City of Royal Oak","Royal Oak","MI",null,"A0011-55566","City, County or Local Government Unit or Department of Transportation","Reduced Asset Reporter",0,0,"Cutaway",null,1,0,0,1,0,0,2,0,0,0,0,0,0,0,0,0,0,0,0,4,3.75,0]
["Royal Oak Township","Ferndale","MI",null,"A0011-55567","City, County or Local Government Unit or Department of Transportation","Reduced Asset Reporter",0,0,"Cutaway",null,1,0,0,0,0,0,0,1,0,0,0,0,0,0,0,0,0,0,0,2,3.5,0]
["Shelby Township","Shelby Township","MI",null,"A0011-55568","City, County or Local Government Unit or Department of Transportation","Reduced Asset Reporter",0,0,"Van",null,0,1,0,0,0,0,0,1,0,0,0,0,0,0,0,0,0,0,0,2,4,0]
["Shelby Township","Shelby Township","MI",null,"A0011-55568","City, County or Local Government Unit or Department of Transportation","Reduced Asset Reporter",0,0,"Cutaway",null,3,0,0,0,0,0,1,0,0,0,0,0,1,0,0,0,0,0,0,5,3.6,0]
["City of Southgate","Southgate","MI",null,"A0011-55569","City, County or Local Government Unit or Department of Transportation","Reduced Asset Reporter",0,0,"Van",null,0,1,0,0,0,0,0,0,0,0,0,0,0,0,0,0,0,0,0,1,1,0]
["City of Southgate","Southgate","MI",null,"A0011-55569","City, County or Local Government Unit or Department of Transportation","Reduced Asset Reporter",0,0,"Cutaway",null,0,0,0,1,0,0,0,1,0,0,0,0,0,0,0,0,0,0,0,2,5,0]
["City of St Clair Shores","St Clair Shores","MI",null,"A0011-55570","City, County or Local Government Unit or Department of Transportation","Reduced Asset Reporter",0,0,"Cutaway",null,2,0,0,2,0,0,1,0,0,1,0,0,0,1,0,0,0,0,0,7,4.8571428571428497,0]
["STAR Transportation","Romeo","MI",null,"A0011-55571","City, County or Local Government Unit or Department of Transportation","Reduced Asset Reporter",0,0,"Cutaway",null,3,0,1,0,0,0,1,0,0,1,0,0,0,0,0,0,0,0,0,6,2.8333333333333299,0]
["STAR Transportation","Romeo","MI",null,"A0011-55571","City, County or Local Government Unit or Department of Transportation","Reduced Asset Reporter",0,0,"Automobile",null,0,0,0,1,1,0,0,0,0,0,0,0,0,0,0,0,0,0,0,2,3.5,0]
["Sumpter Township","Sumpter Township","MI",null,"A0011-55572","City, County or Local Government Unit or Department of Transportation","Reduced Asset Reporter",0,0,"Van",null,0,0,0,0,0,0,1,0,0,0,0,1,0,0,0,0,0,0,0,2,8.5,0]
["City of Taylor","Taylor","MI",null,"A0011-55573","City, County or Local Government Unit or Department of Transportation","Reduced Asset Reporter",0,0,"Cutaway",null,0,0,0,2,0,0,0,0,0,0,0,0,1,0,0,0,0,0,0,3,6,0]
["City of Trenton","Trenton","MI",null,"A0011-55574","City, County or Local Government Unit or Department of Transportation","Reduced Asset Reporter",0,0,"Van",null,0,0,0,0,0,0,0,0,0,0,0,1,0,0,0,0,0,0,0,1,11,0]
["City of Trenton","Trenton","MI",null,"A0011-55574","City, County or Local Government Unit or Department of Transportation","Reduced Asset Reporter",0,0,"Cutaway",null,0,0,1,0,0,0,0,0,0,0,0,0,0,1,0,0,0,0,0,2,7.5,0]
["City of Trenton","Trenton","MI",null,"A0011-55574","City, County or Local Government Unit or Department of Transportation","Reduced Asset Reporter",0,0,"Automobile",null,0,0,0,0,0,0,0,0,0,0,1,0,0,0,0,0,0,0,0,1,10,0]
["City of Troy","Troy","MI",null,"A0011-55575","City, County or Local Government Unit or Department of Transportation","Reduced Asset Reporter",0,0,"Van",null,0,0,1,0,0,0,0,0,0,0,0,0,0,0,0,0,0,0,0,1,2,0]
["City of Troy","Troy","MI",null,"A0011-55575","City, County or Local Government Unit or Department of Transportation","Reduced Asset Reporter",0,0,"Cutaway",null,0,0,0,2,0,0,1,0,0,2,0,0,0,0,0,0,0,0,0,5,6,0]
["City of Walled Lake","Walled Lake","MI",null,"A0011-55576","City, County or Local Government Unit or Department of Transportation","Reduced Asset Reporter",0,0,"Van",null,0,0,0,0,0,0,0,0,0,0,0,1,0,0,0,0,0,0,0,1,11,0]
["City of Walled Lake","Walled Lake","MI",null,"A0011-55576","City, County or Local Government Unit or Department of Transportation","Reduced Asset Reporter",0,0,"Cutaway",null,0,0,0,1,0,0,0,0,0,0,0,0,0,0,0,0,0,0,0,1,3,0]
["City of Warren","Warren","MI",null,"A0011-55577","City, County or Local Government Unit or Department of Transportation","Reduced Asset Reporter",0,0,"Van",null,0,0,0,0,0,0,0,0,0,1,0,0,0,0,0,0,0,0,0,1,9,0]
["City of Warren","Warren","MI",null,"A0011-55577","City, County or Local Government Unit or Department of Transportation","Reduced Asset Reporter",0,0,"Cutaway",null,0,0,0,2,0,0,0,2,0,3,0,0,0,1,0,0,0,0,0,8,7.5,0]
["Waterford Township","Waterford","MI",null,"A0011-55578","City, County or Local Government Unit or Department of Transportation","Reduced Asset Reporter",0,0,"Cutaway",null,2,0,0,0,0,0,0,1,0,0,0,0,0,1,0,0,0,0,0,4,5,0]
["West Bloomfield Township","West Bloomfield Township","MI",null,"A0011-55579","City, County or Local Government Unit or Department of Transportation","Reduced Asset Reporter",0,0,"Minivan",null,0,1,0,0,0,0,0,0,0,0,0,0,0,0,0,0,0,0,0,1,1,0]
["West Bloomfield Township","West Bloomfield Township","MI",null,"A0011-55579","City, County or Local Government Unit or Department of Transportation","Reduced Asset Reporter",0,0,"Cutaway",null,1,0,0,0,0,0,0,1,0,1,0,0,0,0,0,0,0,0,0,3,5.3333333333333304,0]
["White Lake Township","White Lake","MI",null,"A0011-55580","City, County or Local Government Unit or Department of Transportation","Reduced Asset Reporter",0,0,"Cutaway",null,0,0,0,0,1,0,1,0,0,0,0,0,0,0,0,0,0,0,0,2,5,0]
["City of Wyandotte","Wyandotte","MI",null,"A0011-55581","City, County or Local Government Unit or Department of Transportation","Reduced Asset Reporter",0,0,"Van",null,0,0,0,0,0,0,0,0,0,0,0,1,0,0,0,0,0,0,0,1,11,0]
["City of Wyandotte","Wyandotte","MI",null,"A0011-55581","City, County or Local Government Unit or Department of Transportation","Reduced Asset Reporter",0,0,"Cutaway",null,0,0,0,0,0,0,0,0,0,1,0,0,0,0,0,0,0,0,0,1,9,0]
["Birmingham Area Seniors Coordinating Council d/b/a NEXT","Birmingham","MI",null,"A0011-55582","Private-Non-Profit Corporation","Reduced Asset Reporter",0,0,"Cutaway",null,0,0,0,0,0,0,0,1,0,1,0,0,1,0,0,0,0,0,0,3,9.3333333333333304,0]
["City of Melvindale","Melvindale","MI",null,"A0011-55583","City, County or Local Government Unit or Department of Transportation","Reduced Asset Reporter",0,0,"Van",null,0,1,0,0,0,0,0,0,0,0,0,0,0,0,0,0,0,0,0,1,1,0]
["City of Melvindale","Melvindale","MI",null,"A0011-55583","City, County or Local Government Unit or Department of Transportation","Reduced Asset Reporter",0,0,"Cutaway",null,0,0,0,1,0,0,0,0,0,0,0,0,0,0,0,0,0,0,0,1,3,0]
["Mt Clemens","Mt Clemens","MI",null,"A0011-55584","City, County or Local Government Unit or Department of Transportation","Reduced Asset Reporter",0,0,"Cutaway",null,1,0,0,3,0,0,2,0,0,0,0,0,0,0,0,0,0,0,0,6,3.5,0]
["Nankin Connector","Westland","MI",null,"A0011-55585","City, County or Local Government Unit or Department of Transportation","Reduced Asset Reporter",0,0,"Cutaway",null,0,0,0,10,0,0,0,0,0,0,0,0,0,0,0,0,0,0,0,10,3,0]
["Redford Township","Redford","MI",null,"A0011-55586","City, County or Local Government Unit or Department of Transportation","Reduced Asset Reporter",0,0,"Van",null,0,0,1,0,0,0,0,0,0,0,0,0,0,0,0,0,0,0,0,1,2,0]
["Redford Township","Redford","MI",null,"A0011-55586","City, County or Local Government Unit or Department of Transportation","Reduced Asset Reporter",0,0,"Cutaway",null,0,0,4,0,0,0,0,0,0,0,0,0,0,0,0,0,0,0,0,4,2,0]
["Aging Services of Norman","Norman ","OK",null,"A0012-66301","Private-Non-Profit Corporation","Reduced Asset Reporter",0,0,"Bus",null,0,0,0,0,0,0,0,0,0,0,0,2,0,0,0,0,0,0,0,2,11,0]
["Redlands Community College/Aginge Services","Elreno ","OK",null,"A0012-66302","University","Reduced Asset Reporter",0,0,"Minivan",null,0,0,0,0,0,0,0,0,0,0,0,1,0,0,0,0,0,0,0,1,11,0]
["City of Cushing","Cushing ","OK",null,"A0012-66303","City, County or Local Government Unit or Department of Transportation","Reduced Asset Reporter",0,0,"Cutaway",null,0,0,0,0,0,0,0,0,0,0,0,0,0,1,0,0,0,0,0,1,15,0]
["city of Hominy","Hominy ","OK",null,"A0012-66304","City, County or Local Government Unit or Department of Transportation","Reduced Asset Reporter",0,0,"Cutaway",null,0,0,0,0,0,0,0,0,0,1,0,0,0,0,1,0,0,0,0,2,12.5,0]
["city of Marlow","Marlow","OK",null,"A0012-66305","City, County or Local Government Unit or Department of Transportation","Reduced Asset Reporter",0,0,"Cutaway",null,0,0,0,0,0,0,0,0,0,0,0,0,0,0,1,0,0,0,0,1,20,0]
["City of Mustang","Mustang","OK",null,"A0012-66306","City, County or Local Government Unit or Department of Transportation","Reduced Asset Reporter",0,0,"Cutaway",null,0,0,0,0,0,0,0,0,0,0,0,1,0,0,0,0,0,0,0,1,11,0]
["City of Sallisaw","Sallisaw","OK",null,"A0012-66307","City, County or Local Government Unit or Department of Transportation","Reduced Asset Reporter",0,0,"Cutaway",null,0,0,0,0,0,0,0,0,0,0,0,1,0,0,0,0,0,0,0,1,11,0]
["City of Sand Springs ","Sand Springs","OK",null,"A0012-66308","City, County or Local Government Unit or Department of Transportation","Reduced Asset Reporter",0,0,"Cutaway",null,0,0,0,0,0,0,0,0,1,0,0,0,0,0,0,0,0,0,0,1,8,0]
["City of Seminole","Seminole ","OK",null,"A0012-66309","City, County or Local Government Unit or Department of Transportation","Reduced Asset Reporter",0,0,"Cutaway",null,0,0,0,0,1,0,0,0,0,0,0,0,1,0,0,0,0,0,0,2,8,0]
["City of Weatherford","Weatherford","OK",null,"A0012-66310","City, County or Local Government Unit or Department of Transportation","Reduced Asset Reporter",0,0,"Cutaway",null,0,0,0,0,0,0,0,0,0,0,0,0,0,1,0,0,0,0,0,1,14,0]
["City of Yukon","Yukon","OK",null,"A0012-66311","City, County or Local Government Unit or Department of Transportation","Reduced Asset Reporter",0,0,"Cutaway",null,0,0,0,0,0,0,0,0,0,0,0,1,0,0,0,0,0,0,0,1,11,0]
["Daily Living Centers ","Bethany","OK",null,"A0012-66312","Private-Non-Profit Corporation","Reduced Asset Reporter",0,0,"Minivan",null,0,0,0,1,1,0,0,1,0,0,0,1,0,0,1,0,0,0,0,5,8.1999999999999993,0]
["James Dennis Medical Foundation","Wakita","OK",null,"A0012-66315","Private-Non-Profit Corporation","Reduced Asset Reporter",0,0,"Minivan",null,0,0,0,0,0,0,0,1,0,0,0,0,0,1,0,0,0,0,0,2,11,0]
["Kiamichi Area Nutrition Project","Kiowa","OK",null,"A0012-66316","Private-Non-Profit Corporation","Reduced Asset Reporter",0,0,"Minivan",null,0,0,0,0,0,0,0,0,0,0,0,0,0,1,0,0,0,0,0,1,13,0]
["Norman Regional Health","Norman ","OK",null,"A0012-66317","Private-Non-Profit Corporation","Reduced Asset Reporter",0,0,"Cutaway",null,0,2,0,0,0,0,0,0,0,0,0,0,0,0,0,0,0,0,0,2,1,0]
["Xenia Adult Recreation and Services Center","Xenia","OH",null,"A0017-55513","Private-Non-Profit Corporation","Reduced Asset Reporter",0,0,"Minivan",null,0,0,6,0,0,0,0,0,0,0,0,0,0,0,0,0,0,0,0,6,2,0]
["Xenia Adult Recreation and Services Center","Xenia","OH",null,"A0017-55513","Private-Non-Profit Corporation","Reduced Asset Reporter",0,0,"Cutaway",null,2,0,0,0,0,0,0,0,0,0,0,0,0,0,0,0,0,0,0,2,0,0]
["Toward Independence","Xenia","OH",null,"A0017-55514","Private-Non-Profit Corporation","Reduced Asset Reporter",0,0,"Cutaway",null,3,1,3,0,0,0,0,0,0,0,0,0,0,0,0,0,0,0,0,7,1,0]
["Franklin Township","Franklin","OH",null,"A0017-55515","City, County or Local Government Unit or Department of Transportation","Reduced Asset Reporter",0,0,"Van",null,0,0,0,0,0,0,0,0,0,0,0,1,0,0,0,0,0,0,0,1,11,0]
["Kettering Parks Foundation","Kettering","OH",null,"A0017-55516","City, County or Local Government Unit or Department of Transportation","Reduced Asset Reporter",0,0,"Van",null,0,0,0,0,0,0,0,0,0,0,0,0,0,0,2,0,0,0,0,2,19,0]
["Kettering Parks Foundation","Kettering","OH",null,"A0017-55516","City, County or Local Government Unit or Department of Transportation","Reduced Asset Reporter",0,0,"Minivan",null,0,0,0,0,0,0,0,0,2,0,0,0,0,0,0,0,0,0,0,2,8,0]
["Kettering Parks Foundation","Kettering","OH",null,"A0017-55516","City, County or Local Government Unit or Department of Transportation","Reduced Asset Reporter",0,0,"Cutaway",null,0,0,0,0,0,0,0,0,0,1,0,0,0,1,0,0,0,0,0,2,12,0]
["Kettering Parks Foundation","Kettering","OH",null,"A0017-55516","City, County or Local Government Unit or Department of Transportation","Reduced Asset Reporter",0,0,"Automobile",null,0,0,0,0,0,0,0,0,0,0,1,0,0,0,0,0,0,0,0,1,10,0]
["Rec West Enrichment Center","Dayton","OH",null,"A0017-55517","City, County or Local Government Unit or Department of Transportation","Reduced Asset Reporter",0,0,"Van",null,0,0,0,0,0,0,0,0,1,0,0,0,0,0,0,0,0,0,0,1,8,0]
["Rec West Enrichment Center","Dayton","OH",null,"A0017-55517","City, County or Local Government Unit or Department of Transportation","Reduced Asset Reporter",0,0,"Minivan",null,0,0,1,0,0,0,0,0,0,0,0,0,0,0,0,0,0,0,0,1,2,0]
["Rec West Enrichment Center","Dayton","OH",null,"A0017-55517","City, County or Local Government Unit or Department of Transportation","Reduced Asset Reporter",0,0,"Automobile",null,0,0,0,0,0,0,0,0,0,0,0,0,0,1,0,0,0,0,0,1,15,0]

{"sheet":"Vehicle Type Count by Agency","index":3,"n_rows":2738,"n_cols":73,"rows_kept":1125,"cut":true,"hidden":false,"merged":[],"bounds":{"rows_first":500,"rows_last":125,"rows_between":500,"halvings":2}}
["Agency","City","State","Legacy NTD ID","NTD ID","Organization Type","Reporter Type","Primary UZA Population","Agency VOMS","Bus","Bus  > ULB","Articulated Bus","Articulated Bus  > ULB","Over-The-Road Bus","Over-The-Road Bus  > ULB","Double Decker Bus","Double Decker Bus  > ULB","School Bus","School Bus  > ULB","Van","Van  > ULB","Cutaway","Cutaway  > ULB","Automobile","Automobile  > ULB","Minivan","Minivan  > ULB","Sport Utility Vehicle","Sport Utility Vehicle  > ULB","Trolleybus","Trolleybus  > ULB","Heavy Rail Passenger Car","Heavy Rail Passenger Car  > ULB","Light Rail Vehicle","Light Rail Vehicle  > ULB","Commuter Rail Passenger Coach","Commuter Rail Passenger Coach  > ULB","Commuter Rail Self-Propelled Passenger Car","Commuter Rail Self-Propelled Passenger Car  > ULB","Locomotive","Locomotive  > ULB","Automated Guideway Vehicle","Automated Guideway Vehicle  > ULB","Vintage/Historic Trolley","Vintage/Historic Trolley  > ULB","Streetcar","Streetcar  > ULB","Aerial Tramway","Aerial Tram  > ULB","Monorail","Monorail  > ULB","Cable Car","Cable Car  > ULB","Inclined Plane","Inclined Plane  > ULB","Ferryboat","Ferryboat  > ULB","Other","Other  > ULB","Total Revenue Vehicles","Total Revenue Vehicles  > ULB","Automobiles","Automobiles  > ULB","Trucks And Other Rubber Tire Vehicles","Trucks And Other Rubber Tire Vehicles  > ULB","Steel Wheel Vehicles","Steel Wheel Vehicles  > ULB","Total Service Vehicles","Total Service Vehicles  > ULB",null,null,null,{"$f":"2-BU4","v":1}]
["MTA New York City Transit","New York","NY",2008,20008,"Subsidiary Unit of a Transit Agency, Reporting Separately","Full Reporter",18351295,10856,3208,601,761,40,497,7,0,0,0,0,12,0,894,580,543,0,0,0,448,14,0,0,6570,0,0,0,0,0,0,0,0,0,0,0,0,0,0,0,0,0,0,0,0,0,0,0,0,0,0,0,12933,1242,414,123,1399,359,373,260,2186,742,null,null,null,"Hide Vehicles > ULB "]
["New Jersey Transit Corporation","Newark","NJ",2080,20080,"Other Publicly-Owned or Privately Chartered Corporation","Full Reporter",18351295,3873,1231,0,85,85,1127,697,0,0,0,0,131,2,390,81,91,1,42,2,0,0,0,0,0,0,93,0,925,157,156,156,171,10,0,0,0,0,0,0,0,0,0,0,0,0,0,0,0,0,0,0,4442,1191,120,62,804,376,89,20,1013,458,null,null,null,"Show Vehicles > ULB"]
["Los Angeles County Metropolitan Transportation Authority , dba: Metro","Los Angeles","CA",9154,90154,"Independent Public Agency or Authority of Transit Service","Full Reporter",12150996,3458,1971,389,388,293,0,0,0,0,0,0,1289,0,0,0,0,0,0,0,0,0,0,0,104,0,298,0,0,0,0,0,0,0,0,0,0,0,0,0,0,0,0,0,0,0,0,0,0,0,0,0,4050,682,667,159,664,202,6,4,1337,365,null,null,null,1]
["King County Department of Metro Transit, dba: King County Metro","Seattle","WA",1,1,"City, County or Local Government Unit or Department of Transportation","Full Reporter",3059393,3150,478,144,877,190,0,0,0,0,0,0,318,47,365,30,52,0,1530,0,6,0,174,0,0,0,0,0,0,0,0,0,0,0,0,0,0,0,10,0,0,0,0,0,0,0,0,0,3,0,0,0,3813,411,136,51,381,94,0,0,517,145]
["Washington Metropolitan Area Transit Authority","Washington","DC",3030,30030,"Independent Public Agency or Authority of Transit Service","Full Reporter",4586770,3139,1601,50,65,0,0,0,0,0,0,0,799,0,0,0,89,0,0,0,0,0,0,0,1114,0,0,0,0,0,0,0,0,0,0,0,0,0,0,0,0,0,0,0,0,0,0,0,0,0,0,0,3668,50,216,64,1388,330,106,0,1710,394]
["Chicago Transit Authority","Chicago","IL",5066,50066,"Independent Public Agency or Authority of Transit Service","Full Reporter",8608208,2711,1555,104,304,0,0,0,0,0,0,0,0,0,0,0,0,0,0,0,0,0,0,0,1438,248,0,0,0,0,0,0,0,0,0,0,0,0,0,0,0,0,0,0,0,0,0,0,0,0,0,0,3297,352,31,16,726,203,110,80,867,299]
["Metropolitan Transit Authority of Harris County, Texas ","Houston","TX",6008,60008,"Independent Public Agency or Authority of Transit Service","Full Reporter",4944332,2659,759,56,88,0,227,23,0,0,0,0,453,13,168,0,589,0,389,1,3,0,0,0,0,0,75,0,0,0,0,0,0,0,0,0,0,0,0,0,0,0,0,0,0,0,0,0,0,0,0,0,2751,93,57,48,365,208,0,0,422,256]
["Massachusetts Bay Transportation Authority","Boston","MA",1003,10003,"Independent Public Agency or Authority of Transit Service","Full Reporter",4181019,2423,891,228,100,53,0,0,0,0,0,0,484,139,0,0,234,115,5,0,0,0,28,28,432,252,219,57,422,53,0,0,93,23,0,0,0,0,0,0,0,0,0,0,0,0,0,0,14,0,0,0,2922,948,60,10,1540,277,91,31,1691,318]
["Southeastern Pennsylvania Transportation Authority","Philadelphia","PA",3019,30019,"Independent Public Agency or Authority of Transit Service","Full Reporter",5441567,2372,1290,415,185,0,0,0,0,0,0,0,0,0,460,0,0,0,0,0,0,0,38,0,361,125,0,0,45,0,351,231,8,0,0,0,18,18,141,141,0,0,0,0,0,0,0,0,0,0,0,0,2897,930,194,137,519,118,78,41,791,296]
["Maryland Transit Administration","Baltimore","MD",3034,30034,"State Government Unit or Department of Transportation","Full Reporter",2203663,1683,684,0,52,0,342,0,0,0,0,0,0,0,399,169,182,0,40,0,0,0,0,0,96,96,53,0,177,0,0,0,46,6,0,0,0,0,0,0,0,0,0,0,0,0,0,0,0,0,0,0,2071,271,146,48,287,141,11,3,444,192]
["Pace - Suburban Bus Division","Arlington Heights","IL",5113,50113,"Independent Public Agency or Authority of Transit Service","Full Reporter",8608208,1510,738,72,0,0,30,0,0,0,0,0,437,196,585,326,0,0,301,96,0,0,0,0,0,0,0,0,0,0,0,0,0,0,0,0,0,0,0,0,0,0,0,0,0,0,0,0,0,0,0,0,2091,690,71,38,116,73,0,0,187,111]
["Orange County Transportation Authority","Orange","CA",9036,90036,"Independent Public Agency or Authority of Transit Service","Full Reporter",12150996,1495,441,0,36,0,0,0,0,0,0,0,326,0,271,23,182,0,146,0,213,0,0,0,0,0,0,0,0,0,0,0,0,0,0,0,0,0,0,0,0,0,0,0,0,0,0,0,0,0,0,0,1615,23,99,73,54,35,0,0,153,108]
["Denver Regional Transportation District","Denver","CO",8006,80006,"Independent Public Agency or Authority of Transit Service","Full Reporter",2374203,1457,767,3,116,0,160,0,0,0,0,0,0,0,409,2,0,0,0,0,0,0,0,0,0,0,172,0,0,0,66,0,0,0,0,0,0,0,0,0,0,0,0,0,0,0,0,0,0,0,0,0,1690,5,45,17,333,34,4,0,382,51]
["Puerto Rico Highway and Transportation Authority - Público","San Juan","PR",4105,40105,"State Government Unit or Department of Transportation","Full Reporter",2148346,1426,1,0,0,0,0,0,0,0,0,0,1445,0,0,0,864,0,0,0,0,0,0,0,0,0,0,0,0,0,0,0,0,0,0,0,0,0,0,0,0,0,0,0,0,0,0,0,0,0,0,0,2310,0,0,0,0,0,0,0,0,0]
["County of Miami-Dade , dba: Transportation & Public Work","Miami","FL",4034,40034,"City, County or Local Government Unit or Department of Transportation","Full Reporter",5502379,1396,689,312,89,0,22,3,0,0,0,0,408,0,53,0,197,0,4,0,0,0,0,0,130,96,0,0,0,0,0,0,0,0,27,0,0,0,0,0,0,0,0,0,0,0,0,0,0,0,0,0,1619,411,85,32,177,101,8,6,270,139]
["Metro-North Commuter Railroad Company, dba: MTA Metro-North Railroad","New York","NY",2078,20078,"Subsidiary Unit of a Transit Agency, Reporting Separately","Full Reporter",18351295,1168,18,6,0,0,0,0,0,0,0,0,0,0,0,0,0,0,0,0,0,0,0,0,0,0,0,0,206,62,902,138,43,0,0,0,0,0,0,0,0,0,0,0,0,0,0,0,2,0,0,0,1171,206,0,0,773,134,127,87,900,221]
["Access Services  ","El Monte","CA",9157,90157,"Independent Public Agency or Authority of Transit Service","Full Reporter",12150996,1144,0,0,0,0,0,0,0,0,0,0,483,6,40,0,1118,5,276,0,0,0,0,0,0,0,0,0,0,0,0,0,0,0,0,0,0,0,0,0,0,0,0,0,0,0,0,0,0,0,0,0,1917,11,9,0,8,0,0,0,17,0]
["Utah Transit Authority","Salt Lake City","UT",8001,80001,"Independent Public Agency or Authority of Transit Service","Full Reporter",1021243,1113,407,44,25,0,53,22,0,0,0,0,396,96,225,2,0,0,0,0,0,0,0,0,0,0,110,0,51,14,0,0,18,0,0,0,0,0,0,0,0,0,0,0,0,0,0,0,0,0,0,0,1285,178,59,44,481,98,3,0,543,142]
["MTA Bus Company","New York","NY",2188,20188,"Subsidiary Unit of a Transit Agency, Reporting Separately","Full Reporter",18351295,1111,666,121,115,0,516,337,0,0,0,0,0,0,0,0,0,0,0,0,0,0,0,0,0,0,0,0,0,0,0,0,0,0,0,0,0,0,0,0,0,0,0,0,0,0,0,0,0,0,0,0,1297,458,27,0,129,20,0,0,156,20]
["Regional Public Transportation Authority, dba: Valley Metro","Phoenix","AZ",9136,90136,"Independent Public Agency or Authority of Transit Service","Full Reporter",3629114,1070,267,0,37,0,0,0,0,0,0,0,415,24,122,0,275,0,61,0,0,0,0,0,0,0,0,0,0,0,0,0,0,0,0,0,0,0,0,0,0,0,0,0,0,0,0,0,0,0,0,0,1177,24,2,2,18,1,0,0,20,3]
["Northeast Illinois Regional Commuter Railroad Corporation, dba: Metra","Chicago","IL",5118,50118,"Independent Public Agency or Authority of Transit Service","Full Reporter",8608208,1062,0,0,0,0,0,0,0,0,0,0,0,0,0,0,0,0,0,0,0,0,0,0,0,0,0,0,847,370,186,0,149,81,0,0,0,0,0,0,0,0,0,0,0,0,0,0,0,0,0,0,1182,451,57,15,564,214,76,26,697,255]
["Dallas Area Rapid Transit","Dallas","TX",6056,60056,"Independent Public Agency or Authority of Transit Service","Full Reporter",5121892,1062,528,0,0,0,0,0,0,0,0,0,256,0,212,4,0,0,0,0,39,0,0,0,0,0,162,0,23,10,0,0,9,0,0,0,0,0,4,0,0,0,0,0,0,0,0,0,0,0,0,0,1233,14,204,67,358,64,8,0,570,131]
["MTA Long Island Rail Road","Jamaica","NY",2100,20100,"Subsidiary Unit of a Transit Agency, Reporting Separately","Full Reporter",18351295,1026,0,0,0,0,0,0,0,0,0,0,0,0,0,0,0,0,0,0,0,0,0,0,0,0,0,0,134,0,968,0,45,0,0,0,0,0,0,0,0,0,0,0,0,0,0,0,0,0,0,0,1147,0,2,0,703,95,152,107,857,202]
["Pace-Suburban Bus Division, ADA Paratransit Services","Arlington Heights","IL",5182,50182,"Independent Public Agency or Authority of Transit Service","Full Reporter",8608208,1025,0,0,0,0,0,0,0,0,0,0,111,0,561,0,0,0,656,0,0,0,0,0,0,0,0,0,0,0,0,0,0,0,0,0,0,0,0,0,0,0,0,0,0,0,0,0,0,0,0,0,1328,0,0,0,0,0,0,0,0,0]
["City and County of San Francisco, dba: San Francisco Municipal Transportation Agency","San Francisco","CA",9015,90015,"City, County or Local Government Unit or Department of Transportation","Full Reporter",3281212,1014,473,143,262,38,0,0,0,0,0,0,0,0,120,19,0,0,28,0,0,0,319,201,0,0,167,0,0,0,0,0,0,0,0,0,0,0,45,45,0,0,0,0,36,22,0,0,0,0,0,0,1450,468,183,156,312,235,17,12,512,403]
["Tri-County Metropolitan Transportation District of Oregon","Portland","OR",8,8,"Independent Public Agency or Authority of Transit Service","Full Reporter",1849898,961,670,133,0,0,0,0,0,0,0,0,75,0,266,24,75,0,0,0,0,0,0,0,0,0,145,0,1,0,5,2,0,0,0,0,0,0,0,0,0,0,0,0,0,0,0,0,0,0,0,0,1237,159,38,24,304,67,0,0,342,91]
["Port Authority of Allegheny County","Pittsburgh","PA",3022,30022,"Independent Public Agency or Authority of Transit Service","Full Reporter",1733853,933,597,127,134,8,0,0,0,0,0,0,218,0,0,0,121,0,0,0,0,0,0,0,0,0,83,0,0,0,0,0,0,0,0,0,0,0,0,0,0,0,0,0,0,0,2,2,0,0,0,0,1155,137,230,113,84,40,4,3,318,156]
["Metro Transit ","Minneapolis","MN",5027,50027,"Subsidiary Unit of a Transit Agency, Reporting Separately","Full Reporter",2650890,854,652,5,170,5,64,0,0,0,0,0,0,0,0,0,0,0,0,0,0,0,0,0,0,0,91,0,18,0,0,0,6,0,0,0,0,0,0,0,0,0,0,0,0,0,0,0,0,0,0,0,1001,10,20,10,280,95,0,0,300,105]
["Metropolitan Atlanta Rapid Transit Authority","Atlanta","GA",4022,40022,"Independent Public Agency or Authority of Transit Service","Full Reporter",4515419,846,608,147,18,0,0,0,0,0,0,0,0,0,140,0,0,0,0,0,0,0,0,0,306,0,0,0,0,0,0,0,0,0,0,0,0,0,0,0,0,0,0,0,0,0,0,0,0,0,0,0,1072,147,109,40,322,131,12,11,443,182]
["VIA Metropolitan Transit","San Antonio","TX",6011,60011,"Independent Public Agency or Authority of Transit Service","Full Reporter",1758210,824,467,0,19,0,0,0,0,0,0,0,451,0,154,21,0,0,82,0,6,0,0,0,0,0,0,0,0,0,0,0,0,0,0,0,0,0,0,0,0,0,0,0,0,0,0,0,0,0,0,0,1179,21,25,13,145,27,0,0,170,40]
["City and County of Honolulu, dba: City & County of Honolulu DTS","Honolulu","HI",9002,90002,"City, County or Local Government Unit or Department of Transportation","Full Reporter",802459,817,429,175,115,42,0,0,0,0,0,0,161,0,183,48,44,0,33,0,2,0,0,0,0,0,0,0,0,0,0,0,0,0,0,0,0,0,0,0,0,0,0,0,0,0,0,0,0,0,0,0,967,265,62,10,16,3,0,0,78,13]
["Alameda-Contra Costa Transit District","Oakland","CA",9014,90014,"Independent Public Agency or Authority of Transit Service","Full Reporter",3281212,794,518,85,110,26,46,7,0,0,0,0,7,3,264,68,0,0,0,0,0,0,0,0,0,0,0,0,0,0,0,0,0,0,0,0,0,0,0,0,0,0,0,0,0,0,0,0,0,0,0,0,945,189,57,41,98,57,0,0,155,98]
["San Diego Metropolitan Transit System","San Diego","CA",9026,90026,"Independent Public Agency or Authority of Transit Service","Full Reporter",2956746,793,462,0,113,0,24,0,0,0,0,0,0,0,215,0,0,0,0,0,0,0,0,0,0,0,128,0,0,0,0,0,0,0,0,0,2,2,0,0,0,0,0,0,0,0,0,0,0,0,0,0,944,2,11,9,15,11,0,0,26,20]
["Capital Metropolitan Transportation Authority, dba: Capital Metro","Austin","TX",6048,60048,"Independent Public Agency or Authority of Transit Service","Full Reporter",1362416,758,409,87,29,0,16,0,0,0,0,0,286,0,69,6,0,0,20,0,0,0,0,0,0,0,0,0,0,0,10,0,0,0,0,0,0,0,0,0,0,0,0,0,0,0,0,0,0,0,0,0,839,93,51,37,22,10,3,0,76,47]
["OATS, Inc.","Columbia","MO","7R03-017","7R03-70133","Private-Non-Profit Corporation","Rural Reporter",0,725,0,0,0,0,0,0,0,0,0,0,33,14,626,128,20,17,174,81,0,0,0,0,0,0,0,0,0,0,0,0,0,0,0,0,0,0,0,0,0,0,0,0,0,0,0,0,0,0,0,0,853,240,0,0,0,0,0,0,0,0]
["San Diego Association of Governments","San Diego","CA",9095,90095,"MPO, COG or Other Planning Agency","Full Reporter",2956746,714,0,0,0,0,0,0,0,0,0,0,699,0,0,0,0,0,0,0,0,0,0,0,0,0,0,0,0,0,0,0,0,0,0,0,0,0,0,0,0,0,0,0,0,0,0,0,0,0,0,0,699,0,0,0,0,0,0,0,0,0]
["Regional Transportation Commission of Southern Nevada","Las Vegas","NV",9045,90045,"Independent Public Agency or Authority of Transit Service","Full Reporter",1886011,707,133,0,151,0,0,0,120,0,0,0,0,0,402,0,0,0,0,0,0,0,0,0,0,0,0,0,0,0,0,0,0,0,0,0,0,0,0,0,0,0,0,0,0,0,0,0,0,0,0,0,806,0,0,0,0,0,0,0,0,0]
["California Vanpool Authority","Hanford","CA",9230,90230,"City, County or Local Government Unit or Department of Transportation","Full Reporter",87941,685,0,0,0,0,0,0,0,0,0,0,786,190,0,0,0,0,0,0,0,0,0,0,0,0,0,0,0,0,0,0,0,0,0,0,0,0,0,0,0,0,0,0,0,0,0,0,0,0,0,0,786,190,6,0,2,0,0,0,8,0]
["Potomac and Rappahannock Transportation Commission","Woodbridge","VA",3070,30070,"Independent Public Agency or Authority of Transit Service","Full Reporter",4586770,659,49,0,0,0,96,43,0,0,0,0,763,0,0,0,0,0,28,0,0,0,0,0,0,0,0,0,0,0,0,0,0,0,0,0,0,0,0,0,0,0,0,0,0,0,0,0,0,0,0,0,936,43,0,0,4,0,0,0,4,0]
["Snohomish County Public Transportation Benefit Area Corporation","Everett","WA",29,29,"Independent Public Agency or Authority of Transit Service","Full Reporter",3059393,648,179,0,113,32,0,0,62,0,0,0,469,56,0,0,0,0,0,0,0,0,0,0,0,0,0,0,0,0,0,0,0,0,0,0,0,0,0,0,0,0,0,0,0,0,0,0,0,0,0,0,823,88,92,11,16,2,0,0,108,13]
["Santa Clara Valley Transportation Authority","San Jose","CA",9013,90013,"Independent Public Agency or Authority of Transit Service","Full Reporter",1664496,642,440,161,58,29,0,0,0,0,0,0,77,77,31,0,119,18,0,0,0,0,0,0,0,0,99,0,0,0,0,0,0,0,0,0,1,1,0,0,0,0,0,0,0,0,0,0,0,0,0,0,825,286,89,62,222,105,1,1,312,168]
["Central Florida Regional Transportation Authority","Orlando","FL",4035,40035,"Independent Public Agency or Authority of Transit Service","Full Reporter",1510516,603,307,20,18,0,0,0,0,0,0,0,89,22,117,11,0,0,49,0,98,20,0,0,0,0,0,0,0,0,0,0,0,0,0,0,0,0,0,0,0,0,0,0,0,0,0,0,0,0,0,0,678,73,19,3,77,41,0,0,96,44]
["San Francisco Bay Area Rapid Transit District","Oakland","CA",9003,90003,"Independent Public Agency or Authority of Transit Service","Full Reporter",3281212,566,0,0,0,0,0,0,0,0,0,0,0,0,0,0,0,0,0,0,0,0,0,0,690,589,0,0,0,0,8,0,0,0,4,0,0,0,0,0,0,0,0,0,0,0,0,0,0,0,0,0,702,589,200,99,257,150,32,9,489,258]
["Metro Mobility","St. Paul","MN",5155,50155,"City, County or Local Government Unit or Department of Transportation","Full Reporter",2650890,532,0,0,0,0,0,0,0,0,0,0,0,0,582,89,0,0,0,0,31,0,0,0,0,0,0,0,0,0,0,0,0,0,0,0,0,0,0,0,0,0,0,0,0,0,0,0,0,0,0,0,613,89,0,0,0,0,0,0,0,0]
["Pierce County Transportation Benefit Area Authority","Tacoma","WA",3,3,"Independent Public Agency or Authority of Transit Service","Full Reporter",3059393,531,159,22,0,0,0,0,0,0,0,0,354,65,108,0,0,0,0,0,0,0,0,0,0,0,0,0,0,0,0,0,0,0,0,0,0,0,0,0,0,0,0,0,0,0,0,0,0,0,2,2,623,89,5,5,121,7,0,0,126,12]
["City of Phoenix Public Transit Department , dba: Valley Metro","Phoenix","AZ",9032,90032,"City, County or Local Government Unit or Department of Transportation","Full Reporter",3629114,526,420,39,93,0,0,0,0,0,0,0,0,0,141,0,0,0,0,0,0,0,0,0,0,0,0,0,0,0,0,0,0,0,0,0,0,0,0,0,0,0,0,0,0,0,0,0,0,0,0,0,654,39,43,15,13,0,0,0,56,15]
["Broward County Board of County Commissioners, dba: Broward County Transit Division","Plantation","FL",4029,40029,"City, County or Local Government Unit or Department of Transportation","Full Reporter",5502379,507,275,11,43,0,44,0,0,0,0,0,5,0,154,0,0,0,68,0,0,0,0,0,0,0,0,0,0,0,0,0,0,0,0,0,0,0,0,0,0,0,0,0,0,0,0,0,0,0,0,0,589,11,10,9,67,4,0,0,77,13]
["Delaware Transit Corporation","Dover","DE",3075,30075,"Independent Public Agency or Authority of Transit Service","Full Reporter",5441567,502,248,11,0,0,17,6,0,0,0,0,0,0,384,108,0,0,0,0,0,0,0,0,0,0,0,0,0,0,0,0,0,0,0,0,0,0,0,0,0,0,0,0,0,0,0,0,0,0,0,0,649,125,60,21,55,3,0,0,115,24]
["Bi-State Development Agency of the Missouri-Illinois Metropolitan District, dba: d.b.a. (St. Louis) Metro","St. Louis","MO",7006,70006,"Independent Public Agency or Authority of Transit Service","Full Reporter",2150706,493,411,81,15,15,0,0,0,0,0,0,54,0,70,70,0,0,0,0,0,0,0,0,0,0,87,31,0,0,0,0,0,0,0,0,0,0,0,0,0,0,0,0,0,0,0,0,0,0,0,0,637,197,59,34,201,103,0,0,260,137]
["The Greater Cleveland Regional Transit Authority","Cleveland","OH",5015,50015,"Independent Public Agency or Authority of Transit Service","Full Reporter",1780673,472,295,102,64,0,23,11,0,0,0,0,21,0,114,39,19,0,29,0,1,0,0,0,40,40,34,34,0,0,0,0,0,0,0,0,0,0,0,0,0,0,0,0,0,0,0,0,0,0,0,0,640,226,68,18,69,12,20,12,157,42]
["Ben Franklin Transit","Richland","WA",18,18,"Independent Public Agency or Authority of Transit Service","Full Reporter",210975,429,72,7,0,0,0,0,0,0,0,0,351,205,96,4,0,0,0,0,0,0,0,0,0,0,0,0,0,0,0,0,0,0,0,0,0,0,0,0,0,0,0,0,0,0,0,0,0,0,0,0,519,216,25,25,18,9,0,0,43,34]
["Board of County Commissioners, Palm Beach County, dba: Palm Tran, Inc.","West Palm Beach","FL",4037,40037,"City, County or Local Government Unit or Department of Transportation","Full Reporter",5502379,414,207,0,6,0,0,0,0,0,0,0,21,0,198,0,1,0,40,0,0,0,0,0,0,0,0,0,0,0,0,0,0,0,0,0,0,0,0,0,0,0,0,0,0,0,0,0,0,0,0,0,473,0,45,12,38,4,0,0,83,16]
["Enterprise Rideshare - Michigan","Farmington Hills","MI",5193,50193,"Private Provider Reporting on Behalf of a Public Entity","Full Reporter",3734090,407,0,0,0,0,0,0,0,0,0,0,198,0,0,0,0,0,21,0,180,0,0,0,0,0,0,0,0,0,0,0,0,0,0,0,0,0,0,0,0,0,0,0,0,0,0,0,0,0,0,0,399,0,0,0,0,0,0,0,0,0]
["Milwaukee County, dba: Milwaukee County Transit System","Milwaukee","WI",5008,50008,"City, County or Local Government Unit or Department of Transportation","Full Reporter",1376476,405,382,40,0,0,0,0,0,0,0,0,123,0,0,0,0,0,0,0,0,0,0,0,0,0,0,0,0,0,0,0,0,0,0,0,0,0,0,0,0,0,0,0,0,0,0,0,0,0,0,0,505,40,0,0,65,33,0,0,65,33]
["City of Charlotte North Carolina, dba: Charlotte Area Transit System","Charlotte","NC",4008,40008,"City, County or Local Government Unit or Department of Transportation","Full Reporter",1249442,404,584,188,0,0,40,18,0,0,0,0,77,21,81,14,0,0,49,32,0,0,0,0,0,0,40,0,0,0,0,0,0,0,0,0,0,0,3,0,0,0,0,0,0,0,0,0,0,0,0,0,874,273,23,20,127,10,1,0,151,30]
["San Mateo County Transit District","San Carlos","CA",9009,90009,"Independent Public Agency or Authority of Transit Service","Full Reporter",3281212,399,311,62,55,55,0,0,0,0,0,0,24,0,66,7,64,12,0,0,0,0,0,0,0,0,0,0,0,0,0,0,0,0,0,0,0,0,0,0,0,0,0,0,0,0,0,0,0,0,0,0,520,136,51,33,22,6,0,0,73,39]
["Transportation District Commission of Hampton Roads, dba: Hampton Roads Transit","Hampton","VA",3083,30083,"Independent Public Agency or Authority of Transit Service","Full Reporter",1439666,397,264,79,0,0,0,0,0,0,0,0,27,0,76,0,30,0,23,0,8,0,0,0,0,0,9,0,0,0,0,0,0,0,0,0,0,0,0,0,0,0,0,0,0,0,0,0,4,2,0,0,441,81,64,51,33,5,0,0,97,56]
["Central Puget Sound Regional Transit Authority, dba: Sound Transit","Seattle","WA",40,40,"Independent Public Agency or Authority of Transit Service","Full Reporter",3059393,384,93,12,152,38,50,0,37,0,0,0,0,0,0,0,0,0,0,0,0,0,0,0,0,0,65,0,67,0,0,0,14,0,0,0,0,0,0,0,0,0,0,0,0,0,0,0,0,0,0,0,478,50,44,11,124,11,2,0,170,22]
["City of Los Angeles, dba: City of Los Angeles Department of Transportation","Los Angeles","CA",9147,90147,"City, County or Local Government Unit or Department of Transportation","Full Reporter",12150996,359,204,20,0,0,110,0,0,0,0,0,61,10,46,0,9,0,0,0,0,0,0,0,0,0,0,0,0,0,0,0,0,0,0,0,0,0,0,0,0,0,0,0,0,0,0,0,0,0,0,0,430,30,0,0,4,0,0,0,4,0]
["Niagara Frontier Transportation Authority","Buffalo","NY",2004,20004,"Independent Public Agency or Authority of Transit Service","Full Reporter",935906,358,343,0,0,0,0,0,0,0,0,0,0,0,80,10,0,0,0,0,0,0,0,0,0,0,27,27,0,0,0,0,0,0,0,0,0,0,0,0,0,0,0,0,0,0,0,0,0,0,0,0,450,37,5,5,104,52,0,0,109,57]
["Southwest Ohio Regional Transit Authority, dba: Metro / Access","Cincinnati","OH",5012,50012,"Independent Public Agency or Authority of Transit Service","Full Reporter",1624827,348,355,83,5,0,0,0,0,0,0,0,4,4,45,0,0,0,0,0,0,0,0,0,0,0,0,0,0,0,0,0,0,0,0,0,0,0,5,0,0,0,0,0,0,0,0,0,0,0,0,0,414,87,39,30,21,12,0,0,60,42]
["Pinellas Suncoast Transit Authority","St. Petersburg","FL",4027,40027,"Independent Public Agency or Authority of Transit Service","Full Reporter",2441770,345,225,20,0,0,0,0,0,0,0,0,79,0,0,0,192,0,0,0,0,0,0,0,0,0,0,0,0,0,0,0,0,0,0,0,0,0,0,0,0,0,0,0,0,0,0,0,0,0,0,0,496,20,31,5,16,3,0,0,47,8]
["Westchester County, dba: The Bee-Line System","White Plains","NY",2076,20076,"City, County or Local Government Unit or Department of Transportation","Full Reporter",18351295,343,247,0,78,54,0,0,0,0,0,0,7,0,54,0,41,0,6,0,0,0,0,0,0,0,0,0,0,0,0,0,0,0,0,0,0,0,0,0,0,0,0,0,0,0,0,0,0,0,0,0,433,54,0,0,30,1,0,0,30,1]
["City of Tucson","Tucson   ","AZ",9033,90033,"City, County or Local Government Unit or Department of Transportation","Full Reporter",843168,336,246,0,0,0,0,0,0,0,0,0,0,0,119,0,10,0,10,0,0,0,0,0,0,0,0,0,0,0,0,0,0,0,0,0,0,0,8,0,0,0,0,0,0,0,0,0,0,0,0,0,393,0,14,3,34,1,0,0,48,4]
["Greater Richmond Transit Company","Richmond","VA",3006,30006,"Other Publicly-Owned or Privately Chartered Corporation","Full Reporter",953556,330,157,16,0,0,8,0,0,0,0,0,89,0,101,0,8,0,68,0,8,0,0,0,0,0,0,0,0,0,0,0,0,0,0,0,0,0,0,0,0,0,0,0,0,0,0,0,0,0,0,0,439,16,6,3,34,7,0,0,40,10]
["Transit Authority of River City","Louisville","KY",4018,40018,"Independent Public Agency or Authority of Transit Service","Full Reporter",972546,328,221,76,0,0,0,0,0,0,0,0,77,30,73,34,102,0,0,0,0,0,0,0,0,0,0,0,0,0,0,0,0,0,0,0,0,0,0,0,0,0,0,0,0,0,0,0,0,0,0,0,473,140,38,17,11,9,0,0,49,26]
["Central Ohio Transit Authority","Columbus","OH",5016,50016,"Independent Public Agency or Authority of Transit Service","Full Reporter",1368035,328,341,29,0,0,0,0,0,0,0,0,32,0,32,12,0,0,0,0,0,0,0,0,0,0,0,0,0,0,0,0,0,0,0,0,0,0,0,0,0,0,0,0,0,0,0,0,0,0,0,0,405,41,34,8,37,1,0,0,71,9]
["County of Nassau, dba: Nassau Inter County Express","Garden City","NY",2206,20206,"City, County or Local Government Unit or Department of Transportation","Full Reporter",18351295,323,272,0,5,0,0,0,0,0,0,0,86,0,32,6,5,0,0,0,0,0,0,0,0,0,0,0,0,0,0,0,0,0,0,0,0,0,0,0,0,0,0,0,0,0,0,0,0,0,0,0,400,6,41,7,15,4,0,0,56,11]
["Suburban Mobility Authority for Regional Transportation","Detroit","MI",5031,50031,"Independent Public Agency or Authority of Transit Service","Full Reporter",3734090,322,238,72,2,0,0,0,0,0,0,0,1,0,140,0,0,0,0,0,0,0,0,0,0,0,0,0,0,0,0,0,0,0,0,0,0,0,0,0,0,0,0,0,0,0,0,0,0,0,0,0,381,72,2,2,22,8,0,0,24,10]
["Kansas City Area Transportation Authority","Kansas City","MO",7005,70005,"Independent Public Agency or Authority of Transit Service","Full Reporter",1519417,311,211,36,0,0,0,0,0,0,0,0,21,0,53,14,51,0,37,0,9,0,0,0,0,0,0,0,0,0,0,0,0,0,0,0,0,0,0,0,0,0,0,0,0,0,0,0,0,0,0,0,382,50,50,17,28,4,0,0,78,21]
["City of Detroit , dba: Detroit Department of Transportation","Detroit","MI",5119,50119,"City, County or Local Government Unit or Department of Transportation","Full Reporter",3734090,309,302,112,10,0,0,0,0,0,0,0,118,0,0,0,0,0,0,0,0,0,0,0,0,0,0,0,0,0,0,0,0,0,0,0,0,0,0,0,0,0,0,0,0,0,0,0,0,0,0,0,430,112,0,0,36,14,0,0,36,14]
["Montgomery County, Maryland, dba: Ride On, Montgomery County Transit","Rockville","MD",3051,30051,"City, County or Local Government Unit or Department of Transportation","Full Reporter",4586770,307,369,43,0,0,0,0,0,0,0,0,0,0,0,0,0,0,0,0,0,0,0,0,0,0,0,0,0,0,0,0,0,0,0,0,0,0,0,0,0,0,0,0,0,0,0,0,0,0,0,0,369,43,0,0,47,16,0,0,47,16]
["Spokane Transit Authority","Spokane","WA",2,2,"Independent Public Agency or Authority of Transit Service","Full Reporter",387847,306,122,4,20,0,0,0,0,0,0,0,143,66,108,1,0,0,0,0,0,0,0,0,0,0,0,0,0,0,0,0,0,0,0,0,0,0,0,0,0,0,0,0,0,0,0,0,0,0,0,0,393,71,6,3,39,2,0,0,45,5]
["Port Authority Trans-Hudson Corporation","Jersey City","NJ",2098,20098,"Independent Public Agency or Authority of Transit Service","Full Reporter",18351295,304,0,0,0,0,0,0,0,0,0,0,0,0,0,0,0,0,0,0,0,0,0,0,350,0,0,0,0,0,0,0,0,0,0,0,0,0,0,0,0,0,0,0,0,0,0,0,6,0,0,0,356,0,0,0,47,1,111,54,158,55]
["Cape Cod Regional Transit Authority","Hyannis","MA",1105,10105,"Independent Public Agency or Authority of Transit Service","Full Reporter",246695,303,28,0,0,0,0,0,0,0,0,0,190,0,96,2,49,0,9,0,0,0,0,0,0,0,0,0,0,0,0,0,0,0,0,0,0,0,0,0,0,0,0,0,0,0,0,0,0,0,0,0,372,2,0,0,10,0,0,0,10,0]
["Victor Valley Transit Authority","Hesperia","CA",9148,90148,"Independent Public Agency or Authority of Transit Service","Full Reporter",328454,302,51,11,0,0,5,0,0,0,0,0,300,3,59,6,0,0,0,0,0,0,0,0,0,0,0,0,0,0,0,0,0,0,0,0,0,0,0,0,0,0,0,0,0,0,0,0,0,0,0,0,415,20,14,0,17,0,0,0,31,0]
["Rhode Island Public Transit Authority","Providence","RI",1001,10001,"Independent Public Agency or Authority of Transit Service","Full Reporter",1190956,299,262,38,0,0,0,0,0,0,0,0,8,0,75,48,8,0,0,0,0,0,0,0,0,0,0,0,0,0,0,0,0,0,0,0,0,0,0,0,0,0,0,0,0,0,0,0,0,0,0,0,353,86,24,9,16,0,0,0,40,9]
["Foothill Transit","West Covina","CA",9146,90146,"Independent Public Agency or Authority of Transit Service","Full Reporter",12150996,296,324,57,30,0,0,0,0,0,0,0,0,0,0,0,0,0,0,0,0,0,0,0,0,0,0,0,0,0,0,0,0,0,0,0,0,0,0,0,0,0,0,0,0,0,0,0,0,0,0,0,354,57,22,0,5,0,0,0,27,0]
["Riverside Transit Agency","Riverside","CA",9031,90031,"Independent Public Agency or Authority of Transit Service","Full Reporter",1932666,293,183,0,0,0,0,0,0,0,0,0,0,0,130,0,15,0,0,0,0,0,0,0,0,0,0,0,0,0,0,0,0,0,0,0,0,0,0,0,0,0,0,0,0,0,0,0,0,0,0,0,328,0,58,0,5,5,0,0,63,5]
["Fort Worth Transportation Authority, dba: Trinity Metro","Fort Worth","TX",6007,60007,"Independent Public Agency or Authority of Transit Service","Full Reporter",5121892,292,140,26,14,0,0,0,0,0,0,0,21,0,43,0,8,0,45,0,0,0,0,0,0,0,0,0,0,0,0,0,0,0,0,0,0,0,0,0,0,0,0,0,0,0,0,0,0,0,0,0,271,26,6,0,63,12,0,0,69,12]
["Suffolk County , dba: Dept of Public Works - Transportation Division","Yaphank","NY",2072,20072,"City, County or Local Government Unit or Department of Transportation","Full Reporter",18351295,290,111,7,0,0,0,0,0,0,0,0,0,0,233,0,0,0,0,0,0,0,0,0,0,0,0,0,0,0,0,0,0,0,0,0,0,0,0,0,0,0,0,0,0,0,0,0,0,0,0,0,344,7,0,0,4,0,0,0,4,0]
["City of Raleigh, dba: GoRaleigh","Raleigh","NC",4007,40007,"City, County or Local Government Unit or Department of Transportation","Full Reporter",884891,289,89,4,0,0,0,0,0,0,0,0,72,0,9,0,161,0,0,0,0,0,0,0,0,0,0,0,0,0,0,0,0,0,0,0,0,0,0,0,0,0,0,0,0,0,0,0,0,0,0,0,331,4,8,2,2,0,0,0,10,2]
["Intercity Transit","Olympia","WA",19,19,"Independent Public Agency or Authority of Transit Service","Full Reporter",176617,282,71,25,0,0,0,0,0,0,0,0,240,126,50,38,0,0,0,0,0,0,0,0,0,0,0,0,0,0,0,0,0,0,0,0,0,0,0,0,0,0,0,0,0,0,0,0,0,0,0,0,361,189,4,2,16,0,0,0,20,2]
["Capital District Transportation Authority","Albany","NY",2002,20002,"Independent Public Agency or Authority of Transit Service","Full Reporter",594962,272,245,8,10,0,0,0,0,0,0,0,15,0,31,2,58,0,0,0,0,0,0,0,0,0,0,0,0,0,0,0,0,0,0,0,0,0,0,0,0,0,0,0,0,0,0,0,0,0,0,0,359,10,0,0,47,19,0,0,47,19]
["Enterprise Rideshare","Atlanta","GA",4203,40203,"Private-For-Profit Corporation","Full Reporter",4515419,272,0,0,0,0,0,0,0,0,0,0,227,0,0,0,0,0,2,0,38,0,0,0,0,0,0,0,0,0,0,0,0,0,0,0,0,0,0,0,0,0,0,0,0,0,0,0,0,0,0,0,267,0,0,0,0,0,0,0,0,0]
["Salem Area Mass Transit District, dba: Salem-Keizer Transit","Salem","OR",25,25,"Independent Public Agency or Authority of Transit Service","Full Reporter",236632,267,80,42,0,0,0,0,0,0,0,0,19,2,23,23,0,0,13,0,3,0,0,0,0,0,0,0,0,0,0,0,0,0,0,0,0,0,0,0,0,0,0,0,0,0,0,0,0,0,0,0,138,67,7,0,11,1,0,0,18,1]
["Metropolitan Transit Authority","Nashville","TN",4004,40004,"Independent Public Agency or Authority of Transit Service","Full Reporter",969587,266,132,37,45,0,5,0,0,0,0,0,100,0,91,35,8,0,0,0,0,0,0,0,0,0,0,0,0,0,0,0,0,0,0,0,0,0,0,0,0,0,0,0,0,0,0,0,0,0,0,0,381,72,3,1,57,17,0,0,60,18]
["Ann Arbor Area Transportation Authority","Ann Arbor","MI",5040,50040,"Independent Public Agency or Authority of Transit Service","Full Reporter",306022,265,103,8,0,0,3,0,0,0,0,0,112,0,16,0,60,0,0,0,0,0,0,0,0,0,0,0,0,0,0,0,0,0,0,0,0,0,0,0,0,0,0,0,0,0,0,0,0,0,0,0,294,8,4,1,17,0,0,0,21,1]
["Regional Transportation Commission of Washoe County","Reno","NV",9001,90001,"Independent Public Agency or Authority of Transit Service","Full Reporter",392141,264,66,9,8,0,0,0,0,0,0,0,145,0,45,0,6,0,16,2,0,0,0,0,0,0,0,0,0,0,0,0,0,0,0,0,0,0,0,0,0,0,0,0,0,0,0,0,0,0,0,0,286,11,0,0,4,1,0,0,4,1]
["Pioneer Valley Transit Authority","Springfield","MA",1008,10008,"Independent Public Agency or Authority of Transit Service","Full Reporter",621300,263,187,31,4,0,0,0,0,0,0,0,2,2,142,38,0,0,0,0,0,0,0,0,0,0,0,0,0,0,0,0,0,0,0,0,0,0,0,0,0,0,0,0,0,0,0,0,0,0,0,0,335,71,3,3,43,8,0,0,46,11]
["Kitsap Transit","Bremerton","WA",20,20,"Independent Public Agency or Authority of Transit Service","Full Reporter",198979,258,61,21,0,0,42,0,0,0,0,0,169,134,82,32,2,0,0,0,0,0,0,0,0,0,0,0,0,0,0,0,0,0,0,0,0,0,0,0,0,0,0,0,0,0,0,0,6,0,0,0,362,187,8,8,40,19,0,0,48,27]
["City of Madison","Madison","WI",5005,50005,"City, County or Local Government Unit or Department of Transportation","Full Reporter",401661,254,215,28,0,0,0,0,0,0,0,0,78,0,0,0,28,0,0,0,0,0,0,0,0,0,0,0,0,0,0,0,0,0,0,0,0,0,0,0,0,0,0,0,0,0,0,0,0,0,0,0,321,28,13,7,16,6,0,0,29,13]
["Jacksonville Transportation Authority","Jacksonville","FL",4040,40040,"Independent Public Agency or Authority of Transit Service","Full Reporter",1065219,253,179,19,0,0,0,0,0,0,0,0,7,5,97,7,0,0,7,0,0,0,0,0,0,0,0,0,0,0,0,0,0,0,6,0,0,0,0,0,0,0,0,0,0,0,0,0,1,0,0,0,297,31,30,21,44,25,0,0,74,46]
["Omnitrans","San Bernardino","CA",9029,90029,"Independent Public Agency or Authority of Transit Service","Full Reporter",1932666,250,157,29,15,0,0,0,0,0,0,0,0,0,106,32,0,0,0,0,0,0,0,0,0,0,0,0,0,0,0,0,0,0,0,0,0,0,0,0,0,0,0,0,0,0,0,0,0,0,0,0,278,61,48,3,36,7,0,0,84,10]
["Central Pennsylvania Transportation Authority","York","PA",3027,30027,"Independent Public Agency or Authority of Transit Service","Full Reporter",232045,248,29,6,0,0,14,0,0,0,0,0,56,0,196,2,0,0,17,7,0,0,0,0,0,0,0,0,0,0,0,0,0,0,0,0,0,0,0,0,0,0,0,0,0,0,0,0,0,0,0,0,312,15,18,7,7,2,0,0,25,9]
["Regional Transit Service - Monroe County, dba: RTS Monroe (MB) and RTS Access (DR)","Rochester","NY",2113,20113,"Independent Public Agency or Authority of Transit Service","Full Reporter",720572,247,194,4,30,0,0,0,0,0,0,0,4,0,56,0,0,0,0,0,0,0,0,0,0,0,0,0,0,0,0,0,0,0,0,0,0,0,0,0,0,0,0,0,0,0,0,0,0,0,0,0,284,4,19,6,13,5,0,0,32,11]
["Fairfax County, VA, dba: Fairfax Connector Bus System","Fairfax","VA",3068,30068,"City, County or Local Government Unit or Department of Transportation","Full Reporter",4586770,245,308,0,0,0,0,0,0,0,0,0,0,0,0,0,0,0,0,0,0,0,0,0,0,0,0,0,0,0,0,0,0,0,0,0,0,0,0,0,0,0,0,0,0,0,0,0,0,0,0,0,308,0,23,2,23,1,0,0,46,3]
["Lane Transit District","Eugene","OR",7,7,"Independent Public Agency or Authority of Transit Service","Full Reporter",247421,242,70,20,32,1,0,0,0,0,0,0,153,1,50,12,152,0,0,0,0,0,0,0,0,0,0,0,0,0,0,0,0,0,0,0,0,0,0,0,0,0,0,0,0,0,0,0,0,0,0,0,457,34,3,1,31,16,0,0,34,17]
["Mass Transportation Authority ","Flint","MI",5032,50032,"Independent Public Agency or Authority of Transit Service","Full Reporter",356218,242,122,67,0,0,22,2,0,0,0,0,0,0,131,6,54,0,0,0,0,0,0,0,0,0,0,0,0,0,0,0,0,0,0,0,0,0,0,0,0,0,0,0,0,0,0,0,0,0,0,0,329,75,7,3,15,2,0,0,22,5]
["Connecticut Department of Transportation - CTTRANSIT - Hartford Division","Hartford","CT",1048,10048,"State Government Unit or Department of Transportation","Full Reporter",924859,236,265,7,22,0,6,4,0,0,0,0,0,0,0,0,0,0,0,0,0,0,0,0,0,0,0,0,0,0,0,0,0,0,0,0,0,0,0,0,0,0,0,0,0,0,0,0,0,0,0,0,293,11,7,2,30,4,0,0,37,6]
["Des Moines Area Regional Transit Authority","Des Moines","IA",7010,70010,"Independent Public Agency or Authority of Transit Service","Full Reporter",450070,233,110,11,6,0,0,0,0,0,0,0,71,11,34,7,2,0,42,12,0,0,0,0,0,0,0,0,0,0,0,0,0,0,0,0,0,0,0,0,0,0,0,0,0,0,0,0,0,0,0,0,265,41,1,1,17,1,0,0,18,2]
["North County Transit District","Oceanside","CA",9030,90030,"Independent Public Agency or Authority of Transit Service","Full Reporter",2956746,233,142,41,0,0,0,0,0,0,0,0,0,0,57,25,0,0,21,0,0,0,0,0,0,0,12,0,28,0,0,0,7,0,0,0,0,0,0,0,0,0,0,0,0,0,0,0,0,0,0,0,267,66,53,29,34,24,5,0,92,53]
["Sacramento Regional Transit District","Sacramento","CA",9019,90019,"Independent Public Agency or Authority of Transit Service","Full Reporter",1723634,232,198,0,0,0,0,0,0,0,0,0,0,0,26,1,0,0,0,0,0,0,0,0,0,0,95,55,0,0,0,0,0,0,0,0,0,0,0,0,0,0,0,0,0,0,0,0,0,0,0,0,319,56,30,9,149,28,1,0,180,37]
["Interurban Transit Partnership","Grand Rapids","MI",5033,50033,"Independent Public Agency or Authority of Transit Service","Full Reporter",569935,229,169,0,0,0,0,0,0,0,0,0,22,0,94,2,0,0,2,0,5,0,0,0,0,0,0,0,0,0,0,0,0,0,0,0,0,0,0,0,0,0,0,0,0,0,0,0,0,0,0,0,292,2,8,4,39,3,0,0,47,7]
["Academy Lines, Inc.","Hoboken","NJ",2122,20122,"Private-For-Profit Corporation","Full Reporter",18351295,225,0,0,0,0,224,131,0,0,0,0,0,0,0,0,0,0,0,0,0,0,0,0,0,0,0,0,0,0,0,0,0,0,0,0,0,0,0,0,0,0,0,0,0,0,0,0,0,0,0,0,224,131,0,0,0,0,0,0,0,0]
["Central New York Regional Transportation Authority, dba: New York Regional Transportation Authority","Syracuse","NY",2018,20018,"Independent Public Agency or Authority of Transit Service","Full Reporter",412317,222,238,55,0,0,12,0,0,0,0,0,5,0,63,8,15,0,0,0,0,0,0,0,0,0,0,0,0,0,0,0,0,0,0,0,0,0,0,0,0,0,0,0,0,0,0,0,0,0,0,0,333,63,37,10,7,2,0,0,44,12]
["Metropolitan Council","St. Paul","MN",5154,50154,"City, County or Local Government Unit or Department of Transportation","Full Reporter",2650890,218,106,9,0,0,0,0,0,0,0,0,59,0,84,10,0,0,0,0,0,0,0,0,0,0,0,0,0,0,0,0,0,0,0,0,0,0,0,0,0,0,0,0,0,0,0,0,0,0,0,0,249,19,0,0,3,0,0,0,3,0]
["Central Arkansas Development Council, dba: South Central Arkansas Transit","Benton","AR","6R01-002","6R01-60246","Private-Non-Profit Corporation","Rural Reporter",0,215,1,0,0,0,0,0,0,0,0,0,29,14,133,42,4,4,48,13,0,0,0,0,0,0,0,0,0,0,0,0,0,0,0,0,0,0,0,0,0,0,0,0,0,0,0,0,0,0,0,0,215,73,0,0,1,1,0,0,1,1]
["METRO Regional Transit Authority ","Akron","OH",5010,50010,"Independent Public Agency or Authority of Transit Service","Full Reporter",569499,214,133,8,6,0,8,2,0,0,0,0,15,0,81,0,11,0,0,0,0,0,0,0,0,0,0,0,0,0,0,0,0,0,0,0,0,0,0,0,0,0,0,0,0,0,0,0,0,0,0,0,254,10,0,0,9,0,0,0,9,0]
["Indianapolis and Marion County Public Transportation","Indianapolis","IN",5050,50050,"Independent Public Agency or Authority of Transit Service","Full Reporter",1487483,211,179,71,5,5,0,0,0,0,0,0,0,0,74,0,0,0,4,0,0,0,0,0,0,0,0,0,0,0,0,0,0,0,0,0,0,0,0,0,0,0,0,0,0,0,0,0,0,0,0,0,262,76,2,2,32,4,0,0,34,6]
["Penquis Community Action Program","Bangor","ME","1R03-006","1R03-10134","Private-Non-Profit Corporation","Rural Reporter",0,207,0,0,0,0,0,0,0,0,0,0,66,8,3,1,0,0,3,1,0,0,0,0,0,0,0,0,0,0,0,0,0,0,0,0,0,0,0,0,0,0,0,0,0,0,0,0,0,0,0,0,72,10,0,0,0,0,0,0,0,0]
["Toledo Area Regional Transit Authority","Toledo","OH",5022,50022,"Independent Public Agency or Authority of Transit Service","Full Reporter",507643,207,165,49,0,0,0,0,0,0,5,2,0,0,31,4,143,0,0,0,0,0,0,0,0,0,0,0,0,0,0,0,0,0,0,0,0,0,0,0,0,0,0,0,0,0,0,0,0,0,0,0,344,55,11,11,3,2,0,0,14,13]
["Blue Water Area Transportation Commission","Port Huron","MI",5148,50148,"Independent Public Agency or Authority of Transit Service","Full Reporter",87106,203,93,4,0,0,0,0,0,0,0,0,116,0,0,0,20,0,5,0,0,0,0,0,0,0,0,0,0,0,0,0,0,0,0,0,0,0,0,0,0,0,0,0,0,0,0,0,0,0,0,0,234,4,0,0,5,2,0,0,5,2]
["Long Beach Transit","Long Beach","CA",9023,90023,"Other Publicly-Owned or Privately Chartered Corporation","Full Reporter",12150996,197,211,49,13,0,0,0,0,0,0,0,10,10,0,0,0,0,0,0,0,0,0,0,0,0,0,0,0,0,0,0,0,0,0,0,0,0,0,0,0,0,0,0,0,0,0,0,0,0,0,0,234,59,22,18,31,9,0,0,53,27]
["Southern California Regional Rail Authority, dba: Metrolink","Los Angeles","CA",9151,90151,"Independent Public Agency or Authority of Transit Service","Full Reporter",12150996,195,0,0,0,0,0,0,0,0,0,0,0,0,0,0,0,0,0,0,0,0,0,0,0,0,0,0,236,0,0,0,55,1,0,0,0,0,0,0,0,0,0,0,0,0,0,0,0,0,0,0,291,1,135,71,33,21,13,5,181,97]
["City of El Paso, dba: Sun Metro","El Paso","TX",6006,60006,"City, County or Local Government Unit or Department of Transportation","Full Reporter",803086,193,151,0,13,0,0,0,0,0,0,0,3,0,76,3,0,0,0,0,0,0,0,0,0,0,0,0,0,0,0,0,0,0,0,0,0,0,0,0,0,0,0,0,0,0,0,0,0,0,0,0,243,3,14,5,55,41,0,0,69,46]
["City of Albuquerque Transit Department, dba: ABQRIDE","Albuquerque","NM",6019,60019,"City, County or Local Government Unit or Department of Transportation","Full Reporter",741318,193,132,0,23,11,0,0,0,0,0,0,0,0,122,0,0,0,0,0,0,0,0,0,0,0,0,0,0,0,0,0,0,0,0,0,0,0,0,0,0,0,0,0,0,0,0,0,0,0,0,0,277,11,0,0,6,1,0,0,6,1]
["Hudson Transit Lines, Inc.","Mahwah","NJ",2126,20126,"Private-For-Profit Corporation","Full Reporter",18351295,184,4,0,0,0,196,0,0,0,0,0,0,0,3,0,0,0,0,0,0,0,0,0,0,0,0,0,0,0,0,0,0,0,0,0,0,0,0,0,0,0,0,0,0,0,0,0,0,0,0,0,203,0,0,0,0,0,0,0,0,0]
["Rural Transit Enterprises Coordinated, Inc.","Mt. Vernon","KY","4R04-019","4R04-40941","Private-Non-Profit Corporation","Rural Reporter",0,183,3,0,0,0,0,0,0,0,0,0,35,12,173,5,0,0,48,9,4,1,0,0,0,0,0,0,0,0,0,0,0,0,0,0,0,0,0,0,0,0,0,0,0,0,0,0,0,0,0,0,263,27,4,2,0,0,0,0,4,2]
["South Central Transit Authority","Lancaster","PA",null,30202,"Independent Public Agency or Authority of Transit Service","Full Reporter",402004,182,94,23,0,0,0,0,0,0,0,0,3,0,113,24,0,0,17,12,0,0,0,0,0,0,0,0,0,0,0,0,0,0,0,0,0,0,0,0,0,0,0,0,0,0,0,0,0,0,0,0,227,59,10,7,6,5,0,0,16,12]
["Clark County Public Transportation Benefit Area Authority","Vancouver","WA",24,24,"Independent Public Agency or Authority of Transit Service","Full Reporter",1849898,180,103,30,10,0,0,0,0,0,0,0,39,11,48,22,0,0,20,0,0,0,0,0,0,0,0,0,0,0,0,0,0,0,0,0,0,0,0,0,0,0,0,0,0,0,0,0,0,0,0,0,220,63,2,0,30,2,0,0,32,2]
["Montachusett Regional Transit Authority","Fitchburg","MA",1061,10061,"Independent Public Agency or Authority of Transit Service","Full Reporter",116960,179,23,1,0,0,0,0,0,0,0,0,18,6,159,24,5,0,4,0,0,0,0,0,0,0,0,0,0,0,0,0,0,0,0,0,0,0,0,0,0,0,0,0,0,0,0,0,0,0,0,0,209,31,3,3,16,1,0,0,19,4]
["KI BOIS Community Action Foundation, Inc.","Stigler","OK","6R04-010","6R04-60172","Private-Non-Profit Corporation","Rural Reporter",0,179,0,0,0,0,0,0,0,0,0,0,42,8,88,22,0,0,83,5,23,0,0,0,0,0,0,0,0,0,0,0,0,0,0,0,0,0,0,0,0,0,0,0,0,0,0,0,0,0,0,0,236,35,0,0,0,0,0,0,0,0]
["Greater Dayton Regional Transit Authority","Dayton","OH",5017,50017,"Independent Public Agency or Authority of Transit Service","Full Reporter",724091,178,165,1,0,0,0,0,0,0,0,0,0,0,75,0,0,0,0,0,0,0,37,33,0,0,0,0,0,0,0,0,0,0,0,0,0,0,0,0,0,0,0,0,0,0,0,0,0,0,0,0,277,34,1,0,43,27,0,0,44,27]
["Capital Area Transportation Authority","Lansing","MI",5036,50036,"Independent Public Agency or Authority of Transit Service","Full Reporter",313532,174,89,36,12,7,0,0,0,0,0,0,0,0,49,16,0,0,53,10,0,0,0,0,0,0,0,0,0,0,0,0,0,0,0,0,0,0,0,0,0,0,0,0,0,0,0,0,0,0,0,0,203,69,1,0,34,8,0,0,35,8]
["Lehigh and Northampton Transportation Authority","Allentown","PA",3010,30010,"Independent Public Agency or Authority of Transit Service","Full Reporter",664651,173,105,54,0,0,0,0,0,0,0,0,0,0,119,59,0,0,0,0,0,0,0,0,0,0,0,0,0,0,0,0,0,0,0,0,0,0,0,0,0,0,0,0,0,0,0,0,0,0,0,0,224,113,5,2,13,5,0,0,18,7]
["City of Colorado Springs, dba: Mountain Metropolitan Transit","Colorado Springs","CO",8005,80005,"City, County or Local Government Unit or Department of Transportation","Full Reporter",559409,173,60,0,0,0,0,0,0,0,0,0,48,0,75,16,13,0,15,0,2,0,0,0,0,0,0,0,0,0,0,0,0,0,0,0,0,0,0,0,0,0,0,0,0,0,0,0,0,0,0,0,213,16,23,8,5,1,0,0,28,9]
["Hillsborough Area Regional Transit Authority","Tampa","FL",4041,40041,"Independent Public Agency or Authority of Transit Service","Full Reporter",2441770,172,171,0,0,0,0,0,0,0,0,0,36,0,45,0,0,0,0,0,0,0,0,0,0,0,10,1,0,0,0,0,0,0,0,0,0,0,0,0,0,0,0,0,0,0,0,0,0,0,0,0,262,1,39,22,18,1,0,0,57,23]
["City of Santa Monica, dba: Big Blue Bus","Santa Monica","CA",9008,90008,"City, County or Local Government Unit or Department of Transportation","Full Reporter",12150996,172,171,42,28,0,0,0,0,0,0,0,1,0,6,0,0,0,0,0,0,0,0,0,0,0,0,0,0,0,0,0,0,0,0,0,0,0,0,0,0,0,0,0,0,0,0,0,0,0,0,0,206,42,18,5,4,0,0,0,22,5]
["Southeast Missouri Transportation, Inc.","Fredericktown","TX","7R03-029","7R03-70091","Private-Non-Profit Corporation","Rural Reporter",0,167,6,0,0,0,0,0,0,0,0,0,36,27,73,3,0,0,64,26,0,0,0,0,0,0,0,0,0,0,0,0,0,0,0,0,0,0,0,0,0,0,0,0,0,0,0,0,0,0,0,0,179,56,0,0,0,0,0,0,0,0]
["New Orleans Regional Transit Authority","New Orleans","LA",6032,60032,"Independent Public Agency or Authority of Transit Service","Full Reporter",899703,165,112,0,16,0,4,4,0,0,0,0,28,0,23,0,0,0,0,0,0,0,0,0,0,0,0,0,0,0,0,0,0,0,0,0,35,35,31,0,0,0,0,0,0,0,0,0,3,1,0,0,252,40,6,6,65,7,1,1,72,14]
["Municipality of Anchorage, dba: Public Transportation","Anchorage","AK",12,12,"City, County or Local Government Unit or Department of Transportation","Full Reporter",251243,162,54,2,0,0,0,0,0,0,0,0,62,3,50,1,0,0,0,0,38,0,0,0,0,0,0,0,0,0,0,0,0,0,0,0,0,0,0,0,0,0,0,0,0,0,0,0,0,0,0,0,204,6,0,0,28,5,0,0,28,5]
["City of Gainesville, FL, dba: Regional Transit System","Gainesville","FL",4030,40030,"City, County or Local Government Unit or Department of Transportation","Full Reporter",187781,158,134,32,0,0,0,0,0,0,0,0,30,0,21,1,0,0,1,0,2,0,0,0,0,0,0,0,0,0,0,0,0,0,0,0,0,0,0,0,0,0,0,0,0,0,0,0,0,0,0,0,188,33,36,13,8,2,0,0,44,15]
["County of Volusia, dba: VOTRAN","South Daytona","FL",4032,40032,"City, County or Local Government Unit or Department of Transportation","Full Reporter",349064,156,82,17,0,0,0,0,0,0,0,0,28,0,71,14,7,0,0,0,0,0,0,0,0,0,0,0,0,0,0,0,0,0,0,0,0,0,0,0,0,0,0,0,0,0,0,0,0,0,0,0,188,31,1,1,18,1,0,0,19,2]
["Golden Gate Bridge, Highway and Transportation District","San Francisco","CA",9016,90016,"Independent Public Agency or Authority of Transit Service","Full Reporter",3281212,154,70,70,0,0,80,0,0,0,0,0,0,0,18,0,0,0,0,0,0,0,0,0,0,0,0,0,0,0,0,0,0,0,0,0,0,0,0,0,0,0,0,0,0,0,0,0,7,2,0,0,175,72,32,23,79,31,0,0,111,54]
["City of Fresno, dba: Fresno Area Express","Fresno","CA",9027,90027,"City, County or Local Government Unit or Department of Transportation","Full Reporter",654628,150,109,3,0,0,0,0,0,0,0,0,0,0,49,6,6,0,0,0,0,0,0,0,0,0,0,0,0,0,0,0,0,0,0,0,0,0,0,0,0,0,0,0,0,0,0,0,0,0,0,0,164,9,40,18,21,12,0,0,61,30]
["Greater Hartford Transit District","Hartford","CT",1017,10017,"Independent Public Agency or Authority of Transit Service","Full Reporter",924859,147,0,0,0,0,0,0,0,0,0,0,0,0,157,11,0,0,0,0,0,0,0,0,0,0,0,0,0,0,0,0,0,0,0,0,0,0,0,0,0,0,0,0,0,0,0,0,0,0,0,0,157,11,7,3,8,3,0,0,15,6]
["City of Memphis, dba: Memphis Area Transit Authority","Memphis","TN",4003,40003,"City, County or Local Government Unit or Department of Transportation","Full Reporter",1060061,145,142,4,0,0,0,0,0,0,0,0,24,12,0,0,0,0,0,0,0,0,0,0,0,0,4,3,0,0,0,0,0,0,0,0,0,0,0,0,0,0,0,0,0,0,0,0,0,0,0,0,170,19,7,6,39,2,0,0,46,8]
["Madison County Transit District","Granite City","IL",5146,50146,"Independent Public Agency or Authority of Transit Service","Full Reporter",2150706,144,76,0,0,0,0,0,0,0,0,0,67,45,41,0,0,0,16,0,0,0,0,0,0,0,0,0,0,0,0,0,0,0,0,0,0,0,0,0,0,0,0,0,0,0,0,0,0,0,0,0,200,45,22,0,27,12,0,0,49,12]
["Peninsula Corridor Joint Powers Board, dba: Caltrain","San Carlos","CA",9134,90134,"Independent Public Agency or Authority of Transit Service","Full Reporter",3281212,141,32,0,0,0,0,0,0,0,0,0,0,0,1,0,0,0,0,0,0,0,0,0,0,0,0,0,133,73,0,0,29,20,0,0,0,0,0,0,0,0,0,0,0,0,0,0,0,0,0,0,195,93,1,1,130,49,51,46,182,96]
["Research Triangle Regional Public Transportation Authority, dba: GoTriangle","Research Triangle Park","NC",4108,40108,"Independent Public Agency or Authority of Transit Service","Full Reporter",347602,140,84,3,0,0,0,0,0,0,0,0,35,4,20,9,0,0,13,13,0,0,0,0,0,0,0,0,0,0,0,0,0,0,0,0,0,0,0,0,0,0,0,0,0,0,0,0,0,0,0,0,152,29,4,1,6,0,0,0,10,1]
["Minnesota Valley Transit Authority","Burnsville","MN",5222,50519,"Independent Public Agency or Authority of Transit Service","Full Reporter",2650890,140,98,7,0,0,53,0,0,0,0,0,0,0,14,3,0,0,0,0,0,0,0,0,0,0,0,0,0,0,0,0,0,0,0,0,0,0,0,0,0,0,0,0,0,0,0,0,0,0,0,0,165,10,3,0,0,0,0,0,3,0]
["Central Contra Costa Transit Authority, dba: COUNTY CONNECTION","Concord","CA",9078,90078,"Independent Public Agency or Authority of Transit Service","Full Reporter",615968,140,128,3,0,0,0,0,0,0,0,0,0,0,59,42,0,0,3,0,0,0,0,0,0,0,0,0,0,0,0,0,0,0,0,0,0,0,0,0,0,0,0,0,0,0,0,0,0,0,0,0,190,45,12,5,4,2,0,0,16,7]
["Paratransit, Inc.","Sacramento","CA",9223,90223,"Independent Public Agency or Authority of Transit Service","Full Reporter",1723634,137,0,0,0,0,0,0,0,0,0,0,12,12,134,24,18,0,0,0,0,0,0,0,0,0,0,0,0,0,0,0,0,0,0,0,0,0,0,0,0,0,0,0,0,0,0,0,0,0,0,0,164,36,0,0,2,1,0,0,2,1]
["Rural Community Transportation","Lyndonville","VT","1R06-010","1R06-10148","Private-Non-Profit Corporation","Rural Reporter",0,135,3,0,0,0,1,0,0,0,0,0,0,0,17,1,5,0,6,0,0,0,0,0,0,0,0,0,0,0,0,0,0,0,0,0,0,0,0,0,0,0,0,0,0,0,0,0,0,0,0,0,32,1,0,0,0,0,0,0,0,0]
["Brevard Board of County Commissioners, dba: Space Coast Area Transit","Cocoa","FL",4063,40063,"City, County or Local Government Unit or Department of Transportation","Full Reporter",452791,135,39,7,0,0,0,0,0,0,0,0,77,4,26,0,0,0,0,0,0,0,0,0,0,0,0,0,0,0,0,0,0,0,0,0,0,0,0,0,0,0,0,0,0,0,0,0,0,0,0,0,142,11,0,0,14,1,0,0,14,1]
["Mid-Cumberland Human Resource Agency","Nashville","TN",4204,40204,"Independent Public Agency or Authority of Transit Service","Reduced Reporter",133228,128,0,0,0,0,0,0,0,0,0,0,111,39,0,0,0,0,16,12,0,0,0,0,0,0,0,0,0,0,0,0,0,0,0,0,0,0,0,0,0,0,0,0,0,0,0,0,0,0,0,0,127,51,0,0,0,0,0,0,0,0]
["Cumberland Dauphin-Harrisburg Transit Authority, dba: Capital Area Transit","Harrisburg","PA",3014,30014,"Independent Public Agency or Authority of Transit Service","Full Reporter",444474,125,76,25,0,0,2,0,0,0,0,0,0,0,51,18,0,0,0,0,0,0,0,0,0,0,0,0,0,0,0,0,0,0,0,0,0,0,0,0,0,0,0,0,0,0,0,0,0,0,0,0,129,43,7,7,4,2,0,0,11,9]
["Rides Mass Transit District","Harrisburg","IL",5211,50211,"Independent Public Agency or Authority of Transit Service","Full Reporter",67821,125,8,4,0,0,0,0,0,0,0,0,1,1,134,36,0,0,7,4,0,0,0,0,0,0,0,0,0,0,0,0,0,0,0,0,0,0,0,0,0,0,0,0,0,0,0,0,0,0,0,0,150,45,10,5,10,2,0,0,20,7]
["Metropolitan Bus Authority","San Juan","PR",4086,40086,"Independent Public Agency or Authority of Transit Service","Full Reporter",2148346,124,113,113,0,0,0,0,0,0,0,0,20,20,10,0,25,0,0,0,0,0,0,0,0,0,0,0,0,0,0,0,0,0,0,0,0,0,0,0,0,0,0,0,0,0,0,0,0,0,0,0,168,133,0,0,50,18,0,0,50,18]
["Transit Authority of Northern Kentucky","Fort Wright","KY",4019,40019,"Independent Public Agency or Authority of Transit Service","Full Reporter",1624827,123,146,11,0,0,0,0,0,0,0,0,0,0,0,0,0,0,0,0,0,0,0,0,0,0,0,0,0,0,0,0,0,0,0,0,0,0,0,0,0,0,0,0,0,0,0,0,0,0,0,0,146,11,0,0,13,3,0,0,13,3]
["Tampa Bay Area Regional Transit Authority","Tampa","FL",4200,40200,"Independent Public Agency or Authority of Transit Service","Full Reporter",2441770,123,0,0,0,0,0,0,0,0,0,0,19,0,0,0,0,0,13,0,65,0,0,0,0,0,0,0,0,0,0,0,0,0,0,0,0,0,0,0,0,0,0,0,0,0,0,0,0,0,0,0,97,0,0,0,0,0,0,0,0,0]
["Georgia State Road and Tollway Authority","Atlanta","GA",null,40264,"State Government Unit or Department of Transportation","Full Reporter",4515419,121,0,0,0,0,150,48,0,0,0,0,0,0,0,0,0,0,0,0,0,0,0,0,0,0,0,0,0,0,0,0,0,0,0,0,0,0,0,0,0,0,0,0,0,0,0,0,0,0,0,0,150,48,1,0,6,0,0,0,7,0]
["Daniel Boone Development Council","Manchester","KY","4R04-003","4R04-41023","Private-Non-Profit Corporation","Rural Reporter",0,120,0,0,0,0,0,0,0,0,0,0,7,7,22,6,0,0,83,26,30,15,0,0,0,0,0,0,0,0,0,0,0,0,0,0,0,0,0,0,0,0,0,0,0,0,0,0,0,0,0,0,142,54,2,2,0,0,0,0,2,2]
["Monterey-Salinas Transit","Monterey","CA",9062,90062,"Independent Public Agency or Authority of Transit Service","Full Reporter",114237,120,86,28,0,0,6,0,0,0,0,0,0,0,63,4,0,0,3,3,0,0,0,0,0,0,0,0,0,0,0,0,0,0,0,0,0,0,0,0,0,0,0,0,0,0,0,0,0,0,0,0,158,35,20,10,13,6,0,0,33,16]
["Erie Metropolitan Transit Authority","Erie","PA",3013,30013,"Independent Public Agency or Authority of Transit Service","Full Reporter",196611,117,80,50,0,0,0,0,0,0,0,0,0,0,53,37,0,0,0,0,0,0,0,0,0,0,0,0,0,0,0,0,0,0,0,0,0,0,0,0,0,0,0,0,0,0,0,0,0,0,0,0,133,87,4,3,10,4,0,0,14,7]
["Whatcom Transportation Authority","Bellingham","WA",21,21,"Independent Public Agency or Authority of Transit Service","Full Reporter",114473,114,61,3,0,0,0,0,0,0,0,0,34,0,42,0,0,0,0,0,0,0,0,0,0,0,0,0,0,0,0,0,0,0,0,0,0,0,0,0,0,0,0,0,0,0,0,0,0,0,0,0,137,3,5,0,27,0,0,0,32,0]
["Greater Attleboro-Taunton Regional Transit Authority","Taunton","MA",1064,10064,"Independent Public Agency or Authority of Transit Service","Full Reporter",1190956,113,35,9,0,0,0,0,0,0,0,0,49,12,50,1,0,0,0,0,0,0,0,0,0,0,0,0,0,0,0,0,0,0,0,0,0,0,0,0,0,0,0,0,0,0,0,0,0,0,0,0,134,22,7,3,4,2,0,0,11,5]
["Champaign-Urbana Mass Transit District","Urbana","IL",5060,50060,"Independent Public Agency or Authority of Transit Service","Full Reporter",145361,113,105,10,16,12,0,0,0,0,0,0,7,0,18,0,0,0,3,0,0,0,0,0,0,0,0,0,0,0,0,0,0,0,0,0,0,0,0,0,0,0,0,0,0,0,0,0,0,0,0,0,149,22,8,1,5,1,0,0,13,2]
["Transit Authority of Omaha","Omaha","NE",7002,70002,"Independent Public Agency or Authority of Transit Service","Full Reporter",725008,113,144,51,0,0,0,0,0,0,0,0,0,0,32,4,4,0,0,0,0,0,0,0,0,0,0,0,0,0,0,0,0,0,0,0,0,0,0,0,0,0,0,0,0,0,0,0,0,0,0,0,180,55,3,2,5,4,0,0,8,6]
["South Central Illinois Mass Transit District","Centralia","IL","5R01-040","5R01-50327","Independent Public Agency or Authority of Transit Service","Rural Reporter",0,112,21,2,0,0,0,0,0,0,0,0,3,3,103,57,0,0,20,17,0,0,0,0,0,0,0,0,0,0,0,0,0,0,0,0,0,0,0,0,0,0,0,0,0,0,0,0,0,0,0,0,147,79,1,1,4,2,0,0,5,3]
["Corpus Christi Regional Transportation Authority","Corpus Christi","TX",6051,60051,"Independent Public Agency or Authority of Transit Service","Full Reporter",320069,112,70,0,0,0,0,0,0,0,0,0,2,0,56,0,0,0,7,0,1,0,0,0,0,0,0,0,0,0,0,0,0,0,0,0,0,0,0,0,0,0,0,0,0,0,0,0,0,0,0,0,136,0,24,5,20,1,0,0,44,6]
["Lee County, dba: Lee County Transit","Fort Myers","FL",4028,40028,"City, County or Local Government Unit or Department of Transportation","Full Reporter",530290,111,57,0,0,0,0,0,0,0,0,0,31,0,42,0,0,0,0,0,0,0,0,0,0,0,0,0,0,0,0,0,0,0,0,0,0,0,0,0,0,0,0,0,0,0,0,0,0,0,2,0,132,0,24,17,13,4,0,0,37,21]
["Community Action Development Corporation","Frederick","OK","6R04-017","6R04-60165","Private-Non-Profit Corporation","Rural Reporter",0,111,0,0,0,0,0,0,0,0,0,0,13,10,34,21,0,0,60,30,6,0,0,0,0,0,0,0,0,0,0,0,0,0,0,0,0,0,0,0,0,0,0,0,0,0,0,0,0,0,0,0,113,61,0,0,0,0,0,0,0,0]
["Centre Area Transportation Authority","State College","PA",3054,30054,"Independent Public Agency or Authority of Transit Service","Full Reporter",87454,110,66,26,0,0,0,0,0,0,0,0,52,12,13,0,0,0,3,0,0,0,0,0,0,0,0,0,0,0,0,0,0,0,0,0,0,0,0,0,0,0,0,0,0,0,0,0,0,0,0,0,134,38,18,2,5,1,0,0,23,3]
["Prince George's County, Maryland, dba: Prince George's County Transit","Largo","MD",3085,30085,"City, County or Local Government Unit or Department of Transportation","Full Reporter",4586770,109,113,22,0,0,0,0,0,0,0,0,0,0,34,4,0,0,0,0,0,0,0,0,0,0,0,0,0,0,0,0,0,0,0,0,0,0,0,0,0,0,0,0,0,0,0,0,0,0,0,0,147,26,0,0,0,0,0,0,0,0]
["Lexington Transit Authority","Lexington","KY",4017,40017,"Independent Public Agency or Authority of Transit Service","Full Reporter",290263,108,64,9,0,0,0,0,0,0,0,0,11,0,47,0,6,0,0,0,6,0,0,0,0,0,0,0,0,0,0,0,0,0,0,0,0,0,0,0,0,0,0,0,0,0,0,0,0,0,0,0,134,9,1,0,35,17,0,0,36,17]
["Area Agency on Aging of Southeast Arkansas , dba: Southeast Arkansas Transportation","Pine Bluff","AR","6R01-007","6R01-60140","Area Agency on Aging","Rural Reporter",0,108,0,0,0,0,0,0,0,0,0,0,44,28,58,2,0,0,6,6,0,0,0,0,0,0,0,0,0,0,0,0,0,0,0,0,0,0,0,0,0,0,0,0,0,0,0,0,0,0,0,0,108,36,0,0,7,3,0,0,7,3]
["City of Montebello, dba: Montebello Bus Lines","Montebello","CA",9041,90041,"City, County or Local Government Unit or Department of Transportation","Full Reporter",12150996,107,73,7,0,0,0,0,0,0,0,0,27,0,5,5,13,0,0,0,0,0,0,0,0,0,0,0,0,0,0,0,0,0,0,0,0,0,0,0,0,0,0,0,0,0,0,0,0,0,0,0,118,12,1,1,3,3,0,0,4,4]
["City of Alexandria ","Alexandria","VA",3071,30071,"City, County or Local Government Unit or Department of Transportation","Full Reporter",4586770,105,86,7,0,0,0,0,0,0,0,0,11,0,0,0,32,0,0,0,0,0,0,0,0,0,0,0,0,0,0,0,0,0,0,0,0,0,0,0,0,0,0,0,0,0,0,0,0,0,0,0,129,7,13,1,8,2,0,0,21,3]
["Santa Cruz Metropolitan Transit District","Santa Cruz","CA",9006,90006,"Independent Public Agency or Authority of Transit Service","Full Reporter",163703,105,92,54,3,3,6,6,0,0,0,0,27,27,22,7,0,0,2,0,0,0,0,0,0,0,0,0,0,0,0,0,0,0,0,0,0,0,0,0,0,0,0,0,0,0,0,0,0,0,0,0,152,97,18,7,30,16,0,0,48,23]
["Southeast Vermont Transit, Inc","Wilmington","VT","1R06-005","1R06-10144","Private-Non-Profit Corporation","Rural Reporter",0,104,6,0,0,0,5,0,0,0,0,0,2,1,38,6,0,0,1,0,0,0,0,0,0,0,0,0,0,0,0,0,0,0,0,0,0,0,0,0,0,0,0,0,0,0,0,0,0,0,0,0,52,7,2,0,1,1,0,0,3,1]
["Denton County Transportation Authority","Lewisville","TX",6101,60101,"Independent Public Agency or Authority of Transit Service","Full Reporter",366174,104,60,0,0,0,0,0,0,0,0,0,36,0,27,0,3,0,3,0,0,0,0,0,0,0,0,0,0,0,11,0,0,0,0,0,0,0,0,0,0,0,0,0,0,0,0,0,0,0,0,0,140,0,5,0,9,8,0,0,14,8]
["Arrowhead Economic Opportunity Agency, Inc.","Virginia","MN","5R04-001","5R04-50520","Independent Public Agency or Authority of Transit Service","Rural Reporter",0,100,0,0,0,0,0,0,0,0,0,0,3,0,110,1,0,0,0,0,0,0,0,0,0,0,0,0,0,0,0,0,0,0,0,0,0,0,0,0,0,0,0,0,0,0,0,0,0,0,0,0,113,1,3,0,0,0,0,0,3,0]
["West Texas Opportunities, Inc. ","Lamesa ","TX","6R05-020","6R05-60243","Independent Public Agency or Authority of Transit Service","Rural Reporter",0,100,0,0,0,0,0,0,0,0,0,0,2,1,31,21,2,2,68,41,10,10,0,0,0,0,0,0,0,0,0,0,0,0,0,0,0,0,0,0,0,0,0,0,0,0,0,0,0,0,0,0,113,75,5,5,2,2,0,0,7,7]
["Johnson County Kansas, dba: Johnson County Transit","Olathe","KS",7035,70035,"City, County or Local Government Unit or Department of Transportation","Full Reporter",1519417,100,56,0,0,0,5,0,0,0,0,0,5,0,33,6,36,0,0,0,0,0,0,0,0,0,0,0,0,0,0,0,0,0,0,0,0,0,0,0,0,0,0,0,0,0,0,0,0,0,0,0,135,6,3,3,3,1,0,0,6,4]
["Worcester Regional Transit Authority","Worcester","MA",1014,10014,"Independent Public Agency or Authority of Transit Service","Full Reporter",486514,99,52,2,0,0,0,0,0,0,0,0,0,0,59,21,10,0,1,0,0,0,0,0,0,0,0,0,0,0,0,0,0,0,0,0,0,0,0,0,0,0,0,0,0,0,0,0,0,0,0,0,122,23,9,5,4,3,0,0,13,8]
["Virginia Railway Express","Alexandria","VA",3073,30073,"Independent Public Agency or Authority of Transit Service","Full Reporter",4586770,99,0,0,0,0,0,0,0,0,0,0,0,0,0,0,0,0,0,0,0,0,0,0,0,0,0,0,100,0,0,0,20,0,0,0,0,0,0,0,0,0,0,0,0,0,0,0,0,0,0,0,120,0,5,0,0,0,0,0,5,0]
["Birmingham-Jefferson County Transit Authority","Birmingham","AL",4042,40042,"Independent Public Agency or Authority of Transit Service","Full Reporter",749495,99,70,17,0,0,0,0,0,0,0,0,0,0,45,0,0,0,0,0,0,0,0,0,0,0,0,0,0,0,0,0,0,0,0,0,0,0,0,0,0,0,0,0,0,0,0,0,0,0,0,0,115,17,8,2,16,2,0,0,24,4]
["Connecticut Department of Transportation - CTTRANSIT New Haven Division","Hartford","CT",1055,10055,"State Government Unit or Department of Transportation","Full Reporter",562839,98,117,15,16,0,0,0,0,0,0,0,0,0,0,0,0,0,0,0,0,0,0,0,0,0,0,0,0,0,0,0,0,0,0,0,0,0,0,0,0,0,0,0,0,0,0,0,0,0,0,0,133,15,3,2,17,2,0,0,20,4]
["MetroWest Regional Transit Authority","Framingham","MA",1118,10118,"Independent Public Agency or Authority of Transit Service","Full Reporter",4181019,98,0,0,0,0,0,0,0,0,0,0,0,0,86,11,8,0,0,0,0,0,0,0,0,0,0,0,0,0,0,0,0,0,0,0,0,0,0,0,0,0,0,0,0,0,0,0,0,0,0,0,94,11,2,1,11,7,0,0,13,8]
["Suburban Transit Corporation","New Brunswick","NJ",2128,20128,"Private-For-Profit Corporation","Full Reporter",18351295,98,0,0,0,0,144,49,0,0,0,0,0,0,0,0,0,0,0,0,0,0,0,0,0,0,0,0,0,0,0,0,0,0,0,0,0,0,0,0,0,0,0,0,0,0,0,0,0,0,0,0,144,49,6,0,4,1,0,0,10,1]
["Mecklenburg County ","Charlotte","NC",4228,40228,"City, County or Local Government Unit or Department of Transportation","Full Reporter",1249442,98,0,0,0,0,0,0,0,0,0,0,2,2,26,7,76,0,0,0,0,0,0,0,0,0,0,0,0,0,0,0,0,0,0,0,0,0,0,0,0,0,0,0,0,0,0,0,0,0,0,0,104,9,1,0,0,0,0,0,1,0]
["Cobb County, dba: CobbLinc","Marietta","GA",4078,40078,"City, County or Local Government Unit or Department of Transportation","Full Reporter",4515419,97,73,0,0,0,34,0,0,0,0,0,0,0,30,14,0,0,0,0,0,0,0,0,0,0,0,0,0,0,0,0,0,0,0,0,0,0,0,0,0,0,0,0,0,0,0,0,0,0,0,0,137,14,6,0,4,1,0,0,10,1]
["Pennyrile Allied Community Services, Inc.","Hopkinsville","KY","4R04-015","4R04-40953","Private-Non-Profit Corporation","Rural Reporter",0,96,0,0,0,0,0,0,0,0,0,0,3,2,27,4,0,0,69,13,10,10,0,0,0,0,0,0,0,0,0,0,0,0,0,0,0,0,0,0,0,0,0,0,0,0,0,0,0,0,0,0,109,29,0,0,0,0,0,0,0,0]
["SunLine Transit Agency","Thousand Palms","CA",9079,90079,"Independent Public Agency or Authority of Transit Service","Full Reporter",345580,96,80,15,0,0,0,0,0,0,0,0,5,0,39,16,0,0,0,0,4,0,0,0,0,0,0,0,0,0,0,0,0,0,0,0,0,0,0,0,0,0,0,0,0,0,0,0,0,0,0,0,128,31,17,7,22,1,0,0,39,8]
["South Central Tennessee Development District","Mt. Pleasant","TN","4R08-007","4R08-40954","Independent Public Agency or Authority of Transit Service","Rural Reporter",0,95,7,0,0,0,0,0,0,0,0,0,155,71,0,0,0,0,21,20,0,0,0,0,0,0,0,0,0,0,0,0,0,0,0,0,0,0,0,0,0,0,0,0,0,0,0,0,0,0,0,0,183,91,0,0,0,0,0,0,0,0]
["Southeast Tennessee Human Resource Agency-Rural Division","Dunlap","TN","4R08-004","4R08-40989","Independent Public Agency or Authority of Transit Service","Rural Reporter",0,95,0,0,0,0,0,0,0,0,0,0,0,0,78,1,14,11,10,2,0,0,0,0,0,0,0,0,0,0,0,0,0,0,0,0,0,0,0,0,0,0,0,0,0,0,0,0,0,0,0,0,102,14,1,0,4,2,0,0,5,2]
["Enterprise - Denver","Denver","CO",8109,80109,"Private Provider Reporting on Behalf of a Public Entity","Full Reporter",2374203,95,0,0,0,0,0,0,0,0,0,0,18,0,0,0,0,0,58,0,19,0,0,0,0,0,0,0,0,0,0,0,0,0,0,0,0,0,0,0,0,0,0,0,0,0,0,0,0,0,0,0,95,0,0,0,0,0,0,0,0,0]
["City of Lubbock, dba: CITIBUS","Lubbock","TX",6010,60010,"City, County or Local Government Unit or Department of Transportation","Full Reporter",237356,94,84,57,0,0,0,0,0,0,0,0,0,0,30,16,0,0,0,0,0,0,0,0,0,0,0,0,0,0,0,0,0,0,0,0,0,0,0,0,0,0,0,0,0,0,0,0,0,0,0,0,114,73,11,11,9,5,0,0,20,16]
["Roaring Fork Transportation Authority","Glenwood Springs","CO","8R01-013","8R01-80289","Independent Public Agency or Authority of Transit Service","Rural Reporter",0,94,143,6,2,2,24,3,0,0,0,0,0,0,19,2,0,0,0,0,0,0,0,0,0,0,0,0,0,0,0,0,0,0,0,0,0,0,0,0,0,0,0,0,0,0,0,0,0,0,23,3,211,16,23,15,21,3,0,0,44,18]
["Town of Chapel Hill, dba: Chapel Hill Transit","Chapel Hill","NC",4051,40051,"City, County or Local Government Unit or Department of Transportation","Full Reporter",347602,93,105,31,5,0,0,0,0,0,0,0,0,0,20,13,0,0,0,0,0,0,0,0,0,0,0,0,0,0,0,0,0,0,0,0,0,0,0,0,0,0,0,0,0,0,0,0,0,0,0,0,130,44,24,3,5,1,0,0,29,4]
["City of Durham, dba: GoDurham","Durham","NC",4087,40087,"City, County or Local Government Unit or Department of Transportation","Full Reporter",347602,93,61,14,0,0,0,0,0,0,0,0,16,6,41,0,0,0,0,0,0,0,0,0,0,0,0,0,0,0,0,0,0,0,0,0,0,0,0,0,0,0,0,0,0,0,0,0,0,0,0,0,118,20,6,0,8,0,0,0,14,0]
["Santa Barbara Metropolitan Transit District","Santa Barbara","CA",9020,90020,"Independent Public Agency or Authority of Transit Service","Full Reporter",195861,93,120,60,3,0,0,0,0,0,0,0,0,0,0,0,0,0,0,0,0,0,0,0,0,0,0,0,0,0,0,0,0,0,0,0,0,0,0,0,0,0,0,0,0,0,0,0,0,0,0,0,123,60,19,11,4,0,0,0,23,11]
["Metropolitan Tulsa Transit Authority","Tulsa","OK",6018,60018,"City, County or Local Government Unit or Department of Transportation","Full Reporter",655479,92,62,21,0,0,0,0,0,0,0,0,2,2,47,13,0,0,0,0,0,0,0,0,0,0,0,0,0,0,0,0,0,0,0,0,0,0,0,0,0,0,0,0,0,0,0,0,0,0,0,0,111,36,19,8,3,1,0,0,22,9]
["San Joaquin Regional Transit District","Stockton","CA",9012,90012,"Independent Public Agency or Authority of Transit Service","Full Reporter",370583,92,86,20,6,0,16,15,0,0,0,0,16,0,33,11,0,0,0,0,0,0,0,0,0,0,0,0,0,0,0,0,0,0,0,0,0,0,0,0,0,0,0,0,0,0,0,0,0,0,0,0,157,46,12,3,27,14,0,0,39,17]
["Brockton Area Transit Authority","Brockton","MA",1004,10004,"Independent Public Agency or Authority of Transit Service","Full Reporter",4181019,91,44,0,0,0,0,0,0,0,0,0,48,4,4,0,0,0,0,0,0,0,0,0,0,0,0,0,0,0,0,0,0,0,0,0,0,0,0,0,0,0,0,0,0,0,0,0,0,0,0,0,96,4,5,1,5,1,0,0,10,2]
["Loudoun County, dba: Loudoun County Transit","Leesburg","VA",3081,30081,"City, County or Local Government Unit or Department of Transportation","Full Reporter",4586770,91,24,0,0,0,63,14,0,0,0,0,2,0,23,0,2,0,0,0,0,0,0,0,0,0,0,0,0,0,0,0,0,0,0,0,0,0,0,0,0,0,0,0,0,0,0,0,0,0,0,0,114,14,0,0,0,0,0,0,0,0]
["Laketran","Grand River","OH",5117,50117,"Independent Public Agency or Authority of Transit Service","Full Reporter",1780673,91,16,0,0,0,20,0,0,0,0,0,8,6,83,13,0,0,0,0,0,0,0,0,0,0,0,0,0,0,0,0,0,0,0,0,0,0,0,0,0,0,0,0,0,0,0,0,0,0,0,0,127,19,8,2,6,0,0,0,14,2]
["Hill Country Transit District","San Saba","TX",6091,60091,"Independent Public Agency or Authority of Transit Service","Full Reporter",217630,91,26,0,0,0,0,0,0,0,0,0,31,20,92,7,0,0,0,0,0,0,0,0,0,0,0,0,0,0,0,0,0,0,0,0,0,0,0,0,0,0,0,0,0,0,0,0,0,0,0,0,149,27,10,6,7,0,0,0,17,6]
["City of Santa Clarita, dba: Santa Clarita Transit","Santa Clarita","CA",9171,90171,"City, County or Local Government Unit or Department of Transportation","Full Reporter",258653,91,52,15,2,0,30,5,0,0,0,0,0,0,23,11,0,0,0,0,0,0,0,0,0,0,0,0,0,0,0,0,0,0,0,0,0,0,0,0,0,0,0,0,0,0,0,0,0,0,0,0,107,31,0,0,0,0,0,0,0,0]
["Southern Indiana Development Commission, dba: SIDC Ride Solution","Washington","IN","5R02-032","5R02-50276","MPO, COG or Other Planning Agency","Rural Reporter",0,90,0,0,0,0,0,0,0,0,0,0,8,5,41,33,14,9,68,52,0,0,0,0,0,0,0,0,0,0,0,0,0,0,0,0,0,0,0,0,0,0,0,0,0,0,0,0,0,0,0,0,131,99,0,0,0,0,0,0,0,0]
["Fresno County Rural Transit Agency","Fresno","CA","9R02-025","9R02-91007","Independent Public Agency or Authority of Transit Service","Rural Reporter",0,90,18,0,0,0,0,0,0,0,0,0,6,0,68,12,0,0,4,4,0,0,0,0,0,0,0,0,0,0,0,0,0,0,0,0,0,0,0,0,0,0,0,0,0,0,0,0,0,0,0,0,96,16,0,0,3,0,0,0,3,0]
["Northwest Tennessee Human Resource Agency","Martin","TN","4R08-009","4R08-41106","Independent Public Agency or Authority of Transit Service","Rural Reporter",0,89,0,0,0,0,0,0,0,0,0,0,105,1,0,0,0,0,1,1,0,0,0,0,0,0,0,0,0,0,0,0,0,0,0,0,0,0,0,0,0,0,0,0,0,0,0,0,0,0,0,0,106,2,0,0,0,0,0,0,0,0]
["Southwest  Human Resource Agency","Henderson","TN","4R08-008","4R08-41151","Independent Public Agency or Authority of Transit Service","Rural Reporter",0,89,0,0,0,0,0,0,0,0,0,0,46,32,37,7,0,0,6,5,0,0,0,0,0,0,0,0,0,0,0,0,0,0,0,0,0,0,0,0,0,0,0,0,0,0,0,0,0,0,0,0,89,44,1,1,1,0,0,0,2,1]
["Skagit Transit","Burlington","WA",44,44,"Independent Public Agency or Authority of Transit Service","Full Reporter",62966,88,24,0,0,0,0,0,0,0,0,0,62,31,30,2,0,0,0,0,0,0,0,0,0,0,0,0,0,0,0,0,0,0,0,0,0,0,0,0,0,0,0,0,0,0,0,0,0,0,0,0,116,33,21,4,4,1,0,0,25,5]
["Island Transit","Coupeville","WA","0R03-013","0R03-00298","Independent Public Agency or Authority of Transit Service","Rural Reporter",0,88,15,4,0,0,0,0,0,0,0,0,37,17,53,12,0,0,67,29,0,0,0,0,0,0,0,0,0,0,0,0,0,0,0,0,0,0,0,0,0,0,0,0,0,0,0,0,0,0,0,0,172,62,4,4,22,18,0,0,26,22]
["Sarasota County , dba: Sarasota County Area Transit","Sarasota","FL",4046,40046,"City, County or Local Government Unit or Department of Transportation","Full Reporter",643260,88,105,23,0,0,0,0,0,0,0,0,27,3,5,0,0,0,0,0,0,0,0,0,0,0,0,0,0,0,0,0,0,0,0,0,0,0,0,0,0,0,0,0,0,0,0,0,0,0,0,0,137,26,0,0,1,0,0,0,1,0]
["Arlington County, Virginia, dba: Arlington Transit","Arlington","VA",3080,30080,"City, County or Local Government Unit or Department of Transportation","Full Reporter",4586770,87,51,0,0,0,0,0,0,0,0,0,24,0,8,0,19,0,0,0,0,0,0,0,0,0,0,0,0,0,0,0,0,0,0,0,0,0,0,0,0,0,0,0,0,0,0,0,0,0,0,0,102,0,0,0,0,0,0,0,0,0]
["Audubon Area Community Services, Inc.","Owensboro","KY","4R04-020",41105,"Private-Non-Profit Corporation","Full Reporter",70543,87,0,0,0,0,0,0,0,0,0,0,7,0,45,2,0,0,22,3,4,2,0,0,0,0,0,0,0,0,0,0,0,0,0,0,0,0,0,0,0,0,0,0,0,0,0,0,0,0,0,0,78,7,0,0,7,0,0,0,7,0]
["Golden Empire Transit District","Bakersfield","CA",9004,90004,"Independent Public Agency or Authority of Transit Service","Full Reporter",523994,87,86,0,0,0,2,0,0,0,0,0,0,0,21,0,0,0,0,0,0,0,0,0,0,0,0,0,0,0,0,0,0,0,0,0,0,0,0,0,0,0,0,0,0,0,0,0,0,0,0,0,109,0,27,10,2,0,0,0,29,10]
["Norwalk Transit District","Norwalk","CT",1057,10057,"Independent Public Agency or Authority of Transit Service","Full Reporter",923311,86,43,25,0,0,0,0,0,0,0,0,14,0,43,5,0,0,3,0,4,0,0,0,0,0,0,0,0,0,0,0,0,0,0,0,0,0,0,0,0,0,0,0,0,0,0,0,0,0,0,0,107,30,0,0,2,1,0,0,2,1]
["City of Greensboro , dba: Greensboro Transit Authority","Greensboro","NC",4093,40093,"City, County or Local Government Unit or Department of Transportation","Full Reporter",311810,86,37,12,0,0,0,0,0,0,0,0,0,0,66,30,0,0,0,0,0,0,0,0,0,0,0,0,0,0,0,0,0,0,0,0,0,0,0,0,0,0,0,0,0,0,0,0,0,0,0,0,103,42,4,1,21,1,0,0,25,2]
["Upper-Cumberland Human Resource Agency ","Cookeville","TN","4R08-005","4R08-40978","Independent Public Agency or Authority of Transit Service","Rural Reporter",0,86,4,0,0,0,0,0,0,0,0,0,72,1,17,0,0,0,1,1,0,0,0,0,0,0,0,0,0,0,0,0,0,0,0,0,0,0,0,0,0,0,0,0,0,0,0,0,0,0,0,0,94,2,7,5,6,0,0,0,13,5]
["Tri-Valley Transit Inc","Middlebury","VT","1R06-001","1R06-10143","Private-Non-Profit Corporation","Rural Reporter",0,85,0,0,0,0,0,0,0,0,0,0,0,0,57,11,0,0,0,0,0,0,0,0,0,0,0,0,0,0,0,0,0,0,0,0,0,0,0,0,0,0,0,0,0,0,0,0,0,0,0,0,57,11,2,0,0,0,0,0,2,0]
["Hampton Jitney, Inc.","Southampton","NY",2217,20217,"Private-For-Profit Corporation","Full Reporter",18351295,85,0,0,0,0,59,8,0,0,0,0,1,1,3,0,0,0,0,0,0,0,0,0,0,0,0,0,0,0,0,0,0,0,0,0,0,0,0,0,0,0,0,0,0,0,0,0,0,0,0,0,63,9,0,0,6,1,0,0,6,1]
["Westmoreland County , dba: Westmoreland County Transit Authority","Greensburg","PA",3044,30044,"City, County or Local Government Unit or Department of Transportation","Full Reporter",1733853,85,0,0,0,0,31,0,0,0,0,0,37,0,16,0,17,0,6,0,0,0,0,0,0,0,0,0,0,0,0,0,0,0,0,0,0,0,0,0,0,0,0,0,0,0,0,0,0,0,0,0,107,0,0,0,0,0,0,0,0,0]
["Chatham Area Transit Authority","Savannah","GA",4025,40025,"Independent Public Agency or Authority of Transit Service","Full Reporter",260677,85,56,13,0,0,0,0,0,0,0,0,10,10,23,18,4,0,8,0,0,0,0,0,0,0,0,0,0,0,0,0,0,0,0,0,0,0,0,0,0,0,0,0,0,0,0,0,4,0,0,0,105,41,11,7,5,2,0,0,16,9]
["Pasco County Board of County Commissioners, dba: Pasco County Public Transportation","Port Richey","FL",4074,40074,"City, County or Local Government Unit or Department of Transportation","Full Reporter",2441770,85,35,2,0,0,0,0,0,0,0,0,16,0,22,3,28,0,0,0,0,0,0,0,0,0,0,0,0,0,0,0,0,0,0,0,0,0,0,0,0,0,0,0,0,0,0,0,0,0,0,0,101,5,12,6,2,2,0,0,14,8]
["Charleston Area Regional Transportation Authority","North Charleston","SC",4110,40110,"Independent Public Agency or Authority of Transit Service","Full Reporter",548404,85,79,45,0,0,0,0,0,0,0,0,9,0,11,0,0,0,10,0,0,0,0,0,0,0,0,0,0,0,0,0,0,0,0,0,0,0,0,0,0,0,0,0,0,0,0,0,0,0,0,0,109,45,12,0,4,2,0,0,16,2]
["El Paso County ","El Paso ","TX","6R05-034","6R05-60179","City, County or Local Government Unit or Department of Transportation","Rural Reporter",0,85,0,0,0,0,0,0,0,0,0,0,90,0,22,7,0,0,0,0,0,0,0,0,0,0,0,0,0,0,0,0,0,0,0,0,0,0,0,0,0,0,0,0,0,0,0,0,0,0,0,0,112,7,0,0,0,0,0,0,0,0]
["Ames Transit Agency, dba: CyRide","Ames","IA",7041,70041,"City, County or Local Government Unit or Department of Transportation","Full Reporter",60438,85,108,39,6,0,0,0,0,0,0,0,0,0,15,6,0,0,0,0,0,0,0,0,0,0,0,0,0,0,0,0,0,0,0,0,0,0,0,0,0,0,0,0,0,0,0,0,0,0,0,0,129,45,0,0,2,1,0,0,2,1]
["Marin County Transit District","San Rafael","CA",9234,90234,"Independent Public Agency or Authority of Transit Service","Full Reporter",3281212,85,43,0,10,0,0,0,0,0,0,0,4,0,54,3,0,0,0,0,0,0,0,0,0,0,0,0,0,0,0,0,0,0,0,0,0,0,0,0,0,0,0,0,0,0,0,0,0,0,0,0,111,3,2,1,1,0,0,0,3,1]
["Town of Mountain Village","Mountain Village","CO","8R01-053","8R01-80256","City, County or Local Government Unit or Department of Transportation","Rural Reporter",0,84,0,0,0,0,0,0,0,0,0,0,8,3,4,1,0,0,2,0,4,4,0,0,0,0,0,0,0,0,0,0,0,0,0,0,0,0,0,0,68,57,0,0,0,0,0,0,0,0,0,0,86,65,0,0,3,0,0,0,3,0]
["City of Torrance, dba: Torrance Transit System ","Torrance","CA",9010,90010,"City, County or Local Government Unit or Department of Transportation","Full Reporter",12150996,84,63,0,0,0,0,0,0,0,0,0,0,0,0,0,50,0,0,0,0,0,0,0,0,0,0,0,0,0,0,0,0,0,0,0,0,0,0,0,0,0,0,0,0,0,0,0,0,0,0,0,113,0,13,13,4,0,0,0,17,13]
["Ada County Highway District, dba: ACHD Commuteride","Boise","ID",null,415,"City, County or Local Government Unit or Department of Transportation","Full Reporter",349684,82,0,0,0,0,0,0,0,0,0,0,78,0,0,0,0,0,4,0,0,0,0,0,0,0,0,0,0,0,0,0,0,0,0,0,0,0,0,0,0,0,0,0,0,0,0,0,0,0,0,0,82,0,0,0,0,0,0,0,0,0]
["Greater Peoria Mass Transit District","Peoria","IL",5056,50056,"Independent Public Agency or Authority of Transit Service","Full Reporter",266921,82,53,18,0,0,0,0,0,0,0,0,0,0,38,0,0,0,0,0,0,0,0,0,0,0,0,0,0,0,0,0,0,0,0,0,0,0,0,0,0,0,0,0,0,0,0,0,0,0,0,0,91,18,16,3,6,1,0,0,22,4]
["East Tennessee Human Resource Agency, Inc.","Knoxville","TN",4190,40190,"Other Publicly-Owned or Privately Chartered Corporation","Reduced Reporter",59036,81,0,0,0,0,0,0,0,0,0,0,176,106,1,0,0,0,0,0,0,0,0,0,0,0,0,0,0,0,0,0,0,0,0,0,0,0,0,0,0,0,0,0,0,0,0,0,0,0,0,0,177,106,0,0,2,2,0,0,2,2]
["The Greater New Haven Transit District","Hamden","CT",1049,10049,"Independent Public Agency or Authority of Transit Service","Full Reporter",562839,80,0,0,0,0,0,0,0,0,0,0,6,0,80,11,0,0,0,0,0,0,0,0,0,0,0,0,0,0,0,0,0,0,0,0,0,0,0,0,0,0,0,0,0,0,0,0,0,0,0,0,86,11,0,0,6,0,0,0,6,0]
["City of Tallahassee, dba: StarMetro","Tallahassee","FL",4036,40036,"City, County or Local Government Unit or Department of Transportation","Full Reporter",240223,80,81,30,0,0,0,0,0,0,0,0,0,0,30,4,0,0,0,0,0,0,0,0,0,0,0,0,0,0,0,0,0,0,0,0,0,0,0,0,0,0,0,0,0,0,0,0,0,0,0,0,111,34,19,13,0,0,0,0,19,13]
["North Iowa Area Council of Governments","Mason City","IA","7R01-002","7R01-70185","Independent Public Agency or Authority of Transit Service","Rural Reporter",0,80,2,0,0,0,0,0,0,0,0,0,0,0,89,50,0,0,2,2,0,0,0,0,0,0,0,0,0,0,0,0,0,0,0,0,0,0,0,0,0,0,0,0,0,0,0,0,0,0,0,0,93,52,0,0,3,1,0,0,3,1]
["Lowell Regional Transit Authority","Lowell","MA",1005,10005,"Independent Public Agency or Authority of Transit Service","Full Reporter",4181019,79,42,1,0,0,0,0,0,0,0,0,0,0,45,16,0,0,0,0,0,0,0,0,0,0,0,0,0,0,0,0,0,0,0,0,0,0,0,0,0,0,0,0,0,0,0,0,0,0,0,0,87,17,2,0,9,6,0,0,11,6]
["Piedmont Authority for Regional Transportation","Greensboro","NC",4173,40173,"Independent Public Agency or Authority of Transit Service","Full Reporter",311810,79,27,1,0,0,0,0,0,0,0,0,40,11,8,0,0,0,19,0,0,0,0,0,0,0,0,0,0,0,0,0,0,0,0,0,0,0,0,0,0,0,0,0,0,0,0,0,0,0,0,0,94,12,0,0,0,0,0,0,0,0]
["Green Mountain Transit Authority","Burlington","VT",1066,10066,"Independent Public Agency or Authority of Transit Service","Full Reporter",108740,78,61,6,0,0,7,0,0,0,0,0,0,0,9,5,10,0,1,1,0,0,0,0,0,0,0,0,0,0,0,0,0,0,0,0,0,0,0,0,0,0,0,0,0,0,0,0,0,0,0,0,88,12,7,5,2,0,0,0,9,5]
["Bluegrass Community Action Agency","Frankfort","KY","4R04-001","4R04-40948","Private-Non-Profit Corporation","Rural Reporter",0,78,0,0,0,0,0,0,0,0,0,0,0,0,95,1,1,1,3,0,0,0,0,0,0,0,0,0,0,0,0,0,0,0,0,0,0,0,0,0,0,0,0,0,0,0,0,0,0,0,0,0,99,2,1,1,0,0,0,0,1,1]
["Capital Area Transit System","Baton Rouge","LA",6022,60022,"Independent Public Agency or Authority of Transit Service","Full Reporter",594309,78,56,2,0,0,0,0,0,0,0,0,0,0,32,4,0,0,0,0,0,0,0,0,0,0,0,0,0,0,0,0,0,0,0,0,0,0,0,0,0,0,0,0,0,0,0,0,0,0,0,0,88,6,0,0,21,2,0,0,21,2]
["STAR Transit","Terrell","TX",6114,60114,"City, County or Local Government Unit or Department of Transportation","Full Reporter",5121892,78,0,0,0,0,0,0,0,0,0,0,10,0,76,2,0,0,0,0,0,0,0,0,0,0,0,0,0,0,0,0,0,0,0,0,0,0,0,0,0,0,0,0,0,0,0,0,0,0,0,0,86,2,4,1,1,0,0,0,5,1]
["City of Lincoln, dba: StarTran","Lincoln","NE",7001,70001,"City, County or Local Government Unit or Department of Transportation","Full Reporter",258719,78,67,26,0,0,0,0,0,0,0,0,0,0,13,0,0,0,13,0,0,0,0,0,0,0,0,0,0,0,0,0,0,0,0,0,0,0,0,0,0,0,0,0,0,0,0,0,0,0,0,0,93,26,0,0,2,2,0,0,2,2]
["The Eastern Contra Costa Transit Authority","Antioch","CA",9162,90162,"Independent Public Agency or Authority of Transit Service","Full Reporter",277634,78,53,0,0,0,0,0,0,0,0,0,0,0,30,0,0,0,6,0,0,0,0,0,0,0,0,0,0,0,0,0,0,0,0,0,0,0,0,0,0,0,0,0,0,0,0,0,0,0,0,0,89,0,7,7,3,3,0,0,10,10]
["County of Maui","Wailuku","HI",9241,90241,"City, County or Local Government Unit or Department of Transportation","Full Reporter",55934,78,33,0,0,0,0,0,0,0,19,0,4,0,73,0,2,0,5,0,0,0,0,0,0,0,0,0,0,0,0,0,0,0,0,0,0,0,0,0,0,0,0,0,0,0,0,0,0,0,0,0,136,0,0,0,0,0,0,0,0,0]
["Vermont Association for the Blind and Visually Impaired","South Burlington","VT","1R06-012","1R06-10174","Private-Non-Profit Corporation","Rural Reporter",0,77,0,0,0,0,0,0,0,0,0,0,2,0,0,0,0,0,0,0,0,0,0,0,0,0,0,0,0,0,0,0,0,0,0,0,0,0,0,0,0,0,0,0,0,0,0,0,0,0,0,0,2,0,0,0,0,0,0,0,0,0]
["County of Lackawanna Transit System","Scranton","PA",3025,30025,"Independent Public Agency or Authority of Transit Service","Full Reporter",381502,77,36,0,0,0,0,0,0,0,0,0,0,0,25,1,0,0,0,0,0,0,0,0,0,0,0,0,0,0,0,0,0,0,0,0,0,0,0,0,0,0,0,0,0,0,0,0,0,0,0,0,61,1,4,2,3,1,0,0,7,3]
["Chattanooga Area Regional Transportation Authority","Chattanooga","TN",4001,40001,"City, County or Local Government Unit or Department of Transportation","Full Reporter",381112,77,77,39,0,0,0,0,0,0,0,0,0,0,19,0,0,0,0,0,0,0,0,0,0,0,0,0,0,0,0,0,0,0,0,0,0,0,0,0,0,0,0,0,0,0,2,0,0,0,0,0,98,39,7,3,7,3,0,0,14,6]
["Southwest Georgia RC","Camilla","GA","4R03-090","4R03-41177","City, County or Local Government Unit or Department of Transportation","Rural Reporter",0,77,0,0,0,0,0,0,0,0,0,0,0,0,73,0,0,0,0,0,0,0,0,0,0,0,0,0,0,0,0,0,0,0,0,0,0,0,0,0,0,0,0,0,0,0,0,0,0,0,0,0,73,0,0,0,0,0,0,0,0,0]
["Anaheim Transportation Network","Anaheim","CA",9211,90211,"Private-Non-Profit Corporation","Full Reporter",12150996,77,55,48,0,0,0,0,0,0,0,0,0,0,27,0,0,0,0,0,0,0,0,0,0,0,0,0,0,0,0,0,0,0,0,0,0,0,0,0,0,0,0,0,0,0,0,0,0,0,0,0,82,48,0,0,2,0,0,0,2,0]
["City of Knoxville, dba: Knoxville Area Transit","Knoxville","TN",4002,40002,"City, County or Local Government Unit or Department of Transportation","Full Reporter",558696,76,60,3,0,0,0,0,0,0,0,0,0,0,33,5,0,0,0,0,0,0,0,0,0,0,0,0,0,0,0,0,0,0,0,0,0,0,0,0,0,0,0,0,0,0,0,0,0,0,0,0,93,8,12,6,5,2,0,0,17,8]
["Rockland Coaches, Inc.","Westwood","NJ",2149,20149,"Private-For-Profit Corporation","Full Reporter",18351295,75,0,0,0,0,106,76,0,0,0,0,0,0,0,0,0,0,0,0,0,0,0,0,0,0,0,0,0,0,0,0,0,0,0,0,0,0,0,0,0,0,0,0,0,0,0,0,0,0,0,0,106,76,0,0,0,0,0,0,0,0]
["Central Oklahoma Transportation and Parking Authority, dba: EMBARK","Oklahoma City","OK",6017,60017,"City, County or Local Government Unit or Department of Transportation","Full Reporter",861505,75,59,0,0,0,0,0,0,0,0,0,0,0,24,15,5,0,0,0,2,0,0,0,0,0,0,0,0,0,0,0,0,0,0,0,0,0,0,0,0,0,0,0,0,0,0,0,3,0,0,0,93,15,19,10,8,2,0,0,27,12]
["Brazos Transit District","Bryan","TX",6059,60059,"Independent Public Agency or Authority of Transit Service","Full Reporter",171345,75,0,0,0,0,0,0,0,0,0,0,5,0,64,29,0,0,14,0,0,0,0,0,0,0,0,0,0,0,0,0,0,0,0,0,0,0,0,0,0,0,0,0,0,0,0,0,0,0,0,0,83,29,0,0,17,8,0,0,17,8]
["Capital Area Rural Transportation System (CARTS - RURAL)","Austin","TX",null,"6R05-66271","Independent Public Agency or Authority of Transit Service","Rural Reporter",0,75,19,11,0,0,0,0,0,0,0,0,3,2,108,48,2,1,3,3,0,0,0,0,0,0,0,0,0,0,0,0,0,0,0,0,0,0,0,0,0,0,0,0,0,0,0,0,0,0,0,0,135,65,0,0,0,0,0,0,0,0]
["Southeastern Regional Transit Authority","New Bedford","MA",1006,10006,"Independent Public Agency or Authority of Transit Service","Full Reporter",149443,74,67,3,0,0,0,0,0,0,0,0,0,0,32,11,0,0,0,0,0,0,0,0,0,0,0,0,0,0,0,0,0,0,0,0,0,0,0,0,0,0,0,0,0,0,0,0,0,0,0,0,99,14,4,2,15,9,0,0,19,11]
["Gwinnett County Board of Commissioners, dba: Gwinnett County Transit","Lawrenceville","GA",4138,40138,"City, County or Local Government Unit or Department of Transportation","Full Reporter",4515419,74,33,0,0,0,43,0,0,0,0,0,7,0,7,0,3,0,0,0,0,0,0,0,0,0,0,0,0,0,0,0,0,0,0,0,0,0,0,0,0,0,0,0,0,0,0,0,0,0,0,0,93,0,0,0,0,0,0,0,0,0]
["Kentuckiana Regional Planning and Development Agency","Louisville","KY",4196,40196,"MPO, COG or Other Planning Agency","Full Reporter",972546,74,0,0,0,0,0,0,0,0,0,0,107,18,0,0,0,0,0,0,0,0,0,0,0,0,0,0,0,0,0,0,0,0,0,0,0,0,0,0,0,0,0,0,0,0,0,0,0,0,0,0,107,18,0,0,0,0,0,0,0,0]
["City of Appleton, dba: Valley Transit","Appleton","WI",5001,50001,"City, County or Local Government Unit or Department of Transportation","Full Reporter",216154,74,54,27,0,0,0,0,0,0,0,0,44,0,4,0,2,0,18,0,0,0,0,0,0,0,0,0,0,0,0,0,0,0,0,0,0,0,0,0,0,0,0,0,0,0,0,0,0,0,0,0,122,27,2,0,5,1,0,0,7,1]
["Panhandle Community Services ","Amarillo ","TX","6R05-002","6R05-60192","Independent Public Agency or Authority of Transit Service","Rural Reporter",0,74,0,0,0,0,0,0,0,0,0,0,9,0,58,37,9,9,14,9,0,0,0,0,0,0,0,0,0,0,0,0,0,0,0,0,0,0,0,0,0,0,0,0,0,0,0,0,0,0,0,0,90,55,7,7,1,1,0,0,8,8]
["Antelope Valley Transit Authority","Lancaster","CA",9121,90121,"Independent Public Agency or Authority of Transit Service","Full Reporter",341219,74,44,24,6,0,30,13,0,0,0,0,15,0,0,0,0,0,0,0,0,0,0,0,0,0,0,0,0,0,0,0,0,0,0,0,0,0,0,0,0,0,0,0,0,0,0,0,0,0,0,0,95,37,17,5,11,1,0,0,28,6]
["Chittenden County Transportation Authority d/b/a Green Mountain Transit Agency","Burlington","VT","1R06-007","1R06-10165","Independent Public Agency or Authority of Transit Service","Rural Reporter",0,73,5,0,0,0,0,0,0,0,0,0,0,0,55,0,5,0,2,0,0,0,0,0,0,0,0,0,0,0,0,0,0,0,0,0,0,0,0,0,0,0,0,0,0,0,0,0,0,0,0,0,67,0,0,0,0,0,0,0,0,0]
["Area Transportation Authority of North Central PA","Johnsonburg","PA","3R04-019","3R04-30196","Independent Public Agency or Authority of Transit Service","Rural Reporter",0,73,42,24,0,0,0,0,0,0,0,0,36,36,27,3,0,0,0,0,0,0,0,0,0,0,0,0,0,0,0,0,0,0,0,0,0,0,0,0,0,0,0,0,0,0,0,0,0,0,0,0,105,63,3,3,4,4,0,0,7,7]
["Coastal Regional Commission","Darien","GA","4R03-118","4R03-41112","City, County or Local Government Unit or Department of Transportation","Rural Reporter",0,73,0,0,0,0,0,0,0,0,0,0,0,0,62,0,0,0,0,0,0,0,0,0,0,0,0,0,0,0,0,0,0,0,0,0,0,0,0,0,0,0,0,0,0,0,0,0,0,0,0,0,62,0,0,0,0,0,0,0,0,0]
["Central Arkansas Transit Authority, dba: Rock Region METRO","North Little Rock","AR",6033,60033,"Independent Public Agency or Authority of Transit Service","Full Reporter",431388,73,59,4,0,0,0,0,0,0,0,0,0,0,22,0,0,0,2,0,0,0,0,0,0,0,0,0,0,0,0,0,0,0,0,0,5,0,0,0,0,0,0,0,0,0,0,0,0,0,0,0,88,4,0,0,18,3,0,0,18,3]
["Rio Metro Regional Transit District","Albuquerque","NM",6111,60111,"Independent Public Agency or Authority of Transit Service","Full Reporter",741318,73,7,0,0,0,0,0,0,0,0,0,0,0,38,0,16,0,3,1,0,0,0,0,0,0,0,0,22,0,0,0,9,0,0,0,0,0,0,0,0,0,0,0,0,0,0,0,0,0,0,0,95,1,12,3,8,4,0,0,20,7]
["Port Authority Transit Corporation","Lindenwold","NJ",2075,20075,"Independent Public Agency or Authority of Transit Service","Full Reporter",5441567,72,0,0,0,0,0,0,0,0,0,0,0,0,0,0,0,0,0,0,0,0,0,0,134,0,0,0,0,0,0,0,0,0,0,0,0,0,0,0,0,0,0,0,0,0,0,0,0,0,0,0,134,0,11,6,254,42,8,2,273,50]
["Luzerne County Transportation Authority","Kingston","PA",3015,30015,"Independent Public Agency or Authority of Transit Service","Full Reporter",381502,72,38,11,0,0,0,0,0,0,0,0,3,3,46,28,0,0,0,0,0,0,0,0,0,0,0,0,0,0,0,0,0,0,0,0,0,0,0,0,0,0,0,0,0,0,0,0,0,0,0,0,87,42,0,0,5,2,0,0,5,2]
["Gold Coast Transit","Oxnard","CA",9035,90035,"Independent Public Agency or Authority of Transit Service","Full Reporter",367260,72,56,0,0,0,0,0,0,0,0,0,13,0,15,7,0,0,0,0,0,0,0,0,0,0,0,0,0,0,0,0,0,0,0,0,0,0,0,0,0,0,0,0,0,0,0,0,0,0,0,0,84,7,19,13,3,1,0,0,22,14]
["County of Rockland , dba: Public Transportation - Transport of Rockland","Pomona","NY",2084,20084,"City, County or Local Government Unit or Department of Transportation","Full Reporter",18351295,71,46,7,0,0,18,15,0,0,0,0,0,0,26,0,0,0,0,0,5,5,0,0,0,0,0,0,0,0,0,0,0,0,0,0,0,0,0,0,0,0,0,0,0,0,0,0,0,0,0,0,95,27,2,0,2,0,0,0,4,0]
["Sandy Valley Transportation Services","Prestonsburg","KY","4R04-016","4R04-41006","Private-Non-Profit Corporation","Rural Reporter",0,71,2,1,0,0,0,0,0,0,0,0,13,1,47,0,0,0,3,0,7,1,0,0,0,0,0,0,0,0,0,0,0,0,0,0,0,0,0,0,0,0,0,0,0,0,0,0,0,0,0,0,72,3,2,2,0,0,0,0,2,2]
["Ride Connection, Inc.","Portland","OR","0R02-022",376,"Private-Non-Profit Corporation","Full Reporter",1849898,70,0,0,0,0,0,0,0,0,0,0,0,0,29,7,22,1,47,7,0,0,0,0,0,0,0,0,0,0,0,0,0,0,0,0,0,0,0,0,0,0,0,0,0,0,0,0,0,0,0,0,98,15,0,0,0,0,0,0,0,0]
["Connecticut Department of Transportation- CTTransit Waterbury- NET","Waterbury","CT",1128,10128,"Subsidiary Unit of a Transit Agency, Reporting Separately","Full Reporter",194535,70,42,0,0,0,0,0,0,0,0,0,0,0,42,2,0,0,0,0,0,0,0,0,0,0,0,0,0,0,0,0,0,0,0,0,0,0,0,0,0,0,0,0,0,0,0,0,0,0,0,0,84,2,0,0,9,1,0,0,9,1]
["Port Imperial Ferry Corporation, dba: NY Waterway","Weehawken","NJ",2190,20190,"Private-For-Profit Corporation","Full Reporter",18351295,70,58,28,0,0,0,0,0,0,0,0,0,0,0,0,0,0,0,0,0,0,0,0,0,0,0,0,0,0,0,0,0,0,0,0,0,0,0,0,0,0,0,0,0,0,0,0,15,0,0,0,73,28,0,0,1,0,0,0,1,0]
["Bergen County, dba: Bergen County Community Transportation","Lodi","NJ",2192,20192,"City, County or Local Government Unit or Department of Transportation","Full Reporter",18351295,70,0,0,0,0,0,0,0,0,0,0,14,6,52,4,0,0,8,0,0,0,0,0,0,0,0,0,0,0,0,0,0,0,0,0,0,0,0,0,0,0,0,0,0,0,0,0,0,0,0,0,74,10,1,1,4,3,0,0,5,4]
["Washington County Transportation Authority, dba: Freedom Transit","Washington","PA",3111,30111,"Independent Public Agency or Authority of Transit Service","Full Reporter",1733853,70,12,1,0,0,0,0,0,0,0,0,3,0,55,21,22,1,1,0,0,0,0,0,0,0,0,0,0,0,0,0,0,0,0,0,0,0,0,0,0,0,0,0,0,0,0,0,0,0,0,0,93,23,2,2,0,0,0,0,2,2]
["Louisville WHEELS Transportation, Inc","Louisville","KY","4R04-027","4R04-41090","Private-Non-Profit Corporation","Rural Reporter",0,70,0,0,0,0,0,0,0,0,0,0,6,6,71,0,0,0,5,2,1,0,0,0,0,0,0,0,0,0,0,0,0,0,0,0,0,0,0,0,0,0,0,0,0,0,0,0,0,0,0,0,83,8,4,4,0,0,0,0,4,4]
["Central County Transportation Authority","Kalamazoo","MI",5035,50035,"Independent Public Agency or Authority of Transit Service","Full Reporter",209703,70,46,7,0,0,0,0,0,0,0,0,43,12,18,3,0,0,0,0,0,0,0,0,0,0,0,0,0,0,0,0,0,0,0,0,0,0,0,0,0,0,0,0,0,0,0,0,0,0,0,0,107,22,6,6,3,0,0,0,9,6]
["Northern Indiana Commuter Transportation District","Chesterton","IN",5104,50104,"Independent Public Agency or Authority of Transit Service","Full Reporter",8608208,70,0,0,0,0,0,0,0,0,0,0,0,0,0,0,0,0,0,0,0,0,0,0,0,0,0,0,10,0,72,0,0,0,0,0,0,0,0,0,0,0,0,0,0,0,0,0,0,0,0,0,82,0,14,0,81,4,19,1,114,5]
["Merrimack Valley Regional Transit Authority","Haverhill","MA",1013,10013,"Independent Public Agency or Authority of Transit Service","Full Reporter",4181019,69,56,6,0,0,9,3,0,0,0,0,2,0,25,1,2,0,0,0,0,0,0,0,0,0,0,0,0,0,0,0,0,0,0,0,0,0,0,0,0,0,0,0,0,0,0,0,0,0,0,0,94,10,1,0,11,2,0,0,12,2]
["East Central Iowa Council of Governments","Cedar Rapids","IA","7R01-010","7R01-70138","Independent Public Agency or Authority of Transit Service","Rural Reporter",0,69,10,3,0,0,0,0,0,0,0,0,0,0,52,30,0,0,14,4,0,0,0,0,0,0,0,0,0,0,0,0,0,0,0,0,0,0,0,0,0,0,0,0,0,0,0,0,0,0,0,0,76,37,0,0,0,0,0,0,0,0]
["JAUNT, Inc.","Charlottesville","VA",3045,30045,"Other Publicly-Owned or Privately Chartered Corporation","Full Reporter",92359,68,0,0,0,0,0,0,0,0,0,0,5,5,98,29,0,0,0,0,0,0,0,0,0,0,0,0,0,0,0,0,0,0,0,0,0,0,0,0,0,0,0,0,0,0,0,0,0,0,0,0,103,34,5,0,1,0,0,0,6,0]
["City of Winston Salem, dba: Winston-Salem Transit Authority","Winston-Salem","NC",4012,40012,"Independent Public Agency or Authority of Transit Service","Full Reporter",391024,68,57,20,0,0,0,0,0,0,0,0,0,0,40,22,0,0,0,0,0,0,0,0,0,0,0,0,0,0,0,0,0,0,0,0,0,0,0,0,0,0,0,0,0,0,0,0,0,0,0,0,97,42,7,4,4,2,0,0,11,6]
["Big Bend Transit","Tallahassee","FL","4R02-011","4R02-41153","Private-Non-Profit Corporation","Rural Reporter",0,68,4,0,0,0,0,0,0,0,0,0,19,11,62,10,0,0,5,0,0,0,0,0,0,0,0,0,0,0,0,0,0,0,0,0,0,0,0,0,0,0,0,0,0,0,0,0,0,0,0,0,90,21,0,0,0,0,0,0,0,0]
["Duluth Transit Authority","Duluth","MN",5025,50025,"Independent Public Agency or Authority of Transit Service","Full Reporter",120378,68,85,13,0,0,0,0,0,0,0,0,3,3,9,0,0,0,0,0,0,0,0,0,0,0,0,0,0,0,0,0,0,0,0,0,0,0,0,0,0,0,0,0,0,0,0,0,0,0,0,0,97,16,7,3,6,5,0,0,13,8]
["Central Texas Rural Transit District","Coleman","TX","6R05-005","6R05-60262","Independent Public Agency or Authority of Transit Service","Rural Reporter",0,68,0,0,0,0,0,0,0,0,0,0,4,0,52,19,7,7,7,4,0,0,0,0,0,0,0,0,0,0,0,0,0,0,0,0,0,0,0,0,0,0,0,0,0,0,0,0,0,0,0,0,70,30,14,13,4,3,0,0,18,16]
["County of Hawaii Mass Transit Agency","Hilo","HI","9R03-002","9R03-91080","City, County or Local Government Unit or Department of Transportation","Rural Reporter",0,68,11,9,0,0,6,0,0,0,0,0,19,0,20,1,14,0,21,0,0,0,0,0,0,0,0,0,0,0,0,0,0,0,0,0,0,0,0,0,0,0,0,0,0,0,0,0,0,0,0,0,91,10,0,0,1,1,0,0,1,1]
["Valley Regional Transit","Meridian","ID",11,11,"Independent Public Agency or Authority of Transit Service","Full Reporter",349684,67,39,8,0,0,0,0,0,0,0,0,11,2,45,12,0,0,0,0,0,0,0,0,0,0,0,0,0,0,0,0,0,0,0,0,0,0,0,0,0,0,0,0,0,0,0,0,0,0,0,0,95,22,9,3,5,2,0,0,14,5]
["Somerset County, dba: Somerset County Transportation","Somerville","NJ",2209,20209,"City, County or Local Government Unit or Department of Transportation","Full Reporter",18351295,67,13,0,0,0,0,0,0,0,0,0,0,0,97,3,4,4,0,0,0,0,0,0,0,0,0,0,0,0,0,0,0,0,0,0,0,0,0,0,0,0,0,0,0,0,0,0,0,0,0,0,114,7,0,0,3,3,0,0,3,3]
["Ms Coast Transportation Authority, dba: Coast Transit Authority","Gulfport","MS",4014,40014,"Independent Public Agency or Authority of Transit Service","Full Reporter",208948,67,17,0,0,0,0,0,0,0,0,0,29,0,22,12,0,0,0,0,7,0,0,0,0,0,0,0,0,0,0,0,0,0,0,0,0,0,0,0,0,0,0,0,0,0,0,0,0,0,0,0,75,12,0,0,3,0,0,0,3,0]
["Southwest Iowa Planning Council /SW Iowa Transit","Atlantic","IA","7R01-013","7R01-70258","Independent Public Agency or Authority of Transit Service","Rural Reporter",0,67,4,0,0,0,0,0,0,0,0,0,1,1,64,26,5,3,22,11,0,0,0,0,0,0,0,0,0,0,0,0,0,0,0,0,0,0,0,0,0,0,0,0,0,0,0,0,0,0,0,0,96,41,0,0,0,0,0,0,0,0]
["Middlesex County","New Brunswick","NJ",2196,20196,"City, County or Local Government Unit or Department of Transportation","Full Reporter",18351295,66,8,0,0,0,0,0,0,0,0,0,4,2,61,5,3,3,0,0,0,0,0,0,0,0,0,0,0,0,0,0,0,0,0,0,0,0,0,0,0,0,0,0,0,0,0,0,0,0,0,0,76,10,3,3,4,3,0,0,7,6]
["Stark Area Regional Transit Authority","Canton","OH",5011,50011,"Independent Public Agency or Authority of Transit Service","Full Reporter",279245,66,44,3,0,0,0,0,0,0,0,0,9,0,52,5,0,0,0,0,0,0,0,0,0,0,0,0,0,0,0,0,0,0,0,0,0,0,0,0,0,0,0,0,0,0,0,0,0,0,0,0,105,8,4,4,12,3,0,0,16,7]
["City of Wichita , dba: Wichita Transit","Wichita","KS",7015,70015,"City, County or Local Government Unit or Department of Transportation","Full Reporter",472870,66,55,10,0,0,0,0,0,0,0,0,3,0,25,1,0,0,0,0,0,0,0,0,0,0,0,0,0,0,0,0,0,0,0,0,0,0,0,0,0,0,0,0,0,0,0,0,0,0,0,0,83,11,2,2,12,7,0,0,14,9]
["County of Sonoma , dba: Sonoma County Transit","Santa Rosa","CA",9089,90089,"City, County or Local Government Unit or Department of Transportation","Full Reporter",308231,66,44,5,0,0,0,0,0,0,0,0,6,0,22,4,6,0,0,0,0,0,0,0,0,0,0,0,0,0,0,0,0,0,0,0,0,0,0,0,0,0,0,0,0,0,0,0,0,0,0,0,78,9,8,4,4,1,0,0,12,5]
["Tompkins Consolidated Area Transit","Ithaca","NY",2145,20145,"Private-Non-Profit Corporation","Full Reporter",53661,65,52,13,0,0,0,0,0,0,0,0,0,0,31,1,0,0,0,0,0,0,0,0,0,0,0,0,0,0,0,0,0,0,0,0,0,0,0,0,0,0,0,0,0,0,0,0,0,0,0,0,83,14,13,0,2,1,0,0,15,1]
["South Florida Regional Transportation Authority","Pompano Beach","FL",4077,40077,"Independent Public Agency or Authority of Transit Service","Full Reporter",5502379,65,26,0,0,0,0,0,0,0,0,0,0,0,0,0,0,0,0,0,0,0,0,0,0,0,0,0,46,0,0,0,16,0,0,0,0,0,0,0,0,0,0,0,0,0,0,0,0,0,0,0,88,0,18,2,0,0,0,0,18,2]
["Greater Bridgeport Transit Authority","Bridgeport","CT",1050,10050,"Independent Public Agency or Authority of Transit Service","Full Reporter",923311,64,57,5,0,0,0,0,0,0,0,0,0,0,48,24,0,0,2,0,0,0,0,0,0,0,0,0,0,0,0,0,0,0,0,0,0,0,0,0,0,0,0,0,0,0,0,0,0,0,0,0,107,29,9,7,5,2,0,0,14,9]
["Lakeland Area Mass Transit District ","Lakeland","FL",4031,40031,"Independent Public Agency or Authority of Transit Service","Full Reporter",262596,64,39,19,0,0,0,0,0,0,0,0,0,0,37,6,0,0,0,0,0,0,0,0,0,0,0,0,0,0,0,0,0,0,0,0,0,0,0,0,0,0,0,0,0,0,0,0,0,0,0,0,76,25,15,7,27,0,0,0,42,7]
["Escambia County Board of County Commissioners, FL, dba: Escambia County Area Transit Authority","Pensacola","FL",4038,40038,"City, County or Local Government Unit or Department of Transportation","Full Reporter",340067,64,36,6,0,0,0,0,0,0,0,0,4,0,34,0,0,0,0,0,0,0,0,0,0,0,0,0,0,0,0,0,0,0,0,0,0,0,0,0,0,0,0,0,0,0,0,0,0,0,0,0,74,6,3,1,9,5,0,0,12,6]
["Central Midlands Regional Transportation Authority, dba: The COMET","Columbia","SC",4141,40141,"Independent Public Agency or Authority of Transit Service","Full Reporter",549777,64,62,23,0,0,0,0,0,0,0,0,0,0,32,0,0,0,2,0,0,0,0,0,0,0,0,0,0,0,0,0,0,0,0,0,0,0,0,0,0,0,0,0,0,0,0,0,0,0,0,0,96,23,6,0,2,0,0,0,8,0]
["SouthWest Transit","Eden Prairie","MN",5221,50518,"Independent Public Agency or Authority of Transit Service","Full Reporter",2650890,64,8,0,0,0,56,0,0,0,0,0,3,0,14,7,0,0,0,0,0,0,0,0,0,0,0,0,0,0,0,0,0,0,0,0,0,0,0,0,0,0,0,0,0,0,0,0,0,0,0,0,81,7,2,2,8,4,0,0,10,6]
["Heart of Iowa Regional Transit Agency","Des Moines","IA","7R01-011","7R01-70066","Independent Public Agency or Authority of Transit Service","Rural Reporter",0,64,0,0,0,0,0,0,0,0,0,0,1,1,94,66,0,0,19,14,0,0,0,0,0,0,0,0,0,0,0,0,0,0,0,0,0,0,0,0,0,0,0,0,0,0,0,0,0,0,0,0,114,81,0,0,0,0,0,0,0,0]
["CCTS d/b/a River Cities Transit","Pierre","SD","8R04-011","8R04-80171","Private-Non-Profit Corporation","Rural Reporter",0,64,4,2,0,0,0,0,0,0,7,7,1,1,50,26,0,0,23,18,0,0,0,0,0,0,0,0,0,0,0,0,0,0,0,0,0,0,0,0,0,0,0,0,0,0,0,0,0,0,0,0,85,54,1,1,8,2,0,0,9,3]
["Good Wheels, Inc.","Ft. Myers","FL","4R02-042","4R02-40207","Private-Non-Profit Corporation","Rural Reporter",0,63,2,0,0,0,0,0,0,0,7,0,2,1,31,11,0,0,27,2,0,0,0,0,0,0,0,0,0,0,0,0,0,0,0,0,0,0,0,0,0,0,0,0,0,0,0,0,0,0,0,0,69,14,0,0,0,0,0,0,0,0]
["Bay Area Transportation Authority","Traverse City","MI","5R03-010","5R03-50413","Independent Public Agency or Authority of Transit Service","Rural Reporter",0,63,50,19,0,0,0,0,0,0,9,4,8,4,51,2,0,0,0,0,0,0,0,0,0,0,0,0,0,0,0,0,0,0,0,0,0,0,0,0,0,0,0,0,0,0,0,0,0,0,0,0,118,29,0,0,2,1,0,0,2,1]
["City of Modesto , dba: Modesto Area Express","Modesto","CA",9007,90007,"City, County or Local Government Unit or Department of Transportation","Full Reporter",358172,63,56,17,0,0,4,1,0,0,0,0,0,0,17,0,0,0,6,0,0,0,0,0,0,0,0,0,0,0,0,0,0,0,0,0,0,0,0,0,0,0,0,0,0,0,0,0,0,0,0,0,83,18,1,1,4,0,0,0,5,1]
["Yuma County Intergovernmental Public Transportation Authority","Yuma","AZ",9233,90233,"Independent Public Agency or Authority of Transit Service","Full Reporter",135267,63,18,3,0,0,0,0,0,0,0,0,15,0,6,0,0,0,1,0,21,0,0,0,0,0,0,0,0,0,0,0,0,0,0,0,0,0,0,0,0,0,0,0,0,0,0,0,0,0,0,0,61,3,3,0,5,2,0,0,8,2]
["Rock Island County Metropolitan Mass Transit District","Moline ","IL",5057,50057,"Independent Public Agency or Authority of Transit Service","Full Reporter",280051,62,58,17,0,0,0,0,0,0,0,0,2,0,14,0,0,0,1,0,0,0,0,0,0,0,0,0,0,0,0,0,0,0,0,0,0,0,0,0,0,0,0,0,0,0,0,0,3,0,0,0,78,17,0,0,14,14,0,0,14,14]
["Northeast Colorado Association of Local Government","Fort Morgan","CO","8R01-011","8R01-80221","MPO, COG or Other Planning Agency","Rural Reporter",0,62,1,1,0,0,0,0,0,0,0,0,6,4,27,14,0,0,32,13,0,0,0,0,0,0,0,0,0,0,0,0,0,0,0,0,0,0,0,0,0,0,0,0,0,0,0,0,0,0,0,0,66,32,0,0,0,0,0,0,0,0]
["Livermore / Amador Valley Transit Authority","Livermore","CA",9144,90144,"Independent Public Agency or Authority of Transit Service","Full Reporter",615968,62,82,23,0,0,0,0,0,0,0,0,2,0,0,0,4,0,19,0,0,0,0,0,0,0,0,0,0,0,0,0,0,0,0,0,0,0,0,0,0,0,0,0,0,0,0,0,0,0,0,0,107,23,4,4,5,3,0,0,9,7]
["Clallam Transit System","Port Angeles","WA","0R03-009","0R03-00303","Independent Public Agency or Authority of Transit Service","Rural Reporter",0,61,25,8,0,0,0,0,0,0,0,0,34,4,26,1,0,0,1,1,0,0,0,0,0,0,0,0,0,0,0,0,0,0,0,0,0,0,0,0,0,0,0,0,0,0,0,0,0,0,0,0,86,14,2,2,13,1,0,0,15,3]
["University of Georgia, dba: University of Georgia Transit System","Athens","GA",4180,40180,"University","Full Reporter",128754,61,56,8,0,0,0,0,0,0,0,0,4,2,5,0,0,0,4,0,0,0,0,0,0,0,0,0,0,0,0,0,0,0,0,0,0,0,0,0,0,0,0,0,0,0,0,0,0,0,0,0,69,10,6,4,1,0,0,0,7,4]
["Transit Authority of Central Kentucky","Elizabethtown","KY",4191,40191,"Independent Public Agency or Authority of Transit Service","Full Reporter",73467,61,7,0,0,0,0,0,0,0,0,0,24,14,11,5,1,1,22,8,1,0,0,0,0,0,0,0,0,0,0,0,0,0,0,0,0,0,0,0,0,0,0,0,0,0,0,0,0,0,0,0,66,28,0,0,0,0,0,0,0,0]
["Wake County, dba: Wake County DSS","Raleigh","NC","4R06-094",40222,"City, County or Local Government Unit or Department of Transportation","Full Reporter",884891,61,0,0,0,0,0,0,0,0,0,0,45,4,26,0,0,0,0,0,0,0,0,0,0,0,0,0,0,0,0,0,0,0,0,0,0,0,0,0,0,0,0,0,0,0,0,0,0,0,0,0,71,4,0,0,0,0,0,0,0,0]
["Greater Lafayette Public Transportation Corporation","Lafayette","IN",5051,50051,"Independent Public Agency or Authority of Transit Service","Full Reporter",147725,61,58,3,12,6,0,0,0,0,0,0,0,0,6,0,0,0,0,0,0,0,0,0,0,0,0,0,0,0,0,0,0,0,0,0,0,0,0,0,0,0,0,0,0,0,0,0,0,0,0,0,76,9,9,2,5,2,0,0,14,4]
["County of Howard","Ellicott City","MD",3048,30048,"City, County or Local Government Unit or Department of Transportation","Full Reporter",2203663,60,30,8,0,0,0,0,0,0,0,0,0,0,22,0,29,0,0,0,0,0,0,0,0,0,0,0,0,0,0,0,0,0,0,0,0,0,0,0,0,0,0,0,0,0,0,0,0,0,0,0,81,8,3,0,11,4,0,0,14,4]
["Central Kentucky Community Action Council","Lebanon","KY","4R04-026","4R04-41165","Private-Non-Profit Corporation","Rural Reporter",0,60,0,0,0,0,0,0,0,0,0,0,9,2,15,1,1,1,43,15,2,1,0,0,0,0,0,0,0,0,0,0,0,0,0,0,0,0,0,0,0,0,0,0,0,0,0,0,0,0,0,0,70,20,0,0,0,0,0,0,0,0]
["Springfield Mass Transit District, dba: Sangamon Mass Transit District","Springfield","IL",5059,50059,"Independent Public Agency or Authority of Transit Service","Full Reporter",161316,60,59,4,0,0,0,0,0,0,0,0,0,0,23,0,0,0,0,0,0,0,0,0,0,0,0,0,0,0,0,0,0,0,0,0,0,0,0,0,0,0,0,0,0,0,0,0,0,0,0,0,82,4,5,0,3,1,0,0,8,1]
["City of Shreveport, dba: Shreveport Area Transit System","Shreveport","LA",6024,60024,"City, County or Local Government Unit or Department of Transportation","Full Reporter",298317,60,33,0,0,0,0,0,0,0,0,0,20,9,21,0,0,0,0,0,0,0,0,0,0,0,0,0,0,0,0,0,0,0,0,0,0,0,0,0,0,0,0,0,0,0,0,0,0,0,0,0,74,9,1,0,18,3,0,0,19,3]
["Rural Economic Assistance League, Inc. ","Alice ","TX","6R05-011","6R05-60175","Private-Non-Profit Corporation","Rural Reporter",0,60,0,0,0,0,0,0,0,0,0,0,25,11,37,21,4,1,12,7,0,0,0,0,0,0,0,0,0,0,0,0,0,0,0,0,0,0,0,0,0,0,0,0,0,0,0,0,0,0,0,0,78,40,0,0,1,1,0,0,1,1]
["City of Yakima, dba: Yakima Transit","Yakima","WA",6,6,"City, County or Local Government Unit or Department of Transportation","Full Reporter",129534,59,30,2,0,0,4,0,0,0,0,0,23,14,7,0,0,0,13,0,0,0,0,0,0,0,0,0,0,0,0,0,0,0,0,0,0,0,0,0,0,0,0,0,0,0,0,0,0,0,0,0,77,16,0,0,11,1,0,0,11,1]
["Paducah Transit Authority","Paducah","KY","4R04-012","4R04-41013","Independent Public Agency or Authority of Transit Service","Rural Reporter",0,59,8,4,0,0,0,0,0,0,0,0,0,0,35,0,0,0,8,0,12,3,0,0,0,0,0,0,0,0,0,0,0,0,0,0,0,0,0,0,0,0,0,0,0,0,0,0,0,0,0,0,63,7,1,1,0,0,0,0,1,1]
["City of Kenosha, dba: Kenosha Area Transit","Kenosha","WI",5003,50003,"City, County or Local Government Unit or Department of Transportation","Full Reporter",124064,58,61,32,0,0,0,0,0,0,0,0,0,0,22,0,0,0,0,0,0,0,0,0,0,0,0,0,0,0,0,0,0,0,0,0,7,7,0,0,0,0,0,0,0,0,0,0,0,0,0,0,90,39,1,1,10,8,0,0,11,9]
["City of Rochester, Minnesota, dba: Rochester Public Transit","Rochester","MN",5092,50092,"City, County or Local Government Unit or Department of Transportation","Full Reporter",107677,58,72,28,0,0,0,0,0,0,0,0,0,0,0,0,0,0,1,0,0,0,0,0,0,0,0,0,0,0,0,0,0,0,0,0,0,0,0,0,0,0,0,0,0,0,0,0,0,0,0,0,73,28,0,0,0,0,0,0,0,0]
["Mid-Delta Transit","Helena West Helena","AR","6R01-004","6R01-60136","Private-Non-Profit Corporation","Rural Reporter",0,58,0,0,0,0,0,0,0,0,0,0,35,26,14,4,0,0,12,1,0,0,0,0,0,0,0,0,0,0,0,0,0,0,0,0,0,0,0,0,0,0,0,0,0,0,0,0,0,0,0,0,61,31,2,1,1,0,0,0,3,1]
["United Community Action Program, Inc.","Pawnee ","OK","6R04-009","6R04-60146","Private-Non-Profit Corporation","Rural Reporter",0,58,0,0,0,0,0,0,0,0,0,0,1,0,22,10,0,0,36,2,4,0,0,0,0,0,0,0,0,0,0,0,0,0,0,0,0,0,0,0,0,0,0,0,0,0,0,0,0,0,0,0,63,12,0,0,0,0,0,0,0,0]
["Rolling Plains Management Corporation / SHARP Lines","Crowell ","TX","6R05-008","6R05-60143","Other Publicly-Owned or Privately Chartered Corporation","Rural Reporter",0,58,0,0,0,0,0,0,0,0,0,0,6,0,38,25,11,0,19,8,0,0,0,0,0,0,0,0,0,0,0,0,0,0,0,0,0,0,0,0,0,0,0,0,0,0,0,0,0,0,0,0,74,33,9,4,0,0,0,0,9,4]
["DeCamp Bus Lines","Montclair","NJ",2161,20161,"Private-For-Profit Corporation","Full Reporter",18351295,57,0,0,0,0,70,0,0,0,0,0,0,0,0,0,0,0,0,0,0,0,0,0,0,0,0,0,0,0,0,0,0,0,0,0,0,0,0,0,0,0,0,0,0,0,0,0,0,0,0,0,70,0,1,1,2,2,0,0,3,3]
["DDOT - Progressive Transportation Services Administration","Washington","DC",3112,30112,"State Government Unit or Department of Transportation","Full Reporter",4586770,57,72,0,0,0,0,0,0,0,0,0,0,0,0,0,0,0,0,0,0,0,0,0,0,0,0,0,0,0,0,0,0,0,0,0,0,0,6,0,0,0,0,0,0,0,0,0,0,0,0,0,78,0,0,0,0,0,0,0,0,0]
["Alternativa de Transporte Integrado -ATI","San Juan","PR",4094,40094,"State Government Unit or Department of Transportation","Full Reporter",2148346,57,28,0,2,0,0,0,0,0,0,0,0,0,24,0,0,0,0,0,0,0,0,0,66,0,0,0,0,0,0,0,0,0,0,0,0,0,0,0,0,0,0,0,0,0,0,0,0,0,0,0,120,0,0,0,46,18,3,0,49,18]
["Regional Transportation Authority","Nashville","TN",4159,40159,"Independent Public Agency or Authority of Transit Service","Full Reporter",969587,57,0,0,0,0,19,0,0,0,0,0,51,19,0,0,0,0,0,0,0,0,0,0,0,0,0,0,8,8,0,0,4,0,0,0,0,0,0,0,0,0,0,0,0,0,0,0,0,0,0,0,82,27,0,0,0,0,0,0,0,0]
["North Arkansas Transportation Service","Harrison","AR","6R01-005","6R01-60189","Private-Non-Profit Corporation","Rural Reporter",0,57,2,2,0,0,0,0,0,0,0,0,32,24,10,7,0,0,13,3,0,0,0,0,0,0,0,0,0,0,0,0,0,0,0,0,0,0,0,0,0,0,0,0,0,0,0,0,0,0,0,0,57,36,0,0,1,1,0,0,1,1]
["Southwest Area Regional Transit District","Uvalde ","TX","6R05-023","6R05-60256","Independent Public Agency or Authority of Transit Service","Rural Reporter",0,57,0,0,0,0,0,0,0,0,0,0,0,0,42,13,1,1,17,7,0,0,0,0,0,0,0,0,0,0,0,0,0,0,0,0,0,0,0,0,0,0,0,0,0,0,0,0,0,0,0,0,60,21,3,0,1,1,0,0,4,1]
["City of Everett, dba: EVERETT TRANSIT SYSTEM","Everett","WA",5,5,"City, County or Local Government Unit or Department of Transportation","Full Reporter",3059393,56,55,28,0,0,0,0,0,0,0,0,2,0,13,1,0,0,0,0,0,0,0,0,0,0,0,0,0,0,0,0,0,0,0,0,0,0,0,0,0,0,0,0,0,0,0,0,0,0,0,0,70,29,1,1,11,1,0,0,12,2]
["Southwestern Pennsylvania Commission","Pittsburgh","PA",3078,30078,"MPO, COG or Other Planning Agency","Full Reporter",1733853,56,0,0,0,0,0,0,0,0,0,0,51,0,0,0,0,0,0,0,0,0,0,0,0,0,0,0,0,0,0,0,0,0,0,0,0,0,0,0,0,0,0,0,0,0,0,0,0,0,0,0,51,0,0,0,0,0,0,0,0,0]
["First Tennessee Human Resource Agency","Johnson City","TN","4R08-001",40950,"Independent Public Agency or Authority of Transit Service","Full Reporter",120415,56,0,0,0,0,0,0,0,0,0,0,69,0,0,0,2,2,40,0,0,0,0,0,0,0,0,0,0,0,0,0,0,0,0,0,0,0,0,0,0,0,0,0,0,0,0,0,0,0,0,0,111,2,4,3,2,1,0,0,6,4]
["River Bend Transit","Davenport","IA",7049,70049,"Private-Non-Profit Corporation","Full Reporter",280051,56,0,0,0,0,0,0,0,0,0,0,1,1,76,15,0,0,0,0,0,0,0,0,0,0,0,0,0,0,0,0,0,0,0,0,0,0,0,0,0,0,0,0,0,0,0,0,0,0,0,0,77,16,0,0,1,0,0,0,1,0]
["San Joaquin Council","Stockton","CA",null,99422,"MPO, COG or Other Planning Agency","Full Reporter",370583,56,0,0,0,0,0,0,0,0,0,0,19,0,0,0,0,0,32,0,7,0,0,0,0,0,0,0,0,0,0,0,0,0,0,0,0,0,0,0,0,0,0,0,0,0,0,0,0,0,0,0,58,0,0,0,0,0,0,0,0,0]
["Lakeland Bus Lines, Inc.","Dover","NJ",2163,20163,"Private-For-Profit Corporation","Full Reporter",18351295,55,0,0,0,0,68,7,0,0,0,0,0,0,0,0,0,0,0,0,0,0,0,0,0,0,0,0,0,0,0,0,0,0,0,0,0,0,0,0,0,0,0,0,0,0,0,0,0,0,0,0,68,7,1,0,8,0,0,0,9,0]
["Mayor and City Council Town of Ocean City","Ocean City","MD","3R03-026","3R03-30155","City, County or Local Government Unit or Department of Transportation","Rural Reporter",0,55,70,26,2,0,0,0,0,0,0,0,3,1,0,0,0,0,0,0,0,0,0,0,0,0,0,0,0,0,0,0,0,0,0,0,0,0,0,0,0,0,0,0,0,0,0,0,0,0,0,0,75,27,1,1,6,1,0,0,7,2]
["Lower Rio Grande Valley Development Council","Weslaco","TX",6090,60090,"MPO, COG or Other Planning Agency","Full Reporter",728825,55,22,0,0,0,0,0,0,0,0,0,4,3,48,3,0,0,0,0,0,0,0,0,0,0,0,0,0,0,0,0,0,0,0,0,0,0,0,0,0,0,0,0,0,0,0,0,0,0,0,0,74,6,0,0,4,0,0,0,4,0]
["Little Dixie Community Action Agency, Inc.","Hugo","OK","6R04-002","6R04-60191","Private-Non-Profit Corporation","Rural Reporter",0,55,0,0,0,0,0,0,0,0,0,0,0,0,22,7,0,0,30,21,9,0,0,0,0,0,0,0,0,0,0,0,0,0,0,0,0,0,0,0,0,0,0,0,0,0,0,0,0,0,0,0,61,28,0,0,0,0,0,0,0,0]
["Greater Roanoke Transit Company","Roanoke","VA",3007,30007,"Other Publicly-Owned or Privately Chartered Corporation","Full Reporter",210111,54,42,28,0,0,5,0,0,0,0,0,37,0,14,11,0,0,0,0,0,0,0,0,0,0,0,0,0,0,0,0,0,0,0,0,0,0,0,0,0,0,0,0,0,0,0,0,0,0,0,0,98,39,8,3,3,3,0,0,11,6]
["St. Cloud Metropolitan Transit Commission, dba: Metro Bus","St. Cloud","MN",5028,50028,"Independent Public Agency or Authority of Transit Service","Full Reporter",110621,54,41,13,0,0,5,2,0,0,0,0,0,0,29,15,0,0,0,0,0,0,0,0,0,0,0,0,0,0,0,0,0,0,0,0,0,0,0,0,0,0,0,0,0,0,0,0,0,0,0,0,75,30,3,3,5,3,0,0,8,6]
["Regional Transit Authority/RIDES","Spencer","IA","7R01-003","7R01-70240","Private-Non-Profit Corporation","Rural Reporter",0,54,0,0,0,0,0,0,0,0,0,0,0,0,52,51,0,0,14,7,0,0,0,0,0,0,0,0,0,0,0,0,0,0,0,0,0,0,0,0,0,0,0,0,0,0,0,0,0,0,0,0,66,58,3,1,0,0,0,0,3,1]
["City of Elk Grove","Elk Grove","CA",9205,90205,"City, County or Local Government Unit or Department of Transportation","Full Reporter",1723634,54,50,6,0,0,0,0,0,0,0,0,1,1,10,8,0,0,0,0,0,0,0,0,0,0,0,0,0,0,0,0,0,0,0,0,0,0,0,0,0,0,0,0,0,0,0,0,0,0,0,0,61,15,0,0,0,0,0,0,0,0]
["Broome County, dba: Department of Transportation/BC Transit","Vestal","NY",2003,20003,"City, County or Local Government Unit or Department of Transportation","Full Reporter",158084,53,41,16,0,0,0,0,0,0,0,0,0,0,27,0,0,0,0,0,0,0,0,0,0,0,0,0,0,0,0,0,0,0,0,0,0,0,0,0,0,0,0,0,0,0,0,0,0,0,0,0,68,16,1,1,6,2,0,0,7,3]
["Cambria County Transit Authority","Johnstown","PA",3012,30012,"Independent Public Agency or Authority of Transit Service","Full Reporter",69014,53,36,8,0,0,0,0,0,0,0,0,1,1,31,2,0,0,0,0,0,0,0,0,0,0,0,0,0,0,0,0,0,0,0,0,0,0,0,0,0,0,0,0,0,0,2,0,0,0,0,0,70,11,8,5,7,2,0,0,15,7]
["Bolivar County Council On Aging, Inc.","Cleveland","MS","4R05-002","4R05-41192","Private-Non-Profit Corporation","Rural Reporter",0,53,0,0,0,0,0,0,0,0,0,0,12,6,16,3,0,0,40,17,0,0,0,0,0,0,0,0,0,0,0,0,0,0,0,0,0,0,0,0,0,0,0,0,0,0,0,0,0,0,0,0,68,26,0,0,1,0,0,0,1,0]
["North Front Range Transportation and Air Quality Planning Council, dba: North Front Range MPO / VanGo","Fort Collins","CO",8106,80106,"MPO, COG or Other Planning Agency","Full Reporter",264465,53,0,0,0,0,0,0,0,0,0,0,66,0,0,0,0,0,10,0,0,0,0,0,0,0,0,0,0,0,0,0,0,0,0,0,0,0,0,0,0,0,0,0,0,0,0,0,0,0,0,0,76,0,0,0,0,0,0,0,0,0]
["Trans-Bridge Lines, Inc. ","Bethlehem","PA",2169,20169,"Private-For-Profit Corporation","Full Reporter",18351295,52,0,0,0,0,64,7,0,0,0,0,0,0,0,0,0,0,0,0,0,0,0,0,0,0,0,0,0,0,0,0,0,0,0,0,0,0,0,0,0,0,0,0,0,0,0,0,0,0,0,0,64,7,3,0,1,0,0,0,4,0]
["Bay Metropolitan Transit Authority","Bay City","MI",5029,50029,"Independent Public Agency or Authority of Transit Service","Full Reporter",70585,52,39,24,0,0,0,0,0,0,0,0,15,0,0,0,0,0,0,0,0,0,0,0,0,0,0,0,0,0,0,0,0,0,0,0,0,0,0,0,0,0,0,0,0,0,0,0,0,0,0,0,54,24,0,0,6,2,0,0,6,2]
["City of Fort Collins, dba: Transfort","Fort Collins","CO",8011,80011,"City, County or Local Government Unit or Department of Transportation","Full Reporter",264465,52,43,10,8,0,0,0,0,0,0,0,4,0,6,1,5,0,15,0,0,0,0,0,0,0,0,0,0,0,0,0,0,0,0,0,0,0,0,0,0,0,0,0,0,0,0,0,0,0,0,0,81,11,20,16,0,0,0,0,20,16]
["Transit Joint Powers Authority for Merced County, dba: Merced The Bus","Merced","CA",9173,90173,"Independent Public Agency or Authority of Transit Service","Full Reporter",136969,52,25,2,0,0,0,0,0,0,0,0,0,0,35,7,0,0,12,0,0,0,0,0,0,0,0,0,0,0,0,0,0,0,0,0,0,0,0,0,0,0,0,0,0,0,0,0,0,0,0,0,72,9,0,0,0,0,0,0,0,0]
["Rockford Mass Transit District","Rockford","IL",5058,50058,"Independent Public Agency or Authority of Transit Service","Full Reporter",296863,51,41,1,0,0,0,0,0,0,0,0,0,0,35,18,0,0,0,0,0,0,0,0,0,0,0,0,0,0,0,0,0,0,0,0,0,0,0,0,0,0,0,0,0,0,0,0,0,0,0,0,76,19,6,4,4,3,0,0,10,7]
["Laredo Transit Management, Inc., dba: El Metro","Laredo","TX",6009,60009,"City, County or Local Government Unit or Department of Transportation","Full Reporter",235730,51,42,6,0,0,0,0,0,0,0,0,3,0,15,0,0,0,0,0,0,0,0,0,0,0,0,0,0,0,0,0,0,0,0,0,0,0,0,0,0,0,0,0,0,0,0,0,0,0,0,0,60,6,4,4,13,6,0,0,17,10]
["Concho Valley Transit District","San Angelo","TX",6102,60102,"Independent Public Agency or Authority of Transit Service","Full Reporter",92984,51,1,0,0,0,0,0,0,0,0,0,8,1,46,6,0,0,0,0,0,0,0,0,0,0,0,0,0,0,0,0,0,0,0,0,0,0,0,0,0,0,0,0,0,0,0,0,0,0,0,0,55,7,2,1,2,0,0,0,4,1]
["Grant County Transportation Authority","Moses Lake","WA","0R03-011","0R03-00309","Independent Public Agency or Authority of Transit Service","Rural Reporter",0,50,13,9,0,0,0,0,0,0,0,0,9,1,28,0,0,0,11,1,0,0,0,0,0,0,0,0,0,0,0,0,0,0,0,0,0,0,0,0,0,0,0,0,0,0,0,0,0,0,0,0,61,11,1,0,8,0,0,0,9,0]
["County of Douglas, dba: Connect Douglas","Douglasville","GA",4082,40082,"City, County or Local Government Unit or Department of Transportation","Full Reporter",4515419,50,0,0,0,0,0,0,0,0,0,0,62,0,4,0,0,0,0,0,0,0,0,0,0,0,0,0,0,0,0,0,0,0,0,0,0,0,0,0,0,0,0,0,0,0,0,0,0,0,0,0,66,0,1,0,1,0,0,0,2,0]
["Western Reserve Transit Authority","Youngstown","OH",5024,50024,"Independent Public Agency or Authority of Transit Service","Full Reporter",387550,50,43,1,0,0,0,0,0,0,0,0,0,0,25,0,0,0,5,0,0,0,0,0,0,0,0,0,0,0,0,0,0,0,0,0,0,0,0,0,0,0,0,0,0,0,0,0,0,0,0,0,73,1,0,0,7,1,0,0,7,1]
["South Bend Public Transportation Corporation","South Bend","IN",5052,50052,"Independent Public Agency or Authority of Transit Service","Full Reporter",278165,50,54,32,0,0,0,0,0,0,0,0,0,0,12,0,0,0,0,0,0,0,0,0,0,0,0,0,0,0,0,0,0,0,0,0,0,0,0,0,0,0,0,0,0,0,0,0,0,0,0,0,66,32,3,3,5,2,0,0,8,5]
["City of Eau Claire, dba: Eau Claire Transit","Eau Claire","WI",5099,50099,"City, County or Local Government Unit or Department of Transportation","Full Reporter",102852,50,38,14,0,0,0,0,0,0,0,0,10,0,0,0,7,0,70,0,0,0,0,0,0,0,0,0,0,0,0,0,0,0,0,0,0,0,0,0,0,0,0,0,0,0,0,0,0,0,0,0,125,14,0,0,1,0,0,0,1,0]
["United Community Action Partnership, Inc.","Marshall","MN",null,"5R04-55326","Independent Public Agency or Authority of Transit Service","Rural Reporter",0,50,0,0,0,0,0,0,0,0,0,0,0,0,39,4,0,0,0,0,0,0,0,0,0,0,0,0,0,0,0,0,0,0,0,0,0,0,0,0,0,0,0,0,0,0,0,0,0,0,0,0,39,4,0,0,1,0,0,0,1,0]
["Yolo County Transportation District","Woodland","CA",9090,90090,"Independent Public Agency or Authority of Transit Service","Full Reporter",1723634,50,54,24,0,0,6,0,0,0,0,0,0,0,11,2,0,0,0,0,0,0,0,0,0,0,0,0,0,0,0,0,0,0,0,0,0,0,0,0,0,0,0,0,0,0,0,0,0,0,0,0,71,26,3,1,6,2,0,0,9,3]
["Western Contra Costa Transit Authority","Pinole","CA",9159,90159,"Independent Public Agency or Authority of Transit Service","Full Reporter",3281212,50,37,9,0,0,9,2,0,0,0,0,0,0,10,0,2,2,0,0,0,0,0,0,0,0,0,0,0,0,0,0,0,0,0,0,0,0,0,0,0,0,0,0,0,0,0,0,0,0,0,0,58,13,0,0,5,4,0,0,5,4]
["Dutchess County, dba: Dutchess County Public Transit","Poughkeepsie","NY",2010,20010,"City, County or Local Government Unit or Department of Transportation","Full Reporter",423566,49,49,0,0,0,0,0,0,0,0,0,0,0,0,0,0,0,0,0,0,0,0,0,0,0,0,0,0,0,0,0,0,0,0,0,0,0,0,0,0,0,0,0,0,0,0,0,0,0,0,0,49,0,0,0,6,2,0,0,6,2]
["Northwest Alabama Council of Local Governments","Muscle Shoals","AL",4068,40068,"MPO, COG or Other Planning Agency","Full Reporter",77074,49,19,0,0,0,0,0,0,0,0,0,0,0,35,1,3,0,12,0,0,0,0,0,0,0,0,0,0,0,0,0,0,0,0,0,0,0,0,0,0,0,0,0,0,0,0,0,0,0,0,0,69,1,0,0,0,0,0,0,0,0]
["Collier County, dba: Collier Area Transit","Naples","FL",4140,40140,"City, County or Local Government Unit or Department of Transportation","Full Reporter",310298,49,28,0,0,0,0,0,0,0,0,0,5,0,24,0,0,0,0,0,0,0,0,0,0,0,0,0,0,0,0,0,0,0,0,0,0,0,0,0,0,0,0,0,0,0,0,0,0,0,0,0,57,0,4,2,0,0,0,0,4,2]
["Western Piedmont Regional Transit Authority , dba: dba: Greenway Public Transportation","Conover","NC",4172,40172,"Independent Public Agency or Authority of Transit Service","Full Reporter",212195,49,6,5,0,0,0,0,0,0,0,0,33,21,20,19,0,0,0,0,0,0,0,0,0,0,0,0,0,0,0,0,0,0,0,0,0,0,0,0,0,0,0,0,0,0,0,0,0,0,0,0,59,45,5,5,1,1,0,0,6,6]
["Portage Area Regional Transportation Authority","Kent","OH",5021,50021,"Independent Public Agency or Authority of Transit Service","Full Reporter",569499,49,33,0,0,0,0,0,0,0,0,0,5,0,30,15,0,0,0,0,0,0,0,0,0,0,0,0,0,0,0,0,0,0,0,0,0,0,0,0,0,0,0,0,0,0,0,0,0,0,0,0,68,15,3,2,5,3,0,0,8,5]
["City of Gardena, dba: GTrans","Gardena","CA",9042,90042,"City, County or Local Government Unit or Department of Transportation","Full Reporter",12150996,49,56,0,0,0,0,0,0,0,0,0,0,0,4,2,0,0,4,0,0,0,0,0,0,0,0,0,0,0,0,0,0,0,0,0,0,0,0,0,0,0,0,0,0,0,0,0,0,0,0,0,64,2,11,0,6,2,0,0,17,2]
["Riverside County Transportation Commission","Riverside","CA",9218,90218,"MPO, COG or Other Planning Agency","Full Reporter",1932666,49,0,0,0,0,0,0,0,0,0,0,6,0,0,0,0,0,19,0,24,0,0,0,0,0,0,0,0,0,0,0,0,0,0,0,0,0,0,0,0,0,0,0,0,0,0,0,0,0,0,0,49,0,0,0,0,0,0,0,0,0]
["Alamo Area Council of Governments","San Antonio ","TX",6130,60130,"MPO, COG or Other Planning Agency","Full Reporter",1758210,48,75,55,0,0,0,0,0,0,0,0,5,5,0,0,0,0,0,0,0,0,0,0,0,0,0,0,0,0,0,0,0,0,0,0,0,0,0,0,0,0,0,0,0,0,0,0,0,0,0,0,80,60,3,1,0,0,0,0,3,1]
["Northern Oklahoma Development Authority","ENID","OK","6R04-007","6R04-60226","MPO, COG or Other Planning Agency","Rural Reporter",0,48,0,0,0,0,0,0,0,0,0,0,1,1,3,1,4,4,45,35,0,0,0,0,0,0,0,0,0,0,0,0,0,0,0,0,0,0,0,0,0,0,0,0,0,0,0,0,0,0,0,0,53,41,0,0,0,0,0,0,0,0]
["Region XII Council of Governments/WITS","Carroll","IA","7R01-012","7R01-70224","Independent Public Agency or Authority of Transit Service","Rural Reporter",0,48,2,1,0,0,0,0,0,0,0,0,5,5,26,15,1,1,24,3,0,0,0,0,0,0,0,0,0,0,0,0,0,0,0,0,0,0,0,0,0,0,0,0,0,0,0,0,0,0,0,0,58,25,1,1,1,0,0,0,2,1]
["Butte County Association of Governments","Chico","CA",9208,90208,"MPO, COG or Other Planning Agency","Full Reporter",98176,48,33,2,0,0,0,0,0,0,0,0,0,0,26,12,0,0,0,0,0,0,0,0,0,0,0,0,0,0,0,0,0,0,0,0,0,0,0,0,0,0,0,0,0,0,0,0,0,0,0,0,59,14,0,0,0,0,0,0,0,0]
["Senior Citizens United Community Services of Camden County, Inc.","Audubon","NJ",2204,20204,"Private-Non-Profit Corporation","Full Reporter",5441567,47,0,0,0,0,0,0,0,0,0,0,0,0,61,11,0,0,0,0,0,0,0,0,0,0,0,0,0,0,0,0,0,0,0,0,0,0,0,0,0,0,0,0,0,0,0,0,0,0,0,0,61,11,0,0,1,0,0,0,1,0]
["Mountain Empire Older Citizens Transit","Big Stone Gap","VA","3R06-003","3R06-30132","Private-Non-Profit Corporation","Rural Reporter",0,47,0,0,0,0,0,0,0,0,0,0,0,0,44,0,0,0,4,1,0,0,0,0,0,0,0,0,0,0,0,0,0,0,0,0,0,0,0,0,0,0,0,0,0,0,0,0,0,0,0,0,48,1,0,0,5,0,0,0,5,0]
["Kerr Area Transportation Authority","Henderson","NC","4R06-025","4R06-41048","Independent Public Agency or Authority of Transit Service","Rural Reporter",0,47,0,0,0,0,0,0,0,0,0,0,4,0,48,3,0,0,0,0,0,0,0,0,0,0,0,0,0,0,0,0,0,0,0,0,0,0,0,0,0,0,0,0,0,0,0,0,0,0,0,0,52,3,2,1,0,0,0,0,2,1]
["Bloomington-Normal Public Transit System","Normal","IL",5047,50047,"Independent Public Agency or Authority of Transit Service","Full Reporter",132600,47,39,10,0,0,0,0,0,0,0,0,0,0,17,13,0,0,0,0,0,0,0,0,0,0,0,0,0,0,0,0,0,0,0,0,0,0,0,0,0,0,0,0,0,0,0,0,0,0,0,0,56,23,5,0,2,1,0,0,7,1]
["Inca Community Services, Inc.","Atoka","OK","6R04-003","6R04-60205","Private-Non-Profit Corporation","Rural Reporter",0,47,0,0,0,0,0,0,0,0,0,0,3,3,22,6,0,0,22,4,0,0,0,0,0,0,0,0,0,0,0,0,0,0,0,0,0,0,0,0,0,0,0,0,0,0,0,0,0,0,0,0,47,13,0,0,0,0,0,0,0,0]
["San Luis Obispo Regional Transit Authority","San Luis Obispo","CA",9206,90206,"Independent Public Agency or Authority of Transit Service","Full Reporter",59219,47,34,8,0,0,4,4,0,0,0,0,0,0,19,1,0,0,15,0,0,0,0,0,0,0,0,0,0,0,0,0,0,0,0,0,0,0,0,0,0,0,0,0,0,0,0,0,0,0,0,0,72,13,12,3,5,1,0,0,17,4]
["Link Transit","Wenatchee","WA",43,43,"Independent Public Agency or Authority of Transit Service","Full Reporter",67227,46,32,15,0,0,0,0,0,0,0,0,1,0,17,4,0,0,9,0,0,0,0,0,0,0,0,0,0,0,0,0,0,0,0,0,0,0,0,0,0,0,0,0,0,0,0,0,0,0,0,0,59,19,1,0,16,1,0,0,17,1]
["Grays Harbor Transit","Hoquiam","WA","0R03-012","0R03-00314","City, County or Local Government Unit or Department of Transportation","Rural Reporter",0,46,29,15,0,0,0,0,0,0,0,0,19,8,19,12,0,0,10,0,0,0,0,0,0,0,0,0,0,0,0,0,0,0,0,0,0,0,0,0,0,0,0,0,0,0,0,0,0,0,0,0,77,35,3,1,4,3,0,0,7,4]
["Kanawha Valley Regional Transportation Authority","Charleston","WV",3001,30001,"Independent Public Agency or Authority of Transit Service","Full Reporter",153199,46,44,1,0,0,0,0,0,0,0,0,0,0,20,0,0,0,0,0,0,0,0,0,0,0,0,0,0,0,0,0,0,0,0,0,0,0,0,0,0,0,0,0,0,0,0,0,0,0,0,0,64,1,6,4,5,3,0,0,11,7]
["Town of Blacksburg, dba: Blacksburg Transit","Blacksburg","VA",3091,30091,"City, County or Local Government Unit or Department of Transportation","Full Reporter",88542,46,40,0,11,2,0,0,0,0,0,0,2,1,16,2,0,0,0,0,0,0,0,0,0,0,0,0,0,0,0,0,0,0,0,0,0,0,0,0,0,0,0,0,0,0,0,0,0,0,0,0,69,5,10,2,13,3,0,0,23,5]
["Endless Mountains Transportation Authority, dba: BeST Transit","Athens","PA","3R04-017","3R04-30170","Independent Public Agency or Authority of Transit Service","Rural Reporter",0,46,0,0,0,0,0,0,0,0,0,0,0,0,37,24,0,0,28,5,0,0,0,0,0,0,0,0,0,0,0,0,0,0,0,0,0,0,0,0,0,0,0,0,0,0,0,0,0,0,0,0,65,29,4,0,3,2,0,0,7,2]
["City of Mobile, dba: THE WAVE TRANSIT SYSTEM","Mobile","AL",4043,40043,"City, County or Local Government Unit or Department of Transportation","Full Reporter",326183,46,26,16,0,0,0,0,0,0,0,0,0,0,43,21,0,0,0,0,0,0,0,0,0,0,0,0,0,0,0,0,0,0,0,0,0,0,0,0,0,0,0,0,0,0,0,0,0,0,0,0,69,37,6,3,6,0,0,0,12,3]
["Licking Valley CAP","Flemingsburg","KY","4R04-009","4R04-40971","Private-Non-Profit Corporation","Rural Reporter",0,46,0,0,0,0,0,0,0,0,0,0,9,6,0,0,4,3,59,23,6,3,0,0,0,0,0,0,0,0,0,0,0,0,0,0,0,0,0,0,0,0,0,0,0,0,0,0,0,0,0,0,78,35,0,0,0,0,0,0,0,0]
["Fort Wayne Public Transportation Corporation","Fort Wayne","IN",5044,50044,"Independent Public Agency or Authority of Transit Service","Full Reporter",313492,46,33,3,0,0,0,0,0,0,0,0,0,0,26,18,0,0,0,0,0,0,0,0,0,0,0,0,0,0,0,0,0,0,0,0,0,0,0,0,0,0,0,0,0,0,0,0,0,0,0,0,59,21,1,1,11,6,0,0,12,7]
["Jefferson Parish, dba: Jefferson Transit","Gretna","LA",6088,60088,"City, County or Local Government Unit or Department of Transportation","Full Reporter",899703,46,41,11,0,0,0,0,0,0,0,0,0,0,17,0,0,0,0,0,0,0,0,0,0,0,0,0,0,0,0,0,0,0,0,0,0,0,0,0,0,0,0,0,0,0,0,0,0,0,0,0,58,11,0,0,11,3,0,0,11,3]
["10-15 Regional Transit Agency","Ottumwa","IA","7R01-015","7R01-70242","Independent Public Agency or Authority of Transit Service","Rural Reporter",0,46,4,2,0,0,0,0,0,0,0,0,0,0,37,18,11,8,18,6,0,0,0,0,0,0,0,0,0,0,0,0,0,0,0,0,0,0,0,0,0,0,0,0,0,0,0,0,0,0,0,0,70,34,0,0,1,0,0,0,1,0]
["City of Culver City, dba: Culver City Municipal Bus Lines","Culver City","CA",9039,90039,"City, County or Local Government Unit or Department of Transportation","Full Reporter",12150996,46,56,6,0,0,0,0,0,0,0,0,0,0,3,0,0,0,0,0,0,0,0,0,0,0,0,0,0,0,0,0,0,0,0,0,0,0,0,0,0,0,0,0,0,0,0,0,0,0,0,0,59,6,15,7,0,0,0,0,15,7]
["Central Oregon Intergovernmental Council","Bend","OR",57,57,"MPO, COG or Other Planning Agency","Full Reporter",83794,45,4,0,0,0,0,0,0,0,0,0,5,5,58,8,0,0,0,0,0,0,0,0,0,0,0,0,0,0,0,0,0,0,0,0,0,0,0,0,0,0,0,0,0,0,0,0,0,0,0,0,67,13,0,0,3,0,0,0,3,0]
["Ark-Tex Council of Governments ","Texarkana","TX","6R05-003","6R05-60145","MPO, COG or Other Planning Agency","Rural Reporter",0,45,1,1,0,0,0,0,0,0,0,0,10,0,51,26,0,0,10,6,1,0,0,0,0,0,0,0,0,0,0,0,0,0,0,0,0,0,0,0,0,0,0,0,0,0,0,0,0,0,0,0,73,33,0,0,0,0,0,0,0,0]
["Via Mobility Services","Boulder","CO","8R01-019","8R01-80285","Private-Non-Profit Corporation","Rural Reporter",0,45,0,0,0,0,0,0,0,0,0,0,19,0,27,8,11,3,0,0,0,0,0,0,0,0,0,0,0,0,0,0,0,0,0,0,0,0,0,0,0,0,0,0,0,0,0,0,0,0,0,0,57,11,0,0,0,0,0,0,0,0]
["Ventura County Transportation Commission","Ventura","CA",9164,90164,"Independent Public Agency or Authority of Transit Service","Full Reporter",367260,45,0,0,0,0,32,0,0,0,0,0,0,0,15,0,0,0,0,0,0,0,0,0,0,0,0,0,0,0,0,0,0,0,0,0,0,0,0,0,0,0,0,0,0,0,0,0,0,0,0,0,47,0,0,0,1,1,0,0,1,1]
["Kern Regional Transit","Bakersfield","CA","9R02-037","9R02-91059","City, County or Local Government Unit or Department of Transportation","Rural Reporter",0,45,29,0,0,0,0,0,0,0,0,0,2,2,33,6,0,0,0,0,0,0,0,0,0,0,0,0,0,0,0,0,0,0,0,0,0,0,0,0,0,0,0,0,0,0,0,0,0,0,0,0,64,8,1,1,0,0,0,0,1,1]
["Staten Island Rapid Transit Operating Authority, dba:  MTA Staten Island Railway","Staten Island","NY",2099,20099,"Independent Public Agency or Authority of Transit Service","Full Reporter",18351295,44,0,0,0,0,0,0,0,0,0,0,0,0,0,0,0,0,0,0,0,0,0,0,61,61,0,0,0,0,0,0,0,0,0,0,0,0,0,0,0,0,0,0,0,0,0,0,0,0,0,0,61,61,29,5,16,7,7,2,52,14]
["Monroe County Transportation  Authority","Scotrun","PA","3R04-012",30137,"Independent Public Agency or Authority of Transit Service","Full Reporter",54316,44,14,2,0,0,0,0,0,0,0,0,7,7,31,15,0,0,9,2,0,0,0,0,0,0,0,0,0,0,0,0,0,0,0,0,0,0,0,0,0,0,0,0,0,0,0,0,0,0,0,0,61,26,0,0,8,8,0,0,8,8]
["Cape Fear Public Transportation Authority, dba: Wave Transit","Wilmington","NC",4006,40006,"Independent Public Agency or Authority of Transit Service","Full Reporter",219957,44,23,11,0,0,0,0,0,0,0,0,9,5,33,20,0,0,0,0,0,0,0,0,0,0,0,0,0,0,0,0,0,0,0,0,0,0,0,0,0,0,0,0,0,0,0,0,0,0,0,0,65,36,1,0,7,0,0,0,8,0]
["Manatee County Board of County Commissioners, dba: Manatee County Area Transit","Sarasota","FL",4026,40026,"City, County or Local Government Unit or Department of Transportation","Full Reporter",643260,44,37,11,0,0,0,0,0,0,0,0,1,0,35,18,0,0,1,1,0,0,0,0,0,0,0,0,0,0,0,0,0,0,0,0,0,0,0,0,0,0,0,0,0,0,0,0,0,0,0,0,74,30,1,1,8,8,0,0,9,9]
["Santee Wateree Regional Transportation Authority","Sumter","SC",4100,40100,"Independent Public Agency or Authority of Transit Service","Full Reporter",73107,44,10,0,0,0,0,0,0,0,0,0,0,0,30,0,0,0,4,0,0,0,0,0,0,0,0,0,0,0,0,0,0,0,0,0,0,0,0,0,0,0,0,0,0,0,0,0,0,0,0,0,44,0,0,0,4,1,0,0,4,1]
["City of Arlington, dba: Handitran","Arlington","TX",6041,60041,"City, County or Local Government Unit or Department of Transportation","Full Reporter",5121892,44,0,0,0,0,0,0,0,0,0,0,0,0,21,10,2,2,15,0,0,0,0,0,0,0,0,0,0,0,0,0,0,0,0,0,0,0,0,0,0,0,0,0,0,0,0,0,0,0,0,0,38,12,0,0,0,0,0,0,0,0]
["Fort Bend County, Texas, dba: Fort Bend County Public Transportation","Sugar Land","TX",6103,60103,"City, County or Local Government Unit or Department of Transportation","Full Reporter",4944332,44,1,0,0,0,0,0,0,0,0,0,6,0,58,0,0,0,0,0,0,0,0,0,0,0,0,0,0,0,0,0,0,0,0,0,0,0,0,0,0,0,0,0,0,0,0,0,0,0,0,0,65,0,1,1,0,0,0,0,1,1]
["OCCK, Inc.","Salina","KS","7R02-033","7R02-70145","Private-Non-Profit Corporation","Rural Reporter",0,44,0,0,0,0,0,0,0,0,0,0,0,0,27,5,0,0,32,12,0,0,0,0,0,0,0,0,0,0,0,0,0,0,0,0,0,0,0,0,0,0,0,0,0,0,0,0,0,0,0,0,59,17,0,0,0,0,0,0,0,0]
["Eastern Sierra Transit Authority","Bishop","CA","9R02-098","9R02-91062","Independent Public Agency or Authority of Transit Service","Rural Reporter",0,44,31,7,0,0,0,0,0,0,0,0,0,0,24,6,0,0,3,3,0,0,0,0,0,0,0,0,0,0,0,0,0,0,0,0,0,0,0,0,0,0,0,0,0,0,0,0,0,0,0,0,58,16,0,0,9,0,0,0,9,0]
["Connecticut Department of Transportation","Newington","CT",1102,10102,"State Government Unit or Department of Transportation","Full Reporter",924859,43,9,0,0,0,6,0,0,0,0,0,0,0,0,0,0,0,0,0,0,0,0,0,0,0,0,0,33,33,0,0,14,14,0,0,0,0,0,0,0,0,0,0,0,0,0,0,0,0,0,0,62,47,0,0,0,0,0,0,0,0]
["Marble Valley Regional Transit District","Rutland","VT","1R06-008","1R06-10154","City, County or Local Government Unit or Department of Transportation","Rural Reporter",0,43,19,0,0,0,0,0,0,0,0,0,0,0,34,0,1,1,3,0,0,0,0,0,0,0,0,0,0,0,0,0,0,0,0,0,0,0,0,0,0,0,0,0,0,0,0,0,0,0,0,0,57,1,0,0,2,0,0,0,2,0]
["West Virginia University - Morgantown Personal Rapid Transit","Morgantown","WV",3107,30107,"University","Full Reporter",70350,43,0,0,0,0,0,0,0,0,0,0,0,0,0,0,0,0,0,0,0,0,0,0,0,0,0,0,0,0,0,0,0,0,69,0,0,0,0,0,0,0,0,0,0,0,0,0,0,0,0,0,69,0,6,1,0,0,0,0,6,1]
["Yadkin Valley Economic Development District, Inc.","Boonville","NC","4R06-070","4R06-41134","Private-Non-Profit Corporation","Rural Reporter",0,43,0,0,0,0,0,0,0,0,0,0,22,5,31,0,0,0,9,0,0,0,0,0,0,0,0,0,0,0,0,0,0,0,0,0,0,0,0,0,0,0,0,0,0,0,0,0,0,0,0,0,62,5,0,0,0,0,0,0,0,0]
["University of Michigan Parking and Transportation Services","Ann Arbor","MI",5158,50158,"University","Full Reporter",306022,43,51,6,0,0,0,0,0,0,0,0,0,0,0,0,0,0,0,0,0,0,0,0,0,0,0,0,0,0,0,0,0,0,0,0,0,0,0,0,0,0,0,0,0,0,0,0,0,0,0,0,51,6,0,0,0,0,0,0,0,0]
["Board of  Clermont County Commissioners, dba: Clermont Transportation Connection","Batavia","OH",5166,50166,"City, County or Local Government Unit or Department of Transportation","Full Reporter",1624827,43,2,0,0,0,0,0,0,0,0,0,0,0,44,5,0,0,10,0,0,0,0,0,0,0,0,0,0,0,0,0,0,0,0,0,0,0,0,0,0,0,0,0,0,0,0,0,0,0,0,0,56,5,3,3,1,0,0,0,4,3]
["City of Fairfield, California, dba: Fairfield and Suisun Transit","Fairfield","CA",9092,90092,"City, County or Local Government Unit or Department of Transportation","Full Reporter",133683,43,29,9,0,0,19,19,0,0,0,0,0,0,12,5,0,0,0,0,0,0,0,0,0,0,0,0,0,0,0,0,0,0,0,0,0,0,0,0,0,0,0,0,0,0,0,0,0,0,0,0,60,33,0,0,5,0,0,0,5,0]
["Housatonic Area Regional Transit ","Danbury","CT",1051,10051,"Independent Public Agency or Authority of Transit Service","Full Reporter",168136,42,33,5,0,0,0,0,0,0,0,0,0,0,38,14,0,0,0,0,0,0,0,0,0,0,0,0,0,0,0,0,0,0,0,0,0,0,0,0,0,0,0,0,0,0,0,0,0,0,0,0,71,19,0,0,10,2,0,0,10,2]
["Okaloosa County Board of County Commissioners, dba: Emerald Coast Rider","Fort Walton Beach","FL",4128,40128,"City, County or Local Government Unit or Department of Transportation","Full Reporter",191917,42,2,2,0,0,0,0,0,0,0,0,5,5,37,18,4,4,0,0,0,0,0,0,0,0,0,0,0,0,0,0,0,0,0,0,0,0,0,0,0,0,0,0,0,0,0,0,0,0,0,0,48,29,0,0,0,0,0,0,0,0]
["KY River Foothills Development Council, Inc.","Richmond","KY","4R04-022","4R04-40979","Private-Non-Profit Corporation","Rural Reporter",0,42,7,0,0,0,0,0,0,0,0,0,7,3,31,14,0,0,6,2,4,2,0,0,0,0,0,0,0,0,0,0,0,0,0,0,0,0,0,0,0,0,0,0,0,0,0,0,0,0,0,0,55,21,2,2,0,0,0,0,2,2]
["Huron Transit Corporation","Bad Axe","MI","5R03-037","5R03-50370","City, County or Local Government Unit or Department of Transportation","Rural Reporter",0,42,43,9,0,0,0,0,0,0,0,0,1,0,5,1,0,0,0,0,0,0,0,0,0,0,0,0,0,0,0,0,0,0,0,0,0,0,0,0,0,0,0,0,0,0,0,0,0,0,0,0,49,10,1,0,3,2,0,0,4,2]
["South Plains Community Action Association, Inc.","Levelland ","TX","6R05-035","6R05-60159","City, County or Local Government Unit or Department of Transportation","Rural Reporter",0,42,0,0,0,0,0,0,0,0,0,0,0,0,43,8,2,2,5,4,1,1,0,0,0,0,0,0,0,0,0,0,0,0,0,0,0,0,0,0,0,0,0,0,0,0,0,0,0,0,0,0,51,15,6,6,1,1,0,0,7,7]
["Mid-Nebraska Community Action","Kearney","NE","7R04-005","7R04-70081","Private-Non-Profit Corporation","Rural Reporter",0,42,0,0,0,0,0,0,0,0,0,0,4,1,37,7,0,0,14,7,0,0,0,0,0,0,0,0,0,0,0,0,0,0,0,0,0,0,0,0,0,0,0,0,0,0,0,0,0,0,0,0,55,15,0,0,0,0,0,0,0,0]
["Rogue Valley Transportation District","Medford","OR",34,34,"Independent Public Agency or Authority of Transit Service","Full Reporter",154081,41,27,16,0,0,0,0,0,0,0,0,28,22,6,3,0,0,0,0,0,0,0,0,0,0,0,0,0,0,0,0,0,0,0,0,0,0,0,0,0,0,0,0,0,0,0,0,0,0,0,0,61,41,4,0,9,2,0,0,13,2]
["Mason County Transportation Authority","Shelton","WA","0R03-017","0R03-00315","Independent Public Agency or Authority of Transit Service","Rural Reporter",0,41,20,5,0,0,0,0,0,0,0,0,13,13,20,0,0,0,8,4,0,0,0,0,0,0,0,0,0,0,0,0,0,0,0,0,0,0,0,0,0,0,0,0,0,0,0,0,0,0,0,0,61,22,3,1,6,2,0,0,9,3]
["Downeast Transportation, Inc. ","Ellsworth","ME","1R03-011","1R03-10175","Private-Non-Profit Corporation","Rural Reporter",0,41,43,31,0,0,0,0,0,0,0,0,4,4,0,0,0,0,0,0,0,0,0,0,0,0,0,0,0,0,0,0,0,0,0,0,0,0,0,0,0,0,0,0,0,0,0,0,0,0,0,0,47,35,2,2,0,0,0,0,2,2]
["Orange-Newark-Elizabeth, Inc.","Elizabeth","NJ",2166,20166,"Private-For-Profit Corporation","Full Reporter",18351295,41,48,0,0,0,0,0,0,0,0,0,0,0,0,0,0,0,0,0,0,0,0,0,0,0,0,0,0,0,0,0,0,0,0,0,0,0,0,0,0,0,0,0,0,0,0,0,0,0,0,0,48,0,0,0,0,0,0,0,0,0]
["Anne Arundel County, dba: County Agency","Annapolis","MD","3R03-018",30129,"City, County or Local Government Unit or Department of Transportation","Full Reporter",2203663,41,8,6,0,0,0,0,0,0,0,0,40,10,0,0,0,0,0,0,0,0,0,0,0,0,0,0,0,0,0,0,0,0,0,0,0,0,0,0,0,0,0,0,0,0,0,0,0,0,0,0,48,16,0,0,40,15,0,0,40,15]
["Marion County Senior Services, dba: Marion Transit","Ocala","FL","4R02-030","4R02-41080","Private-Non-Profit Corporation","Rural Reporter",0,41,0,0,0,0,0,0,0,0,0,0,0,0,40,0,0,0,1,0,0,0,0,0,0,0,0,0,0,0,0,0,0,0,0,0,0,0,0,0,0,0,0,0,0,0,0,0,0,0,0,0,41,0,0,0,0,0,0,0,0,0]
["City of Waukesha , dba: Waukesha Metro Transit","Waukesha","WI",5096,50096,"City, County or Local Government Unit or Department of Transportation","Full Reporter",1376476,41,47,13,0,0,0,0,0,0,0,0,5,0,4,3,0,0,0,0,0,0,0,0,0,0,0,0,0,0,0,0,0,0,0,0,0,0,0,0,0,0,0,0,0,0,0,0,0,0,0,0,56,16,1,0,4,1,0,0,5,1]
["Greene County Transit Board, dba: Greene CATS Public Transit","Xenia","OH",5165,50165,"City, County or Local Government Unit or Department of Transportation","Full Reporter",724091,41,0,0,0,0,0,0,0,0,0,0,0,0,40,0,0,0,10,0,0,0,0,0,0,0,0,0,0,0,0,0,0,0,0,0,0,0,0,0,0,0,0,0,0,0,0,0,0,0,0,0,50,0,1,0,1,0,0,0,2,0]
["Menominee Indian Tribe of Wisconsin","Keshena","WI","5T03",55228,"Tribe","Reduced Reporter",0,41,3,2,0,0,0,0,0,0,6,6,1,1,32,13,0,0,28,2,0,0,0,0,0,0,0,0,0,0,0,0,0,0,0,0,0,0,0,0,0,0,0,0,0,0,0,0,0,0,0,0,70,24,0,0,0,0,0,0,0,0]
["West Central Mass Transit District","Jacksonville","IL","5R01-028","5R01-50414","Independent Public Agency or Authority of Transit Service","Rural Reporter",0,41,1,0,0,0,0,0,0,0,0,0,0,0,39,9,0,0,16,7,0,0,0,0,0,0,0,0,0,0,0,0,0,0,0,0,0,0,0,0,0,0,0,0,0,0,0,0,0,0,0,0,56,16,0,0,0,0,0,0,0,0]
["East Texas Council of Governments ","Kilgore","TX","6R05-029","6R05-60186","MPO, COG or Other Planning Agency","Rural Reporter",0,41,0,0,0,0,0,0,0,0,0,0,7,3,45,16,4,1,0,0,0,0,0,0,0,0,0,0,0,0,0,0,0,0,0,0,0,0,0,0,0,0,0,0,0,0,0,0,0,0,0,0,56,20,4,1,0,0,0,0,4,1]
["Napa Valley Transportation Authority","Napa","CA",9088,90088,"Independent Public Agency or Authority of Transit Service","Full Reporter",83913,41,35,3,0,0,0,0,0,0,0,0,0,0,30,2,0,0,0,0,0,0,0,0,0,0,0,0,0,0,0,0,0,0,0,0,0,0,0,0,0,0,0,0,0,0,0,0,0,0,0,0,65,5,1,1,1,1,0,0,2,2]
["Solano County Transit","Vallejo","CA",9232,90232,"Independent Public Agency or Authority of Transit Service","Full Reporter",165074,41,24,1,0,0,21,11,0,0,0,0,0,0,14,3,0,0,0,0,0,0,0,0,0,0,0,0,0,0,0,0,0,0,0,0,0,0,0,0,0,0,0,0,0,0,0,0,0,0,0,0,59,15,1,0,10,1,0,0,11,1]
["Connecticut Department of Transportation - CTTRANSIT Stamford Division","Hartford","CT",1056,10056,"State Government Unit or Department of Transportation","Full Reporter",923311,40,37,0,13,0,5,0,0,0,0,0,0,0,0,0,0,0,0,0,0,0,0,0,0,0,0,0,0,0,0,0,0,0,0,0,0,0,0,0,0,0,0,0,0,0,0,0,0,0,0,0,55,0,1,1,13,5,0,0,14,6]
["Pennsylvania Department of Transportation","Harrisburg","PA",3057,30057,"State Government Unit or Department of Transportation","Full Reporter",5441567,40,0,0,0,0,0,0,0,0,0,0,0,0,0,0,0,0,0,0,0,0,0,0,0,0,0,0,28,0,7,0,7,0,0,0,0,0,0,0,0,0,0,0,0,0,0,0,0,0,0,0,42,0,0,0,0,0,0,0,0,0]
["City of Harrisonburg Department of Public Transportation","Harrisonburg","VA",3094,30094,"City, County or Local Government Unit or Department of Transportation","Full Reporter",66784,40,39,0,0,0,0,0,0,0,0,0,2,0,10,0,0,0,0,0,0,0,0,0,0,0,0,0,0,0,0,0,0,0,0,0,0,0,0,0,0,0,0,0,0,0,0,0,0,0,0,0,51,0,2,1,0,0,0,0,2,1]
["Four County Transit","Cedar Bluff","VA","3R06-001","3R06-30174","Private-Non-Profit Corporation","Rural Reporter",0,40,1,0,0,0,0,0,0,0,0,0,0,0,42,0,0,0,3,0,0,0,0,0,0,0,0,0,0,0,0,0,0,0,0,0,0,0,0,0,0,0,0,0,0,0,0,0,0,0,0,0,46,0,0,0,5,0,0,0,5,0]
["City of Fayetteville, dba: Fayetteville Area System of Transit","Fayetteville","NC",4009,40009,"City, County or Local Government Unit or Department of Transportation","Full Reporter",310282,40,22,3,0,0,0,0,0,0,0,0,0,0,24,10,0,0,0,0,0,0,0,0,0,0,0,0,0,0,0,0,0,0,0,0,0,0,0,0,0,0,0,0,0,0,0,0,0,0,0,0,46,13,14,10,6,3,0,0,20,13]
["West Alabama Rural Public Transportation","Demopolis","AL",null,"4R01-44926","Private-Non-Profit Corporation","Rural Reporter",0,40,0,0,0,0,0,0,0,0,0,0,38,16,9,2,0,0,0,0,0,0,0,0,0,0,0,0,0,0,0,0,0,0,0,0,0,0,0,0,0,0,0,0,0,0,0,0,0,0,0,0,47,18,0,0,2,0,0,0,2,0]
["Tri-County Community Council, Inc","Bonifay","FL","4R02-018","4R02-41186","Private-Non-Profit Corporation","Rural Reporter",0,40,2,0,0,0,0,0,0,0,1,1,17,14,35,10,5,5,11,0,0,0,0,0,0,0,0,0,0,0,0,0,0,0,0,0,0,0,0,0,0,0,0,0,0,0,0,0,0,0,0,0,71,30,1,0,0,0,0,0,1,0]
["Harlan County Community Action Agency, Inc.","Harlan","KY","4R04-007","4R04-41098","Private-Non-Profit Corporation","Rural Reporter",0,40,0,0,0,0,0,0,0,0,0,0,17,3,3,0,0,0,17,1,15,9,0,0,0,0,0,0,0,0,0,0,0,0,0,0,0,0,0,0,0,0,0,0,0,0,0,0,0,0,0,0,52,13,0,0,0,0,0,0,0,0]
["Saginaw Transit Authority Regional Service","Saginaw","MI",5039,50039,"Independent Public Agency or Authority of Transit Service","Full Reporter",126265,40,40,30,0,0,1,1,0,0,0,0,3,3,11,2,0,0,0,0,0,0,0,0,0,0,0,0,0,0,0,0,0,0,0,0,0,0,0,0,0,0,0,0,0,0,0,0,0,0,0,0,55,36,2,1,4,3,0,0,6,4]
["Shawnee Mass Transit District","Vienna","IL","5R01-035","5R01-50315","Independent Public Agency or Authority of Transit Service","Rural Reporter",0,40,11,0,0,0,0,0,0,0,0,0,0,0,46,13,0,0,14,3,0,0,0,0,0,0,0,0,0,0,0,0,0,0,0,0,0,0,0,0,0,0,0,0,0,0,0,0,0,0,0,0,71,16,6,6,0,0,0,0,6,6]
["Lake County Board of County Commissioners, dba: LakeXpress","Tavares","FL",4158,40158,"City, County or Local Government Unit or Department of Transportation","Full Reporter",131337,39,17,6,0,0,0,0,0,0,0,0,7,5,33,5,0,0,5,0,0,0,0,0,0,0,0,0,0,0,0,0,0,0,0,0,0,0,0,0,0,0,0,0,0,0,0,0,0,0,0,0,62,16,1,1,0,0,0,0,1,1]
["Spartanburg Regional Health Services, Inc.","Spartanburg","SC",null,40244,"State Government Unit or Department of Transportation","Full Reporter",180786,39,0,0,0,0,0,0,0,0,0,0,0,0,44,3,0,0,0,0,0,0,0,0,0,0,0,0,0,0,0,0,0,0,0,0,0,0,0,0,0,0,0,0,0,0,0,0,0,0,0,0,44,3,0,0,0,0,0,0,0,0]
["Baldwin County Commission, dba: Baldwin Regional Area Transit System","Robertsdale","AL","4R01-005",40928,"City, County or Local Government Unit or Department of Transportation","Full Reporter",57383,39,3,2,0,0,0,0,0,0,0,0,5,4,40,4,0,0,4,2,0,0,0,0,0,0,0,0,0,0,0,0,0,0,0,0,0,0,0,0,0,0,0,0,0,0,0,0,0,0,0,0,52,12,0,0,2,2,0,0,2,2]
["City of Racine, Wisconsin, dba: RYDE","Racine","WI",5006,50006,"City, County or Local Government Unit or Department of Transportation","Full Reporter",133700,39,35,10,0,0,3,0,0,0,0,0,0,0,9,0,0,0,0,0,0,0,0,0,0,0,0,0,0,0,0,0,0,0,0,0,0,0,0,0,0,0,0,0,0,0,0,0,0,0,0,0,47,10,0,0,5,2,0,0,5,2]
["Isabella County Transportation Commission","Mt. Pleasant","MI","5R03-042","5R03-50244","Independent Public Agency or Authority of Transit Service","Rural Reporter",0,39,31,9,0,0,0,0,0,0,0,0,0,0,20,1,0,0,0,0,0,0,0,0,0,0,0,0,0,0,0,0,0,0,0,0,0,0,0,0,0,0,0,0,0,0,0,0,0,0,0,0,51,10,1,0,3,2,0,0,4,2]
["City of Santa Fe, dba: Santa Fe Trails","Santa Fe","NM",6077,60077,"City, County or Local Government Unit or Department of Transportation","Full Reporter",89284,39,26,0,0,0,0,0,0,0,0,0,11,1,8,5,6,2,0,0,0,0,0,0,0,0,0,0,0,0,0,0,0,0,0,0,0,0,0,0,0,0,0,0,0,0,0,0,0,0,0,0,51,8,5,4,10,4,0,0,15,8]
["Texas State University","San Marcos","TX",null,60269,"University","Full Reporter",52826,39,46,0,0,0,0,0,0,0,0,0,0,0,2,0,0,0,0,0,0,0,0,0,0,0,0,0,0,0,0,0,0,0,0,0,0,0,0,0,0,0,0,0,0,0,0,0,0,0,0,0,48,0,5,2,3,1,0,0,8,3]
["Muskogee County Public Transit Authority","Muskogee","OK","6R04-015","6R04-60203","Independent Public Agency or Authority of Transit Service","Rural Reporter",0,39,5,0,0,0,0,0,0,0,0,0,4,3,10,3,0,0,21,11,1,0,0,0,0,0,0,0,0,0,0,0,0,0,0,0,0,0,0,0,0,0,0,0,0,0,0,0,0,0,0,0,41,17,0,0,0,0,0,0,0,0]
["Northeast Iowa Community Action Corporation","Decorah","IA","7R01-001","7R01-70195","Private-Non-Profit Corporation","Rural Reporter",0,39,3,3,0,0,0,0,0,0,0,0,1,1,34,19,0,0,14,5,0,0,0,0,0,0,0,0,0,0,0,0,0,0,0,0,0,0,0,0,0,0,0,0,0,0,0,0,0,0,0,0,52,28,0,0,0,0,0,0,0,0]
["Su Tran LLC dba: Sioux Area Metro","Sioux Falls","SD",8002,80002,"Private Provider Reporting on Behalf of a Public Entity","Full Reporter",156777,39,29,3,0,0,0,0,0,0,0,0,0,0,32,7,0,0,0,0,0,0,0,0,0,0,0,0,0,0,0,0,0,0,0,0,0,0,0,0,0,0,0,0,0,0,0,0,0,0,0,0,61,10,0,0,7,0,0,0,7,0]
["Park City Municipal Corporation","Park City","UT","8R06-001","8R06-80284","City, County or Local Government Unit or Department of Transportation","Rural Reporter",0,39,37,0,0,0,0,0,0,0,0,0,0,0,8,0,0,0,0,0,0,0,0,0,0,0,0,0,0,0,0,0,0,0,0,0,0,0,0,0,0,0,0,0,0,0,0,0,0,0,0,0,45,0,1,1,4,2,0,0,5,3]
["City of Visalia  , dba: Visalia Transit","Visalia","CA",9091,90091,"City, County or Local Government Unit or Department of Transportation","Full Reporter",219454,39,40,12,0,0,0,0,0,0,0,0,0,0,14,11,0,0,0,0,0,0,0,0,0,0,0,0,0,0,0,0,0,0,0,0,0,0,0,0,0,0,0,0,0,0,0,0,0,0,0,0,54,23,0,0,2,0,0,0,2,0]
["Kennebec Valley Community Action Program","Waterville","ME","1R03-005","1R03-10155","Private-Non-Profit Corporation","Rural Reporter",0,38,0,0,0,0,0,0,0,0,0,0,0,0,29,23,0,0,13,13,0,0,0,0,0,0,0,0,0,0,0,0,0,0,0,0,0,0,0,0,0,0,0,0,0,0,0,0,0,0,0,0,42,36,0,0,0,0,0,0,0,0]
["County of Atlantic","Northfield","NJ",2199,20199,"City, County or Local Government Unit or Department of Transportation","Full Reporter",248402,38,0,0,0,0,0,0,0,0,0,0,0,0,48,0,0,0,0,0,0,0,0,0,0,0,0,0,0,0,0,0,0,0,0,0,0,0,0,0,0,0,0,0,0,0,0,0,0,0,0,0,48,0,0,0,0,0,0,0,0,0]
["Wayne Area Transportation Service","Lyons","NY","2R02-051","2R02-20983","Independent Public Agency or Authority of Transit Service","Rural Reporter",0,38,5,0,0,0,0,0,0,0,0,0,0,0,34,7,0,0,0,0,0,0,0,0,0,0,0,0,0,0,0,0,0,0,0,0,0,0,0,0,0,0,0,0,0,0,0,0,0,0,0,0,39,7,0,0,0,0,0,0,0,0]
["Crawford Area Transportation Authority","Meadville","PA","3R04-015","3R04-30185","Independent Public Agency or Authority of Transit Service","Rural Reporter",0,38,7,0,0,0,0,0,0,0,0,0,4,3,41,20,0,0,8,0,0,0,0,0,0,0,0,0,0,0,0,0,0,0,0,0,0,0,0,0,0,0,0,0,0,0,0,0,0,0,0,0,60,23,4,0,2,1,0,0,6,1]
["Bay Transit","Urbanna","VA","3R06-015","3R06-30172","Area Agency on Aging","Rural Reporter",0,38,0,0,0,0,0,0,0,0,0,0,2,0,52,2,0,0,0,0,0,0,0,0,0,0,0,0,0,0,0,0,0,0,0,0,0,0,0,0,0,0,0,0,0,0,0,0,0,0,0,0,54,2,2,2,7,1,0,0,9,3]
["North Central Alabama Regional Council of Governments, dba: NARCOG Regional Transit Agency","Decatur","AL",null,40265,"MPO, COG or Other Planning Agency","Full Reporter",70436,38,0,0,0,0,0,0,0,0,0,0,0,0,37,28,0,0,6,5,0,0,0,0,0,0,0,0,0,0,0,0,0,0,0,0,0,0,0,0,0,0,0,0,0,0,0,0,0,0,0,0,43,33,0,0,0,0,0,0,0,0]
["Williamsburg County Transit System","Kingstree","SC","4R07-020","4R07-40952","City, County or Local Government Unit or Department of Transportation","Rural Reporter",0,38,12,3,0,0,0,0,0,0,0,0,3,1,29,4,0,0,0,0,0,0,0,0,0,0,0,0,0,0,0,0,0,0,0,0,0,0,0,0,0,0,0,0,0,0,0,0,0,0,0,0,44,8,2,0,2,0,0,0,4,0]
["Pigeon Forge Fun Time Trolleys","Pigeon Forge","TN","4R08-012","4R08-41136","City, County or Local Government Unit or Department of Transportation","Rural Reporter",0,38,30,5,0,0,0,0,0,0,0,0,1,1,5,0,0,0,0,0,0,0,0,0,0,0,0,0,0,0,0,0,0,0,0,0,0,0,0,0,0,0,0,0,0,0,0,0,0,0,3,0,39,6,3,1,2,1,0,0,5,2]
["Butler County Regional Transit Authority","Hamilton","OH",5157,50157,"Independent Public Agency or Authority of Transit Service","Full Reporter",1624827,38,19,4,0,0,0,0,0,0,0,0,0,0,26,10,0,0,5,0,0,0,0,0,0,0,0,0,0,0,0,0,0,0,0,0,0,0,0,0,0,0,0,0,0,0,0,0,0,0,0,0,50,14,0,0,9,1,0,0,9,1]
["The Gulf Coast Center","Texas City","TX",6082,60082,"Independent Public Agency or Authority of Transit Service","Full Reporter",106383,38,8,0,0,0,0,0,0,0,0,0,1,1,28,6,0,0,8,4,0,0,0,0,0,0,0,0,0,0,0,0,0,0,0,0,0,0,0,0,0,0,0,0,0,0,0,0,0,0,0,0,45,11,1,1,1,0,0,0,2,1]
["Logan County Historical Society, dba: First Capital Trolley","Guthrie","OK","6R04-004","6R04-60214","Private-Non-Profit Corporation","Rural Reporter",0,38,6,6,0,0,0,0,0,0,0,0,2,0,2,0,0,0,51,18,3,0,0,0,0,0,0,0,0,0,0,0,0,0,0,0,0,0,0,0,0,0,0,0,0,0,0,0,0,0,0,0,64,24,0,0,0,0,0,0,0,0]
["City of Lawrence","Lawrence","KS",7048,70048,"City, County or Local Government Unit or Department of Transportation","Full Reporter",88053,38,18,3,0,0,0,0,0,0,0,0,0,0,32,0,0,0,0,0,0,0,0,0,0,0,0,0,0,0,0,0,0,0,0,0,0,0,0,0,0,0,0,0,0,0,0,0,0,0,0,0,50,3,0,0,0,0,0,0,0,0]
["Siouxland Regional Transit System","Sioux City","IA","7R01-004","7R01-70129","MPO, COG or Other Planning Agency","Rural Reporter",0,38,0,0,0,0,0,0,0,0,0,0,0,0,51,18,0,0,0,0,0,0,0,0,0,0,0,0,0,0,0,0,0,0,0,0,0,0,0,0,0,0,0,0,0,0,0,0,0,0,0,0,51,18,0,0,0,0,0,0,0,0]
["Southern Iowa Trolley","Creston","IA","7R01-014","7R01-70221","Private-Non-Profit Corporation","Rural Reporter",0,38,0,0,0,0,0,0,0,0,0,0,1,0,28,16,0,0,10,5,0,0,0,0,0,0,0,0,0,0,0,0,0,0,0,0,0,0,0,0,0,0,0,0,0,0,0,0,0,0,0,0,39,21,0,0,1,0,0,0,1,0]
["County of Placer, dba: Placer County Department of Public Works","Auburn","CA",9196,90196,"City, County or Local Government Unit or Department of Transportation","Full Reporter",1723634,38,29,8,0,0,5,0,0,0,0,0,9,0,26,14,0,0,0,0,0,0,0,0,0,0,0,0,0,0,0,0,0,0,0,0,0,0,0,0,0,0,0,0,0,0,0,0,0,0,0,0,69,22,10,3,0,0,0,0,10,3]
["Valley Metro Rail, Inc.","Phoenix","AZ",9209,90209,"Other Publicly-Owned or Privately Chartered Corporation","Full Reporter",3629114,38,0,0,0,0,0,0,0,0,0,0,0,0,0,0,0,0,0,0,0,0,0,0,0,0,50,0,0,0,0,0,0,0,0,0,0,0,0,0,0,0,0,0,0,0,0,0,0,0,0,0,50,0,25,1,48,0,1,0,74,1]
["Alaska Railroad Corporation","Anchorage","AK",41,41,"State Government Unit or Department of Transportation","Full Reporter",251243,37,0,0,0,0,0,0,0,0,0,0,0,0,0,0,0,0,0,0,0,0,0,0,0,0,0,0,42,0,0,0,54,0,0,0,0,0,0,0,0,0,0,0,0,0,0,0,0,0,0,0,96,0,168,43,65,15,69,30,302,88]
["City of Rome , dba: City of Rome Transit Department","Rome","GA",4058,40058,"City, County or Local Government Unit or Department of Transportation","Full Reporter",60851,37,51,17,0,0,0,0,0,0,0,0,1,1,3,0,0,0,0,0,0,0,0,0,0,0,0,0,0,0,0,0,0,0,0,0,0,0,0,0,0,0,0,0,0,0,0,0,0,0,0,0,55,18,1,0,9,0,0,0,10,0]
["Bloomington Public Transportation Corporation","Bloomington","IN",5110,50110,"Independent Public Agency or Authority of Transit Service","Full Reporter",108657,37,37,5,0,0,0,0,0,0,0,0,4,0,7,0,0,0,2,0,0,0,0,0,0,0,0,0,0,0,0,0,0,0,0,0,0,0,0,0,0,0,0,0,0,0,0,0,0,0,0,0,50,5,0,0,9,1,0,0,9,1]
["City of Plymouth","City of Plymouth","MN",5219,50516,"City, County or Local Government Unit or Department of Transportation","Full Reporter",2650890,37,27,0,0,0,5,0,0,0,0,0,0,0,20,0,0,0,0,0,0,0,0,0,0,0,0,0,0,0,0,0,0,0,0,0,0,0,0,0,0,0,0,0,0,0,0,0,0,0,0,0,52,0,0,0,0,0,0,0,0,0]
["City of Columbia, dba: Go COMO","Columbia","MO",7016,70016,"City, County or Local Government Unit or Department of Transportation","Full Reporter",124748,37,40,14,0,0,0,0,0,0,0,0,2,0,13,3,0,0,0,0,0,0,0,0,0,0,0,0,0,0,0,0,0,0,0,0,0,0,0,0,0,0,0,0,0,0,0,0,0,0,0,0,55,17,2,2,4,0,0,0,6,2]
["City of Fargo, dba: Metropolitan Area Transit","Fargo","ND",8003,80003,"City, County or Local Government Unit or Department of Transportation","Full Reporter",176676,37,38,7,0,0,0,0,0,0,0,0,0,0,15,1,0,0,0,0,0,0,0,0,0,0,0,0,0,0,0,0,0,0,0,0,0,0,0,0,0,0,0,0,0,0,0,0,0,0,0,0,53,8,5,1,3,0,0,0,8,1]
["Pomona Valley Transportation Authority","La Verne","CA",null,99425,"Independent Public Agency or Authority of Transit Service","Full Reporter",12150996,37,26,0,0,0,0,0,0,0,0,0,0,0,0,0,11,0,12,0,0,0,0,0,0,0,0,0,0,0,0,0,0,0,0,0,0,0,0,0,0,0,0,0,0,0,0,0,0,0,0,0,49,0,0,0,0,0,0,0,0,0]
["County of Kaua'i - Transportation Agency","Lihue","HI","9R03-004","9R03-90237","City, County or Local Government Unit or Department of Transportation","Rural Reporter",0,37,0,0,0,0,0,0,0,0,0,0,0,0,52,0,0,0,0,0,0,0,0,0,0,0,0,0,0,0,0,0,0,0,0,0,0,0,0,0,0,0,0,0,0,0,0,0,0,0,0,0,52,0,2,1,3,1,0,0,5,2]
["Greater Lynchburg Transit Company","Lynchburg","VA",3008,30008,"Independent Public Agency or Authority of Transit Service","Full Reporter",116636,36,39,1,0,0,0,0,0,0,0,0,0,0,9,3,0,0,0,0,0,0,0,0,0,0,0,0,0,0,0,0,0,0,0,0,0,0,0,0,0,0,0,0,0,0,0,0,0,0,0,0,48,4,9,0,4,1,0,0,13,1]
["Frederick County, Maryland, dba: TransIT Services of Frederick County","Frederick","MD",3072,30072,"City, County or Local Government Unit or Department of Transportation","Full Reporter",141576,36,21,13,0,0,0,0,0,0,0,0,1,0,22,0,3,2,0,0,0,0,0,0,0,0,0,0,0,0,0,0,0,0,0,0,0,0,0,0,0,0,0,0,0,0,0,0,0,0,0,0,47,15,1,1,0,0,0,0,1,1]
["Northeast Mississippi Community Services","Booneville","MS","4R05-014","4R05-41039","Private-Non-Profit Corporation","Rural Reporter",0,36,0,0,0,0,0,0,0,0,0,0,9,9,16,9,0,0,11,7,0,0,0,0,0,0,0,0,0,0,0,0,0,0,0,0,0,0,0,0,0,0,0,0,0,0,0,0,0,0,0,0,36,25,0,0,0,0,0,0,0,0]
["Metropolitan Evansville Transit System, dba: METS","Evansville","IN",5043,50043,"City, County or Local Government Unit or Department of Transportation","Full Reporter",229351,36,32,7,0,0,0,0,0,0,0,0,0,0,16,7,0,0,0,0,0,0,0,0,0,0,0,0,0,0,0,0,0,0,0,0,0,0,0,0,0,0,0,0,0,0,0,0,0,0,0,0,48,14,0,0,15,12,0,0,15,12]
["Muncie Indiana Transit System","Muncie","IN",5054,50054,"Independent Public Agency or Authority of Transit Service","Full Reporter",90580,36,34,3,0,0,0,0,0,0,0,0,0,0,17,2,0,0,0,0,0,0,0,0,0,0,0,0,0,0,0,0,0,0,0,0,0,0,0,0,0,0,0,0,0,0,0,0,0,0,0,0,51,5,6,4,3,1,0,0,9,5]
["Macoupin County","Carlinville","IL","5R01-045","5R01-50252","City, County or Local Government Unit or Department of Transportation","Rural Reporter",0,36,0,0,0,0,0,0,0,0,0,0,0,0,19,8,6,4,13,2,0,0,0,0,0,0,0,0,0,0,0,0,0,0,0,0,0,0,0,0,0,0,0,0,0,0,0,0,0,0,0,0,38,14,0,0,0,0,0,0,0,0]
["Columbiana County/Community Action Rural Transit System","Lisbon","OH","5R05-048","5R05-50481","Private-Non-Profit Corporation","Rural Reporter",0,36,0,0,0,0,0,0,0,0,0,0,6,0,22,0,0,0,8,0,0,0,0,0,0,0,0,0,0,0,0,0,0,0,0,0,0,0,0,0,0,0,0,0,0,0,0,0,0,0,0,0,36,0,1,0,0,0,0,0,1,0]
["Chickasaw Nation","Ada","OK","6T02",60002,"Tribe","Reduced Reporter",0,36,0,0,0,0,0,0,0,0,0,0,2,1,10,5,0,0,23,1,1,0,0,0,0,0,0,0,0,0,0,0,0,0,0,0,0,0,0,0,0,0,0,0,0,0,0,0,0,0,0,0,36,7,0,0,0,0,0,0,0,0]
["City of Santa Rosa","Santa Rosa","CA",9017,90017,"City, County or Local Government Unit or Department of Transportation","Full Reporter",308231,36,28,8,0,0,0,0,0,0,0,0,1,1,13,0,0,0,0,0,0,0,0,0,0,0,0,0,0,0,0,0,0,0,0,0,0,0,0,0,0,0,0,0,0,0,0,0,0,0,0,0,42,9,7,6,0,0,0,0,7,6]
["Waldo Community Action Partners","Belfast","ME","1R03-013","1R03-10169","Private-Non-Profit Corporation","Rural Reporter",0,35,2,2,0,0,0,0,0,0,0,0,2,2,9,8,0,0,10,8,0,0,0,0,0,0,0,0,0,0,0,0,0,0,0,0,0,0,0,0,0,0,0,0,0,0,0,0,0,0,0,0,23,20,0,0,0,0,0,0,0,0]
["Knoxville-Knox County Community Action Committee, dba: Knox County CAC Transit","Knoxville","TN",4171,40171,"City, County or Local Government Unit or Department of Transportation","Full Reporter",558696,35,0,0,0,0,0,0,0,0,0,0,0,0,60,3,4,3,3,1,0,0,0,0,0,0,0,0,0,0,0,0,0,0,0,0,0,0,0,0,0,0,0,0,0,0,0,0,0,0,0,0,67,7,0,0,1,0,0,0,1,0]
["Fulton County Transit Authority","Fulton","KY","4R04-004","4R04-41179","City, County or Local Government Unit or Department of Transportation","Rural Reporter",0,35,0,0,0,0,0,0,0,0,0,0,4,1,33,0,1,1,6,0,4,4,0,0,0,0,0,0,0,0,0,0,0,0,0,0,0,0,0,0,0,0,0,0,0,0,0,0,0,0,0,0,48,6,1,1,0,0,0,0,1,1]
["City of Cedar Rapids, dba: Cedar Rapids Transit","Cedar Rapids","IA",7008,70008,"City, County or Local Government Unit or Department of Transportation","Full Reporter",177844,35,34,6,0,0,0,0,0,0,0,0,6,0,9,0,0,0,2,0,0,0,0,0,0,0,0,0,0,0,0,0,0,0,0,0,0,0,0,0,0,0,0,0,0,0,0,0,0,0,0,0,51,6,0,0,0,0,0,0,0,0]
["Topeka Metropolitan Transit Authority","Topeka","KS",7014,70014,"Independent Public Agency or Authority of Transit Service","Full Reporter",150003,35,26,0,0,0,0,0,0,0,0,0,1,0,10,0,6,0,0,0,0,0,0,0,0,0,0,0,0,0,0,0,0,0,0,0,0,0,0,0,0,0,0,0,0,0,0,0,0,0,0,0,43,0,4,4,8,6,0,0,12,10]
["University of California, Davis, dba: Unitrans","Davis","CA",9142,90142,"University","Full Reporter",72794,35,40,4,0,0,0,0,5,3,0,0,0,0,2,2,0,0,0,0,0,0,0,0,0,0,0,0,0,0,0,0,0,0,0,0,0,0,0,0,0,0,0,0,0,0,0,0,0,0,0,0,47,9,1,0,4,3,0,0,5,3]
["Greater Portland Transit District","Portland","ME",1016,10016,"Independent Public Agency or Authority of Transit Service","Full Reporter",203914,34,44,8,0,0,0,0,0,0,0,0,0,0,4,0,0,0,0,0,0,0,0,0,0,0,0,0,0,0,0,0,0,0,0,0,0,0,0,0,0,0,0,0,0,0,0,0,0,0,0,0,48,8,0,0,4,1,0,0,4,1]
["Western Maine Transportation Services, Inc.","Auburn","ME",1098,10098,"Independent Public Agency or Authority of Transit Service","Full Reporter",59397,34,4,1,0,0,0,0,0,0,2,1,1,1,29,19,0,0,11,4,0,0,0,0,0,0,0,0,0,0,0,0,0,0,0,0,0,0,0,0,0,0,0,0,0,0,0,0,0,0,0,0,47,26,3,3,2,1,0,0,5,4]
["Martha's Vineyard Transit Authority","Edgartown","MA","1R02-003","1R02-10145","Independent Public Agency or Authority of Transit Service","Rural Reporter",0,34,41,5,0,0,0,0,0,0,0,0,3,0,4,3,0,0,1,0,0,0,0,0,0,0,0,0,0,0,0,0,0,0,0,0,0,0,0,0,0,0,0,0,0,0,0,0,0,0,0,0,49,8,13,7,0,0,0,0,13,7]
["Altoona Metro Transit, dba: AMTRAN","Altoona","PA",3011,30011,"Independent Public Agency or Authority of Transit Service","Full Reporter",79930,34,26,8,0,0,0,0,0,0,0,0,36,0,0,0,0,0,0,0,0,0,0,0,0,0,0,0,0,0,0,0,0,0,0,0,0,0,0,0,0,0,0,0,0,0,0,0,0,0,0,0,62,8,1,0,5,0,0,0,6,0]
["Beaver County Transit Authority","Rochester","PA",3023,30023,"Independent Public Agency or Authority of Transit Service","Full Reporter",1733853,34,29,13,0,0,14,0,0,0,0,0,0,0,0,0,0,0,0,0,0,0,0,0,0,0,0,0,0,0,0,0,0,0,0,0,0,0,0,0,0,0,0,0,0,0,0,0,0,0,0,0,43,13,2,1,4,0,0,0,6,1]
["Schuylkill Transportation System","St. Clair","PA","3R04-006","3R04-30127","Independent Public Agency or Authority of Transit Service","Rural Reporter",0,34,10,7,0,0,0,0,0,0,0,0,0,0,28,14,0,0,4,1,0,0,0,0,0,0,0,0,0,0,0,0,0,0,0,0,0,0,0,0,0,0,0,0,0,0,0,0,0,0,0,0,42,22,0,0,5,3,0,0,5,3]
["North Carolina State University","Raleigh","NC",4147,40147,"University","Full Reporter",884891,34,40,0,0,0,0,0,0,0,0,0,0,0,0,0,0,0,0,0,0,0,0,0,0,0,0,0,0,0,0,0,0,0,0,0,0,0,0,0,0,0,0,0,0,0,0,0,0,0,0,0,40,0,0,0,0,0,0,0,0,0]
["Delta Human Resource Agency","Covington","TN","4R08-010","4R08-41020","Independent Public Agency or Authority of Transit Service","Rural Reporter",0,34,0,0,0,0,0,0,0,0,0,0,33,3,9,0,0,0,11,4,0,0,0,0,0,0,0,0,0,0,0,0,0,0,0,0,0,0,0,0,0,0,0,0,0,0,0,0,0,0,0,0,53,7,1,0,1,0,0,0,2,0]
["City of Green Bay, dba: Green Bay Metro","Green Bay","WI",5002,50002,"City, County or Local Government Unit or Department of Transportation","Full Reporter",206520,34,35,7,0,0,0,0,0,0,0,0,0,0,16,0,0,0,0,0,0,0,0,0,0,0,0,0,0,0,0,0,0,0,0,0,0,0,0,0,0,0,0,0,0,0,0,0,0,0,0,0,51,7,3,0,1,0,0,0,4,0]
["Central Community Transit","Wilmar","MN",null,"5R04-55314","Independent Public Agency or Authority of Transit Service","Rural Reporter",0,34,0,0,0,0,0,0,0,0,0,0,1,1,30,8,0,0,0,0,0,0,0,0,0,0,0,0,0,0,0,0,0,0,0,0,0,0,0,0,0,0,0,0,0,0,0,0,0,0,0,0,31,9,0,0,0,0,0,0,0,0]
["El Dorado County Transit Authority","Diamond Springs","CA",9229,90229,"Independent Public Agency or Authority of Transit Service","Full Reporter",1723634,34,16,10,0,0,11,0,0,0,0,0,0,0,15,5,0,0,10,1,0,0,0,0,0,0,0,0,0,0,0,0,0,0,0,0,0,0,0,0,0,0,0,0,0,0,0,0,0,0,0,0,52,16,8,3,2,0,0,0,10,3]
["The Tri-County Council for the Lower Eastern Shore of Maryland","Salisbury","MD",3096,30096,"Independent Public Agency or Authority of Transit Service","Full Reporter",98081,33,0,0,0,0,0,0,0,0,0,0,0,0,38,11,0,0,2,0,0,0,0,0,0,0,0,0,0,0,0,0,0,0,0,0,0,0,0,0,0,0,0,0,0,0,0,0,0,0,0,0,40,11,5,1,10,3,0,0,15,4]
["Council on Aging of St. Lucie, Inc., dba: Community Transit","Fort Pierce","FL",4097,40097,"Private Provider Reporting on Behalf of a Public Entity","Full Reporter",376047,33,14,0,0,0,0,0,0,0,0,0,0,0,44,13,0,0,3,0,0,0,0,0,0,0,0,0,0,0,0,0,0,0,0,0,0,0,0,0,0,0,0,0,0,0,0,0,0,0,0,0,61,13,1,1,6,3,0,0,7,4]
["North Central Regional Transit District","Espanola","NM","6R03-031",60138,"State Government Unit or Department of Transportation","Reduced Reporter",89284,33,3,0,0,0,0,0,0,0,0,0,4,0,42,0,0,0,1,0,0,0,0,0,0,0,0,0,0,0,0,0,0,0,0,0,0,0,0,0,0,0,0,0,0,0,0,0,0,0,0,0,50,0,15,9,0,0,0,0,15,9]
["City of Huntsville, Alabama, dba: Department of Parking & Public Transit","Huntsville","AL",4071,40071,"City, County or Local Government Unit or Department of Transportation","Full Reporter",286692,32,19,0,0,0,0,0,0,0,0,0,0,0,21,0,0,0,0,0,0,0,0,0,0,0,0,0,0,0,0,0,0,0,0,0,0,0,0,0,0,0,0,0,0,0,0,0,0,0,0,0,40,0,1,1,5,1,0,0,6,2]
["Trailblazer Joint Powers Board","Glencoe","MN","5R04-058","5R04-50394","Independent Public Agency or Authority of Transit Service","Rural Reporter",0,32,0,0,0,0,0,0,0,0,0,0,0,0,38,2,0,0,0,0,0,0,0,0,0,0,0,0,0,0,0,0,0,0,0,0,0,0,0,0,0,0,0,0,0,0,0,0,0,0,0,0,38,2,0,0,0,0,0,0,0,0]
["City of Waco, dba: Waco Transit System, Inc.","Waco","TX",6012,60012,"City, County or Local Government Unit or Department of Transportation","Full Reporter",172378,32,22,2,0,0,0,0,0,0,0,0,0,0,18,18,9,9,0,0,0,0,0,0,0,0,0,0,0,0,0,0,0,0,0,0,0,0,0,0,0,0,0,0,0,0,0,0,0,0,0,0,49,29,6,6,0,0,0,0,6,6]
["AppalCart","Boone","NC","4R06-057","4R06-41127","Independent Public Agency or Authority of Transit Service","Rural Reporter",0,31,23,0,0,0,0,0,0,0,0,0,11,5,1,0,0,0,2,0,4,0,0,0,0,0,0,0,0,0,0,0,0,0,0,0,0,0,0,0,0,0,0,0,0,0,0,0,0,0,0,0,41,5,2,1,1,0,0,0,3,1]
["South Central Adult Services","Valley City","ND","8R03-016","8R03-80125","Private-Non-Profit Corporation","Rural Reporter",0,31,0,0,0,0,0,0,0,0,0,0,7,3,9,5,0,0,15,7,0,0,0,0,0,0,0,0,0,0,0,0,0,0,0,0,0,0,0,0,0,0,0,0,0,0,0,0,0,0,0,0,31,15,0,0,0,0,0,0,0,0]
["Lee-Russell Council of Governments","Opelika","AL",4073,40073,"MPO, COG or Other Planning Agency","Reduced Reporter",74741,30,8,2,0,0,0,0,0,0,0,0,8,6,14,0,0,0,0,0,0,0,0,0,0,0,0,0,0,0,0,0,0,0,0,0,0,0,0,0,0,0,0,0,0,0,0,0,0,0,0,0,30,8,0,0,0,0,0,0,0,0]
["Gaston County","Gastonia","NC",4221,40221,"City, County or Local Government Unit or Department of Transportation","Reduced Reporter",169495,30,1,0,0,0,0,0,0,0,0,0,1,1,37,4,0,0,1,0,0,0,0,0,0,0,0,0,0,0,0,0,0,0,0,0,0,0,0,0,0,0,0,0,0,0,0,0,0,0,0,0,40,5,2,2,0,0,0,0,2,2]
["North Township of Lake County , dba: Dial-A-Ride","Hammond","IN",5103,50103,"City, County or Local Government Unit or Department of Transportation","Reduced Reporter",8608208,30,0,0,0,0,0,0,0,0,0,0,24,0,8,0,0,0,0,0,0,0,0,0,0,0,0,0,0,0,0,0,0,0,0,0,0,0,0,0,0,0,0,0,0,0,0,0,0,0,0,0,32,0,0,0,0,0,0,0,0,0]
["City of Abilene , dba: CityLink Transit","Abilene","TX",6040,60040,"City, County or Local Government Unit or Department of Transportation","Reduced Reporter",110421,30,17,3,0,0,0,0,0,0,0,0,0,0,26,0,0,0,0,0,0,0,0,0,0,0,0,0,0,0,0,0,0,0,0,0,0,0,0,0,0,0,0,0,0,0,0,0,0,0,0,0,43,3,2,2,3,0,0,0,5,2]
["Town of Oro Valley , dba: Transit Service Division","Oro Valley","AZ",9191,90191,"City, County or Local Government Unit or Department of Transportation","Reduced Reporter",843168,30,0,0,0,0,0,0,0,0,0,0,0,0,23,2,0,0,7,0,0,0,0,0,0,0,0,0,0,0,0,0,0,0,0,0,0,0,0,0,0,0,0,0,0,0,0,0,0,0,0,0,30,2,1,0,0,0,0,0,1,0]
["Franklin Regional Transit Authority","Greenfield","MA","1R02-005","1R02-10173","Independent Public Agency or Authority of Transit Service","Rural Reporter",0,29,8,0,0,0,0,0,0,0,0,0,21,12,9,0,0,0,0,0,0,0,0,0,0,0,0,0,0,0,0,0,0,0,0,0,0,0,0,0,0,0,0,0,0,0,0,0,0,0,0,0,38,12,1,1,7,1,0,0,8,2]
["City of Clarksville, dba: Clarksville Transit System","Clarksville","TN",4092,40092,"City, County or Local Government Unit or Department of Transportation","Reduced Reporter",158655,29,28,3,0,0,0,0,0,0,0,0,9,2,7,3,0,0,2,0,0,0,0,0,0,0,0,0,0,0,0,0,0,0,0,0,0,0,0,0,0,0,0,0,0,0,0,0,0,0,0,0,46,8,17,6,0,0,0,0,17,6]
["City of Macomb","Macomb","IL","5R01-014","5R01-50232","City, County or Local Government Unit or Department of Transportation","Rural Reporter",0,29,25,20,0,0,0,0,0,0,0,0,0,0,9,7,0,0,15,10,0,0,0,0,0,0,0,0,0,0,0,0,0,0,0,0,0,0,0,0,0,0,0,0,0,0,0,0,0,0,0,0,49,37,0,0,0,0,0,0,0,0]
["SPAN, Incorporated","Denton","TX",6116,60116,"City, County or Local Government Unit or Department of Transportation","Reduced Reporter",366174,29,0,0,0,0,0,0,0,0,0,0,10,2,27,1,0,0,0,0,0,0,0,0,0,0,0,0,0,0,0,0,0,0,0,0,0,0,0,0,0,0,0,0,0,0,0,0,0,0,0,0,37,3,2,1,0,0,0,0,2,1]
["Flint Hills Area Transportation ","Manhattan","KS",7053,70053,"Private-Non-Profit Corporation","Reduced Reporter",54622,29,0,0,0,0,0,0,0,0,0,0,0,0,30,3,0,0,0,0,0,0,0,0,0,0,0,0,0,0,0,0,0,0,0,0,0,0,0,0,0,0,0,0,0,0,0,0,0,0,0,0,30,3,0,0,0,0,0,0,0,0]
["A&C Bus Corporation & Montgomery & Westside Owners Association","Jersey City","NJ",2219,20219,"Private-For-Profit Corporation","Reduced Reporter",18351295,28,32,0,0,0,0,0,0,0,0,0,0,0,0,0,0,0,0,0,0,0,0,0,0,0,0,0,0,0,0,0,0,0,0,0,0,0,0,0,0,0,0,0,0,0,0,0,0,0,0,0,32,0,0,0,0,0,0,0,0,0]
["City of San Juan","San Juan","PR",4112,40112,"City, County or Local Government Unit or Department of Transportation","Reduced Reporter",2148346,28,24,4,0,0,0,0,0,0,0,0,0,0,7,0,0,0,0,0,0,0,0,0,0,0,0,0,0,0,0,0,0,0,0,0,0,0,0,0,0,0,0,0,0,0,0,0,0,0,0,0,31,4,0,0,0,0,0,0,0,0]
["Central Indiana Regional Transportation Authority ","Indianapolis","IN",5209,50209,"Independent Public Agency or Authority of Transit Service","Full Reporter",1487483,28,3,0,0,0,0,0,0,0,0,0,25,0,0,0,0,0,0,0,0,0,0,0,0,0,0,0,0,0,0,0,0,0,0,0,0,0,0,0,0,0,0,0,0,0,0,0,0,0,0,0,28,0,0,0,0,0,0,0,0,0]
["Cedar Valley Services, Inc.","Austin","MN","5R04-030","5R04-50450","Independent Public Agency or Authority of Transit Service","Rural Reporter",0,28,0,0,0,0,0,0,0,0,0,0,0,0,33,1,0,0,0,0,0,0,0,0,0,0,0,0,0,0,0,0,0,0,0,0,0,0,0,0,0,0,0,0,0,0,0,0,0,0,0,0,33,1,0,0,0,0,0,0,0,0]
["Redding Area Bus Authority","Redding","CA",9093,90093,"Independent Public Agency or Authority of Transit Service","Full Reporter",117731,28,17,0,0,0,0,0,0,0,0,0,0,0,20,0,0,0,0,0,0,0,0,0,0,0,0,0,0,0,0,0,0,0,0,0,0,0,0,0,0,0,0,0,0,0,0,0,0,0,0,0,37,0,7,7,1,1,0,0,8,8]
["People for People Moses Lake","Moses Lake","WA","0R03-029","0R03-00287","Private-Non-Profit Corporation","Rural Reporter",0,27,0,0,0,0,0,0,0,0,0,0,0,0,24,2,0,0,5,2,0,0,0,0,0,0,0,0,0,0,0,0,0,0,0,0,0,0,0,0,0,0,0,0,0,0,0,0,0,0,0,0,29,4,0,0,0,0,0,0,0,0]
["Downeast Community Partners, Inc.","Ellsworth","ME",null,"1R03-11161","Private-Non-Profit Corporation","Rural Reporter",0,27,2,2,0,0,0,0,0,0,0,0,2,0,9,7,0,0,19,17,0,0,0,0,0,0,0,0,0,0,0,0,0,0,0,0,0,0,0,0,0,0,0,0,0,0,0,0,0,0,0,0,32,26,0,0,0,0,0,0,0,0]
["City of Johnson City, dba: Johnson City Transit System","Johnson City","TN",4054,40054,"City, County or Local Government Unit or Department of Transportation","Reduced Reporter",120415,27,6,0,0,0,0,0,0,0,0,0,0,0,25,18,0,0,9,0,0,0,0,0,0,0,0,0,0,0,0,0,0,0,0,0,0,0,0,0,0,0,0,0,0,0,0,0,0,0,0,0,40,18,0,0,5,2,0,0,5,2]
["Alamance County Transportation Authority","Burlington","NC",4225,40225,"Independent Public Agency or Authority of Transit Service","Reduced Reporter",119911,27,0,0,0,0,0,0,0,0,0,0,5,0,19,0,0,0,3,0,0,0,0,0,0,0,0,0,0,0,0,0,0,0,0,0,0,0,0,0,0,0,0,0,0,0,0,0,0,0,0,0,27,0,0,0,0,0,0,0,0,0]
["Voluntary Action Center","Sycamore","IL",5215,50215,"Private-Non-Profit Corporation","Reduced Reporter",68545,27,5,0,0,0,0,0,0,0,0,0,4,4,27,3,0,0,8,0,0,0,0,0,0,0,0,0,0,0,0,0,0,0,0,0,0,0,0,0,0,0,0,0,0,0,0,0,0,0,0,0,44,7,0,0,0,0,0,0,0,0]
["Harris County, dba:  Community & Economic Development Department","Houston","TX",6108,60108,"City, County or Local Government Unit or Department of Transportation","Reduced Reporter",4944332,27,7,0,0,0,5,0,0,0,0,0,15,0,0,0,0,0,0,0,0,0,0,0,0,0,0,0,0,0,0,0,0,0,0,0,0,0,0,0,0,0,0,0,0,0,0,0,0,0,0,0,27,0,0,0,1,0,0,0,1,0]
["City of Riverside","Riverside","CA",9086,90086,"City, County or Local Government Unit or Department of Transportation","Full Reporter",1932666,27,0,0,0,0,0,0,0,0,0,0,1,1,35,0,0,0,0,0,0,0,0,0,0,0,0,0,0,0,0,0,0,0,0,0,0,0,0,0,0,0,0,0,0,0,0,0,0,0,0,0,36,1,1,1,0,0,0,0,1,1]
["Meadowlands Transportation Brokerage Corporation, dba: EZ Ride","Wood Ridge","NJ",2197,20197,"Private-Non-Profit Corporation","Reduced Reporter",18351295,26,0,0,0,0,0,0,0,0,0,0,19,1,30,0,7,0,0,0,0,0,0,0,0,0,0,0,0,0,0,0,0,0,0,0,0,0,0,0,0,0,0,0,0,0,0,0,0,0,0,0,56,1,0,0,0,0,0,0,0,0]
["Eastern Panhandle Transit Authority","Martinsburg","WV",3090,30090,"Independent Public Agency or Authority of Transit Service","Reduced Reporter",182696,26,10,10,0,0,0,0,0,0,0,0,2,0,16,3,0,0,5,0,1,1,0,0,0,0,0,0,0,0,0,0,0,0,0,0,0,0,0,0,0,0,0,0,0,0,0,0,0,0,0,0,34,14,1,1,1,0,0,0,2,1]
["County of Citrus, dba: Citrus Couny Transit","Lecanto","FL","4R02-035",41157,"City, County or Local Government Unit or Department of Transportation","Reduced Reporter",80962,26,0,0,0,0,0,0,0,0,0,0,0,0,25,11,0,0,1,1,0,0,0,0,0,0,0,0,0,0,0,0,0,0,0,0,0,0,0,0,0,0,0,0,0,0,0,0,0,0,0,0,26,12,0,0,0,0,0,0,0,0]
["Seneca County Agency Transportation","Tiffin","OH","5R05-072","5R05-50440","Private-Non-Profit Corporation","Rural Reporter",0,26,0,0,0,0,0,0,0,0,0,0,1,0,14,0,0,0,11,0,0,0,0,0,0,0,0,0,0,0,0,0,0,0,0,0,0,0,0,0,0,0,0,0,0,0,0,0,0,0,0,0,26,0,0,0,0,0,0,0,0,0]
["County of Johnson, Iowa, dba: Johnson County SEATS","Iowa City","IA",7045,70045,"City, County or Local Government Unit or Department of Transportation","Full Reporter",106621,26,0,0,0,0,0,0,0,0,0,0,0,0,34,0,0,0,0,0,0,0,0,0,0,0,0,0,0,0,0,0,0,0,0,0,0,0,0,0,0,0,0,0,0,0,0,0,0,0,0,0,34,0,0,0,0,0,0,0,0,0]
["Central Area Rural Transit System, Inc.","Soldotna","AK","0R04-006","0R04-00378","Private-Non-Profit Corporation","Rural Reporter",0,25,0,0,0,0,0,0,0,0,0,0,6,2,2,2,15,0,8,0,0,0,0,0,0,0,0,0,0,0,0,0,0,0,0,0,0,0,0,0,0,0,0,0,0,0,0,0,0,0,0,0,31,4,0,0,2,0,0,0,2,0]
["District Three Governmental Cooperative, dba: Mountain Lynx Transit","Marion","VA","3R06-002",30123,"Independent Public Agency or Authority of Transit Service","Reduced Reporter",69501,25,0,0,0,0,0,0,0,0,0,0,0,0,34,23,0,0,6,6,0,0,0,0,0,0,0,0,0,0,0,0,0,0,0,0,0,0,0,0,0,0,0,0,0,0,0,0,0,0,0,0,40,29,0,0,4,0,0,0,4,0]
["City of Jackson, MS, dba: Planning & Development, Transit Services","Jackson","MS",4015,40015,"City, County or Local Government Unit or Department of Transportation","Full Reporter",351478,25,46,31,0,0,0,0,0,0,0,0,0,0,25,14,0,0,0,0,0,0,0,0,0,0,0,0,0,0,0,0,0,0,0,0,0,0,0,0,0,0,0,0,0,0,0,0,0,0,0,0,71,45,2,2,7,4,0,0,9,6]
["Twin Cities Area Transportation Authority","Benton Harbor","MI",5132,50132,"Independent Public Agency or Authority of Transit Service","Reduced Reporter",61022,25,0,0,0,0,0,0,0,0,0,0,1,1,22,6,0,0,0,0,0,0,0,0,0,0,0,0,0,0,0,0,0,0,0,0,0,0,0,0,0,0,0,0,0,0,0,0,0,0,0,0,23,7,4,4,1,1,0,0,5,5]
["Choctaw Nation of Oklahoma","Hugo","OK","6T03",60003,"Tribe","Reduced Reporter",0,25,0,0,0,0,0,0,0,0,0,0,1,0,13,5,0,0,23,7,0,0,0,0,0,0,0,0,0,0,0,0,0,0,0,0,0,0,0,0,0,0,0,0,0,0,0,0,0,0,0,0,37,12,0,0,0,0,0,0,0,0]
["Fargo Park District , dba: Valley Senior Services","Fargo","ND",8110,80110,"Independent Public Agency or Authority of Transit Service","Reduced Reporter",176676,25,0,0,0,0,0,0,0,0,0,0,0,0,6,1,3,0,21,3,0,0,0,0,0,0,0,0,0,0,0,0,0,0,0,0,0,0,0,0,0,0,0,0,0,0,0,0,0,0,0,0,30,4,0,0,0,0,0,0,0,0]
["Montrose County Seniors","Montrose","CO",null,"8R01-88215","Private-Non-Profit Corporation","Rural Reporter",0,25,0,0,0,0,0,0,0,0,0,0,3,3,17,1,2,1,6,0,0,0,0,0,0,0,0,0,0,0,0,0,0,0,0,0,0,0,0,0,0,0,0,0,0,0,0,0,0,0,0,0,28,5,1,0,0,0,0,0,1,0]
["Chemung County, dba: C TRAN","Elmira","NY",2005,20005,"City, County or Local Government Unit or Department of Transportation","Reduced Reporter",67983,24,13,1,0,0,0,0,0,0,0,0,0,0,17,0,0,0,0,0,0,0,0,0,0,0,0,0,0,0,0,0,0,0,0,0,0,0,0,0,0,0,0,0,0,0,0,0,0,0,0,0,30,1,0,0,1,0,0,0,1,0]
["County of Lebanon Transit Authority","Lebanon","PA",3095,30095,"Independent Public Agency or Authority of Transit Service","Full Reporter",77086,24,18,6,0,0,0,0,0,0,0,0,0,0,14,2,0,0,0,0,0,0,0,0,0,0,0,0,0,0,0,0,0,0,0,0,0,0,0,0,0,0,0,0,0,0,0,0,0,0,0,0,32,8,2,2,3,1,0,0,5,3]
["Macatawa Area Express Transportation Authority","Holland","MI",5184,50184,"Independent Public Agency or Authority of Transit Service","Full Reporter",99941,24,9,1,0,0,0,0,0,0,0,0,4,0,23,5,0,0,0,0,0,0,0,0,0,0,0,0,0,0,0,0,0,0,0,0,0,0,0,0,0,0,0,0,0,0,0,0,0,0,0,0,36,6,1,1,5,1,0,0,6,2]
["Kankakee-Iroquois Regional Planning Commission","Monon","IN","5R02-035","5R02-55310","MPO, COG or Other Planning Agency","Rural Reporter",0,24,0,0,0,0,0,0,0,0,0,0,0,0,18,14,1,1,23,16,0,0,0,0,0,0,0,0,0,0,0,0,0,0,0,0,0,0,0,0,0,0,0,0,0,0,0,0,0,0,0,0,42,31,0,0,0,0,0,0,0,0]
["The Transit System, Inc.","Glen Rose ","TX","6R05-016","6R05-60264","Other Publicly-Owned or Privately Chartered Corporation","Rural Reporter",0,24,0,0,0,0,0,0,0,0,0,0,3,3,15,8,9,2,2,2,0,0,0,0,0,0,0,0,0,0,0,0,0,0,0,0,0,0,0,0,0,0,0,0,0,0,0,0,0,0,0,0,29,15,6,2,0,0,0,0,6,2]
["Human Resource Development Council District IX, Inc.","Bozeman","MT","8R02-021","8R02-80235","Private-Non-Profit Corporation","Rural Reporter",0,24,17,0,0,0,0,0,0,0,0,0,3,3,4,0,0,0,0,0,0,0,0,0,0,0,0,0,0,0,0,0,0,0,0,0,0,0,0,0,0,0,0,0,0,0,0,0,0,0,0,0,24,3,0,0,0,0,0,0,0,0]
["Mid Mon Valley Transit Authority","Charleroi","PA",3061,30061,"Independent Public Agency or Authority of Transit Service","Full Reporter",66086,23,55,2,0,0,0,0,0,0,0,0,0,0,5,5,0,0,0,0,0,0,0,0,0,0,0,0,0,0,0,0,0,0,0,0,0,0,0,0,0,0,0,0,0,0,0,0,0,0,0,0,60,7,0,0,2,2,0,0,2,2]
["Baker Council on Aging","Macclenny","FL","4R02-002","4R02-41170","Private-Non-Profit Corporation","Rural Reporter",0,23,4,0,0,0,0,0,0,0,0,0,0,0,30,1,0,0,5,3,0,0,0,0,0,0,0,0,0,0,0,0,0,0,0,0,0,0,0,0,0,0,0,0,0,0,0,0,0,0,0,0,39,4,0,0,0,0,0,0,0,0]
["Natchez Transit System","Natchez","MS","4R05-013","4R05-41121","City, County or Local Government Unit or Department of Transportation","Rural Reporter",0,23,6,5,0,0,0,0,0,0,0,0,2,0,15,7,0,0,12,5,0,0,0,0,0,0,0,0,0,0,0,0,0,0,0,0,0,0,0,0,0,0,0,0,0,0,0,0,0,0,0,0,35,17,0,0,2,2,0,0,2,2]
["Greater Lapeer Transportation Authority","Lapeer ","MI","5R03-032","5R03-50335","Independent Public Agency or Authority of Transit Service","Rural Reporter",0,23,14,3,0,0,0,0,0,0,0,0,0,0,13,3,0,0,0,0,0,0,0,0,0,0,0,0,0,0,0,0,0,0,0,0,0,0,0,0,0,0,0,0,0,0,0,0,0,0,0,0,27,6,1,1,1,1,0,0,2,2]
["Southeast Iowa Regional Planning Commission, dba: SEIBUS","West Burlington","IA","7R01-016","7R01-70217","Private-Non-Profit Corporation","Rural Reporter",0,23,3,1,0,0,0,0,0,0,0,0,3,2,17,7,0,0,0,0,0,0,0,0,0,0,0,0,0,0,0,0,0,0,0,0,0,0,0,0,0,0,0,0,0,0,0,0,0,0,0,0,23,10,0,0,0,0,0,0,0,0]
["City of Pueblo, dba: Pueblo Transit","Pueblo","CO",8007,80007,"City, County or Local Government Unit or Department of Transportation","Full Reporter",136550,23,21,4,0,0,0,0,0,0,0,0,0,0,11,6,0,0,0,0,0,0,0,0,0,0,0,0,0,0,0,0,0,0,0,0,0,0,0,0,0,0,0,0,0,0,0,0,0,0,0,0,32,10,4,2,2,0,0,0,6,2]
["Mendocino Transit Authority","Ukiah","CA","9R02-047","9R02-91047","Independent Public Agency or Authority of Transit Service","Rural Reporter",0,23,11,1,0,0,0,0,0,0,0,0,0,0,24,3,0,0,0,0,0,0,0,0,0,0,0,0,0,0,0,0,0,0,0,0,0,0,0,0,0,0,0,0,0,0,0,0,0,0,0,0,35,4,0,0,0,0,0,0,0,0]
["Town of Huntington, dba: Huntington Area Rapid Transit","Huntington Station","NY",2071,20071,"City, County or Local Government Unit or Department of Transportation","Full Reporter",18351295,22,4,1,0,0,0,0,0,0,0,0,0,0,22,3,0,0,0,0,0,0,0,0,0,0,0,0,0,0,0,0,0,0,0,0,0,0,0,0,0,0,0,0,0,0,0,0,0,0,0,0,26,4,6,4,2,2,0,0,8,6]
["Alabama Tombigbee Regional Planning Commission","Camden","AL","4R01-007","4R01-41084","MPO, COG or Other Planning Agency","Rural Reporter",0,22,0,0,0,0,0,0,0,0,0,0,21,10,0,0,0,0,5,0,0,0,0,0,0,0,0,0,0,0,0,0,0,0,0,0,0,0,0,0,0,0,0,0,0,0,0,0,0,0,0,0,26,10,0,0,0,0,0,0,0,0]
["Sumter County Board of County Commissioners","Bushnell","FL","4R02-032","4R02-40999","City, County or Local Government Unit or Department of Transportation","Rural Reporter",0,22,0,0,0,0,0,0,0,0,0,0,6,0,48,1,0,0,2,2,0,0,0,0,0,0,0,0,0,0,0,0,0,0,0,0,0,0,0,0,0,0,0,0,0,0,0,0,0,0,0,0,56,3,0,0,0,0,0,0,0,0]
["Roscommon County Transportation Authority","PRUDENVILLE","MI","5R03-059","5R03-50242","Independent Public Agency or Authority of Transit Service","Rural Reporter",0,22,0,0,0,0,0,0,0,0,0,0,2,1,23,0,0,0,0,0,0,0,0,0,0,0,0,0,0,0,0,0,0,0,0,0,0,0,0,0,0,0,0,0,0,0,0,0,0,0,0,0,25,1,0,0,0,0,0,0,0,0]
["Southeast Kansas Community Action Program","Girard","KS","7R02-068","7R02-70078","Private-Non-Profit Corporation","Rural Reporter",0,22,0,0,0,0,0,0,0,0,0,0,0,0,17,5,0,0,5,1,0,0,0,0,0,0,0,0,0,0,0,0,0,0,0,0,0,0,0,0,0,0,0,0,0,0,0,0,0,0,0,0,22,6,0,0,0,0,0,0,0,0]
["Brookings Area Transit Authority","Brookings","SD","8R04-003","8R04-80187","Private-Non-Profit Corporation","Rural Reporter",0,22,3,3,0,0,0,0,0,0,1,1,0,0,12,2,1,0,9,5,0,0,0,0,0,0,0,0,0,0,0,0,0,0,0,0,0,0,0,0,0,0,0,0,0,0,0,0,0,0,0,0,26,11,0,0,0,0,0,0,0,0]
["Tillamook County Transportation District","Tillamook","OR","0R02-028","0R02-00296","City, County or Local Government Unit or Department of Transportation","Rural Reporter",0,21,0,0,0,0,0,0,0,0,0,0,3,1,17,1,0,0,7,0,0,0,0,0,0,0,0,0,0,0,0,0,0,0,0,0,0,0,0,0,0,0,0,0,0,0,0,0,0,0,0,0,27,2,0,0,1,1,0,0,1,1]
["City of Fredericksburg, dba: Fredericksburg Regional Transit","Fredericksburg","VA",3079,30079,"City, County or Local Government Unit or Department of Transportation","Reduced Reporter",141238,21,0,0,0,0,0,0,0,0,0,0,0,0,30,17,0,0,0,0,0,0,0,0,0,0,0,0,0,0,0,0,0,0,0,0,0,0,0,0,0,0,0,0,0,0,0,0,0,0,0,0,30,17,5,0,1,0,0,0,6,0]
["Municipality of Yauco","Yauco","PR",4174,40174,"City, County or Local Government Unit or Department of Transportation","Reduced Reporter",90899,21,8,0,0,0,0,0,0,0,0,0,17,2,2,0,0,0,0,0,0,0,0,0,0,0,0,0,0,0,0,0,0,0,0,0,0,0,0,0,0,0,0,0,0,0,0,0,0,0,0,0,27,2,2,0,0,0,0,0,2,0]
["Flagler County Public Transportation","Bunnell","FL","4R02-028",41068,"City, County or Local Government Unit or Department of Transportation","Full Reporter",349064,21,0,0,0,0,0,0,0,0,0,0,2,2,28,0,2,2,0,0,0,0,0,0,0,0,0,0,0,0,0,0,0,0,0,0,0,0,0,0,0,0,0,0,0,0,0,0,0,0,0,0,32,4,0,0,0,0,0,0,0,0]
["Chatham Transit Network","Pittsboro","NC","4R06-007","4R06-41004","Private-Non-Profit Corporation","Rural Reporter",0,21,0,0,0,0,0,0,0,0,0,0,7,0,18,0,0,0,1,0,0,0,0,0,0,0,0,0,0,0,0,0,0,0,0,0,0,0,0,0,0,0,0,0,0,0,0,0,0,0,0,0,26,0,2,2,0,0,0,0,2,2]
["City of Sheboygan, dba: Shoreline Metro","Sheboygan","WI",5088,50088,"City, County or Local Government Unit or Department of Transportation","Reduced Reporter",71313,21,25,20,0,0,0,0,0,0,0,0,0,0,11,0,0,0,0,0,0,0,0,0,0,0,0,0,0,0,0,0,0,0,0,0,0,0,0,0,0,0,0,0,0,0,0,0,0,0,0,0,36,20,1,0,4,0,0,0,5,0]
["City of Iowa City, dba: Iowa City Transit","Iowa City","IA",7018,70018,"City, County or Local Government Unit or Department of Transportation","Full Reporter",106621,21,34,12,0,0,0,0,0,0,0,0,0,0,0,0,0,0,0,0,0,0,0,0,0,0,0,0,0,0,0,0,0,0,0,0,0,0,0,0,0,0,0,0,0,0,0,0,0,0,0,0,34,12,2,0,1,0,0,0,3,0]
["Steamboat Springs, City of ","Steamboat Springs","CO","8R01-020","8R01-80186","City, County or Local Government Unit or Department of Transportation","Rural Reporter",0,21,15,6,0,0,4,2,0,0,0,0,2,1,0,0,0,0,0,0,0,0,0,0,0,0,0,0,0,0,0,0,0,0,0,0,0,0,0,0,0,0,0,0,0,0,0,0,0,0,0,0,21,9,0,0,0,0,0,0,0,0]
["Kings County Area Public Transit Agency","Hanford","CA",9200,90200,"Independent Public Agency or Authority of Transit Service","Full Reporter",87941,21,21,6,0,0,0,0,0,0,0,0,2,0,11,2,0,0,0,0,0,0,0,0,0,0,0,0,0,0,0,0,0,0,0,0,0,0,0,0,0,0,0,0,0,0,0,0,0,0,0,0,34,8,1,0,2,0,0,0,3,0]
["City of Radford","Radford","VA",null,30200,"City, County or Local Government Unit or Department of Transportation","Reduced Reporter",88542,20,4,2,0,0,0,0,0,0,0,0,0,0,12,2,0,0,0,0,0,0,0,0,0,0,0,0,0,0,0,0,0,0,0,0,0,0,0,0,0,0,0,0,0,0,0,0,0,0,0,0,16,4,0,0,4,0,0,0,4,0]
["Generations Unlimited","Barnwell","SC","4R07-006","4R07-41002","City, County or Local Government Unit or Department of Transportation","Rural Reporter",0,20,0,0,0,0,0,0,0,0,0,0,0,0,13,1,0,0,7,0,0,0,0,0,0,0,0,0,0,0,0,0,0,0,0,0,0,0,0,0,0,0,0,0,0,0,0,0,0,0,0,0,20,1,0,0,0,0,0,0,0,0]
["Three Rivers Community Action, Inc.","Plainview","MN","5R04-036","5R04-50510","Independent Public Agency or Authority of Transit Service","Rural Reporter",0,20,0,0,0,0,0,0,0,0,0,0,0,0,28,4,0,0,0,0,0,0,0,0,0,0,0,0,0,0,0,0,0,0,0,0,0,0,0,0,0,0,0,0,0,0,0,0,0,0,0,0,28,4,0,0,0,0,0,0,0,0]
["City of Dubuque","Dubuque","IA",7011,70011,"City, County or Local Government Unit or Department of Transportation","Reduced Reporter",67818,20,23,7,0,0,0,0,0,0,0,0,0,0,12,12,0,0,0,0,0,0,0,0,0,0,0,0,0,0,0,0,0,0,0,0,0,0,0,0,0,0,0,0,0,0,0,0,0,0,0,0,35,19,2,0,1,0,0,0,3,0]
["Tuolumne County Transit","Sonora","CA","9R02-035","9R02-91057","Independent Public Agency or Authority of Transit Service","Rural Reporter",0,20,6,0,0,0,0,0,0,0,0,0,0,0,14,0,0,0,0,0,0,0,0,0,0,0,0,0,0,0,0,0,0,0,0,0,0,0,0,0,0,0,0,0,0,0,0,0,0,0,0,0,20,0,1,0,0,0,0,0,1,0]
["York County Community Action Corporation","Sanford","ME",1099,10099,"Private-Non-Profit Corporation","Reduced Reporter",88200,19,22,18,0,0,0,0,0,0,0,0,9,9,0,0,0,0,6,5,0,0,0,0,0,0,0,0,0,0,0,0,0,0,0,0,0,0,0,0,0,0,0,0,0,0,0,0,0,0,0,0,37,32,0,0,0,0,0,0,0,0]
["Mountain Projects, Inc.","Waynesville","NC",4226,40226,"Private-Non-Profit Corporation","Reduced Reporter",280648,19,0,0,0,0,0,0,0,0,0,0,10,0,7,0,0,0,1,1,1,1,0,0,0,0,0,0,0,0,0,0,0,0,0,0,0,0,0,0,0,0,0,0,0,0,0,0,0,0,0,0,19,2,0,0,0,0,0,0,0,0]
["Randolph County Senior Adult Association Inc.","Asheboro","NC","4R06-039","4R06-40921","Area Agency on Aging","Rural Reporter",0,19,0,0,0,0,0,0,0,0,0,0,2,0,23,0,0,0,8,1,0,0,0,0,0,0,0,0,0,0,0,0,0,0,0,0,0,0,0,0,0,0,0,0,0,0,0,0,0,0,0,0,33,1,1,1,0,0,0,0,1,1]
["Coles County","Charleston","IL","5R01-004","5R01-50447","City, County or Local Government Unit or Department of Transportation","Rural Reporter",0,19,0,0,0,0,0,0,0,0,0,0,0,0,21,8,0,0,1,1,0,0,0,0,0,0,0,0,0,0,0,0,0,0,0,0,0,0,0,0,0,0,0,0,0,0,0,0,0,0,0,0,22,9,0,0,0,0,0,0,0,0]
["Chillicothe Transit System","Chillicothe","OH","5R05-047","5R05-50429","City, County or Local Government Unit or Department of Transportation","Rural Reporter",0,19,2,0,0,0,0,0,0,0,0,0,0,0,20,0,0,0,0,0,0,0,0,0,0,0,0,0,0,0,0,0,0,0,0,0,0,0,0,0,0,0,0,0,0,0,0,0,0,0,0,0,22,0,0,0,0,0,0,0,0,0]
["Ray County Transportation, Inc.","Richmond","MO","7R03-024","7R03-70106","Private-Non-Profit Corporation","Rural Reporter",0,19,0,0,0,0,0,0,0,0,0,0,3,0,8,0,3,0,9,0,0,0,0,0,0,0,0,0,0,0,0,0,0,0,0,0,0,0,0,0,0,0,0,0,0,0,0,0,0,0,0,0,23,0,0,0,0,0,0,0,0,0]
["Confederated Salish and Kootenai Tribes","Pablo","MT","8T04",88134,"Tribe","Reduced Reporter",0,19,0,0,0,0,0,0,0,0,0,0,0,0,10,1,0,0,13,6,0,0,0,0,0,0,0,0,0,0,0,0,0,0,0,0,0,0,0,0,0,0,0,0,0,0,0,0,0,0,0,0,23,7,0,0,0,0,0,0,0,0]
["Putnam County , dba: Putnam Area Rapid Transit ","Carmel","NY",2096,20096,"City, County or Local Government Unit or Department of Transportation","Full Reporter",18351295,18,1,0,0,0,0,0,0,0,0,0,1,0,22,8,0,0,0,0,0,0,0,0,0,0,0,0,0,0,0,0,0,0,0,0,0,0,0,0,0,0,0,0,0,0,0,0,0,0,0,0,24,8,0,0,0,0,0,0,0,0]
["County of Carbon, dba: Carbon County Community Transit","Jim Thorpe","PA","3R04-002",30167,"City, County or Local Government Unit or Department of Transportation","Reduced Reporter",664651,18,0,0,0,0,0,0,0,0,0,0,0,0,24,18,0,0,0,0,0,0,0,0,0,0,0,0,0,0,0,0,0,0,0,0,0,0,0,0,0,0,0,0,0,0,0,0,0,0,0,0,24,18,0,0,0,0,0,0,0,0]
["Gulf County ARC","Port St. Joe","FL","4R02-016","4R02-40968","Private-Non-Profit Corporation","Rural Reporter",0,18,0,0,0,0,0,0,0,0,0,0,0,0,8,0,1,0,9,0,0,0,0,0,0,0,0,0,0,0,0,0,0,0,0,0,0,0,0,0,0,0,0,0,0,0,0,0,0,0,0,0,18,0,0,0,0,0,0,0,0,0]
["Rutherford County","Spindale","NC","4R06-042","4R06-40983","City, County or Local Government Unit or Department of Transportation","Rural Reporter",0,18,0,0,0,0,0,0,0,0,0,0,21,7,3,0,0,0,2,0,0,0,0,0,0,0,0,0,0,0,0,0,0,0,0,0,0,0,0,0,0,0,0,0,0,0,0,0,0,0,0,0,26,7,0,0,0,0,0,0,0,0]
["Delta Area Transit Authority","Escanaba","MI","5R03-025","5R03-50356","Independent Public Agency or Authority of Transit Service","Rural Reporter",0,18,8,1,0,0,0,0,0,0,0,0,3,0,10,1,0,0,0,0,0,0,0,0,0,0,0,0,0,0,0,0,0,0,0,0,0,0,0,0,0,0,0,0,0,0,0,0,0,0,0,0,21,2,2,1,1,1,0,0,3,2]
["Berrien County Public Transportation","St. Joseph","MI","5R03-012","5R03-50463","City, County or Local Government Unit or Department of Transportation","Rural Reporter",0,18,18,0,0,0,0,0,0,0,0,0,1,1,7,0,0,0,0,0,0,0,0,0,0,0,0,0,0,0,0,0,0,0,0,0,0,0,0,0,0,0,0,0,0,0,0,0,0,0,0,0,26,1,0,0,1,1,0,0,1,1]
["City of Beaumont, dba: Beaumont Municipal Transit System","Beaumont","TX",6016,60016,"City, County or Local Government Unit or Department of Transportation","Full Reporter",147922,18,17,0,0,0,0,0,0,0,0,0,0,0,8,0,0,0,0,0,0,0,0,0,0,0,0,0,0,0,0,0,0,0,0,0,0,0,0,0,0,0,0,0,0,0,0,0,0,0,0,0,25,0,4,2,3,1,0,0,7,3]
["City of Del Rio Transportation","Del Rio ","TX","6R05-038","6R05-60152","City, County or Local Government Unit or Department of Transportation","Rural Reporter",0,18,0,0,0,0,0,0,0,0,0,0,3,3,21,11,0,0,3,2,0,0,0,0,0,0,0,0,0,0,0,0,0,0,0,0,0,0,0,0,0,0,0,0,0,0,0,0,0,0,0,0,27,16,1,1,0,0,0,0,1,1]
["City of Union City, dba: Union City Transit","Union City","CA",9161,90161,"City, County or Local Government Unit or Department of Transportation","Reduced Reporter",3281212,18,20,2,0,0,0,0,0,0,0,0,0,0,6,6,1,1,0,0,0,0,0,0,0,0,0,0,0,0,0,0,0,0,0,0,0,0,0,0,0,0,0,0,0,0,0,0,0,0,0,0,27,9,0,0,0,0,0,0,0,0]
["City of Danville Mass Transit System","Danville","VA",3069,"3R06-30069","City, County or Local Government Unit or Department of Transportation","Rural Reporter",0,17,2,0,0,0,0,0,0,0,0,0,1,0,25,0,0,0,0,0,0,0,0,0,0,0,0,0,0,0,0,0,0,0,0,0,0,0,0,0,0,0,0,0,0,0,0,0,0,0,0,0,28,0,0,0,27,0,0,0,27,0]
["Lancaster County Council on Aging, dba: LARS ","Lancaster","SC",4237,40237,"Private-Non-Profit Corporation","Reduced Reporter",1249442,17,0,0,0,0,0,0,0,0,0,0,2,0,10,0,1,0,7,1,0,0,0,0,0,0,0,0,0,0,0,0,0,0,0,0,0,0,0,0,0,0,0,0,0,0,0,0,0,0,0,0,20,1,0,0,0,0,0,0,0,0]
["Nassau Council on Aging","Fernandina Beach","FL","4R02-007","4R02-41114","Private-Non-Profit Corporation","Rural Reporter",0,17,0,0,0,0,0,0,0,0,0,0,0,0,19,3,0,0,4,2,0,0,0,0,0,0,0,0,0,0,0,0,0,0,0,0,0,0,0,0,0,0,0,0,0,0,0,0,0,0,0,0,23,5,0,0,0,0,0,0,0,0]
["City of Janesville, dba: Janesville Transit System","Janesville","WI",5108,50108,"City, County or Local Government Unit or Department of Transportation","Reduced Reporter",69658,17,18,18,0,0,0,0,0,0,0,0,0,0,2,0,0,0,0,0,0,0,0,0,0,0,0,0,0,0,0,0,0,0,0,0,0,0,0,0,0,0,0,0,0,0,0,0,0,0,0,0,20,18,0,0,5,2,0,0,5,2]
["Incorporated County of Los Alamos","Los Alamos","NM","6R03-012","6R03-60215","City, County or Local Government Unit or Department of Transportation","Rural Reporter",0,17,13,0,0,0,0,0,0,0,3,3,0,0,12,0,0,0,2,0,0,0,0,0,0,0,0,0,0,0,0,0,0,0,0,0,0,0,0,0,0,0,0,0,0,0,0,0,0,0,0,0,30,3,0,0,0,0,0,0,0,0]
["Yankton Transit, Inc.","Yankton","SD","8R04-021","8R04-80271","Private-Non-Profit Corporation","Rural Reporter",0,17,1,0,0,0,0,0,0,0,0,0,4,4,13,6,0,0,7,5,0,0,0,0,0,0,0,0,0,0,0,0,0,0,0,0,0,0,0,0,0,0,0,0,0,0,0,0,0,0,0,0,25,15,0,0,0,0,0,0,0,0]
["City of Simi Valley, dba: Simi Valley Transit","Simi Valley","CA",9050,90050,"City, County or Local Government Unit or Department of Transportation","Reduced Reporter",125206,17,11,2,0,0,0,0,0,0,0,0,0,0,12,0,0,0,0,0,0,0,0,0,0,0,0,0,0,0,0,0,0,0,0,0,0,0,0,0,0,0,0,0,0,0,0,0,0,0,0,0,23,2,7,7,0,0,0,0,7,7]
["Advance Transit, Inc. NH","Wilder","VT","1R04-001","1R04-10137","Private-Non-Profit Corporation","Rural Reporter",0,16,21,6,0,0,0,0,0,0,0,0,1,1,5,2,0,0,0,0,0,0,0,0,0,0,0,0,0,0,0,0,0,0,0,0,0,0,0,0,0,0,0,0,0,0,0,0,0,0,0,0,27,9,3,0,0,0,0,0,3,0]
["Municipality of Mayaguez","Mayaguez","PR",4194,40194,"City, County or Local Government Unit or Department of Transportation","Reduced Reporter",109572,16,6,0,0,0,0,0,0,0,0,0,4,2,11,0,0,0,0,0,0,0,0,0,0,0,0,0,0,0,0,0,0,0,0,0,0,0,0,0,0,0,0,0,0,0,0,0,0,0,0,0,21,2,1,1,0,0,0,0,1,1]
["Thomas County Transit","Thomasville","GA","4R03-063","4R03-41185","City, County or Local Government Unit or Department of Transportation","Rural Reporter",0,16,0,0,0,0,0,0,0,0,0,0,0,0,16,0,0,0,0,0,0,0,0,0,0,0,0,0,0,0,0,0,0,0,0,0,0,0,0,0,0,0,0,0,0,0,0,0,0,0,0,0,16,0,0,0,0,0,0,0,0,0]
["N-Route","Vicksburg","MS","4R05-020","4R05-40957","Private-Non-Profit Corporation","Rural Reporter",0,16,1,0,0,0,0,0,0,0,0,0,5,0,11,4,0,0,4,2,0,0,0,0,0,0,0,0,0,0,0,0,0,0,0,0,0,0,0,0,0,0,0,0,0,0,0,0,0,0,0,0,21,6,0,0,0,0,0,0,0,0]
["Bond County","Greenville","IL","5R01-001","5R01-50221","City, County or Local Government Unit or Department of Transportation","Rural Reporter",0,16,3,1,0,0,0,0,0,0,0,0,0,0,10,4,0,0,5,3,0,0,0,0,0,0,0,0,0,0,0,0,0,0,0,0,0,0,0,0,0,0,0,0,0,0,0,0,0,0,0,0,18,8,0,0,0,0,0,0,0,0]
["Crawford County Transportation Authority","Grayling","MI","5R03-024","5R03-50503","Independent Public Agency or Authority of Transit Service","Rural Reporter",0,16,11,3,0,0,0,0,0,0,0,0,2,0,5,2,0,0,0,0,0,0,0,0,0,0,0,0,0,0,0,0,0,0,0,0,0,0,0,0,0,0,0,0,0,0,0,0,0,0,0,0,18,5,0,0,1,1,0,0,1,1]
["City of Monroe , dba: Monroe Transit System","Monroe","LA",6026,60026,"City, County or Local Government Unit or Department of Transportation","Reduced Reporter",116533,16,22,3,0,0,0,0,0,0,0,0,0,0,5,0,0,0,0,0,0,0,0,0,0,0,0,0,0,0,0,0,0,0,0,0,0,0,0,0,0,0,0,0,0,0,0,0,0,0,0,0,27,3,4,1,3,0,0,0,7,1]
["City of St. Joseph, Missouri, dba: St. Joseph Transit","St. Joseph","MO",7032,70032,"City, County or Local Government Unit or Department of Transportation","Reduced Reporter",81176,16,20,12,0,0,0,0,0,0,0,0,0,0,1,0,0,0,0,0,0,0,0,0,0,0,0,0,0,0,0,0,0,0,0,0,0,0,0,0,0,0,0,0,0,0,0,0,0,0,0,0,21,12,4,3,1,0,0,0,5,3]
["City of Cerritos","Cerritos","CA",null,90259,"City, County or Local Government Unit or Department of Transportation","Reduced Reporter",12150996,16,6,0,0,0,0,0,0,0,0,0,0,0,0,0,0,0,10,0,0,0,0,0,0,0,0,0,0,0,0,0,0,0,0,0,0,0,0,0,0,0,0,0,0,0,0,0,0,0,0,0,16,0,0,0,0,0,0,0,0,0]
["Olympia Trails Bus Company, Inc.","Elizabeth","NJ",2165,20165,"Private-For-Profit Corporation","Reduced Reporter",18351295,15,9,0,0,0,6,2,0,0,0,0,0,0,0,0,0,0,0,0,0,0,0,0,0,0,0,0,0,0,0,0,0,0,0,0,0,0,0,0,0,0,0,0,0,0,0,0,0,0,0,0,15,2,0,0,0,0,0,0,0,0]
["Jackson Transit Authority","Jackson","TN",4057,40057,"Independent Public Agency or Authority of Transit Service","Full Reporter",71880,15,15,8,0,0,0,0,0,0,0,0,0,0,15,2,0,0,0,0,0,0,0,0,0,0,0,0,0,0,0,0,0,0,0,0,0,0,0,0,0,0,0,0,0,0,0,0,0,0,0,0,30,10,0,0,8,1,0,0,8,1]
["Cherokee County Board of Commissioners","Canton","GA",4161,40161,"City, County or Local Government Unit or Department of Transportation","Reduced Reporter",4515419,15,0,0,0,0,0,0,0,0,0,0,0,0,17,0,0,0,0,0,0,0,0,0,0,0,0,0,0,0,0,0,0,0,0,0,0,0,0,0,0,0,0,0,0,0,0,0,0,0,0,0,17,0,1,0,0,0,0,0,1,0]
["Jackson County Mass Transit District","Carbondale","IL",5204,50204,"Independent Public Agency or Authority of Transit Service","Full Reporter",67821,15,0,0,0,0,0,0,0,0,0,0,0,0,15,4,0,0,4,0,0,0,0,0,0,0,0,0,0,0,0,0,0,0,0,0,0,0,0,0,0,0,0,0,0,0,0,0,0,0,0,0,19,4,0,0,0,0,0,0,0,0]
["Antrim County Transportation","Bellaire","MI","5R03-007","5R03-50452","City, County or Local Government Unit or Department of Transportation","Rural Reporter",0,15,12,0,0,0,0,0,0,0,0,0,2,0,1,0,0,0,0,0,0,0,0,0,0,0,0,0,0,0,0,0,0,0,0,0,0,0,0,0,0,0,0,0,0,0,0,0,0,0,0,0,15,0,0,0,2,1,0,0,2,1]
["Aspermont Small Business Development Center, Inc.","Aspermont ","TX","6R05-001","6R05-60202","Private-Non-Profit Corporation","Rural Reporter",0,15,0,0,0,0,0,0,0,0,0,0,0,0,7,6,1,1,12,8,1,1,0,0,0,0,0,0,0,0,0,0,0,0,0,0,0,0,0,0,0,0,0,0,0,0,0,0,0,0,0,0,21,16,1,1,1,1,0,0,2,2]
["Rehabilitation Enterprises of North Eastern Wyoming (RENEW)","Sheridan","WY","8R05-045","8R05-80293","Private-Non-Profit Corporation","Rural Reporter",0,15,6,1,0,0,0,0,0,0,0,0,2,0,0,0,2,1,5,3,1,0,0,0,0,0,0,0,0,0,0,0,0,0,0,0,0,0,0,0,0,0,0,0,0,0,0,0,0,0,0,0,16,5,0,0,0,0,0,0,0,0]
["City of Vacaville","Vacaville","CA",9155,90155,"City, County or Local Government Unit or Department of Transportation","Reduced Reporter",93141,15,18,0,0,0,0,0,0,0,0,0,0,0,7,2,0,0,0,0,0,0,0,0,0,0,0,0,0,0,0,0,0,0,0,0,0,0,0,0,0,0,0,0,0,0,0,0,0,0,0,0,25,2,3,3,0,0,0,0,3,3]
["Klickitat County Senior Services","Goldendale","WA","0R03-015","0R03-00299","City, County or Local Government Unit or Department of Transportation","Rural Reporter",0,14,0,0,0,0,0,0,0,0,0,0,3,0,6,1,0,0,7,3,0,0,0,0,0,0,0,0,0,0,0,0,0,0,0,0,0,0,0,0,0,0,0,0,0,0,0,0,0,0,0,0,16,4,0,0,0,0,0,0,0,0]
["Essex County Department of Community Development","Elizabethtown","NY","2R02-014","2R02-20932","City, County or Local Government Unit or Department of Transportation","Rural Reporter",0,14,15,0,0,0,0,0,0,0,0,0,0,0,0,0,0,0,0,0,0,0,0,0,0,0,0,0,0,0,0,0,0,0,0,0,0,0,0,0,0,0,0,0,0,0,0,0,0,0,0,0,15,0,0,0,0,0,0,0,0,0]
["Mid-County Transit Authority, dba: Town and Country Transit","kittanning","PA","3R04-013","3R04-30194","Independent Public Agency or Authority of Transit Service","Rural Reporter",0,14,0,0,0,0,0,0,0,0,0,0,6,0,13,2,0,0,0,0,0,0,0,0,0,0,0,0,0,0,0,0,0,0,0,0,0,0,0,0,0,0,0,0,0,0,0,0,0,0,0,0,19,2,0,0,2,1,0,0,2,1]
["Middle Kentucky River Area Development Council, Inc.","Jackson","KY","4R04-024","4R04-40909","Private-Non-Profit Corporation","Rural Reporter",0,14,0,0,0,0,0,0,0,0,0,0,7,5,0,0,0,0,7,0,5,2,0,0,0,0,0,0,0,0,0,0,0,0,0,0,0,0,0,0,0,0,0,0,0,0,0,0,0,0,0,0,19,7,0,0,0,0,0,0,0,0]
["Piatt County","Monticello","IL","5R01-017","5R01-50425","City, County or Local Government Unit or Department of Transportation","Rural Reporter",0,14,0,0,0,0,0,0,0,0,0,0,0,0,11,1,0,0,3,1,0,0,0,0,0,0,0,0,0,0,0,0,0,0,0,0,0,0,0,0,0,0,0,0,0,0,0,0,0,0,0,0,14,2,0,0,0,0,0,0,0,0]
["Hubbard County","Park Rapids","MN","5R04-006","5R04-50397","Independent Public Agency or Authority of Transit Service","Rural Reporter",0,14,0,0,0,0,0,0,0,0,0,0,0,0,6,1,0,0,0,0,0,0,0,0,0,0,0,0,0,0,0,0,0,0,0,0,0,0,0,0,0,0,0,0,0,0,0,0,0,0,0,0,6,1,0,0,0,0,0,0,0,0]
["City of McAllen , dba: Metro McAllen","McAllen","TX",6099,60099,"City, County or Local Government Unit or Department of Transportation","Reduced Reporter",728825,14,15,2,0,0,0,0,0,0,0,0,1,0,3,3,0,0,0,0,0,0,0,0,0,0,0,0,0,0,0,0,0,0,0,0,0,0,0,0,0,0,0,0,0,0,0,0,0,0,0,0,19,5,2,1,1,0,0,0,3,1]
["The City of Cheyenne, dba: Cheyenne Transit Program","Cheyenne","WY",8020,80020,"City, County or Local Government Unit or Department of Transportation","Reduced Reporter",73588,14,0,0,0,0,0,0,0,0,0,0,0,0,20,8,0,0,0,0,0,0,0,0,0,0,0,0,0,0,0,0,0,0,0,0,0,0,0,0,0,0,0,0,0,0,0,0,0,0,0,0,20,8,1,0,0,0,0,0,1,0]
["City of Arcadia, dba: Arcadia Transit","Arcadia","CA",9044,90044,"City, County or Local Government Unit or Department of Transportation","Reduced Reporter",12150996,14,0,0,0,0,0,0,0,0,0,0,0,0,18,18,0,0,0,0,0,0,0,0,0,0,0,0,0,0,0,0,0,0,0,0,0,0,0,0,0,0,0,0,0,0,0,0,0,0,0,0,18,18,0,0,0,0,0,0,0,0]
["City of Lakewood , dba: DASH Transit","Lakewood","CA",null,90301,"City, County or Local Government Unit or Department of Transportation","Reduced Reporter",12150996,14,0,0,0,0,0,0,0,0,0,0,0,0,6,2,0,0,6,0,0,0,0,0,0,0,0,0,0,0,0,0,0,0,0,0,0,0,0,0,0,0,0,0,0,0,0,0,0,0,0,0,12,2,0,0,0,0,0,0,0,0]
["Humboldt Transit Authority","Eureka","CA","9R02-016","9R02-91036","Independent Public Agency or Authority of Transit Service","Rural Reporter",0,14,16,0,0,0,0,0,0,0,0,0,0,0,13,4,0,0,0,0,0,0,0,0,0,0,0,0,0,0,0,0,0,0,0,0,0,0,0,0,0,0,0,0,0,0,0,0,0,0,0,0,29,4,10,3,2,0,0,0,12,3]
["Wyoming Transit Service","Warsaw","NY","2R02-052","2R02-20980","Independent Public Agency or Authority of Transit Service","Rural Reporter",0,13,0,0,0,0,0,0,0,0,0,0,0,0,18,0,0,0,0,0,0,0,0,0,0,0,0,0,0,0,0,0,0,0,0,0,0,0,0,0,0,0,0,0,0,0,0,0,0,0,0,0,18,0,0,0,0,0,0,0,0,0]
["City of Kingsport, dba: Kingsport Area Transit Service","Kingsport","TN",4080,40080,"City, County or Local Government Unit or Department of Transportation","Reduced Reporter",106571,13,0,0,0,0,0,0,0,0,0,0,10,6,13,10,0,0,0,0,0,0,0,0,0,0,0,0,0,0,0,0,0,0,0,0,0,0,0,0,0,0,0,0,0,0,0,0,0,0,0,0,23,16,2,1,0,0,0,0,2,1]
["Lorain County, dba: Lorain County Transit","Elyria","OH",5095,50095,"City, County or Local Government Unit or Department of Transportation","Reduced Reporter",180956,13,0,0,0,0,0,0,0,0,0,0,0,0,13,13,0,0,0,0,0,0,0,0,0,0,0,0,0,0,0,0,0,0,0,0,0,0,0,0,0,0,0,0,0,0,0,0,0,0,0,0,13,13,0,0,0,0,0,0,0,0]
["City of Danville, dba: Danville Mass Transit","Danville","IL",5174,50174,"City, County or Local Government Unit or Department of Transportation","Reduced Reporter",50996,13,11,3,0,0,0,0,0,0,0,0,0,0,23,0,0,0,1,0,0,0,0,0,0,0,0,0,0,0,0,0,0,0,0,0,0,0,0,0,0,0,0,0,0,0,0,0,0,0,0,0,35,3,0,0,3,1,0,0,3,1]
["Bay Area Rural Transit Commission","Ashland","WI","5R06-008","5R06-50401","Independent Public Agency or Authority of Transit Service","Rural Reporter",0,13,0,0,0,0,0,0,0,0,0,0,1,0,16,7,0,0,0,0,0,0,0,0,0,0,0,0,0,0,0,0,0,0,0,0,0,0,0,0,0,0,0,0,0,0,0,0,0,0,0,0,17,7,0,0,0,0,0,0,0,0]
["James River Senior Citizens Center, Inc.","Jamestown","ND","8R03-007","8R03-80124","Private-Non-Profit Corporation","Rural Reporter",0,13,0,0,0,0,0,0,0,0,0,0,5,1,5,3,0,0,3,2,0,0,0,0,0,0,0,0,0,0,0,0,0,0,0,0,0,0,0,0,0,0,0,0,0,0,0,0,0,0,0,0,13,6,0,0,0,0,0,0,0,0]
["City of El Monte , dba: City of El Monte Transportation Division","El Monte","CA",null,90265,"City, County or Local Government Unit or Department of Transportation","Reduced Reporter",12150996,13,22,0,0,0,0,0,0,0,0,0,5,0,3,0,0,0,0,0,0,0,0,0,0,0,0,0,0,0,0,0,0,0,0,0,0,0,0,0,0,0,0,0,0,0,0,0,0,0,0,0,30,0,3,1,2,1,0,0,5,2]
["City of Glendora","Glendora","CA",null,90266,"City, County or Local Government Unit or Department of Transportation","Reduced Reporter",12150996,13,0,0,0,0,0,0,0,0,0,0,0,0,4,0,0,0,5,1,0,0,0,0,0,0,0,0,0,0,0,0,0,0,0,0,0,0,0,0,0,0,0,0,0,0,0,0,0,0,0,0,9,1,0,0,0,0,0,0,0,0]
["Coos County Area Transit","Coos Bay","OR","0R02-006","0R02-00307","Independent Public Agency or Authority of Transit Service","Rural Reporter",0,12,0,0,0,0,0,0,0,0,0,0,2,0,14,11,0,0,0,0,0,0,0,0,0,0,0,0,0,0,0,0,0,0,0,0,0,0,0,0,0,0,0,0,0,0,0,0,0,0,0,0,16,11,1,1,1,1,0,0,2,2]
["Valley Transit District","Derby","CT",1042,10042,"Independent Public Agency or Authority of Transit Service","Full Reporter",923311,12,0,0,0,0,0,0,0,0,0,0,0,0,14,0,0,0,0,0,0,0,0,0,0,0,0,0,0,0,0,0,0,0,0,0,0,0,0,0,0,0,0,0,0,0,0,0,0,0,0,0,14,0,1,0,1,1,0,0,2,1]
["City of Concord, dba: Concord Kannapolis Area Transit (Rider)","Concord","NC",4167,40167,"City, County or Local Government Unit or Department of Transportation","Reduced Reporter",214881,12,10,0,0,0,0,0,0,0,0,0,3,0,4,0,0,0,0,0,0,0,0,0,0,0,0,0,0,0,0,0,0,0,0,0,0,0,0,0,0,0,0,0,0,0,0,0,0,0,0,0,17,0,1,0,2,1,0,0,3,1]
["Municipality of Toa Baja","Toa Baja","PR",4182,40182,"City, County or Local Government Unit or Department of Transportation","Reduced Reporter",2148346,12,4,2,0,0,0,0,0,0,1,0,3,1,5,2,0,0,0,0,0,0,0,0,0,0,0,0,0,0,0,0,0,0,0,0,0,0,0,0,0,0,0,0,0,0,0,0,0,0,0,0,13,5,0,0,0,0,0,0,0,0]
["St. Clair County Commission","Ashville","AL","4R01-025","4R01-41076","City, County or Local Government Unit or Department of Transportation","Rural Reporter",0,12,5,0,0,0,0,0,0,0,0,0,0,0,8,0,0,0,1,0,0,0,0,0,0,0,0,0,0,0,0,0,0,0,0,0,0,0,0,0,0,0,0,0,0,0,0,0,0,0,0,0,14,0,0,0,0,0,0,0,0,0]
["Anson County","Wadesboro","NC","4R06-001","4R06-41113","City, County or Local Government Unit or Department of Transportation","Rural Reporter",0,12,0,0,0,0,0,0,0,0,0,0,7,0,7,1,0,0,1,0,0,0,0,0,0,0,0,0,0,0,0,0,0,0,0,0,0,0,0,0,0,0,0,0,0,0,0,0,0,0,0,0,15,1,0,0,0,0,0,0,0,0]
["Boone County Council on Aging","Belvidere","IL",5194,50194,"Private-Non-Profit Corporation","Reduced Reporter",296863,12,0,0,0,0,0,0,0,0,0,0,0,0,11,1,0,0,1,0,0,0,0,0,0,0,0,0,0,0,0,0,0,0,0,0,0,0,0,0,0,0,0,0,0,0,0,0,0,0,0,0,12,1,0,0,0,0,0,0,0,0]
["Delaware County Transit Board","Delaware","OH",5199,50199,"Independent Public Agency or Authority of Transit Service","Full Reporter",1368035,12,1,1,0,0,0,0,0,0,0,0,0,0,24,6,0,0,0,0,0,0,0,0,0,0,0,0,0,0,0,0,0,0,0,0,0,0,0,0,0,0,0,0,0,0,0,0,0,0,0,0,25,7,0,0,1,0,0,0,1,0]
["City of Freeport","Freeport","IL","5R01-007","5R01-50412","City, County or Local Government Unit or Department of Transportation","Rural Reporter",0,12,2,0,0,0,0,0,0,0,0,0,0,0,13,2,0,0,4,0,0,0,0,0,0,0,0,0,0,0,0,0,0,0,0,0,0,0,0,0,0,0,0,0,0,0,0,0,0,0,0,0,19,2,0,0,0,0,0,0,0,0]
["Alma-Dial-A-Ride","Alma","MI","5R03-004","5R03-50492","City, County or Local Government Unit or Department of Transportation","Rural Reporter",0,12,0,0,0,0,0,0,0,0,0,0,5,0,9,5,0,0,0,0,0,0,0,0,0,0,0,0,0,0,0,0,0,0,0,0,0,0,0,0,0,0,0,0,0,0,0,0,0,0,0,0,14,5,0,0,1,1,0,0,1,1]
["Monroe County Public Transportation","Woodsfield","OH","5R05-063","5R05-50293","City, County or Local Government Unit or Department of Transportation","Rural Reporter",0,12,0,0,0,0,0,0,0,0,0,0,4,3,2,0,0,0,8,3,0,0,0,0,0,0,0,0,0,0,0,0,0,0,0,0,0,0,0,0,0,0,0,0,0,0,0,0,0,0,0,0,14,6,0,0,0,0,0,0,0,0]
["Black River Area Development","Pocahontas","AR","6R01-001","6R01-60250","Private-Non-Profit Corporation","Rural Reporter",0,12,0,0,0,0,0,0,0,0,0,0,0,0,14,9,0,0,0,0,0,0,0,0,0,0,0,0,0,0,0,0,0,0,0,0,0,0,0,0,0,0,0,0,0,0,0,0,0,0,0,0,14,9,0,0,0,0,0,0,0,0]
["City of Durango","Durango","CO","8R01-005","8R01-80206","City, County or Local Government Unit or Department of Transportation","Rural Reporter",0,12,0,0,0,0,0,0,0,0,0,0,0,0,12,0,0,0,0,0,0,0,0,0,0,0,0,0,0,0,0,0,0,0,0,0,0,0,0,0,0,0,0,0,0,0,0,0,0,0,0,0,12,0,1,0,2,0,0,0,3,0]
["City of Inglewood","Inglewood","CA",null,90268,"City, County or Local Government Unit or Department of Transportation","Reduced Reporter",12150996,12,1,0,0,0,0,0,0,0,0,0,0,0,9,7,10,0,0,0,0,0,0,0,0,0,0,0,0,0,0,0,0,0,0,0,0,0,0,0,0,0,0,0,0,0,0,0,0,0,0,0,20,7,0,0,0,0,0,0,0,0]
["Kalispel Tribe of Indians","Usk","WA","0T09",9,"Tribe","Reduced Reporter",0,11,1,0,0,0,0,0,0,0,0,0,4,1,4,0,4,4,0,0,1,1,0,0,0,0,0,0,0,0,0,0,0,0,0,0,0,0,0,0,0,0,0,0,0,0,0,0,0,0,0,0,14,6,0,0,0,0,0,0,0,0]
["City of Corvallis","Corvallis","OR",47,47,"City, County or Local Government Unit or Department of Transportation","Full Reporter",62433,11,19,3,0,0,0,0,0,0,0,0,0,0,0,0,0,0,0,0,0,0,0,0,0,0,0,0,0,0,0,0,0,0,0,0,0,0,0,0,0,0,0,0,0,0,0,0,0,0,0,0,19,3,1,1,0,0,0,0,1,1]
["Middletown Transit District","Middletown","CT",1063,10063,"Independent Public Agency or Authority of Transit Service","Reduced Reporter",924859,11,10,0,0,0,0,0,0,0,0,0,0,0,10,0,0,0,0,0,0,0,0,0,0,0,0,0,0,0,0,0,0,0,0,0,0,0,0,0,0,0,0,0,0,0,0,0,0,0,0,0,20,0,1,0,1,0,0,0,2,0]
["City of Hazleton, dba: Hazleton Public Transit","Hazleton","PA",3093,30093,"City, County or Local Government Unit or Department of Transportation","Reduced Reporter",56827,11,10,5,0,0,0,0,0,0,0,0,0,0,5,3,0,0,0,0,0,0,0,0,0,0,0,0,0,0,0,0,0,0,0,0,0,0,0,0,0,0,0,0,0,0,0,0,0,0,0,0,15,8,0,0,2,2,0,0,2,2]
["City of Ashland, dba: Ashland Bus System","Ashland","KY",4016,40016,"City, County or Local Government Unit or Department of Transportation","Reduced Reporter",202637,11,1,1,0,0,0,0,0,0,0,0,0,0,7,3,0,0,3,0,0,0,0,0,0,0,0,0,0,0,0,0,0,0,0,0,0,0,0,0,0,0,0,0,0,0,0,0,0,0,0,0,11,4,0,0,0,0,0,0,0,0]
["City of Greenville , dba: Greenville Area Transit","Greenville","NC",4095,40095,"City, County or Local Government Unit or Department of Transportation","Reduced Reporter",117798,11,13,4,0,0,0,0,0,0,0,0,5,0,0,0,0,0,0,0,0,0,0,0,0,0,0,0,0,0,0,0,0,0,0,0,0,0,0,0,0,0,0,0,0,0,0,0,0,0,0,0,18,4,1,0,1,0,0,0,2,0]
["City of Margate","Margate","FL",null,40256,"City, County or Local Government Unit or Department of Transportation","Reduced Reporter",5502379,11,0,0,0,0,0,0,0,0,0,0,1,0,12,0,0,0,0,0,0,0,0,0,0,0,0,0,0,0,0,0,0,0,0,0,0,0,0,0,0,0,0,0,0,0,0,0,0,0,0,0,13,0,0,0,0,0,0,0,0,0]
["Hinds County Human Resource Agency","Jackson","MS","4R05-005","4R05-40955","Private-Non-Profit Corporation","Rural Reporter",0,11,0,0,0,0,0,0,0,0,0,0,4,3,11,9,0,0,1,1,0,0,0,0,0,0,0,0,0,0,0,0,0,0,0,0,0,0,0,0,0,0,0,0,0,0,0,0,0,0,0,0,16,13,0,0,0,0,0,0,0,0]
["Duplin County","Kenansville","NC","4R06-014","4R06-40915","City, County or Local Government Unit or Department of Transportation","Rural Reporter",0,11,0,0,0,0,0,0,0,0,0,0,7,0,6,0,0,0,1,0,0,0,0,0,0,0,0,0,0,0,0,0,0,0,0,0,0,0,0,0,0,0,0,0,0,0,0,0,0,0,0,0,14,0,0,0,0,0,0,0,0,0]
["Fairfield County Transit System","Winnsboro","SC","4R07-005","4R07-41003","City, County or Local Government Unit or Department of Transportation","Rural Reporter",0,11,0,0,0,0,0,0,0,0,0,0,3,1,9,0,0,0,0,0,0,0,0,0,0,0,0,0,0,0,0,0,0,0,0,0,0,0,0,0,0,0,0,0,0,0,0,0,0,0,0,0,12,1,0,0,0,0,0,0,0,0]
["LaGrange County Council on Aging","LaGrange","IN","5R02-044","5R02-50305","Area Agency on Aging","Rural Reporter",0,11,0,0,0,0,0,0,0,0,0,0,0,0,7,2,2,2,9,3,0,0,0,0,0,0,0,0,0,0,0,0,0,0,0,0,0,0,0,0,0,0,0,0,0,0,0,0,0,0,0,0,18,7,0,0,0,0,0,0,0,0]
["SEMCAC","Rushford","MN","5R04-033","5R04-50428","Independent Public Agency or Authority of Transit Service","Rural Reporter",0,11,0,0,0,0,0,0,0,0,0,0,0,0,15,3,0,0,0,0,0,0,0,0,0,0,0,0,0,0,0,0,0,0,0,0,0,0,0,0,0,0,0,0,0,0,0,0,0,0,0,0,15,3,0,0,0,0,0,0,0,0]
["Assumption Parish Council on Aging","Napoleonville","LA","6R02-002","6R02-60207","Area Agency on Aging","Rural Reporter",0,11,1,1,0,0,0,0,0,0,0,0,3,3,4,1,0,0,3,1,0,0,0,0,0,0,0,0,0,0,0,0,0,0,0,0,0,0,0,0,0,0,0,0,0,0,0,0,0,0,0,0,11,6,0,0,0,0,0,0,0,0]
["Senior Citizen Industries, dba: Hall County Public Transportation","Grand Island","NE",7052,70052,"Private-Non-Profit Corporation","Reduced Reporter",50440,11,0,0,0,0,0,0,0,0,0,0,1,0,9,1,0,0,2,0,0,0,0,0,0,0,0,0,0,0,0,0,0,0,0,0,0,0,0,0,0,0,0,0,0,0,0,0,0,0,0,0,12,1,0,0,0,0,0,0,0,0]
["SERVE, Inc.","Fulton","MO","7R03-019","7R03-70263","Private-Non-Profit Corporation","Rural Reporter",0,11,0,0,0,0,0,0,0,0,0,0,1,1,11,1,0,0,1,0,0,0,0,0,0,0,0,0,0,0,0,0,0,0,0,0,0,0,0,0,0,0,0,0,0,0,0,0,0,0,0,0,13,2,0,0,0,0,0,0,0,0]
["Glen-wood, Inc. ","Plentywood","MT","8R02-025","8R02-80254","City, County or Local Government Unit or Department of Transportation","Rural Reporter",0,11,1,0,0,0,0,0,0,0,0,0,1,0,5,0,0,0,4,1,0,0,0,0,0,0,0,0,0,0,0,0,0,0,0,0,0,0,0,0,0,0,0,0,0,0,0,0,0,0,0,0,11,1,0,0,0,0,0,0,0,0]
["Calaveras County Department of Public Works, dba: Calaveras Transit","San Andreas","CA","9R02-007","9R02-91063","City, County or Local Government Unit or Department of Transportation","Rural Reporter",0,11,0,0,0,0,0,0,0,0,0,0,0,0,9,0,0,0,2,0,0,0,0,0,0,0,0,0,0,0,0,0,0,0,0,0,0,0,0,0,0,0,0,0,0,0,0,0,0,0,0,0,11,0,0,0,1,0,0,0,1,0]
["Nye County Senior Nutrition","Tonopah","NV","9R04-010","9R04-91029","City, County or Local Government Unit or Department of Transportation","Rural Reporter",0,11,0,0,0,0,0,0,0,0,0,0,0,0,6,2,1,1,4,3,0,0,0,0,0,0,0,0,0,0,0,0,0,0,0,0,0,0,0,0,0,0,0,0,0,0,0,0,0,0,0,0,11,6,0,0,0,0,0,0,0,0]
["Senior Services of Snohomish County","Mukilteo","WA","0R03-021","0R03-00033","City, County or Local Government Unit or Department of Transportation","Rural Reporter",0,10,0,0,0,0,0,0,0,0,0,0,0,0,9,1,0,0,1,1,0,0,0,0,0,0,0,0,0,0,0,0,0,0,0,0,0,0,0,0,0,0,0,0,0,0,0,0,0,0,0,0,10,2,0,0,0,0,0,0,0,0]
["Schoharie County Public Transportation","Cobleskill","NY","2R02-039","2R02-20926","City, County or Local Government Unit or Department of Transportation","Rural Reporter",0,10,3,0,0,0,1,0,0,0,0,0,0,0,12,0,0,0,0,0,0,0,0,0,0,0,0,0,0,0,0,0,0,0,0,0,0,0,0,0,0,0,0,0,0,0,0,0,0,0,0,0,16,0,0,0,0,0,0,0,0,0]
["Autauga County Commission, dba: Autauga County Rural Transportation","Prattville","AL",4213,40213,"City, County or Local Government Unit or Department of Transportation","Reduced Reporter",263907,10,0,0,0,0,0,0,0,0,0,0,0,0,12,5,0,0,0,0,0,0,0,0,0,0,0,0,0,0,0,0,0,0,0,0,0,0,0,0,0,0,0,0,0,0,0,0,0,0,0,0,12,5,0,0,0,0,0,0,0,0]
["Orange County , dba: Orange County Public Transportation","Hillsborough","NC",4231,40231,"City, County or Local Government Unit or Department of Transportation","Reduced Reporter",347602,10,0,0,0,0,0,0,0,0,0,0,1,1,18,0,0,0,0,0,0,0,0,0,0,0,0,0,0,0,0,0,0,0,0,0,0,0,0,0,0,0,0,0,0,0,0,0,0,0,0,0,19,1,0,0,0,0,0,0,0,0]
["Columbia County CommissionTransit","Evans","GA","4R03-018","4R03-41139","City, County or Local Government Unit or Department of Transportation","Rural Reporter",0,10,0,0,0,0,0,0,0,0,0,0,0,0,10,2,0,0,0,0,0,0,0,0,0,0,0,0,0,0,0,0,0,0,0,0,0,0,0,0,0,0,0,0,0,0,0,0,0,0,0,0,10,2,0,0,0,0,0,0,0,0]
["Detroit Transportation Corporation","Detroit","MI",5141,50141,"Independent Public Agency or Authority of Transit Service","Full Reporter",3734090,10,0,0,0,0,0,0,0,0,0,0,0,0,0,0,0,0,0,0,0,0,0,0,0,0,0,0,0,0,0,0,0,0,10,0,0,0,0,0,0,0,0,0,0,0,0,0,0,0,0,0,10,0,1,0,1,0,0,0,2,0]
["Jo Daviess County","Galena","IL","5R01-011","5R01-50364","City, County or Local Government Unit or Department of Transportation","Rural Reporter",0,10,0,0,0,0,0,0,0,0,0,0,0,0,17,10,0,0,4,3,0,0,0,0,0,0,0,0,0,0,0,0,0,0,0,0,0,0,0,0,0,0,0,0,0,0,0,0,0,0,0,0,21,13,0,0,0,0,0,0,0,0]
["Jersey County","Jerseyville","IL",null,"5R01-55316","City, County or Local Government Unit or Department of Transportation","Rural Reporter",0,10,0,0,0,0,0,0,0,0,0,0,0,0,11,1,0,0,4,0,0,0,0,0,0,0,0,0,0,0,0,0,0,0,0,0,0,0,0,0,0,0,0,0,0,0,0,0,0,0,0,0,15,1,0,0,0,0,0,0,0,0]
["Whitley County Transit","Columbia City","IN","5R02-039","5R02-50468","Private-Non-Profit Corporation","Rural Reporter",0,10,0,0,0,0,0,0,0,0,0,0,0,0,12,7,0,0,4,4,0,0,0,0,0,0,0,0,0,0,0,0,0,0,0,0,0,0,0,0,0,0,0,0,0,0,0,0,0,0,0,0,16,11,0,0,0,0,0,0,0,0]
["Champaign Transit System","Urbana","OH","5R05-046","5R05-50284","City, County or Local Government Unit or Department of Transportation","Rural Reporter",0,10,0,0,0,0,0,0,0,0,0,0,3,0,0,0,0,0,9,0,0,0,0,0,0,0,0,0,0,0,0,0,0,0,0,0,0,0,0,0,0,0,0,0,0,0,0,0,0,0,0,0,12,0,0,0,0,0,0,0,0,0]
["Comanche Nation, dba: Comanche Nation Transit","Lawton","OK","6T05",60005,"Tribe","Reduced Reporter",0,10,0,0,0,0,0,0,0,0,0,0,10,0,0,0,0,0,3,3,0,0,0,0,0,0,0,0,0,0,0,0,0,0,0,0,0,0,0,0,0,0,0,0,0,0,0,0,0,0,0,0,13,3,0,0,0,0,0,0,0,0]
["City of Alexandria","Alexandria","LA",6025,60025,"City, County or Local Government Unit or Department of Transportation","Reduced Reporter",82804,10,9,2,0,0,0,0,0,0,0,0,0,0,7,0,0,0,0,0,0,0,0,0,0,0,0,0,0,0,0,0,0,0,0,0,0,0,0,0,0,0,0,0,0,0,0,0,0,0,0,0,16,2,0,0,5,0,0,0,5,0]
["Washington Parish Council on Aging","Franklinton","LA","6R02-029","6R02-60168","Area Agency on Aging","Rural Reporter",0,10,0,0,0,0,0,0,0,0,0,0,2,2,7,1,0,0,1,0,0,0,0,0,0,0,0,0,0,0,0,0,0,0,0,0,0,0,0,0,0,0,0,0,0,0,0,0,0,0,0,0,10,3,0,0,0,0,0,0,0,0]
["City of St. George","St. George","UT",8026,80026,"City, County or Local Government Unit or Department of Transportation","Reduced Reporter",98370,10,11,2,0,0,0,0,0,0,0,0,0,0,2,0,0,0,4,1,0,0,0,0,0,0,0,0,0,0,0,0,0,0,0,0,0,0,0,0,0,0,0,0,0,0,0,0,0,0,0,0,17,3,1,0,1,0,0,0,2,0]
["City of Tulare, dba: Tulare Intermodal Express","Tulare","CA",9244,90244,"City, County or Local Government Unit or Department of Transportation","Full Reporter",219454,10,10,2,0,0,0,0,0,0,0,0,2,2,2,2,0,0,0,0,0,0,0,0,0,0,0,0,0,0,0,0,0,0,0,0,0,0,0,0,0,0,0,0,0,0,0,0,0,0,0,0,14,6,1,1,0,0,0,0,1,1]
["Los Angeles County Department of Public Works - Whittier","Alhambra","CA",null,90277,"City, County or Local Government Unit or Department of Transportation","Reduced Reporter",12150996,10,0,0,0,0,0,0,0,0,0,0,0,0,2,0,0,0,8,0,0,0,0,0,0,0,0,0,0,0,0,0,0,0,0,0,0,0,0,0,0,0,0,0,0,0,0,0,0,0,0,0,10,0,0,0,0,0,0,0,0,0]
["City of Bullhead, dba: Bullhead Area Transit System","Bullhead City","AZ","9R01-011","9R01-91037","City, County or Local Government Unit or Department of Transportation","Rural Reporter",0,10,0,0,0,0,0,0,0,0,0,0,0,0,8,0,0,0,4,1,0,0,0,0,0,0,0,0,0,0,0,0,0,0,0,0,0,0,0,0,0,0,0,0,0,0,0,0,0,0,0,0,12,1,0,0,1,0,0,0,1,0]
["Nevada County Transit Services","Nevada City","CA","9R02-012","9R02-91095","City, County or Local Government Unit or Department of Transportation","Rural Reporter",0,10,0,0,0,0,0,0,0,0,0,0,0,0,11,0,0,0,0,0,0,0,0,0,0,0,0,0,0,0,0,0,0,0,0,0,0,0,0,0,0,0,0,0,0,0,0,0,0,0,0,0,11,0,5,4,1,0,0,0,6,4]
["Orange County","Goshen","NY",2216,20216,"City, County or Local Government Unit or Department of Transportation","Reduced Reporter",423566,9,0,0,0,0,0,0,0,0,0,0,0,0,9,0,0,0,0,0,0,0,0,0,0,0,0,0,0,0,0,0,0,0,0,0,0,0,0,0,0,0,0,0,0,0,0,0,0,0,0,0,9,0,0,0,0,0,0,0,0,0]
["Mountain Transit Authority","Summersville","WV","3R05-017","3R05-30140","Independent Public Agency or Authority of Transit Service","Rural Reporter",0,9,3,0,0,0,0,0,0,0,0,0,2,0,9,7,0,0,2,0,0,0,0,0,0,0,0,0,0,0,0,0,0,0,0,0,0,0,0,0,0,0,0,0,0,0,0,0,0,0,0,0,16,7,1,0,1,1,0,0,2,1]
["Autonomous Municipality of Ponce","Ponce","PR",4234,40234,"City, County or Local Government Unit or Department of Transportation","Reduced Reporter",149539,9,7,0,0,0,0,0,0,0,0,0,2,0,0,0,0,0,0,0,0,0,0,0,0,0,0,0,0,0,0,0,0,0,0,0,0,0,0,0,0,0,0,0,0,0,0,0,0,0,0,0,9,0,2,0,0,0,0,0,2,0]
["Catoosa County","Ringgold","GA","4R03-091","4R03-41086","City, County or Local Government Unit or Department of Transportation","Rural Reporter",0,9,0,0,0,0,0,0,0,0,0,0,0,0,9,0,0,0,0,0,0,0,0,0,0,0,0,0,0,0,0,0,0,0,0,0,0,0,0,0,0,0,0,0,0,0,0,0,0,0,0,0,9,0,0,0,0,0,0,0,0,0]
["Yancey County Transportation Authority","Burnsville","NC","4R06-049","4R06-41143","City, County or Local Government Unit or Department of Transportation","Rural Reporter",0,9,0,0,0,0,0,0,0,0,0,0,9,2,0,0,0,0,2,1,1,0,0,0,0,0,0,0,0,0,0,0,0,0,0,0,0,0,0,0,0,0,0,0,0,0,0,0,0,0,0,0,12,3,0,0,0,0,0,0,0,0]
["Edgefield County Senior Citizens Council","Edgefield","SC","4R07-004","4R07-40988","City, County or Local Government Unit or Department of Transportation","Rural Reporter",0,9,0,0,0,0,0,0,0,0,0,0,0,0,16,0,0,0,0,0,0,0,0,0,0,0,0,0,0,0,0,0,0,0,0,0,0,0,0,0,0,0,0,0,0,0,0,0,0,0,0,0,16,0,0,0,0,0,0,0,0,0]
["Warren County","Monmouth","IL","5R01-037","5R01-50283","City, County or Local Government Unit or Department of Transportation","Rural Reporter",0,9,0,0,0,0,0,0,0,0,0,0,0,0,9,5,0,0,6,6,0,0,0,0,0,0,0,0,0,0,0,0,0,0,0,0,0,0,0,0,0,0,0,0,0,0,0,0,0,0,0,0,15,11,0,0,0,0,0,0,0,0]
["Brainerd, City of","Brainerd","MN","5R04-012","5R04-50322","Independent Public Agency or Authority of Transit Service","Rural Reporter",0,9,0,0,0,0,0,0,0,0,0,0,0,0,11,1,0,0,0,0,0,0,0,0,0,0,0,0,0,0,0,0,0,0,0,0,0,0,0,0,0,0,0,0,0,0,0,0,0,0,0,0,11,1,0,0,0,0,0,0,0,0]
["Athens Transit","Athens","OH","5R05-043","5R05-50278","Private-Non-Profit Corporation","Rural Reporter",0,9,3,3,0,0,0,0,0,0,0,0,2,0,9,0,0,0,0,0,0,0,0,0,0,0,0,0,0,0,0,0,0,0,0,0,0,0,0,0,0,0,0,0,0,0,0,0,0,0,0,0,14,3,0,0,1,1,0,0,1,1]
["City of Port Arthur ","Port Arthur","TX",6013,60013,"City, County or Local Government Unit or Department of Transportation","Reduced Reporter",153150,9,7,0,0,0,0,0,0,0,0,0,5,0,10,0,0,0,0,0,0,0,0,0,0,0,0,0,0,0,0,0,0,0,0,0,0,0,0,0,0,0,0,0,0,0,0,0,0,0,0,0,22,0,0,0,6,1,0,0,6,1]
["Grant County, dba: Corre Caminos Transit","Silver City","NM","6R03-037","6R03-60151","City, County or Local Government Unit or Department of Transportation","Rural Reporter",0,9,0,0,0,0,0,0,0,0,0,0,0,0,14,3,0,0,0,0,0,0,0,0,0,0,0,0,0,0,0,0,0,0,0,0,0,0,0,0,0,0,0,0,0,0,0,0,0,0,0,0,14,3,0,0,0,0,0,0,0,0]
["Burlington Urban Service","Burlington ","IA","7R01-017","7R01-70111","Independent Public Agency or Authority of Transit Service","Rural Reporter",0,9,8,2,0,0,0,0,0,0,0,0,0,0,7,5,0,0,0,0,0,0,0,0,0,0,0,0,0,0,0,0,0,0,0,0,0,0,0,0,0,0,0,0,0,0,0,0,0,0,0,0,15,7,0,0,0,0,0,0,0,0]
["City of Loveland, Colorado, dba: City of Loveland Transit","Loveland","CO",8025,80025,"City, County or Local Government Unit or Department of Transportation","Full Reporter",264465,9,3,0,0,0,0,0,0,0,0,0,0,0,6,2,6,0,14,0,0,0,0,0,0,0,0,0,0,0,0,0,0,0,0,0,0,0,0,0,0,0,0,0,0,0,0,0,0,0,0,0,29,2,1,1,0,0,0,0,1,1]
["Helena Area Transit Service","Helena","MT","8R02-002","8R02-80137","City, County or Local Government Unit or Department of Transportation","Rural Reporter",0,9,5,0,0,0,0,0,0,0,0,0,0,0,5,3,0,0,0,0,0,0,0,0,0,0,0,0,0,0,0,0,0,0,0,0,0,0,0,0,0,0,0,0,0,0,0,0,0,0,0,0,10,3,0,0,0,0,0,0,0,0]
["City of Mitchell - Palace Transit","Mitchell","SD","8R04-009","8R04-80116","City, County or Local Government Unit or Department of Transportation","Rural Reporter",0,9,5,3,0,0,0,0,0,0,0,0,0,0,10,4,0,0,2,2,0,0,0,0,0,0,0,0,0,0,0,0,0,0,0,0,0,0,0,0,0,0,0,0,0,0,0,0,0,0,0,0,17,9,0,0,1,1,0,0,1,1]
["San Luis Obispo Council of Governments","San Luis Obispo","CA",null,90297,"MPO, COG or Other Planning Agency","Reduced Reporter",59219,9,0,0,0,0,0,0,0,0,0,0,9,0,0,0,0,0,0,0,0,0,0,0,0,0,0,0,0,0,0,0,0,0,0,0,0,0,0,0,0,0,0,0,0,0,0,0,0,0,0,0,9,0,0,0,0,0,0,0,0,0]
["Pahrump Senior Center, Inc.","Pahrump","NV",null,"9R04-99430","Private-Non-Profit Corporation","Rural Reporter",0,9,0,0,0,0,0,0,0,0,0,0,4,4,4,4,0,0,3,1,0,0,0,0,0,0,0,0,0,0,0,0,0,0,0,0,0,0,0,0,0,0,0,0,0,0,0,0,0,0,0,0,11,9,0,0,0,0,0,0,0,0]
["Kenaitze Indian Tribe","Kenai","AK",null,419,"Tribe","Reduced Reporter",0,8,0,0,0,0,0,0,0,0,2,1,4,0,0,0,0,0,2,0,0,0,0,0,0,0,0,0,0,0,0,0,0,0,0,0,0,0,0,0,0,0,0,0,0,0,0,0,0,0,0,0,8,1,0,0,0,0,0,0,0,0]
["Malheur Council on Aging and Community Services","Ontario","OR","0R02-046","0R02-00323","Private-Non-Profit Corporation","Rural Reporter",0,8,2,0,0,0,0,0,0,0,0,0,0,0,9,3,1,0,6,4,0,0,0,0,0,0,0,0,0,0,0,0,0,0,0,0,0,0,0,0,0,0,0,0,0,0,0,0,0,0,0,0,18,7,0,0,0,0,0,0,0,0]
["Sunshine Transit Coalition","Talkeetna","AK",null,"0R04-00399","Private-Non-Profit Corporation","Rural Reporter",0,8,0,0,0,0,0,0,0,0,0,0,3,0,9,2,3,0,0,0,0,0,0,0,0,0,0,0,0,0,0,0,0,0,0,0,0,0,0,0,0,0,0,0,0,0,0,0,0,0,0,0,15,2,0,0,0,0,0,0,0,0]
["City of Long Beach","Long Beach","NY",2006,20006,"City, County or Local Government Unit or Department of Transportation","Full Reporter",18351295,8,9,1,0,0,0,0,0,0,0,0,0,0,3,3,0,0,1,1,0,0,0,0,0,0,0,0,0,0,0,0,0,0,0,0,0,0,0,0,0,0,0,0,0,0,0,0,0,0,0,0,13,5,1,1,0,0,0,0,1,1]
["BillyBey Ferry Company, LLC","New York","NY",2189,20189,"Private-For-Profit Corporation","Full Reporter",18351295,8,0,0,0,0,0,0,0,0,0,0,0,0,0,0,0,0,0,0,0,0,0,0,0,0,0,0,0,0,0,0,0,0,0,0,0,0,0,0,0,0,0,0,0,0,0,0,7,0,0,0,7,0,0,0,0,0,0,0,0,0]
["National Capital Region Transportation Planning Board","Washington","DC",3106,30106,"MPO, COG or Other Planning Agency","Reduced Reporter",4586770,8,0,0,0,0,0,0,0,0,0,0,7,0,0,0,0,0,0,0,0,0,0,0,0,0,0,0,0,0,0,0,0,0,0,0,0,0,0,0,0,0,0,0,0,0,0,0,0,0,0,0,7,0,0,0,0,0,0,0,0,0]
["Municipality of Lares","Lares","PR",4197,40197,"City, County or Local Government Unit or Department of Transportation","Reduced Reporter",306196,8,7,0,0,0,0,0,0,0,0,0,4,0,0,0,0,0,0,0,0,0,0,0,0,0,0,0,0,0,0,0,0,0,0,0,0,0,0,0,0,0,0,0,0,0,0,0,0,0,0,0,11,0,0,0,0,0,0,0,0,0]
["Dooly County Transit","Vienna","GA","4R03-123","4R03-41017","City, County or Local Government Unit or Department of Transportation","Rural Reporter",0,8,0,0,0,0,0,0,0,0,0,0,0,0,6,0,0,0,0,0,0,0,0,0,0,0,0,0,0,0,0,0,0,0,0,0,0,0,0,0,0,0,0,0,0,0,0,0,0,0,0,0,6,0,0,0,0,0,0,0,0,0]
["Troup County Transit","LaGrange","GA","4R03-048","4R03-41019","City, County or Local Government Unit or Department of Transportation","Rural Reporter",0,8,0,0,0,0,0,0,0,0,0,0,0,0,8,3,0,0,0,0,0,0,0,0,0,0,0,0,0,0,0,0,0,0,0,0,0,0,0,0,0,0,0,0,0,0,0,0,0,0,0,0,8,3,0,0,0,0,0,0,0,0]
["City of Michigan , dba: Michigan City Transit","Michigan City","IN",5098,50098,"City, County or Local Government Unit or Department of Transportation","Reduced Reporter",66025,8,0,0,0,0,0,0,0,0,0,0,0,0,12,1,0,0,0,0,0,0,0,0,0,0,0,0,0,0,0,0,0,0,0,0,0,0,0,0,0,0,0,0,0,0,0,0,0,0,0,0,12,1,1,1,0,0,0,0,1,1]
["Champaign County","Urbana","IL","5R01-032","5R01-50269","City, County or Local Government Unit or Department of Transportation","Rural Reporter",0,8,0,0,0,0,0,0,0,0,0,0,0,0,11,0,0,0,1,0,0,0,0,0,0,0,0,0,0,0,0,0,0,0,0,0,0,0,0,0,0,0,0,0,0,0,0,0,0,0,0,0,12,0,0,0,0,0,0,0,0,0]
["Union County Transit","LIBERTY","IN","5R02-038","5R02-50387","Private-Non-Profit Corporation","Rural Reporter",0,8,0,0,0,0,0,0,0,0,0,0,0,0,10,4,0,0,2,1,0,0,0,0,0,0,0,0,0,0,0,0,0,0,0,0,0,0,0,0,0,0,0,0,0,0,0,0,0,0,0,0,12,5,0,0,0,0,0,0,0,0]
["Wells County Council on Aging","Bluffton","IN","5R02-029","5R02-50403","Private-Non-Profit Corporation","Rural Reporter",0,8,0,0,0,0,0,0,0,0,0,0,0,0,6,6,0,0,7,1,0,0,0,0,0,0,0,0,0,0,0,0,0,0,0,0,0,0,0,0,0,0,0,0,0,0,0,0,0,0,0,0,13,7,0,0,0,0,0,0,0,0]
["Huron County Transit","Norwalk","OH","5R05-056","5R05-50362","Private-Non-Profit Corporation","Rural Reporter",0,8,0,0,0,0,0,0,0,0,0,0,2,0,6,0,0,0,2,0,0,0,0,0,0,0,0,0,0,0,0,0,0,0,0,0,0,0,0,0,0,0,0,0,0,0,0,0,0,0,0,0,10,0,0,0,0,0,0,0,0,0]
["Logan Transit System","Logan","OH","5R05-059","5R05-50438","Private-Non-Profit Corporation","Rural Reporter",0,8,0,0,0,0,0,0,0,0,0,0,0,0,3,0,0,0,7,0,0,0,0,0,0,0,0,0,0,0,0,0,0,0,0,0,0,0,0,0,0,0,0,0,0,0,0,0,0,0,0,0,10,0,0,0,0,0,0,0,0,0]
["City of Grand Prairie , dba: Grand Connection","Grand Prairie","TX",6068,60068,"City, County or Local Government Unit or Department of Transportation","Reduced Reporter",5121892,8,0,0,0,0,0,0,0,0,0,0,0,0,11,5,0,0,0,0,0,0,0,0,0,0,0,0,0,0,0,0,0,0,0,0,0,0,0,0,0,0,0,0,0,0,0,0,0,0,0,0,11,5,0,0,1,0,0,0,1,0]
["City of Longview, dba: City of Longview Transit","Longview","TX",6081,60081,"City, County or Local Government Unit or Department of Transportation","Reduced Reporter",98884,8,8,0,0,0,0,0,0,0,0,0,1,0,1,0,0,0,3,1,0,0,0,0,0,0,0,0,0,0,0,0,0,0,0,0,0,0,0,0,0,0,0,0,0,0,0,0,0,0,0,0,13,1,2,1,4,2,0,0,6,3]
["St. Landry Parish Community Action Agency","Opelousas","LA","6R02-021","6R02-60231","City, County or Local Government Unit or Department of Transportation","Rural Reporter",0,8,1,0,0,0,0,0,0,0,0,0,1,1,5,2,0,0,1,1,0,0,0,0,0,0,0,0,0,0,0,0,0,0,0,0,0,0,0,0,0,0,0,0,0,0,0,0,0,0,0,0,8,4,0,0,0,0,0,0,0,0]
["Madison Voluntary Council on Aging","Tallulah","LA",null,"6R02-66268","Area Agency on Aging","Rural Reporter",0,8,0,0,0,0,0,0,0,0,0,0,0,0,2,1,1,1,5,0,0,0,0,0,0,0,0,0,0,0,0,0,0,0,0,0,0,0,0,0,0,0,0,0,0,0,0,0,0,0,0,0,8,2,0,0,0,0,0,0,0,0]
["Fort Peck Tribes ","Poplar ","MT","8T18",80018,"Tribe","Reduced Reporter",0,8,2,0,0,0,0,0,0,0,0,0,2,0,5,4,0,0,0,0,0,0,0,0,0,0,0,0,0,0,0,0,0,0,0,0,0,0,0,0,0,0,0,0,0,0,0,0,0,0,0,0,9,4,0,0,0,0,0,0,0,0]
["Rosebud Sioux Tribe","Rosebud ","SD","8T09",88182,"Tribe","Reduced Reporter",0,8,1,1,0,0,0,0,0,0,0,0,2,0,1,1,1,0,4,0,3,0,0,0,0,0,0,0,0,0,0,0,0,0,0,0,0,0,0,0,0,0,0,0,0,0,0,0,0,0,0,0,12,2,0,0,0,0,0,0,0,0]
["City of West Covina","West Covina","CA",null,90293,"City, County or Local Government Unit or Department of Transportation","Reduced Reporter",12150996,8,0,0,0,0,0,0,0,0,0,0,0,0,11,0,0,0,0,0,0,0,0,0,0,0,0,0,0,0,0,0,0,0,0,0,0,0,0,0,0,0,0,0,0,0,0,0,0,0,0,0,11,0,0,0,0,0,0,0,0,0]
["Plumas County Transportation Commission","Quincy","CA","9R02-005","9R02-91119","City, County or Local Government Unit or Department of Transportation","Rural Reporter",0,8,2,0,0,0,0,0,0,0,0,0,0,0,6,4,0,0,0,0,0,0,0,0,0,0,0,0,0,0,0,0,0,0,0,0,0,0,0,0,0,0,0,0,0,0,0,0,0,0,0,0,8,4,0,0,0,0,0,0,0,0]
["Wahkiakum County Health & Human Services","Cathlamet","WA","0R03-056","0R03-00371","Independent Public Agency or Authority of Transit Service","Rural Reporter",0,7,0,0,0,0,0,0,0,0,0,0,1,1,4,1,0,0,3,2,0,0,0,0,0,0,0,0,0,0,0,0,0,0,0,0,0,0,0,0,0,0,0,0,0,0,0,0,0,0,0,0,8,4,0,0,0,0,0,0,0,0]
["City of South Portland, dba: South Portland Bus Service","South Portland","ME",1112,10112,"City, County or Local Government Unit or Department of Transportation","Reduced Reporter",203914,7,7,0,0,0,0,0,0,0,0,0,0,0,0,0,0,0,0,0,0,0,0,0,0,0,0,0,0,0,0,0,0,0,0,0,0,0,0,0,0,0,0,0,0,0,0,0,0,0,0,0,7,0,1,0,1,0,0,0,2,0]
["Orleans Transit Service","Albion","NY","2R02-034","2R02-20934","Independent Public Agency or Authority of Transit Service","Rural Reporter",0,7,0,0,0,0,0,0,0,0,0,0,0,0,7,1,0,0,0,0,0,0,0,0,0,0,0,0,0,0,0,0,0,0,0,0,0,0,0,0,0,0,0,0,0,0,0,0,0,0,0,0,7,1,0,0,0,0,0,0,0,0]
["Blackstone Area Bus Service","Blackstone","VA","3R06-016","3R06-30184","City, County or Local Government Unit or Department of Transportation","Rural Reporter",0,7,0,0,0,0,0,0,0,0,0,0,0,0,13,0,0,0,0,0,0,0,0,0,0,0,0,0,0,0,0,0,0,0,0,0,0,0,0,0,0,0,0,0,0,0,0,0,0,0,0,0,13,0,3,2,0,0,0,0,3,2]
["Municipality of Juncos","Juncos","PR",4165,40165,"City, County or Local Government Unit or Department of Transportation","Reduced Reporter",2148346,7,5,1,0,0,0,0,0,0,0,0,1,0,4,1,0,0,0,0,0,0,0,0,0,0,0,0,0,0,0,0,0,0,0,0,0,0,0,0,0,0,0,0,0,0,0,0,0,0,0,0,10,2,0,0,0,0,0,0,0,0]
["City of Murfreesboro","Murfreesboro","TN",4186,40186,"City, County or Local Government Unit or Department of Transportation","Reduced Reporter",133228,7,0,0,0,0,0,0,0,0,0,0,0,0,9,0,0,0,0,0,0,0,0,0,0,0,0,0,0,0,0,0,0,0,0,0,0,0,0,0,0,0,0,0,0,0,0,0,0,0,0,0,9,0,3,3,0,0,0,0,3,3]
["City of Lauderhill","Lauderhill","FL",null,40254,"City, County or Local Government Unit or Department of Transportation","Reduced Reporter",5502379,7,0,0,0,0,0,0,0,0,0,0,0,0,7,0,0,0,0,0,0,0,0,0,0,0,0,0,0,0,0,0,0,0,0,0,0,0,0,0,0,0,0,0,0,0,0,0,0,0,0,0,7,0,0,0,0,0,0,0,0,0]
["Paulding County","Dallas","GA","4R03-086","4R03-41190","City, County or Local Government Unit or Department of Transportation","Rural Reporter",0,7,0,0,0,0,0,0,0,0,0,0,0,0,4,0,0,0,0,0,0,0,0,0,0,0,0,0,0,0,0,0,0,0,0,0,0,0,0,0,0,0,0,0,0,0,0,0,0,0,0,0,4,0,0,0,0,0,0,0,0,0]
["Madison County Transportation Authority","Marshall","NC","4R06-028","4R06-40976","City, County or Local Government Unit or Department of Transportation","Rural Reporter",0,7,0,0,0,0,0,0,0,0,0,0,11,8,0,0,0,0,1,0,0,0,0,0,0,0,0,0,0,0,0,0,0,0,0,0,0,0,0,0,0,0,0,0,0,0,0,0,0,0,0,0,12,8,0,0,0,0,0,0,0,0]
["City of Maple Grove","Maple Grove","MN",5220,50517,"City, County or Local Government Unit or Department of Transportation","Full Reporter",2650890,7,8,0,11,0,20,0,0,0,0,0,0,0,9,0,0,0,0,0,0,0,0,0,0,0,0,0,0,0,0,0,0,0,0,0,0,0,0,0,0,0,0,0,0,0,0,0,0,0,0,0,48,0,0,0,1,0,0,0,1,0]
["Bowling Green Transit","Bowling Green","OH","5R05-044","5R05-50292","City, County or Local Government Unit or Department of Transportation","Rural Reporter",0,7,0,0,0,0,0,0,0,0,0,0,0,0,0,0,0,0,7,0,0,0,0,0,0,0,0,0,0,0,0,0,0,0,0,0,0,0,0,0,0,0,0,0,0,0,0,0,0,0,0,0,7,0,0,0,0,0,0,0,0,0]
["Citizen Potawatomi Nation","Shawnee","OK","6T04",60004,"Tribe","Reduced Reporter",0,7,0,0,0,0,0,0,0,0,0,0,5,0,1,0,0,0,2,0,0,0,0,0,0,0,0,0,0,0,0,0,0,0,0,0,0,0,0,0,0,0,0,0,0,0,0,0,0,0,0,0,8,0,0,0,0,0,0,0,0,0]
["City of DeRidder/Beauregard Transit","Leesville","LA","6R02-035","6R02-60164","City, County or Local Government Unit or Department of Transportation","Rural Reporter",0,7,0,0,0,0,0,0,0,0,0,0,2,1,1,1,0,0,4,0,0,0,0,0,0,0,0,0,0,0,0,0,0,0,0,0,0,0,0,0,0,0,0,0,0,0,0,0,0,0,0,0,7,2,0,0,0,0,0,0,0,0]
["City of Bettendorf, dba: Bettendorf Transit System","Bettendorf","IA",7007,70007,"City, County or Local Government Unit or Department of Transportation","Reduced Reporter",280051,7,4,0,0,0,0,0,0,0,0,0,0,0,5,0,0,0,0,0,0,0,0,0,0,0,0,0,0,0,0,0,0,0,0,0,0,0,0,0,0,0,0,0,0,0,0,0,0,0,0,0,9,0,0,0,0,0,0,0,0,0]
["Twin Rivers Developmental Supports, Inc.","Arkansas City","KS","7R02-072","7R02-70187","Private-Non-Profit Corporation","Rural Reporter",0,7,0,0,0,0,0,0,0,0,0,0,0,0,6,3,0,0,3,0,0,0,0,0,0,0,0,0,0,0,0,0,0,0,0,0,0,0,0,0,0,0,0,0,0,0,0,0,0,0,0,0,9,3,0,0,0,0,0,0,0,0]
["Cheyenne River Sioux Tribe","Eagle Butte","SD","8T02",88158,"Tribe","Reduced Reporter",0,7,0,0,0,0,0,0,0,0,0,0,8,4,1,1,0,0,4,1,0,0,0,0,0,0,0,0,0,0,0,0,0,0,0,0,0,0,0,0,0,0,0,0,0,0,0,0,0,0,0,0,13,6,0,0,0,0,0,0,0,0]
["Town of Telluride","Telluride","CO",null,"8R01-88226","City, County or Local Government Unit or Department of Transportation","Rural Reporter",0,7,1,0,0,0,0,0,0,0,0,0,2,0,5,0,0,0,0,0,0,0,0,0,0,0,0,0,0,0,0,0,0,0,0,0,0,0,0,0,0,0,0,0,0,0,0,0,0,0,0,0,8,0,0,0,1,1,0,0,1,1]
["Basin Transit Association ","Roosevelt","UT","8R06-005","8R06-80260","City, County or Local Government Unit or Department of Transportation","Rural Reporter",0,7,1,0,0,0,0,0,0,0,0,0,0,0,12,2,0,0,3,3,1,0,0,0,0,0,0,0,0,0,0,0,0,0,0,0,0,0,0,0,0,0,0,0,0,0,0,0,0,0,0,0,17,5,0,0,0,0,0,0,0,0]
["City of Bell","Bell","CA",null,90252,"City, County or Local Government Unit or Department of Transportation","Reduced Reporter",12150996,7,0,0,0,0,0,0,0,0,0,0,0,0,2,0,20,0,0,0,0,0,0,0,0,0,0,0,0,0,0,0,0,0,0,0,0,0,0,0,0,0,0,0,0,0,0,0,0,0,0,0,22,0,0,0,0,0,0,0,0,0]
["American Samoa Government Dept. of Public Works","Pago Pago","AS",null,"9R06-99434","State Government Unit or Department of Transportation","Rural Reporter",0,7,4,0,0,0,0,0,0,0,0,0,4,0,0,0,0,0,0,0,0,0,0,0,0,0,0,0,0,0,0,0,0,0,0,0,0,0,0,0,0,0,0,0,0,0,0,0,0,0,0,0,8,0,0,0,0,0,0,0,0,0]
["Town of Monroe , dba: Monroe Dial A Bus","Monroe","NY",2183,20183,"City, County or Local Government Unit or Department of Transportation","Reduced Reporter",423566,6,0,0,0,0,0,0,0,0,0,0,0,0,7,6,0,0,0,0,0,0,0,0,0,0,0,0,0,0,0,0,0,0,0,0,0,0,0,0,0,0,0,0,0,0,0,0,0,0,0,0,7,6,0,0,0,0,0,0,0,0]
["City of Corning","Corning","NY","2R02-019","2R02-20941","City, County or Local Government Unit or Department of Transportation","Rural Reporter",0,6,0,0,0,0,0,0,0,0,0,0,0,0,8,0,0,0,0,0,0,0,0,0,0,0,0,0,0,0,0,0,0,0,0,0,0,0,0,0,0,0,0,0,0,0,0,0,0,0,0,0,8,0,0,0,0,0,0,0,0,0]
["Municipality of Hormigueros","Hormigueros","PR",4121,40121,"City, County or Local Government Unit or Department of Transportation","Reduced Reporter",109572,6,0,0,0,0,0,0,0,0,0,0,0,0,5,2,0,0,0,0,0,0,0,0,0,0,0,0,0,0,0,0,0,0,0,0,0,0,0,0,0,0,0,0,0,0,0,0,0,0,0,0,5,2,0,0,2,2,0,0,2,2]
["Etowah County Commission","Gadsden","AL","4R01-013","4R01-40960","City, County or Local Government Unit or Department of Transportation","Rural Reporter",0,6,0,0,0,0,0,0,0,0,0,0,8,0,0,0,0,0,2,0,0,0,0,0,0,0,0,0,0,0,0,0,0,0,0,0,0,0,0,0,0,0,0,0,0,0,0,0,0,0,0,0,10,0,0,0,0,0,0,0,0,0]
["Forsyth County Public Transportation","Cumming","GA","4R03-005","4R03-41088","City, County or Local Government Unit or Department of Transportation","Rural Reporter",0,6,0,0,0,0,0,0,0,0,0,0,0,0,6,0,0,0,0,0,0,0,0,0,0,0,0,0,0,0,0,0,0,0,0,0,0,0,0,0,0,0,0,0,0,0,0,0,0,0,0,0,6,0,0,0,0,0,0,0,0,0]
["Coweta County","Newnan","GA","4R03-115","4R03-41133","City, County or Local Government Unit or Department of Transportation","Rural Reporter",0,6,0,0,0,0,0,0,0,0,0,0,0,0,6,0,0,0,0,0,0,0,0,0,0,0,0,0,0,0,0,0,0,0,0,0,0,0,0,0,0,0,0,0,0,0,0,0,0,0,0,0,6,0,0,0,0,0,0,0,0,0]
["Municipality of Coamo","Coamo","PR",null,"4R09-44942","City, County or Local Government Unit or Department of Transportation","Rural Reporter",0,6,6,0,0,0,0,0,0,0,0,0,0,0,0,0,0,0,0,0,0,0,0,0,0,0,0,0,0,0,0,0,0,0,0,0,0,0,0,0,0,0,0,0,0,0,0,0,0,0,0,0,6,0,0,0,0,0,0,0,0,0]
["City of Marion","Marion","IN","5R02-027","5R02-50485","City, County or Local Government Unit or Department of Transportation","Rural Reporter",0,6,0,0,0,0,0,0,0,0,0,0,0,0,12,4,0,0,0,0,0,0,0,0,0,0,0,0,0,0,0,0,0,0,0,0,0,0,0,0,0,0,0,0,0,0,0,0,0,0,0,0,12,4,0,0,0,0,0,0,0,0]
["Interurban Transit Authority","Douglas","MI","5R03-038","5R03-50495","Independent Public Agency or Authority of Transit Service","Rural Reporter",0,6,0,0,0,0,0,0,0,0,0,0,0,0,7,1,0,0,0,0,0,0,0,0,0,0,0,0,0,0,0,0,0,0,0,0,0,0,0,0,0,0,0,0,0,0,0,0,0,0,0,0,7,1,0,0,1,1,0,0,1,1]
["Minnesota River Valley Transit","St Peter","MN",null,"5R04-55325","Independent Public Agency or Authority of Transit Service","Rural Reporter",0,6,0,0,0,0,0,0,0,0,0,0,0,0,11,4,0,0,0,0,0,0,0,0,0,0,0,0,0,0,0,0,0,0,0,0,0,0,0,0,0,0,0,0,0,0,0,0,0,0,0,0,11,4,0,0,0,0,0,0,0,0]
["Plaquemines Parish Government","Belle Chasse","LA",6127,60127,"City, County or Local Government Unit or Department of Transportation","Full Reporter",899703,6,0,0,0,0,0,0,0,0,0,0,0,0,4,2,0,0,2,2,0,0,0,0,0,0,0,0,0,0,0,0,0,0,0,0,0,0,0,0,0,0,0,0,0,0,0,0,3,0,0,0,9,4,0,0,5,0,0,0,5,0]
["Pueblo of Santa Ana","Santa Ana Pueblo","NM","6T11",66152,"Tribe","Reduced Reporter",0,6,1,0,0,0,0,0,0,0,0,0,1,0,4,1,0,0,0,0,0,0,0,0,0,0,0,0,0,0,0,0,0,0,0,0,0,0,0,0,0,0,0,0,0,0,0,0,0,0,0,0,6,1,0,0,0,0,0,0,0,0]
["St Martin Council on Aging","Breaux Bridge","LA","6R02-022","6R02-60195","Area Agency on Aging","Rural Reporter",0,6,0,0,0,0,0,0,0,0,0,0,1,1,5,2,0,0,0,0,0,0,0,0,0,0,0,0,0,0,0,0,0,0,0,0,0,0,0,0,0,0,0,0,0,0,0,0,0,0,0,0,6,3,0,0,0,0,0,0,0,0]
["Vermilion Council on Aging","Abbeville","LA","6R02-027","6R02-60211","Area Agency on Aging","Rural Reporter",0,6,0,0,0,0,0,0,0,0,0,0,0,0,6,5,0,0,0,0,0,0,0,0,0,0,0,0,0,0,0,0,0,0,0,0,0,0,0,0,0,0,0,0,0,0,0,0,0,0,0,0,6,5,0,0,0,0,0,0,0,0]
["City of Hobbs","Hobbs","NM","6R03-005","6R03-60190","City, County or Local Government Unit or Department of Transportation","Rural Reporter",0,6,0,0,0,0,0,0,0,0,0,0,0,0,14,3,0,0,0,0,0,0,0,0,0,0,0,0,0,0,0,0,0,0,0,0,0,0,0,0,0,0,0,0,0,0,0,0,0,0,0,0,14,3,0,0,0,0,0,0,0,0]
["Southeast Missouri State University","Cape Girardeau","MO",7050,70050,"University","Reduced Reporter",52900,6,0,0,0,0,0,0,0,0,0,0,0,0,6,1,0,0,0,0,0,0,0,0,0,0,0,0,0,0,0,0,0,0,0,0,0,0,0,0,0,0,0,0,0,0,0,0,0,0,0,0,6,1,0,0,0,0,0,0,0,0]
["Neighbor to Neighbor Volunteers, dba: The Chaffee Shuttle","Salida","CO","8R01-035","8R01-80237","Private-Non-Profit Corporation","Rural Reporter",0,6,0,0,0,0,0,0,0,0,0,0,0,0,7,1,0,0,2,1,0,0,0,0,0,0,0,0,0,0,0,0,0,0,0,0,0,0,0,0,0,0,0,0,0,0,0,0,0,0,0,0,9,2,0,0,0,0,0,0,0,0]
["City of Cripple Creek","Cripple Creek","CO","8R01-058","8R01-80275","City, County or Local Government Unit or Department of Transportation","Rural Reporter",0,6,2,0,0,0,0,0,0,0,0,0,0,0,5,0,0,0,0,0,0,0,0,0,0,0,0,0,0,0,0,0,0,0,0,0,0,0,0,0,0,0,0,0,0,0,0,0,0,0,0,0,7,0,1,0,1,0,0,0,2,0]
["Urban Transportation District of Dawson County","Glendive","MT","8R02-009","8R02-80166","City, County or Local Government Unit or Department of Transportation","Rural Reporter",0,6,1,0,0,0,0,0,0,0,0,0,0,0,5,4,0,0,0,0,0,0,0,0,0,0,0,0,0,0,0,0,0,0,0,0,0,0,0,0,0,0,0,0,0,0,0,0,0,0,0,0,6,4,0,0,0,0,0,0,0,0]
["City of Azusa","Azusa","CA",null,90250,"City, County or Local Government Unit or Department of Transportation","Reduced Reporter",12150996,6,0,0,0,0,0,0,0,0,0,0,4,4,2,0,0,0,0,0,0,0,0,0,0,0,0,0,0,0,0,0,0,0,0,0,0,0,0,0,0,0,0,0,0,0,0,0,0,0,0,0,6,4,0,0,0,0,0,0,0,0]
["Madera County","Madera","CA","9R02-062","9R02-91005","City, County or Local Government Unit or Department of Transportation","Rural Reporter",0,6,0,0,0,0,0,0,0,0,0,0,2,1,6,2,0,0,0,0,0,0,0,0,0,0,0,0,0,0,0,0,0,0,0,0,0,0,0,0,0,0,0,0,0,0,0,0,0,0,0,0,8,3,0,0,0,0,0,0,0,0]
["City of Arvin","Arvin","CA","9R02-056","9R02-91027","City, County or Local Government Unit or Department of Transportation","Rural Reporter",0,6,0,0,0,0,0,0,0,0,0,0,0,0,6,4,0,0,0,0,0,0,0,0,0,0,0,0,0,0,0,0,0,0,0,0,0,0,0,0,0,0,0,0,0,0,0,0,0,0,0,0,6,4,1,0,0,0,0,0,1,0]
["Snoqualmie Indian Tribe","Snoqualmie","WA","0T15",15,"Tribe","Reduced Reporter",0,5,0,0,0,0,0,0,0,0,0,0,0,0,0,0,5,0,1,0,0,0,0,0,0,0,0,0,0,0,0,0,0,0,0,0,0,0,0,0,0,0,0,0,0,0,0,0,0,0,0,0,6,0,0,0,0,0,0,0,0,0]
["City of Lebanon","Lebanon","OR","0R02-024","0R02-00377","City, County or Local Government Unit or Department of Transportation","Rural Reporter",0,5,0,0,0,0,0,0,0,0,0,0,1,1,4,1,0,0,0,0,0,0,0,0,0,0,0,0,0,0,0,0,0,0,0,0,0,0,0,0,0,0,0,0,0,0,0,0,0,0,0,0,5,2,0,0,0,0,0,0,0,0]
["County of Cumberland","Bridgeton","NJ",2201,20201,"City, County or Local Government Unit or Department of Transportation","Reduced Reporter",5441567,5,0,0,0,0,0,0,0,0,0,0,2,1,9,0,0,0,0,0,0,0,0,0,0,0,0,0,0,0,0,0,0,0,0,0,0,0,0,0,0,0,0,0,0,0,0,0,0,0,0,0,11,1,0,0,0,0,0,0,0,0]
["Town of Warwick , dba: Warwick Dial A Bus","Warwick","NY",2214,20214,"City, County or Local Government Unit or Department of Transportation","Reduced Reporter",423566,5,0,0,0,0,0,0,0,0,0,0,0,0,8,4,0,0,0,0,0,0,0,0,0,0,0,0,0,0,0,0,0,0,0,0,0,0,0,0,0,0,0,0,0,0,0,0,0,0,0,0,8,4,0,0,0,0,0,0,0,0]
["Municipality of Hatillo","Hatillo","PR",4151,40151,"City, County or Local Government Unit or Department of Transportation","Reduced Reporter",139171,5,0,0,0,0,0,0,0,0,2,2,1,1,2,0,0,0,0,0,0,0,0,0,0,0,0,0,0,0,0,0,0,0,0,0,0,0,0,0,0,0,0,0,0,0,0,0,0,0,0,0,5,3,0,0,0,0,0,0,0,0]
["Birmingham Regional Paratransit Consortium","Birmingham","AL","4R01-017","4R01-41118","Private-Non-Profit Corporation","Rural Reporter",0,5,1,0,0,0,0,0,0,0,0,0,5,0,0,0,0,0,0,0,0,0,0,0,0,0,0,0,0,0,0,0,0,0,0,0,0,0,0,0,0,0,0,0,0,0,0,0,0,0,0,0,6,0,0,0,0,0,0,0,0,0]
["Ware County","Waycross","GA","4R03-099","4R03-40906","City, County or Local Government Unit or Department of Transportation","Rural Reporter",0,5,0,0,0,0,0,0,0,0,0,0,0,0,5,0,0,0,0,0,0,0,0,0,0,0,0,0,0,0,0,0,0,0,0,0,0,0,0,0,0,0,0,0,0,0,0,0,0,0,0,0,5,0,0,0,0,0,0,0,0,0]
["Haralson County Transit","Buchanan","GA","4R03-084","4R03-41085","City, County or Local Government Unit or Department of Transportation","Rural Reporter",0,5,0,0,0,0,0,0,0,0,0,0,0,0,4,0,0,0,1,1,0,0,0,0,0,0,0,0,0,0,0,0,0,0,0,0,0,0,0,0,0,0,0,0,0,0,0,0,0,0,0,0,5,1,0,0,0,0,0,0,0,0]
["Transylvania County","Brevard","NC","4R06-047","4R06-41115","City, County or Local Government Unit or Department of Transportation","Rural Reporter",0,5,0,0,0,0,0,0,0,0,0,0,4,2,3,1,4,0,0,0,0,0,0,0,0,0,0,0,0,0,0,0,0,0,0,0,0,0,0,0,0,0,0,0,0,0,0,0,0,0,0,0,11,3,0,0,0,0,0,0,0,0]
["M-1 Rail, dba: QLINE Detroit","Detroit","MI",5213,50213,"Private-Non-Profit Corporation","Full Reporter",3734090,5,0,0,0,0,0,0,0,0,0,0,0,0,0,0,0,0,0,0,0,0,0,0,0,0,0,0,0,0,0,0,0,0,0,0,0,0,6,0,0,0,0,0,0,0,0,0,0,0,0,0,6,0,0,0,0,0,0,0,0,0]
["Marshall County","Lacon","IL",null,"5R01-55313","City, County or Local Government Unit or Department of Transportation","Rural Reporter",0,5,0,0,0,0,0,0,0,0,0,0,0,0,2,0,0,0,7,1,0,0,0,0,0,0,0,0,0,0,0,0,0,0,0,0,0,0,0,0,0,0,0,0,0,0,0,0,0,0,0,0,9,1,0,0,0,0,0,0,0,0]
["Transit Authority of Stone City","BEDFORD","IN","5R02-001","5R02-50407","City, County or Local Government Unit or Department of Transportation","Rural Reporter",0,5,0,0,0,0,0,0,0,0,0,0,0,0,7,1,1,0,0,0,0,0,0,0,0,0,0,0,0,0,0,0,0,0,0,0,0,0,0,0,0,0,0,0,0,0,0,0,0,0,0,0,8,1,0,0,0,0,0,0,0,0]
["Pioneer Resources - Muskegon","Muskegon","MI",null,"5R03-55323","Private-Non-Profit Corporation","Rural Reporter",0,5,38,0,0,0,0,0,0,0,0,0,5,0,13,0,0,0,0,0,6,0,0,0,0,0,0,0,0,0,0,0,0,0,0,0,0,0,0,0,0,0,0,0,0,0,0,0,0,0,0,0,62,0,0,0,1,0,0,0,1,0]
["City of Baraboo","Baraboo","WI","5R06-009","5R06-50318","City, County or Local Government Unit or Department of Transportation","Rural Reporter",0,5,0,0,0,0,0,0,0,0,0,0,0,0,0,0,0,0,6,3,0,0,0,0,0,0,0,0,0,0,0,0,0,0,0,0,0,0,0,0,0,0,0,0,0,0,0,0,0,0,0,0,6,3,0,0,0,0,0,0,0,0]
["Seminole Nation Public Transit","Wewoka","OK","6T12",66158,"Tribe","Reduced Reporter",0,5,0,0,0,0,0,0,0,0,0,0,0,0,3,0,0,0,4,0,0,0,0,0,0,0,0,0,0,0,0,0,0,0,0,0,0,0,0,0,0,0,0,0,0,0,0,0,0,0,0,0,7,0,0,0,0,0,0,0,0,0]
["Friends of Elder Citizens-Jackson and Matagorda","Palacios","TX",null,"6R05-66278","Subsidiary Unit of a Transit Agency, Reporting Separately","Rural Reporter",0,5,0,0,0,0,0,0,0,0,0,0,2,1,6,1,1,1,2,2,0,0,0,0,0,0,0,0,0,0,0,0,0,0,0,0,0,0,0,0,0,0,0,0,0,0,0,0,0,0,0,0,11,5,0,0,0,0,0,0,0,0]
["McPherson County Council on Aging","McPherson","KS","7R02-029","7R02-70179","Private-Non-Profit Corporation","Rural Reporter",0,5,0,0,0,0,0,0,0,0,0,0,0,0,4,2,0,0,1,1,0,0,0,0,0,0,0,0,0,0,0,0,0,0,0,0,0,0,0,0,0,0,0,0,0,0,0,0,0,0,0,0,5,3,0,0,0,0,0,0,0,0]
["Multi Community Diversified Services, Inc.","McPherson","KS",null,"7R02-77083","Private-Non-Profit Corporation","Rural Reporter",0,5,0,0,0,0,0,0,0,0,0,0,0,0,1,0,0,0,4,0,0,0,0,0,0,0,0,0,0,0,0,0,0,0,0,0,0,0,0,0,0,0,0,0,0,0,0,0,0,0,0,0,5,0,0,0,0,0,0,0,0,0]
["Cedar County Transit","Wynot","NE","7R04-008","7R04-70212","City, County or Local Government Unit or Department of Transportation","Rural Reporter",0,5,0,0,0,0,0,0,0,0,0,0,0,0,0,0,0,0,5,1,0,0,0,0,0,0,0,0,0,0,0,0,0,0,0,0,0,0,0,0,0,0,0,0,0,0,0,0,0,0,0,0,5,1,0,0,0,0,0,0,0,0]
["City of Columbus Transit","Columbus","NE","7R04-046","7R04-70214","City, County or Local Government Unit or Department of Transportation","Rural Reporter",0,5,0,0,0,0,0,0,0,0,0,0,2,0,2,0,0,0,1,0,0,0,0,0,0,0,0,0,0,0,0,0,0,0,0,0,0,0,0,0,0,0,0,0,0,0,0,0,0,0,0,0,5,0,0,0,0,0,0,0,0,0]
["Prowers County","Lamar","CO","8R01-012","8R01-80115","City, County or Local Government Unit or Department of Transportation","Rural Reporter",0,5,0,0,0,0,0,0,0,0,0,0,1,0,5,1,1,0,0,0,0,0,0,0,0,0,0,0,0,0,0,0,0,0,0,0,0,0,0,0,0,0,0,0,0,0,0,0,0,0,0,0,7,1,0,0,0,0,0,0,0,0]
["Pembina County Meals and Transportation","Drayton","ND","8R03-014","8R03-80129","Private-Non-Profit Corporation","Rural Reporter",0,5,0,0,0,0,0,0,0,0,0,0,0,0,1,0,0,0,5,2,0,0,0,0,0,0,0,0,0,0,0,0,0,0,0,0,0,0,0,0,0,0,0,0,0,0,0,0,0,0,0,0,6,2,0,0,0,0,0,0,0,0]
["SESDAC, Inc , dba: Vermillion Public Transit ","Vermillion","SD","8R04-018","8R04-80112","Private-Non-Profit Corporation","Rural Reporter",0,5,0,0,0,0,0,0,0,0,0,0,0,0,5,3,0,0,3,1,0,0,0,0,0,0,0,0,0,0,0,0,0,0,0,0,0,0,0,0,0,0,0,0,0,0,0,0,0,0,0,0,8,4,0,0,0,0,0,0,0,0]
["South Big Horn Senior Citizens, Inc.","Greybull","WY","8R05-035","8R05-80120","Private-Non-Profit Corporation","Rural Reporter",0,5,0,0,0,0,0,0,0,0,0,0,0,0,1,0,0,0,5,1,0,0,0,0,0,0,0,0,0,0,0,0,0,0,0,0,0,0,0,0,0,0,0,0,0,0,0,0,0,0,0,0,6,1,0,0,0,0,0,0,0,0]
["City of Maywood","Maywood","CA",null,90284,"City, County or Local Government Unit or Department of Transportation","Reduced Reporter",12150996,5,0,0,0,0,0,0,0,0,0,0,0,0,1,1,0,0,4,2,0,0,0,0,0,0,0,0,0,0,0,0,0,0,0,0,0,0,0,0,0,0,0,0,0,0,0,0,0,0,0,0,5,3,0,0,0,0,0,0,0,0]
["Town of Miami , dba: Cobre Valley Community Transit","Miami","AZ","9R01-013","9R01-91069","City, County or Local Government Unit or Department of Transportation","Rural Reporter",0,5,0,0,0,0,0,0,0,0,0,0,0,0,3,1,0,0,2,2,0,0,0,0,0,0,0,0,0,0,0,0,0,0,0,0,0,0,0,0,0,0,0,0,0,0,0,0,0,0,0,0,5,3,0,0,0,0,0,0,0,0]
["Lassen Transit Service Agency","Susanville","CA","9R02-021","9R02-91098","City, County or Local Government Unit or Department of Transportation","Rural Reporter",0,5,4,4,0,0,1,1,0,0,0,0,0,0,3,0,0,0,0,0,0,0,0,0,0,0,0,0,0,0,0,0,0,0,0,0,0,0,0,0,0,0,0,0,0,0,0,0,0,0,0,0,8,5,1,1,0,0,0,0,1,1]
["SNTC - Boulder City","Laughlin","NV","9R04-035","9R04-91100","Private-Non-Profit Corporation","Rural Reporter",0,5,0,0,0,0,0,0,0,0,0,0,0,0,7,4,0,0,0,0,0,0,0,0,0,0,0,0,0,0,0,0,0,0,0,0,0,0,0,0,0,0,0,0,0,0,0,0,0,0,0,0,7,4,1,1,2,1,0,0,3,2]
["City of Pendleton","Pendleton","OR","0R02-010","0R02-00359","City, County or Local Government Unit or Department of Transportation","Rural Reporter",0,4,0,0,0,0,0,0,0,0,0,0,0,0,2,0,0,0,4,0,0,0,0,0,0,0,0,0,0,0,0,0,0,0,0,0,0,0,0,0,0,0,0,0,0,0,0,0,0,0,0,0,6,0,0,0,0,0,0,0,0,0]
["Glacier Valley Transit","Girdwood","AK","0R04-011","0R04-00345","Private-Non-Profit Corporation","Rural Reporter",0,4,0,0,0,0,0,0,0,0,0,0,0,0,4,0,0,0,0,0,0,0,0,0,0,0,0,0,0,0,0,0,0,0,0,0,0,0,0,0,0,0,0,0,0,0,0,0,0,0,0,0,4,0,0,0,0,0,0,0,0,0]
["Village of Kiryas Joel","Monroe","NY",2187,20187,"City, County or Local Government Unit or Department of Transportation","Reduced Reporter",423566,4,6,0,0,0,0,0,0,0,0,0,0,0,0,0,0,0,0,0,0,0,0,0,0,0,0,0,0,0,0,0,0,0,0,0,0,0,0,0,0,0,0,0,0,0,0,0,0,0,0,0,6,0,0,0,0,0,0,0,0,0]
["City of Kingston ","Kingston","NY",2191,20191,"City, County or Local Government Unit or Department of Transportation","Reduced Reporter",57442,4,5,1,0,0,0,0,0,0,0,0,0,0,3,0,0,0,0,0,0,0,0,0,0,0,0,0,0,0,0,0,0,0,0,0,0,0,0,0,0,0,0,0,0,0,0,0,0,0,0,0,8,1,0,0,0,0,0,0,0,0]
["First Transit-Olean","Hudsonville","NY","2R02-061","2R02-20975","City, County or Local Government Unit or Department of Transportation","Rural Reporter",0,4,4,0,0,0,0,0,0,0,0,0,0,0,0,0,0,0,0,0,0,0,0,0,0,0,0,0,0,0,0,0,0,0,0,0,0,0,0,0,0,0,0,0,0,0,0,0,0,0,0,0,4,0,0,0,0,0,0,0,0,0]
["City of Guntersville","Guntersville","AL","4R01-023","4R01-41009","City, County or Local Government Unit or Department of Transportation","Rural Reporter",0,4,0,0,0,0,0,0,0,0,0,0,5,2,0,0,0,0,0,0,0,0,0,0,0,0,0,0,0,0,0,0,0,0,0,0,0,0,0,0,0,0,0,0,0,0,0,0,0,0,0,0,5,2,0,0,0,0,0,0,0,0]
["Brooks County Transit","Quitman","GA","4R03-050","4R03-41016","City, County or Local Government Unit or Department of Transportation","Rural Reporter",0,4,0,0,0,0,0,0,0,0,0,0,0,0,4,0,0,0,0,0,0,0,0,0,0,0,0,0,0,0,0,0,0,0,0,0,0,0,0,0,0,0,0,0,0,0,0,0,0,0,0,0,4,0,0,0,0,0,0,0,0,0]
["Gilmer County Transit System","Ellijay","GA","4R03-082","4R03-41018","City, County or Local Government Unit or Department of Transportation","Rural Reporter",0,4,0,0,0,0,0,0,0,0,0,0,0,0,4,0,0,0,0,0,0,0,0,0,0,0,0,0,0,0,0,0,0,0,0,0,0,0,0,0,0,0,0,0,0,0,0,0,0,0,0,0,4,0,0,0,0,0,0,0,0,0]
["City of East Chicago, dba: East Chicago Transit","East Chicago","IN",5042,50042,"City, County or Local Government Unit or Department of Transportation","Reduced Reporter",8608208,4,5,2,0,0,0,0,0,0,0,0,2,2,0,0,0,0,0,0,0,0,0,0,0,0,0,0,0,0,0,0,0,0,0,0,0,0,0,0,0,0,0,0,0,0,0,0,0,0,0,0,7,4,0,0,1,1,0,0,1,1]
["Belding-Dial-A-Ride","Belding","MI","5R03-011","5R03-50398","City, County or Local Government Unit or Department of Transportation","Rural Reporter",0,4,0,0,0,0,0,0,0,0,0,0,0,0,5,1,0,0,0,0,0,0,0,0,0,0,0,0,0,0,0,0,0,0,0,0,0,0,0,0,0,0,0,0,0,0,0,0,0,0,0,0,5,1,0,0,1,1,0,0,1,1]
["City of Tomah","Tomah","WI","5R06-062","5R06-50418","City, County or Local Government Unit or Department of Transportation","Rural Reporter",0,4,0,0,0,0,0,0,0,0,0,0,0,0,0,0,0,0,5,1,0,0,0,0,0,0,0,0,0,0,0,0,0,0,0,0,0,0,0,0,0,0,0,0,0,0,0,0,0,0,0,0,5,1,0,0,0,0,0,0,0,0]
["County of Kenosha","Kenosha","WI","5R06-073","5R06-50432","City, County or Local Government Unit or Department of Transportation","Rural Reporter",0,4,0,0,0,0,0,0,0,0,0,0,0,0,7,3,0,0,0,0,0,0,0,0,0,0,0,0,0,0,0,0,0,0,0,0,0,0,0,0,0,0,0,0,0,0,0,0,0,0,0,0,7,3,0,0,0,0,0,0,0,0]
["Village of Milan","Milan","NM","6R03-024","6R03-60148","City, County or Local Government Unit or Department of Transportation","Rural Reporter",0,4,4,3,0,0,0,0,0,0,0,0,0,0,0,0,0,0,0,0,0,0,0,0,0,0,0,0,0,0,0,0,0,0,0,0,0,0,0,0,0,0,0,0,0,0,0,0,0,0,0,0,4,3,0,0,0,0,0,0,0,0]
["Ottawa County Transportation","Minneapolis","KS","7R02-031","7R02-70146","City, County or Local Government Unit or Department of Transportation","Rural Reporter",0,4,0,0,0,0,0,0,0,0,0,0,0,0,3,2,0,0,1,0,0,0,0,0,0,0,0,0,0,0,0,0,0,0,0,0,0,0,0,0,0,0,0,0,0,0,0,0,0,0,0,0,4,2,0,0,0,0,0,0,0,0]
["City of West Plains","West Plains","MO","7R03-006","7R03-70155","City, County or Local Government Unit or Department of Transportation","Rural Reporter",0,4,0,0,0,0,0,0,0,0,0,0,0,0,4,1,0,0,1,0,0,0,0,0,0,0,0,0,0,0,0,0,0,0,0,0,0,0,0,0,0,0,0,0,0,0,0,0,0,0,0,0,5,1,0,0,0,0,0,0,0,0]
["City of Clinton","Clinton","MO","7R03-012","7R03-70189","City, County or Local Government Unit or Department of Transportation","Rural Reporter",0,4,0,0,0,0,0,0,0,0,0,0,0,0,3,0,0,0,1,0,0,0,0,0,0,0,0,0,0,0,0,0,0,0,0,0,0,0,0,0,0,0,0,0,0,0,0,0,0,0,0,0,4,0,0,0,0,0,0,0,0,0]
["Ogallala Transit System","Ogallala","NE","7R04-034","7R04-70127","City, County or Local Government Unit or Department of Transportation","Rural Reporter",0,4,0,0,0,0,0,0,0,0,0,0,0,0,3,0,0,0,1,0,0,0,0,0,0,0,0,0,0,0,0,0,0,0,0,0,0,0,0,0,0,0,0,0,0,0,0,0,0,0,0,0,4,0,0,0,0,0,0,0,0,0]
["Senior Information Center York","York","NE","7R04-060","7R04-70223","City, County or Local Government Unit or Department of Transportation","Rural Reporter",0,4,0,0,0,0,0,0,0,0,0,0,0,0,1,0,0,0,3,1,0,0,0,0,0,0,0,0,0,0,0,0,0,0,0,0,0,0,0,0,0,0,0,0,0,0,0,0,0,0,0,0,4,1,0,0,0,0,0,0,0,0]
["Seward County Handibus","Seward","NE","7R04-053","7R04-70246","City, County or Local Government Unit or Department of Transportation","Rural Reporter",0,4,0,0,0,0,0,0,0,0,0,0,0,0,2,1,1,0,1,0,0,0,0,0,0,0,0,0,0,0,0,0,0,0,0,0,0,0,0,0,0,0,0,0,0,0,0,0,0,0,0,0,4,1,0,0,0,0,0,0,0,0]
["Powder River County","Broadus","MT","8R02-017","8R02-80167","City, County or Local Government Unit or Department of Transportation","Rural Reporter",0,4,0,0,0,0,0,0,0,0,0,0,1,1,2,2,0,0,5,1,0,0,0,0,0,0,0,0,0,0,0,0,0,0,0,0,0,0,0,0,0,0,0,0,0,0,0,0,0,0,0,0,8,4,0,0,0,0,0,0,0,0]
["Eppson Center for Seniors","Laramie","WY","8R05-005","8R05-80252","Private-Non-Profit Corporation","Rural Reporter",0,4,0,0,0,0,0,0,0,0,0,0,0,0,2,0,1,1,3,1,0,0,0,0,0,0,0,0,0,0,0,0,0,0,0,0,0,0,0,0,0,0,0,0,0,0,0,0,0,0,0,0,6,2,0,0,0,0,0,0,0,0]
["City of Bellflower","Bellflower","CA",null,90254,"City, County or Local Government Unit or Department of Transportation","Reduced Reporter",12150996,4,0,0,0,0,0,0,0,0,0,0,0,0,4,2,0,0,0,0,0,0,0,0,0,0,0,0,0,0,0,0,0,0,0,0,0,0,0,0,0,0,0,0,0,0,0,0,0,0,0,0,4,2,0,0,0,0,0,0,0,0]
["City of Manhattan Beach , dba: City of Manhattan Beach Dial-A-Ride","Manhattan Beach","CA",null,90283,"City, County or Local Government Unit or Department of Transportation","Reduced Reporter",12150996,4,0,0,0,0,0,0,0,0,0,0,0,0,5,0,0,0,0,0,0,0,0,0,0,0,0,0,0,0,0,0,0,0,0,0,0,0,0,0,0,0,0,0,0,0,0,0,0,0,0,0,5,0,0,0,0,0,0,0,0,0]
["Yurok Tribe","Klamath","CA","9T09",99262,"Tribe","Reduced Reporter",0,4,2,0,0,0,0,0,0,0,0,0,4,0,0,0,0,0,1,0,0,0,0,0,0,0,0,0,0,0,0,0,0,0,0,0,0,0,0,0,0,0,0,0,0,0,0,0,1,0,0,0,8,0,0,0,0,0,0,0,0,0]
["City of Taft","Taft","CA","9R02-010","9R02-91066","City, County or Local Government Unit or Department of Transportation","Rural Reporter",0,4,0,0,0,0,0,0,0,0,0,0,0,0,7,5,0,0,2,2,0,0,0,0,0,0,0,0,0,0,0,0,0,0,0,0,0,0,0,0,0,0,0,0,0,0,0,0,0,0,0,0,9,7,0,0,0,0,0,0,0,0]
["Squaxin Island Tribe","Shelton","WA","0T16",103,"Tribe","Reduced Reporter",0,3,0,0,0,0,0,0,0,0,0,0,0,0,3,0,0,0,0,0,0,0,0,0,0,0,0,0,0,0,0,0,0,0,0,0,0,0,0,0,0,0,0,0,0,0,0,0,0,0,0,0,3,0,0,0,0,0,0,0,0,0]
["Town of Lexington","Lexington","MA",1159,10181,"City, County or Local Government Unit or Department of Transportation","Reduced Reporter",4181019,3,0,0,0,0,0,0,0,0,0,0,0,0,4,0,0,0,0,0,0,0,0,0,0,0,0,0,0,0,0,0,0,0,0,0,0,0,0,0,0,0,0,0,0,0,0,0,0,0,0,0,4,0,0,0,0,0,0,0,0,0]
["City of Port Jervis","Port Jervis","NY","2R02-012","2R02-20988","City, County or Local Government Unit or Department of Transportation","Rural Reporter",0,3,0,0,0,0,0,0,0,0,0,0,0,0,3,1,0,0,0,0,0,0,0,0,0,0,0,0,0,0,0,0,0,0,0,0,0,0,0,0,0,0,0,0,0,0,0,0,0,0,0,0,3,1,0,0,0,0,0,0,0,0]
["York County","Yorktown","VA",null,30203,"City, County or Local Government Unit or Department of Transportation","Reduced Reporter",1439666,3,3,2,0,0,0,0,0,0,0,0,0,0,0,0,0,0,0,0,0,0,0,0,0,0,0,0,0,0,0,0,0,0,0,0,0,0,0,0,0,0,0,0,0,0,0,0,0,0,0,0,3,2,0,0,0,0,0,0,0,0]
["Municipality of Aguada","Aguada","PR",4114,40114,"City, County or Local Government Unit or Department of Transportation","Reduced Reporter",306196,3,0,0,0,0,0,0,0,0,0,0,2,1,1,0,0,0,0,0,0,0,0,0,0,0,0,0,0,0,0,0,0,0,0,0,0,0,0,0,0,0,0,0,0,0,0,0,0,0,0,0,3,1,0,0,0,0,0,0,0,0]
["City of Eufaula","Eufaula","AL","4R01-002","4R01-41089","City, County or Local Government Unit or Department of Transportation","Rural Reporter",0,3,1,0,0,0,0,0,0,0,0,0,3,1,0,0,0,0,1,0,0,0,0,0,0,0,0,0,0,0,0,0,0,0,0,0,0,0,0,0,0,0,0,0,0,0,0,0,0,0,0,0,5,1,0,0,0,0,0,0,0,0]
["Peach County Transit","Fort Valley","GA","4R03-043","4R03-40910","City, County or Local Government Unit or Department of Transportation","Rural Reporter",0,3,0,0,0,0,0,0,0,0,0,0,0,0,3,0,0,0,0,0,0,0,0,0,0,0,0,0,0,0,0,0,0,0,0,0,0,0,0,0,0,0,0,0,0,0,0,0,0,0,0,0,3,0,0,0,0,0,0,0,0,0]
["Lincoln County Transit","Lincolnton","GA","4R03-025","4R03-40961","City, County or Local Government Unit or Department of Transportation","Rural Reporter",0,3,0,0,0,0,0,0,0,0,0,0,2,2,1,0,0,0,0,0,0,0,0,0,0,0,0,0,0,0,0,0,0,0,0,0,0,0,0,0,0,0,0,0,0,0,0,0,0,0,0,0,3,2,0,0,0,0,0,0,0,0]
["Jackson County","Jefferson","GA","4R03-009","4R03-41154","City, County or Local Government Unit or Department of Transportation","Rural Reporter",0,3,0,0,0,0,0,0,0,0,0,0,0,0,3,0,0,0,0,0,0,0,0,0,0,0,0,0,0,0,0,0,0,0,0,0,0,0,0,0,0,0,0,0,0,0,0,0,0,0,0,0,3,0,0,0,0,0,0,0,0,0]
["Bleckley County Transit","Cochran","GA","4R03-016","4R03-41196","City, County or Local Government Unit or Department of Transportation","Rural Reporter",0,3,0,0,0,0,0,0,0,0,0,0,1,0,2,0,0,0,0,0,0,0,0,0,0,0,0,0,0,0,0,0,0,0,0,0,0,0,0,0,0,0,0,0,0,0,0,0,0,0,0,0,3,0,0,0,0,0,0,0,0,0]
["Lac du Flambeau Band of Lake Superior Chippewa Indians","Lac Du Flambeau","WI","5T17",55300,"Tribe","Reduced Reporter",0,3,0,0,0,0,0,0,0,0,0,0,1,0,3,1,0,0,0,0,0,0,0,0,0,0,0,0,0,0,0,0,0,0,0,0,0,0,0,0,0,0,0,0,0,0,0,0,0,0,0,0,4,1,0,0,0,0,0,0,0,0]
["Hibbing, City of","Hibbing","MN","5R04-003","5R04-50332","Independent Public Agency or Authority of Transit Service","Rural Reporter",0,3,0,0,0,0,0,0,0,0,0,0,0,0,4,0,0,0,0,0,0,0,0,0,0,0,0,0,0,0,0,0,0,0,0,0,0,0,0,0,0,0,0,0,0,0,0,0,0,0,0,0,4,0,0,0,0,0,0,0,0,0]
["City of River Falls","River Falls","WI","5R06-039","5R06-50303","City, County or Local Government Unit or Department of Transportation","Rural Reporter",0,3,0,0,0,0,0,0,0,0,0,0,0,0,0,0,0,0,5,3,0,0,0,0,0,0,0,0,0,0,0,0,0,0,0,0,0,0,0,0,0,0,0,0,0,0,0,0,0,0,0,0,5,3,0,0,0,0,0,0,0,0]
["City of Portales","Portales","NM","6R03-007","6R03-60253","City, County or Local Government Unit or Department of Transportation","Rural Reporter",0,3,4,0,0,0,0,0,0,0,0,0,1,1,0,0,0,0,0,0,0,0,0,0,0,0,0,0,0,0,0,0,0,0,0,0,0,0,0,0,0,0,0,0,0,0,0,0,0,0,0,0,5,1,0,0,0,0,0,0,0,0]
["Gonzalez County Senior Citizens Association","Gonzales","TX",null,"6R05-66279","City, County or Local Government Unit or Department of Transportation","Rural Reporter",0,3,2,2,0,0,0,0,0,0,0,0,0,0,5,0,0,0,0,0,0,0,0,0,0,0,0,0,0,0,0,0,0,0,0,0,0,0,0,0,0,0,0,0,0,0,0,0,0,0,0,0,7,2,0,0,0,0,0,0,0,0]
["City of Paola/Lakemary Center","Paola","KS","7R02-058","7R02-70178","Private-Non-Profit Corporation","Rural Reporter",0,3,0,0,0,0,0,0,0,0,0,0,1,0,2,1,0,0,7,2,0,0,0,0,0,0,0,0,0,0,0,0,0,0,0,0,0,0,0,0,0,0,0,0,0,0,0,0,0,0,0,0,10,3,0,0,0,0,0,0,0,0]
["Marshall County Agency on Aging","Marysville","KS","7R02-015","7R02-70208","City, County or Local Government Unit or Department of Transportation","Rural Reporter",0,3,0,0,0,0,0,0,0,0,0,0,1,0,1,0,0,0,1,0,0,0,0,0,0,0,0,0,0,0,0,0,0,0,0,0,0,0,0,0,0,0,0,0,0,0,0,0,0,0,0,0,3,0,0,0,0,0,0,0,0,0]
["Fullerton Area Senior Center","Fullerton","NE","7R04-042","7R04-70095","Private-Non-Profit Corporation","Rural Reporter",0,3,0,0,0,0,0,0,0,0,0,0,0,0,1,1,0,0,2,1,0,0,0,0,0,0,0,0,0,0,0,0,0,0,0,0,0,0,0,0,0,0,0,0,0,0,0,0,0,0,0,0,3,2,0,0,0,0,0,0,0,0]
["Hitch & Hay Public Transit","Stratton","NE","7R04-029","7R04-70100","Private-Non-Profit Corporation","Rural Reporter",0,3,0,0,0,0,0,0,0,0,0,0,1,1,0,0,0,0,2,1,0,0,0,0,0,0,0,0,0,0,0,0,0,0,0,0,0,0,0,0,0,0,0,0,0,0,0,0,0,0,0,0,3,2,0,0,0,0,0,0,0,0]
["Lancaster Co Rural Transit","Lincoln","NE","7R04-037","7R04-70164","City, County or Local Government Unit or Department of Transportation","Rural Reporter",0,3,0,0,0,0,0,0,0,0,0,0,1,0,2,0,0,0,0,0,0,0,0,0,0,0,0,0,0,0,0,0,0,0,0,0,0,0,0,0,0,0,0,0,0,0,0,0,0,0,0,0,3,0,0,0,0,0,0,0,0,0]
["City of Black Hawk","Black Hawk","CO","8R01-004","8R01-80119","City, County or Local Government Unit or Department of Transportation","Rural Reporter",0,3,4,4,0,0,0,0,0,0,0,0,0,0,2,0,0,0,0,0,0,0,0,0,0,0,0,0,0,0,0,0,0,0,0,0,0,0,0,0,0,0,0,0,0,0,0,0,0,0,0,0,6,4,0,0,0,0,0,0,0,0]
["Kidder-Emmons County Senior Services ","Steele","ND","8R03-008","8R03-80228","Private-Non-Profit Corporation","Rural Reporter",0,3,0,0,0,0,0,0,0,0,0,0,0,0,1,0,0,0,2,2,0,0,0,0,0,0,0,0,0,0,0,0,0,0,0,0,0,0,0,0,0,0,0,0,0,0,0,0,0,0,0,0,3,2,0,0,0,0,0,0,0,0]
["Cavalier County Senior Meals & Services","Langdon","ND","8R03-038","8R03-80233","Private-Non-Profit Corporation","Rural Reporter",0,3,0,0,0,0,0,0,0,0,0,0,0,0,1,0,0,0,2,0,0,0,0,0,0,0,0,0,0,0,0,0,0,0,0,0,0,0,0,0,0,0,0,0,0,0,0,0,0,0,0,0,3,0,0,0,0,0,0,0,0,0]
["Inter-Lakes Community Action","Madison","SD","8R04-006","8R04-80282","Private-Non-Profit Corporation","Rural Reporter",0,3,0,0,0,0,0,0,0,0,0,0,0,0,4,4,0,0,0,0,0,0,0,0,0,0,0,0,0,0,0,0,0,0,0,0,0,0,0,0,0,0,0,0,0,0,0,0,0,0,0,0,4,4,0,0,0,0,0,0,0,0]
["Reno-Sparks Indian Colony","Reno","NV","9T11",90011,"Tribe","Reduced Reporter",0,3,0,0,0,0,0,0,0,0,0,0,0,0,4,0,0,0,0,0,0,0,0,0,0,0,0,0,0,0,0,0,0,0,0,0,0,0,0,0,0,0,0,0,0,0,0,0,0,0,0,0,4,0,0,0,0,0,0,0,0,0]
["City of Benson","Benson","AZ","9R01-029","9R01-91114","City, County or Local Government Unit or Department of Transportation","Rural Reporter",0,3,0,0,0,0,0,0,0,0,0,0,0,0,6,0,0,0,0,0,0,0,0,0,0,0,0,0,0,0,0,0,0,0,0,0,0,0,0,0,0,0,0,0,0,0,0,0,0,0,0,0,6,0,0,0,0,0,0,0,0,0]
["City of Bisbee","Bisbee","AZ","9R01-001","9R01-91121","City, County or Local Government Unit or Department of Transportation","Rural Reporter",0,3,0,0,0,0,0,0,0,0,0,0,0,0,4,0,0,0,0,0,0,0,0,0,0,0,0,0,0,0,0,0,0,0,0,0,0,0,0,0,0,0,0,0,0,0,0,0,0,0,0,0,4,0,0,0,0,0,0,0,0,0]
["City of Solvang","Solvang","CA","9R02-039","9R02-91028","Independent Public Agency or Authority of Transit Service","Rural Reporter",0,3,0,0,0,0,0,0,0,0,0,0,0,0,5,1,0,0,0,0,0,0,0,0,0,0,0,0,0,0,0,0,0,0,0,0,0,0,0,0,0,0,0,0,0,0,0,0,0,0,0,0,5,1,0,0,0,0,0,0,0,0]
["Chickaloon Native Village","Chickaloon","AK","0T30",30,"Tribe","Reduced Reporter",0,2,1,1,0,0,0,0,0,0,0,0,0,0,0,0,0,0,1,1,1,1,0,0,0,0,0,0,0,0,0,0,0,0,0,0,0,0,0,0,0,0,0,0,0,0,0,0,0,0,0,0,3,3,0,0,0,0,0,0,0,0]
["Ninilchik Village","Ninilchik","AK",null,414,"Tribe","Reduced Reporter",0,2,2,0,0,0,0,0,0,0,0,0,0,0,0,0,0,0,0,0,0,0,0,0,0,0,0,0,0,0,0,0,0,0,0,0,0,0,0,0,0,0,0,0,0,0,0,0,0,0,0,0,2,0,0,0,0,0,0,0,0,0]
["City of Moscow","Moscow","ID","0R01-024","0R01-00288","City, County or Local Government Unit or Department of Transportation","Rural Reporter",0,2,0,0,0,0,0,0,0,0,0,0,2,0,0,0,0,0,2,2,0,0,0,0,0,0,0,0,0,0,0,0,0,0,0,0,0,0,0,0,0,0,0,0,0,0,0,0,0,0,0,0,4,2,0,0,0,0,0,0,0,0]
["City of Bethel","Bethel","AK","0R04-016","0R04-00387","City, County or Local Government Unit or Department of Transportation","Rural Reporter",0,2,0,0,0,0,0,0,0,0,0,0,0,0,4,3,0,0,0,0,0,0,0,0,0,0,0,0,0,0,0,0,0,0,0,0,0,0,0,0,0,0,0,0,0,0,0,0,0,0,0,0,4,3,0,0,0,0,0,0,0,0]
["Isle au Haut Boat Services","Stonington","ME","1R03-020","1R03-10167","Private-Non-Profit Corporation","Rural Reporter",0,2,0,0,0,0,0,0,0,0,0,0,0,0,0,0,0,0,0,0,0,0,0,0,0,0,0,0,0,0,0,0,0,0,0,0,0,0,0,0,0,0,0,0,0,0,0,0,2,0,0,0,2,0,0,0,0,0,0,0,0,0]
["Municipality of Catano","Catano","PR",4163,40163,"City, County or Local Government Unit or Department of Transportation","Reduced Reporter",2148346,2,2,1,0,0,0,0,0,0,0,0,0,0,2,1,0,0,0,0,0,0,0,0,0,0,0,0,0,0,0,0,0,0,0,0,0,0,0,0,0,0,0,0,0,0,0,0,0,0,0,0,4,2,0,0,0,0,0,0,0,0]
["City of Lauderdale Lakes","Lauderdale Lakes","FL",null,40250,"City, County or Local Government Unit or Department of Transportation","Reduced Reporter",5502379,2,0,0,0,0,0,0,0,0,0,0,0,0,2,0,0,0,0,0,0,0,0,0,0,0,0,0,0,0,0,0,0,0,0,0,0,0,0,0,0,0,0,0,0,0,0,0,0,0,0,0,2,0,0,0,0,0,0,0,0,0]
["Macon County Transit","Oglethrope","GA","4R03-042","4R03-40903","City, County or Local Government Unit or Department of Transportation","Rural Reporter",0,2,0,0,0,0,0,0,0,0,0,0,0,0,2,0,0,0,0,0,0,0,0,0,0,0,0,0,0,0,0,0,0,0,0,0,0,0,0,0,0,0,0,0,0,0,0,0,0,0,0,0,2,0,0,0,0,0,0,0,0,0]
["Habersham County Transit","Clarkesville","GA","4R03-006","4R03-40994","City, County or Local Government Unit or Department of Transportation","Rural Reporter",0,2,0,0,0,0,0,0,0,0,0,0,0,0,2,0,0,0,0,0,0,0,0,0,0,0,0,0,0,0,0,0,0,0,0,0,0,0,0,0,0,0,0,0,0,0,0,0,0,0,0,0,2,0,0,0,0,0,0,0,0,0]
["Twiggs County Transit","Jeffersonville","GA","4R03-049","4R03-41065","City, County or Local Government Unit or Department of Transportation","Rural Reporter",0,2,0,0,0,0,0,0,0,0,0,0,0,0,1,0,0,0,0,0,0,0,0,0,0,0,0,0,0,0,0,0,0,0,0,0,0,0,0,0,0,0,0,0,0,0,0,0,0,0,0,0,1,0,0,0,0,0,0,0,0,0]
["Berrien County","Nashville","GA","4R03-116","4R03-41128","City, County or Local Government Unit or Department of Transportation","Rural Reporter",0,2,0,0,0,0,0,0,0,0,0,0,0,0,2,0,0,0,0,0,0,0,0,0,0,0,0,0,0,0,0,0,0,0,0,0,0,0,0,0,0,0,0,0,0,0,0,0,0,0,0,0,2,0,0,0,0,0,0,0,0,0]
["Lumpkin County ","Dahlonega","GA","4R03-010","4R03-41158","City, County or Local Government Unit or Department of Transportation","Rural Reporter",0,2,0,0,0,0,0,0,0,0,0,0,0,0,2,0,0,0,0,0,0,0,0,0,0,0,0,0,0,0,0,0,0,0,0,0,0,0,0,0,0,0,0,0,0,0,0,0,0,0,0,0,2,0,0,0,0,0,0,0,0,0]
["Forest County Potawatomi Community","Crandon","WI","5T14",50014,"Tribe","Reduced Reporter",0,2,1,0,0,0,0,0,0,0,0,0,0,0,0,0,0,0,1,0,0,0,0,0,0,0,0,0,0,0,0,0,0,0,0,0,0,0,0,0,0,0,0,0,0,0,0,0,0,0,0,0,2,0,0,0,0,0,0,0,0,0]
["Dowagiac Dial-A--Ride","Dowagiac","MI","5R03-026","5R03-50494","City, County or Local Government Unit or Department of Transportation","Rural Reporter",0,2,0,0,0,0,0,0,0,0,0,0,0,0,3,0,0,0,0,0,0,0,0,0,0,0,0,0,0,0,0,0,0,0,0,0,0,0,0,0,0,0,0,0,0,0,0,0,0,0,0,0,3,0,0,0,0,0,0,0,0,0]
["City of Rice Lake","Rice Lake","WI","5R06-052","5R06-50218","City, County or Local Government Unit or Department of Transportation","Rural Reporter",0,2,0,0,0,0,0,0,0,0,0,0,1,1,0,0,0,0,2,1,0,0,0,0,0,0,0,0,0,0,0,0,0,0,0,0,0,0,0,0,0,0,0,0,0,0,0,0,0,0,0,0,3,2,0,0,0,0,0,0,0,0]
["City of New Richmond","New Richmond","WI","5R06-029","5R06-50360","City, County or Local Government Unit or Department of Transportation","Rural Reporter",0,2,0,0,0,0,0,0,0,0,0,0,0,0,0,0,0,0,3,1,0,0,0,0,0,0,0,0,0,0,0,0,0,0,0,0,0,0,0,0,0,0,0,0,0,0,0,0,0,0,0,0,3,1,0,0,0,0,0,0,0,0]
["City of Mauston","Mauston","WI","5R06-024","5R06-50513","City, County or Local Government Unit or Department of Transportation","Rural Reporter",0,2,0,0,0,0,0,0,0,0,0,0,0,0,0,0,0,0,3,1,0,0,0,0,0,0,0,0,0,0,0,0,0,0,0,0,0,0,0,0,0,0,0,0,0,0,0,0,0,0,0,0,3,1,0,0,0,0,0,0,0,0]
["Sac and Fox Nation of Missouri","Reserve","KS",null,70273,"Tribe","Reduced Reporter",0,2,0,0,0,0,0,0,0,0,0,0,2,0,0,0,0,0,0,0,0,0,0,0,0,0,0,0,0,0,0,0,0,0,0,0,0,0,0,0,0,0,0,0,0,0,0,0,0,0,0,0,2,0,0,0,0,0,0,0,0,0]
["Thomas County","Colby","KS","7R02-050","7R02-70062","City, County or Local Government Unit or Department of Transportation","Rural Reporter",0,2,0,0,0,0,0,0,0,0,0,0,0,0,2,0,0,0,0,0,0,0,0,0,0,0,0,0,0,0,0,0,0,0,0,0,0,0,0,0,0,0,0,0,0,0,0,0,0,0,0,0,2,0,0,0,0,0,0,0,0,0]
["Rooks County Transportation Service","Plainville","KS","7R02-054","7R02-70088","City, County or Local Government Unit or Department of Transportation","Rural Reporter",0,2,0,0,0,0,0,0,0,0,0,0,0,0,1,0,0,0,1,0,0,0,0,0,0,0,0,0,0,0,0,0,0,0,0,0,0,0,0,0,0,0,0,0,0,0,0,0,0,0,0,0,2,0,0,0,0,0,0,0,0,0]
["City of Wilson","Wilson","KS","7R02-039","7R02-70171","City, County or Local Government Unit or Department of Transportation","Rural Reporter",0,2,0,0,0,0,0,0,0,0,0,0,1,1,0,0,0,0,1,1,0,0,0,0,0,0,0,0,0,0,0,0,0,0,0,0,0,0,0,0,0,0,0,0,0,0,0,0,0,0,0,0,2,2,0,0,0,0,0,0,0,0]
["Wabaunsee County General Public Transportation","Alma","KS","7R02-026","7R02-70218","City, County or Local Government Unit or Department of Transportation","Rural Reporter",0,2,0,0,0,0,0,0,0,0,0,0,1,0,1,0,0,0,0,0,0,0,0,0,0,0,0,0,0,0,0,0,0,0,0,0,0,0,0,0,0,0,0,0,0,0,0,0,0,0,0,0,2,0,0,0,0,0,0,0,0,0]
["Project Concern","Atchinson","KS","7R02-120","7R02-70267","Private-Non-Profit Corporation","Rural Reporter",0,2,0,0,0,0,0,0,0,0,0,0,0,0,2,0,0,0,0,0,0,0,0,0,0,0,0,0,0,0,0,0,0,0,0,0,0,0,0,0,0,0,0,0,0,0,0,0,0,0,0,0,2,0,0,0,0,0,0,0,0,0]
["Licking Bridge Builders Senior Center","Licking ","MO","7R03-008","7R03-70099","Private-Non-Profit Corporation","Rural Reporter",0,2,0,0,0,0,0,0,0,0,0,0,1,1,0,0,0,0,1,0,0,0,0,0,0,0,0,0,0,0,0,0,0,0,0,0,0,0,0,0,0,0,0,0,0,0,0,0,0,0,0,0,2,1,0,0,0,0,0,0,0,0]
["City of El Dorado Springs","El Dorado Springs","MO","7R03-013","7R03-70177","City, County or Local Government Unit or Department of Transportation","Rural Reporter",0,2,0,0,0,0,0,0,0,0,0,0,1,1,0,0,0,0,1,0,0,0,0,0,0,0,0,0,0,0,0,0,0,0,0,0,0,0,0,0,0,0,0,0,0,0,0,0,0,0,0,0,2,1,0,0,0,0,0,0,0,0]
["Harlan Co. Public Transit","Alma","NE","7R04-028","7R04-70198","City, County or Local Government Unit or Department of Transportation","Rural Reporter",0,2,0,0,0,0,0,0,0,0,0,0,1,1,0,0,0,0,1,1,0,0,0,0,0,0,0,0,0,0,0,0,0,0,0,0,0,0,0,0,0,0,0,0,0,0,0,0,0,0,0,0,2,2,0,0,0,0,0,0,0,0]
["Wolf Memorial Good Samaritan Center","Albion","NE","7R04-002","7R04-70202","Private-Non-Profit Corporation","Rural Reporter",0,2,0,0,0,0,0,0,0,0,0,0,0,0,1,0,0,0,1,0,0,0,0,0,0,0,0,0,0,0,0,0,0,0,0,0,0,0,0,0,0,0,0,0,0,0,0,0,0,0,0,0,2,0,0,0,0,0,0,0,0,0]
["Carter County","Ekalaka","MT","8R02-033","8R02-80135","City, County or Local Government Unit or Department of Transportation","Rural Reporter",0,2,0,0,0,0,0,0,0,0,0,0,0,0,1,0,0,0,1,0,0,0,0,0,0,0,0,0,0,0,0,0,0,0,0,0,0,0,0,0,0,0,0,0,0,0,0,0,0,0,0,0,2,0,0,0,0,0,0,0,0,0]
["West Yellowstone Foundation, Inc.","West Yellowstone","MT","8R02-032","8R02-80269","Private-Non-Profit Corporation","Rural Reporter",0,2,0,0,0,0,0,0,0,0,0,0,0,0,2,0,0,0,0,0,0,0,0,0,0,0,0,0,0,0,0,0,0,0,0,0,0,0,0,0,0,0,0,0,0,0,0,0,0,0,0,0,2,0,0,0,0,0,0,0,0,0]
["Can-Do Transportation","Rolla","ND","8R03-037","8R03-80261","Private-Non-Profit Corporation","Rural Reporter",0,2,0,0,0,0,0,0,0,0,0,0,0,0,1,0,0,0,1,0,0,0,0,0,0,0,0,0,0,0,0,0,0,0,0,0,0,0,0,0,0,0,0,0,0,0,0,0,0,0,0,0,2,0,0,0,0,0,0,0,0,0]
["Wildrose Public Transportation","Wildrose","ND",null,"8R03-88222","Private-Non-Profit Corporation","Rural Reporter",0,2,0,0,0,0,0,0,0,0,0,0,0,0,2,1,0,0,0,0,0,0,0,0,0,0,0,0,0,0,0,0,0,0,0,0,0,0,0,0,0,0,0,0,0,0,0,0,0,0,0,0,2,1,0,0,0,0,0,0,0,0]
["Los Angeles County Dept. of Public Works - Florence-Firestone","Alhambra","CA",null,90273,"City, County or Local Government Unit or Department of Transportation","Reduced Reporter",12150996,2,2,0,0,0,0,0,0,0,0,0,0,0,2,0,0,0,0,0,0,0,0,0,0,0,0,0,0,0,0,0,0,0,0,0,0,0,0,0,0,0,0,0,0,0,0,0,0,0,0,0,4,0,0,0,0,0,0,0,0,0]
["Havasupai Tribe","Supai","AZ","9T10",99298,"Tribe","Reduced Reporter",0,2,0,0,0,0,0,0,0,0,0,0,2,0,1,0,0,0,0,0,0,0,0,0,0,0,0,0,0,0,0,0,0,0,0,0,0,0,0,0,0,0,0,0,0,0,0,0,0,0,0,0,3,0,0,0,0,0,0,0,0,0]
["Elko Band Council","Elko","NV","9T29",99394,"Tribe","Reduced Reporter",0,2,0,0,0,0,0,0,0,0,0,0,0,0,2,0,0,0,0,0,0,0,0,0,0,0,0,0,0,0,0,0,0,0,0,0,0,0,0,0,0,0,0,0,0,0,0,0,0,0,0,0,2,0,0,0,0,0,0,0,0,0]
["Pyramid Lake Paiute Tribe","Nixon","NV","9T31",99406,"Tribe","Reduced Reporter",0,2,0,0,0,0,0,0,0,0,0,0,0,0,2,0,0,0,0,0,0,0,0,0,0,0,0,0,0,0,0,0,0,0,0,0,0,0,0,0,0,0,0,0,0,0,0,0,0,0,0,0,2,0,0,0,0,0,0,0,0,0]
["City of McFarland","McFarland","CA","9R02-024","9R02-91110","City, County or Local Government Unit or Department of Transportation","Rural Reporter",0,2,2,1,0,0,0,0,0,0,0,0,1,0,0,0,0,0,0,0,0,0,0,0,0,0,0,0,0,0,0,0,0,0,0,0,0,0,0,0,0,0,0,0,0,0,0,0,0,0,0,0,3,1,0,0,0,0,0,0,0,0]
["Manley Village Council","Manley Hot Springs","AK","0T20",175,"Tribe","Reduced Reporter",0,1,1,1,0,0,0,0,0,0,0,0,1,1,0,0,0,0,0,0,0,0,0,0,0,0,0,0,0,0,0,0,0,0,0,0,0,0,0,0,0,0,0,0,0,0,0,0,0,0,0,0,2,2,0,0,0,0,0,0,0,0]
["Lower Elwha Klallam Tribe","Port Angeles","WA",null,401,"Tribe","Reduced Reporter",0,1,0,0,0,0,0,0,0,0,0,0,1,1,0,0,0,0,0,0,0,0,0,0,0,0,0,0,0,0,0,0,0,0,0,0,0,0,0,0,0,0,0,0,0,0,0,0,0,0,0,0,1,1,0,0,0,0,0,0,0,0]
["Quileute Tribe Community Shuttle","La Push","WA",null,417,"Tribe","Reduced Reporter",0,1,0,0,0,0,0,0,0,0,0,0,0,0,3,3,0,0,0,0,0,0,0,0,0,0,0,0,0,0,0,0,0,0,0,0,0,0,0,0,0,0,0,0,0,0,0,0,0,0,0,0,3,3,0,0,0,0,0,0,0,0]
["Town of Bedford","Bedford","MA",1156,10178,"City, County or Local Government Unit or Department of Transportation","Reduced Reporter",4181019,1,0,0,0,0,0,0,0,0,0,0,0,0,1,0,0,0,0,0,0,0,0,0,0,0,0,0,0,0,0,0,0,0,0,0,0,0,0,0,0,0,0,0,0,0,0,0,0,0,0,0,1,0,0,0,0,0,0,0,0,0]
["Sullivan County Transportation","Monticello","NY","2R02-042","2R02-20937","City, County or Local Government Unit or Department of Transportation","Rural Reporter",0,1,4,0,0,0,0,0,0,0,0,0,0,0,0,0,0,0,0,0,0,0,0,0,0,0,0,0,0,0,0,0,0,0,0,0,0,0,0,0,0,0,0,0,0,0,0,0,0,0,0,0,4,0,0,0,0,0,0,0,0,0]
["Greensville Emporia Transit System","Emporia","VA",null,"3R06-31025","City, County or Local Government Unit or Department of Transportation","Rural Reporter",0,1,0,0,0,0,0,0,0,0,0,0,0,0,3,0,0,0,0,0,0,0,0,0,0,0,0,0,0,0,0,0,0,0,0,0,0,0,0,0,0,0,0,0,0,0,0,0,0,0,0,0,3,0,0,0,0,0,0,0,0,0]
["Oldham's Public Bus","LaGrange","KY",4218,40218,"City, County or Local Government Unit or Department of Transportation","Reduced Reporter",972546,1,0,0,0,0,0,0,0,0,0,0,0,0,3,0,0,0,0,0,0,0,0,0,0,0,0,0,0,0,0,0,0,0,0,0,0,0,0,0,0,0,0,0,0,0,0,0,0,0,0,0,3,0,0,0,0,0,0,0,0,0]
["Poarch Band of Creek Indians","Atmore","AL","4T03",44919,"Tribe","Reduced Reporter",0,1,2,0,0,0,0,0,0,0,0,0,0,0,1,1,0,0,1,0,0,0,0,0,0,0,0,0,0,0,0,0,0,0,0,0,0,0,0,0,0,0,0,0,0,0,0,0,0,0,0,0,4,1,0,0,0,0,0,0,0,0]
["Glasgow Transit System","Glasgow","KY","4R04-006","4R04-41083","City, County or Local Government Unit or Department of Transportation","Rural Reporter",0,1,0,0,0,0,0,0,0,0,0,0,0,0,2,2,0,0,0,0,0,0,0,0,0,0,0,0,0,0,0,0,0,0,0,0,0,0,0,0,0,0,0,0,0,0,0,0,0,0,0,0,2,2,0,0,0,0,0,0,0,0]
["Fosston, City of","Fosston","MN","5R04-005","5R04-50430","Independent Public Agency or Authority of Transit Service","Rural Reporter",0,1,0,0,0,0,0,0,0,0,0,0,0,0,1,0,0,0,0,0,0,0,0,0,0,0,0,0,0,0,0,0,0,0,0,0,0,0,0,0,0,0,0,0,0,0,0,0,0,0,0,0,1,0,0,0,0,0,0,0,0,0]
["City of Edgerton","Edgerton","WI","5R06-014","5R06-50391","City, County or Local Government Unit or Department of Transportation","Rural Reporter",0,1,0,0,0,0,0,0,0,0,0,0,0,0,0,0,0,0,1,0,0,0,0,0,0,0,0,0,0,0,0,0,0,0,0,0,0,0,0,0,0,0,0,0,0,0,0,0,0,0,0,0,1,0,0,0,0,0,0,0,0,0]
["Decatur County Transportation Bus","Oberlin","KS","7R02-119","7R02-70102","City, County or Local Government Unit or Department of Transportation","Rural Reporter",0,1,0,0,0,0,0,0,0,0,0,0,0,0,1,0,0,0,1,1,0,0,0,0,0,0,0,0,0,0,0,0,0,0,0,0,0,0,0,0,0,0,0,0,0,0,0,0,0,0,0,0,2,1,0,0,0,0,0,0,0,0]
["Lane County Transportation","Dighton","KS","7R02-102","7R02-70197","City, County or Local Government Unit or Department of Transportation","Rural Reporter",0,1,0,0,0,0,0,0,0,0,0,0,1,0,0,0,0,0,0,0,0,0,0,0,0,0,0,0,0,0,0,0,0,0,0,0,0,0,0,0,0,0,0,0,0,0,0,0,0,0,0,0,1,0,0,0,0,0,0,0,0,0]
["City of Nevada","Nevada","MO","7R03-016","7R03-70134","City, County or Local Government Unit or Department of Transportation","Rural Reporter",0,1,0,0,0,0,0,0,0,0,0,0,1,0,0,0,0,0,0,0,0,0,0,0,0,0,0,0,0,0,0,0,0,0,0,0,0,0,0,0,0,0,0,0,0,0,0,0,0,0,0,0,1,0,0,0,0,0,0,0,0,0]
["Schuyler ","Schuyler","NE","7R04-012","7R04-70069","City, County or Local Government Unit or Department of Transportation","Rural Reporter",0,1,0,0,0,0,0,0,0,0,0,0,0,0,1,1,0,0,0,0,0,0,0,0,0,0,0,0,0,0,0,0,0,0,0,0,0,0,0,0,0,0,0,0,0,0,0,0,0,0,0,0,1,1,0,0,0,0,0,0,0,0]
["City of Plainview Handivan","Plainview","NE","7R04-063","7R04-70193","City, County or Local Government Unit or Department of Transportation","Rural Reporter",0,1,0,0,0,0,0,0,0,0,0,0,0,0,0,0,0,0,1,0,0,0,0,0,0,0,0,0,0,0,0,0,0,0,0,0,0,0,0,0,0,0,0,0,0,0,0,0,0,0,0,0,1,0,0,0,0,0,0,0,0,0]
["City of Laurel","Laurel","MT","8R02-043","8R02-80262","City, County or Local Government Unit or Department of Transportation","Rural Reporter",0,1,0,0,0,0,0,0,0,0,0,0,1,1,1,0,0,0,0,0,0,0,0,0,0,0,0,0,0,0,0,0,0,0,0,0,0,0,0,0,0,0,0,0,0,0,0,0,0,0,0,0,2,1,0,0,0,0,0,0,0,0]
["Los Angeles County Dept. of Public Works - Lennox Shuttle","Alhambra","CA",null,90275,"City, County or Local Government Unit or Department of Transportation","Reduced Reporter",12150996,1,0,0,0,0,0,0,0,0,0,0,0,0,1,0,0,0,0,0,0,0,0,0,0,0,0,0,0,0,0,0,0,0,0,0,0,0,0,0,0,0,0,0,0,0,0,0,0,0,0,0,1,0,0,0,0,0,0,0,0,0]
["Blue Lake Rancheria","Blue Lake","CA","9T02",99292,"Tribe","Reduced Reporter",0,1,0,0,0,0,0,0,0,0,0,0,1,0,2,1,0,0,0,0,0,0,0,0,0,0,0,0,0,0,0,0,0,0,0,0,0,0,0,0,0,0,0,0,0,0,0,0,0,0,0,0,3,1,0,0,0,0,0,0,0,0]
["Boise Basin Senior Center","Idaho City","ID","0R01-019","0R01-00392","Private-Non-Profit Corporation","Reduced Asset Reporter",0,0,0,0,0,0,0,0,0,0,0,0,0,0,1,1,0,0,0,0,0,0,0,0,0,0,0,0,0,0,0,0,0,0,0,0,0,0,0,0,0,0,0,0,0,0,0,0,0,0,0,0,1,1,0,0,0,0,0,0,0,0]
["Filer Senior Center","Filer","ID",null,"0R01-00426","Private-Non-Profit Corporation","Reduced Asset Reporter",0,0,0,0,0,0,0,0,0,0,0,0,0,0,1,1,0,0,0,0,0,0,0,0,0,0,0,0,0,0,0,0,0,0,0,0,0,0,0,0,0,0,0,0,0,0,0,0,0,0,0,0,1,1,0,0,0,0,0,0,0,0]
["Adams County Health Center","Council","ID",null,"0R01-00431","Private-Non-Profit Corporation","Reduced Asset Reporter",0,0,0,0,0,0,0,0,0,0,0,0,0,0,1,1,0,0,0,0,0,0,0,0,0,0,0,0,0,0,0,0,0,0,0,0,0,0,0,0,0,0,0,0,0,0,0,0,0,0,0,0,1,1,0,0,0,0,0,0,0,0]
["Tesh, Inc.","Coeur d'Alene","ID",null,"0R01-00433","Private-Non-Profit Corporation","Reduced Asset Reporter",0,0,0,0,0,0,0,0,0,0,0,0,3,3,1,1,8,7,6,5,0,0,0,0,0,0,0,0,0,0,0,0,0,0,0,0,0,0,0,0,0,0,0,0,0,0,0,0,0,0,0,0,18,16,0,0,0,0,0,0,0,0]
["Minidoka Memorial Hospital","Rupert","ID",null,"0R01-00438","City, County or Local Government Unit or Department of Transportation","Reduced Asset Reporter",0,0,0,0,0,0,0,0,0,0,0,0,0,0,1,1,0,0,1,0,0,0,0,0,0,0,0,0,0,0,0,0,0,0,0,0,0,0,0,0,0,0,0,0,0,0,0,0,0,0,0,0,2,1,0,0,0,0,0,0,0,0]
["New Meadows Senior Center","New Meadows","ID",null,"0R01-00443","Private-Non-Profit Corporation","Reduced Asset Reporter",0,0,0,0,0,0,0,0,0,0,0,0,0,0,1,0,0,0,0,0,0,0,0,0,0,0,0,0,0,0,0,0,0,0,0,0,0,0,0,0,0,0,0,0,0,0,0,0,0,0,0,0,1,0,0,0,0,0,0,0,0,0]
["Council Senior Center","Council","ID",null,"0R01-00448","Private-Non-Profit Corporation","Reduced Asset Reporter",0,0,0,0,0,0,0,0,0,0,0,0,0,0,1,0,0,0,0,0,0,0,0,0,0,0,0,0,0,0,0,0,0,0,0,0,0,0,0,0,0,0,0,0,0,0,0,0,0,0,0,0,1,0,0,0,0,0,0,0,0,0]
["Boise Good Samaritan Housing, Inc","Boise","ID",null,"0R01-00451","Private-Non-Profit Corporation","Reduced Asset Reporter",0,0,0,0,0,0,0,0,0,0,0,0,1,1,0,0,0,0,0,0,0,0,0,0,0,0,0,0,0,0,0,0,0,0,0,0,0,0,0,0,0,0,0,0,0,0,0,0,0,0,0,0,1,1,0,0,0,0,0,0,0,0]
["Elderly Opportunity Agency (EOA)","Emmett","ID",null,"0R01-00457","Private-Non-Profit Corporation","Reduced Asset Reporter",0,0,0,0,0,0,0,0,0,0,0,0,0,0,2,2,1,1,0,0,0,0,0,0,0,0,0,0,0,0,0,0,0,0,0,0,0,0,0,0,0,0,0,0,0,0,0,0,0,0,0,0,3,3,0,0,0,0,0,0,0,0]
["Lake County","Lakeview","OR",null,"0R02-00411","City, County or Local Government Unit or Department of Transportation","Reduced Asset Reporter",0,0,2,0,0,0,0,0,0,0,0,0,4,0,0,0,0,0,0,0,1,1,0,0,0,0,0,0,0,0,0,0,0,0,0,0,0,0,0,0,0,0,0,0,0,0,0,0,0,0,0,0,7,1,0,0,0,0,0,0,0,0]
["Town of Ashford","Ashford","CT",null,"1R01-11177","City, County or Local Government Unit or Department of Transportation","Reduced Asset Reporter",0,0,0,0,0,0,0,0,0,0,0,0,0,0,1,0,0,0,0,0,0,0,0,0,0,0,0,0,0,0,0,0,0,0,0,0,0,0,0,0,0,0,0,0,0,0,0,0,0,0,0,0,1,0,0,0,0,0,0,0,0,0]
["Town of Watertown","Watertown","CT",null,"1R01-11182","City, County or Local Government Unit or Department of Transportation","Reduced Asset Reporter",0,0,0,0,0,0,0,0,0,0,0,0,0,0,2,1,0,0,0,0,0,0,0,0,0,0,0,0,0,0,0,0,0,0,0,0,0,0,0,0,0,0,0,0,0,0,0,0,0,0,0,0,2,1,0,0,0,0,0,0,0,0]
["Town of Trumbull","Trumbull","CT",null,"1R01-11184","City, County or Local Government Unit or Department of Transportation","Reduced Asset Reporter",0,0,0,0,0,0,0,0,0,0,0,0,0,0,3,2,0,0,0,0,0,0,0,0,0,0,0,0,0,0,0,0,0,0,0,0,0,0,0,0,0,0,0,0,0,0,0,0,0,0,0,0,3,2,0,0,0,0,0,0,0,0]
["Town of Southbury","Southbury","CT",null,"1R01-11189","City, County or Local Government Unit or Department of Transportation","Reduced Asset Reporter",0,0,0,0,0,0,0,0,0,0,0,0,0,0,2,0,0,0,0,0,0,0,0,0,0,0,0,0,0,0,0,0,0,0,0,0,0,0,0,0,0,0,0,0,0,0,0,0,0,0,0,0,2,0,0,0,0,0,0,0,0,0]
["Town of Roxbury","Roxbury","CT",null,"1R01-11194","City, County or Local Government Unit or Department of Transportation","Reduced Asset Reporter",0,0,0,0,0,0,0,0,0,0,0,0,0,0,1,0,0,0,0,0,0,0,0,0,0,0,0,0,0,0,0,0,0,0,0,0,0,0,0,0,0,0,0,0,0,0,0,0,0,0,0,0,1,0,0,0,0,0,0,0,0,0]
["Town of Rocky Hill","Rocky Hill","CT",null,"1R01-11195","City, County or Local Government Unit or Department of Transportation","Reduced Asset Reporter",0,0,0,0,0,0,0,0,0,0,0,0,0,0,3,3,0,0,0,0,0,0,0,0,0,0,0,0,0,0,0,0,0,0,0,0,0,0,0,0,0,0,0,0,0,0,0,0,0,0,0,0,3,3,0,0,0,0,0,0,0,0]
["Town of Montville","Uncasville","CT",null,"1R01-11200","City, County or Local Government Unit or Department of Transportation","Reduced Asset Reporter",0,0,0,0,0,0,0,0,0,0,0,0,0,0,1,1,0,0,0,0,0,0,0,0,0,0,0,0,0,0,0,0,0,0,0,0,0,0,0,0,0,0,0,0,0,0,0,0,0,0,0,0,1,1,0,0,0,0,0,0,0,0]
["Town of Ledyard","Gales Ferry","CT",null,"1R01-11206","City, County or Local Government Unit or Department of Transportation","Reduced Asset Reporter",0,0,0,0,0,0,0,0,0,0,0,0,0,0,1,1,0,0,0,0,0,0,0,0,0,0,0,0,0,0,0,0,0,0,0,0,0,0,0,0,0,0,0,0,0,0,0,0,0,0,0,0,1,1,0,0,0,0,0,0,0,0]
["Town of Glastonbury","Glastonbury","CT",null,"1R01-11211","City, County or Local Government Unit or Department of Transportation","Reduced Asset Reporter",0,0,0,0,0,0,0,0,0,0,0,0,0,0,1,0,0,0,0,0,0,0,0,0,0,0,0,0,0,0,0,0,0,0,0,0,0,0,0,0,0,0,0,0,0,0,0,0,0,0,0,0,1,0,0,0,0,0,0,0,0,0]
["Town of Farmington","Farmington","CT",null,"1R01-11212","City, County or Local Government Unit or Department of Transportation","Reduced Asset Reporter",0,0,0,0,0,0,0,0,0,0,0,0,0,0,1,1,0,0,0,0,0,0,0,0,0,0,0,0,0,0,0,0,0,0,0,0,0,0,0,0,0,0,0,0,0,0,0,0,0,0,0,0,1,1,0,0,0,0,0,0,0,0]
["Town of Canton","Canton","CT",null,"1R01-11218","City, County or Local Government Unit or Department of Transportation","Reduced Asset Reporter",0,0,0,0,0,0,0,0,0,0,0,0,0,0,1,0,0,0,0,0,0,0,0,0,0,0,0,0,0,0,0,0,0,0,0,0,0,0,0,0,0,0,0,0,0,0,0,0,0,0,0,0,1,0,0,0,0,0,0,0,0,0]
["Transportation Assoc. of Greenwich","Riverside","CT",null,"1R01-11223","Private-Non-Profit Corporation","Reduced Asset Reporter",0,0,0,0,0,0,0,0,0,0,0,0,0,0,4,2,0,0,0,0,0,0,0,0,0,0,0,0,0,0,0,0,0,0,0,0,0,0,0,0,0,0,0,0,0,0,0,0,0,0,0,0,4,2,0,0,0,0,0,0,0,0]
["Hockanum Valley Community Council","Vernon","CT",null,"1R01-11228","Private-Non-Profit Corporation","Reduced Asset Reporter",0,0,0,0,0,0,0,0,0,0,0,0,0,0,6,5,0,0,0,0,0,0,0,0,0,0,0,0,0,0,0,0,0,0,0,0,0,0,0,0,0,0,0,0,0,0,0,0,0,0,0,0,6,5,0,0,0,0,0,0,0,0]
["Geer Nursing & Rehabilitation Center","Canaan","CT",null,"1R01-11229","Private-Non-Profit Corporation","Reduced Asset Reporter",0,0,0,0,0,0,0,0,0,0,0,0,0,0,1,1,0,0,0,0,0,0,0,0,0,0,0,0,0,0,0,0,0,0,0,0,0,0,0,0,0,0,0,0,0,0,0,0,0,0,0,0,1,1,0,0,0,0,0,0,0,0]
["Grafton County Senior Citizens Council, Inc. ","Lebanon","NH",null,"1R04-11166","Private-Non-Profit Corporation","Reduced Asset Reporter",0,0,0,0,0,0,0,0,0,0,0,0,0,0,11,1,0,0,0,0,0,0,0,0,0,0,0,0,0,0,0,0,0,0,0,0,0,0,0,0,0,0,0,0,0,0,0,0,0,0,0,0,11,1,0,0,0,0,0,0,0,0]
["Riverbend Community Mental Health","Concord","NH",null,"1R04-11174","Private-Non-Profit Corporation","Reduced Asset Reporter",0,0,0,0,0,0,0,0,0,0,0,0,0,0,1,1,0,0,0,0,0,0,0,0,0,0,0,0,0,0,0,0,0,0,0,0,0,0,0,0,0,0,0,0,0,0,0,0,0,0,0,0,1,1,0,0,0,0,0,0,0,0]
["Borough of Cliffside Park Housing Authority","Cliffside Park","NJ",null,"2R01-22933","City, County or Local Government Unit or Department of Transportation","Reduced Asset Reporter",0,0,0,0,0,0,0,0,0,0,0,0,1,0,2,1,0,0,0,0,0,0,0,0,0,0,0,0,0,0,0,0,0,0,0,0,0,0,0,0,0,0,0,0,0,0,0,0,0,0,0,0,3,1,0,0,0,0,0,0,0,0]
["Borough of Roselle Park","Roselle Park","NJ",null,"2R01-22934","City, County or Local Government Unit or Department of Transportation","Reduced Asset Reporter",0,0,0,0,0,0,0,0,0,0,0,0,1,1,2,1,0,0,0,0,0,0,0,0,0,0,0,0,0,0,0,0,0,0,0,0,0,0,0,0,0,0,0,0,0,0,0,0,0,0,0,0,3,2,0,0,0,0,0,0,0,0]
["City of Plainfield","Plainfield","NJ",null,"2R01-22939","City, County or Local Government Unit or Department of Transportation","Reduced Asset Reporter",0,0,0,0,0,0,0,0,0,0,0,0,2,1,2,0,0,0,0,0,0,0,0,0,0,0,0,0,0,0,0,0,0,0,0,0,0,0,0,0,0,0,0,0,0,0,0,0,0,0,0,0,4,1,0,0,0,0,0,0,0,0]
["Long Beach Island Community Center Inc.","Brant Beach","NJ",null,"2R01-22943","Private-Non-Profit Corporation","Reduced Asset Reporter",0,0,0,0,0,0,0,0,0,0,0,0,0,0,7,0,2,0,0,0,0,0,0,0,0,0,0,0,0,0,0,0,0,0,0,0,0,0,0,0,0,0,0,0,0,0,0,0,0,0,0,0,9,0,0,0,0,0,0,0,0,0]
["Township of Stafford","Manahawkin","NJ",null,"2R01-22950","City, County or Local Government Unit or Department of Transportation","Reduced Asset Reporter",0,0,0,0,0,0,0,0,0,0,0,0,0,0,3,0,0,0,0,0,0,0,0,0,0,0,0,0,0,0,0,0,0,0,0,0,0,0,0,0,0,0,0,0,0,0,0,0,0,0,0,0,3,0,0,0,0,0,0,0,0,0]
["Township of Union","Union","NJ",null,"2R01-22951","City, County or Local Government Unit or Department of Transportation","Reduced Asset Reporter",0,0,3,2,0,0,0,0,0,0,0,0,0,0,1,1,1,1,1,1,0,0,0,0,0,0,0,0,0,0,0,0,0,0,0,0,0,0,0,0,0,0,0,0,0,0,0,0,0,0,0,0,6,5,0,0,0,0,0,0,0,0]
["Township of Ewing","Ewing","NJ",null,"2R01-22956","City, County or Local Government Unit or Department of Transportation","Reduced Asset Reporter",0,0,0,0,0,0,0,0,0,0,0,0,0,0,2,1,0,0,0,0,0,0,0,0,0,0,0,0,0,0,0,0,0,0,0,0,0,0,0,0,0,0,0,0,0,0,0,0,0,0,0,0,2,1,0,0,0,0,0,0,0,0]
["Township of Pemberton","Pemberton","NJ",null,"2R01-22961","City, County or Local Government Unit or Department of Transportation","Reduced Asset Reporter",0,0,0,0,0,0,0,0,0,0,0,0,0,0,2,0,0,0,0,0,0,0,0,0,0,0,0,0,0,0,0,0,0,0,0,0,0,0,0,0,0,0,0,0,0,0,0,0,0,0,0,0,2,0,0,0,0,0,0,0,0,0]
["Borough of Fort Lee","Fort Lee","NJ",null,"2R01-22966","City, County or Local Government Unit or Department of Transportation","Reduced Asset Reporter",0,0,0,0,0,0,0,0,0,0,0,0,0,0,9,0,0,0,0,0,0,0,0,0,0,0,0,0,0,0,0,0,0,0,0,0,0,0,0,0,0,0,0,0,0,0,0,0,0,0,0,0,9,0,0,0,0,0,0,0,0,0]
["City of Paterson","Paterson","NJ",null,"2R01-22968","City, County or Local Government Unit or Department of Transportation","Reduced Asset Reporter",0,0,0,0,0,0,0,0,0,0,0,0,0,0,8,2,0,0,0,0,0,0,0,0,0,0,0,0,0,0,0,0,0,0,0,0,0,0,0,0,0,0,0,0,0,0,0,0,0,0,0,0,8,2,0,0,0,0,0,0,0,0]
["The Township of South Orange Village Inc.","South Orange","NJ",null,"2R01-22973","City, County or Local Government Unit or Department of Transportation","Reduced Asset Reporter",0,0,0,0,0,0,0,0,0,0,0,0,0,0,2,0,0,0,0,0,0,0,0,0,0,0,0,0,0,0,0,0,0,0,0,0,0,0,0,0,0,0,0,0,0,0,0,0,0,0,0,0,2,0,0,0,0,0,0,0,0,0]
["Blair Senior Services, Inc.","Altoona","PA",null,"3R04-31029","Area Agency on Aging","Reduced Asset Reporter",0,0,0,0,0,0,0,0,0,0,0,0,0,0,34,12,0,0,0,0,0,0,0,0,0,0,0,0,0,0,0,0,0,0,0,0,0,0,0,0,0,0,0,0,0,0,0,0,0,0,0,0,34,12,0,0,0,0,0,0,0,0]
["Wayne County Area Agency on Aging","Honesdale","PA",null,"3R04-31035","Area Agency on Aging","Reduced Asset Reporter",0,0,0,0,0,0,0,0,0,0,0,0,7,1,8,1,2,0,14,0,0,0,0,0,0,0,0,0,0,0,0,0,0,0,0,0,0,0,0,0,0,0,0,0,0,0,0,0,0,0,0,0,31,2,0,0,0,0,0,0,0,0]
["STEP, Inc.","Williamsport ","PA",null,"3R04-31036","Private-Non-Profit Corporation","Reduced Asset Reporter",0,0,0,0,0,0,0,0,0,0,0,0,3,3,20,4,18,0,10,2,2,0,0,0,0,0,0,0,0,0,0,0,0,0,0,0,0,0,0,0,0,0,0,0,0,0,0,0,0,0,0,0,53,9,0,0,0,0,0,0,0,0]
["County of Butler","Butler","PA",null,"3R04-31041","City, County or Local Government Unit or Department of Transportation","Reduced Asset Reporter",0,0,0,0,0,0,0,0,0,0,0,0,10,7,6,4,0,0,21,0,0,0,0,0,0,0,0,0,0,0,0,0,0,0,0,0,0,0,0,0,0,0,0,0,0,0,0,0,0,0,0,0,37,11,0,0,0,0,0,0,0,0]
["Wood County Senior Citizens Association","Parkersburg","WV",null,"3R05-30991","Private-Non-Profit Corporation","Reduced Asset Reporter",0,0,0,0,0,0,0,0,0,0,0,0,0,0,2,0,0,0,1,0,0,0,0,0,0,0,0,0,0,0,0,0,0,0,0,0,0,0,0,0,0,0,0,0,0,0,0,0,0,0,0,0,3,0,0,0,0,0,0,0,0,0]
["Tucker County Senior Citizens","Parsons","WV",null,"3R05-30995","Private-Non-Profit Corporation","Reduced Asset Reporter",0,0,0,0,0,0,0,0,0,0,0,0,0,0,1,0,0,0,0,0,0,0,0,0,0,0,0,0,0,0,0,0,0,0,0,0,0,0,0,0,0,0,0,0,0,0,0,0,0,0,0,0,1,0,0,0,0,0,0,0,0,0]
["Raleigh County Community Action Association","Beckley","WV",null,"3R05-30999","Private-Non-Profit Corporation","Reduced Asset Reporter",0,0,0,0,0,0,0,0,0,0,0,0,0,0,4,0,0,0,1,0,0,0,0,0,0,0,0,0,0,0,0,0,0,0,0,0,0,0,0,0,0,0,0,0,0,0,0,0,0,0,0,0,5,0,0,0,0,0,0,0,0,0]
["Monroe County Council on Aging","Lindside","WV",null,"3R05-31004","Private-Non-Profit Corporation","Reduced Asset Reporter",0,0,0,0,0,0,0,0,0,0,0,0,1,0,1,0,0,0,0,0,0,0,0,0,0,0,0,0,0,0,0,0,0,0,0,0,0,0,0,0,0,0,0,0,0,0,0,0,0,0,0,0,2,0,0,0,0,0,0,0,0,0]
["Kanawha Valley Senior Services","Charleston","WV",null,"3R05-31009","Private-Non-Profit Corporation","Reduced Asset Reporter",0,0,0,0,0,0,0,0,0,0,0,0,1,0,0,0,0,0,1,0,0,0,0,0,0,0,0,0,0,0,0,0,0,0,0,0,0,0,0,0,0,0,0,0,0,0,0,0,0,0,0,0,2,0,0,0,0,0,0,0,0,0]
["Friends of Hansford Center","St. Albans","WV",null,"3R05-31014","Private-Non-Profit Corporation","Reduced Asset Reporter",0,0,0,0,0,0,0,0,0,0,0,0,0,0,0,0,0,0,0,0,0,0,0,0,0,0,0,0,0,0,0,0,0,0,0,0,0,0,0,0,0,0,0,0,0,0,0,0,0,0,0,0,0,0,0,0,0,0,0,0,0,0]
["Berkeley Senior Services","Martinsburg","WV",null,"3R05-31018","Private-Non-Profit Corporation","Reduced Asset Reporter",0,0,0,0,0,0,0,0,0,0,0,0,0,0,3,0,0,0,1,0,0,0,0,0,0,0,0,0,0,0,0,0,0,0,0,0,0,0,0,0,0,0,0,0,0,0,0,0,0,0,0,0,4,0,0,0,0,0,0,0,0,0]
["Christian Help, Inc. of Mingo County","Kermit","WV",null,"3R05-31021","Private-Non-Profit Corporation","Reduced Asset Reporter",0,0,0,0,0,0,0,0,0,0,0,0,0,0,0,0,0,0,2,0,0,0,0,0,0,0,0,0,0,0,0,0,0,0,0,0,0,0,0,0,0,0,0,0,0,0,0,0,0,0,0,0,2,0,0,0,0,0,0,0,0,0]
["Kent County Community Action","Grand Rapids","MI",null,"5R03-55401","Private-Non-Profit Corporation","Reduced Asset Reporter",0,0,0,0,0,0,0,0,0,0,0,0,2,0,5,0,0,0,1,0,0,0,0,0,0,0,0,0,0,0,0,0,0,0,0,0,0,0,0,0,0,0,0,0,0,0,0,0,0,0,0,0,8,0,0,0,0,0,0,0,0,0]
["Wellspring Lutheran Services","Frankenmuth","MI",null,"5R03-55420","Private-Non-Profit Corporation","Reduced Asset Reporter",0,0,0,0,0,0,0,0,0,0,0,0,0,0,1,0,0,0,1,0,0,0,0,0,0,0,0,0,0,0,0,0,0,0,0,0,0,0,0,0,0,0,0,0,0,0,0,0,0,0,0,0,2,0,0,0,0,0,0,0,0,0]
["Senior Neighbors","Grand Rapids","MI",null,"5R03-55425","Private-Non-Profit Corporation","Reduced Asset Reporter",0,0,0,0,0,0,0,0,0,0,0,0,0,0,3,0,0,0,2,2,0,0,0,0,0,0,0,0,0,0,0,0,0,0,0,0,0,0,0,0,0,0,0,0,0,0,0,0,0,0,0,0,5,2,0,0,0,0,0,0,0,0]
["Presque Isle County Council on Aging","Posen","MI",null,"5R03-55427","Private-Non-Profit Corporation","Reduced Asset Reporter",0,0,0,0,0,0,0,0,0,0,0,0,1,0,3,1,0,0,0,0,0,0,0,0,0,0,0,0,0,0,0,0,0,0,0,0,0,0,0,0,0,0,0,0,0,0,0,0,0,0,0,0,4,1,0,0,0,0,0,0,0,0]
["Montcalm County Commission on Aging","Stanton","MI",null,"5R03-55432","Private-Non-Profit Corporation","Reduced Asset Reporter",0,0,0,0,0,0,0,0,0,0,0,0,2,0,0,0,0,0,1,0,0,0,0,0,0,0,0,0,0,0,0,0,0,0,0,0,0,0,0,0,0,0,0,0,0,0,0,0,0,0,0,0,3,0,0,0,0,0,0,0,0,0]
["Manchester Area Senior Citizens Council, Inc.","Manchester","MI",null,"5R03-55438","Private-Non-Profit Corporation","Reduced Asset Reporter",0,0,0,0,0,0,0,0,0,0,0,0,0,0,1,0,0,0,0,0,0,0,0,0,0,0,0,0,0,0,0,0,0,0,0,0,0,0,0,0,0,0,0,0,0,0,0,0,0,0,0,0,1,0,0,0,0,0,0,0,0,0]
["Lapeer Team Work, Inc.","Lapeer","MI",null,"5R03-55439","Private-Non-Profit Corporation","Reduced Asset Reporter",0,0,0,0,0,0,0,0,0,0,0,0,6,2,0,0,0,0,0,0,0,0,0,0,0,0,0,0,0,0,0,0,0,0,0,0,0,0,0,0,0,0,0,0,0,0,0,0,0,0,0,0,6,2,1,1,0,0,0,0,1,1]
["Gratoit County Commission on Aging","Ithaca","MI",null,"5R03-55445","Private-Non-Profit Corporation","Reduced Asset Reporter",0,0,0,0,0,0,0,0,0,0,0,0,0,0,0,0,0,0,2,2,0,0,0,0,0,0,0,0,0,0,0,0,0,0,0,0,0,0,0,0,0,0,0,0,0,0,0,0,0,0,0,0,2,2,0,0,0,0,0,0,0,0]
["Community Inclusive Recreation","Battle Creek","MI",null,"5R03-55451","Private-Non-Profit Corporation","Reduced Asset Reporter",0,0,0,0,0,0,0,0,0,0,0,0,0,0,5,0,0,0,0,0,0,0,0,0,0,0,0,0,0,0,0,0,0,0,0,0,0,0,0,0,0,0,0,0,0,0,0,0,0,0,0,0,5,0,0,0,1,0,0,0,1,0]
["Missaukee County Commission on Aging","Lake City","MI",null,"5R03-55457","Private-Non-Profit Corporation","Reduced Asset Reporter",0,0,0,0,0,0,0,0,0,0,0,0,0,0,0,0,0,0,0,0,0,0,0,0,0,0,0,0,0,0,0,0,0,0,0,0,0,0,0,0,0,0,0,0,0,0,0,0,0,0,0,0,0,0,1,0,0,0,0,0,1,0]
["Adams Brown Counties Economic Opportunities, Inc.","Georgetown","OH",null,"5R05-55459","Private-Non-Profit Corporation","Reduced Asset Reporter",0,0,0,0,0,0,0,0,0,0,0,0,0,0,0,0,1,1,8,4,0,0,0,0,0,0,0,0,0,0,0,0,0,0,0,0,0,0,0,0,0,0,0,0,0,0,0,0,0,0,0,0,9,5,0,0,0,0,0,0,0,0]
["Brown County Senior Citizens Council","Georgetown","OH",null,"5R05-55466","Private-Non-Profit Corporation","Reduced Asset Reporter",0,0,0,0,0,0,0,0,0,0,0,0,0,0,0,0,0,0,3,2,0,0,0,0,0,0,0,0,0,0,0,0,0,0,0,0,0,0,0,0,0,0,0,0,0,0,0,0,0,0,0,0,3,2,0,0,0,0,0,0,0,0]
["Country Neighbor Program, Inc.","Orwell","OH",null,"5R05-55470","Private-Non-Profit Corporation","Reduced Asset Reporter",0,0,0,0,0,0,0,0,0,0,0,0,2,1,3,0,0,0,5,0,0,0,0,0,0,0,0,0,0,0,0,0,0,0,0,0,0,0,0,0,0,0,0,0,0,0,0,0,0,0,0,0,10,1,0,0,0,0,0,0,0,0]
["Gallia County Council on Aging","Gallipolis","OH",null,"5R05-55475","Private-Non-Profit Corporation","Reduced Asset Reporter",0,0,0,0,0,0,0,0,0,0,0,0,3,2,0,0,0,0,3,2,0,0,0,0,0,0,0,0,0,0,0,0,0,0,0,0,0,0,0,0,0,0,0,0,0,0,0,0,0,0,0,0,6,4,0,0,0,0,0,0,0,0]
["Geneva Area Senior Corporation","Geneva","OH",null,"5R05-55476","Private-Non-Profit Corporation","Reduced Asset Reporter",0,0,0,0,0,0,0,0,0,0,0,0,0,0,1,0,0,0,2,0,0,0,0,0,0,0,0,0,0,0,0,0,0,0,0,0,0,0,0,0,0,0,0,0,0,0,0,0,0,0,0,0,3,0,0,0,0,0,0,0,0,0]
["Highland County Community Action Organization, Inc.","Hillsboro","OH",null,"5R05-55481","Private-Non-Profit Corporation","Reduced Asset Reporter",0,0,0,0,0,0,0,0,0,0,0,0,0,0,0,0,0,0,2,0,0,0,0,0,0,0,0,0,0,0,0,0,0,0,0,0,0,0,0,0,0,0,0,0,0,0,0,0,0,0,0,0,2,0,0,0,0,0,0,0,0,0]
["Jeffco Workshop, Inc","Steubenville","OH",null,"5R05-55484","City, County or Local Government Unit or Department of Transportation","Reduced Asset Reporter",0,0,0,0,0,0,0,0,0,0,0,0,1,0,3,0,0,0,2,1,0,0,0,0,0,0,0,0,0,0,0,0,0,0,0,0,0,0,0,0,0,0,0,0,0,0,0,0,0,0,0,0,6,1,0,0,0,0,0,0,0,0]
["O'Neill Senior Center","Marietta","OH",null,"5R05-55492","Private-Non-Profit Corporation","Reduced Asset Reporter",0,0,0,0,0,0,0,0,0,0,0,0,0,0,4,0,0,0,3,1,0,0,0,0,0,0,0,0,0,0,0,0,0,0,0,0,0,0,0,0,0,0,0,0,0,0,0,0,0,0,0,0,7,1,0,0,0,0,0,0,0,0]
["Preble County Council on Aging, Inc.","Eaton","OH",null,"5R05-55493","Private-Non-Profit Corporation","Reduced Asset Reporter",0,0,0,0,0,0,0,0,0,0,0,0,1,1,5,1,0,0,12,2,0,0,0,0,0,0,0,0,0,0,0,0,0,0,0,0,0,0,0,0,0,0,0,0,0,0,0,0,0,0,0,0,18,4,0,0,0,0,0,0,0,0]
["Serving Our Seniors","Sandusky","OH",null,"5R05-55498","Private-Non-Profit Corporation","Reduced Asset Reporter",0,0,0,0,0,0,0,0,0,0,0,0,0,0,1,0,0,0,0,0,0,0,0,0,0,0,0,0,0,0,0,0,0,0,0,0,0,0,0,0,0,0,0,0,0,0,0,0,0,0,0,0,1,0,0,0,0,0,0,0,0,0]
["Tuscarawas County Committee on Aging, Inc","Dover","OH",null,"5R05-55502","Private-Non-Profit Corporation","Reduced Asset Reporter",0,0,0,0,0,0,0,0,0,0,0,0,4,2,0,0,0,0,18,3,0,0,0,0,0,0,0,0,0,0,0,0,0,0,0,0,0,0,0,0,0,0,0,0,0,0,0,0,0,0,0,0,22,5,0,0,0,0,0,0,0,0]
["Wood County Children's Services Association","Bowling Green","OH",null,"5R05-55509","Private-Non-Profit Corporation","Reduced Asset Reporter",0,0,0,0,0,0,0,0,0,0,0,0,3,2,0,0,0,0,6,2,0,0,0,0,0,0,0,0,0,0,0,0,0,0,0,0,0,0,0,0,0,0,0,0,0,0,0,0,0,0,0,0,9,4,0,0,0,0,0,0,0,0]
["Woodland Centers, Inc.","Gallipolis","OH",null,"5R05-55510","Private-Non-Profit Corporation","Reduced Asset Reporter",0,0,0,0,0,0,0,0,0,0,0,0,2,1,0,0,0,0,5,2,0,0,0,0,0,0,0,0,0,0,0,0,0,0,0,0,0,0,0,0,0,0,0,0,0,0,0,0,0,0,0,0,7,3,0,0,0,0,0,0,0,0]
["Aptiv, Inc.","La Crosse","WI",null,"5R06-55333","City, County or Local Government Unit or Department of Transportation","Reduced Asset Reporter",0,0,0,0,0,0,0,0,0,0,0,0,0,0,7,7,0,0,0,0,0,0,0,0,0,0,0,0,0,0,0,0,0,0,0,0,0,0,0,0,0,0,0,0,0,0,0,0,0,0,0,0,7,7,0,0,0,0,0,0,0,0]
["County of Buffalo","Alma","WI",null,"5R06-55339","City, County or Local Government Unit or Department of Transportation","Reduced Asset Reporter",0,0,0,0,0,0,0,0,0,0,0,0,1,1,2,1,0,0,2,1,0,0,0,0,0,0,0,0,0,0,0,0,0,0,0,0,0,0,0,0,0,0,0,0,0,0,0,0,0,0,0,0,5,3,0,0,0,0,0,0,0,0]
["County of Rock","Janesville","WI",null,"5R06-55345","City, County or Local Government Unit or Department of Transportation","Reduced Asset Reporter",0,0,0,0,0,0,0,0,0,0,0,0,0,0,10,3,1,1,1,1,0,0,0,0,0,0,0,0,0,0,0,0,0,0,0,0,0,0,0,0,0,0,0,0,0,0,0,0,0,0,0,0,12,5,0,0,0,0,0,0,0,0]
["County of Trempealeau","Whitehall","WI",null,"5R06-55346","City, County or Local Government Unit or Department of Transportation","Reduced Asset Reporter",0,0,0,0,0,0,0,0,0,0,0,0,0,0,7,3,0,0,4,2,0,0,0,0,0,0,0,0,0,0,0,0,0,0,0,0,0,0,0,0,0,0,0,0,0,0,0,0,0,0,0,0,11,5,0,0,0,0,0,0,0,0]
["Endeavors Adult Development Center, Inc.","Balsam Lake","WI",null,"5R06-55353","Private-Non-Profit Corporation","Reduced Asset Reporter",0,0,0,0,0,0,0,0,0,0,0,0,0,0,7,3,0,0,3,1,0,0,0,0,0,0,0,0,0,0,0,0,0,0,0,0,0,0,0,0,0,0,0,0,0,0,0,0,0,0,0,0,10,4,0,0,0,0,0,0,0,0]
["Interfaith Caregivers of Washington County","West Bend ","WI",null,"5R06-55358","Private-Non-Profit Corporation","Reduced Asset Reporter",0,0,0,0,0,0,0,0,0,0,0,0,0,0,0,0,0,0,5,4,0,0,0,0,0,0,0,0,0,0,0,0,0,0,0,0,0,0,0,0,0,0,0,0,0,0,0,0,0,0,0,0,5,4,0,0,0,0,0,0,0,0]
["Lauri Jean Zach Center, Inc.","Glidden","WI",null,"5R06-55360","Private-Non-Profit Corporation","Reduced Asset Reporter",0,0,0,0,0,0,0,0,0,0,0,0,0,0,2,2,0,0,0,0,0,0,0,0,0,0,0,0,0,0,0,0,0,0,0,0,0,0,0,0,0,0,0,0,0,0,0,0,0,0,0,0,2,2,0,0,0,0,0,0,0,0]
["Southwestern WI Community Action Program, Inc.","Dodgeville","WI",null,"5R06-55366","Private-Non-Profit Corporation","Reduced Asset Reporter",0,0,0,0,0,0,0,0,0,0,0,0,0,0,2,0,0,0,6,3,0,0,0,0,0,0,0,0,0,0,0,0,0,0,0,0,0,0,0,0,0,0,0,0,0,0,0,0,0,0,0,0,8,3,0,0,0,0,0,0,0,0]
["Waushara Industries, Inc.","Wautoma","WI",null,"5R06-55374","Private-Non-Profit Corporation","Reduced Asset Reporter",0,0,0,0,0,0,0,0,0,0,0,0,2,2,7,3,0,0,3,1,0,0,0,0,0,0,0,0,0,0,0,0,0,0,0,0,0,0,0,0,0,0,0,0,0,0,0,0,0,0,0,0,12,6,0,0,0,0,0,0,0,0]
["ARC of Fond du Lac, Inc.","Fond du Lac","WI",null,"5R06-55379","Private-Non-Profit Corporation","Reduced Asset Reporter",0,0,0,0,0,0,0,0,0,0,0,0,0,0,5,3,0,0,8,8,0,0,0,0,0,0,0,0,0,0,0,0,0,0,0,0,0,0,0,0,0,0,0,0,0,0,0,0,0,0,0,0,13,11,0,0,0,0,0,0,0,0]
["County of Columbia","Portage","WI",null,"5R06-55384","City, County or Local Government Unit or Department of Transportation","Reduced Asset Reporter",0,0,0,0,0,0,0,0,0,0,0,0,0,0,0,0,1,1,8,4,0,0,0,0,0,0,0,0,0,0,0,0,0,0,0,0,0,0,0,0,0,0,0,0,0,0,0,0,0,0,0,0,9,5,0,0,0,0,0,0,0,0]
["County of Vernon","Viroqua","WI",null,"5R06-55390","City, County or Local Government Unit or Department of Transportation","Reduced Asset Reporter",0,0,0,0,0,0,0,0,0,0,0,0,0,0,3,1,0,0,0,0,0,0,0,0,0,0,0,0,0,0,0,0,0,0,0,0,0,0,0,0,0,0,0,0,0,0,0,0,0,0,0,0,3,1,0,0,0,0,0,0,0,0]
["County of Waupaca","Waupaca","WI",null,"5R06-55397","City, County or Local Government Unit or Department of Transportation","Reduced Asset Reporter",0,0,0,0,0,0,0,0,0,0,0,0,0,0,3,1,0,0,3,2,0,0,0,0,0,0,0,0,0,0,0,0,0,0,0,0,0,0,0,0,0,0,0,0,0,0,0,0,0,0,0,0,6,3,0,0,0,0,0,0,0,0]
["Careers Industries, Inc.","Racine","WI",null,"5R06-55405","Private-Non-Profit Corporation","Reduced Asset Reporter",0,0,0,0,0,0,0,0,0,0,0,0,0,0,0,0,0,0,14,12,0,0,0,0,0,0,0,0,0,0,0,0,0,0,0,0,0,0,0,0,0,0,0,0,0,0,0,0,0,0,0,0,14,12,0,0,0,0,0,0,0,0]
["Morrow Home for the Aged","Sparta","WI",null,"5R06-55411","Private-Non-Profit Corporation","Reduced Asset Reporter",0,0,0,0,0,0,0,0,0,0,0,0,0,0,4,3,0,0,1,1,0,0,0,0,0,0,0,0,0,0,0,0,0,0,0,0,0,0,0,0,0,0,0,0,0,0,0,0,0,0,0,0,5,4,0,0,0,0,0,0,0,0]
["Opportunity of North Central Wisconsin, Inc.","Wausau","WI",null,"5R06-55416","Private-Non-Profit Corporation","Reduced Asset Reporter",0,0,0,0,0,0,0,0,0,0,0,0,0,0,13,9,0,0,3,3,0,0,0,0,0,0,0,0,0,0,0,0,0,0,0,0,0,0,0,0,0,0,0,0,0,0,0,0,0,0,0,0,16,12,0,0,0,0,0,0,0,0]
["Tri-County Memorial Hospital","Whitehall","WI",null,"5R06-55458","Private-Non-Profit Corporation","Reduced Asset Reporter",0,0,0,0,0,0,0,0,0,0,0,0,0,0,1,1,0,0,0,0,0,0,0,0,0,0,0,0,0,0,0,0,0,0,0,0,0,0,0,0,0,0,0,0,0,0,0,0,0,0,0,0,1,1,0,0,0,0,0,0,0,0]
["Franklin Parish COA","Winnsboro","LA",null,"6R02-66288","Private-Non-Profit Corporation","Reduced Asset Reporter",0,0,0,0,0,0,0,0,0,0,0,0,1,1,0,0,0,0,1,1,0,0,0,0,0,0,0,0,0,0,0,0,0,0,0,0,0,0,0,0,0,0,0,0,0,0,0,0,0,0,0,0,2,2,0,0,0,0,0,0,0,0]
["Ouachita ARC","Monroe","LA",null,"6R02-66293","Private-Non-Profit Corporation","Reduced Asset Reporter",0,0,0,0,0,0,0,0,0,0,0,0,1,1,1,1,2,1,9,2,0,0,0,0,0,0,0,0,0,0,0,0,0,0,0,0,0,0,0,0,0,0,0,0,0,0,0,0,0,0,0,0,13,5,0,0,0,0,0,0,0,0]
["St. Charles COA","Hahnville","LA",null,"6R02-66294","Private-Non-Profit Corporation","Reduced Asset Reporter",0,0,0,0,0,0,0,0,0,0,0,0,0,0,5,0,0,0,0,0,0,0,0,0,0,0,0,0,0,0,0,0,0,0,0,0,0,0,0,0,0,0,0,0,0,0,0,0,0,0,0,0,5,0,0,0,0,0,0,0,0,0]
["Zapata County","Zapata","TX",null,"6R05-66320","City, County or Local Government Unit or Department of Transportation","Reduced Asset Reporter",0,0,0,0,0,0,0,0,0,0,0,0,3,3,2,1,0,0,1,0,0,0,0,0,0,0,0,0,0,0,0,0,0,0,0,0,0,0,0,0,0,0,0,0,0,0,0,0,0,0,0,0,6,4,0,0,0,0,0,0,0,0]
["Big Bend Community Action Agency","Marfa","TX",null,"6R05-66325","Private-Non-Profit Corporation","Reduced Asset Reporter",0,0,0,0,0,0,0,0,0,0,0,0,0,0,1,0,0,0,2,1,0,0,0,0,0,0,0,0,0,0,0,0,0,0,0,0,0,0,0,0,0,0,0,0,0,0,0,0,0,0,0,0,3,1,0,0,0,0,0,0,0,0]
["San Miguel County","Norwood","CO",null,"8R01-88214","City, County or Local Government Unit or Department of Transportation","Reduced Asset Reporter",0,0,0,0,0,0,0,0,0,0,0,0,2,0,0,0,0,0,0,0,0,0,0,0,0,0,0,0,0,0,0,0,0,0,0,0,0,0,0,0,0,0,0,0,0,0,0,0,0,0,0,0,2,0,0,0,0,0,0,0,0,0]
["City and County of Broomfield","Broomfield","CO",null,"8R01-88279","City, County or Local Government Unit or Department of Transportation","Reduced Asset Reporter",0,0,0,0,0,0,0,0,0,0,0,0,0,0,5,0,1,1,2,0,0,0,0,0,0,0,0,0,0,0,0,0,0,0,0,0,0,0,0,0,0,0,0,0,0,0,0,0,0,0,0,0,8,1,0,0,0,0,0,0,0,0]
["El Paso Fountain Valley Senior Citizens Program, dba: Fountain Valley Senior Center","Fountain","CO",null,"8R01-88283","Private-Non-Profit Corporation","Reduced Asset Reporter",0,0,0,0,0,0,0,0,0,0,0,0,3,0,0,0,2,1,1,1,0,0,0,0,0,0,0,0,0,0,0,0,0,0,0,0,0,0,0,0,0,0,0,0,0,0,0,0,0,0,0,0,6,2,0,0,0,0,0,0,0,0]
["Silver Key Senior Services","Colorado Springs","CO",null,"8R01-88284","Private-Non-Profit Corporation","Reduced Asset Reporter",0,0,0,0,0,0,0,0,0,0,0,0,4,0,12,5,2,0,13,9,0,0,0,0,0,0,0,0,0,0,0,0,0,0,0,0,0,0,0,0,0,0,0,0,0,0,0,0,0,0,0,0,31,14,0,0,0,0,0,0,0,0]
["Mountain Family Center","Granby","CO",null,"8R01-88286","Private-Non-Profit Corporation","Reduced Asset Reporter",0,0,0,0,0,0,0,0,0,0,0,0,3,0,1,1,2,1,1,1,0,0,0,0,0,0,0,0,0,0,0,0,0,0,0,0,0,0,0,0,0,0,0,0,0,0,0,0,0,0,0,0,7,3,0,0,0,0,0,0,0,0]
["Aspen, City of","Aspen","CO",null,"8R01-88287","City, County or Local Government Unit or Department of Transportation","Reduced Asset Reporter",0,0,9,4,0,0,0,0,0,0,0,0,0,0,13,3,0,0,0,0,0,0,0,0,0,0,0,0,0,0,0,0,0,0,0,0,0,0,0,0,0,0,0,0,0,0,0,0,0,0,0,0,22,7,0,0,0,0,0,0,0,0]
["Envida","Colorado Springs","CO",null,"8R01-88288","Private-Non-Profit Corporation","Reduced Asset Reporter",0,0,0,0,0,0,0,0,0,0,0,0,5,0,7,0,0,0,0,0,0,0,0,0,0,0,0,0,0,0,0,0,0,0,0,0,0,0,0,0,0,0,0,0,0,0,0,0,0,0,0,0,12,0,0,0,0,0,0,0,0,0]
["Castle Rock Senior Center","Castle Rock","CO",null,"8R01-88289","Private-Non-Profit Corporation","Reduced Asset Reporter",0,0,3,0,0,0,0,0,0,0,0,0,1,0,0,0,4,0,2,1,0,0,0,0,0,0,0,0,0,0,0,0,0,0,0,0,0,0,0,0,0,0,0,0,0,0,0,0,0,0,0,0,10,1,0,0,0,0,0,0,0,0]
["La Plata County Senior Services","Durango","CO",null,"8R01-88290","City, County or Local Government Unit or Department of Transportation","Reduced Asset Reporter",0,0,1,0,0,0,0,0,0,0,0,0,1,0,1,0,0,0,1,0,0,0,0,0,0,0,0,0,0,0,0,0,0,0,0,0,0,0,0,0,0,0,0,0,0,0,0,0,0,0,0,0,4,0,0,0,0,0,0,0,0,0]
["Park County Senior Coalition","Fairplay","CO",null,"8R01-88291","Private-Non-Profit Corporation","Reduced Asset Reporter",0,0,0,0,0,0,0,0,0,0,0,0,0,0,3,3,0,0,0,0,2,1,0,0,0,0,0,0,0,0,0,0,0,0,0,0,0,0,0,0,0,0,0,0,0,0,0,0,0,0,0,0,5,4,0,0,0,0,0,0,0,0]
["High Country Senior Citizens, Inc","Dubois","WY","8R05-032","8R05-80131","Private-Non-Profit Corporation","Reduced Asset Reporter",0,0,0,0,0,0,0,0,0,0,0,0,0,0,1,0,0,0,1,0,0,0,0,0,0,0,0,0,0,0,0,0,0,0,0,0,0,0,0,0,0,0,0,0,0,0,0,0,0,0,0,0,2,0,0,0,0,0,0,0,0,0]
["Kemmerer Senior Citizens Association","Kemmerer","WY","8R05-038","8R05-80178","Private-Non-Profit Corporation","Reduced Asset Reporter",0,0,1,0,0,0,0,0,0,0,0,0,0,0,1,0,0,0,0,0,0,0,0,0,0,0,0,0,0,0,0,0,0,0,0,0,0,0,0,0,0,0,0,0,0,0,0,0,0,0,0,0,2,0,0,0,0,0,0,0,0,0]
["Senior Center of Jackson Hole","Jackson","WY","8R05-037","8R05-80180","Private-Non-Profit Corporation","Reduced Asset Reporter",0,0,1,1,0,0,0,0,0,0,0,0,0,0,1,0,2,1,0,0,0,0,0,0,0,0,0,0,0,0,0,0,0,0,0,0,0,0,0,0,0,0,0,0,0,0,0,0,0,0,0,0,4,2,0,0,0,0,0,0,0,0]
["North Big Horn Senior Center, Inc.","Lovell","WY","8R05-025","8R05-80199","Private-Non-Profit Corporation","Reduced Asset Reporter",0,0,0,0,0,0,0,0,0,0,0,0,0,0,0,0,0,0,6,4,0,0,0,0,0,0,0,0,0,0,0,0,0,0,0,0,0,0,0,0,0,0,0,0,0,0,0,0,0,0,0,0,6,4,0,0,0,0,0,0,0,0]
["Hot Springs County Senior Citizens Center, Inc.","Thermopolis","WY","8R05-049","8R05-80209","Private-Non-Profit Corporation","Reduced Asset Reporter",0,0,0,0,0,0,0,0,0,0,0,0,0,0,1,0,1,1,1,0,0,0,0,0,0,0,0,0,0,0,0,0,0,0,0,0,0,0,0,0,0,0,0,0,0,0,0,0,0,0,0,0,3,1,0,0,0,0,0,0,0,0]
["Carbon County Senior Services, Inc.","Rawlins","WY","8R05-044","8R05-80278","Private-Non-Profit Corporation","Reduced Asset Reporter",0,0,0,0,0,0,0,0,0,0,0,0,0,0,1,0,0,0,4,3,0,0,0,0,0,0,0,0,0,0,0,0,0,0,0,0,0,0,0,0,0,0,0,0,0,0,0,0,0,0,0,0,5,3,0,0,0,0,0,0,0,0]
["Warm Valley Senior Center","Ft. Washakie","WY",null,"8R05-88223","Private-Non-Profit Corporation","Reduced Asset Reporter",0,0,0,0,0,0,0,0,0,0,0,0,0,0,1,0,0,0,0,0,0,0,0,0,0,0,0,0,0,0,0,0,0,0,0,0,0,0,0,0,0,0,0,0,0,0,0,0,0,0,0,0,1,0,0,0,0,0,0,0,0,0]
["Memorial Hospital of Laramie County  , dba: Wyoming PACE","Cheyenne","WY",null,"8R05-88227","Private-Non-Profit Corporation","Reduced Asset Reporter",0,0,0,0,0,0,0,0,0,0,0,0,0,0,5,0,0,0,0,0,0,0,0,0,0,0,0,0,0,0,0,0,0,0,0,0,0,0,0,0,0,0,0,0,0,0,0,0,0,0,0,0,5,0,0,0,0,0,0,0,0,0]
["TURN Community Services (Southern Utah)","Salt Lake City","UT",null,"8R06-88232","Private-Non-Profit Corporation","Reduced Asset Reporter",0,0,5,0,0,0,0,0,0,0,0,0,0,0,0,0,0,0,0,0,0,0,0,0,0,0,0,0,0,0,0,0,0,0,0,0,0,0,0,0,0,0,0,0,0,0,0,0,0,0,0,0,5,0,0,0,0,0,0,0,0,0]
["United Way Community Services","Provo","UT",null,"8R06-88234","Private-Non-Profit Corporation","Reduced Asset Reporter",0,0,0,0,0,0,0,0,0,0,0,0,0,0,5,0,3,0,0,0,0,0,0,0,0,0,0,0,0,0,0,0,0,0,0,0,0,0,0,0,0,0,0,0,0,0,0,0,0,0,0,0,8,0,0,0,13,0,0,0,13,0]
["Southwest Behavioral Health Center","St George","UT",null,"8R06-88241","Private-Non-Profit Corporation","Reduced Asset Reporter",0,0,0,0,0,0,0,0,0,0,0,0,0,0,2,0,0,0,0,0,0,0,0,0,0,0,0,0,0,0,0,0,0,0,0,0,0,0,0,0,0,0,0,0,0,0,0,0,0,0,0,0,2,0,0,0,0,0,0,0,0,0]
["Red Rock Center for Independence","St George","UT",null,"8R06-88244","Private-Non-Profit Corporation","Reduced Asset Reporter",0,0,0,0,0,0,0,0,0,0,0,0,0,0,1,0,4,2,5,3,0,0,0,0,0,0,0,0,0,0,0,0,0,0,0,0,0,0,0,0,0,0,0,0,0,0,0,0,0,0,0,0,10,5,0,0,0,0,0,0,0,0]
["Options for Independence","Logan","UT",null,"8R06-88248","Private-Non-Profit Corporation","Reduced Asset Reporter",0,0,0,0,0,0,0,0,0,0,0,0,0,0,3,1,0,0,1,0,0,0,0,0,0,0,0,0,0,0,0,0,0,0,0,0,0,0,0,0,0,0,0,0,0,0,0,0,0,0,0,0,4,1,0,0,0,0,0,0,0,0]
["Four Corners Community Behavioral Health, Inc.","Price","UT",null,"8R06-88256","Private-Non-Profit Corporation","Reduced Asset Reporter",0,0,0,0,0,0,0,0,0,0,0,0,2,2,3,0,0,0,1,1,0,0,0,0,0,0,0,0,0,0,0,0,0,0,0,0,0,0,0,0,0,0,0,0,0,0,0,0,0,0,0,0,6,3,0,0,0,0,0,0,0,0]
["Foundations for Independence ","South Jordan","UT",null,"8R06-88257","Private-Non-Profit Corporation","Reduced Asset Reporter",0,0,3,2,0,0,0,0,0,0,0,0,0,0,0,0,0,0,0,0,0,0,0,0,0,0,0,0,0,0,0,0,0,0,0,0,0,0,0,0,0,0,0,0,0,0,0,0,0,0,0,0,3,2,0,0,0,0,0,0,0,0]
["Common Ground Outdoor Adventures","Logan","UT",null,"8R06-88265","Private-Non-Profit Corporation","Reduced Asset Reporter",0,0,2,0,0,0,0,0,0,0,0,0,0,0,0,0,0,0,2,0,0,0,0,0,0,0,0,0,0,0,0,0,0,0,0,0,0,0,0,0,0,0,0,0,0,0,0,0,0,0,0,0,4,0,0,0,0,0,0,0,0,0]
["Cache Employment & Training Center (CETC)","Logan","UT",null,"8R06-88268","Private-Non-Profit Corporation","Reduced Asset Reporter",0,0,0,0,0,0,0,0,0,0,0,0,0,0,7,0,0,0,0,0,0,0,0,0,0,0,0,0,0,0,0,0,0,0,0,0,0,0,0,0,0,0,0,0,0,0,0,0,0,0,0,0,7,0,0,0,0,0,0,0,0,0]
["County of Shasta Department of Public Works","Redding","CA",null,"9R02-99438","City, County or Local Government Unit or Department of Transportation","Rural Reporter",0,0,0,0,0,0,0,0,0,0,0,0,0,0,1,0,0,0,0,0,0,0,0,0,0,0,0,0,0,0,0,0,0,0,0,0,0,0,0,0,0,0,0,0,0,0,0,0,0,0,0,0,1,0,0,0,0,0,0,0,0,0]
["ABCD, Inc.","Canton","OH",null,"A0002-55329","Private-Non-Profit Corporation","Reduced Asset Reporter",0,0,0,0,0,0,0,0,0,0,0,0,0,0,13,3,0,0,0,0,0,0,0,0,0,0,0,0,0,0,0,0,0,0,0,0,0,0,0,0,0,0,0,0,0,0,0,0,0,0,0,0,13,3,2,0,0,0,0,0,2,0]
["Alamo Area Resource Center, Inc","San Antonio","TX",null,"A0010-66330","Private-Non-Profit Corporation","Reduced Asset Reporter",0,0,0,0,0,0,0,0,0,0,0,0,0,0,1,0,0,0,0,0,0,0,0,0,0,0,0,0,0,0,0,0,0,0,0,0,0,0,0,0,0,0,0,0,0,0,0,0,0,0,0,0,1,0,0,0,0,0,0,0,0,0]
["St. Gregory the Great Catholic Church","San Antonio","TX",null,"A0010-66331","Private-Non-Profit Corporation","Reduced Asset Reporter",0,0,0,0,0,0,0,0,0,0,0,0,0,0,2,0,0,0,0,0,0,0,0,0,0,0,0,0,0,0,0,0,0,0,0,0,0,0,0,0,0,0,0,0,0,0,0,0,0,0,0,0,2,0,0,0,0,0,0,0,0,0]
["Ride Connect Texas","San Antonio","TX",null,"A0010-66332","Private-Non-Profit Corporation","Reduced Asset Reporter",0,0,0,0,0,0,0,0,0,0,0,0,0,0,1,0,0,0,0,0,0,0,0,0,0,0,0,0,0,0,0,0,0,0,0,0,0,0,0,0,0,0,0,0,0,0,0,0,0,0,0,0,1,0,0,0,0,0,0,0,0,0]
["Presa Community Service Center","San Antonio","TX",null,"A0010-66333","Private-Non-Profit Corporation","Reduced Asset Reporter",0,0,0,0,0,0,0,0,0,0,0,0,0,0,9,4,0,0,0,0,0,0,0,0,0,0,0,0,0,0,0,0,0,0,0,0,0,0,0,0,0,0,0,0,0,0,0,0,0,0,0,0,9,4,0,0,0,0,0,0,0,0]
["Kirby Senior Center","San Antonio","TX",null,"A0010-66334","Private-Non-Profit Corporation","Reduced Asset Reporter",0,0,0,0,0,0,0,0,0,0,0,0,0,0,3,0,0,0,0,0,0,0,0,0,0,0,0,0,0,0,0,0,0,0,0,0,0,0,0,0,0,0,0,0,0,0,0,0,0,0,0,0,3,0,0,0,0,0,0,0,0,0]
["Greater Randolph Area Service Program (GRASP) Inc.","Converse","TX",null,"A0010-66335","Private-Non-Profit Corporation","Reduced Asset Reporter",0,0,0,0,0,0,0,0,0,0,0,0,2,0,4,1,0,0,0,0,0,0,0,0,0,0,0,0,0,0,0,0,0,0,0,0,0,0,0,0,0,0,0,0,0,0,0,0,0,0,0,0,6,1,0,0,0,0,0,0,0,0]
["Eden Home, Inc. , dba: Eden Hill Communities","New Braunfels","TX",null,"A0010-66336","Private-Non-Profit Corporation","Reduced Asset Reporter",0,0,2,0,0,0,0,0,0,0,0,0,1,0,2,0,2,0,1,1,0,0,0,0,0,0,0,0,0,0,0,0,0,0,0,0,0,0,0,0,0,0,0,0,0,0,0,0,0,0,0,0,8,1,0,0,0,0,0,0,0,0]
["City of Allen Park","Allen Park","MI",null,"A0011-55518","City, County or Local Government Unit or Department of Transportation","Reduced Asset Reporter",0,0,0,0,0,0,0,0,0,0,0,0,2,1,1,1,0,0,0,0,0,0,0,0,0,0,0,0,0,0,0,0,0,0,0,0,0,0,0,0,0,0,0,0,0,0,0,0,0,0,0,0,3,2,0,0,0,0,0,0,0,0]
["City of Auburn Hills","Auburn Hills","MI",null,"A0011-55519","City, County or Local Government Unit or Department of Transportation","Reduced Asset Reporter",0,0,0,0,0,0,0,0,0,0,0,0,0,0,2,0,0,0,1,0,0,0,0,0,0,0,0,0,0,0,0,0,0,0,0,0,0,0,0,0,0,0,0,0,0,0,0,0,0,0,0,0,3,0,0,0,0,0,0,0,0,0]
["Bedford Health Van","Temperance ","MI",null,"A0011-55520","City, County or Local Government Unit or Department of Transportation","Reduced Asset Reporter",0,0,0,0,0,0,0,0,0,0,0,0,8,3,0,0,0,0,0,0,0,0,0,0,0,0,0,0,0,0,0,0,0,0,0,0,0,0,0,0,0,0,0,0,0,0,0,0,0,0,0,0,8,3,0,0,0,0,0,0,0,0]
["City of Belleville","Belleville","MI",null,"A0011-55521","City, County or Local Government Unit or Department of Transportation","Reduced Asset Reporter",0,0,0,0,0,0,0,0,0,0,0,0,1,1,2,2,0,0,0,0,0,0,0,0,0,0,0,0,0,0,0,0,0,0,0,0,0,0,0,0,0,0,0,0,0,0,0,0,0,0,0,0,3,3,0,0,0,0,0,0,0,0]
["City of Berkley","Berkley","MI",null,"A0011-55522","City, County or Local Government Unit or Department of Transportation","Reduced Asset Reporter",0,0,0,0,0,0,0,0,0,0,0,0,1,1,2,1,0,0,0,0,0,0,0,0,0,0,0,0,0,0,0,0,0,0,0,0,0,0,0,0,0,0,0,0,0,0,0,0,0,0,0,0,3,2,0,0,0,0,0,0,0,0]
["Bloomfield Township Senior Services","Bloomfield Township","MI",null,"A0011-55523","City, County or Local Government Unit or Department of Transportation","Reduced Asset Reporter",0,0,0,0,0,0,0,0,0,0,0,0,1,0,3,0,0,0,0,0,0,0,0,0,0,0,0,0,0,0,0,0,0,0,0,0,0,0,0,0,0,0,0,0,0,0,0,0,0,0,0,0,4,0,0,0,0,0,0,0,0,0]
["Brandon Township","Ortonville","MI",null,"A0011-55524","City, County or Local Government Unit or Department of Transportation","Reduced Asset Reporter",0,0,0,0,0,0,0,0,0,0,0,0,1,1,2,1,0,0,0,0,0,0,0,0,0,0,0,0,0,0,0,0,0,0,0,0,0,0,0,0,0,0,0,0,0,0,0,0,0,0,0,0,3,2,0,0,0,0,0,0,0,0]
["Brownstown Township","Brownstown Township","MI",null,"A0011-55525","City, County or Local Government Unit or Department of Transportation","Reduced Asset Reporter",0,0,0,0,0,0,0,0,0,0,0,0,1,1,2,1,0,0,0,0,0,0,0,0,0,0,0,0,0,0,0,0,0,0,0,0,0,0,0,0,0,0,0,0,0,0,0,0,0,0,0,0,3,2,0,0,0,0,0,0,0,0]
["Canton Township","Canton","MI",null,"A0011-55526","City, County or Local Government Unit or Department of Transportation","Reduced Asset Reporter",0,0,0,0,0,0,0,0,0,0,0,0,0,0,6,2,0,0,0,0,0,0,0,0,0,0,0,0,0,0,0,0,0,0,0,0,0,0,0,0,0,0,0,0,0,0,0,0,0,0,0,0,6,2,0,0,0,0,0,0,0,0]
["Catholic Charities of SE Michigan Oakland","Auburn Hills","MI",null,"A0011-55527","Private-Non-Profit Corporation","Reduced Asset Reporter",0,0,0,0,0,0,0,0,0,0,0,0,0,0,1,1,0,0,0,0,0,0,0,0,0,0,0,0,0,0,0,0,0,0,0,0,0,0,0,0,0,0,0,0,0,0,0,0,0,0,0,0,1,1,0,0,0,0,0,0,0,0]
["Catholic Charities of SE Michigan Macomb","Auburn Hills","MI",null,"A0011-55528","Private-Non-Profit Corporation","Reduced Asset Reporter",0,0,0,0,0,0,0,0,0,0,0,0,1,1,1,1,0,0,0,0,0,0,0,0,0,0,0,0,0,0,0,0,0,0,0,0,0,0,0,0,0,0,0,0,0,0,0,0,0,0,0,0,2,2,0,0,0,0,0,0,0,0]
["City of Southfield Parks and Recreation","Southfield ","MI",null,"A0011-55529","City, County or Local Government Unit or Department of Transportation","Reduced Asset Reporter",0,0,0,0,0,0,0,0,0,0,0,0,1,1,8,3,0,0,0,0,0,0,0,0,0,0,0,0,0,0,0,0,0,0,0,0,0,0,0,0,0,0,0,0,0,0,0,0,0,0,0,0,9,4,0,0,0,0,0,0,0,0]
["City of Sterling Heights","Sterling Heights","MI",null,"A0011-55530","City, County or Local Government Unit or Department of Transportation","Reduced Asset Reporter",0,0,0,0,0,0,0,0,0,0,0,0,2,2,6,3,2,2,0,0,0,0,0,0,0,0,0,0,0,0,0,0,0,0,0,0,0,0,0,0,0,0,0,0,0,0,0,0,0,0,0,0,10,7,0,0,0,0,0,0,0,0]
["City of Clawson","Clawson","MI",null,"A0011-55531","City, County or Local Government Unit or Department of Transportation","Reduced Asset Reporter",0,0,0,0,0,0,0,0,0,0,0,0,0,0,1,1,1,0,0,0,0,0,0,0,0,0,0,0,0,0,0,0,0,0,0,0,0,0,0,0,0,0,0,0,0,0,0,0,0,0,0,0,2,1,0,0,0,0,0,0,0,0]
["Clinton Township","Clinton Township","MI",null,"A0011-55532","City, County or Local Government Unit or Department of Transportation","Reduced Asset Reporter",0,0,0,0,0,0,0,0,0,0,0,0,0,0,3,1,0,0,0,0,0,0,0,0,0,0,0,0,0,0,0,0,0,0,0,0,0,0,0,0,0,0,0,0,0,0,0,0,0,0,0,0,3,1,0,0,0,0,0,0,0,0]
["Community Social Services of Wayne County","Detroit","MI",null,"A0011-55533","Private-Non-Profit Corporation","Reduced Asset Reporter",0,0,0,0,0,0,0,0,0,0,0,0,8,8,3,0,0,0,0,0,0,0,0,0,0,0,0,0,0,0,0,0,0,0,0,0,0,0,0,0,0,0,0,0,0,0,0,0,0,0,0,0,11,8,0,0,0,0,0,0,0,0]
["City of Dearborn","Dearborn","MI",null,"A0011-55534","City, County or Local Government Unit or Department of Transportation","Reduced Asset Reporter",0,0,0,0,0,0,0,0,0,0,0,0,6,0,1,0,0,0,0,0,0,0,0,0,0,0,0,0,0,0,0,0,0,0,0,0,0,0,0,0,0,0,0,0,0,0,0,0,0,0,0,0,7,0,0,0,0,0,0,0,0,0]
["City of Dearborn Heights","Dearborn Heights","MI",null,"A0011-55535","City, County or Local Government Unit or Department of Transportation","Reduced Asset Reporter",0,0,0,0,0,0,0,0,0,0,0,0,0,0,2,1,0,0,0,0,0,0,0,0,0,0,0,0,0,0,0,0,0,0,0,0,0,0,0,0,0,0,0,0,0,0,0,0,0,0,0,0,2,1,0,0,0,0,0,0,0,0]
["Downriver Community Conference","Southgate","MI",null,"A0011-55536","Private-Non-Profit Corporation","Reduced Asset Reporter",0,0,0,0,0,0,0,0,0,0,0,0,2,2,6,3,0,0,0,0,0,0,0,0,0,0,0,0,0,0,0,0,0,0,0,0,0,0,0,0,0,0,0,0,0,0,0,0,0,0,0,0,8,5,0,0,0,0,0,0,0,0]
["City of Ecorse","Ecorse","MI",null,"A0011-55537","City, County or Local Government Unit or Department of Transportation","Reduced Asset Reporter",0,0,0,0,0,0,0,0,0,0,0,0,2,0,0,0,0,0,0,0,0,0,0,0,0,0,0,0,0,0,0,0,0,0,0,0,0,0,0,0,0,0,0,0,0,0,0,0,0,0,0,0,2,0,0,0,0,0,0,0,0,0]
["City of Farmington Hills","Farmington Hills","MI",null,"A0011-55538","City, County or Local Government Unit or Department of Transportation","Reduced Asset Reporter",0,0,0,0,0,0,0,0,0,0,0,0,5,3,6,2,0,0,0,0,0,0,0,0,0,0,0,0,0,0,0,0,0,0,0,0,0,0,0,0,0,0,0,0,0,0,0,0,0,0,0,0,11,5,0,0,0,0,0,0,0,0]
["City of Ferndale","Ferndale","MI",null,"A0011-55539","City, County or Local Government Unit or Department of Transportation","Reduced Asset Reporter",0,0,0,0,0,0,0,0,0,0,0,0,1,1,1,0,0,0,0,0,0,0,0,0,0,0,0,0,0,0,0,0,0,0,0,0,0,0,0,0,0,0,0,0,0,0,0,0,0,0,0,0,2,1,0,0,0,0,0,0,0,0]
["City of Fraser","Fraser","MI",null,"A0011-55540","City, County or Local Government Unit or Department of Transportation","Reduced Asset Reporter",0,0,0,0,0,0,0,0,0,0,0,0,0,0,2,1,0,0,0,0,0,0,0,0,0,0,0,0,0,0,0,0,0,0,0,0,0,0,0,0,0,0,0,0,0,0,0,0,0,0,0,0,2,1,0,0,0,0,0,0,0,0]
["Golden Services","Belleville","MI",null,"A0011-55541","Private-Non-Profit Corporation","Reduced Asset Reporter",0,0,0,0,0,0,0,0,0,0,0,0,1,0,0,0,0,0,1,0,0,0,0,0,0,0,0,0,0,0,0,0,0,0,0,0,0,0,0,0,0,0,0,0,0,0,0,0,0,0,0,0,2,0,0,0,0,0,0,0,0,0]
["Harrison Township","Harrison Township","MI",null,"A0011-55542","City, County or Local Government Unit or Department of Transportation","Reduced Asset Reporter",0,0,0,0,0,0,0,0,0,0,0,0,0,0,3,0,0,0,0,0,0,0,0,0,0,0,0,0,0,0,0,0,0,0,0,0,0,0,0,0,0,0,0,0,0,0,0,0,0,0,0,0,3,0,0,0,0,0,0,0,0,0]
["City of Hazel Park","Hazel Park","MI",null,"A0011-55543","City, County or Local Government Unit or Department of Transportation","Reduced Asset Reporter",0,0,0,0,0,0,0,0,0,0,0,0,0,0,2,0,0,0,0,0,0,0,0,0,0,0,0,0,0,0,0,0,0,0,0,0,0,0,0,0,0,0,0,0,0,0,0,0,0,0,0,0,2,0,0,0,0,0,0,0,0,0]
["City of Highland Park","Highland Park","MI",null,"A0011-55544","City, County or Local Government Unit or Department of Transportation","Reduced Asset Reporter",0,0,0,0,0,0,0,0,0,0,0,0,0,0,1,0,0,0,0,0,0,0,0,0,0,0,0,0,0,0,0,0,0,0,0,0,0,0,0,0,0,0,0,0,0,0,0,0,0,0,0,0,1,0,0,0,0,0,0,0,0,0]
["Highland Township","Highland","MI",null,"A0011-55545","City, County or Local Government Unit or Department of Transportation","Reduced Asset Reporter",0,0,0,0,0,0,0,0,0,0,0,0,1,1,4,0,0,0,0,0,0,0,0,0,0,0,0,0,0,0,0,0,0,0,0,0,0,0,0,0,0,0,0,0,0,0,0,0,0,0,0,0,5,1,0,0,0,0,0,0,0,0]
["Village of Holly","Holly","MI",null,"A0011-55546","City, County or Local Government Unit or Department of Transportation","Reduced Asset Reporter",0,0,0,0,0,0,0,0,0,0,0,0,1,1,1,1,0,0,0,0,0,0,0,0,0,0,0,0,0,0,0,0,0,0,0,0,0,0,0,0,0,0,0,0,0,0,0,0,0,0,0,0,2,2,0,0,0,0,0,0,0,0]
["City of Huntington Woods","Huntington Woods","MI",null,"A0011-55547","City, County or Local Government Unit or Department of Transportation","Reduced Asset Reporter",0,0,0,0,0,0,0,0,0,0,0,0,0,0,4,1,0,0,0,0,0,0,0,0,0,0,0,0,0,0,0,0,0,0,0,0,0,0,0,0,0,0,0,0,0,0,0,0,0,0,0,0,4,1,0,0,0,0,0,0,0,0]
["Independence Township","Clarkston","MI",null,"A0011-55548","City, County or Local Government Unit or Department of Transportation","Reduced Asset Reporter",0,0,0,0,0,0,0,0,0,0,0,0,1,0,5,0,0,0,0,0,0,0,0,0,0,0,0,0,0,0,0,0,0,0,0,0,0,0,0,0,0,0,0,0,0,0,0,0,0,0,0,0,6,0,0,0,0,0,0,0,0,0]
["Jewish Family Services","West Bloomfield","MI",null,"A0011-55549","Private-Non-Profit Corporation","Reduced Asset Reporter",0,0,0,0,0,0,0,0,0,0,0,0,1,0,0,0,16,0,0,0,0,0,0,0,0,0,0,0,0,0,0,0,0,0,0,0,0,0,0,0,0,0,0,0,0,0,0,0,0,0,0,0,17,0,0,0,0,0,0,0,0,0]
["Jewish Vocational Services","Southfield","MI",null,"A0011-55550","City, County or Local Government Unit or Department of Transportation","Reduced Asset Reporter",0,0,0,0,0,0,0,0,0,0,0,0,48,25,2,0,0,0,0,0,0,0,0,0,0,0,0,0,0,0,0,0,0,0,0,0,0,0,0,0,0,0,0,0,0,0,0,0,0,0,0,0,50,25,0,0,0,0,0,0,0,0]
["City of Lincoln Park","Lincoln Park","MI",null,"A0011-55551","City, County or Local Government Unit or Department of Transportation","Reduced Asset Reporter",0,0,0,0,0,0,0,0,0,0,0,0,0,0,2,0,0,0,0,0,0,0,0,0,0,0,0,0,0,0,0,0,0,0,0,0,0,0,0,0,0,0,0,0,0,0,0,0,0,0,0,0,2,0,0,0,0,0,0,0,0,0]
["City of Livonia","Livonia","MI",null,"A0011-55552","City, County or Local Government Unit or Department of Transportation","Reduced Asset Reporter",0,0,0,0,0,0,0,0,0,0,0,0,5,0,11,0,0,0,1,0,0,0,0,0,0,0,0,0,0,0,0,0,0,0,0,0,0,0,0,0,0,0,0,0,0,0,0,0,0,0,0,0,17,0,0,0,0,0,0,0,0,0]
["Macomb Community Action","Clinton Township","MI",null,"A0011-55553","City, County or Local Government Unit or Department of Transportation","Reduced Asset Reporter",0,0,0,0,0,0,0,0,0,0,0,0,4,3,4,0,0,0,0,0,0,0,0,0,0,0,0,0,0,0,0,0,0,0,0,0,0,0,0,0,0,0,0,0,0,0,0,0,0,0,0,0,8,3,0,0,0,0,0,0,0,0]
["City of Madison Heights","Madison Heights","MI",null,"A0011-55554","City, County or Local Government Unit or Department of Transportation","Reduced Asset Reporter",0,0,0,0,0,0,0,0,0,0,0,0,3,1,2,1,0,0,0,0,0,0,0,0,0,0,0,0,0,0,0,0,0,0,0,0,0,0,0,0,0,0,0,0,0,0,0,0,0,0,0,0,5,2,0,0,0,0,0,0,0,0]
["Monroe County Opportunity Program","Monroe","MI",null,"A0011-55555","City, County or Local Government Unit or Department of Transportation","Reduced Asset Reporter",0,0,0,0,0,0,0,0,0,0,0,0,5,4,4,0,0,0,0,0,0,0,0,0,0,0,0,0,0,0,0,0,0,0,0,0,0,0,0,0,0,0,0,0,0,0,0,0,0,0,0,0,9,4,0,0,0,0,0,0,0,0]
["City of Northville","Northville","MI",null,"A0011-55556","City, County or Local Government Unit or Department of Transportation","Reduced Asset Reporter",0,0,0,0,0,0,0,0,0,0,0,0,0,0,7,0,0,0,0,0,0,0,0,0,0,0,0,0,0,0,0,0,0,0,0,0,0,0,0,0,0,0,0,0,0,0,0,0,0,0,0,0,7,0,0,0,0,0,0,0,0,0]
["City of Oak Park","Oak Park","MI",null,"A0011-55557","City, County or Local Government Unit or Department of Transportation","Reduced Asset Reporter",0,0,0,0,0,0,0,0,0,0,0,0,0,0,2,0,0,0,0,0,0,0,0,0,0,0,0,0,0,0,0,0,0,0,0,0,0,0,0,0,0,0,0,0,0,0,0,0,0,0,0,0,2,0,0,0,0,0,0,0,0,0]
["North Oakland Transportation Authority","Lake Orion","MI",null,"A0011-55558","Private-Non-Profit Corporation","Reduced Asset Reporter",0,0,0,0,0,0,0,0,0,0,0,0,11,0,6,0,0,0,1,0,0,0,0,0,0,0,0,0,0,0,0,0,0,0,0,0,0,0,0,0,0,0,0,0,0,0,0,0,0,0,0,0,18,0,0,0,0,0,0,0,0,0]
["Older Persons Commission","Rochester","MI",null,"A0011-55559","City, County or Local Government Unit or Department of Transportation","Reduced Asset Reporter",0,0,0,0,0,0,0,0,0,0,0,0,3,0,21,4,0,0,0,0,0,0,0,0,0,0,0,0,0,0,0,0,0,0,0,0,0,0,0,0,0,0,0,0,0,0,0,0,0,0,0,0,24,4,0,0,0,0,0,0,0,0]
["City of Grosse Pointe Farms, dba: Pointe Area Assisted Transportation Services","Grosse Pointe Farms","MI",null,"A0011-55560","City, County or Local Government Unit or Department of Transportation","Reduced Asset Reporter",0,0,0,0,0,0,0,0,0,0,0,0,0,0,6,0,0,0,0,0,0,0,0,0,0,0,0,0,0,0,0,0,0,0,0,0,0,0,0,0,0,0,0,0,0,0,0,0,0,0,0,0,6,0,0,0,0,0,0,0,0,0]
["Peoples Community Services","Detroit ","MI",null,"A0011-55561","Private-Non-Profit Corporation","Reduced Asset Reporter",0,0,0,0,0,0,0,0,0,0,0,0,0,0,2,0,0,0,0,0,0,0,0,0,0,0,0,0,0,0,0,0,0,0,0,0,0,0,0,0,0,0,0,0,0,0,0,0,0,0,0,0,2,0,0,0,0,0,0,0,0,0]
["Recreational Authority of Roseville & Eastpointe","Eastpointe","MI",null,"A0011-55562","City, County or Local Government Unit or Department of Transportation","Reduced Asset Reporter",0,0,0,0,0,0,0,0,0,0,0,0,3,1,3,0,0,0,0,0,0,0,0,0,0,0,0,0,0,0,0,0,0,0,0,0,0,0,0,0,0,0,0,0,0,0,0,0,0,0,0,0,6,1,0,0,0,0,0,0,0,0]
["Richmond Lenox EMS","Richmond","MI",null,"A0011-55563","City, County or Local Government Unit or Department of Transportation","Reduced Asset Reporter",0,0,0,0,0,0,0,0,0,0,0,0,0,0,10,0,0,0,0,0,0,0,0,0,0,0,0,0,0,0,0,0,0,0,0,0,0,0,0,0,0,0,0,0,0,0,0,0,0,0,0,0,10,0,0,0,0,0,0,0,0,0]
["City of River Rouge","River Rouge","MI",null,"A0011-55564","City, County or Local Government Unit or Department of Transportation","Reduced Asset Reporter",0,0,0,0,0,0,0,0,0,0,0,0,1,1,1,0,0,0,0,0,0,0,0,0,0,0,0,0,0,0,0,0,0,0,0,0,0,0,0,0,0,0,0,0,0,0,0,0,0,0,0,0,2,1,0,0,0,0,0,0,0,0]
["City of Romulus","Romulus","MI",null,"A0011-55565","City, County or Local Government Unit or Department of Transportation","Reduced Asset Reporter",0,0,0,0,0,0,0,0,0,0,0,0,1,0,3,0,0,0,0,0,0,0,0,0,0,0,0,0,0,0,0,0,0,0,0,0,0,0,0,0,0,0,0,0,0,0,0,0,0,0,0,0,4,0,0,0,0,0,0,0,0,0]
["City of Royal Oak","Royal Oak","MI",null,"A0011-55566","City, County or Local Government Unit or Department of Transportation","Reduced Asset Reporter",0,0,0,0,0,0,0,0,0,0,0,0,2,1,4,0,0,0,0,0,0,0,0,0,0,0,0,0,0,0,0,0,0,0,0,0,0,0,0,0,0,0,0,0,0,0,0,0,0,0,0,0,6,1,0,0,0,0,0,0,0,0]
["Royal Oak Township","Ferndale","MI",null,"A0011-55567","City, County or Local Government Unit or Department of Transportation","Reduced Asset Reporter",0,0,0,0,0,0,0,0,0,0,0,0,0,0,2,0,0,0,0,0,0,0,0,0,0,0,0,0,0,0,0,0,0,0,0,0,0,0,0,0,0,0,0,0,0,0,0,0,0,0,0,0,2,0,0,0,0,0,0,0,0,0]
["Shelby Township","Shelby Township","MI",null,"A0011-55568","City, County or Local Government Unit or Department of Transportation","Reduced Asset Reporter",0,0,0,0,0,0,0,0,0,0,0,0,2,0,5,1,0,0,0,0,0,0,0,0,0,0,0,0,0,0,0,0,0,0,0,0,0,0,0,0,0,0,0,0,0,0,0,0,0,0,0,0,7,1,0,0,0,0,0,0,0,0]
["City of Southgate","Southgate","MI",null,"A0011-55569","City, County or Local Government Unit or Department of Transportation","Reduced Asset Reporter",0,0,0,0,0,0,0,0,0,0,0,0,1,0,2,0,0,0,0,0,0,0,0,0,0,0,0,0,0,0,0,0,0,0,0,0,0,0,0,0,0,0,0,0,0,0,0,0,0,0,0,0,3,0,0,0,0,0,0,0,0,0]
["City of St Clair Shores","St Clair Shores","MI",null,"A0011-55570","City, County or Local Government Unit or Department of Transportation","Reduced Asset Reporter",0,0,0,0,0,0,0,0,0,0,0,0,0,0,7,1,0,0,0,0,0,0,0,0,0,0,0,0,0,0,0,0,0,0,0,0,0,0,0,0,0,0,0,0,0,0,0,0,0,0,0,0,7,1,0,0,0,0,0,0,0,0]
["STAR Transportation","Romeo","MI",null,"A0011-55571","City, County or Local Government Unit or Department of Transportation","Reduced Asset Reporter",0,0,0,0,0,0,0,0,0,0,0,0,0,0,6,0,2,0,0,0,0,0,0,0,0,0,0,0,0,0,0,0,0,0,0,0,0,0,0,0,0,0,0,0,0,0,0,0,0,0,0,0,8,0,0,0,0,0,0,0,0,0]
["Sumpter Township","Sumpter Township","MI",null,"A0011-55572","City, County or Local Government Unit or Department of Transportation","Reduced Asset Reporter",0,0,0,0,0,0,0,0,0,0,0,0,2,1,0,0,0,0,0,0,0,0,0,0,0,0,0,0,0,0,0,0,0,0,0,0,0,0,0,0,0,0,0,0,0,0,0,0,0,0,0,0,2,1,0,0,0,0,0,0,0,0]
["City of Taylor","Taylor","MI",null,"A0011-55573","City, County or Local Government Unit or Department of Transportation","Reduced Asset Reporter",0,0,0,0,0,0,0,0,0,0,0,0,0,0,3,1,0,0,0,0,0,0,0,0,0,0,0,0,0,0,0,0,0,0,0,0,0,0,0,0,0,0,0,0,0,0,0,0,0,0,0,0,3,1,0,0,0,0,0,0,0,0]
["City of Trenton","Trenton","MI",null,"A0011-55574","City, County or Local Government Unit or Department of Transportation","Reduced Asset Reporter",0,0,0,0,0,0,0,0,0,0,0,0,1,1,2,1,1,1,0,0,0,0,0,0,0,0,0,0,0,0,0,0,0,0,0,0,0,0,0,0,0,0,0,0,0,0,0,0,0,0,0,0,4,3,0,0,0,0,0,0,0,0]
["City of Troy","Troy","MI",null,"A0011-55575","City, County or Local Government Unit or Department of Transportation","Reduced Asset Reporter",0,0,0,0,0,0,0,0,0,0,0,0,1,0,5,0,0,0,0,0,0,0,0,0,0,0,0,0,0,0,0,0,0,0,0,0,0,0,0,0,0,0,0,0,0,0,0,0,0,0,0,0,6,0,0,0,0,0,0,0,0,0]
["City of Walled Lake","Walled Lake","MI",null,"A0011-55576","City, County or Local Government Unit or Department of Transportation","Reduced Asset Reporter",0,0,0,0,0,0,0,0,0,0,0,0,1,1,1,0,0,0,0,0,0,0,0,0,0,0,0,0,0,0,0,0,0,0,0,0,0,0,0,0,0,0,0,0,0,0,0,0,0,0,0,0,2,1,0,0,0,0,0,0,0,0]
["City of Warren","Warren","MI",null,"A0011-55577","City, County or Local Government Unit or Department of Transportation","Reduced Asset Reporter",0,0,0,0,0,0,0,0,0,0,0,0,1,1,8,1,0,0,0,0,0,0,0,0,0,0,0,0,0,0,0,0,0,0,0,0,0,0,0,0,0,0,0,0,0,0,0,0,0,0,0,0,9,2,0,0,0,0,0,0,0,0]
["Waterford Township","Waterford","MI",null,"A0011-55578","City, County or Local Government Unit or Department of Transportation","Reduced Asset Reporter",0,0,0,0,0,0,0,0,0,0,0,0,0,0,4,1,0,0,0,0,0,0,0,0,0,0,0,0,0,0,0,0,0,0,0,0,0,0,0,0,0,0,0,0,0,0,0,0,0,0,0,0,4,1,0,0,0,0,0,0,0,0]
["West Bloomfield Township","West Bloomfield Township","MI",null,"A0011-55579","City, County or Local Government Unit or Department of Transportation","Reduced Asset Reporter",0,0,0,0,0,0,0,0,0,0,0,0,0,0,3,0,0,0,1,0,0,0,0,0,0,0,0,0,0,0,0,0,0,0,0,0,0,0,0,0,0,0,0,0,0,0,0,0,0,0,0,0,4,0,0,0,0,0,0,0,0,0]
["White Lake Township","White Lake","MI",null,"A0011-55580","City, County or Local Government Unit or Department of Transportation","Reduced Asset Reporter",0,0,0,0,0,0,0,0,0,0,0,0,0,0,2,0,0,0,0,0,0,0,0,0,0,0,0,0,0,0,0,0,0,0,0,0,0,0,0,0,0,0,0,0,0,0,0,0,0,0,0,0,2,0,0,0,0,0,0,0,0,0]
["City of Wyandotte","Wyandotte","MI",null,"A0011-55581","City, County or Local Government Unit or Department of Transportation","Reduced Asset Reporter",0,0,0,0,0,0,0,0,0,0,0,0,1,1,1,0,0,0,0,0,0,0,0,0,0,0,0,0,0,0,0,0,0,0,0,0,0,0,0,0,0,0,0,0,0,0,0,0,0,0,0,0,2,1,0,0,0,0,0,0,0,0]
["Birmingham Area Seniors Coordinating Council d/b/a NEXT","Birmingham","MI",null,"A0011-55582","Private-Non-Profit Corporation","Reduced Asset Reporter",0,0,0,0,0,0,0,0,0,0,0,0,0,0,3,1,0,0,0,0,0,0,0,0,0,0,0,0,0,0,0,0,0,0,0,0,0,0,0,0,0,0,0,0,0,0,0,0,0,0,0,0,3,1,0,0,0,0,0,0,0,0]
["City of Melvindale","Melvindale","MI",null,"A0011-55583","City, County or Local Government Unit or Department of Transportation","Reduced Asset Reporter",0,0,0,0,0,0,0,0,0,0,0,0,1,0,1,0,0,0,0,0,0,0,0,0,0,0,0,0,0,0,0,0,0,0,0,0,0,0,0,0,0,0,0,0,0,0,0,0,0,0,0,0,2,0,0,0,0,0,0,0,0,0]
["Mt Clemens","Mt Clemens","MI",null,"A0011-55584","City, County or Local Government Unit or Department of Transportation","Reduced Asset Reporter",0,0,0,0,0,0,0,0,0,0,0,0,0,0,6,0,0,0,0,0,0,0,0,0,0,0,0,0,0,0,0,0,0,0,0,0,0,0,0,0,0,0,0,0,0,0,0,0,0,0,0,0,6,0,0,0,0,0,0,0,0,0]
["Nankin Connector","Westland","MI",null,"A0011-55585","City, County or Local Government Unit or Department of Transportation","Reduced Asset Reporter",0,0,0,0,0,0,0,0,0,0,0,0,0,0,10,0,0,0,0,0,0,0,0,0,0,0,0,0,0,0,0,0,0,0,0,0,0,0,0,0,0,0,0,0,0,0,0,0,0,0,0,0,10,0,0,0,0,0,0,0,0,0]
["Redford Township","Redford","MI",null,"A0011-55586","City, County or Local Government Unit or Department of Transportation","Reduced Asset Reporter",0,0,0,0,0,0,0,0,0,0,0,0,1,0,4,0,0,0,0,0,0,0,0,0,0,0,0,0,0,0,0,0,0,0,0,0,0,0,0,0,0,0,0,0,0,0,0,0,0,0,0,0,5,0,0,0,0,0,0,0,0,0]
["Aging Services of Norman","Norman ","OK",null,"A0012-66301","Private-Non-Profit Corporation","Reduced Asset Reporter",0,0,2,0,0,0,0,0,0,0,0,0,0,0,0,0,0,0,0,0,0,0,0,0,0,0,0,0,0,0,0,0,0,0,0,0,0,0,0,0,0,0,0,0,0,0,0,0,0,0,0,0,2,0,0,0,0,0,0,0,0,0]
["Redlands Community College/Aginge Services","Elreno ","OK",null,"A0012-66302","University","Reduced Asset Reporter",0,0,0,0,0,0,0,0,0,0,0,0,0,0,0,0,0,0,1,1,0,0,0,0,0,0,0,0,0,0,0,0,0,0,0,0,0,0,0,0,0,0,0,0,0,0,0,0,0,0,0,0,1,1,0,0,0,0,0,0,0,0]
["City of Cushing","Cushing ","OK",null,"A0012-66303","City, County or Local Government Unit or Department of Transportation","Reduced Asset Reporter",0,0,0,0,0,0,0,0,0,0,0,0,0,0,1,1,0,0,0,0,0,0,0,0,0,0,0,0,0,0,0,0,0,0,0,0,0,0,0,0,0,0,0,0,0,0,0,0,0,0,0,0,1,1,0,0,0,0,0,0,0,0]
["city of Hominy","Hominy ","OK",null,"A0012-66304","City, County or Local Government Unit or Department of Transportation","Reduced Asset Reporter",0,0,0,0,0,0,0,0,0,0,0,0,0,0,2,2,0,0,0,0,0,0,0,0,0,0,0,0,0,0,0,0,0,0,0,0,0,0,0,0,0,0,0,0,0,0,0,0,0,0,0,0,2,2,0,0,0,0,0,0,0,0]
["city of Marlow","Marlow","OK",null,"A0012-66305","City, County or Local Government Unit or Department of Transportation","Reduced Asset Reporter",0,0,0,0,0,0,0,0,0,0,0,0,0,0,1,1,0,0,0,0,0,0,0,0,0,0,0,0,0,0,0,0,0,0,0,0,0,0,0,0,0,0,0,0,0,0,0,0,0,0,0,0,1,1,0,0,0,0,0,0,0,0]
["City of Mustang","Mustang","OK",null,"A0012-66306","City, County or Local Government Unit or Department of Transportation","Reduced Asset Reporter",0,0,0,0,0,0,0,0,0,0,0,0,0,0,1,1,0,0,0,0,0,0,0,0,0,0,0,0,0,0,0,0,0,0,0,0,0,0,0,0,0,0,0,0,0,0,0,0,0,0,0,0,1,1,0,0,0,0,0,0,0,0]
["City of Sallisaw","Sallisaw","OK",null,"A0012-66307","City, County or Local Government Unit or Department of Transportation","Reduced Asset Reporter",0,0,0,0,0,0,0,0,0,0,0,0,0,0,1,1,0,0,0,0,0,0,0,0,0,0,0,0,0,0,0,0,0,0,0,0,0,0,0,0,0,0,0,0,0,0,0,0,0,0,0,0,1,1,0,0,0,0,0,0,0,0]
["City of Sand Springs ","Sand Springs","OK",null,"A0012-66308","City, County or Local Government Unit or Department of Transportation","Reduced Asset Reporter",0,0,0,0,0,0,0,0,0,0,0,0,0,0,1,1,0,0,0,0,0,0,0,0,0,0,0,0,0,0,0,0,0,0,0,0,0,0,0,0,0,0,0,0,0,0,0,0,0,0,0,0,1,1,0,0,0,0,0,0,0,0]
["City of Seminole","Seminole ","OK",null,"A0012-66309","City, County or Local Government Unit or Department of Transportation","Reduced Asset Reporter",0,0,0,0,0,0,0,0,0,0,0,0,0,0,2,1,0,0,0,0,0,0,0,0,0,0,0,0,0,0,0,0,0,0,0,0,0,0,0,0,0,0,0,0,0,0,0,0,0,0,0,0,2,1,0,0,0,0,0,0,0,0]
["City of Weatherford","Weatherford","OK",null,"A0012-66310","City, County or Local Government Unit or Department of Transportation","Reduced Asset Reporter",0,0,0,0,0,0,0,0,0,0,0,0,0,0,1,1,0,0,0,0,0,0,0,0,0,0,0,0,0,0,0,0,0,0,0,0,0,0,0,0,0,0,0,0,0,0,0,0,0,0,0,0,1,1,0,0,0,0,0,0,0,0]
["City of Yukon","Yukon","OK",null,"A0012-66311","City, County or Local Government Unit or Department of Transportation","Reduced Asset Reporter",0,0,0,0,0,0,0,0,0,0,0,0,0,0,1,1,0,0,0,0,0,0,0,0,0,0,0,0,0,0,0,0,0,0,0,0,0,0,0,0,0,0,0,0,0,0,0,0,0,0,0,0,1,1,0,0,0,0,0,0,0,0]
["Daily Living Centers ","Bethany","OK",null,"A0012-66312","Private-Non-Profit Corporation","Reduced Asset Reporter",0,0,0,0,0,0,0,0,0,0,0,0,0,0,0,0,0,0,5,4,0,0,0,0,0,0,0,0,0,0,0,0,0,0,0,0,0,0,0,0,0,0,0,0,0,0,0,0,0,0,0,0,5,4,0,0,0,0,0,0,0,0]
["Fairfax Medical","Fairfax","OK",null,"A0012-66313","Private-Non-Profit Corporation","Reduced Asset Reporter",0,0,0,0,0,0,0,0,0,0,0,0,0,0,0,0,0,0,0,0,0,0,0,0,0,0,0,0,0,0,0,0,0,0,0,0,0,0,0,0,0,0,0,0,0,0,0,0,0,0,0,0,0,0,0,0,0,0,0,0,0,0]
["Harah Senior Center","Harah","OK",null,"A0012-66314","City, County or Local Government Unit or Department of Transportation","Reduced Asset Reporter",0,0,0,0,0,0,0,0,0,0,0,0,0,0,0,0,0,0,0,0,0,0,0,0,0,0,0,0,0,0,0,0,0,0,0,0,0,0,0,0,0,0,0,0,0,0,0,0,0,0,0,0,0,0,0,0,0,0,0,0,0,0]
["James Dennis Medical Foundation","Wakita","OK",null,"A0012-66315","Private-Non-Profit Corporation","Reduced Asset Reporter",0,0,0,0,0,0,0,0,0,0,0,0,0,0,0,0,0,0,2,2,0,0,0,0,0,0,0,0,0,0,0,0,0,0,0,0,0,0,0,0,0,0,0,0,0,0,0,0,0,0,0,0,2,2,0,0,0,0,0,0,0,0]
["Kiamichi Area Nutrition Project","Kiowa","OK",null,"A0012-66316","Private-Non-Profit Corporation","Reduced Asset Reporter",0,0,0,0,0,0,0,0,0,0,0,0,0,0,0,0,0,0,1,1,0,0,0,0,0,0,0,0,0,0,0,0,0,0,0,0,0,0,0,0,0,0,0,0,0,0,0,0,0,0,0,0,1,1,0,0,0,0,0,0,0,0]
["Norman Regional Health","Norman ","OK",null,"A0012-66317","Private-Non-Profit Corporation","Reduced Asset Reporter",0,0,0,0,0,0,0,0,0,0,0,0,0,0,2,0,0,0,0,0,0,0,0,0,0,0,0,0,0,0,0,0,0,0,0,0,0,0,0,0,0,0,0,0,0,0,0,0,0,0,0,0,2,0,0,0,0,0,0,0,0,0]
["Xenia Adult Recreation and Services Center","Xenia","OH",null,"A0017-55513","Private-Non-Profit Corporation","Reduced Asset Reporter",0,0,0,0,0,0,0,0,0,0,0,0,0,0,2,0,0,0,6,0,0,0,0,0,0,0,0,0,0,0,0,0,0,0,0,0,0,0,0,0,0,0,0,0,0,0,0,0,0,0,0,0,8,0,0,0,0,0,0,0,0,0]
["Toward Independence","Xenia","OH",null,"A0017-55514","Private-Non-Profit Corporation","Reduced Asset Reporter",0,0,0,0,0,0,0,0,0,0,0,0,0,0,7,0,0,0,0,0,0,0,0,0,0,0,0,0,0,0,0,0,0,0,0,0,0,0,0,0,0,0,0,0,0,0,0,0,0,0,0,0,7,0,0,0,0,0,0,0,0,0]
["Franklin Township","Franklin","OH",null,"A0017-55515","City, County or Local Government Unit or Department of Transportation","Reduced Asset Reporter",0,0,0,0,0,0,0,0,0,0,0,0,1,1,0,0,0,0,0,0,0,0,0,0,0,0,0,0,0,0,0,0,0,0,0,0,0,0,0,0,0,0,0,0,0,0,0,0,0,0,0,0,1,1,0,0,0,0,0,0,0,0]
["Kettering Parks Foundation","Kettering","OH",null,"A0017-55516","City, County or Local Government Unit or Department of Transportation","Reduced Asset Reporter",0,0,0,0,0,0,0,0,0,0,0,0,2,2,2,1,1,1,2,2,0,0,0,0,0,0,0,0,0,0,0,0,0,0,0,0,0,0,0,0,0,0,0,0,0,0,0,0,0,0,0,0,7,6,0,0,0,0,0,0,0,0]
["Rec West Enrichment Center","Dayton","OH",null,"A0017-55517","City, County or Local Government Unit or Department of Transportation","Reduced Asset Reporter",0,0,0,0,0,0,0,0,0,0,0,0,1,1,0,0,1,1,1,0,0,0,0,0,0,0,0,0,0,0,0,0,0,0,0,0,0,0,0,0,0,0,0,0,0,0,0,0,0,0,0,0,3,2,0,0,0,0,0,0,0,0]

{"sheet":"Summary Tables Age Distribution","index":4,"n_rows":128,"n_cols":29,"rows_kept":128,"cut":false,"hidden":false,"merged":[[55,0,55,2],[19,0,19,3]]}
["To bring up the accessible control panel, press ctrl + a. Some screen reading functionality will not work while the sheet is protected. To unprotect the sheet press alt h o p and enter the password ntd.",null,null,null,null,"National Totals",null,null,null,null,null,null,null,null,null,null,null,null,null,null,null,null,null,null,null,null,null,null,{"$f":"AC4-1","v":0}]
[null,null,null,null,null,"Active Vehicles By Age Grouping (in Years)",null,null,null,null,null,null,null,null,null,null,null,null,null,null,null,null,null,null,null,null,null,null,"Hide Vehicles > ULB "]
[null,null,null,null,null,"0","1","2","3","4","5","6","7","8","9","10","11","12","13-15","16-20","21-25","26-30","31-60","60+","Total Active Fleet","Average Age of Fleet (in Years)","Average Lifetime Miles per Vehicle",null,"Show Vehicles > ULB"]
[null,null,null,null,null,{"$f":"SUM('Age Distribution'!L2:L10000)","v":10350},{"$f":"SUM('Age Distribution'!M2:M10000)","v":17613},{"$f":"SUM('Age Distribution'!N2:N10000)","v":17097},{"$f":"SUM('Age Distribution'!O2:O10000)","v":15525},{"$f":"SUM('Age Distribution'!P2:P10000)","v":15702},{"$f":"SUM('Age Distribution'!Q2:Q10000)","v":12818},{"$f":"SUM('Age Distribution'!R2:R10000)","v":12257},{"$f":"SUM('Age Distribution'!S2:S10000)","v":9704},{"$f":"SUM('Age Distribution'!T2:T10000)","v":10815},{"$f":"SUM('Age Distribution'!U2:U10000)","v":10630},{"$f":"SUM('Age Distribution'!V2:V10000)","v":8835},{"$f":"SUM('Age Distribution'!W2:W10000)","v":8258},{"$f":"SUM('Age Distribution'!X2:X10000)","v":5799},{"$f":"SUM('Age Distribution'!Y2:Y10000)","v":12095},{"$f":"SUM('Age Distribution'!Z2:Z10000)","v":10993},{"$f":"SUM('Age Distribution'!AA2:AA10000)","v":2401},{"$f":"SUM('Age Distribution'!AB2:AB10000)","v":1558},{"$f":"SUM('Age Distribution'!AC2:AC10000)","v":7834},{"$f":"SUM('Age Distribution'!AD2:AD10000)","v":237},{"$f":"SUM('Age Distribution'!AE2:AE10000)","v":190521},{"$f":"AVERAGE('Age Distribution'!AF2:AF2500)","v":7.4897368078333173},{"$f":"AVERAGE('Age Distribution'!AG2:AG2500)","v":173507.30852947553},null,1]
[null,null,null,null,{"$f":"IFERROR($F$2&CHAR(10)&F5&CHAR(10)&G5&CHAR(10)&H5&CHAR(10)&I5&CHAR(10)&J5&CHAR(10)&K5&CHAR(10)&L5&CHAR(10)&M5&CHAR(10)&N5&CHAR(10)&O5,\"\")","v":"Active Vehicles By Age Grouping (in Years)\n0: 10,350\n2: 17,097\n4: 15,702\n6: 12,257\n8: 10,815\n10: 8,835\n12: 5,799\n16-20: 10,993\n26-30: 1,558\n60+: 237"},{"$f":"F3&\": \"&FIXED(F4,0,0)","v":"0: 10,350"},{"$f":"H3&\": \"&FIXED(H4,0,0)","v":"2: 17,097"},{"$f":"J3&\": \"&FIXED(J4,0,0)","v":"4: 15,702"},{"$f":"L3&\": \"&FIXED(L4,0,0)","v":"6: 12,257"},{"$f":"N3&\": \"&FIXED(N4,0,0)","v":"8: 10,815"},{"$f":"P3&\": \"&FIXED(P4,0,0)","v":"10: 8,835"},{"$f":"R3&\": \"&FIXED(R4,0,0)","v":"12: 5,799"},{"$f":"T3&\": \"&FIXED(T4,0,0)","v":"16-20: 10,993"},{"$f":"V3&\": \"&FIXED(V4,0,0)","v":"26-30: 1,558"},{"$f":"X3&\": \"&FIXED(X4,0,0)","v":"60+: 237"}]
["By Urbanized Area Size"]
[null,null,null,null,null,"Active Vehicles By Age Grouping (in Years)"]
[null,null,null,"enter bins below","click to graph","0","1","2","3","4","5","6","7","8","9","10","11","12","13-15","16-20","21-25","26-30","31-60","60+","Total Active Fleet","Average Age of Fleet (in Years)","Average Lifetime Miles per Vehicle"]
["Under",{"$f":"D9","v":200000},null,200000,{"$f":"IFERROR(IF(A9=\"Between\",A9&\" \"&FIXED(B9,0,0)&\" \"&C9&\" \"&FIXED(D9,0,0),A9&\" \"&FIXED(B9,0,0)),\"invalid bin\")","v":"Under 200,000"},{"$f":"SUMIFS('Age Distribution'!L:L,'Age Distribution'!$H:$H,\"<\"&$D9)","v":2029},{"$f":"SUMIFS('Age Distribution'!M:M,'Age Distribution'!$H:$H,\"<\"&$D9)","v":4504},{"$f":"SUMIFS('Age Distribution'!N:N,'Age Distribution'!$H:$H,\"<\"&$D9)","v":4440},{"$f":"SUMIFS('Age Distribution'!O:O,'Age Distribution'!$H:$H,\"<\"&$D9)","v":3596},{"$f":"SUMIFS('Age Distribution'!P:P,'Age Distribution'!$H:$H,\"<\"&$D9)","v":3079},{"$f":"SUMIFS('Age Distribution'!Q:Q,'Age Distribution'!$H:$H,\"<\"&$D9)","v":3285},{"$f":"SUMIFS('Age Distribution'!R:R,'Age Distribution'!$H:$H,\"<\"&$D9)","v":2890},{"$f":"SUMIFS('Age Distribution'!S:S,'Age Distribution'!$H:$H,\"<\"&$D9)","v":2876},{"$f":"SUMIFS('Age Distribution'!T:T,'Age Distribution'!$H:$H,\"<\"&$D9)","v":3888},{"$f":"SUMIFS('Age Distribution'!U:U,'Age Distribution'!$H:$H,\"<\"&$D9)","v":3270},{"$f":"SUMIFS('Age Distribution'!V:V,'Age Distribution'!$H:$H,\"<\"&$D9)","v":2224},{"$f":"SUMIFS('Age Distribution'!W:W,'Age Distribution'!$H:$H,\"<\"&$D9)","v":1447},{"$f":"SUMIFS('Age Distribution'!X:X,'Age Distribution'!$H:$H,\"<\"&$D9)","v":1163},{"$f":"SUMIFS('Age Distribution'!Y:Y,'Age Distribution'!$H:$H,\"<\"&$D9)","v":2265},{"$f":"SUMIFS('Age Distribution'!Z:Z,'Age Distribution'!$H:$H,\"<\"&$D9)","v":1451},{"$f":"SUMIFS('Age Distribution'!AA:AA,'Age Distribution'!$H:$H,\"<\"&$D9)","v":263},{"$f":"SUMIFS('Age Distribution'!AB:AB,'Age Distribution'!$H:$H,\"<\"&$D9)","v":84},{"$f":"SUMIFS('Age Distribution'!AC:AC,'Age Distribution'!$H:$H,\"<\"&$D9)","v":89},{"$f":"SUMIFS('Age Distribution'!AD:AD,'Age Distribution'!$H:$H,\"<\"&$D9)","v":12},{"$f":"SUMIFS('Age Distribution'!AE:AE,'Age Distribution'!$H:$H,\"<\"&$D9)","v":42855},{"$f":"SUMPRODUCT(--('Age Distribution'!$H:$H<$D9),'Age Distribution'!$AE:$AE,'Age Distribution'!AF:AF)/SUMIFS('Age Distribution'!$AE:$AE,'Age Distribution'!$H:$H,\"<\"&$D9)","v":5.871356901178391},{"$f":"SUMPRODUCT(--('Age Distribution'!$H:$H<$D9),'Age Distribution'!$AE:$AE,'Age Distribution'!AG:AG)/SUMIFS('Age Distribution'!$AE:$AE,'Age Distribution'!$H:$H,\"<\"&$D9,'Age Distribution'!$AG:$AG,\"<>\")","v":62000.505866544576}]
[{"$f":"IF(D10<>\"\",\"Between\",\"Over\")","v":"Between"},{"$f":"D9","v":200000},{"$f":"IF(D10<>\"\",\"and\",\"\")","v":"and"},1000000,"Between 200,000 and 1,000,000",{"$f":"IF($A10=\"Between\",SUMIFS('Age Distribution'!L:L,'Age Distribution'!$H:$H,\">=\"&$B10,'Age Distribution'!$H:$H,\"<\"&$D10),SUMIFS('Age Distribution'!L:L,'Age Distribution'!$H:$H,\">=\"&$B10))","v":1360},{"$f":"IF($A10=\"Between\",SUMIFS('Age Distribution'!M:M,'Age Distribution'!$H:$H,\">=\"&$B10,'Age Distribution'!$H:$H,\"<\"&$D10),SUMIFS('Age Distribution'!M:M,'Age Distribution'!$H:$H,\">=\"&$B10))","v":2747},{"$f":"IF($A10=\"Between\",SUMIFS('Age Distribution'!N:N,'Age Distribution'!$H:$H,\">=\"&$B10,'Age Distribution'!$H:$H,\"<\"&$D10),SUMIFS('Age Distribution'!N:N,'Age Distribution'!$H:$H,\">=\"&$B10))","v":2320},{"$f":"IF($A10=\"Between\",SUMIFS('Age Distribution'!O:O,'Age Distribution'!$H:$H,\">=\"&$B10,'Age Distribution'!$H:$H,\"<\"&$D10),SUMIFS('Age Distribution'!O:O,'Age Distribution'!$H:$H,\">=\"&$B10))","v":1861},{"$f":"IF($A10=\"Between\",SUMIFS('Age Distribution'!P:P,'Age Distribution'!$H:$H,\">=\"&$B10,'Age Distribution'!$H:$H,\"<\"&$D10),SUMIFS('Age Distribution'!P:P,'Age Distribution'!$H:$H,\">=\"&$B10))","v":2019},{"$f":"IF($A10=\"Between\",SUMIFS('Age Distribution'!Q:Q,'Age Distribution'!$H:$H,\">=\"&$B10,'Age Distribution'!$H:$H,\"<\"&$D10),SUMIFS('Age Distribution'!Q:Q,'Age Distribution'!$H:$H,\">=\"&$B10))","v":1783},{"$f":"IF($A10=\"Between\",SUMIFS('Age Distribution'!R:R,'Age Distribution'!$H:$H,\">=\"&$B10,'Age Distribution'!$H:$H,\"<\"&$D10),SUMIFS('Age Distribution'!R:R,'Age Distribution'!$H:$H,\">=\"&$B10))","v":1786},{"$f":"IF($A10=\"Between\",SUMIFS('Age Distribution'!S:S,'Age Distribution'!$H:$H,\">=\"&$B10,'Age Distribution'!$H:$H,\"<\"&$D10),SUMIFS('Age Distribution'!S:S,'Age Distribution'!$H:$H,\">=\"&$B10))","v":1422},{"$f":"IF($A10=\"Between\",SUMIFS('Age Distribution'!T:T,'Age Distribution'!$H:$H,\">=\"&$B10,'Age Distribution'!$H:$H,\"<\"&$D10),SUMIFS('Age Distribution'!T:T,'Age Distribution'!$H:$H,\">=\"&$B10))","v":1832},{"$f":"IF($A10=\"Between\",SUMIFS('Age Distribution'!U:U,'Age Distribution'!$H:$H,\">=\"&$B10,'Age Distribution'!$H:$H,\"<\"&$D10),SUMIFS('Age Distribution'!U:U,'Age Distribution'!$H:$H,\">=\"&$B10))","v":1448},{"$f":"IF($A10=\"Between\",SUMIFS('Age Distribution'!V:V,'Age Distribution'!$H:$H,\">=\"&$B10,'Age Distribution'!$H:$H,\"<\"&$D10),SUMIFS('Age Distribution'!V:V,'Age Distribution'!$H:$H,\">=\"&$B10))","v":1131},{"$f":"IF($A10=\"Between\",SUMIFS('Age Distribution'!W:W,'Age Distribution'!$H:$H,\">=\"&$B10,'Age Distribution'!$H:$H,\"<\"&$D10),SUMIFS('Age Distribution'!W:W,'Age Distribution'!$H:$H,\">=\"&$B10))","v":841},{"$f":"IF($A10=\"Between\",SUMIFS('Age Distribution'!X:X,'Age Distribution'!$H:$H,\">=\"&$B10,'Age Distribution'!$H:$H,\"<\"&$D10),SUMIFS('Age Distribution'!X:X,'Age Distribution'!$H:$H,\">=\"&$B10))","v":792},{"$f":"IF($A10=\"Between\",SUMIFS('Age Distribution'!Y:Y,'Age Distribution'!$H:$H,\">=\"&$B10,'Age Distribution'!$H:$H,\"<\"&$D10),SUMIFS('Age Distribution'!Y:Y,'Age Distribution'!$H:$H,\">=\"&$B10))","v":1577},{"$f":"IF($A10=\"Between\",SUMIFS('Age Distribution'!Z:Z,'Age Distribution'!$H:$H,\">=\"&$B10,'Age Distribution'!$H:$H,\"<\"&$D10),SUMIFS('Age Distribution'!Z:Z,'Age Distribution'!$H:$H,\">=\"&$B10))","v":1155},{"$f":"IF($A10=\"Between\",SUMIFS('Age Distribution'!AA:AA,'Age Distribution'!$H:$H,\">=\"&$B10,'Age Distribution'!$H:$H,\"<\"&$D10),SUMIFS('Age Distribution'!AA:AA,'Age Distribution'!$H:$H,\">=\"&$B10))","v":277},{"$f":"IF($A10=\"Between\",SUMIFS('Age Distribution'!AB:AB,'Age Distribution'!$H:$H,\">=\"&$B10,'Age Distribution'!$H:$H,\"<\"&$D10),SUMIFS('Age Distribution'!AB:AB,'Age Distribution'!$H:$H,\">=\"&$B10))","v":44},{"$f":"IF($A10=\"Between\",SUMIFS('Age Distribution'!AC:AC,'Age Distribution'!$H:$H,\">=\"&$B10,'Age Distribution'!$H:$H,\"<\"&$D10),SUMIFS('Age Distribution'!AC:AC,'Age Distribution'!$H:$H,\">=\"&$B10))","v":159},{"$f":"IF($A10=\"Between\",SUMIFS('Age Distribution'!AD:AD,'Age Distribution'!$H:$H,\">=\"&$B10,'Age Distribution'!$H:$H,\"<\"&$D10),SUMIFS('Age Distribution'!AD:AD,'Age Distribution'!$H:$H,\">=\"&$B10))","v":41},{"$f":"IF($A10=\"Between\",SUMIFS('Age Distribution'!AE:AE,'Age Distribution'!$H:$H,\">=\"&$B10,'Age Distribution'!$H:$H,\"<\"&$D10),SUMIFS('Age Distribution'!AE:AE,'Age Distribution'!$H:$H,\">=\"&$B10))","v":24595},{"$f":"IF($A10=\"Between\",SUMPRODUCT(--('Age Distribution'!$H:$H<$D10),--('Age Distribution'!$H:$H>=$B10),'Age Distribution'!$AE:$AE,'Age Distribution'!AF:AF)/SUMIFS('Age Distribution'!$AE:$AE,'Age Distribution'!$H:$H,\"<\"&$D10,'Age Distribution'!$H:$H,\">=\"&$B10),SUMPRODUCT(--('Age Distribution'!$H:$H>=$B10),'Age Distribution'!$AE:$AE,'Age Distribution'!AF:AF)/SUMIFS('Age Distribution'!$AE:$AE,'Age Distribution'!$H:$H,\">=\"&$B10))","v":5.7328318763976407},{"$f":"IF($A10=\"Between\",SUMPRODUCT(--('Age Distribution'!$H:$H<$D10),--('Age Distribution'!$H:$H>=$B10),'Age Distribution'!$AE:$AE,'Age Distribution'!AG:AG)/SUMIFS('Age Distribution'!$AE:$AE,'Age Distribution'!$H:$H,\"<\"&$D10,'Age Distribution'!$H:$H,\">=\"&$B10,'Age Distribution'!$AG:$AG,\"<>\"),SUMPRODUCT(--('Age Distribution'!$H:$H>=$B10),'Age Distribution'!$AE:$AE,'Age Distribution'!AG:AG)/SUMIFS('Age Distribution'!$AE:$AE,'Age Distribution'!$H:$H,\">=\"&$B10,'Age Distribution'!$AG:$AG,\"<>\"))","v":224395.92962022236}]
[{"$f":"IF(OR(A10=\"Over\",A10=\"\"),\"\",IF(D11=\"\",\"Over\",\"Between\"))","v":"Over"},{"$f":"IF(D10=\"\",\"\",D10)","v":1000000},{"$f":"IF(D11<>\"\",\"and\",\"\")","v":""},null,"Over 1,000,000",{"$f":"IF($A11=\"\",\"\",IF($A11=\"Between\",SUMIFS('Age Distribution'!L:L,'Age Distribution'!$H:$H,\">=\"&$B11,'Age Distribution'!$H:$H,\"<\"&$D11),SUMIFS('Age Distribution'!L:L,'Age Distribution'!$H:$H,\">=\"&$B11)))","v":6961},{"$f":"IF($A11=\"\",\"\",IF($A11=\"Between\",SUMIFS('Age Distribution'!M:M,'Age Distribution'!$H:$H,\">=\"&$B11,'Age Distribution'!$H:$H,\"<\"&$D11),SUMIFS('Age Distribution'!M:M,'Age Distribution'!$H:$H,\">=\"&$B11)))","v":10362},{"$f":"IF($A11=\"\",\"\",IF($A11=\"Between\",SUMIFS('Age Distribution'!N:N,'Age Distribution'!$H:$H,\">=\"&$B11,'Age Distribution'!$H:$H,\"<\"&$D11),SUMIFS('Age Distribution'!N:N,'Age Distribution'!$H:$H,\">=\"&$B11)))","v":10337},{"$f":"IF($A11=\"\",\"\",IF($A11=\"Between\",SUMIFS('Age Distribution'!O:O,'Age Distribution'!$H:$H,\">=\"&$B11,'Age Distribution'!$H:$H,\"<\"&$D11),SUMIFS('Age Distribution'!O:O,'Age Distribution'!$H:$H,\">=\"&$B11)))","v":10068},{"$f":"IF($A11=\"\",\"\",IF($A11=\"Between\",SUMIFS('Age Distribution'!P:P,'Age Distribution'!$H:$H,\">=\"&$B11,'Age Distribution'!$H:$H,\"<\"&$D11),SUMIFS('Age Distribution'!P:P,'Age Distribution'!$H:$H,\">=\"&$B11)))","v":10604},{"$f":"IF($A11=\"\",\"\",IF($A11=\"Between\",SUMIFS('Age Distribution'!Q:Q,'Age Distribution'!$H:$H,\">=\"&$B11,'Age Distribution'!$H:$H,\"<\"&$D11),SUMIFS('Age Distribution'!Q:Q,'Age Distribution'!$H:$H,\">=\"&$B11)))","v":7750},{"$f":"IF($A11=\"\",\"\",IF($A11=\"Between\",SUMIFS('Age Distribution'!R:R,'Age Distribution'!$H:$H,\">=\"&$B11,'Age Distribution'!$H:$H,\"<\"&$D11),SUMIFS('Age Distribution'!R:R,'Age Distribution'!$H:$H,\">=\"&$B11)))","v":7581},{"$f":"IF($A11=\"\",\"\",IF($A11=\"Between\",SUMIFS('Age Distribution'!S:S,'Age Distribution'!$H:$H,\">=\"&$B11,'Age Distribution'!$H:$H,\"<\"&$D11),SUMIFS('Age Distribution'!S:S,'Age Distribution'!$H:$H,\">=\"&$B11)))","v":5406},{"$f":"IF($A11=\"\",\"\",IF($A11=\"Between\",SUMIFS('Age Distribution'!T:T,'Age Distribution'!$H:$H,\">=\"&$B11,'Age Distribution'!$H:$H,\"<\"&$D11),SUMIFS('Age Distribution'!T:T,'Age Distribution'!$H:$H,\">=\"&$B11)))","v":5095},{"$f":"IF($A11=\"\",\"\",IF($A11=\"Between\",SUMIFS('Age Distribution'!U:U,'Age Distribution'!$H:$H,\">=\"&$B11,'Age Distribution'!$H:$H,\"<\"&$D11),SUMIFS('Age Distribution'!U:U,'Age Distribution'!$H:$H,\">=\"&$B11)))","v":5912},{"$f":"IF($A11=\"\",\"\",IF($A11=\"Between\",SUMIFS('Age Distribution'!V:V,'Age Distribution'!$H:$H,\">=\"&$B11,'Age Distribution'!$H:$H,\"<\"&$D11),SUMIFS('Age Distribution'!V:V,'Age Distribution'!$H:$H,\">=\"&$B11)))","v":5480},{"$f":"IF($A11=\"\",\"\",IF($A11=\"Between\",SUMIFS('Age Distribution'!W:W,'Age Distribution'!$H:$H,\">=\"&$B11,'Age Distribution'!$H:$H,\"<\"&$D11),SUMIFS('Age Distribution'!W:W,'Age Distribution'!$H:$H,\">=\"&$B11)))","v":5970},{"$f":"IF($A11=\"\",\"\",IF($A11=\"Between\",SUMIFS('Age Distribution'!X:X,'Age Distribution'!$H:$H,\">=\"&$B11,'Age Distribution'!$H:$H,\"<\"&$D11),SUMIFS('Age Distribution'!X:X,'Age Distribution'!$H:$H,\">=\"&$B11)))","v":3844},{"$f":"IF($A11=\"\",\"\",IF($A11=\"Between\",SUMIFS('Age Distribution'!Y:Y,'Age Distribution'!$H:$H,\">=\"&$B11,'Age Distribution'!$H:$H,\"<\"&$D11),SUMIFS('Age Distribution'!Y:Y,'Age Distribution'!$H:$H,\">=\"&$B11)))","v":8253},{"$f":"IF($A11=\"\",\"\",IF($A11=\"Between\",SUMIFS('Age Distribution'!Z:Z,'Age Distribution'!$H:$H,\">=\"&$B11,'Age Distribution'!$H:$H,\"<\"&$D11),SUMIFS('Age Distribution'!Z:Z,'Age Distribution'!$H:$H,\">=\"&$B11)))","v":8387},{"$f":"IF($A11=\"\",\"\",IF($A11=\"Between\",SUMIFS('Age Distribution'!AA:AA,'Age Distribution'!$H:$H,\">=\"&$B11,'Age Distribution'!$H:$H,\"<\"&$D11),SUMIFS('Age Distribution'!AA:AA,'Age Distribution'!$H:$H,\">=\"&$B11)))","v":1861},{"$f":"IF($A11=\"\",\"\",IF($A11=\"Between\",SUMIFS('Age Distribution'!AB:AB,'Age Distribution'!$H:$H,\">=\"&$B11,'Age Distribution'!$H:$H,\"<\"&$D11),SUMIFS('Age Distribution'!AB:AB,'Age Distribution'!$H:$H,\">=\"&$B11)))","v":1430},{"$f":"IF($A11=\"\",\"\",IF($A11=\"Between\",SUMIFS('Age Distribution'!AC:AC,'Age Distribution'!$H:$H,\">=\"&$B11,'Age Distribution'!$H:$H,\"<\"&$D11),SUMIFS('Age Distribution'!AC:AC,'Age Distribution'!$H:$H,\">=\"&$B11)))","v":7586},{"$f":"IF($A11=\"\",\"\",IF($A11=\"Between\",SUMIFS('Age Distribution'!AD:AD,'Age Distribution'!$H:$H,\">=\"&$B11,'Age Distribution'!$H:$H,\"<\"&$D11),SUMIFS('Age Distribution'!AD:AD,'Age Distribution'!$H:$H,\">=\"&$B11)))","v":184},{"$f":"IF($A11=\"\",\"\",IF($A11=\"Between\",SUMIFS('Age Distribution'!AE:AE,'Age Distribution'!$H:$H,\">=\"&$B11,'Age Distribution'!$H:$H,\"<\"&$D11),SUMIFS('Age Distribution'!AE:AE,'Age Distribution'!$H:$H,\">=\"&$B11)))","v":123071},{"$f":"IF($A11=\"\",\"\",IF($A11=\"Between\",SUMPRODUCT(--('Age Distribution'!$H:$H<$D11),--('Age Distribution'!$H:$H>=$B11),'Age Distribution'!$AE:$AE,'Age Distribution'!AF:AF)/SUMIFS('Age Distribution'!$AE:$AE,'Age Distribution'!$H:$H,\"<\"&$D11,'Age Distribution'!$H$2:$H$2288,\">=\"&$B11),SUMPRODUCT(--('Age Distribution'!$H:$H>=$B11),'Age Distribution'!$AE:$AE,'Age Distribution'!AF:AF)/SUMIFS('Age Distribution'!$AE:$AE,'Age Distribution'!$H:$H,\">=\"&$B11)))","v":7.6307172282666054},{"$f":"IF($A11=\"\",\"\",IF($A11=\"Between\",SUMPRODUCT(--('Age Distribution'!$H:$H<$D11),--('Age Distribution'!$H:$H>=$B11),'Age Distribution'!$AE:$AE,'Age Distribution'!AG:AG)/SUMIFS('Age Distribution'!$AE:$AE,'Age Distribution'!$H:$H,\"<\"&$D11,'Age Distribution'!$H:$H,\">=\"&$B11,'Age Distribution'!$AG:$AG,\"<>\"),SUMPRODUCT(--('Age Distribution'!$H:$H>=$B11),'Age Distribution'!$AE:$AE,'Age Distribution'!AG:AG)/SUMIFS('Age Distribution'!$AE:$AE,'Age Distribution'!$H:$H,\">=\"&$B11,'Age Distribution'!$AG:$AG,\"<>\")))","v":416510.0381722388}]
["","",{"$f":"IF(D12<>\"\",\"and\",\"\")","v":""},null,"invalid bin",{"$f":"IF($A12=\"\",\"\",IF($A12=\"Between\",SUMIFS('Age Distribution'!L:L,'Age Distribution'!$H:$H,\">=\"&$B12,'Age Distribution'!$H:$H,\"<\"&$D12),SUMIFS('Age Distribution'!L:L,'Age Distribution'!$H:$H,\">=\"&$B12)))","v":""},{"$f":"IF($A12=\"\",\"\",IF($A12=\"Between\",SUMIFS('Age Distribution'!M:M,'Age Distribution'!$H:$H,\">=\"&$B12,'Age Distribution'!$H:$H,\"<\"&$D12),SUMIFS('Age Distribution'!M:M,'Age Distribution'!$H:$H,\">=\"&$B12)))","v":""},{"$f":"IF($A12=\"\",\"\",IF($A12=\"Between\",SUMIFS('Age Distribution'!N:N,'Age Distribution'!$H:$H,\">=\"&$B12,'Age Distribution'!$H:$H,\"<\"&$D12),SUMIFS('Age Distribution'!N:N,'Age Distribution'!$H:$H,\">=\"&$B12)))","v":""},{"$f":"IF($A12=\"\",\"\",IF($A12=\"Between\",SUMIFS('Age Distribution'!O:O,'Age Distribution'!$H:$H,\">=\"&$B12,'Age Distribution'!$H:$H,\"<\"&$D12),SUMIFS('Age Distribution'!O:O,'Age Distribution'!$H:$H,\">=\"&$B12)))","v":""},{"$f":"IF($A12=\"\",\"\",IF($A12=\"Between\",SUMIFS('Age Distribution'!P:P,'Age Distribution'!$H:$H,\">=\"&$B12,'Age Distribution'!$H:$H,\"<\"&$D12),SUMIFS('Age Distribution'!P:P,'Age Distribution'!$H:$H,\">=\"&$B12)))","v":""},{"$f":"IF($A12=\"\",\"\",IF($A12=\"Between\",SUMIFS('Age Distribution'!Q:Q,'Age Distribution'!$H:$H,\">=\"&$B12,'Age Distribution'!$H:$H,\"<\"&$D12),SUMIFS('Age Distribution'!Q:Q,'Age Distribution'!$H:$H,\">=\"&$B12)))","v":""},{"$f":"IF($A12=\"\",\"\",IF($A12=\"Between\",SUMIFS('Age Distribution'!R:R,'Age Distribution'!$H:$H,\">=\"&$B12,'Age Distribution'!$H:$H,\"<\"&$D12),SUMIFS('Age Distribution'!R:R,'Age Distribution'!$H:$H,\">=\"&$B12)))","v":""},{"$f":"IF($A12=\"\",\"\",IF($A12=\"Between\",SUMIFS('Age Distribution'!S:S,'Age Distribution'!$H:$H,\">=\"&$B12,'Age Distribution'!$H:$H,\"<\"&$D12),SUMIFS('Age Distribution'!S:S,'Age Distribution'!$H:$H,\">=\"&$B12)))","v":""},{"$f":"IF($A12=\"\",\"\",IF($A12=\"Between\",SUMIFS('Age Distribution'!T:T,'Age Distribution'!$H:$H,\">=\"&$B12,'Age Distribution'!$H:$H,\"<\"&$D12),SUMIFS('Age Distribution'!T:T,'Age Distribution'!$H:$H,\">=\"&$B12)))","v":""},{"$f":"IF($A12=\"\",\"\",IF($A12=\"Between\",SUMIFS('Age Distribution'!U:U,'Age Distribution'!$H:$H,\">=\"&$B12,'Age Distribution'!$H:$H,\"<\"&$D12),SUMIFS('Age Distribution'!U:U,'Age Distribution'!$H:$H,\">=\"&$B12)))","v":""},{"$f":"IF($A12=\"\",\"\",IF($A12=\"Between\",SUMIFS('Age Distribution'!V:V,'Age Distribution'!$H:$H,\">=\"&$B12,'Age Distribution'!$H:$H,\"<\"&$D12),SUMIFS('Age Distribution'!V:V,'Age Distribution'!$H:$H,\">=\"&$B12)))","v":""},{"$f":"IF($A12=\"\",\"\",IF($A12=\"Between\",SUMIFS('Age Distribution'!W:W,'Age Distribution'!$H:$H,\">=\"&$B12,'Age Distribution'!$H:$H,\"<\"&$D12),SUMIFS('Age Distribution'!W:W,'Age Distribution'!$H:$H,\">=\"&$B12)))","v":""},{"$f":"IF($A12=\"\",\"\",IF($A12=\"Between\",SUMIFS('Age Distribution'!X:X,'Age Distribution'!$H:$H,\">=\"&$B12,'Age Distribution'!$H:$H,\"<\"&$D12),SUMIFS('Age Distribution'!X:X,'Age Distribution'!$H:$H,\">=\"&$B12)))","v":""},{"$f":"IF($A12=\"\",\"\",IF($A12=\"Between\",SUMIFS('Age Distribution'!Y:Y,'Age Distribution'!$H:$H,\">=\"&$B12,'Age Distribution'!$H:$H,\"<\"&$D12),SUMIFS('Age Distribution'!Y:Y,'Age Distribution'!$H:$H,\">=\"&$B12)))","v":""},{"$f":"IF($A12=\"\",\"\",IF($A12=\"Between\",SUMIFS('Age Distribution'!Z:Z,'Age Distribution'!$H:$H,\">=\"&$B12,'Age Distribution'!$H:$H,\"<\"&$D12),SUMIFS('Age Distribution'!Z:Z,'Age Distribution'!$H:$H,\">=\"&$B12)))","v":""},{"$f":"IF($A12=\"\",\"\",IF($A12=\"Between\",SUMIFS('Age Distribution'!AA:AA,'Age Distribution'!$H:$H,\">=\"&$B12,'Age Distribution'!$H:$H,\"<\"&$D12),SUMIFS('Age Distribution'!AA:AA,'Age Distribution'!$H:$H,\">=\"&$B12)))","v":""},{"$f":"IF($A12=\"\",\"\",IF($A12=\"Between\",SUMIFS('Age Distribution'!AB:AB,'Age Distribution'!$H:$H,\">=\"&$B12,'Age Distribution'!$H:$H,\"<\"&$D12),SUMIFS('Age Distribution'!AB:AB,'Age Distribution'!$H:$H,\">=\"&$B12)))","v":""},{"$f":"IF($A12=\"\",\"\",IF($A12=\"Between\",SUMIFS('Age Distribution'!AC:AC,'Age Distribution'!$H:$H,\">=\"&$B12,'Age Distribution'!$H:$H,\"<\"&$D12),SUMIFS('Age Distribution'!AC:AC,'Age Distribution'!$H:$H,\">=\"&$B12)))","v":""},{"$f":"IF($A12=\"\",\"\",IF($A12=\"Between\",SUMIFS('Age Distribution'!AD:AD,'Age Distribution'!$H:$H,\">=\"&$B12,'Age Distribution'!$H:$H,\"<\"&$D12),SUMIFS('Age Distribution'!AD:AD,'Age Distribution'!$H:$H,\">=\"&$B12)))","v":""},{"$f":"IF($A12=\"\",\"\",IF($A12=\"Between\",SUMIFS('Age Distribution'!AE:AE,'Age Distribution'!$H:$H,\">=\"&$B12,'Age Distribution'!$H:$H,\"<\"&$D12),SUMIFS('Age Distribution'!AE:AE,'Age Distribution'!$H:$H,\">=\"&$B12)))","v":""},{"$f":"IF($A12=\"\",\"\",IF($A12=\"Between\",SUMPRODUCT(--('Age Distribution'!$H:$H<$D12),--('Age Distribution'!$H:$H>=$B12),'Age Distribution'!$AE:$AE,'Age Distribution'!AF:AF)/SUMIFS('Age Distribution'!$AE:$AE,'Age Distribution'!$H:$H,\"<\"&$D12,'Age Distribution'!$H$2:$H$2288,\">=\"&$B12),SUMPRODUCT(--('Age Distribution'!$H:$H>=$B12),'Age Distribution'!$AE:$AE,'Age Distribution'!AF:AF)/SUMIFS('Age Distribution'!$AE:$AE,'Age Distribution'!$H:$H,\">=\"&$B12)))","v":""},{"$f":"IF($A12=\"\",\"\",IF($A12=\"Between\",SUMIFS('Age Distribution'!AG:AG,'Age Distribution'!$H:$H,\">=\"&$B12,'Age Distribution'!$H:$H,\"<\"&$D12),SUMIFS('Age Distribution'!AG:AG,'Age Distribution'!$H:$H,\">=\"&$B12)))","v":""}]
["","","",null,"invalid bin",{"$f":"IF($A13=\"\",\"\",IF($A13=\"Between\",SUMIFS('Age Distribution'!L:L,'Age Distribution'!$H:$H,\">=\"&$B13,'Age Distribution'!$H:$H,\"<\"&$D13),SUMIFS('Age Distribution'!L:L,'Age Distribution'!$H:$H,\">=\"&$B13)))","v":""},{"$f":"IF($A13=\"\",\"\",IF($A13=\"Between\",SUMIFS('Age Distribution'!M:M,'Age Distribution'!$H:$H,\">=\"&$B13,'Age Distribution'!$H:$H,\"<\"&$D13),SUMIFS('Age Distribution'!M:M,'Age Distribution'!$H:$H,\">=\"&$B13)))","v":""},{"$f":"IF($A13=\"\",\"\",IF($A13=\"Between\",SUMIFS('Age Distribution'!N:N,'Age Distribution'!$H:$H,\">=\"&$B13,'Age Distribution'!$H:$H,\"<\"&$D13),SUMIFS('Age Distribution'!N:N,'Age Distribution'!$H:$H,\">=\"&$B13)))","v":""},{"$f":"IF($A13=\"\",\"\",IF($A13=\"Between\",SUMIFS('Age Distribution'!O:O,'Age Distribution'!$H:$H,\">=\"&$B13,'Age Distribution'!$H:$H,\"<\"&$D13),SUMIFS('Age Distribution'!O:O,'Age Distribution'!$H:$H,\">=\"&$B13)))","v":""},{"$f":"IF($A13=\"\",\"\",IF($A13=\"Between\",SUMIFS('Age Distribution'!P:P,'Age Distribution'!$H:$H,\">=\"&$B13,'Age Distribution'!$H:$H,\"<\"&$D13),SUMIFS('Age Distribution'!P:P,'Age Distribution'!$H:$H,\">=\"&$B13)))","v":""},{"$f":"IF($A13=\"\",\"\",IF($A13=\"Between\",SUMIFS('Age Distribution'!Q:Q,'Age Distribution'!$H:$H,\">=\"&$B13,'Age Distribution'!$H:$H,\"<\"&$D13),SUMIFS('Age Distribution'!Q:Q,'Age Distribution'!$H:$H,\">=\"&$B13)))","v":""},{"$f":"IF($A13=\"\",\"\",IF($A13=\"Between\",SUMIFS('Age Distribution'!R:R,'Age Distribution'!$H:$H,\">=\"&$B13,'Age Distribution'!$H:$H,\"<\"&$D13),SUMIFS('Age Distribution'!R:R,'Age Distribution'!$H:$H,\">=\"&$B13)))","v":""},{"$f":"IF($A13=\"\",\"\",IF($A13=\"Between\",SUMIFS('Age Distribution'!S:S,'Age Distribution'!$H:$H,\">=\"&$B13,'Age Distribution'!$H:$H,\"<\"&$D13),SUMIFS('Age Distribution'!S:S,'Age Distribution'!$H:$H,\">=\"&$B13)))","v":""},{"$f":"IF($A13=\"\",\"\",IF($A13=\"Between\",SUMIFS('Age Distribution'!T:T,'Age Distribution'!$H:$H,\">=\"&$B13,'Age Distribution'!$H:$H,\"<\"&$D13),SUMIFS('Age Distribution'!T:T,'Age Distribution'!$H:$H,\">=\"&$B13)))","v":""},{"$f":"IF($A13=\"\",\"\",IF($A13=\"Between\",SUMIFS('Age Distribution'!U:U,'Age Distribution'!$H:$H,\">=\"&$B13,'Age Distribution'!$H:$H,\"<\"&$D13),SUMIFS('Age Distribution'!U:U,'Age Distribution'!$H:$H,\">=\"&$B13)))","v":""},{"$f":"IF($A13=\"\",\"\",IF($A13=\"Between\",SUMIFS('Age Distribution'!V:V,'Age Distribution'!$H:$H,\">=\"&$B13,'Age Distribution'!$H:$H,\"<\"&$D13),SUMIFS('Age Distribution'!V:V,'Age Distribution'!$H:$H,\">=\"&$B13)))","v":""},{"$f":"IF($A13=\"\",\"\",IF($A13=\"Between\",SUMIFS('Age Distribution'!W:W,'Age Distribution'!$H:$H,\">=\"&$B13,'Age Distribution'!$H:$H,\"<\"&$D13),SUMIFS('Age Distribution'!W:W,'Age Distribution'!$H:$H,\">=\"&$B13)))","v":""},{"$f":"IF($A13=\"\",\"\",IF($A13=\"Between\",SUMIFS('Age Distribution'!X:X,'Age Distribution'!$H:$H,\">=\"&$B13,'Age Distribution'!$H:$H,\"<\"&$D13),SUMIFS('Age Distribution'!X:X,'Age Distribution'!$H:$H,\">=\"&$B13)))","v":""},{"$f":"IF($A13=\"\",\"\",IF($A13=\"Between\",SUMIFS('Age Distribution'!Y:Y,'Age Distribution'!$H:$H,\">=\"&$B13,'Age Distribution'!$H:$H,\"<\"&$D13),SUMIFS('Age Distribution'!Y:Y,'Age Distribution'!$H:$H,\">=\"&$B13)))","v":""},{"$f":"IF($A13=\"\",\"\",IF($A13=\"Between\",SUMIFS('Age Distribution'!Z:Z,'Age Distribution'!$H:$H,\">=\"&$B13,'Age Distribution'!$H:$H,\"<\"&$D13),SUMIFS('Age Distribution'!Z:Z,'Age Distribution'!$H:$H,\">=\"&$B13)))","v":""},{"$f":"IF($A13=\"\",\"\",IF($A13=\"Between\",SUMIFS('Age Distribution'!AA:AA,'Age Distribution'!$H:$H,\">=\"&$B13,'Age Distribution'!$H:$H,\"<\"&$D13),SUMIFS('Age Distribution'!AA:AA,'Age Distribution'!$H:$H,\">=\"&$B13)))","v":""},{"$f":"IF($A13=\"\",\"\",IF($A13=\"Between\",SUMIFS('Age Distribution'!AB:AB,'Age Distribution'!$H:$H,\">=\"&$B13,'Age Distribution'!$H:$H,\"<\"&$D13),SUMIFS('Age Distribution'!AB:AB,'Age Distribution'!$H:$H,\">=\"&$B13)))","v":""},{"$f":"IF($A13=\"\",\"\",IF($A13=\"Between\",SUMIFS('Age Distribution'!AC:AC,'Age Distribution'!$H:$H,\">=\"&$B13,'Age Distribution'!$H:$H,\"<\"&$D13),SUMIFS('Age Distribution'!AC:AC,'Age Distribution'!$H:$H,\">=\"&$B13)))","v":""},{"$f":"IF($A13=\"\",\"\",IF($A13=\"Between\",SUMIFS('Age Distribution'!AD:AD,'Age Distribution'!$H:$H,\">=\"&$B13,'Age Distribution'!$H:$H,\"<\"&$D13),SUMIFS('Age Distribution'!AD:AD,'Age Distribution'!$H:$H,\">=\"&$B13)))","v":""},{"$f":"IF($A13=\"\",\"\",IF($A13=\"Between\",SUMIFS('Age Distribution'!AE:AE,'Age Distribution'!$H:$H,\">=\"&$B13,'Age Distribution'!$H:$H,\"<\"&$D13),SUMIFS('Age Distribution'!AE:AE,'Age Distribution'!$H:$H,\">=\"&$B13)))","v":""},{"$f":"IF($A13=\"\",\"\",IF($A13=\"Between\",SUMPRODUCT(--('Age Distribution'!$H:$H<$D13),--('Age Distribution'!$H:$H>=$B13),'Age Distribution'!$AE:$AE,'Age Distribution'!AF:AF)/SUMIFS('Age Distribution'!$AE:$AE,'Age Distribution'!$H:$H,\"<\"&$D13,'Age Distribution'!$H$2:$H$2288,\">=\"&$B13),SUMPRODUCT(--('Age Distribution'!$H:$H>=$B13),'Age Distribution'!$AE:$AE,'Age Distribution'!AF:AF)/SUMIFS('Age Distribution'!$AE:$AE,'Age Distribution'!$H:$H,\">=\"&$B13)))","v":""},{"$f":"IF($A13=\"\",\"\",IF($A13=\"Between\",SUMIFS('Age Distribution'!AG:AG,'Age Distribution'!$H:$H,\">=\"&$B13,'Age Distribution'!$H:$H,\"<\"&$D13),SUMIFS('Age Distribution'!AG:AG,'Age Distribution'!$H:$H,\">=\"&$B13)))","v":""}]
["","","",null,"invalid bin",{"$f":"IF($A14=\"\",\"\",IF($A14=\"Between\",SUMIFS('Age Distribution'!L:L,'Age Distribution'!$H:$H,\">=\"&$B14,'Age Distribution'!$H:$H,\"<\"&$D14),SUMIFS('Age Distribution'!L:L,'Age Distribution'!$H:$H,\">=\"&$B14)))","v":""},{"$f":"IF($A14=\"\",\"\",IF($A14=\"Between\",SUMIFS('Age Distribution'!M:M,'Age Distribution'!$H:$H,\">=\"&$B14,'Age Distribution'!$H:$H,\"<\"&$D14),SUMIFS('Age Distribution'!M:M,'Age Distribution'!$H:$H,\">=\"&$B14)))","v":""},{"$f":"IF($A14=\"\",\"\",IF($A14=\"Between\",SUMIFS('Age Distribution'!N:N,'Age Distribution'!$H:$H,\">=\"&$B14,'Age Distribution'!$H:$H,\"<\"&$D14),SUMIFS('Age Distribution'!N:N,'Age Distribution'!$H:$H,\">=\"&$B14)))","v":""},{"$f":"IF($A14=\"\",\"\",IF($A14=\"Between\",SUMIFS('Age Distribution'!O:O,'Age Distribution'!$H:$H,\">=\"&$B14,'Age Distribution'!$H:$H,\"<\"&$D14),SUMIFS('Age Distribution'!O:O,'Age Distribution'!$H:$H,\">=\"&$B14)))","v":""},{"$f":"IF($A14=\"\",\"\",IF($A14=\"Between\",SUMIFS('Age Distribution'!P:P,'Age Distribution'!$H:$H,\">=\"&$B14,'Age Distribution'!$H:$H,\"<\"&$D14),SUMIFS('Age Distribution'!P:P,'Age Distribution'!$H:$H,\">=\"&$B14)))","v":""},{"$f":"IF($A14=\"\",\"\",IF($A14=\"Between\",SUMIFS('Age Distribution'!Q:Q,'Age Distribution'!$H:$H,\">=\"&$B14,'Age Distribution'!$H:$H,\"<\"&$D14),SUMIFS('Age Distribution'!Q:Q,'Age Distribution'!$H:$H,\">=\"&$B14)))","v":""},{"$f":"IF($A14=\"\",\"\",IF($A14=\"Between\",SUMIFS('Age Distribution'!R:R,'Age Distribution'!$H:$H,\">=\"&$B14,'Age Distribution'!$H:$H,\"<\"&$D14),SUMIFS('Age Distribution'!R:R,'Age Distribution'!$H:$H,\">=\"&$B14)))","v":""},{"$f":"IF($A14=\"\",\"\",IF($A14=\"Between\",SUMIFS('Age Distribution'!S:S,'Age Distribution'!$H:$H,\">=\"&$B14,'Age Distribution'!$H:$H,\"<\"&$D14),SUMIFS('Age Distribution'!S:S,'Age Distribution'!$H:$H,\">=\"&$B14)))","v":""},{"$f":"IF($A14=\"\",\"\",IF($A14=\"Between\",SUMIFS('Age Distribution'!T:T,'Age Distribution'!$H:$H,\">=\"&$B14,'Age Distribution'!$H:$H,\"<\"&$D14),SUMIFS('Age Distribution'!T:T,'Age Distribution'!$H:$H,\">=\"&$B14)))","v":""},{"$f":"IF($A14=\"\",\"\",IF($A14=\"Between\",SUMIFS('Age Distribution'!U:U,'Age Distribution'!$H:$H,\">=\"&$B14,'Age Distribution'!$H:$H,\"<\"&$D14),SUMIFS('Age Distribution'!U:U,'Age Distribution'!$H:$H,\">=\"&$B14)))","v":""},{"$f":"IF($A14=\"\",\"\",IF($A14=\"Between\",SUMIFS('Age Distribution'!V:V,'Age Distribution'!$H:$H,\">=\"&$B14,'Age Distribution'!$H:$H,\"<\"&$D14),SUMIFS('Age Distribution'!V:V,'Age Distribution'!$H:$H,\">=\"&$B14)))","v":""},{"$f":"IF($A14=\"\",\"\",IF($A14=\"Between\",SUMIFS('Age Distribution'!W:W,'Age Distribution'!$H:$H,\">=\"&$B14,'Age Distribution'!$H:$H,\"<\"&$D14),SUMIFS('Age Distribution'!W:W,'Age Distribution'!$H:$H,\">=\"&$B14)))","v":""},{"$f":"IF($A14=\"\",\"\",IF($A14=\"Between\",SUMIFS('Age Distribution'!X:X,'Age Distribution'!$H:$H,\">=\"&$B14,'Age Distribution'!$H:$H,\"<\"&$D14),SUMIFS('Age Distribution'!X:X,'Age Distribution'!$H:$H,\">=\"&$B14)))","v":""},{"$f":"IF($A14=\"\",\"\",IF($A14=\"Between\",SUMIFS('Age Distribution'!Y:Y,'Age Distribution'!$H:$H,\">=\"&$B14,'Age Distribution'!$H:$H,\"<\"&$D14),SUMIFS('Age Distribution'!Y:Y,'Age Distribution'!$H:$H,\">=\"&$B14)))","v":""},{"$f":"IF($A14=\"\",\"\",IF($A14=\"Between\",SUMIFS('Age Distribution'!Z:Z,'Age Distribution'!$H:$H,\">=\"&$B14,'Age Distribution'!$H:$H,\"<\"&$D14),SUMIFS('Age Distribution'!Z:Z,'Age Distribution'!$H:$H,\">=\"&$B14)))","v":""},{"$f":"IF($A14=\"\",\"\",IF($A14=\"Between\",SUMIFS('Age Distribution'!AA:AA,'Age Distribution'!$H:$H,\">=\"&$B14,'Age Distribution'!$H:$H,\"<\"&$D14),SUMIFS('Age Distribution'!AA:AA,'Age Distribution'!$H:$H,\">=\"&$B14)))","v":""},{"$f":"IF($A14=\"\",\"\",IF($A14=\"Between\",SUMIFS('Age Distribution'!AB:AB,'Age Distribution'!$H:$H,\">=\"&$B14,'Age Distribution'!$H:$H,\"<\"&$D14),SUMIFS('Age Distribution'!AB:AB,'Age Distribution'!$H:$H,\">=\"&$B14)))","v":""},{"$f":"IF($A14=\"\",\"\",IF($A14=\"Between\",SUMIFS('Age Distribution'!AC:AC,'Age Distribution'!$H:$H,\">=\"&$B14,'Age Distribution'!$H:$H,\"<\"&$D14),SUMIFS('Age Distribution'!AC:AC,'Age Distribution'!$H:$H,\">=\"&$B14)))","v":""},{"$f":"IF($A14=\"\",\"\",IF($A14=\"Between\",SUMIFS('Age Distribution'!AD:AD,'Age Distribution'!$H:$H,\">=\"&$B14,'Age Distribution'!$H:$H,\"<\"&$D14),SUMIFS('Age Distribution'!AD:AD,'Age Distribution'!$H:$H,\">=\"&$B14)))","v":""},{"$f":"IF($A14=\"\",\"\",IF($A14=\"Between\",SUMIFS('Age Distribution'!AE:AE,'Age Distribution'!$H:$H,\">=\"&$B14,'Age Distribution'!$H:$H,\"<\"&$D14),SUMIFS('Age Distribution'!AE:AE,'Age Distribution'!$H:$H,\">=\"&$B14)))","v":""},{"$f":"IF($A14=\"\",\"\",IF($A14=\"Between\",SUMPRODUCT(--('Age Distribution'!$H:$H<$D14),--('Age Distribution'!$H:$H>=$B14),'Age Distribution'!$AE:$AE,'Age Distribution'!AF:AF)/SUMIFS('Age Distribution'!$AE:$AE,'Age Distribution'!$H:$H,\"<\"&$D14,'Age Distribution'!$H$2:$H$2288,\">=\"&$B14),SUMPRODUCT(--('Age Distribution'!$H:$H>=$B14),'Age Distribution'!$AE:$AE,'Age Distribution'!AF:AF)/SUMIFS('Age Distribution'!$AE:$AE,'Age Distribution'!$H:$H,\">=\"&$B14)))","v":""},{"$f":"IF($A14=\"\",\"\",IF($A14=\"Between\",SUMIFS('Age Distribution'!AG:AG,'Age Distribution'!$H:$H,\">=\"&$B14,'Age Distribution'!$H:$H,\"<\"&$D14),SUMIFS('Age Distribution'!AG:AG,'Age Distribution'!$H:$H,\">=\"&$B14)))","v":""}]
["","","",null,"invalid bin",{"$f":"IF($A15=\"\",\"\",IF($A15=\"Between\",SUMIFS('Age Distribution'!L:L,'Age Distribution'!$H:$H,\">=\"&$B15,'Age Distribution'!$H:$H,\"<\"&$D15),SUMIFS('Age Distribution'!L:L,'Age Distribution'!$H:$H,\">=\"&$B15)))","v":""},{"$f":"IF($A15=\"\",\"\",IF($A15=\"Between\",SUMIFS('Age Distribution'!M:M,'Age Distribution'!$H:$H,\">=\"&$B15,'Age Distribution'!$H:$H,\"<\"&$D15),SUMIFS('Age Distribution'!M:M,'Age Distribution'!$H:$H,\">=\"&$B15)))","v":""},{"$f":"IF($A15=\"\",\"\",IF($A15=\"Between\",SUMIFS('Age Distribution'!N:N,'Age Distribution'!$H:$H,\">=\"&$B15,'Age Distribution'!$H:$H,\"<\"&$D15),SUMIFS('Age Distribution'!N:N,'Age Distribution'!$H:$H,\">=\"&$B15)))","v":""},{"$f":"IF($A15=\"\",\"\",IF($A15=\"Between\",SUMIFS('Age Distribution'!O:O,'Age Distribution'!$H:$H,\">=\"&$B15,'Age Distribution'!$H:$H,\"<\"&$D15),SUMIFS('Age Distribution'!O:O,'Age Distribution'!$H:$H,\">=\"&$B15)))","v":""},{"$f":"IF($A15=\"\",\"\",IF($A15=\"Between\",SUMIFS('Age Distribution'!P:P,'Age Distribution'!$H:$H,\">=\"&$B15,'Age Distribution'!$H:$H,\"<\"&$D15),SUMIFS('Age Distribution'!P:P,'Age Distribution'!$H:$H,\">=\"&$B15)))","v":""},{"$f":"IF($A15=\"\",\"\",IF($A15=\"Between\",SUMIFS('Age Distribution'!Q:Q,'Age Distribution'!$H:$H,\">=\"&$B15,'Age Distribution'!$H:$H,\"<\"&$D15),SUMIFS('Age Distribution'!Q:Q,'Age Distribution'!$H:$H,\">=\"&$B15)))","v":""},{"$f":"IF($A15=\"\",\"\",IF($A15=\"Between\",SUMIFS('Age Distribution'!R:R,'Age Distribution'!$H:$H,\">=\"&$B15,'Age Distribution'!$H:$H,\"<\"&$D15),SUMIFS('Age Distribution'!R:R,'Age Distribution'!$H:$H,\">=\"&$B15)))","v":""},{"$f":"IF($A15=\"\",\"\",IF($A15=\"Between\",SUMIFS('Age Distribution'!S:S,'Age Distribution'!$H:$H,\">=\"&$B15,'Age Distribution'!$H:$H,\"<\"&$D15),SUMIFS('Age Distribution'!S:S,'Age Distribution'!$H:$H,\">=\"&$B15)))","v":""},{"$f":"IF($A15=\"\",\"\",IF($A15=\"Between\",SUMIFS('Age Distribution'!T:T,'Age Distribution'!$H:$H,\">=\"&$B15,'Age Distribution'!$H:$H,\"<\"&$D15),SUMIFS('Age Distribution'!T:T,'Age Distribution'!$H:$H,\">=\"&$B15)))","v":""},{"$f":"IF($A15=\"\",\"\",IF($A15=\"Between\",SUMIFS('Age Distribution'!U:U,'Age Distribution'!$H:$H,\">=\"&$B15,'Age Distribution'!$H:$H,\"<\"&$D15),SUMIFS('Age Distribution'!U:U,'Age Distribution'!$H:$H,\">=\"&$B15)))","v":""},{"$f":"IF($A15=\"\",\"\",IF($A15=\"Between\",SUMIFS('Age Distribution'!V:V,'Age Distribution'!$H:$H,\">=\"&$B15,'Age Distribution'!$H:$H,\"<\"&$D15),SUMIFS('Age Distribution'!V:V,'Age Distribution'!$H:$H,\">=\"&$B15)))","v":""},{"$f":"IF($A15=\"\",\"\",IF($A15=\"Between\",SUMIFS('Age Distribution'!W:W,'Age Distribution'!$H:$H,\">=\"&$B15,'Age Distribution'!$H:$H,\"<\"&$D15),SUMIFS('Age Distribution'!W:W,'Age Distribution'!$H:$H,\">=\"&$B15)))","v":""},{"$f":"IF($A15=\"\",\"\",IF($A15=\"Between\",SUMIFS('Age Distribution'!X:X,'Age Distribution'!$H:$H,\">=\"&$B15,'Age Distribution'!$H:$H,\"<\"&$D15),SUMIFS('Age Distribution'!X:X,'Age Distribution'!$H:$H,\">=\"&$B15)))","v":""},{"$f":"IF($A15=\"\",\"\",IF($A15=\"Between\",SUMIFS('Age Distribution'!Y:Y,'Age Distribution'!$H:$H,\">=\"&$B15,'Age Distribution'!$H:$H,\"<\"&$D15),SUMIFS('Age Distribution'!Y:Y,'Age Distribution'!$H:$H,\">=\"&$B15)))","v":""},{"$f":"IF($A15=\"\",\"\",IF($A15=\"Between\",SUMIFS('Age Distribution'!Z:Z,'Age Distribution'!$H:$H,\">=\"&$B15,'Age Distribution'!$H:$H,\"<\"&$D15),SUMIFS('Age Distribution'!Z:Z,'Age Distribution'!$H:$H,\">=\"&$B15)))","v":""},{"$f":"IF($A15=\"\",\"\",IF($A15=\"Between\",SUMIFS('Age Distribution'!AA:AA,'Age Distribution'!$H:$H,\">=\"&$B15,'Age Distribution'!$H:$H,\"<\"&$D15),SUMIFS('Age Distribution'!AA:AA,'Age Distribution'!$H:$H,\">=\"&$B15)))","v":""},{"$f":"IF($A15=\"\",\"\",IF($A15=\"Between\",SUMIFS('Age Distribution'!AB:AB,'Age Distribution'!$H:$H,\">=\"&$B15,'Age Distribution'!$H:$H,\"<\"&$D15),SUMIFS('Age Distribution'!AB:AB,'Age Distribution'!$H:$H,\">=\"&$B15)))","v":""},{"$f":"IF($A15=\"\",\"\",IF($A15=\"Between\",SUMIFS('Age Distribution'!AC:AC,'Age Distribution'!$H:$H,\">=\"&$B15,'Age Distribution'!$H:$H,\"<\"&$D15),SUMIFS('Age Distribution'!AC:AC,'Age Distribution'!$H:$H,\">=\"&$B15)))","v":""},{"$f":"IF($A15=\"\",\"\",IF($A15=\"Between\",SUMIFS('Age Distribution'!AD:AD,'Age Distribution'!$H:$H,\">=\"&$B15,'Age Distribution'!$H:$H,\"<\"&$D15),SUMIFS('Age Distribution'!AD:AD,'Age Distribution'!$H:$H,\">=\"&$B15)))","v":""},{"$f":"IF($A15=\"\",\"\",IF($A15=\"Between\",SUMIFS('Age Distribution'!AE:AE,'Age Distribution'!$H:$H,\">=\"&$B15,'Age Distribution'!$H:$H,\"<\"&$D15),SUMIFS('Age Distribution'!AE:AE,'Age Distribution'!$H:$H,\">=\"&$B15)))","v":""},{"$f":"IF($A15=\"\",\"\",IF($A15=\"Between\",SUMPRODUCT(--('Age Distribution'!$H:$H<$D15),--('Age Distribution'!$H:$H>=$B15),'Age Distribution'!$AE:$AE,'Age Distribution'!AF:AF)/SUMIFS('Age Distribution'!$AE:$AE,'Age Distribution'!$H:$H,\"<\"&$D15,'Age Distribution'!$H$2:$H$2288,\">=\"&$B15),SUMPRODUCT(--('Age Distribution'!$H:$H>=$B15),'Age Distribution'!$AE:$AE,'Age Distribution'!AF:AF)/SUMIFS('Age Distribution'!$AE:$AE,'Age Distribution'!$H:$H,\">=\"&$B15)))","v":""},{"$f":"IF($A15=\"\",\"\",IF($A15=\"Between\",SUMIFS('Age Distribution'!AG:AG,'Age Distribution'!$H:$H,\">=\"&$B15,'Age Distribution'!$H:$H,\"<\"&$D15),SUMIFS('Age Distribution'!AG:AG,'Age Distribution'!$H:$H,\">=\"&$B15)))","v":""}]
["","","",null,"invalid bin",{"$f":"IF($A16=\"\",\"\",IF($A16=\"Between\",SUMIFS('Age Distribution'!L:L,'Age Distribution'!$H:$H,\">=\"&$B16,'Age Distribution'!$H:$H,\"<\"&$D16),SUMIFS('Age Distribution'!L:L,'Age Distribution'!$H:$H,\">=\"&$B16)))","v":""},{"$f":"IF($A16=\"\",\"\",IF($A16=\"Between\",SUMIFS('Age Distribution'!M:M,'Age Distribution'!$H:$H,\">=\"&$B16,'Age Distribution'!$H:$H,\"<\"&$D16),SUMIFS('Age Distribution'!M:M,'Age Distribution'!$H:$H,\">=\"&$B16)))","v":""},{"$f":"IF($A16=\"\",\"\",IF($A16=\"Between\",SUMIFS('Age Distribution'!N:N,'Age Distribution'!$H:$H,\">=\"&$B16,'Age Distribution'!$H:$H,\"<\"&$D16),SUMIFS('Age Distribution'!N:N,'Age Distribution'!$H:$H,\">=\"&$B16)))","v":""},{"$f":"IF($A16=\"\",\"\",IF($A16=\"Between\",SUMIFS('Age Distribution'!O:O,'Age Distribution'!$H:$H,\">=\"&$B16,'Age Distribution'!$H:$H,\"<\"&$D16),SUMIFS('Age Distribution'!O:O,'Age Distribution'!$H:$H,\">=\"&$B16)))","v":""},{"$f":"IF($A16=\"\",\"\",IF($A16=\"Between\",SUMIFS('Age Distribution'!P:P,'Age Distribution'!$H:$H,\">=\"&$B16,'Age Distribution'!$H:$H,\"<\"&$D16),SUMIFS('Age Distribution'!P:P,'Age Distribution'!$H:$H,\">=\"&$B16)))","v":""},{"$f":"IF($A16=\"\",\"\",IF($A16=\"Between\",SUMIFS('Age Distribution'!Q:Q,'Age Distribution'!$H:$H,\">=\"&$B16,'Age Distribution'!$H:$H,\"<\"&$D16),SUMIFS('Age Distribution'!Q:Q,'Age Distribution'!$H:$H,\">=\"&$B16)))","v":""},{"$f":"IF($A16=\"\",\"\",IF($A16=\"Between\",SUMIFS('Age Distribution'!R:R,'Age Distribution'!$H:$H,\">=\"&$B16,'Age Distribution'!$H:$H,\"<\"&$D16),SUMIFS('Age Distribution'!R:R,'Age Distribution'!$H:$H,\">=\"&$B16)))","v":""},{"$f":"IF($A16=\"\",\"\",IF($A16=\"Between\",SUMIFS('Age Distribution'!S:S,'Age Distribution'!$H:$H,\">=\"&$B16,'Age Distribution'!$H:$H,\"<\"&$D16),SUMIFS('Age Distribution'!S:S,'Age Distribution'!$H:$H,\">=\"&$B16)))","v":""},{"$f":"IF($A16=\"\",\"\",IF($A16=\"Between\",SUMIFS('Age Distribution'!T:T,'Age Distribution'!$H:$H,\">=\"&$B16,'Age Distribution'!$H:$H,\"<\"&$D16),SUMIFS('Age Distribution'!T:T,'Age Distribution'!$H:$H,\">=\"&$B16)))","v":""},{"$f":"IF($A16=\"\",\"\",IF($A16=\"Between\",SUMIFS('Age Distribution'!U:U,'Age Distribution'!$H:$H,\">=\"&$B16,'Age Distribution'!$H:$H,\"<\"&$D16),SUMIFS('Age Distribution'!U:U,'Age Distribution'!$H:$H,\">=\"&$B16)))","v":""},{"$f":"IF($A16=\"\",\"\",IF($A16=\"Between\",SUMIFS('Age Distribution'!V:V,'Age Distribution'!$H:$H,\">=\"&$B16,'Age Distribution'!$H:$H,\"<\"&$D16),SUMIFS('Age Distribution'!V:V,'Age Distribution'!$H:$H,\">=\"&$B16)))","v":""},{"$f":"IF($A16=\"\",\"\",IF($A16=\"Between\",SUMIFS('Age Distribution'!W:W,'Age Distribution'!$H:$H,\">=\"&$B16,'Age Distribution'!$H:$H,\"<\"&$D16),SUMIFS('Age Distribution'!W:W,'Age Distribution'!$H:$H,\">=\"&$B16)))","v":""},{"$f":"IF($A16=\"\",\"\",IF($A16=\"Between\",SUMIFS('Age Distribution'!X:X,'Age Distribution'!$H:$H,\">=\"&$B16,'Age Distribution'!$H:$H,\"<\"&$D16),SUMIFS('Age Distribution'!X:X,'Age Distribution'!$H:$H,\">=\"&$B16)))","v":""},{"$f":"IF($A16=\"\",\"\",IF($A16=\"Between\",SUMIFS('Age Distribution'!Y:Y,'Age Distribution'!$H:$H,\">=\"&$B16,'Age Distribution'!$H:$H,\"<\"&$D16),SUMIFS('Age Distribution'!Y:Y,'Age Distribution'!$H:$H,\">=\"&$B16)))","v":""},{"$f":"IF($A16=\"\",\"\",IF($A16=\"Between\",SUMIFS('Age Distribution'!Z:Z,'Age Distribution'!$H:$H,\">=\"&$B16,'Age Distribution'!$H:$H,\"<\"&$D16),SUMIFS('Age Distribution'!Z:Z,'Age Distribution'!$H:$H,\">=\"&$B16)))","v":""},{"$f":"IF($A16=\"\",\"\",IF($A16=\"Between\",SUMIFS('Age Distribution'!AA:AA,'Age Distribution'!$H:$H,\">=\"&$B16,'Age Distribution'!$H:$H,\"<\"&$D16),SUMIFS('Age Distribution'!AA:AA,'Age Distribution'!$H:$H,\">=\"&$B16)))","v":""},{"$f":"IF($A16=\"\",\"\",IF($A16=\"Between\",SUMIFS('Age Distribution'!AB:AB,'Age Distribution'!$H:$H,\">=\"&$B16,'Age Distribution'!$H:$H,\"<\"&$D16),SUMIFS('Age Distribution'!AB:AB,'Age Distribution'!$H:$H,\">=\"&$B16)))","v":""},{"$f":"IF($A16=\"\",\"\",IF($A16=\"Between\",SUMIFS('Age Distribution'!AC:AC,'Age Distribution'!$H:$H,\">=\"&$B16,'Age Distribution'!$H:$H,\"<\"&$D16),SUMIFS('Age Distribution'!AC:AC,'Age Distribution'!$H:$H,\">=\"&$B16)))","v":""},{"$f":"IF($A16=\"\",\"\",IF($A16=\"Between\",SUMIFS('Age Distribution'!AD:AD,'Age Distribution'!$H:$H,\">=\"&$B16,'Age Distribution'!$H:$H,\"<\"&$D16),SUMIFS('Age Distribution'!AD:AD,'Age Distribution'!$H:$H,\">=\"&$B16)))","v":""},{"$f":"IF($A16=\"\",\"\",IF($A16=\"Between\",SUMIFS('Age Distribution'!AE:AE,'Age Distribution'!$H:$H,\">=\"&$B16,'Age Distribution'!$H:$H,\"<\"&$D16),SUMIFS('Age Distribution'!AE:AE,'Age Distribution'!$H:$H,\">=\"&$B16)))","v":""},{"$f":"IF($A16=\"\",\"\",IF($A16=\"Between\",SUMPRODUCT(--('Age Distribution'!$H:$H<$D16),--('Age Distribution'!$H:$H>=$B16),'Age Distribution'!$AE:$AE,'Age Distribution'!AF:AF)/SUMIFS('Age Distribution'!$AE:$AE,'Age Distribution'!$H:$H,\"<\"&$D16,'Age Distribution'!$H$2:$H$2288,\">=\"&$B16),SUMPRODUCT(--('Age Distribution'!$H:$H>=$B16),'Age Distribution'!$AE:$AE,'Age Distribution'!AF:AF)/SUMIFS('Age Distribution'!$AE:$AE,'Age Distribution'!$H:$H,\">=\"&$B16)))","v":""},{"$f":"IF($A16=\"\",\"\",IF($A16=\"Between\",SUMIFS('Age Distribution'!AG:AG,'Age Distribution'!$H:$H,\">=\"&$B16,'Age Distribution'!$H:$H,\"<\"&$D16),SUMIFS('Age Distribution'!AG:AG,'Age Distribution'!$H:$H,\">=\"&$B16)))","v":""}]
["","","",null,"invalid bin",{"$f":"IF($A17=\"\",\"\",IF($A17=\"Between\",SUMIFS('Age Distribution'!L:L,'Age Distribution'!$H:$H,\">=\"&$B17,'Age Distribution'!$H:$H,\"<\"&$D17),SUMIFS('Age Distribution'!L:L,'Age Distribution'!$H:$H,\">=\"&$B17)))","v":""},{"$f":"IF($A17=\"\",\"\",IF($A17=\"Between\",SUMIFS('Age Distribution'!M:M,'Age Distribution'!$H:$H,\">=\"&$B17,'Age Distribution'!$H:$H,\"<\"&$D17),SUMIFS('Age Distribution'!M:M,'Age Distribution'!$H:$H,\">=\"&$B17)))","v":""},{"$f":"IF($A17=\"\",\"\",IF($A17=\"Between\",SUMIFS('Age Distribution'!N:N,'Age Distribution'!$H:$H,\">=\"&$B17,'Age Distribution'!$H:$H,\"<\"&$D17),SUMIFS('Age Distribution'!N:N,'Age Distribution'!$H:$H,\">=\"&$B17)))","v":""},{"$f":"IF($A17=\"\",\"\",IF($A17=\"Between\",SUMIFS('Age Distribution'!O:O,'Age Distribution'!$H:$H,\">=\"&$B17,'Age Distribution'!$H:$H,\"<\"&$D17),SUMIFS('Age Distribution'!O:O,'Age Distribution'!$H:$H,\">=\"&$B17)))","v":""},{"$f":"IF($A17=\"\",\"\",IF($A17=\"Between\",SUMIFS('Age Distribution'!P:P,'Age Distribution'!$H:$H,\">=\"&$B17,'Age Distribution'!$H:$H,\"<\"&$D17),SUMIFS('Age Distribution'!P:P,'Age Distribution'!$H:$H,\">=\"&$B17)))","v":""},{"$f":"IF($A17=\"\",\"\",IF($A17=\"Between\",SUMIFS('Age Distribution'!Q:Q,'Age Distribution'!$H:$H,\">=\"&$B17,'Age Distribution'!$H:$H,\"<\"&$D17),SUMIFS('Age Distribution'!Q:Q,'Age Distribution'!$H:$H,\">=\"&$B17)))","v":""},{"$f":"IF($A17=\"\",\"\",IF($A17=\"Between\",SUMIFS('Age Distribution'!R:R,'Age Distribution'!$H:$H,\">=\"&$B17,'Age Distribution'!$H:$H,\"<\"&$D17),SUMIFS('Age Distribution'!R:R,'Age Distribution'!$H:$H,\">=\"&$B17)))","v":""},{"$f":"IF($A17=\"\",\"\",IF($A17=\"Between\",SUMIFS('Age Distribution'!S:S,'Age Distribution'!$H:$H,\">=\"&$B17,'Age Distribution'!$H:$H,\"<\"&$D17),SUMIFS('Age Distribution'!S:S,'Age Distribution'!$H:$H,\">=\"&$B17)))","v":""},{"$f":"IF($A17=\"\",\"\",IF($A17=\"Between\",SUMIFS('Age Distribution'!T:T,'Age Distribution'!$H:$H,\">=\"&$B17,'Age Distribution'!$H:$H,\"<\"&$D17),SUMIFS('Age Distribution'!T:T,'Age Distribution'!$H:$H,\">=\"&$B17)))","v":""},{"$f":"IF($A17=\"\",\"\",IF($A17=\"Between\",SUMIFS('Age Distribution'!U:U,'Age Distribution'!$H:$H,\">=\"&$B17,'Age Distribution'!$H:$H,\"<\"&$D17),SUMIFS('Age Distribution'!U:U,'Age Distribution'!$H:$H,\">=\"&$B17)))","v":""},{"$f":"IF($A17=\"\",\"\",IF($A17=\"Between\",SUMIFS('Age Distribution'!V:V,'Age Distribution'!$H:$H,\">=\"&$B17,'Age Distribution'!$H:$H,\"<\"&$D17),SUMIFS('Age Distribution'!V:V,'Age Distribution'!$H:$H,\">=\"&$B17)))","v":""},{"$f":"IF($A17=\"\",\"\",IF($A17=\"Between\",SUMIFS('Age Distribution'!W:W,'Age Distribution'!$H:$H,\">=\"&$B17,'Age Distribution'!$H:$H,\"<\"&$D17),SUMIFS('Age Distribution'!W:W,'Age Distribution'!$H:$H,\">=\"&$B17)))","v":""},{"$f":"IF($A17=\"\",\"\",IF($A17=\"Between\",SUMIFS('Age Distribution'!X:X,'Age Distribution'!$H:$H,\">=\"&$B17,'Age Distribution'!$H:$H,\"<\"&$D17),SUMIFS('Age Distribution'!X:X,'Age Distribution'!$H:$H,\">=\"&$B17)))","v":""},{"$f":"IF($A17=\"\",\"\",IF($A17=\"Between\",SUMIFS('Age Distribution'!Y:Y,'Age Distribution'!$H:$H,\">=\"&$B17,'Age Distribution'!$H:$H,\"<\"&$D17),SUMIFS('Age Distribution'!Y:Y,'Age Distribution'!$H:$H,\">=\"&$B17)))","v":""},{"$f":"IF($A17=\"\",\"\",IF($A17=\"Between\",SUMIFS('Age Distribution'!Z:Z,'Age Distribution'!$H:$H,\">=\"&$B17,'Age Distribution'!$H:$H,\"<\"&$D17),SUMIFS('Age Distribution'!Z:Z,'Age Distribution'!$H:$H,\">=\"&$B17)))","v":""},{"$f":"IF($A17=\"\",\"\",IF($A17=\"Between\",SUMIFS('Age Distribution'!AA:AA,'Age Distribution'!$H:$H,\">=\"&$B17,'Age Distribution'!$H:$H,\"<\"&$D17),SUMIFS('Age Distribution'!AA:AA,'Age Distribution'!$H:$H,\">=\"&$B17)))","v":""},{"$f":"IF($A17=\"\",\"\",IF($A17=\"Between\",SUMIFS('Age Distribution'!AB:AB,'Age Distribution'!$H:$H,\">=\"&$B17,'Age Distribution'!$H:$H,\"<\"&$D17),SUMIFS('Age Distribution'!AB:AB,'Age Distribution'!$H:$H,\">=\"&$B17)))","v":""},{"$f":"IF($A17=\"\",\"\",IF($A17=\"Between\",SUMIFS('Age Distribution'!AC:AC,'Age Distribution'!$H:$H,\">=\"&$B17,'Age Distribution'!$H:$H,\"<\"&$D17),SUMIFS('Age Distribution'!AC:AC,'Age Distribution'!$H:$H,\">=\"&$B17)))","v":""},{"$f":"IF($A17=\"\",\"\",IF($A17=\"Between\",SUMIFS('Age Distribution'!AD:AD,'Age Distribution'!$H:$H,\">=\"&$B17,'Age Distribution'!$H:$H,\"<\"&$D17),SUMIFS('Age Distribution'!AD:AD,'Age Distribution'!$H:$H,\">=\"&$B17)))","v":""},{"$f":"IF($A17=\"\",\"\",IF($A17=\"Between\",SUMIFS('Age Distribution'!AE:AE,'Age Distribution'!$H:$H,\">=\"&$B17,'Age Distribution'!$H:$H,\"<\"&$D17),SUMIFS('Age Distribution'!AE:AE,'Age Distribution'!$H:$H,\">=\"&$B17)))","v":""},{"$f":"IF($A17=\"\",\"\",IF($A17=\"Between\",SUMPRODUCT(--('Age Distribution'!$H:$H<$D17),--('Age Distribution'!$H:$H>=$B17),'Age Distribution'!$AE:$AE,'Age Distribution'!AF:AF)/SUMIFS('Age Distribution'!$AE:$AE,'Age Distribution'!$H:$H,\"<\"&$D17,'Age Distribution'!$H$2:$H$2288,\">=\"&$B17),SUMPRODUCT(--('Age Distribution'!$H:$H>=$B17),'Age Distribution'!$AE:$AE,'Age Distribution'!AF:AF)/SUMIFS('Age Distribution'!$AE:$AE,'Age Distribution'!$H:$H,\">=\"&$B17)))","v":""},{"$f":"IF($A17=\"\",\"\",IF($A17=\"Between\",SUMIFS('Age Distribution'!AG:AG,'Age Distribution'!$H:$H,\">=\"&$B17,'Age Distribution'!$H:$H,\"<\"&$D17),SUMIFS('Age Distribution'!AG:AG,'Age Distribution'!$H:$H,\">=\"&$B17)))","v":""}]
[null,null,null,null,{"$f":"IFERROR($F$2&CHAR(10)&G20&\":\"&CHAR(10)&F18&CHAR(10)&G18&CHAR(10)&H18&CHAR(10)&I18&CHAR(10)&J18&CHAR(10)&K18&CHAR(10)&L18&CHAR(10)&M18&CHAR(10)&N18&CHAR(10)&O18,\"\")","v":"Active Vehicles By Age Grouping (in Years)\nUnder 200,000 Population:\n0: 2,029\n1: 4,504\n2: 4,440\n3: 3,596\n4: 3,079\n5: 3,285\n6: 2,890\n7: 2,876\n8: 3,888\n9: 3,270"},{"$f":"F8&\": \"&FIXED(F19,0,0)","v":"0: 2,029"},{"$f":"G8&\": \"&FIXED(G19,0,0)","v":"1: 4,504"},"2: 4,440","3: 3,596","4: 3,079","5: 3,285","6: 2,890","7: 2,876","8: 3,888","9: 3,270"]
[null,null,null,null,null,{"$f":"INDIRECT(\"F\"&(8+$F$20))","v":2029},{"$f":"INDIRECT(\"G\"&(8+$F$20))","v":4504},{"$f":"INDIRECT(\"H\"&(8+$F$20))","v":4440},{"$f":"INDIRECT(\"I\"&(8+$F$20))","v":3596},{"$f":"INDIRECT(\"J\"&(8+$F$20))","v":3079},{"$f":"INDIRECT(\"K\"&(8+$F$20))","v":3285},{"$f":"INDIRECT(\"L\"&(8+$F$20))","v":2890},{"$f":"INDIRECT(\"M\"&(8+$F$20))","v":2876},{"$f":"INDIRECT(\"N\"&(8+$F$20))","v":3888},{"$f":"INDIRECT(\"O\"&(8+$F$20))","v":3270},{"$f":"INDIRECT(\"P\"&(8+$F$20))","v":2224},{"$f":"INDIRECT(\"Q\"&(8+$F$20))","v":1447},{"$f":"INDIRECT(\"R\"&(8+$F$20))","v":1163},{"$f":"INDIRECT(\"S\"&(8+$F$20))","v":2265},{"$f":"INDIRECT(\"T\"&(8+$F$20))","v":1451},{"$f":"INDIRECT(\"U\"&(8+$F$20))","v":263},{"$f":"INDIRECT(\"V\"&(8+$F$20))","v":84},{"$f":"INDIRECT(\"W\"&(8+$F$20))","v":89},{"$f":"INDIRECT(\"X\"&(8+$F$20))","v":12}]
[null,null,null,null,null,1,{"$f":"IF(INDIRECT(\"A\"&(8+F20))=\"\",\"Please select a valid bin to graph.\",IF(OR(INDIRECT(\"A\"&(8+F20))=\"Under\",INDIRECT(\"A\"&(8+F20))=\"Over\"),INDIRECT(\"A\"&(8+F20))&\" \"&FIXED(INDIRECT(\"B\"&(8+F20)),0,0)&\" Population\",\"Between \"&FIXED(INDIRECT(\"B\"&(8+F20)),0,0)&\" and \"&FIXED(INDIRECT(\"D\"&(8+F20)),0,0)&\" Population\"))","v":"Under 200,000 Population"}]
[]
["By Vehicle Type"]
[null,null,null,null,null,"Active Vehicles By Age Grouping (in Years)"]
[null,null,null,"Vehicle Type","Column1","0","1","2","3","4","5","6","7","8","9","10","11","12","13-15","16-20","21-25","26-30","31-60","60+","Total Active Fleet","Average Age of Fleet (in Years)","Average Lifetime Miles per Vehicle"]
[null,null,null,"Aerial Tramway",null,{"$f":"SUMIFS('Age Distribution'!L:L,'Age Distribution'!$J:$J,\"=\"&'Summary Tables Age Distribution'!$D25)","v":0},{"$f":"SUMIFS('Age Distribution'!M:M,'Age Distribution'!$J:$J,\"=\"&'Summary Tables Age Distribution'!$D25)","v":9},{"$f":"SUMIFS('Age Distribution'!N:N,'Age Distribution'!$J:$J,\"=\"&'Summary Tables Age Distribution'!$D25)","v":0},{"$f":"SUMIFS('Age Distribution'!O:O,'Age Distribution'!$J:$J,\"=\"&'Summary Tables Age Distribution'!$D25)","v":0},{"$f":"SUMIFS('Age Distribution'!P:P,'Age Distribution'!$J:$J,\"=\"&'Summary Tables Age Distribution'!$D25)","v":0},{"$f":"SUMIFS('Age Distribution'!Q:Q,'Age Distribution'!$J:$J,\"=\"&'Summary Tables Age Distribution'!$D25)","v":0},{"$f":"SUMIFS('Age Distribution'!R:R,'Age Distribution'!$J:$J,\"=\"&'Summary Tables Age Distribution'!$D25)","v":0},{"$f":"SUMIFS('Age Distribution'!S:S,'Age Distribution'!$J:$J,\"=\"&'Summary Tables Age Distribution'!$D25)","v":0},{"$f":"SUMIFS('Age Distribution'!T:T,'Age Distribution'!$J:$J,\"=\"&'Summary Tables Age Distribution'!$D25)","v":0},{"$f":"SUMIFS('Age Distribution'!U:U,'Age Distribution'!$J:$J,\"=\"&'Summary Tables Age Distribution'!$D25)","v":0},{"$f":"SUMIFS('Age Distribution'!V:V,'Age Distribution'!$J:$J,\"=\"&'Summary Tables Age Distribution'!$D25)","v":2},{"$f":"SUMIFS('Age Distribution'!W:W,'Age Distribution'!$J:$J,\"=\"&'Summary Tables Age Distribution'!$D25)","v":0},{"$f":"SUMIFS('Age Distribution'!X:X,'Age Distribution'!$J:$J,\"=\"&'Summary Tables Age Distribution'!$D25)","v":2},{"$f":"SUMIFS('Age Distribution'!Y:Y,'Age Distribution'!$J:$J,\"=\"&'Summary Tables Age Distribution'!$D25)","v":7},{"$f":"SUMIFS('Age Distribution'!Z:Z,'Age Distribution'!$J:$J,\"=\"&'Summary Tables Age Distribution'!$D25)","v":22},{"$f":"SUMIFS('Age Distribution'!AA:AA,'Age Distribution'!$J:$J,\"=\"&'Summary Tables Age Distribution'!$D25)","v":6},{"$f":"SUMIFS('Age Distribution'!AB:AB,'Age Distribution'!$J:$J,\"=\"&'Summary Tables Age Distribution'!$D25)","v":22},{"$f":"SUMIFS('Age Distribution'!AC:AC,'Age Distribution'!$J:$J,\"=\"&'Summary Tables Age Distribution'!$D25)","v":0},{"$f":"SUMIFS('Age Distribution'!AD:AD,'Age Distribution'!$J:$J,\"=\"&'Summary Tables Age Distribution'!$D25)","v":0},{"$f":"SUMIFS('Age Distribution'!AE:AE,'Age Distribution'!$J:$J,\"=\"&'Summary Tables Age Distribution'!$D25)","v":70},{"$f":"SUMPRODUCT(--('Age Distribution'!$J:$J='Summary Tables Age Distribution'!$D25),'Age Distribution'!$AE:$AE,'Age Distribution'!AF:AF)/SUMIFS('Age Distribution'!$AE:$AE,'Age Distribution'!$J:$J,\"=\"&'Summary Tables Age Distribution'!$D25)","v":17.571428571428516},{"$f":"SUMPRODUCT(--('Age Distribution'!$J:$J='Summary Tables Age Distribution'!$D25),'Age Distribution'!$AE:$AE,'Age Distribution'!AG:AG)/SUMIFS('Age Distribution'!$AE:$AE,'Age Distribution'!$J:$J,\"=\"&'Summary Tables Age Distribution'!$D25,'Age Distribution'!$AG:$AG,\"<>\")","v":5263.3142857142857}]
[null,null,null,"Articulated Bus",null,{"$f":"SUMIFS('Age Distribution'!L:L,'Age Distribution'!$J:$J,\"=\"&'Summary Tables Age Distribution'!$D26)","v":322},{"$f":"SUMIFS('Age Distribution'!M:M,'Age Distribution'!$J:$J,\"=\"&'Summary Tables Age Distribution'!$D26)","v":413},{"$f":"SUMIFS('Age Distribution'!N:N,'Age Distribution'!$J:$J,\"=\"&'Summary Tables Age Distribution'!$D26)","v":456},{"$f":"SUMIFS('Age Distribution'!O:O,'Age Distribution'!$J:$J,\"=\"&'Summary Tables Age Distribution'!$D26)","v":494},{"$f":"SUMIFS('Age Distribution'!P:P,'Age Distribution'!$J:$J,\"=\"&'Summary Tables Age Distribution'!$D26)","v":340},{"$f":"SUMIFS('Age Distribution'!Q:Q,'Age Distribution'!$J:$J,\"=\"&'Summary Tables Age Distribution'!$D26)","v":540},{"$f":"SUMIFS('Age Distribution'!R:R,'Age Distribution'!$J:$J,\"=\"&'Summary Tables Age Distribution'!$D26)","v":488},{"$f":"SUMIFS('Age Distribution'!S:S,'Age Distribution'!$J:$J,\"=\"&'Summary Tables Age Distribution'!$D26)","v":304},{"$f":"SUMIFS('Age Distribution'!T:T,'Age Distribution'!$J:$J,\"=\"&'Summary Tables Age Distribution'!$D26)","v":372},{"$f":"SUMIFS('Age Distribution'!U:U,'Age Distribution'!$J:$J,\"=\"&'Summary Tables Age Distribution'!$D26)","v":407},{"$f":"SUMIFS('Age Distribution'!V:V,'Age Distribution'!$J:$J,\"=\"&'Summary Tables Age Distribution'!$D26)","v":183},{"$f":"SUMIFS('Age Distribution'!W:W,'Age Distribution'!$J:$J,\"=\"&'Summary Tables Age Distribution'!$D26)","v":207},{"$f":"SUMIFS('Age Distribution'!X:X,'Age Distribution'!$J:$J,\"=\"&'Summary Tables Age Distribution'!$D26)","v":161},{"$f":"SUMIFS('Age Distribution'!Y:Y,'Age Distribution'!$J:$J,\"=\"&'Summary Tables Age Distribution'!$D26)","v":674},{"$f":"SUMIFS('Age Distribution'!Z:Z,'Age Distribution'!$J:$J,\"=\"&'Summary Tables Age Distribution'!$D26)","v":309},{"$f":"SUMIFS('Age Distribution'!AA:AA,'Age Distribution'!$J:$J,\"=\"&'Summary Tables Age Distribution'!$D26)","v":0},{"$f":"SUMIFS('Age Distribution'!AB:AB,'Age Distribution'!$J:$J,\"=\"&'Summary Tables Age Distribution'!$D26)","v":0},{"$f":"SUMIFS('Age Distribution'!AC:AC,'Age Distribution'!$J:$J,\"=\"&'Summary Tables Age Distribution'!$D26)","v":0},{"$f":"SUMIFS('Age Distribution'!AD:AD,'Age Distribution'!$J:$J,\"=\"&'Summary Tables Age Distribution'!$D26)","v":0},{"$f":"SUMIFS('Age Distribution'!AE:AE,'Age Distribution'!$J:$J,\"=\"&'Summary Tables Age Distribution'!$D26)","v":5670},{"$f":"SUMPRODUCT(--('Age Distribution'!$J:$J='Summary Tables Age Distribution'!$D26),'Age Distribution'!$AE:$AE,'Age Distribution'!AF:AF)/SUMIFS('Age Distribution'!$AE:$AE,'Age Distribution'!$J:$J,\"=\"&'Summary Tables Age Distribution'!$D26)","v":6.8895943562610142},{"$f":"SUMPRODUCT(--('Age Distribution'!$J:$J='Summary Tables Age Distribution'!$D26),'Age Distribution'!$AE:$AE,'Age Distribution'!AG:AG)/SUMIFS('Age Distribution'!$AE:$AE,'Age Distribution'!$J:$J,\"=\"&'Summary Tables Age Distribution'!$D26,'Age Distribution'!$AG:$AG,\"<>\")","v":226960.71040917106}]
[null,null,null,"Automated Guideway Vehicle",null,{"$f":"SUMIFS('Age Distribution'!L:L,'Age Distribution'!$J:$J,\"=\"&'Summary Tables Age Distribution'!$D27)","v":0},{"$f":"SUMIFS('Age Distribution'!M:M,'Age Distribution'!$J:$J,\"=\"&'Summary Tables Age Distribution'!$D27)","v":0},{"$f":"SUMIFS('Age Distribution'!N:N,'Age Distribution'!$J:$J,\"=\"&'Summary Tables Age Distribution'!$D27)","v":0},{"$f":"SUMIFS('Age Distribution'!O:O,'Age Distribution'!$J:$J,\"=\"&'Summary Tables Age Distribution'!$D27)","v":0},{"$f":"SUMIFS('Age Distribution'!P:P,'Age Distribution'!$J:$J,\"=\"&'Summary Tables Age Distribution'!$D27)","v":4},{"$f":"SUMIFS('Age Distribution'!Q:Q,'Age Distribution'!$J:$J,\"=\"&'Summary Tables Age Distribution'!$D27)","v":0},{"$f":"SUMIFS('Age Distribution'!R:R,'Age Distribution'!$J:$J,\"=\"&'Summary Tables Age Distribution'!$D27)","v":0},{"$f":"SUMIFS('Age Distribution'!S:S,'Age Distribution'!$J:$J,\"=\"&'Summary Tables Age Distribution'!$D27)","v":0},{"$f":"SUMIFS('Age Distribution'!T:T,'Age Distribution'!$J:$J,\"=\"&'Summary Tables Age Distribution'!$D27)","v":17},{"$f":"SUMIFS('Age Distribution'!U:U,'Age Distribution'!$J:$J,\"=\"&'Summary Tables Age Distribution'!$D27)","v":0},{"$f":"SUMIFS('Age Distribution'!V:V,'Age Distribution'!$J:$J,\"=\"&'Summary Tables Age Distribution'!$D27)","v":0},{"$f":"SUMIFS('Age Distribution'!W:W,'Age Distribution'!$J:$J,\"=\"&'Summary Tables Age Distribution'!$D27)","v":10},{"$f":"SUMIFS('Age Distribution'!X:X,'Age Distribution'!$J:$J,\"=\"&'Summary Tables Age Distribution'!$D27)","v":0},{"$f":"SUMIFS('Age Distribution'!Y:Y,'Age Distribution'!$J:$J,\"=\"&'Summary Tables Age Distribution'!$D27)","v":0},{"$f":"SUMIFS('Age Distribution'!Z:Z,'Age Distribution'!$J:$J,\"=\"&'Summary Tables Age Distribution'!$D27)","v":3},{"$f":"SUMIFS('Age Distribution'!AA:AA,'Age Distribution'!$J:$J,\"=\"&'Summary Tables Age Distribution'!$D27)","v":3},{"$f":"SUMIFS('Age Distribution'!AB:AB,'Age Distribution'!$J:$J,\"=\"&'Summary Tables Age Distribution'!$D27)","v":0},{"$f":"SUMIFS('Age Distribution'!AC:AC,'Age Distribution'!$J:$J,\"=\"&'Summary Tables Age Distribution'!$D27)","v":79},{"$f":"SUMIFS('Age Distribution'!AD:AD,'Age Distribution'!$J:$J,\"=\"&'Summary Tables Age Distribution'!$D27)","v":0},{"$f":"SUMIFS('Age Distribution'!AE:AE,'Age Distribution'!$J:$J,\"=\"&'Summary Tables Age Distribution'!$D27)","v":116},{"$f":"SUMPRODUCT(--('Age Distribution'!$J:$J='Summary Tables Age Distribution'!$D27),'Age Distribution'!$AE:$AE,'Age Distribution'!AF:AF)/SUMIFS('Age Distribution'!$AE:$AE,'Age Distribution'!$J:$J,\"=\"&'Summary Tables Age Distribution'!$D27)","v":32.775862068965516},{"$f":"SUMPRODUCT(--('Age Distribution'!$J:$J='Summary Tables Age Distribution'!$D27),'Age Distribution'!$AE:$AE,'Age Distribution'!AG:AG)/SUMIFS('Age Distribution'!$AE:$AE,'Age Distribution'!$J:$J,\"=\"&'Summary Tables Age Distribution'!$D27,'Age Distribution'!$AG:$AG,\"<>\")","v":573312.27586293104}]
[null,null,null,"Automobile",null,{"$f":"SUMIFS('Age Distribution'!L:L,'Age Distribution'!$J:$J,\"=\"&'Summary Tables Age Distribution'!$D28)","v":62},{"$f":"SUMIFS('Age Distribution'!M:M,'Age Distribution'!$J:$J,\"=\"&'Summary Tables Age Distribution'!$D28)","v":168},{"$f":"SUMIFS('Age Distribution'!N:N,'Age Distribution'!$J:$J,\"=\"&'Summary Tables Age Distribution'!$D28)","v":279},{"$f":"SUMIFS('Age Distribution'!O:O,'Age Distribution'!$J:$J,\"=\"&'Summary Tables Age Distribution'!$D28)","v":392},{"$f":"SUMIFS('Age Distribution'!P:P,'Age Distribution'!$J:$J,\"=\"&'Summary Tables Age Distribution'!$D28)","v":497},{"$f":"SUMIFS('Age Distribution'!Q:Q,'Age Distribution'!$J:$J,\"=\"&'Summary Tables Age Distribution'!$D28)","v":238},{"$f":"SUMIFS('Age Distribution'!R:R,'Age Distribution'!$J:$J,\"=\"&'Summary Tables Age Distribution'!$D28)","v":99},{"$f":"SUMIFS('Age Distribution'!S:S,'Age Distribution'!$J:$J,\"=\"&'Summary Tables Age Distribution'!$D28)","v":196},{"$f":"SUMIFS('Age Distribution'!T:T,'Age Distribution'!$J:$J,\"=\"&'Summary Tables Age Distribution'!$D28)","v":54},{"$f":"SUMIFS('Age Distribution'!U:U,'Age Distribution'!$J:$J,\"=\"&'Summary Tables Age Distribution'!$D28)","v":62},{"$f":"SUMIFS('Age Distribution'!V:V,'Age Distribution'!$J:$J,\"=\"&'Summary Tables Age Distribution'!$D28)","v":68},{"$f":"SUMIFS('Age Distribution'!W:W,'Age Distribution'!$J:$J,\"=\"&'Summary Tables Age Distribution'!$D28)","v":52},{"$f":"SUMIFS('Age Distribution'!X:X,'Age Distribution'!$J:$J,\"=\"&'Summary Tables Age Distribution'!$D28)","v":26},{"$f":"SUMIFS('Age Distribution'!Y:Y,'Age Distribution'!$J:$J,\"=\"&'Summary Tables Age Distribution'!$D28)","v":81},{"$f":"SUMIFS('Age Distribution'!Z:Z,'Age Distribution'!$J:$J,\"=\"&'Summary Tables Age Distribution'!$D28)","v":40},{"$f":"SUMIFS('Age Distribution'!AA:AA,'Age Distribution'!$J:$J,\"=\"&'Summary Tables Age Distribution'!$D28)","v":3},{"$f":"SUMIFS('Age Distribution'!AB:AB,'Age Distribution'!$J:$J,\"=\"&'Summary Tables Age Distribution'!$D28)","v":1},{"$f":"SUMIFS('Age Distribution'!AC:AC,'Age Distribution'!$J:$J,\"=\"&'Summary Tables Age Distribution'!$D28)","v":0},{"$f":"SUMIFS('Age Distribution'!AD:AD,'Age Distribution'!$J:$J,\"=\"&'Summary Tables Age Distribution'!$D28)","v":0},{"$f":"SUMIFS('Age Distribution'!AE:AE,'Age Distribution'!$J:$J,\"=\"&'Summary Tables Age Distribution'!$D28)","v":2318},{"$f":"SUMPRODUCT(--('Age Distribution'!$J:$J='Summary Tables Age Distribution'!$D28),'Age Distribution'!$AE:$AE,'Age Distribution'!AF:AF)/SUMIFS('Age Distribution'!$AE:$AE,'Age Distribution'!$J:$J,\"=\"&'Summary Tables Age Distribution'!$D28)","v":4.9710957722174269},{"$f":"SUMPRODUCT(--('Age Distribution'!$J:$J='Summary Tables Age Distribution'!$D28),'Age Distribution'!$AE:$AE,'Age Distribution'!AG:AG)/SUMIFS('Age Distribution'!$AE:$AE,'Age Distribution'!$J:$J,\"=\"&'Summary Tables Age Distribution'!$D28,'Age Distribution'!$AG:$AG,\"<>\")","v":85519.427520750629}]
[null,null,null,"Bus",null,{"$f":"SUMIFS('Age Distribution'!L:L,'Age Distribution'!$J:$J,\"=\"&'Summary Tables Age Distribution'!$D29)","v":2066},{"$f":"SUMIFS('Age Distribution'!M:M,'Age Distribution'!$J:$J,\"=\"&'Summary Tables Age Distribution'!$D29)","v":3492},{"$f":"SUMIFS('Age Distribution'!N:N,'Age Distribution'!$J:$J,\"=\"&'Summary Tables Age Distribution'!$D29)","v":4063},{"$f":"SUMIFS('Age Distribution'!O:O,'Age Distribution'!$J:$J,\"=\"&'Summary Tables Age Distribution'!$D29)","v":4128},{"$f":"SUMIFS('Age Distribution'!P:P,'Age Distribution'!$J:$J,\"=\"&'Summary Tables Age Distribution'!$D29)","v":4312},{"$f":"SUMIFS('Age Distribution'!Q:Q,'Age Distribution'!$J:$J,\"=\"&'Summary Tables Age Distribution'!$D29)","v":3326},{"$f":"SUMIFS('Age Distribution'!R:R,'Age Distribution'!$J:$J,\"=\"&'Summary Tables Age Distribution'!$D29)","v":3732},{"$f":"SUMIFS('Age Distribution'!S:S,'Age Distribution'!$J:$J,\"=\"&'Summary Tables Age Distribution'!$D29)","v":3336},{"$f":"SUMIFS('Age Distribution'!T:T,'Age Distribution'!$J:$J,\"=\"&'Summary Tables Age Distribution'!$D29)","v":3917},{"$f":"SUMIFS('Age Distribution'!U:U,'Age Distribution'!$J:$J,\"=\"&'Summary Tables Age Distribution'!$D29)","v":3927},{"$f":"SUMIFS('Age Distribution'!V:V,'Age Distribution'!$J:$J,\"=\"&'Summary Tables Age Distribution'!$D29)","v":3697},{"$f":"SUMIFS('Age Distribution'!W:W,'Age Distribution'!$J:$J,\"=\"&'Summary Tables Age Distribution'!$D29)","v":2777},{"$f":"SUMIFS('Age Distribution'!X:X,'Age Distribution'!$J:$J,\"=\"&'Summary Tables Age Distribution'!$D29)","v":2980},{"$f":"SUMIFS('Age Distribution'!Y:Y,'Age Distribution'!$J:$J,\"=\"&'Summary Tables Age Distribution'!$D29)","v":5744},{"$f":"SUMIFS('Age Distribution'!Z:Z,'Age Distribution'!$J:$J,\"=\"&'Summary Tables Age Distribution'!$D29)","v":3544},{"$f":"SUMIFS('Age Distribution'!AA:AA,'Age Distribution'!$J:$J,\"=\"&'Summary Tables Age Distribution'!$D29)","v":335},{"$f":"SUMIFS('Age Distribution'!AB:AB,'Age Distribution'!$J:$J,\"=\"&'Summary Tables Age Distribution'!$D29)","v":33},{"$f":"SUMIFS('Age Distribution'!AC:AC,'Age Distribution'!$J:$J,\"=\"&'Summary Tables Age Distribution'!$D29)","v":3},{"$f":"SUMIFS('Age Distribution'!AD:AD,'Age Distribution'!$J:$J,\"=\"&'Summary Tables Age Distribution'!$D29)","v":1},{"$f":"SUMIFS('Age Distribution'!AE:AE,'Age Distribution'!$J:$J,\"=\"&'Summary Tables Age Distribution'!$D29)","v":55413},{"$f":"SUMPRODUCT(--('Age Distribution'!$J:$J='Summary Tables Age Distribution'!$D29),'Age Distribution'!$AE:$AE,'Age Distribution'!AF:AF)/SUMIFS('Age Distribution'!$AE:$AE,'Age Distribution'!$J:$J,\"=\"&'Summary Tables Age Distribution'!$D29)","v":7.6369804919423219},{"$f":"SUMPRODUCT(--('Age Distribution'!$J:$J='Summary Tables Age Distribution'!$D29),'Age Distribution'!$AE:$AE,'Age Distribution'!AG:AG)/SUMIFS('Age Distribution'!$AE:$AE,'Age Distribution'!$J:$J,\"=\"&'Summary Tables Age Distribution'!$D29,'Age Distribution'!$AG:$AG,\"<>\")","v":276979.01613555127}]
[null,null,null,"Cable Car",null,{"$f":"SUMIFS('Age Distribution'!L:L,'Age Distribution'!$J:$J,\"=\"&'Summary Tables Age Distribution'!$D30)","v":0},{"$f":"SUMIFS('Age Distribution'!M:M,'Age Distribution'!$J:$J,\"=\"&'Summary Tables Age Distribution'!$D30)","v":0},{"$f":"SUMIFS('Age Distribution'!N:N,'Age Distribution'!$J:$J,\"=\"&'Summary Tables Age Distribution'!$D30)","v":0},{"$f":"SUMIFS('Age Distribution'!O:O,'Age Distribution'!$J:$J,\"=\"&'Summary Tables Age Distribution'!$D30)","v":0},{"$f":"SUMIFS('Age Distribution'!P:P,'Age Distribution'!$J:$J,\"=\"&'Summary Tables Age Distribution'!$D30)","v":0},{"$f":"SUMIFS('Age Distribution'!Q:Q,'Age Distribution'!$J:$J,\"=\"&'Summary Tables Age Distribution'!$D30)","v":0},{"$f":"SUMIFS('Age Distribution'!R:R,'Age Distribution'!$J:$J,\"=\"&'Summary Tables Age Distribution'!$D30)","v":0},{"$f":"SUMIFS('Age Distribution'!S:S,'Age Distribution'!$J:$J,\"=\"&'Summary Tables Age Distribution'!$D30)","v":0},{"$f":"SUMIFS('Age Distribution'!T:T,'Age Distribution'!$J:$J,\"=\"&'Summary Tables Age Distribution'!$D30)","v":0},{"$f":"SUMIFS('Age Distribution'!U:U,'Age Distribution'!$J:$J,\"=\"&'Summary Tables Age Distribution'!$D30)","v":0},{"$f":"SUMIFS('Age Distribution'!V:V,'Age Distribution'!$J:$J,\"=\"&'Summary Tables Age Distribution'!$D30)","v":0},{"$f":"SUMIFS('Age Distribution'!W:W,'Age Distribution'!$J:$J,\"=\"&'Summary Tables Age Distribution'!$D30)","v":0},{"$f":"SUMIFS('Age Distribution'!X:X,'Age Distribution'!$J:$J,\"=\"&'Summary Tables Age Distribution'!$D30)","v":0},{"$f":"SUMIFS('Age Distribution'!Y:Y,'Age Distribution'!$J:$J,\"=\"&'Summary Tables Age Distribution'!$D30)","v":0},{"$f":"SUMIFS('Age Distribution'!Z:Z,'Age Distribution'!$J:$J,\"=\"&'Summary Tables Age Distribution'!$D30)","v":0},{"$f":"SUMIFS('Age Distribution'!AA:AA,'Age Distribution'!$J:$J,\"=\"&'Summary Tables Age Distribution'!$D30)","v":1},{"$f":"SUMIFS('Age Distribution'!AB:AB,'Age Distribution'!$J:$J,\"=\"&'Summary Tables Age Distribution'!$D30)","v":3},{"$f":"SUMIFS('Age Distribution'!AC:AC,'Age Distribution'!$J:$J,\"=\"&'Summary Tables Age Distribution'!$D30)","v":2},{"$f":"SUMIFS('Age Distribution'!AD:AD,'Age Distribution'!$J:$J,\"=\"&'Summary Tables Age Distribution'!$D30)","v":30},{"$f":"SUMIFS('Age Distribution'!AE:AE,'Age Distribution'!$J:$J,\"=\"&'Summary Tables Age Distribution'!$D30)","v":36},{"$f":"SUMPRODUCT(--('Age Distribution'!$J:$J='Summary Tables Age Distribution'!$D30),'Age Distribution'!$AE:$AE,'Age Distribution'!AF:AF)/SUMIFS('Age Distribution'!$AE:$AE,'Age Distribution'!$J:$J,\"=\"&'Summary Tables Age Distribution'!$D30)","v":107.555555555555},{"$f":"SUMPRODUCT(--('Age Distribution'!$J:$J='Summary Tables Age Distribution'!$D30),'Age Distribution'!$AE:$AE,'Age Distribution'!AG:AG)/SUMIFS('Age Distribution'!$AE:$AE,'Age Distribution'!$J:$J,\"=\"&'Summary Tables Age Distribution'!$D30,'Age Distribution'!$AG:$AG,\"<>\")","v":722045.97219999996}]
[null,null,null,"Commuter Rail Locomotive",null,{"$f":"SUMIFS('Age Distribution'!L:L,'Age Distribution'!$J:$J,\"=\"&'Summary Tables Age Distribution'!$D31)","v":0},{"$f":"SUMIFS('Age Distribution'!M:M,'Age Distribution'!$J:$J,\"=\"&'Summary Tables Age Distribution'!$D31)","v":8},{"$f":"SUMIFS('Age Distribution'!N:N,'Age Distribution'!$J:$J,\"=\"&'Summary Tables Age Distribution'!$D31)","v":8},{"$f":"SUMIFS('Age Distribution'!O:O,'Age Distribution'!$J:$J,\"=\"&'Summary Tables Age Distribution'!$D31)","v":0},{"$f":"SUMIFS('Age Distribution'!P:P,'Age Distribution'!$J:$J,\"=\"&'Summary Tables Age Distribution'!$D31)","v":0},{"$f":"SUMIFS('Age Distribution'!Q:Q,'Age Distribution'!$J:$J,\"=\"&'Summary Tables Age Distribution'!$D31)","v":55},{"$f":"SUMIFS('Age Distribution'!R:R,'Age Distribution'!$J:$J,\"=\"&'Summary Tables Age Distribution'!$D31)","v":0},{"$f":"SUMIFS('Age Distribution'!S:S,'Age Distribution'!$J:$J,\"=\"&'Summary Tables Age Distribution'!$D31)","v":57},{"$f":"SUMIFS('Age Distribution'!T:T,'Age Distribution'!$J:$J,\"=\"&'Summary Tables Age Distribution'!$D31)","v":62},{"$f":"SUMIFS('Age Distribution'!U:U,'Age Distribution'!$J:$J,\"=\"&'Summary Tables Age Distribution'!$D31)","v":16},{"$f":"SUMIFS('Age Distribution'!V:V,'Age Distribution'!$J:$J,\"=\"&'Summary Tables Age Distribution'!$D31)","v":36},{"$f":"SUMIFS('Age Distribution'!W:W,'Age Distribution'!$J:$J,\"=\"&'Summary Tables Age Distribution'!$D31)","v":13},{"$f":"SUMIFS('Age Distribution'!X:X,'Age Distribution'!$J:$J,\"=\"&'Summary Tables Age Distribution'!$D31)","v":1},{"$f":"SUMIFS('Age Distribution'!Y:Y,'Age Distribution'!$J:$J,\"=\"&'Summary Tables Age Distribution'!$D31)","v":81},{"$f":"SUMIFS('Age Distribution'!Z:Z,'Age Distribution'!$J:$J,\"=\"&'Summary Tables Age Distribution'!$D31)","v":127},{"$f":"SUMIFS('Age Distribution'!AA:AA,'Age Distribution'!$J:$J,\"=\"&'Summary Tables Age Distribution'!$D31)","v":84},{"$f":"SUMIFS('Age Distribution'!AB:AB,'Age Distribution'!$J:$J,\"=\"&'Summary Tables Age Distribution'!$D31)","v":93},{"$f":"SUMIFS('Age Distribution'!AC:AC,'Age Distribution'!$J:$J,\"=\"&'Summary Tables Age Distribution'!$D31)","v":185},{"$f":"SUMIFS('Age Distribution'!AD:AD,'Age Distribution'!$J:$J,\"=\"&'Summary Tables Age Distribution'!$D31)","v":1},{"$f":"SUMIFS('Age Distribution'!AE:AE,'Age Distribution'!$J:$J,\"=\"&'Summary Tables Age Distribution'!$D31)","v":827},{"$f":"SUMPRODUCT(--('Age Distribution'!$J:$J='Summary Tables Age Distribution'!$D31),'Age Distribution'!$AE:$AE,'Age Distribution'!AF:AF)/SUMIFS('Age Distribution'!$AE:$AE,'Age Distribution'!$J:$J,\"=\"&'Summary Tables Age Distribution'!$D31)","v":20.688029020556201},{"$f":"SUMPRODUCT(--('Age Distribution'!$J:$J='Summary Tables Age Distribution'!$D31),'Age Distribution'!$AE:$AE,'Age Distribution'!AG:AG)/SUMIFS('Age Distribution'!$AE:$AE,'Age Distribution'!$J:$J,\"=\"&'Summary Tables Age Distribution'!$D31,'Age Distribution'!$AG:$AG,\"<>\")","v":892900.84399951634}]
[null,null,null,"Commuter Rail Passenger Coach",null,{"$f":"SUMIFS('Age Distribution'!L:L,'Age Distribution'!$J:$J,\"=\"&'Summary Tables Age Distribution'!$D32)","v":2},{"$f":"SUMIFS('Age Distribution'!M:M,'Age Distribution'!$J:$J,\"=\"&'Summary Tables Age Distribution'!$D32)","v":21},{"$f":"SUMIFS('Age Distribution'!N:N,'Age Distribution'!$J:$J,\"=\"&'Summary Tables Age Distribution'!$D32)","v":8},{"$f":"SUMIFS('Age Distribution'!O:O,'Age Distribution'!$J:$J,\"=\"&'Summary Tables Age Distribution'!$D32)","v":0},{"$f":"SUMIFS('Age Distribution'!P:P,'Age Distribution'!$J:$J,\"=\"&'Summary Tables Age Distribution'!$D32)","v":64},{"$f":"SUMIFS('Age Distribution'!Q:Q,'Age Distribution'!$J:$J,\"=\"&'Summary Tables Age Distribution'!$D32)","v":42},{"$f":"SUMIFS('Age Distribution'!R:R,'Age Distribution'!$J:$J,\"=\"&'Summary Tables Age Distribution'!$D32)","v":182},{"$f":"SUMIFS('Age Distribution'!S:S,'Age Distribution'!$J:$J,\"=\"&'Summary Tables Age Distribution'!$D32)","v":11},{"$f":"SUMIFS('Age Distribution'!T:T,'Age Distribution'!$J:$J,\"=\"&'Summary Tables Age Distribution'!$D32)","v":107},{"$f":"SUMIFS('Age Distribution'!U:U,'Age Distribution'!$J:$J,\"=\"&'Summary Tables Age Distribution'!$D32)","v":63},{"$f":"SUMIFS('Age Distribution'!V:V,'Age Distribution'!$J:$J,\"=\"&'Summary Tables Age Distribution'!$D32)","v":48},{"$f":"SUMIFS('Age Distribution'!W:W,'Age Distribution'!$J:$J,\"=\"&'Summary Tables Age Distribution'!$D32)","v":363},{"$f":"SUMIFS('Age Distribution'!X:X,'Age Distribution'!$J:$J,\"=\"&'Summary Tables Age Distribution'!$D32)","v":12},{"$f":"SUMIFS('Age Distribution'!Y:Y,'Age Distribution'!$J:$J,\"=\"&'Summary Tables Age Distribution'!$D32)","v":444},{"$f":"SUMIFS('Age Distribution'!Z:Z,'Age Distribution'!$J:$J,\"=\"&'Summary Tables Age Distribution'!$D32)","v":612},{"$f":"SUMIFS('Age Distribution'!AA:AA,'Age Distribution'!$J:$J,\"=\"&'Summary Tables Age Distribution'!$D32)","v":444},{"$f":"SUMIFS('Age Distribution'!AB:AB,'Age Distribution'!$J:$J,\"=\"&'Summary Tables Age Distribution'!$D32)","v":298},{"$f":"SUMIFS('Age Distribution'!AC:AC,'Age Distribution'!$J:$J,\"=\"&'Summary Tables Age Distribution'!$D32)","v":884},{"$f":"SUMIFS('Age Distribution'!AD:AD,'Age Distribution'!$J:$J,\"=\"&'Summary Tables Age Distribution'!$D32)","v":18},{"$f":"SUMIFS('Age Distribution'!AE:AE,'Age Distribution'!$J:$J,\"=\"&'Summary Tables Age Distribution'!$D32)","v":3623},{"$f":"SUMPRODUCT(--('Age Distribution'!$J:$J='Summary Tables Age Distribution'!$D32),'Age Distribution'!$AE:$AE,'Age Distribution'!AF:AF)/SUMIFS('Age Distribution'!$AE:$AE,'Age Distribution'!$J:$J,\"=\"&'Summary Tables Age Distribution'!$D32)","v":21.806237924372006},{"$f":"SUMPRODUCT(--('Age Distribution'!$J:$J='Summary Tables Age Distribution'!$D32),'Age Distribution'!$AE:$AE,'Age Distribution'!AG:AG)/SUMIFS('Age Distribution'!$AE:$AE,'Age Distribution'!$J:$J,\"=\"&'Summary Tables Age Distribution'!$D32,'Age Distribution'!$AG:$AG,\"<>\")","v":1063070.5103536297}]
[null,null,null,"Commuter Rail Self-Propelled Passenger Car",null,{"$f":"SUMIFS('Age Distribution'!L:L,'Age Distribution'!$J:$J,\"=\"&'Summary Tables Age Distribution'!$D33)","v":0},{"$f":"SUMIFS('Age Distribution'!M:M,'Age Distribution'!$J:$J,\"=\"&'Summary Tables Age Distribution'!$D33)","v":4},{"$f":"SUMIFS('Age Distribution'!N:N,'Age Distribution'!$J:$J,\"=\"&'Summary Tables Age Distribution'!$D33)","v":40},{"$f":"SUMIFS('Age Distribution'!O:O,'Age Distribution'!$J:$J,\"=\"&'Summary Tables Age Distribution'!$D33)","v":66},{"$f":"SUMIFS('Age Distribution'!P:P,'Age Distribution'!$J:$J,\"=\"&'Summary Tables Age Distribution'!$D33)","v":168},{"$f":"SUMIFS('Age Distribution'!Q:Q,'Age Distribution'!$J:$J,\"=\"&'Summary Tables Age Distribution'!$D33)","v":182},{"$f":"SUMIFS('Age Distribution'!R:R,'Age Distribution'!$J:$J,\"=\"&'Summary Tables Age Distribution'!$D33)","v":159},{"$f":"SUMIFS('Age Distribution'!S:S,'Age Distribution'!$J:$J,\"=\"&'Summary Tables Age Distribution'!$D33)","v":103},{"$f":"SUMIFS('Age Distribution'!T:T,'Age Distribution'!$J:$J,\"=\"&'Summary Tables Age Distribution'!$D33)","v":63},{"$f":"SUMIFS('Age Distribution'!U:U,'Age Distribution'!$J:$J,\"=\"&'Summary Tables Age Distribution'!$D33)","v":0},{"$f":"SUMIFS('Age Distribution'!V:V,'Age Distribution'!$J:$J,\"=\"&'Summary Tables Age Distribution'!$D33)","v":17},{"$f":"SUMIFS('Age Distribution'!W:W,'Age Distribution'!$J:$J,\"=\"&'Summary Tables Age Distribution'!$D33)","v":40},{"$f":"SUMIFS('Age Distribution'!X:X,'Age Distribution'!$J:$J,\"=\"&'Summary Tables Age Distribution'!$D33)","v":337},{"$f":"SUMIFS('Age Distribution'!Y:Y,'Age Distribution'!$J:$J,\"=\"&'Summary Tables Age Distribution'!$D33)","v":800},{"$f":"SUMIFS('Age Distribution'!Z:Z,'Age Distribution'!$J:$J,\"=\"&'Summary Tables Age Distribution'!$D33)","v":25},{"$f":"SUMIFS('Age Distribution'!AA:AA,'Age Distribution'!$J:$J,\"=\"&'Summary Tables Age Distribution'!$D33)","v":0},{"$f":"SUMIFS('Age Distribution'!AB:AB,'Age Distribution'!$J:$J,\"=\"&'Summary Tables Age Distribution'!$D33)","v":7},{"$f":"SUMIFS('Age Distribution'!AC:AC,'Age Distribution'!$J:$J,\"=\"&'Summary Tables Age Distribution'!$D33)","v":736},{"$f":"SUMIFS('Age Distribution'!AD:AD,'Age Distribution'!$J:$J,\"=\"&'Summary Tables Age Distribution'!$D33)","v":2},{"$f":"SUMIFS('Age Distribution'!AE:AE,'Age Distribution'!$J:$J,\"=\"&'Summary Tables Age Distribution'!$D33)","v":2749},{"$f":"SUMPRODUCT(--('Age Distribution'!$J:$J='Summary Tables Age Distribution'!$D33),'Age Distribution'!$AE:$AE,'Age Distribution'!AF:AF)/SUMIFS('Age Distribution'!$AE:$AE,'Age Distribution'!$J:$J,\"=\"&'Summary Tables Age Distribution'!$D33)","v":17.771189523463036},{"$f":"SUMPRODUCT(--('Age Distribution'!$J:$J='Summary Tables Age Distribution'!$D33),'Age Distribution'!$AE:$AE,'Age Distribution'!AG:AG)/SUMIFS('Age Distribution'!$AE:$AE,'Age Distribution'!$J:$J,\"=\"&'Summary Tables Age Distribution'!$D33,'Age Distribution'!$AG:$AG,\"<>\")","v":983426.9665416152}]
[null,null,null,"Cutaway",null,{"$f":"SUMIFS('Age Distribution'!L:L,'Age Distribution'!$J:$J,\"=\"&'Summary Tables Age Distribution'!$D34)","v":2154},{"$f":"SUMIFS('Age Distribution'!M:M,'Age Distribution'!$J:$J,\"=\"&'Summary Tables Age Distribution'!$D34)","v":4921},{"$f":"SUMIFS('Age Distribution'!N:N,'Age Distribution'!$J:$J,\"=\"&'Summary Tables Age Distribution'!$D34)","v":5288},{"$f":"SUMIFS('Age Distribution'!O:O,'Age Distribution'!$J:$J,\"=\"&'Summary Tables Age Distribution'!$D34)","v":3655},{"$f":"SUMIFS('Age Distribution'!P:P,'Age Distribution'!$J:$J,\"=\"&'Summary Tables Age Distribution'!$D34)","v":4252},{"$f":"SUMIFS('Age Distribution'!Q:Q,'Age Distribution'!$J:$J,\"=\"&'Summary Tables Age Distribution'!$D34)","v":3558},{"$f":"SUMIFS('Age Distribution'!R:R,'Age Distribution'!$J:$J,\"=\"&'Summary Tables Age Distribution'!$D34)","v":2746},{"$f":"SUMIFS('Age Distribution'!S:S,'Age Distribution'!$J:$J,\"=\"&'Summary Tables Age Distribution'!$D34)","v":2429},{"$f":"SUMIFS('Age Distribution'!T:T,'Age Distribution'!$J:$J,\"=\"&'Summary Tables Age Distribution'!$D34)","v":2719},{"$f":"SUMIFS('Age Distribution'!U:U,'Age Distribution'!$J:$J,\"=\"&'Summary Tables Age Distribution'!$D34)","v":2961},{"$f":"SUMIFS('Age Distribution'!V:V,'Age Distribution'!$J:$J,\"=\"&'Summary Tables Age Distribution'!$D34)","v":1475},{"$f":"SUMIFS('Age Distribution'!W:W,'Age Distribution'!$J:$J,\"=\"&'Summary Tables Age Distribution'!$D34)","v":727},{"$f":"SUMIFS('Age Distribution'!X:X,'Age Distribution'!$J:$J,\"=\"&'Summary Tables Age Distribution'!$D34)","v":517},{"$f":"SUMIFS('Age Distribution'!Y:Y,'Age Distribution'!$J:$J,\"=\"&'Summary Tables Age Distribution'!$D34)","v":629},{"$f":"SUMIFS('Age Distribution'!Z:Z,'Age Distribution'!$J:$J,\"=\"&'Summary Tables Age Distribution'!$D34)","v":265},{"$f":"SUMIFS('Age Distribution'!AA:AA,'Age Distribution'!$J:$J,\"=\"&'Summary Tables Age Distribution'!$D34)","v":32},{"$f":"SUMIFS('Age Distribution'!AB:AB,'Age Distribution'!$J:$J,\"=\"&'Summary Tables Age Distribution'!$D34)","v":1},{"$f":"SUMIFS('Age Distribution'!AC:AC,'Age Distribution'!$J:$J,\"=\"&'Summary Tables Age Distribution'!$D34)","v":0},{"$f":"SUMIFS('Age Distribution'!AD:AD,'Age Distribution'!$J:$J,\"=\"&'Summary Tables Age Distribution'!$D34)","v":0},{"$f":"SUMIFS('Age Distribution'!AE:AE,'Age Distribution'!$J:$J,\"=\"&'Summary Tables Age Distribution'!$D34)","v":38329},{"$f":"SUMPRODUCT(--('Age Distribution'!$J:$J='Summary Tables Age Distribution'!$D34),'Age Distribution'!$AE:$AE,'Age Distribution'!AF:AF)/SUMIFS('Age Distribution'!$AE:$AE,'Age Distribution'!$J:$J,\"=\"&'Summary Tables Age Distribution'!$D34)","v":4.8562185290511088},{"$f":"SUMPRODUCT(--('Age Distribution'!$J:$J='Summary Tables Age Distribution'!$D34),'Age Distribution'!$AE:$AE,'Age Distribution'!AG:AG)/SUMIFS('Age Distribution'!$AE:$AE,'Age Distribution'!$J:$J,\"=\"&'Summary Tables Age Distribution'!$D34,'Age Distribution'!$AG:$AG,\"<>\")","v":93703.568652944348}]
[null,null,null,"Double Decker Bus",null,{"$f":"SUMIFS('Age Distribution'!L:L,'Age Distribution'!$J:$J,\"=\"&'Summary Tables Age Distribution'!$D35)","v":0},{"$f":"SUMIFS('Age Distribution'!M:M,'Age Distribution'!$J:$J,\"=\"&'Summary Tables Age Distribution'!$D35)","v":49},{"$f":"SUMIFS('Age Distribution'!N:N,'Age Distribution'!$J:$J,\"=\"&'Summary Tables Age Distribution'!$D35)","v":1},{"$f":"SUMIFS('Age Distribution'!O:O,'Age Distribution'!$J:$J,\"=\"&'Summary Tables Age Distribution'!$D35)","v":27},{"$f":"SUMIFS('Age Distribution'!P:P,'Age Distribution'!$J:$J,\"=\"&'Summary Tables Age Distribution'!$D35)","v":0},{"$f":"SUMIFS('Age Distribution'!Q:Q,'Age Distribution'!$J:$J,\"=\"&'Summary Tables Age Distribution'!$D35)","v":0},{"$f":"SUMIFS('Age Distribution'!R:R,'Age Distribution'!$J:$J,\"=\"&'Summary Tables Age Distribution'!$D35)","v":1},{"$f":"SUMIFS('Age Distribution'!S:S,'Age Distribution'!$J:$J,\"=\"&'Summary Tables Age Distribution'!$D35)","v":0},{"$f":"SUMIFS('Age Distribution'!T:T,'Age Distribution'!$J:$J,\"=\"&'Summary Tables Age Distribution'!$D35)","v":25},{"$f":"SUMIFS('Age Distribution'!U:U,'Age Distribution'!$J:$J,\"=\"&'Summary Tables Age Distribution'!$D35)","v":3},{"$f":"SUMIFS('Age Distribution'!V:V,'Age Distribution'!$J:$J,\"=\"&'Summary Tables Age Distribution'!$D35)","v":0},{"$f":"SUMIFS('Age Distribution'!W:W,'Age Distribution'!$J:$J,\"=\"&'Summary Tables Age Distribution'!$D35)","v":81},{"$f":"SUMIFS('Age Distribution'!X:X,'Age Distribution'!$J:$J,\"=\"&'Summary Tables Age Distribution'!$D35)","v":0},{"$f":"SUMIFS('Age Distribution'!Y:Y,'Age Distribution'!$J:$J,\"=\"&'Summary Tables Age Distribution'!$D35)","v":39},{"$f":"SUMIFS('Age Distribution'!Z:Z,'Age Distribution'!$J:$J,\"=\"&'Summary Tables Age Distribution'!$D35)","v":0},{"$f":"SUMIFS('Age Distribution'!AA:AA,'Age Distribution'!$J:$J,\"=\"&'Summary Tables Age Distribution'!$D35)","v":0},{"$f":"SUMIFS('Age Distribution'!AB:AB,'Age Distribution'!$J:$J,\"=\"&'Summary Tables Age Distribution'!$D35)","v":0},{"$f":"SUMIFS('Age Distribution'!AC:AC,'Age Distribution'!$J:$J,\"=\"&'Summary Tables Age Distribution'!$D35)","v":0},{"$f":"SUMIFS('Age Distribution'!AD:AD,'Age Distribution'!$J:$J,\"=\"&'Summary Tables Age Distribution'!$D35)","v":3},{"$f":"SUMIFS('Age Distribution'!AE:AE,'Age Distribution'!$J:$J,\"=\"&'Summary Tables Age Distribution'!$D35)","v":229},{"$f":"SUMPRODUCT(--('Age Distribution'!$J:$J='Summary Tables Age Distribution'!$D35),'Age Distribution'!$AE:$AE,'Age Distribution'!AF:AF)/SUMIFS('Age Distribution'!$AE:$AE,'Age Distribution'!$J:$J,\"=\"&'Summary Tables Age Distribution'!$D35)","v":8.5720524017467223},{"$f":"SUMPRODUCT(--('Age Distribution'!$J:$J='Summary Tables Age Distribution'!$D35),'Age Distribution'!$AE:$AE,'Age Distribution'!AG:AG)/SUMIFS('Age Distribution'!$AE:$AE,'Age Distribution'!$J:$J,\"=\"&'Summary Tables Age Distribution'!$D35,'Age Distribution'!$AG:$AG,\"<>\")","v":275340.68119999999}]
[null,null,null,"Ferryboat",null,{"$f":"SUMIFS('Age Distribution'!L:L,'Age Distribution'!$J:$J,\"=\"&'Summary Tables Age Distribution'!$D36)","v":2},{"$f":"SUMIFS('Age Distribution'!M:M,'Age Distribution'!$J:$J,\"=\"&'Summary Tables Age Distribution'!$D36)","v":23},{"$f":"SUMIFS('Age Distribution'!N:N,'Age Distribution'!$J:$J,\"=\"&'Summary Tables Age Distribution'!$D36)","v":3},{"$f":"SUMIFS('Age Distribution'!O:O,'Age Distribution'!$J:$J,\"=\"&'Summary Tables Age Distribution'!$D36)","v":4},{"$f":"SUMIFS('Age Distribution'!P:P,'Age Distribution'!$J:$J,\"=\"&'Summary Tables Age Distribution'!$D36)","v":1},{"$f":"SUMIFS('Age Distribution'!Q:Q,'Age Distribution'!$J:$J,\"=\"&'Summary Tables Age Distribution'!$D36)","v":2},{"$f":"SUMIFS('Age Distribution'!R:R,'Age Distribution'!$J:$J,\"=\"&'Summary Tables Age Distribution'!$D36)","v":2},{"$f":"SUMIFS('Age Distribution'!S:S,'Age Distribution'!$J:$J,\"=\"&'Summary Tables Age Distribution'!$D36)","v":3},{"$f":"SUMIFS('Age Distribution'!T:T,'Age Distribution'!$J:$J,\"=\"&'Summary Tables Age Distribution'!$D36)","v":5},{"$f":"SUMIFS('Age Distribution'!U:U,'Age Distribution'!$J:$J,\"=\"&'Summary Tables Age Distribution'!$D36)","v":5},{"$f":"SUMIFS('Age Distribution'!V:V,'Age Distribution'!$J:$J,\"=\"&'Summary Tables Age Distribution'!$D36)","v":5},{"$f":"SUMIFS('Age Distribution'!W:W,'Age Distribution'!$J:$J,\"=\"&'Summary Tables Age Distribution'!$D36)","v":2},{"$f":"SUMIFS('Age Distribution'!X:X,'Age Distribution'!$J:$J,\"=\"&'Summary Tables Age Distribution'!$D36)","v":1},{"$f":"SUMIFS('Age Distribution'!Y:Y,'Age Distribution'!$J:$J,\"=\"&'Summary Tables Age Distribution'!$D36)","v":18},{"$f":"SUMIFS('Age Distribution'!Z:Z,'Age Distribution'!$J:$J,\"=\"&'Summary Tables Age Distribution'!$D36)","v":33},{"$f":"SUMIFS('Age Distribution'!AA:AA,'Age Distribution'!$J:$J,\"=\"&'Summary Tables Age Distribution'!$D36)","v":19},{"$f":"SUMIFS('Age Distribution'!AB:AB,'Age Distribution'!$J:$J,\"=\"&'Summary Tables Age Distribution'!$D36)","v":19},{"$f":"SUMIFS('Age Distribution'!AC:AC,'Age Distribution'!$J:$J,\"=\"&'Summary Tables Age Distribution'!$D36)","v":44},{"$f":"SUMIFS('Age Distribution'!AD:AD,'Age Distribution'!$J:$J,\"=\"&'Summary Tables Age Distribution'!$D36)","v":5},{"$f":"SUMIFS('Age Distribution'!AE:AE,'Age Distribution'!$J:$J,\"=\"&'Summary Tables Age Distribution'!$D36)","v":196},{"$f":"SUMPRODUCT(--('Age Distribution'!$J:$J='Summary Tables Age Distribution'!$D36),'Age Distribution'!$AE:$AE,'Age Distribution'!AF:AF)/SUMIFS('Age Distribution'!$AE:$AE,'Age Distribution'!$J:$J,\"=\"&'Summary Tables Age Distribution'!$D36)","v":21.71938775510203},{"$f":"SUMPRODUCT(--('Age Distribution'!$J:$J='Summary Tables Age Distribution'!$D36),'Age Distribution'!$AE:$AE,'Age Distribution'!AG:AG)/SUMIFS('Age Distribution'!$AE:$AE,'Age Distribution'!$J:$J,\"=\"&'Summary Tables Age Distribution'!$D36,'Age Distribution'!$AG:$AG,\"<>\")","v":407175.97449489799}]
[null,null,null,"Heavy Rail Passenger Car",null,{"$f":"SUMIFS('Age Distribution'!L:L,'Age Distribution'!$J:$J,\"=\"&'Summary Tables Age Distribution'!$D37)","v":136},{"$f":"SUMIFS('Age Distribution'!M:M,'Age Distribution'!$J:$J,\"=\"&'Summary Tables Age Distribution'!$D37)","v":314},{"$f":"SUMIFS('Age Distribution'!N:N,'Age Distribution'!$J:$J,\"=\"&'Summary Tables Age Distribution'!$D37)","v":232},{"$f":"SUMIFS('Age Distribution'!O:O,'Age Distribution'!$J:$J,\"=\"&'Summary Tables Age Distribution'!$D37)","v":187},{"$f":"SUMIFS('Age Distribution'!P:P,'Age Distribution'!$J:$J,\"=\"&'Summary Tables Age Distribution'!$D37)","v":325},{"$f":"SUMIFS('Age Distribution'!Q:Q,'Age Distribution'!$J:$J,\"=\"&'Summary Tables Age Distribution'!$D37)","v":176},{"$f":"SUMIFS('Age Distribution'!R:R,'Age Distribution'!$J:$J,\"=\"&'Summary Tables Age Distribution'!$D37)","v":186},{"$f":"SUMIFS('Age Distribution'!S:S,'Age Distribution'!$J:$J,\"=\"&'Summary Tables Age Distribution'!$D37)","v":148},{"$f":"SUMIFS('Age Distribution'!T:T,'Age Distribution'!$J:$J,\"=\"&'Summary Tables Age Distribution'!$D37)","v":163},{"$f":"SUMIFS('Age Distribution'!U:U,'Age Distribution'!$J:$J,\"=\"&'Summary Tables Age Distribution'!$D37)","v":73},{"$f":"SUMIFS('Age Distribution'!V:V,'Age Distribution'!$J:$J,\"=\"&'Summary Tables Age Distribution'!$D37)","v":24},{"$f":"SUMIFS('Age Distribution'!W:W,'Age Distribution'!$J:$J,\"=\"&'Summary Tables Age Distribution'!$D37)","v":1858},{"$f":"SUMIFS('Age Distribution'!X:X,'Age Distribution'!$J:$J,\"=\"&'Summary Tables Age Distribution'!$D37)","v":52},{"$f":"SUMIFS('Age Distribution'!Y:Y,'Age Distribution'!$J:$J,\"=\"&'Summary Tables Age Distribution'!$D37)","v":48},{"$f":"SUMIFS('Age Distribution'!Z:Z,'Age Distribution'!$J:$J,\"=\"&'Summary Tables Age Distribution'!$D37)","v":2244},{"$f":"SUMIFS('Age Distribution'!AA:AA,'Age Distribution'!$J:$J,\"=\"&'Summary Tables Age Distribution'!$D37)","v":394},{"$f":"SUMIFS('Age Distribution'!AB:AB,'Age Distribution'!$J:$J,\"=\"&'Summary Tables Age Distribution'!$D37)","v":510},{"$f":"SUMIFS('Age Distribution'!AC:AC,'Age Distribution'!$J:$J,\"=\"&'Summary Tables Age Distribution'!$D37)","v":4822},{"$f":"SUMIFS('Age Distribution'!AD:AD,'Age Distribution'!$J:$J,\"=\"&'Summary Tables Age Distribution'!$D37)","v":0},{"$f":"SUMIFS('Age Distribution'!AE:AE,'Age Distribution'!$J:$J,\"=\"&'Summary Tables Age Distribution'!$D37)","v":11892},{"$f":"SUMPRODUCT(--('Age Distribution'!$J:$J='Summary Tables Age Distribution'!$D37),'Age Distribution'!$AE:$AE,'Age Distribution'!AF:AF)/SUMIFS('Age Distribution'!$AE:$AE,'Age Distribution'!$J:$J,\"=\"&'Summary Tables Age Distribution'!$D37)","v":23.400689539185993},{"$f":"SUMPRODUCT(--('Age Distribution'!$J:$J='Summary Tables Age Distribution'!$D37),'Age Distribution'!$AE:$AE,'Age Distribution'!AG:AG)/SUMIFS('Age Distribution'!$AE:$AE,'Age Distribution'!$J:$J,\"=\"&'Summary Tables Age Distribution'!$D37,'Age Distribution'!$AG:$AG,\"<>\")","v":1236865.0965242432}]
[null,null,null,"Inclined Plane Vehicle",null,{"$f":"SUMIFS('Age Distribution'!L:L,'Age Distribution'!$J:$J,\"=\"&'Summary Tables Age Distribution'!$D38)","v":0},{"$f":"SUMIFS('Age Distribution'!M:M,'Age Distribution'!$J:$J,\"=\"&'Summary Tables Age Distribution'!$D38)","v":0},{"$f":"SUMIFS('Age Distribution'!N:N,'Age Distribution'!$J:$J,\"=\"&'Summary Tables Age Distribution'!$D38)","v":0},{"$f":"SUMIFS('Age Distribution'!O:O,'Age Distribution'!$J:$J,\"=\"&'Summary Tables Age Distribution'!$D38)","v":0},{"$f":"SUMIFS('Age Distribution'!P:P,'Age Distribution'!$J:$J,\"=\"&'Summary Tables Age Distribution'!$D38)","v":0},{"$f":"SUMIFS('Age Distribution'!Q:Q,'Age Distribution'!$J:$J,\"=\"&'Summary Tables Age Distribution'!$D38)","v":0},{"$f":"SUMIFS('Age Distribution'!R:R,'Age Distribution'!$J:$J,\"=\"&'Summary Tables Age Distribution'!$D38)","v":0},{"$f":"SUMIFS('Age Distribution'!S:S,'Age Distribution'!$J:$J,\"=\"&'Summary Tables Age Distribution'!$D38)","v":0},{"$f":"SUMIFS('Age Distribution'!T:T,'Age Distribution'!$J:$J,\"=\"&'Summary Tables Age Distribution'!$D38)","v":0},{"$f":"SUMIFS('Age Distribution'!U:U,'Age Distribution'!$J:$J,\"=\"&'Summary Tables Age Distribution'!$D38)","v":0},{"$f":"SUMIFS('Age Distribution'!V:V,'Age Distribution'!$J:$J,\"=\"&'Summary Tables Age Distribution'!$D38)","v":0},{"$f":"SUMIFS('Age Distribution'!W:W,'Age Distribution'!$J:$J,\"=\"&'Summary Tables Age Distribution'!$D38)","v":0},{"$f":"SUMIFS('Age Distribution'!X:X,'Age Distribution'!$J:$J,\"=\"&'Summary Tables Age Distribution'!$D38)","v":0},{"$f":"SUMIFS('Age Distribution'!Y:Y,'Age Distribution'!$J:$J,\"=\"&'Summary Tables Age Distribution'!$D38)","v":0},{"$f":"SUMIFS('Age Distribution'!Z:Z,'Age Distribution'!$J:$J,\"=\"&'Summary Tables Age Distribution'!$D38)","v":0},{"$f":"SUMIFS('Age Distribution'!AA:AA,'Age Distribution'!$J:$J,\"=\"&'Summary Tables Age Distribution'!$D38)","v":0},{"$f":"SUMIFS('Age Distribution'!AB:AB,'Age Distribution'!$J:$J,\"=\"&'Summary Tables Age Distribution'!$D38)","v":0},{"$f":"SUMIFS('Age Distribution'!AC:AC,'Age Distribution'!$J:$J,\"=\"&'Summary Tables Age Distribution'!$D38)","v":4},{"$f":"SUMIFS('Age Distribution'!AD:AD,'Age Distribution'!$J:$J,\"=\"&'Summary Tables Age Distribution'!$D38)","v":2},{"$f":"SUMIFS('Age Distribution'!AE:AE,'Age Distribution'!$J:$J,\"=\"&'Summary Tables Age Distribution'!$D38)","v":6},{"$f":"SUMPRODUCT(--('Age Distribution'!$J:$J='Summary Tables Age Distribution'!$D38),'Age Distribution'!$AE:$AE,'Age Distribution'!AF:AF)/SUMIFS('Age Distribution'!$AE:$AE,'Age Distribution'!$J:$J,\"=\"&'Summary Tables Age Distribution'!$D38)","v":71},{"$f":"SUMPRODUCT(--('Age Distribution'!$J:$J='Summary Tables Age Distribution'!$D38),'Age Distribution'!$AE:$AE,'Age Distribution'!AG:AG)/SUMIFS('Age Distribution'!$AE:$AE,'Age Distribution'!$J:$J,\"=\"&'Summary Tables Age Distribution'!$D38,'Age Distribution'!$AG:$AG,\"<>\")","v":113745.33333333333}]
[null,null,null,"Light Rail Vehicle",null,{"$f":"SUMIFS('Age Distribution'!L:L,'Age Distribution'!$J:$J,\"=\"&'Summary Tables Age Distribution'!$D39)","v":26},{"$f":"SUMIFS('Age Distribution'!M:M,'Age Distribution'!$J:$J,\"=\"&'Summary Tables Age Distribution'!$D39)","v":77},{"$f":"SUMIFS('Age Distribution'!N:N,'Age Distribution'!$J:$J,\"=\"&'Summary Tables Age Distribution'!$D39)","v":48},{"$f":"SUMIFS('Age Distribution'!O:O,'Age Distribution'!$J:$J,\"=\"&'Summary Tables Age Distribution'!$D39)","v":39},{"$f":"SUMIFS('Age Distribution'!P:P,'Age Distribution'!$J:$J,\"=\"&'Summary Tables Age Distribution'!$D39)","v":60},{"$f":"SUMIFS('Age Distribution'!Q:Q,'Age Distribution'!$J:$J,\"=\"&'Summary Tables Age Distribution'!$D39)","v":35},{"$f":"SUMIFS('Age Distribution'!R:R,'Age Distribution'!$J:$J,\"=\"&'Summary Tables Age Distribution'!$D39)","v":23},{"$f":"SUMIFS('Age Distribution'!S:S,'Age Distribution'!$J:$J,\"=\"&'Summary Tables Age Distribution'!$D39)","v":83},{"$f":"SUMIFS('Age Distribution'!T:T,'Age Distribution'!$J:$J,\"=\"&'Summary Tables Age Distribution'!$D39)","v":180},{"$f":"SUMIFS('Age Distribution'!U:U,'Age Distribution'!$J:$J,\"=\"&'Summary Tables Age Distribution'!$D39)","v":17},{"$f":"SUMIFS('Age Distribution'!V:V,'Age Distribution'!$J:$J,\"=\"&'Summary Tables Age Distribution'!$D39)","v":147},{"$f":"SUMIFS('Age Distribution'!W:W,'Age Distribution'!$J:$J,\"=\"&'Summary Tables Age Distribution'!$D39)","v":26},{"$f":"SUMIFS('Age Distribution'!X:X,'Age Distribution'!$J:$J,\"=\"&'Summary Tables Age Distribution'!$D39)","v":67},{"$f":"SUMIFS('Age Distribution'!Y:Y,'Age Distribution'!$J:$J,\"=\"&'Summary Tables Age Distribution'!$D39)","v":248},{"$f":"SUMIFS('Age Distribution'!Z:Z,'Age Distribution'!$J:$J,\"=\"&'Summary Tables Age Distribution'!$D39)","v":462},{"$f":"SUMIFS('Age Distribution'!AA:AA,'Age Distribution'!$J:$J,\"=\"&'Summary Tables Age Distribution'!$D39)","v":394},{"$f":"SUMIFS('Age Distribution'!AB:AB,'Age Distribution'!$J:$J,\"=\"&'Summary Tables Age Distribution'!$D39)","v":148},{"$f":"SUMIFS('Age Distribution'!AC:AC,'Age Distribution'!$J:$J,\"=\"&'Summary Tables Age Distribution'!$D39)","v":235},{"$f":"SUMIFS('Age Distribution'!AD:AD,'Age Distribution'!$J:$J,\"=\"&'Summary Tables Age Distribution'!$D39)","v":13},{"$f":"SUMIFS('Age Distribution'!AE:AE,'Age Distribution'!$J:$J,\"=\"&'Summary Tables Age Distribution'!$D39)","v":2328},{"$f":"SUMPRODUCT(--('Age Distribution'!$J:$J='Summary Tables Age Distribution'!$D39),'Age Distribution'!$AE:$AE,'Age Distribution'!AF:AF)/SUMIFS('Age Distribution'!$AE:$AE,'Age Distribution'!$J:$J,\"=\"&'Summary Tables Age Distribution'!$D39)","v":16.856529209621957},{"$f":"SUMPRODUCT(--('Age Distribution'!$J:$J='Summary Tables Age Distribution'!$D39),'Age Distribution'!$AE:$AE,'Age Distribution'!AG:AG)/SUMIFS('Age Distribution'!$AE:$AE,'Age Distribution'!$J:$J,\"=\"&'Summary Tables Age Distribution'!$D39,'Age Distribution'!$AG:$AG,\"<>\")","v":744296.92568977678}]
[null,null,null,"Minivan",null,{"$f":"SUMIFS('Age Distribution'!L:L,'Age Distribution'!$J:$J,\"=\"&'Summary Tables Age Distribution'!$D40)","v":957},{"$f":"SUMIFS('Age Distribution'!M:M,'Age Distribution'!$J:$J,\"=\"&'Summary Tables Age Distribution'!$D40)","v":1720},{"$f":"SUMIFS('Age Distribution'!N:N,'Age Distribution'!$J:$J,\"=\"&'Summary Tables Age Distribution'!$D40)","v":1319},{"$f":"SUMIFS('Age Distribution'!O:O,'Age Distribution'!$J:$J,\"=\"&'Summary Tables Age Distribution'!$D40)","v":1365},{"$f":"SUMIFS('Age Distribution'!P:P,'Age Distribution'!$J:$J,\"=\"&'Summary Tables Age Distribution'!$D40)","v":1269},{"$f":"SUMIFS('Age Distribution'!Q:Q,'Age Distribution'!$J:$J,\"=\"&'Summary Tables Age Distribution'!$D40)","v":693},{"$f":"SUMIFS('Age Distribution'!R:R,'Age Distribution'!$J:$J,\"=\"&'Summary Tables Age Distribution'!$D40)","v":793},{"$f":"SUMIFS('Age Distribution'!S:S,'Age Distribution'!$J:$J,\"=\"&'Summary Tables Age Distribution'!$D40)","v":362},{"$f":"SUMIFS('Age Distribution'!T:T,'Age Distribution'!$J:$J,\"=\"&'Summary Tables Age Distribution'!$D40)","v":558},{"$f":"SUMIFS('Age Distribution'!U:U,'Age Distribution'!$J:$J,\"=\"&'Summary Tables Age Distribution'!$D40)","v":264},{"$f":"SUMIFS('Age Distribution'!V:V,'Age Distribution'!$J:$J,\"=\"&'Summary Tables Age Distribution'!$D40)","v":391},{"$f":"SUMIFS('Age Distribution'!W:W,'Age Distribution'!$J:$J,\"=\"&'Summary Tables Age Distribution'!$D40)","v":156},{"$f":"SUMIFS('Age Distribution'!X:X,'Age Distribution'!$J:$J,\"=\"&'Summary Tables Age Distribution'!$D40)","v":122},{"$f":"SUMIFS('Age Distribution'!Y:Y,'Age Distribution'!$J:$J,\"=\"&'Summary Tables Age Distribution'!$D40)","v":194},{"$f":"SUMIFS('Age Distribution'!Z:Z,'Age Distribution'!$J:$J,\"=\"&'Summary Tables Age Distribution'!$D40)","v":50},{"$f":"SUMIFS('Age Distribution'!AA:AA,'Age Distribution'!$J:$J,\"=\"&'Summary Tables Age Distribution'!$D40)","v":7},{"$f":"SUMIFS('Age Distribution'!AB:AB,'Age Distribution'!$J:$J,\"=\"&'Summary Tables Age Distribution'!$D40)","v":1},{"$f":"SUMIFS('Age Distribution'!AC:AC,'Age Distribution'!$J:$J,\"=\"&'Summary Tables Age Distribution'!$D40)","v":0},{"$f":"SUMIFS('Age Distribution'!AD:AD,'Age Distribution'!$J:$J,\"=\"&'Summary Tables Age Distribution'!$D40)","v":0},{"$f":"SUMIFS('Age Distribution'!AE:AE,'Age Distribution'!$J:$J,\"=\"&'Summary Tables Age Distribution'!$D40)","v":10221},{"$f":"SUMPRODUCT(--('Age Distribution'!$J:$J='Summary Tables Age Distribution'!$D40),'Age Distribution'!$AE:$AE,'Age Distribution'!AF:AF)/SUMIFS('Age Distribution'!$AE:$AE,'Age Distribution'!$J:$J,\"=\"&'Summary Tables Age Distribution'!$D40)","v":4.1015556207807444},{"$f":"SUMPRODUCT(--('Age Distribution'!$J:$J='Summary Tables Age Distribution'!$D40),'Age Distribution'!$AE:$AE,'Age Distribution'!AG:AG)/SUMIFS('Age Distribution'!$AE:$AE,'Age Distribution'!$J:$J,\"=\"&'Summary Tables Age Distribution'!$D40,'Age Distribution'!$AG:$AG,\"<>\")","v":29212.735256256721}]
[null,null,null,"Monorail Vehicle",null,{"$f":"SUMIFS('Age Distribution'!L:L,'Age Distribution'!$J:$J,\"=\"&'Summary Tables Age Distribution'!$D41)","v":0},{"$f":"SUMIFS('Age Distribution'!M:M,'Age Distribution'!$J:$J,\"=\"&'Summary Tables Age Distribution'!$D41)","v":0},{"$f":"SUMIFS('Age Distribution'!N:N,'Age Distribution'!$J:$J,\"=\"&'Summary Tables Age Distribution'!$D41)","v":0},{"$f":"SUMIFS('Age Distribution'!O:O,'Age Distribution'!$J:$J,\"=\"&'Summary Tables Age Distribution'!$D41)","v":0},{"$f":"SUMIFS('Age Distribution'!P:P,'Age Distribution'!$J:$J,\"=\"&'Summary Tables Age Distribution'!$D41)","v":0},{"$f":"SUMIFS('Age Distribution'!Q:Q,'Age Distribution'!$J:$J,\"=\"&'Summary Tables Age Distribution'!$D41)","v":0},{"$f":"SUMIFS('Age Distribution'!R:R,'Age Distribution'!$J:$J,\"=\"&'Summary Tables Age Distribution'!$D41)","v":0},{"$f":"SUMIFS('Age Distribution'!S:S,'Age Distribution'!$J:$J,\"=\"&'Summary Tables Age Distribution'!$D41)","v":0},{"$f":"SUMIFS('Age Distribution'!T:T,'Age Distribution'!$J:$J,\"=\"&'Summary Tables Age Distribution'!$D41)","v":0},{"$f":"SUMIFS('Age Distribution'!U:U,'Age Distribution'!$J:$J,\"=\"&'Summary Tables Age Distribution'!$D41)","v":0},{"$f":"SUMIFS('Age Distribution'!V:V,'Age Distribution'!$J:$J,\"=\"&'Summary Tables Age Distribution'!$D41)","v":0},{"$f":"SUMIFS('Age Distribution'!W:W,'Age Distribution'!$J:$J,\"=\"&'Summary Tables Age Distribution'!$D41)","v":0},{"$f":"SUMIFS('Age Distribution'!X:X,'Age Distribution'!$J:$J,\"=\"&'Summary Tables Age Distribution'!$D41)","v":0},{"$f":"SUMIFS('Age Distribution'!Y:Y,'Age Distribution'!$J:$J,\"=\"&'Summary Tables Age Distribution'!$D41)","v":0},{"$f":"SUMIFS('Age Distribution'!Z:Z,'Age Distribution'!$J:$J,\"=\"&'Summary Tables Age Distribution'!$D41)","v":0},{"$f":"SUMIFS('Age Distribution'!AA:AA,'Age Distribution'!$J:$J,\"=\"&'Summary Tables Age Distribution'!$D41)","v":0},{"$f":"SUMIFS('Age Distribution'!AB:AB,'Age Distribution'!$J:$J,\"=\"&'Summary Tables Age Distribution'!$D41)","v":0},{"$f":"SUMIFS('Age Distribution'!AC:AC,'Age Distribution'!$J:$J,\"=\"&'Summary Tables Age Distribution'!$D41)","v":8},{"$f":"SUMIFS('Age Distribution'!AD:AD,'Age Distribution'!$J:$J,\"=\"&'Summary Tables Age Distribution'!$D41)","v":0},{"$f":"SUMIFS('Age Distribution'!AE:AE,'Age Distribution'!$J:$J,\"=\"&'Summary Tables Age Distribution'!$D41)","v":8},{"$f":"SUMPRODUCT(--('Age Distribution'!$J:$J='Summary Tables Age Distribution'!$D41),'Age Distribution'!$AE:$AE,'Age Distribution'!AF:AF)/SUMIFS('Age Distribution'!$AE:$AE,'Age Distribution'!$J:$J,\"=\"&'Summary Tables Age Distribution'!$D41)","v":56},{"$f":"SUMPRODUCT(--('Age Distribution'!$J:$J='Summary Tables Age Distribution'!$D41),'Age Distribution'!$AE:$AE,'Age Distribution'!AG:AG)/SUMIFS('Age Distribution'!$AE:$AE,'Age Distribution'!$J:$J,\"=\"&'Summary Tables Age Distribution'!$D41,'Age Distribution'!$AG:$AG,\"<>\")","v":1318870}]
[null,null,null,"Other",null,{"$f":"SUMIFS('Age Distribution'!L:L,'Age Distribution'!$J:$J,\"=\"&'Summary Tables Age Distribution'!$D42)","v":0},{"$f":"SUMIFS('Age Distribution'!M:M,'Age Distribution'!$J:$J,\"=\"&'Summary Tables Age Distribution'!$D42)","v":0},{"$f":"SUMIFS('Age Distribution'!N:N,'Age Distribution'!$J:$J,\"=\"&'Summary Tables Age Distribution'!$D42)","v":6},{"$f":"SUMIFS('Age Distribution'!O:O,'Age Distribution'!$J:$J,\"=\"&'Summary Tables Age Distribution'!$D42)","v":5},{"$f":"SUMIFS('Age Distribution'!P:P,'Age Distribution'!$J:$J,\"=\"&'Summary Tables Age Distribution'!$D42)","v":0},{"$f":"SUMIFS('Age Distribution'!Q:Q,'Age Distribution'!$J:$J,\"=\"&'Summary Tables Age Distribution'!$D42)","v":2},{"$f":"SUMIFS('Age Distribution'!R:R,'Age Distribution'!$J:$J,\"=\"&'Summary Tables Age Distribution'!$D42)","v":3},{"$f":"SUMIFS('Age Distribution'!S:S,'Age Distribution'!$J:$J,\"=\"&'Summary Tables Age Distribution'!$D42)","v":0},{"$f":"SUMIFS('Age Distribution'!T:T,'Age Distribution'!$J:$J,\"=\"&'Summary Tables Age Distribution'!$D42)","v":8},{"$f":"SUMIFS('Age Distribution'!U:U,'Age Distribution'!$J:$J,\"=\"&'Summary Tables Age Distribution'!$D42)","v":2},{"$f":"SUMIFS('Age Distribution'!V:V,'Age Distribution'!$J:$J,\"=\"&'Summary Tables Age Distribution'!$D42)","v":1},{"$f":"SUMIFS('Age Distribution'!W:W,'Age Distribution'!$J:$J,\"=\"&'Summary Tables Age Distribution'!$D42)","v":2},{"$f":"SUMIFS('Age Distribution'!X:X,'Age Distribution'!$J:$J,\"=\"&'Summary Tables Age Distribution'!$D42)","v":2},{"$f":"SUMIFS('Age Distribution'!Y:Y,'Age Distribution'!$J:$J,\"=\"&'Summary Tables Age Distribution'!$D42)","v":4},{"$f":"SUMIFS('Age Distribution'!Z:Z,'Age Distribution'!$J:$J,\"=\"&'Summary Tables Age Distribution'!$D42)","v":1},{"$f":"SUMIFS('Age Distribution'!AA:AA,'Age Distribution'!$J:$J,\"=\"&'Summary Tables Age Distribution'!$D42)","v":0},{"$f":"SUMIFS('Age Distribution'!AB:AB,'Age Distribution'!$J:$J,\"=\"&'Summary Tables Age Distribution'!$D42)","v":0},{"$f":"SUMIFS('Age Distribution'!AC:AC,'Age Distribution'!$J:$J,\"=\"&'Summary Tables Age Distribution'!$D42)","v":0},{"$f":"SUMIFS('Age Distribution'!AD:AD,'Age Distribution'!$J:$J,\"=\"&'Summary Tables Age Distribution'!$D42)","v":0},{"$f":"SUMIFS('Age Distribution'!AE:AE,'Age Distribution'!$J:$J,\"=\"&'Summary Tables Age Distribution'!$D42)","v":36},{"$f":"SUMPRODUCT(--('Age Distribution'!$J:$J='Summary Tables Age Distribution'!$D42),'Age Distribution'!$AE:$AE,'Age Distribution'!AF:AF)/SUMIFS('Age Distribution'!$AE:$AE,'Age Distribution'!$J:$J,\"=\"&'Summary Tables Age Distribution'!$D42)","v":7.4166666666666634},{"$f":"SUMPRODUCT(--('Age Distribution'!$J:$J='Summary Tables Age Distribution'!$D42),'Age Distribution'!$AE:$AE,'Age Distribution'!AG:AG)/SUMIFS('Age Distribution'!$AE:$AE,'Age Distribution'!$J:$J,\"=\"&'Summary Tables Age Distribution'!$D42,'Age Distribution'!$AG:$AG,\"<>\")","v":9116.2222222222226}]
[null,null,null,"Over-the-road Bus",null,{"$f":"SUMIFS('Age Distribution'!L:L,'Age Distribution'!$J:$J,\"=\"&'Summary Tables Age Distribution'!$D43)","v":278},{"$f":"SUMIFS('Age Distribution'!M:M,'Age Distribution'!$J:$J,\"=\"&'Summary Tables Age Distribution'!$D43)","v":486},{"$f":"SUMIFS('Age Distribution'!N:N,'Age Distribution'!$J:$J,\"=\"&'Summary Tables Age Distribution'!$D43)","v":401},{"$f":"SUMIFS('Age Distribution'!O:O,'Age Distribution'!$J:$J,\"=\"&'Summary Tables Age Distribution'!$D43)","v":475},{"$f":"SUMIFS('Age Distribution'!P:P,'Age Distribution'!$J:$J,\"=\"&'Summary Tables Age Distribution'!$D43)","v":187},{"$f":"SUMIFS('Age Distribution'!Q:Q,'Age Distribution'!$J:$J,\"=\"&'Summary Tables Age Distribution'!$D43)","v":126},{"$f":"SUMIFS('Age Distribution'!R:R,'Age Distribution'!$J:$J,\"=\"&'Summary Tables Age Distribution'!$D43)","v":285},{"$f":"SUMIFS('Age Distribution'!S:S,'Age Distribution'!$J:$J,\"=\"&'Summary Tables Age Distribution'!$D43)","v":177},{"$f":"SUMIFS('Age Distribution'!T:T,'Age Distribution'!$J:$J,\"=\"&'Summary Tables Age Distribution'!$D43)","v":203},{"$f":"SUMIFS('Age Distribution'!U:U,'Age Distribution'!$J:$J,\"=\"&'Summary Tables Age Distribution'!$D43)","v":190},{"$f":"SUMIFS('Age Distribution'!V:V,'Age Distribution'!$J:$J,\"=\"&'Summary Tables Age Distribution'!$D43)","v":289},{"$f":"SUMIFS('Age Distribution'!W:W,'Age Distribution'!$J:$J,\"=\"&'Summary Tables Age Distribution'!$D43)","v":320},{"$f":"SUMIFS('Age Distribution'!X:X,'Age Distribution'!$J:$J,\"=\"&'Summary Tables Age Distribution'!$D43)","v":414},{"$f":"SUMIFS('Age Distribution'!Y:Y,'Age Distribution'!$J:$J,\"=\"&'Summary Tables Age Distribution'!$D43)","v":699},{"$f":"SUMIFS('Age Distribution'!Z:Z,'Age Distribution'!$J:$J,\"=\"&'Summary Tables Age Distribution'!$D43)","v":938},{"$f":"SUMIFS('Age Distribution'!AA:AA,'Age Distribution'!$J:$J,\"=\"&'Summary Tables Age Distribution'!$D43)","v":46},{"$f":"SUMIFS('Age Distribution'!AB:AB,'Age Distribution'!$J:$J,\"=\"&'Summary Tables Age Distribution'!$D43)","v":0},{"$f":"SUMIFS('Age Distribution'!AC:AC,'Age Distribution'!$J:$J,\"=\"&'Summary Tables Age Distribution'!$D43)","v":0},{"$f":"SUMIFS('Age Distribution'!AD:AD,'Age Distribution'!$J:$J,\"=\"&'Summary Tables Age Distribution'!$D43)","v":0},{"$f":"SUMIFS('Age Distribution'!AE:AE,'Age Distribution'!$J:$J,\"=\"&'Summary Tables Age Distribution'!$D43)","v":5514},{"$f":"SUMPRODUCT(--('Age Distribution'!$J:$J='Summary Tables Age Distribution'!$D43),'Age Distribution'!$AE:$AE,'Age Distribution'!AF:AF)/SUMIFS('Age Distribution'!$AE:$AE,'Age Distribution'!$J:$J,\"=\"&'Summary Tables Age Distribution'!$D43)","v":8.7315923104823856},{"$f":"SUMPRODUCT(--('Age Distribution'!$J:$J='Summary Tables Age Distribution'!$D43),'Age Distribution'!$AE:$AE,'Age Distribution'!AG:AG)/SUMIFS('Age Distribution'!$AE:$AE,'Age Distribution'!$J:$J,\"=\"&'Summary Tables Age Distribution'!$D43,'Age Distribution'!$AG:$AG,\"<>\")","v":385429.0910485856}]
[null,null,null,"School Bus",null,{"$f":"SUMIFS('Age Distribution'!L:L,'Age Distribution'!$J:$J,\"=\"&'Summary Tables Age Distribution'!$D44)","v":0},{"$f":"SUMIFS('Age Distribution'!M:M,'Age Distribution'!$J:$J,\"=\"&'Summary Tables Age Distribution'!$D44)","v":3},{"$f":"SUMIFS('Age Distribution'!N:N,'Age Distribution'!$J:$J,\"=\"&'Summary Tables Age Distribution'!$D44)","v":5},{"$f":"SUMIFS('Age Distribution'!O:O,'Age Distribution'!$J:$J,\"=\"&'Summary Tables Age Distribution'!$D44)","v":3},{"$f":"SUMIFS('Age Distribution'!P:P,'Age Distribution'!$J:$J,\"=\"&'Summary Tables Age Distribution'!$D44)","v":0},{"$f":"SUMIFS('Age Distribution'!Q:Q,'Age Distribution'!$J:$J,\"=\"&'Summary Tables Age Distribution'!$D44)","v":0},{"$f":"SUMIFS('Age Distribution'!R:R,'Age Distribution'!$J:$J,\"=\"&'Summary Tables Age Distribution'!$D44)","v":0},{"$f":"SUMIFS('Age Distribution'!S:S,'Age Distribution'!$J:$J,\"=\"&'Summary Tables Age Distribution'!$D44)","v":5},{"$f":"SUMIFS('Age Distribution'!T:T,'Age Distribution'!$J:$J,\"=\"&'Summary Tables Age Distribution'!$D44)","v":0},{"$f":"SUMIFS('Age Distribution'!U:U,'Age Distribution'!$J:$J,\"=\"&'Summary Tables Age Distribution'!$D44)","v":9},{"$f":"SUMIFS('Age Distribution'!V:V,'Age Distribution'!$J:$J,\"=\"&'Summary Tables Age Distribution'!$D44)","v":3},{"$f":"SUMIFS('Age Distribution'!W:W,'Age Distribution'!$J:$J,\"=\"&'Summary Tables Age Distribution'!$D44)","v":4},{"$f":"SUMIFS('Age Distribution'!X:X,'Age Distribution'!$J:$J,\"=\"&'Summary Tables Age Distribution'!$D44)","v":7},{"$f":"SUMIFS('Age Distribution'!Y:Y,'Age Distribution'!$J:$J,\"=\"&'Summary Tables Age Distribution'!$D44)","v":15},{"$f":"SUMIFS('Age Distribution'!Z:Z,'Age Distribution'!$J:$J,\"=\"&'Summary Tables Age Distribution'!$D44)","v":25},{"$f":"SUMIFS('Age Distribution'!AA:AA,'Age Distribution'!$J:$J,\"=\"&'Summary Tables Age Distribution'!$D44)","v":3},{"$f":"SUMIFS('Age Distribution'!AB:AB,'Age Distribution'!$J:$J,\"=\"&'Summary Tables Age Distribution'!$D44)","v":2},{"$f":"SUMIFS('Age Distribution'!AC:AC,'Age Distribution'!$J:$J,\"=\"&'Summary Tables Age Distribution'!$D44)","v":0},{"$f":"SUMIFS('Age Distribution'!AD:AD,'Age Distribution'!$J:$J,\"=\"&'Summary Tables Age Distribution'!$D44)","v":0},{"$f":"SUMIFS('Age Distribution'!AE:AE,'Age Distribution'!$J:$J,\"=\"&'Summary Tables Age Distribution'!$D44)","v":84},{"$f":"SUMPRODUCT(--('Age Distribution'!$J:$J='Summary Tables Age Distribution'!$D44),'Age Distribution'!$AE:$AE,'Age Distribution'!AF:AF)/SUMIFS('Age Distribution'!$AE:$AE,'Age Distribution'!$J:$J,\"=\"&'Summary Tables Age Distribution'!$D44)","v":12.916666666666643},{"$f":"SUMPRODUCT(--('Age Distribution'!$J:$J='Summary Tables Age Distribution'!$D44),'Age Distribution'!$AE:$AE,'Age Distribution'!AG:AG)/SUMIFS('Age Distribution'!$AE:$AE,'Age Distribution'!$J:$J,\"=\"&'Summary Tables Age Distribution'!$D44,'Age Distribution'!$AG:$AG,\"<>\")","v":38870.761902380953}]
[null,null,null,"Sports Utility Vehicle",null,{"$f":"SUMIFS('Age Distribution'!L:L,'Age Distribution'!$J:$J,\"=\"&'Summary Tables Age Distribution'!$D45)","v":297},{"$f":"SUMIFS('Age Distribution'!M:M,'Age Distribution'!$J:$J,\"=\"&'Summary Tables Age Distribution'!$D45)","v":391},{"$f":"SUMIFS('Age Distribution'!N:N,'Age Distribution'!$J:$J,\"=\"&'Summary Tables Age Distribution'!$D45)","v":180},{"$f":"SUMIFS('Age Distribution'!O:O,'Age Distribution'!$J:$J,\"=\"&'Summary Tables Age Distribution'!$D45)","v":109},{"$f":"SUMIFS('Age Distribution'!P:P,'Age Distribution'!$J:$J,\"=\"&'Summary Tables Age Distribution'!$D45)","v":327},{"$f":"SUMIFS('Age Distribution'!Q:Q,'Age Distribution'!$J:$J,\"=\"&'Summary Tables Age Distribution'!$D45)","v":42},{"$f":"SUMIFS('Age Distribution'!R:R,'Age Distribution'!$J:$J,\"=\"&'Summary Tables Age Distribution'!$D45)","v":185},{"$f":"SUMIFS('Age Distribution'!S:S,'Age Distribution'!$J:$J,\"=\"&'Summary Tables Age Distribution'!$D45)","v":31},{"$f":"SUMIFS('Age Distribution'!T:T,'Age Distribution'!$J:$J,\"=\"&'Summary Tables Age Distribution'!$D45)","v":22},{"$f":"SUMIFS('Age Distribution'!U:U,'Age Distribution'!$J:$J,\"=\"&'Summary Tables Age Distribution'!$D45)","v":31},{"$f":"SUMIFS('Age Distribution'!V:V,'Age Distribution'!$J:$J,\"=\"&'Summary Tables Age Distribution'!$D45)","v":9},{"$f":"SUMIFS('Age Distribution'!W:W,'Age Distribution'!$J:$J,\"=\"&'Summary Tables Age Distribution'!$D45)","v":1},{"$f":"SUMIFS('Age Distribution'!X:X,'Age Distribution'!$J:$J,\"=\"&'Summary Tables Age Distribution'!$D45)","v":4},{"$f":"SUMIFS('Age Distribution'!Y:Y,'Age Distribution'!$J:$J,\"=\"&'Summary Tables Age Distribution'!$D45)","v":10},{"$f":"SUMIFS('Age Distribution'!Z:Z,'Age Distribution'!$J:$J,\"=\"&'Summary Tables Age Distribution'!$D45)","v":11},{"$f":"SUMIFS('Age Distribution'!AA:AA,'Age Distribution'!$J:$J,\"=\"&'Summary Tables Age Distribution'!$D45)","v":1},{"$f":"SUMIFS('Age Distribution'!AB:AB,'Age Distribution'!$J:$J,\"=\"&'Summary Tables Age Distribution'!$D45)","v":0},{"$f":"SUMIFS('Age Distribution'!AC:AC,'Age Distribution'!$J:$J,\"=\"&'Summary Tables Age Distribution'!$D45)","v":0},{"$f":"SUMIFS('Age Distribution'!AD:AD,'Age Distribution'!$J:$J,\"=\"&'Summary Tables Age Distribution'!$D45)","v":0},{"$f":"SUMIFS('Age Distribution'!AE:AE,'Age Distribution'!$J:$J,\"=\"&'Summary Tables Age Distribution'!$D45)","v":1651},{"$f":"SUMPRODUCT(--('Age Distribution'!$J:$J='Summary Tables Age Distribution'!$D45),'Age Distribution'!$AE:$AE,'Age Distribution'!AF:AF)/SUMIFS('Age Distribution'!$AE:$AE,'Age Distribution'!$J:$J,\"=\"&'Summary Tables Age Distribution'!$D45)","v":2.955178679588125},{"$f":"SUMPRODUCT(--('Age Distribution'!$J:$J='Summary Tables Age Distribution'!$D45),'Age Distribution'!$AE:$AE,'Age Distribution'!AG:AG)/SUMIFS('Age Distribution'!$AE:$AE,'Age Distribution'!$J:$J,\"=\"&'Summary Tables Age Distribution'!$D45,'Age Distribution'!$AG:$AG,\"<>\")","v":54205.750463658369}]
[null,null,null,"Streetcar Rail",null,{"$f":"SUMIFS('Age Distribution'!L:L,'Age Distribution'!$J:$J,\"=\"&'Summary Tables Age Distribution'!$D46)","v":5},{"$f":"SUMIFS('Age Distribution'!M:M,'Age Distribution'!$J:$J,\"=\"&'Summary Tables Age Distribution'!$D46)","v":6},{"$f":"SUMIFS('Age Distribution'!N:N,'Age Distribution'!$J:$J,\"=\"&'Summary Tables Age Distribution'!$D46)","v":0},{"$f":"SUMIFS('Age Distribution'!O:O,'Age Distribution'!$J:$J,\"=\"&'Summary Tables Age Distribution'!$D46)","v":20},{"$f":"SUMIFS('Age Distribution'!P:P,'Age Distribution'!$J:$J,\"=\"&'Summary Tables Age Distribution'!$D46)","v":1},{"$f":"SUMIFS('Age Distribution'!Q:Q,'Age Distribution'!$J:$J,\"=\"&'Summary Tables Age Distribution'!$D46)","v":18},{"$f":"SUMIFS('Age Distribution'!R:R,'Age Distribution'!$J:$J,\"=\"&'Summary Tables Age Distribution'!$D46)","v":3},{"$f":"SUMIFS('Age Distribution'!S:S,'Age Distribution'!$J:$J,\"=\"&'Summary Tables Age Distribution'!$D46)","v":0},{"$f":"SUMIFS('Age Distribution'!T:T,'Age Distribution'!$J:$J,\"=\"&'Summary Tables Age Distribution'!$D46)","v":0},{"$f":"SUMIFS('Age Distribution'!U:U,'Age Distribution'!$J:$J,\"=\"&'Summary Tables Age Distribution'!$D46)","v":0},{"$f":"SUMIFS('Age Distribution'!V:V,'Age Distribution'!$J:$J,\"=\"&'Summary Tables Age Distribution'!$D46)","v":0},{"$f":"SUMIFS('Age Distribution'!W:W,'Age Distribution'!$J:$J,\"=\"&'Summary Tables Age Distribution'!$D46)","v":6},{"$f":"SUMIFS('Age Distribution'!X:X,'Age Distribution'!$J:$J,\"=\"&'Summary Tables Age Distribution'!$D46)","v":3},{"$f":"SUMIFS('Age Distribution'!Y:Y,'Age Distribution'!$J:$J,\"=\"&'Summary Tables Age Distribution'!$D46)","v":29},{"$f":"SUMIFS('Age Distribution'!Z:Z,'Age Distribution'!$J:$J,\"=\"&'Summary Tables Age Distribution'!$D46)","v":5},{"$f":"SUMIFS('Age Distribution'!AA:AA,'Age Distribution'!$J:$J,\"=\"&'Summary Tables Age Distribution'!$D46)","v":7},{"$f":"SUMIFS('Age Distribution'!AB:AB,'Age Distribution'!$J:$J,\"=\"&'Summary Tables Age Distribution'!$D46)","v":2},{"$f":"SUMIFS('Age Distribution'!AC:AC,'Age Distribution'!$J:$J,\"=\"&'Summary Tables Age Distribution'!$D46)","v":141},{"$f":"SUMIFS('Age Distribution'!AD:AD,'Age Distribution'!$J:$J,\"=\"&'Summary Tables Age Distribution'!$D46)","v":45},{"$f":"SUMIFS('Age Distribution'!AE:AE,'Age Distribution'!$J:$J,\"=\"&'Summary Tables Age Distribution'!$D46)","v":291},{"$f":"SUMPRODUCT(--('Age Distribution'!$J:$J='Summary Tables Age Distribution'!$D46),'Age Distribution'!$AE:$AE,'Age Distribution'!AF:AF)/SUMIFS('Age Distribution'!$AE:$AE,'Age Distribution'!$J:$J,\"=\"&'Summary Tables Age Distribution'!$D46)","v":33.457044673539478},{"$f":"SUMPRODUCT(--('Age Distribution'!$J:$J='Summary Tables Age Distribution'!$D46),'Age Distribution'!$AE:$AE,'Age Distribution'!AG:AG)/SUMIFS('Age Distribution'!$AE:$AE,'Age Distribution'!$J:$J,\"=\"&'Summary Tables Age Distribution'!$D46,'Age Distribution'!$AG:$AG,\"<>\")","v":992821.8831707905}]
[null,null,null,"Trolleybus",null,{"$f":"SUMIFS('Age Distribution'!L:L,'Age Distribution'!$J:$J,\"=\"&'Summary Tables Age Distribution'!$D47)","v":0},{"$f":"SUMIFS('Age Distribution'!M:M,'Age Distribution'!$J:$J,\"=\"&'Summary Tables Age Distribution'!$D47)","v":58},{"$f":"SUMIFS('Age Distribution'!N:N,'Age Distribution'!$J:$J,\"=\"&'Summary Tables Age Distribution'!$D47)","v":0},{"$f":"SUMIFS('Age Distribution'!O:O,'Age Distribution'!$J:$J,\"=\"&'Summary Tables Age Distribution'!$D47)","v":174},{"$f":"SUMIFS('Age Distribution'!P:P,'Age Distribution'!$J:$J,\"=\"&'Summary Tables Age Distribution'!$D47)","v":64},{"$f":"SUMIFS('Age Distribution'!Q:Q,'Age Distribution'!$J:$J,\"=\"&'Summary Tables Age Distribution'!$D47)","v":0},{"$f":"SUMIFS('Age Distribution'!R:R,'Age Distribution'!$J:$J,\"=\"&'Summary Tables Age Distribution'!$D47)","v":0},{"$f":"SUMIFS('Age Distribution'!S:S,'Age Distribution'!$J:$J,\"=\"&'Summary Tables Age Distribution'!$D47)","v":0},{"$f":"SUMIFS('Age Distribution'!T:T,'Age Distribution'!$J:$J,\"=\"&'Summary Tables Age Distribution'!$D47)","v":0},{"$f":"SUMIFS('Age Distribution'!U:U,'Age Distribution'!$J:$J,\"=\"&'Summary Tables Age Distribution'!$D47)","v":0},{"$f":"SUMIFS('Age Distribution'!V:V,'Age Distribution'!$J:$J,\"=\"&'Summary Tables Age Distribution'!$D47)","v":38},{"$f":"SUMIFS('Age Distribution'!W:W,'Age Distribution'!$J:$J,\"=\"&'Summary Tables Age Distribution'!$D47)","v":0},{"$f":"SUMIFS('Age Distribution'!X:X,'Age Distribution'!$J:$J,\"=\"&'Summary Tables Age Distribution'!$D47)","v":0},{"$f":"SUMIFS('Age Distribution'!Y:Y,'Age Distribution'!$J:$J,\"=\"&'Summary Tables Age Distribution'!$D47)","v":28},{"$f":"SUMIFS('Age Distribution'!Z:Z,'Age Distribution'!$J:$J,\"=\"&'Summary Tables Age Distribution'!$D47)","v":234},{"$f":"SUMIFS('Age Distribution'!AA:AA,'Age Distribution'!$J:$J,\"=\"&'Summary Tables Age Distribution'!$D47)","v":0},{"$f":"SUMIFS('Age Distribution'!AB:AB,'Age Distribution'!$J:$J,\"=\"&'Summary Tables Age Distribution'!$D47)","v":0},{"$f":"SUMIFS('Age Distribution'!AC:AC,'Age Distribution'!$J:$J,\"=\"&'Summary Tables Age Distribution'!$D47)","v":0},{"$f":"SUMIFS('Age Distribution'!AD:AD,'Age Distribution'!$J:$J,\"=\"&'Summary Tables Age Distribution'!$D47)","v":0},{"$f":"SUMIFS('Age Distribution'!AE:AE,'Age Distribution'!$J:$J,\"=\"&'Summary Tables Age Distribution'!$D47)","v":596},{"$f":"SUMPRODUCT(--('Age Distribution'!$J:$J='Summary Tables Age Distribution'!$D47),'Age Distribution'!$AE:$AE,'Age Distribution'!AF:AF)/SUMIFS('Age Distribution'!$AE:$AE,'Age Distribution'!$J:$J,\"=\"&'Summary Tables Age Distribution'!$D47)","v":9.8758389261744828},{"$f":"SUMPRODUCT(--('Age Distribution'!$J:$J='Summary Tables Age Distribution'!$D47),'Age Distribution'!$AE:$AE,'Age Distribution'!AG:AG)/SUMIFS('Age Distribution'!$AE:$AE,'Age Distribution'!$J:$J,\"=\"&'Summary Tables Age Distribution'!$D47,'Age Distribution'!$AG:$AG,\"<>\")","v":177490.12585033555}]
[null,null,null,"Van",null,{"$f":"SUMIFS('Age Distribution'!L:L,'Age Distribution'!$J:$J,\"=\"&'Summary Tables Age Distribution'!$D48)","v":2669},{"$f":"SUMIFS('Age Distribution'!M:M,'Age Distribution'!$J:$J,\"=\"&'Summary Tables Age Distribution'!$D48)","v":3035},{"$f":"SUMIFS('Age Distribution'!N:N,'Age Distribution'!$J:$J,\"=\"&'Summary Tables Age Distribution'!$D48)","v":2189},{"$f":"SUMIFS('Age Distribution'!O:O,'Age Distribution'!$J:$J,\"=\"&'Summary Tables Age Distribution'!$D48)","v":1711},{"$f":"SUMIFS('Age Distribution'!P:P,'Age Distribution'!$J:$J,\"=\"&'Summary Tables Age Distribution'!$D48)","v":1919},{"$f":"SUMIFS('Age Distribution'!Q:Q,'Age Distribution'!$J:$J,\"=\"&'Summary Tables Age Distribution'!$D48)","v":1794},{"$f":"SUMIFS('Age Distribution'!R:R,'Age Distribution'!$J:$J,\"=\"&'Summary Tables Age Distribution'!$D48)","v":1418},{"$f":"SUMIFS('Age Distribution'!S:S,'Age Distribution'!$J:$J,\"=\"&'Summary Tables Age Distribution'!$D48)","v":914},{"$f":"SUMIFS('Age Distribution'!T:T,'Age Distribution'!$J:$J,\"=\"&'Summary Tables Age Distribution'!$D48)","v":840},{"$f":"SUMIFS('Age Distribution'!U:U,'Age Distribution'!$J:$J,\"=\"&'Summary Tables Age Distribution'!$D48)","v":781},{"$f":"SUMIFS('Age Distribution'!V:V,'Age Distribution'!$J:$J,\"=\"&'Summary Tables Age Distribution'!$D48)","v":468},{"$f":"SUMIFS('Age Distribution'!W:W,'Age Distribution'!$J:$J,\"=\"&'Summary Tables Age Distribution'!$D48)","v":303},{"$f":"SUMIFS('Age Distribution'!X:X,'Age Distribution'!$J:$J,\"=\"&'Summary Tables Age Distribution'!$D48)","v":289},{"$f":"SUMIFS('Age Distribution'!Y:Y,'Age Distribution'!$J:$J,\"=\"&'Summary Tables Age Distribution'!$D48)","v":269},{"$f":"SUMIFS('Age Distribution'!Z:Z,'Age Distribution'!$J:$J,\"=\"&'Summary Tables Age Distribution'!$D48)","v":136},{"$f":"SUMIFS('Age Distribution'!AA:AA,'Age Distribution'!$J:$J,\"=\"&'Summary Tables Age Distribution'!$D48)","v":7},{"$f":"SUMIFS('Age Distribution'!AB:AB,'Age Distribution'!$J:$J,\"=\"&'Summary Tables Age Distribution'!$D48)","v":1},{"$f":"SUMIFS('Age Distribution'!AC:AC,'Age Distribution'!$J:$J,\"=\"&'Summary Tables Age Distribution'!$D48)","v":0},{"$f":"SUMIFS('Age Distribution'!AD:AD,'Age Distribution'!$J:$J,\"=\"&'Summary Tables Age Distribution'!$D48)","v":0},{"$f":"SUMIFS('Age Distribution'!AE:AE,'Age Distribution'!$J:$J,\"=\"&'Summary Tables Age Distribution'!$D48)","v":18743},{"$f":"SUMPRODUCT(--('Age Distribution'!$J:$J='Summary Tables Age Distribution'!$D48),'Age Distribution'!$AE:$AE,'Age Distribution'!AF:AF)/SUMIFS('Age Distribution'!$AE:$AE,'Age Distribution'!$J:$J,\"=\"&'Summary Tables Age Distribution'!$D48)","v":4.0325988368991075},{"$f":"SUMPRODUCT(--('Age Distribution'!$J:$J='Summary Tables Age Distribution'!$D48),'Age Distribution'!$AE:$AE,'Age Distribution'!AG:AG)/SUMIFS('Age Distribution'!$AE:$AE,'Age Distribution'!$J:$J,\"=\"&'Summary Tables Age Distribution'!$D48,'Age Distribution'!$AG:$AG,\"<>\")","v":65392.020644966113}]
[null,null,null,"Vintage Trolley",null,{"$f":"SUMIFS('Age Distribution'!L:L,'Age Distribution'!$J:$J,\"=\"&'Summary Tables Age Distribution'!$D49)","v":0},{"$f":"SUMIFS('Age Distribution'!M:M,'Age Distribution'!$J:$J,\"=\"&'Summary Tables Age Distribution'!$D49)","v":0},{"$f":"SUMIFS('Age Distribution'!N:N,'Age Distribution'!$J:$J,\"=\"&'Summary Tables Age Distribution'!$D49)","v":0},{"$f":"SUMIFS('Age Distribution'!O:O,'Age Distribution'!$J:$J,\"=\"&'Summary Tables Age Distribution'!$D49)","v":0},{"$f":"SUMIFS('Age Distribution'!P:P,'Age Distribution'!$J:$J,\"=\"&'Summary Tables Age Distribution'!$D49)","v":0},{"$f":"SUMIFS('Age Distribution'!Q:Q,'Age Distribution'!$J:$J,\"=\"&'Summary Tables Age Distribution'!$D49)","v":0},{"$f":"SUMIFS('Age Distribution'!R:R,'Age Distribution'!$J:$J,\"=\"&'Summary Tables Age Distribution'!$D49)","v":0},{"$f":"SUMIFS('Age Distribution'!S:S,'Age Distribution'!$J:$J,\"=\"&'Summary Tables Age Distribution'!$D49)","v":0},{"$f":"SUMIFS('Age Distribution'!T:T,'Age Distribution'!$J:$J,\"=\"&'Summary Tables Age Distribution'!$D49)","v":0},{"$f":"SUMIFS('Age Distribution'!U:U,'Age Distribution'!$J:$J,\"=\"&'Summary Tables Age Distribution'!$D49)","v":0},{"$f":"SUMIFS('Age Distribution'!V:V,'Age Distribution'!$J:$J,\"=\"&'Summary Tables Age Distribution'!$D49)","v":0},{"$f":"SUMIFS('Age Distribution'!W:W,'Age Distribution'!$J:$J,\"=\"&'Summary Tables Age Distribution'!$D49)","v":0},{"$f":"SUMIFS('Age Distribution'!X:X,'Age Distribution'!$J:$J,\"=\"&'Summary Tables Age Distribution'!$D49)","v":2},{"$f":"SUMIFS('Age Distribution'!Y:Y,'Age Distribution'!$J:$J,\"=\"&'Summary Tables Age Distribution'!$D49)","v":0},{"$f":"SUMIFS('Age Distribution'!Z:Z,'Age Distribution'!$J:$J,\"=\"&'Summary Tables Age Distribution'!$D49)","v":3},{"$f":"SUMIFS('Age Distribution'!AA:AA,'Age Distribution'!$J:$J,\"=\"&'Summary Tables Age Distribution'!$D49)","v":0},{"$f":"SUMIFS('Age Distribution'!AB:AB,'Age Distribution'!$J:$J,\"=\"&'Summary Tables Age Distribution'!$D49)","v":0},{"$f":"SUMIFS('Age Distribution'!AC:AC,'Age Distribution'!$J:$J,\"=\"&'Summary Tables Age Distribution'!$D49)","v":0},{"$f":"SUMIFS('Age Distribution'!AD:AD,'Age Distribution'!$J:$J,\"=\"&'Summary Tables Age Distribution'!$D49)","v":68},{"$f":"SUMIFS('Age Distribution'!AE:AE,'Age Distribution'!$J:$J,\"=\"&'Summary Tables Age Distribution'!$D49)","v":73},{"$f":"SUMPRODUCT(--('Age Distribution'!$J:$J='Summary Tables Age Distribution'!$D49),'Age Distribution'!$AE:$AE,'Age Distribution'!AF:AF)/SUMIFS('Age Distribution'!$AE:$AE,'Age Distribution'!$J:$J,\"=\"&'Summary Tables Age Distribution'!$D49)","v":79.945205479452028},{"$f":"SUMPRODUCT(--('Age Distribution'!$J:$J='Summary Tables Age Distribution'!$D49),'Age Distribution'!$AE:$AE,'Age Distribution'!AG:AG)/SUMIFS('Age Distribution'!$AE:$AE,'Age Distribution'!$J:$J,\"=\"&'Summary Tables Age Distribution'!$D49,'Age Distribution'!$AG:$AG,\"<>\")","v":1181823.8630191782}]
[null,null,null,"Automobiles (Service)",null,{"$f":"SUMIFS('Age Distribution'!L:L,'Age Distribution'!$J:$J,\"=\"&'Summary Tables Age Distribution'!$D50)","v":253},{"$f":"SUMIFS('Age Distribution'!M:M,'Age Distribution'!$J:$J,\"=\"&'Summary Tables Age Distribution'!$D50)","v":692},{"$f":"SUMIFS('Age Distribution'!N:N,'Age Distribution'!$J:$J,\"=\"&'Summary Tables Age Distribution'!$D50)","v":712},{"$f":"SUMIFS('Age Distribution'!O:O,'Age Distribution'!$J:$J,\"=\"&'Summary Tables Age Distribution'!$D50)","v":706},{"$f":"SUMIFS('Age Distribution'!P:P,'Age Distribution'!$J:$J,\"=\"&'Summary Tables Age Distribution'!$D50)","v":614},{"$f":"SUMIFS('Age Distribution'!Q:Q,'Age Distribution'!$J:$J,\"=\"&'Summary Tables Age Distribution'!$D50)","v":552},{"$f":"SUMIFS('Age Distribution'!R:R,'Age Distribution'!$J:$J,\"=\"&'Summary Tables Age Distribution'!$D50)","v":556},{"$f":"SUMIFS('Age Distribution'!S:S,'Age Distribution'!$J:$J,\"=\"&'Summary Tables Age Distribution'!$D50)","v":406},{"$f":"SUMIFS('Age Distribution'!T:T,'Age Distribution'!$J:$J,\"=\"&'Summary Tables Age Distribution'!$D50)","v":526},{"$f":"SUMIFS('Age Distribution'!U:U,'Age Distribution'!$J:$J,\"=\"&'Summary Tables Age Distribution'!$D50)","v":568},{"$f":"SUMIFS('Age Distribution'!V:V,'Age Distribution'!$J:$J,\"=\"&'Summary Tables Age Distribution'!$D50)","v":602},{"$f":"SUMIFS('Age Distribution'!W:W,'Age Distribution'!$J:$J,\"=\"&'Summary Tables Age Distribution'!$D50)","v":377},{"$f":"SUMIFS('Age Distribution'!X:X,'Age Distribution'!$J:$J,\"=\"&'Summary Tables Age Distribution'!$D50)","v":210},{"$f":"SUMIFS('Age Distribution'!Y:Y,'Age Distribution'!$J:$J,\"=\"&'Summary Tables Age Distribution'!$D50)","v":459},{"$f":"SUMIFS('Age Distribution'!Z:Z,'Age Distribution'!$J:$J,\"=\"&'Summary Tables Age Distribution'!$D50)","v":355},{"$f":"SUMIFS('Age Distribution'!AA:AA,'Age Distribution'!$J:$J,\"=\"&'Summary Tables Age Distribution'!$D50)","v":46},{"$f":"SUMIFS('Age Distribution'!AB:AB,'Age Distribution'!$J:$J,\"=\"&'Summary Tables Age Distribution'!$D50)","v":21},{"$f":"SUMIFS('Age Distribution'!AC:AC,'Age Distribution'!$J:$J,\"=\"&'Summary Tables Age Distribution'!$D50)","v":7},{"$f":"SUMIFS('Age Distribution'!AD:AD,'Age Distribution'!$J:$J,\"=\"&'Summary Tables Age Distribution'!$D50)","v":0},{"$f":"SUMIFS('Age Distribution'!AE:AE,'Age Distribution'!$J:$J,\"=\"&'Summary Tables Age Distribution'!$D50)","v":7662},{"$f":"SUMPRODUCT(--('Age Distribution'!$J:$J='Summary Tables Age Distribution'!$D50),'Age Distribution'!$AE:$AE,'Age Distribution'!AF:AF)/SUMIFS('Age Distribution'!$AE:$AE,'Age Distribution'!$J:$J,\"=\"&'Summary Tables Age Distribution'!$D50)","v":0},"-"]
[null,null,null,"Trucks And Other Rubber Tire Vehicles (Service)",null,{"$f":"SUMIFS('Age Distribution'!L:L,'Age Distribution'!$J:$J,\"=\"&'Summary Tables Age Distribution'!$D51)","v":1109},{"$f":"SUMIFS('Age Distribution'!M:M,'Age Distribution'!$J:$J,\"=\"&'Summary Tables Age Distribution'!$D51)","v":1710},{"$f":"SUMIFS('Age Distribution'!N:N,'Age Distribution'!$J:$J,\"=\"&'Summary Tables Age Distribution'!$D51)","v":1817},{"$f":"SUMIFS('Age Distribution'!O:O,'Age Distribution'!$J:$J,\"=\"&'Summary Tables Age Distribution'!$D51)","v":1912},{"$f":"SUMIFS('Age Distribution'!P:P,'Age Distribution'!$J:$J,\"=\"&'Summary Tables Age Distribution'!$D51)","v":1275},{"$f":"SUMIFS('Age Distribution'!Q:Q,'Age Distribution'!$J:$J,\"=\"&'Summary Tables Age Distribution'!$D51)","v":1382},{"$f":"SUMIFS('Age Distribution'!R:R,'Age Distribution'!$J:$J,\"=\"&'Summary Tables Age Distribution'!$D51)","v":1319},{"$f":"SUMIFS('Age Distribution'!S:S,'Age Distribution'!$J:$J,\"=\"&'Summary Tables Age Distribution'!$D51)","v":1092},{"$f":"SUMIFS('Age Distribution'!T:T,'Age Distribution'!$J:$J,\"=\"&'Summary Tables Age Distribution'!$D51)","v":946},{"$f":"SUMIFS('Age Distribution'!U:U,'Age Distribution'!$J:$J,\"=\"&'Summary Tables Age Distribution'!$D51)","v":1192},{"$f":"SUMIFS('Age Distribution'!V:V,'Age Distribution'!$J:$J,\"=\"&'Summary Tables Age Distribution'!$D51)","v":1275},{"$f":"SUMIFS('Age Distribution'!W:W,'Age Distribution'!$J:$J,\"=\"&'Summary Tables Age Distribution'!$D51)","v":880},{"$f":"SUMIFS('Age Distribution'!X:X,'Age Distribution'!$J:$J,\"=\"&'Summary Tables Age Distribution'!$D51)","v":567},{"$f":"SUMIFS('Age Distribution'!Y:Y,'Age Distribution'!$J:$J,\"=\"&'Summary Tables Age Distribution'!$D51)","v":1476},{"$f":"SUMIFS('Age Distribution'!Z:Z,'Age Distribution'!$J:$J,\"=\"&'Summary Tables Age Distribution'!$D51)","v":1372},{"$f":"SUMIFS('Age Distribution'!AA:AA,'Age Distribution'!$J:$J,\"=\"&'Summary Tables Age Distribution'!$D51)","v":433},{"$f":"SUMIFS('Age Distribution'!AB:AB,'Age Distribution'!$J:$J,\"=\"&'Summary Tables Age Distribution'!$D51)","v":260},{"$f":"SUMIFS('Age Distribution'!AC:AC,'Age Distribution'!$J:$J,\"=\"&'Summary Tables Age Distribution'!$D51)","v":154},{"$f":"SUMIFS('Age Distribution'!AD:AD,'Age Distribution'!$J:$J,\"=\"&'Summary Tables Age Distribution'!$D51)","v":2},{"$f":"SUMIFS('Age Distribution'!AE:AE,'Age Distribution'!$J:$J,\"=\"&'Summary Tables Age Distribution'!$D51)","v":20173},{"$f":"SUMPRODUCT(--('Age Distribution'!$J:$J='Summary Tables Age Distribution'!$D51),'Age Distribution'!$AE:$AE,'Age Distribution'!AF:AF)/SUMIFS('Age Distribution'!$AE:$AE,'Age Distribution'!$J:$J,\"=\"&'Summary Tables Age Distribution'!$D51)","v":0},"-"]
[null,null,null,"Steel Wheel Vehicles (Service)",null,{"$f":"SUMIFS('Age Distribution'!L:L,'Age Distribution'!$J:$J,\"=\"&'Summary Tables Age Distribution'!$D52)","v":12},{"$f":"SUMIFS('Age Distribution'!M:M,'Age Distribution'!$J:$J,\"=\"&'Summary Tables Age Distribution'!$D52)","v":13},{"$f":"SUMIFS('Age Distribution'!N:N,'Age Distribution'!$J:$J,\"=\"&'Summary Tables Age Distribution'!$D52)","v":42},{"$f":"SUMIFS('Age Distribution'!O:O,'Age Distribution'!$J:$J,\"=\"&'Summary Tables Age Distribution'!$D52)","v":53},{"$f":"SUMIFS('Age Distribution'!P:P,'Age Distribution'!$J:$J,\"=\"&'Summary Tables Age Distribution'!$D52)","v":23},{"$f":"SUMIFS('Age Distribution'!Q:Q,'Age Distribution'!$J:$J,\"=\"&'Summary Tables Age Distribution'!$D52)","v":55},{"$f":"SUMIFS('Age Distribution'!R:R,'Age Distribution'!$J:$J,\"=\"&'Summary Tables Age Distribution'!$D52)","v":77},{"$f":"SUMIFS('Age Distribution'!S:S,'Age Distribution'!$J:$J,\"=\"&'Summary Tables Age Distribution'!$D52)","v":47},{"$f":"SUMIFS('Age Distribution'!T:T,'Age Distribution'!$J:$J,\"=\"&'Summary Tables Age Distribution'!$D52)","v":28},{"$f":"SUMIFS('Age Distribution'!U:U,'Age Distribution'!$J:$J,\"=\"&'Summary Tables Age Distribution'!$D52)","v":59},{"$f":"SUMIFS('Age Distribution'!V:V,'Age Distribution'!$J:$J,\"=\"&'Summary Tables Age Distribution'!$D52)","v":57},{"$f":"SUMIFS('Age Distribution'!W:W,'Age Distribution'!$J:$J,\"=\"&'Summary Tables Age Distribution'!$D52)","v":53},{"$f":"SUMIFS('Age Distribution'!X:X,'Age Distribution'!$J:$J,\"=\"&'Summary Tables Age Distribution'!$D52)","v":23},{"$f":"SUMIFS('Age Distribution'!Y:Y,'Age Distribution'!$J:$J,\"=\"&'Summary Tables Age Distribution'!$D52)","v":99},{"$f":"SUMIFS('Age Distribution'!Z:Z,'Age Distribution'!$J:$J,\"=\"&'Summary Tables Age Distribution'!$D52)","v":177},{"$f":"SUMIFS('Age Distribution'!AA:AA,'Age Distribution'!$J:$J,\"=\"&'Summary Tables Age Distribution'!$D52)","v":136},{"$f":"SUMIFS('Age Distribution'!AB:AB,'Age Distribution'!$J:$J,\"=\"&'Summary Tables Age Distribution'!$D52)","v":136},{"$f":"SUMIFS('Age Distribution'!AC:AC,'Age Distribution'!$J:$J,\"=\"&'Summary Tables Age Distribution'!$D52)","v":530},{"$f":"SUMIFS('Age Distribution'!AD:AD,'Age Distribution'!$J:$J,\"=\"&'Summary Tables Age Distribution'!$D52)","v":47},{"$f":"SUMIFS('Age Distribution'!AE:AE,'Age Distribution'!$J:$J,\"=\"&'Summary Tables Age Distribution'!$D52)","v":1667},{"$f":"SUMPRODUCT(--('Age Distribution'!$J:$J='Summary Tables Age Distribution'!$D52),'Age Distribution'!$AE:$AE,'Age Distribution'!AF:AF)/SUMIFS('Age Distribution'!$AE:$AE,'Age Distribution'!$J:$J,\"=\"&'Summary Tables Age Distribution'!$D52)","v":0},"-"]
[]
["By Agency Size (Vehicles)"]
[null,null,null,null,null,"Active Vehicles By Age Grouping (in Years)"]
[null,null,null,"enter bins below","click to graph","0","1","2","3","4","5","6","7","8","9","10","11","12","13-15","16-20","21-25","26-30","31-60","60+","Total Active Fleet","Average Age of Fleet (in Years)","Average Lifetime Miles per Vehicle"]
["Under",{"$f":"D57","v":10},null,10,{"$f":"IFERROR(IF(A57=\"Between\",A57&\" \"&FIXED(B57,0,0)&\" \"&C57&\" \"&FIXED(D57,0,0),A57&\" \"&FIXED(B57,0,0)),\"invalid bin\")","v":"Under 10"},{"$f":"SUMIFS('Age Distribution'!L:L,'Age Distribution'!$I:$I,\"<\"&$D57)","v":458},{"$f":"SUMIFS('Age Distribution'!M:M,'Age Distribution'!$I:$I,\"<\"&$D57)","v":1161},{"$f":"SUMIFS('Age Distribution'!N:N,'Age Distribution'!$I:$I,\"<\"&$D57)","v":1163},{"$f":"SUMIFS('Age Distribution'!O:O,'Age Distribution'!$I:$I,\"<\"&$D57)","v":1099},{"$f":"SUMIFS('Age Distribution'!P:P,'Age Distribution'!$I:$I,\"<\"&$D57)","v":710},{"$f":"SUMIFS('Age Distribution'!Q:Q,'Age Distribution'!$I:$I,\"<\"&$D57)","v":877},{"$f":"SUMIFS('Age Distribution'!R:R,'Age Distribution'!$I:$I,\"<\"&$D57)","v":682},{"$f":"SUMIFS('Age Distribution'!S:S,'Age Distribution'!$I:$I,\"<\"&$D57)","v":687},{"$f":"SUMIFS('Age Distribution'!T:T,'Age Distribution'!$I:$I,\"<\"&$D57)","v":864},{"$f":"SUMIFS('Age Distribution'!U:U,'Age Distribution'!$I:$I,\"<\"&$D57)","v":533},{"$f":"SUMIFS('Age Distribution'!V:V,'Age Distribution'!$I:$I,\"<\"&$D57)","v":459},{"$f":"SUMIFS('Age Distribution'!W:W,'Age Distribution'!$I:$I,\"<\"&$D57)","v":301},{"$f":"SUMIFS('Age Distribution'!X:X,'Age Distribution'!$I:$I,\"<\"&$D57)","v":241},{"$f":"SUMIFS('Age Distribution'!Y:Y,'Age Distribution'!$I:$I,\"<\"&$D57)","v":410},{"$f":"SUMIFS('Age Distribution'!Z:Z,'Age Distribution'!$I:$I,\"<\"&$D57)","v":255},{"$f":"SUMIFS('Age Distribution'!AA:AA,'Age Distribution'!$I:$I,\"<\"&$D57)","v":47},{"$f":"SUMIFS('Age Distribution'!AB:AB,'Age Distribution'!$I:$I,\"<\"&$D57)","v":21},{"$f":"SUMIFS('Age Distribution'!AC:AC,'Age Distribution'!$I:$I,\"<\"&$D57)","v":64},{"$f":"SUMIFS('Age Distribution'!AD:AD,'Age Distribution'!$I:$I,\"<\"&$D57)","v":7},{"$f":"SUMIFS('Age Distribution'!AE:AE,'Age Distribution'!$I:$I,\"<\"&$D57)","v":10039},{"$f":"SUMPRODUCT(--('Age Distribution'!$I2:$I6545<$D57),'Age Distribution'!$AE2:$AE6545,'Age Distribution'!AF2:AF6545)/SUMIFS('Age Distribution'!$AE2:$AE6545,'Age Distribution'!$I2:$I6545,\"<\"&$D57)","v":5.7870462870462873},{"$f":"SUMPRODUCT(--('Age Distribution'!$I2:$I6545<$D57),'Age Distribution'!$AE2:$AE6545,'Age Distribution'!AG2:AG6545)/SUMIFS('Age Distribution'!$AE2:$AE6545,'Age Distribution'!$I2:$I6545,\"<\"&$D57,'Age Distribution'!$AG$2:$AG$6545,\"<>\")","v":40662.833391366126}]
[{"$f":"IF(D58<>\"\",\"Between\",\"Over\")","v":"Between"},{"$f":"D57","v":10},{"$f":"IF(D58<>\"\",\"and\",\"\")","v":"and"},25,"Between 10 and 25",{"$f":"IF($A58=\"Between\",SUMIFS('Age Distribution'!L:L,'Age Distribution'!$I:$I,\">=\"&$B58,'Age Distribution'!$I:$I,\"<\"&$D58),SUMIFS('Age Distribution'!L:L,'Age Distribution'!$I:$I,\">=\"&$B58))","v":730},{"$f":"IF($A58=\"Between\",SUMIFS('Age Distribution'!M:M,'Age Distribution'!$I:$I,\">=\"&$B58,'Age Distribution'!$I:$I,\"<\"&$D58),SUMIFS('Age Distribution'!M:M,'Age Distribution'!$I:$I,\">=\"&$B58))","v":1300},{"$f":"IF($A58=\"Between\",SUMIFS('Age Distribution'!N:N,'Age Distribution'!$I:$I,\">=\"&$B58,'Age Distribution'!$I:$I,\"<\"&$D58),SUMIFS('Age Distribution'!N:N,'Age Distribution'!$I:$I,\">=\"&$B58))","v":1439},{"$f":"IF($A58=\"Between\",SUMIFS('Age Distribution'!O:O,'Age Distribution'!$I:$I,\">=\"&$B58,'Age Distribution'!$I:$I,\"<\"&$D58),SUMIFS('Age Distribution'!O:O,'Age Distribution'!$I:$I,\">=\"&$B58))","v":1176},{"$f":"IF($A58=\"Between\",SUMIFS('Age Distribution'!P:P,'Age Distribution'!$I:$I,\">=\"&$B58,'Age Distribution'!$I:$I,\"<\"&$D58),SUMIFS('Age Distribution'!P:P,'Age Distribution'!$I:$I,\">=\"&$B58))","v":940},{"$f":"IF($A58=\"Between\",SUMIFS('Age Distribution'!Q:Q,'Age Distribution'!$I:$I,\">=\"&$B58,'Age Distribution'!$I:$I,\"<\"&$D58),SUMIFS('Age Distribution'!Q:Q,'Age Distribution'!$I:$I,\">=\"&$B58))","v":1005},{"$f":"IF($A58=\"Between\",SUMIFS('Age Distribution'!R:R,'Age Distribution'!$I:$I,\">=\"&$B58,'Age Distribution'!$I:$I,\"<\"&$D58),SUMIFS('Age Distribution'!R:R,'Age Distribution'!$I:$I,\">=\"&$B58))","v":876},{"$f":"IF($A58=\"Between\",SUMIFS('Age Distribution'!S:S,'Age Distribution'!$I:$I,\">=\"&$B58,'Age Distribution'!$I:$I,\"<\"&$D58),SUMIFS('Age Distribution'!S:S,'Age Distribution'!$I:$I,\">=\"&$B58))","v":838},{"$f":"IF($A58=\"Between\",SUMIFS('Age Distribution'!T:T,'Age Distribution'!$I:$I,\">=\"&$B58,'Age Distribution'!$I:$I,\"<\"&$D58),SUMIFS('Age Distribution'!T:T,'Age Distribution'!$I:$I,\">=\"&$B58))","v":1259},{"$f":"IF($A58=\"Between\",SUMIFS('Age Distribution'!U:U,'Age Distribution'!$I:$I,\">=\"&$B58,'Age Distribution'!$I:$I,\"<\"&$D58),SUMIFS('Age Distribution'!U:U,'Age Distribution'!$I:$I,\">=\"&$B58))","v":935},{"$f":"IF($A58=\"Between\",SUMIFS('Age Distribution'!V:V,'Age Distribution'!$I:$I,\">=\"&$B58,'Age Distribution'!$I:$I,\"<\"&$D58),SUMIFS('Age Distribution'!V:V,'Age Distribution'!$I:$I,\">=\"&$B58))","v":600},{"$f":"IF($A58=\"Between\",SUMIFS('Age Distribution'!W:W,'Age Distribution'!$I:$I,\">=\"&$B58,'Age Distribution'!$I:$I,\"<\"&$D58),SUMIFS('Age Distribution'!W:W,'Age Distribution'!$I:$I,\">=\"&$B58))","v":397},{"$f":"IF($A58=\"Between\",SUMIFS('Age Distribution'!X:X,'Age Distribution'!$I:$I,\">=\"&$B58,'Age Distribution'!$I:$I,\"<\"&$D58),SUMIFS('Age Distribution'!X:X,'Age Distribution'!$I:$I,\">=\"&$B58))","v":309},{"$f":"IF($A58=\"Between\",SUMIFS('Age Distribution'!Y:Y,'Age Distribution'!$I:$I,\">=\"&$B58,'Age Distribution'!$I:$I,\"<\"&$D58),SUMIFS('Age Distribution'!Y:Y,'Age Distribution'!$I:$I,\">=\"&$B58))","v":627},{"$f":"IF($A58=\"Between\",SUMIFS('Age Distribution'!Z:Z,'Age Distribution'!$I:$I,\">=\"&$B58,'Age Distribution'!$I:$I,\"<\"&$D58),SUMIFS('Age Distribution'!Z:Z,'Age Distribution'!$I:$I,\">=\"&$B58))","v":409},{"$f":"IF($A58=\"Between\",SUMIFS('Age Distribution'!AA:AA,'Age Distribution'!$I:$I,\">=\"&$B58,'Age Distribution'!$I:$I,\"<\"&$D58),SUMIFS('Age Distribution'!AA:AA,'Age Distribution'!$I:$I,\">=\"&$B58))","v":113},{"$f":"IF($A58=\"Between\",SUMIFS('Age Distribution'!AB:AB,'Age Distribution'!$I:$I,\">=\"&$B58,'Age Distribution'!$I:$I,\"<\"&$D58),SUMIFS('Age Distribution'!AB:AB,'Age Distribution'!$I:$I,\">=\"&$B58))","v":20},{"$f":"IF($A58=\"Between\",SUMIFS('Age Distribution'!AC:AC,'Age Distribution'!$I:$I,\">=\"&$B58,'Age Distribution'!$I:$I,\"<\"&$D58),SUMIFS('Age Distribution'!AC:AC,'Age Distribution'!$I:$I,\">=\"&$B58))","v":29},{"$f":"IF($A58=\"Between\",SUMIFS('Age Distribution'!AD:AD,'Age Distribution'!$I:$I,\">=\"&$B58,'Age Distribution'!$I:$I,\"<\"&$D58),SUMIFS('Age Distribution'!AD:AD,'Age Distribution'!$I:$I,\">=\"&$B58))","v":1},{"$f":"IF($A58=\"Between\",SUMIFS('Age Distribution'!AE:AE,'Age Distribution'!$I:$I,\">=\"&$B58,'Age Distribution'!$I:$I,\"<\"&$D58),SUMIFS('Age Distribution'!AE:AE,'Age Distribution'!$I:$I,\">=\"&$B58))","v":13003},{"$f":"IF($A58=\"Between\",SUMPRODUCT(--('Age Distribution'!$I$2:$I$6545<$D58),--('Age Distribution'!$I$2:$I$6545>=$B58),'Age Distribution'!$AE$2:$AE$6545,'Age Distribution'!AF$2:AF$6545)/SUMIFS('Age Distribution'!$AE$2:$AE$6545,'Age Distribution'!$I$2:$I$6545,\"<\"&$D58,'Age Distribution'!$I$2:$I$6545,\">=\"&$B58),SUMPRODUCT(--('Age Distribution'!$I$2:$I$6545>=$B58),'Age Distribution'!$AE$2:$AE$6545,'Age Distribution'!AF$2:AF$6545)/SUMIFS('Age Distribution'!$AE$2:$AE$6545,'Age Distribution'!$I$2:$I$6545,\">=\"&$B58))","v":5.6012458663385365},{"$f":"IF($A58=\"Between\",SUMPRODUCT(--('Age Distribution'!$I$2:$I$6545<$D58),--('Age Distribution'!$I$2:$I$6545>=$B58),'Age Distribution'!$AE$2:$AE$6545,'Age Distribution'!AG$2:AG$6545)/SUMIFS('Age Distribution'!$AE$2:$AE$6545,'Age Distribution'!$I$2:$I$6545,\"<\"&$D58,'Age Distribution'!$I$2:$I$6545,\">=\"&$B58,'Age Distribution'!$AG$2:$AG$6545,\"<>\"),SUMPRODUCT(--('Age Distribution'!$I$2:$I$6545>=$B58),'Age Distribution'!$AE$2:$AE$6545,'Age Distribution'!AG$2:AG$6545)/SUMIFS('Age Distribution'!$AE$2:$AE$6545,'Age Distribution'!$I$2:$I$6545,\">=\"&$B58,'Age Distribution'!$AG$2:$AG$6545,\"<>\"))","v":75365.998263770845}]
[{"$f":"IF(OR(A58=\"Over\",A58=\"\"),\"\",IF(D59=\"\",\"Over\",\"Between\"))","v":"Between"},{"$f":"IF(D58=\"\",\"\",D58)","v":25},{"$f":"IF(D59<>\"\",\"and\",\"\")","v":"and"},50,"Between 25 and 50",{"$f":"IF($A59=\"\",\"\",IF($A59=\"Between\",SUMIFS('Age Distribution'!L:L,'Age Distribution'!$I:$I,\">=\"&$B59,'Age Distribution'!$I:$I,\"<\"&$D59),SUMIFS('Age Distribution'!L:L,'Age Distribution'!$I:$I,\">=\"&$B59)))","v":803},{"$f":"IF($A59=\"\",\"\",IF($A59=\"Between\",SUMIFS('Age Distribution'!M:M,'Age Distribution'!$I:$I,\">=\"&$B59,'Age Distribution'!$I:$I,\"<\"&$D59),SUMIFS('Age Distribution'!M:M,'Age Distribution'!$I:$I,\">=\"&$B59)))","v":1571},{"$f":"IF($A59=\"\",\"\",IF($A59=\"Between\",SUMIFS('Age Distribution'!N:N,'Age Distribution'!$I:$I,\">=\"&$B59,'Age Distribution'!$I:$I,\"<\"&$D59),SUMIFS('Age Distribution'!N:N,'Age Distribution'!$I:$I,\">=\"&$B59)))","v":1360},{"$f":"IF($A59=\"\",\"\",IF($A59=\"Between\",SUMIFS('Age Distribution'!O:O,'Age Distribution'!$I:$I,\">=\"&$B59,'Age Distribution'!$I:$I,\"<\"&$D59),SUMIFS('Age Distribution'!O:O,'Age Distribution'!$I:$I,\">=\"&$B59)))","v":1273},{"$f":"IF($A59=\"\",\"\",IF($A59=\"Between\",SUMIFS('Age Distribution'!P:P,'Age Distribution'!$I:$I,\">=\"&$B59,'Age Distribution'!$I:$I,\"<\"&$D59),SUMIFS('Age Distribution'!P:P,'Age Distribution'!$I:$I,\">=\"&$B59)))","v":1206},{"$f":"IF($A59=\"\",\"\",IF($A59=\"Between\",SUMIFS('Age Distribution'!Q:Q,'Age Distribution'!$I:$I,\">=\"&$B59,'Age Distribution'!$I:$I,\"<\"&$D59),SUMIFS('Age Distribution'!Q:Q,'Age Distribution'!$I:$I,\">=\"&$B59)))","v":1316},{"$f":"IF($A59=\"\",\"\",IF($A59=\"Between\",SUMIFS('Age Distribution'!R:R,'Age Distribution'!$I:$I,\">=\"&$B59,'Age Distribution'!$I:$I,\"<\"&$D59),SUMIFS('Age Distribution'!R:R,'Age Distribution'!$I:$I,\">=\"&$B59)))","v":991},{"$f":"IF($A59=\"\",\"\",IF($A59=\"Between\",SUMIFS('Age Distribution'!S:S,'Age Distribution'!$I:$I,\">=\"&$B59,'Age Distribution'!$I:$I,\"<\"&$D59),SUMIFS('Age Distribution'!S:S,'Age Distribution'!$I:$I,\">=\"&$B59)))","v":1033},{"$f":"IF($A59=\"\",\"\",IF($A59=\"Between\",SUMIFS('Age Distribution'!T:T,'Age Distribution'!$I:$I,\">=\"&$B59,'Age Distribution'!$I:$I,\"<\"&$D59),SUMIFS('Age Distribution'!T:T,'Age Distribution'!$I:$I,\">=\"&$B59)))","v":1275},{"$f":"IF($A59=\"\",\"\",IF($A59=\"Between\",SUMIFS('Age Distribution'!U:U,'Age Distribution'!$I:$I,\">=\"&$B59,'Age Distribution'!$I:$I,\"<\"&$D59),SUMIFS('Age Distribution'!U:U,'Age Distribution'!$I:$I,\">=\"&$B59)))","v":1137},{"$f":"IF($A59=\"\",\"\",IF($A59=\"Between\",SUMIFS('Age Distribution'!V:V,'Age Distribution'!$I:$I,\">=\"&$B59,'Age Distribution'!$I:$I,\"<\"&$D59),SUMIFS('Age Distribution'!V:V,'Age Distribution'!$I:$I,\">=\"&$B59)))","v":787},{"$f":"IF($A59=\"\",\"\",IF($A59=\"Between\",SUMIFS('Age Distribution'!W:W,'Age Distribution'!$I:$I,\">=\"&$B59,'Age Distribution'!$I:$I,\"<\"&$D59),SUMIFS('Age Distribution'!W:W,'Age Distribution'!$I:$I,\">=\"&$B59)))","v":497},{"$f":"IF($A59=\"\",\"\",IF($A59=\"Between\",SUMIFS('Age Distribution'!X:X,'Age Distribution'!$I:$I,\">=\"&$B59,'Age Distribution'!$I:$I,\"<\"&$D59),SUMIFS('Age Distribution'!X:X,'Age Distribution'!$I:$I,\">=\"&$B59)))","v":375},{"$f":"IF($A59=\"\",\"\",IF($A59=\"Between\",SUMIFS('Age Distribution'!Y:Y,'Age Distribution'!$I:$I,\">=\"&$B59,'Age Distribution'!$I:$I,\"<\"&$D59),SUMIFS('Age Distribution'!Y:Y,'Age Distribution'!$I:$I,\">=\"&$B59)))","v":841},{"$f":"IF($A59=\"\",\"\",IF($A59=\"Between\",SUMIFS('Age Distribution'!Z:Z,'Age Distribution'!$I:$I,\">=\"&$B59,'Age Distribution'!$I:$I,\"<\"&$D59),SUMIFS('Age Distribution'!Z:Z,'Age Distribution'!$I:$I,\">=\"&$B59)))","v":601},{"$f":"IF($A59=\"\",\"\",IF($A59=\"Between\",SUMIFS('Age Distribution'!AA:AA,'Age Distribution'!$I:$I,\">=\"&$B59,'Age Distribution'!$I:$I,\"<\"&$D59),SUMIFS('Age Distribution'!AA:AA,'Age Distribution'!$I:$I,\">=\"&$B59)))","v":128},{"$f":"IF($A59=\"\",\"\",IF($A59=\"Between\",SUMIFS('Age Distribution'!AB:AB,'Age Distribution'!$I:$I,\">=\"&$B59,'Age Distribution'!$I:$I,\"<\"&$D59),SUMIFS('Age Distribution'!AB:AB,'Age Distribution'!$I:$I,\">=\"&$B59)))","v":41},{"$f":"IF($A59=\"\",\"\",IF($A59=\"Between\",SUMIFS('Age Distribution'!AC:AC,'Age Distribution'!$I:$I,\">=\"&$B59,'Age Distribution'!$I:$I,\"<\"&$D59),SUMIFS('Age Distribution'!AC:AC,'Age Distribution'!$I:$I,\">=\"&$B59)))","v":197},{"$f":"IF($A59=\"\",\"\",IF($A59=\"Between\",SUMIFS('Age Distribution'!AD:AD,'Age Distribution'!$I:$I,\">=\"&$B59,'Age Distribution'!$I:$I,\"<\"&$D59),SUMIFS('Age Distribution'!AD:AD,'Age Distribution'!$I:$I,\">=\"&$B59)))","v":6},{"$f":"IF($A59=\"\",\"\",IF($A59=\"Between\",SUMIFS('Age Distribution'!AE:AE,'Age Distribution'!$I:$I,\">=\"&$B59,'Age Distribution'!$I:$I,\"<\"&$D59),SUMIFS('Age Distribution'!AE:AE,'Age Distribution'!$I:$I,\">=\"&$B59)))","v":15438},{"$f":"IF($A59=\"\",\"\",IF($A59=\"Between\",SUMPRODUCT(--('Age Distribution'!$I$2:$I$6545<$D59),--('Age Distribution'!$I$2:$I$6545>=$B59),'Age Distribution'!$AE$2:$AE$6545,'Age Distribution'!AF$2:AF$6545)/SUMIFS('Age Distribution'!$AE$2:$AE$6545,'Age Distribution'!$I$2:$I$6545,\"<\"&$D59,'Age Distribution'!$I$2:$I$6545,\">=\"&$B59),SUMPRODUCT(--('Age Distribution'!$I$2:$I$6545>=$B59),'Age Distribution'!$AE$2:$AE$6545,'Age Distribution'!AF$2:AF$6545)/SUMIFS('Age Distribution'!$AE$2:$AE$6545,'Age Distribution'!$I$2:$I$6545,\">=\"&$B59)))","v":5.9505117243166188},{"$f":"IF($A59=\"\",\"\",IF($A59=\"Between\",SUMPRODUCT(--('Age Distribution'!$I$2:$I$6545<$D59),--('Age Distribution'!$I$2:$I$6545>=$B59),'Age Distribution'!$AE$2:$AE$6545,'Age Distribution'!AG$2:AG$6545)/SUMIFS('Age Distribution'!$AE$2:$AE$6545,'Age Distribution'!$I$2:$I$6545,\"<\"&$D59,'Age Distribution'!$I$2:$I$6545,\">=\"&$B59,'Age Distribution'!$AG$2:$AG$6545,\"<>\"),SUMPRODUCT(--('Age Distribution'!$I$2:$I$6545>=$B59),'Age Distribution'!$AE$2:$AE$6545,'Age Distribution'!AG$2:AG$6545)/SUMIFS('Age Distribution'!$AE$2:$AE$6545,'Age Distribution'!$I$2:$I$6545,\">=\"&$B59,'Age Distribution'!$AG$2:$AG$6545,\"<>\")))","v":134450.11644500942}]
["Between",50,{"$f":"IF(D60<>\"\",\"and\",\"\")","v":"and"},100,"Between 50 and 100",{"$f":"IF($A60=\"\",\"\",IF($A60=\"Between\",SUMIFS('Age Distribution'!L:L,'Age Distribution'!$I:$I,\">=\"&$B60,'Age Distribution'!$I:$I,\"<\"&$D60),SUMIFS('Age Distribution'!L:L,'Age Distribution'!$I:$I,\">=\"&$B60)))","v":925},{"$f":"IF($A60=\"\",\"\",IF($A60=\"Between\",SUMIFS('Age Distribution'!M:M,'Age Distribution'!$I:$I,\">=\"&$B60,'Age Distribution'!$I:$I,\"<\"&$D60),SUMIFS('Age Distribution'!M:M,'Age Distribution'!$I:$I,\">=\"&$B60)))","v":2178},{"$f":"IF($A60=\"\",\"\",IF($A60=\"Between\",SUMIFS('Age Distribution'!N:N,'Age Distribution'!$I:$I,\">=\"&$B60,'Age Distribution'!$I:$I,\"<\"&$D60),SUMIFS('Age Distribution'!N:N,'Age Distribution'!$I:$I,\">=\"&$B60)))","v":1979},{"$f":"IF($A60=\"\",\"\",IF($A60=\"Between\",SUMIFS('Age Distribution'!O:O,'Age Distribution'!$I:$I,\">=\"&$B60,'Age Distribution'!$I:$I,\"<\"&$D60),SUMIFS('Age Distribution'!O:O,'Age Distribution'!$I:$I,\">=\"&$B60)))","v":1243},{"$f":"IF($A60=\"\",\"\",IF($A60=\"Between\",SUMIFS('Age Distribution'!P:P,'Age Distribution'!$I:$I,\">=\"&$B60,'Age Distribution'!$I:$I,\"<\"&$D60),SUMIFS('Age Distribution'!P:P,'Age Distribution'!$I:$I,\">=\"&$B60)))","v":1273},{"$f":"IF($A60=\"\",\"\",IF($A60=\"Between\",SUMIFS('Age Distribution'!Q:Q,'Age Distribution'!$I:$I,\">=\"&$B60,'Age Distribution'!$I:$I,\"<\"&$D60),SUMIFS('Age Distribution'!Q:Q,'Age Distribution'!$I:$I,\">=\"&$B60)))","v":1243},{"$f":"IF($A60=\"\",\"\",IF($A60=\"Between\",SUMIFS('Age Distribution'!R:R,'Age Distribution'!$I:$I,\">=\"&$B60,'Age Distribution'!$I:$I,\"<\"&$D60),SUMIFS('Age Distribution'!R:R,'Age Distribution'!$I:$I,\">=\"&$B60)))","v":1075},{"$f":"IF($A60=\"\",\"\",IF($A60=\"Between\",SUMIFS('Age Distribution'!S:S,'Age Distribution'!$I:$I,\">=\"&$B60,'Age Distribution'!$I:$I,\"<\"&$D60),SUMIFS('Age Distribution'!S:S,'Age Distribution'!$I:$I,\">=\"&$B60)))","v":940},{"$f":"IF($A60=\"\",\"\",IF($A60=\"Between\",SUMIFS('Age Distribution'!T:T,'Age Distribution'!$I:$I,\">=\"&$B60,'Age Distribution'!$I:$I,\"<\"&$D60),SUMIFS('Age Distribution'!T:T,'Age Distribution'!$I:$I,\">=\"&$B60)))","v":1416},{"$f":"IF($A60=\"\",\"\",IF($A60=\"Between\",SUMIFS('Age Distribution'!U:U,'Age Distribution'!$I:$I,\">=\"&$B60,'Age Distribution'!$I:$I,\"<\"&$D60),SUMIFS('Age Distribution'!U:U,'Age Distribution'!$I:$I,\">=\"&$B60)))","v":1222},{"$f":"IF($A60=\"\",\"\",IF($A60=\"Between\",SUMIFS('Age Distribution'!V:V,'Age Distribution'!$I:$I,\">=\"&$B60,'Age Distribution'!$I:$I,\"<\"&$D60),SUMIFS('Age Distribution'!V:V,'Age Distribution'!$I:$I,\">=\"&$B60)))","v":961},{"$f":"IF($A60=\"\",\"\",IF($A60=\"Between\",SUMIFS('Age Distribution'!W:W,'Age Distribution'!$I:$I,\">=\"&$B60,'Age Distribution'!$I:$I,\"<\"&$D60),SUMIFS('Age Distribution'!W:W,'Age Distribution'!$I:$I,\">=\"&$B60)))","v":516},{"$f":"IF($A60=\"\",\"\",IF($A60=\"Between\",SUMIFS('Age Distribution'!X:X,'Age Distribution'!$I:$I,\">=\"&$B60,'Age Distribution'!$I:$I,\"<\"&$D60),SUMIFS('Age Distribution'!X:X,'Age Distribution'!$I:$I,\">=\"&$B60)))","v":566},{"$f":"IF($A60=\"\",\"\",IF($A60=\"Between\",SUMIFS('Age Distribution'!Y:Y,'Age Distribution'!$I:$I,\">=\"&$B60,'Age Distribution'!$I:$I,\"<\"&$D60),SUMIFS('Age Distribution'!Y:Y,'Age Distribution'!$I:$I,\">=\"&$B60)))","v":1137},{"$f":"IF($A60=\"\",\"\",IF($A60=\"Between\",SUMIFS('Age Distribution'!Z:Z,'Age Distribution'!$I:$I,\">=\"&$B60,'Age Distribution'!$I:$I,\"<\"&$D60),SUMIFS('Age Distribution'!Z:Z,'Age Distribution'!$I:$I,\">=\"&$B60)))","v":883},{"$f":"IF($A60=\"\",\"\",IF($A60=\"Between\",SUMIFS('Age Distribution'!AA:AA,'Age Distribution'!$I:$I,\">=\"&$B60,'Age Distribution'!$I:$I,\"<\"&$D60),SUMIFS('Age Distribution'!AA:AA,'Age Distribution'!$I:$I,\">=\"&$B60)))","v":151},{"$f":"IF($A60=\"\",\"\",IF($A60=\"Between\",SUMIFS('Age Distribution'!AB:AB,'Age Distribution'!$I:$I,\">=\"&$B60,'Age Distribution'!$I:$I,\"<\"&$D60),SUMIFS('Age Distribution'!AB:AB,'Age Distribution'!$I:$I,\">=\"&$B60)))","v":72},{"$f":"IF($A60=\"\",\"\",IF($A60=\"Between\",SUMIFS('Age Distribution'!AC:AC,'Age Distribution'!$I:$I,\">=\"&$B60,'Age Distribution'!$I:$I,\"<\"&$D60),SUMIFS('Age Distribution'!AC:AC,'Age Distribution'!$I:$I,\">=\"&$B60)))","v":205},{"$f":"IF($A60=\"\",\"\",IF($A60=\"Between\",SUMIFS('Age Distribution'!AD:AD,'Age Distribution'!$I:$I,\">=\"&$B60,'Age Distribution'!$I:$I,\"<\"&$D60),SUMIFS('Age Distribution'!AD:AD,'Age Distribution'!$I:$I,\">=\"&$B60)))","v":7},{"$f":"IF($A60=\"\",\"\",IF($A60=\"Between\",SUMIFS('Age Distribution'!AE:AE,'Age Distribution'!$I:$I,\">=\"&$B60,'Age Distribution'!$I:$I,\"<\"&$D60),SUMIFS('Age Distribution'!AE:AE,'Age Distribution'!$I:$I,\">=\"&$B60)))","v":17992},{"$f":"IF($A60=\"\",\"\",IF($A60=\"Between\",SUMPRODUCT(--('Age Distribution'!$I$2:$I$6545<$D60),--('Age Distribution'!$I$2:$I$6545>=$B60),'Age Distribution'!$AE$2:$AE$6545,'Age Distribution'!AF$2:AF$6545)/SUMIFS('Age Distribution'!$AE$2:$AE$6545,'Age Distribution'!$I$2:$I$6545,\"<\"&$D60,'Age Distribution'!$I$2:$I$6545,\">=\"&$B60),SUMPRODUCT(--('Age Distribution'!$I$2:$I$6545>=$B60),'Age Distribution'!$AE$2:$AE$6545,'Age Distribution'!AF$2:AF$6545)/SUMIFS('Age Distribution'!$AE$2:$AE$6545,'Age Distribution'!$I$2:$I$6545,\">=\"&$B60)))","v":6.1133281458425932},{"$f":"IF($A60=\"\",\"\",IF($A60=\"Between\",SUMPRODUCT(--('Age Distribution'!$I$2:$I$6545<$D60),--('Age Distribution'!$I$2:$I$6545>=$B60),'Age Distribution'!$AE$2:$AE$6545,'Age Distribution'!AG$2:AG$6545)/SUMIFS('Age Distribution'!$AE$2:$AE$6545,'Age Distribution'!$I$2:$I$6545,\"<\"&$D60,'Age Distribution'!$I$2:$I$6545,\">=\"&$B60,'Age Distribution'!$AG$2:$AG$6545,\"<>\"),SUMPRODUCT(--('Age Distribution'!$I$2:$I$6545>=$B60),'Age Distribution'!$AE$2:$AE$6545,'Age Distribution'!AG$2:AG$6545)/SUMIFS('Age Distribution'!$AE$2:$AE$6545,'Age Distribution'!$I$2:$I$6545,\">=\"&$B60,'Age Distribution'!$AG$2:$AG$6545,\"<>\")))","v":184816.99437905391}]
["Between",100,"and",250,"Between 100 and 250",{"$f":"IF($A61=\"\",\"\",IF($A61=\"Between\",SUMIFS('Age Distribution'!L:L,'Age Distribution'!$I:$I,\">=\"&$B61,'Age Distribution'!$I:$I,\"<\"&$D61),SUMIFS('Age Distribution'!L:L,'Age Distribution'!$I:$I,\">=\"&$B61)))","v":899},{"$f":"IF($A61=\"\",\"\",IF($A61=\"Between\",SUMIFS('Age Distribution'!M:M,'Age Distribution'!$I:$I,\">=\"&$B61,'Age Distribution'!$I:$I,\"<\"&$D61),SUMIFS('Age Distribution'!M:M,'Age Distribution'!$I:$I,\">=\"&$B61)))","v":1635},{"$f":"IF($A61=\"\",\"\",IF($A61=\"Between\",SUMIFS('Age Distribution'!N:N,'Age Distribution'!$I:$I,\">=\"&$B61,'Age Distribution'!$I:$I,\"<\"&$D61),SUMIFS('Age Distribution'!N:N,'Age Distribution'!$I:$I,\">=\"&$B61)))","v":1427},{"$f":"IF($A61=\"\",\"\",IF($A61=\"Between\",SUMIFS('Age Distribution'!O:O,'Age Distribution'!$I:$I,\">=\"&$B61,'Age Distribution'!$I:$I,\"<\"&$D61),SUMIFS('Age Distribution'!O:O,'Age Distribution'!$I:$I,\">=\"&$B61)))","v":1276},{"$f":"IF($A61=\"\",\"\",IF($A61=\"Between\",SUMIFS('Age Distribution'!P:P,'Age Distribution'!$I:$I,\">=\"&$B61,'Age Distribution'!$I:$I,\"<\"&$D61),SUMIFS('Age Distribution'!P:P,'Age Distribution'!$I:$I,\">=\"&$B61)))","v":1360},{"$f":"IF($A61=\"\",\"\",IF($A61=\"Between\",SUMIFS('Age Distribution'!Q:Q,'Age Distribution'!$I:$I,\">=\"&$B61,'Age Distribution'!$I:$I,\"<\"&$D61),SUMIFS('Age Distribution'!Q:Q,'Age Distribution'!$I:$I,\">=\"&$B61)))","v":1143},{"$f":"IF($A61=\"\",\"\",IF($A61=\"Between\",SUMIFS('Age Distribution'!R:R,'Age Distribution'!$I:$I,\">=\"&$B61,'Age Distribution'!$I:$I,\"<\"&$D61),SUMIFS('Age Distribution'!R:R,'Age Distribution'!$I:$I,\">=\"&$B61)))","v":1354},{"$f":"IF($A61=\"\",\"\",IF($A61=\"Between\",SUMIFS('Age Distribution'!S:S,'Age Distribution'!$I:$I,\">=\"&$B61,'Age Distribution'!$I:$I,\"<\"&$D61),SUMIFS('Age Distribution'!S:S,'Age Distribution'!$I:$I,\">=\"&$B61)))","v":1044},{"$f":"IF($A61=\"\",\"\",IF($A61=\"Between\",SUMIFS('Age Distribution'!T:T,'Age Distribution'!$I:$I,\">=\"&$B61,'Age Distribution'!$I:$I,\"<\"&$D61),SUMIFS('Age Distribution'!T:T,'Age Distribution'!$I:$I,\">=\"&$B61)))","v":1294},{"$f":"IF($A61=\"\",\"\",IF($A61=\"Between\",SUMIFS('Age Distribution'!U:U,'Age Distribution'!$I:$I,\">=\"&$B61,'Age Distribution'!$I:$I,\"<\"&$D61),SUMIFS('Age Distribution'!U:U,'Age Distribution'!$I:$I,\">=\"&$B61)))","v":1087},{"$f":"IF($A61=\"\",\"\",IF($A61=\"Between\",SUMIFS('Age Distribution'!V:V,'Age Distribution'!$I:$I,\">=\"&$B61,'Age Distribution'!$I:$I,\"<\"&$D61),SUMIFS('Age Distribution'!V:V,'Age Distribution'!$I:$I,\">=\"&$B61)))","v":836},{"$f":"IF($A61=\"\",\"\",IF($A61=\"Between\",SUMIFS('Age Distribution'!W:W,'Age Distribution'!$I:$I,\">=\"&$B61,'Age Distribution'!$I:$I,\"<\"&$D61),SUMIFS('Age Distribution'!W:W,'Age Distribution'!$I:$I,\">=\"&$B61)))","v":836},{"$f":"IF($A61=\"\",\"\",IF($A61=\"Between\",SUMIFS('Age Distribution'!X:X,'Age Distribution'!$I:$I,\">=\"&$B61,'Age Distribution'!$I:$I,\"<\"&$D61),SUMIFS('Age Distribution'!X:X,'Age Distribution'!$I:$I,\">=\"&$B61)))","v":497},{"$f":"IF($A61=\"\",\"\",IF($A61=\"Between\",SUMIFS('Age Distribution'!Y:Y,'Age Distribution'!$I:$I,\">=\"&$B61,'Age Distribution'!$I:$I,\"<\"&$D61),SUMIFS('Age Distribution'!Y:Y,'Age Distribution'!$I:$I,\">=\"&$B61)))","v":1273},{"$f":"IF($A61=\"\",\"\",IF($A61=\"Between\",SUMIFS('Age Distribution'!Z:Z,'Age Distribution'!$I:$I,\">=\"&$B61,'Age Distribution'!$I:$I,\"<\"&$D61),SUMIFS('Age Distribution'!Z:Z,'Age Distribution'!$I:$I,\">=\"&$B61)))","v":729},{"$f":"IF($A61=\"\",\"\",IF($A61=\"Between\",SUMIFS('Age Distribution'!AA:AA,'Age Distribution'!$I:$I,\">=\"&$B61,'Age Distribution'!$I:$I,\"<\"&$D61),SUMIFS('Age Distribution'!AA:AA,'Age Distribution'!$I:$I,\">=\"&$B61)))","v":211},{"$f":"IF($A61=\"\",\"\",IF($A61=\"Between\",SUMIFS('Age Distribution'!AB:AB,'Age Distribution'!$I:$I,\">=\"&$B61,'Age Distribution'!$I:$I,\"<\"&$D61),SUMIFS('Age Distribution'!AB:AB,'Age Distribution'!$I:$I,\">=\"&$B61)))","v":89},{"$f":"IF($A61=\"\",\"\",IF($A61=\"Between\",SUMIFS('Age Distribution'!AC:AC,'Age Distribution'!$I:$I,\">=\"&$B61,'Age Distribution'!$I:$I,\"<\"&$D61),SUMIFS('Age Distribution'!AC:AC,'Age Distribution'!$I:$I,\">=\"&$B61)))","v":195},{"$f":"IF($A61=\"\",\"\",IF($A61=\"Between\",SUMIFS('Age Distribution'!AD:AD,'Age Distribution'!$I:$I,\">=\"&$B61,'Age Distribution'!$I:$I,\"<\"&$D61),SUMIFS('Age Distribution'!AD:AD,'Age Distribution'!$I:$I,\">=\"&$B61)))","v":40},{"$f":"IF($A61=\"\",\"\",IF($A61=\"Between\",SUMIFS('Age Distribution'!AE:AE,'Age Distribution'!$I:$I,\">=\"&$B61,'Age Distribution'!$I:$I,\"<\"&$D61),SUMIFS('Age Distribution'!AE:AE,'Age Distribution'!$I:$I,\">=\"&$B61)))","v":17225},{"$f":"IF($A61=\"\",\"\",IF($A61=\"Between\",SUMPRODUCT(--('Age Distribution'!$I$2:$I$6545<$D61),--('Age Distribution'!$I$2:$I$6545>=$B61),'Age Distribution'!$AE$2:$AE$6545,'Age Distribution'!AF$2:AF$6545)/SUMIFS('Age Distribution'!$AE$2:$AE$6545,'Age Distribution'!$I$2:$I$6545,\"<\"&$D61,'Age Distribution'!$I$2:$I$6545,\">=\"&$B61),SUMPRODUCT(--('Age Distribution'!$I$2:$I$6545>=$B61),'Age Distribution'!$AE$2:$AE$6545,'Age Distribution'!AF$2:AF$6545)/SUMIFS('Age Distribution'!$AE$2:$AE$6545,'Age Distribution'!$I$2:$I$6545,\">=\"&$B61)))","v":6.2689114658925948},{"$f":"IF($A61=\"\",\"\",IF($A61=\"Between\",SUMPRODUCT(--('Age Distribution'!$I$2:$I$6545<$D61),--('Age Distribution'!$I$2:$I$6545>=$B61),'Age Distribution'!$AE$2:$AE$6545,'Age Distribution'!AG$2:AG$6545)/SUMIFS('Age Distribution'!$AE$2:$AE$6545,'Age Distribution'!$I$2:$I$6545,\"<\"&$D61,'Age Distribution'!$I$2:$I$6545,\">=\"&$B61,'Age Distribution'!$AG$2:$AG$6545,\"<>\"),SUMPRODUCT(--('Age Distribution'!$I$2:$I$6545>=$B61),'Age Distribution'!$AE$2:$AE$6545,'Age Distribution'!AG$2:AG$6545)/SUMIFS('Age Distribution'!$AE$2:$AE$6545,'Age Distribution'!$I$2:$I$6545,\">=\"&$B61,'Age Distribution'!$AG$2:$AG$6545,\"<>\")))","v":241198.57775603881}]
["Between",250,"and",500,"Between 250 and 500",{"$f":"IF($A62=\"\",\"\",IF($A62=\"Between\",SUMIFS('Age Distribution'!L:L,'Age Distribution'!$I:$I,\">=\"&$B62,'Age Distribution'!$I:$I,\"<\"&$D62),SUMIFS('Age Distribution'!L:L,'Age Distribution'!$I:$I,\">=\"&$B62)))","v":1378},{"$f":"IF($A62=\"\",\"\",IF($A62=\"Between\",SUMIFS('Age Distribution'!M:M,'Age Distribution'!$I:$I,\">=\"&$B62,'Age Distribution'!$I:$I,\"<\"&$D62),SUMIFS('Age Distribution'!M:M,'Age Distribution'!$I:$I,\">=\"&$B62)))","v":1859},{"$f":"IF($A62=\"\",\"\",IF($A62=\"Between\",SUMIFS('Age Distribution'!N:N,'Age Distribution'!$I:$I,\">=\"&$B62,'Age Distribution'!$I:$I,\"<\"&$D62),SUMIFS('Age Distribution'!N:N,'Age Distribution'!$I:$I,\">=\"&$B62)))","v":1412},{"$f":"IF($A62=\"\",\"\",IF($A62=\"Between\",SUMIFS('Age Distribution'!O:O,'Age Distribution'!$I:$I,\">=\"&$B62,'Age Distribution'!$I:$I,\"<\"&$D62),SUMIFS('Age Distribution'!O:O,'Age Distribution'!$I:$I,\">=\"&$B62)))","v":1720},{"$f":"IF($A62=\"\",\"\",IF($A62=\"Between\",SUMIFS('Age Distribution'!P:P,'Age Distribution'!$I:$I,\">=\"&$B62,'Age Distribution'!$I:$I,\"<\"&$D62),SUMIFS('Age Distribution'!P:P,'Age Distribution'!$I:$I,\">=\"&$B62)))","v":1669},{"$f":"IF($A62=\"\",\"\",IF($A62=\"Between\",SUMIFS('Age Distribution'!Q:Q,'Age Distribution'!$I:$I,\">=\"&$B62,'Age Distribution'!$I:$I,\"<\"&$D62),SUMIFS('Age Distribution'!Q:Q,'Age Distribution'!$I:$I,\">=\"&$B62)))","v":1320},{"$f":"IF($A62=\"\",\"\",IF($A62=\"Between\",SUMIFS('Age Distribution'!R:R,'Age Distribution'!$I:$I,\">=\"&$B62,'Age Distribution'!$I:$I,\"<\"&$D62),SUMIFS('Age Distribution'!R:R,'Age Distribution'!$I:$I,\">=\"&$B62)))","v":1369},{"$f":"IF($A62=\"\",\"\",IF($A62=\"Between\",SUMIFS('Age Distribution'!S:S,'Age Distribution'!$I:$I,\">=\"&$B62,'Age Distribution'!$I:$I,\"<\"&$D62),SUMIFS('Age Distribution'!S:S,'Age Distribution'!$I:$I,\">=\"&$B62)))","v":1057},{"$f":"IF($A62=\"\",\"\",IF($A62=\"Between\",SUMIFS('Age Distribution'!T:T,'Age Distribution'!$I:$I,\">=\"&$B62,'Age Distribution'!$I:$I,\"<\"&$D62),SUMIFS('Age Distribution'!T:T,'Age Distribution'!$I:$I,\">=\"&$B62)))","v":1353},{"$f":"IF($A62=\"\",\"\",IF($A62=\"Between\",SUMIFS('Age Distribution'!U:U,'Age Distribution'!$I:$I,\">=\"&$B62,'Age Distribution'!$I:$I,\"<\"&$D62),SUMIFS('Age Distribution'!U:U,'Age Distribution'!$I:$I,\">=\"&$B62)))","v":1441},{"$f":"IF($A62=\"\",\"\",IF($A62=\"Between\",SUMIFS('Age Distribution'!V:V,'Age Distribution'!$I:$I,\">=\"&$B62,'Age Distribution'!$I:$I,\"<\"&$D62),SUMIFS('Age Distribution'!V:V,'Age Distribution'!$I:$I,\">=\"&$B62)))","v":912},{"$f":"IF($A62=\"\",\"\",IF($A62=\"Between\",SUMIFS('Age Distribution'!W:W,'Age Distribution'!$I:$I,\">=\"&$B62,'Age Distribution'!$I:$I,\"<\"&$D62),SUMIFS('Age Distribution'!W:W,'Age Distribution'!$I:$I,\">=\"&$B62)))","v":526},{"$f":"IF($A62=\"\",\"\",IF($A62=\"Between\",SUMIFS('Age Distribution'!X:X,'Age Distribution'!$I:$I,\">=\"&$B62,'Age Distribution'!$I:$I,\"<\"&$D62),SUMIFS('Age Distribution'!X:X,'Age Distribution'!$I:$I,\">=\"&$B62)))","v":732},{"$f":"IF($A62=\"\",\"\",IF($A62=\"Between\",SUMIFS('Age Distribution'!Y:Y,'Age Distribution'!$I:$I,\">=\"&$B62,'Age Distribution'!$I:$I,\"<\"&$D62),SUMIFS('Age Distribution'!Y:Y,'Age Distribution'!$I:$I,\">=\"&$B62)))","v":1536},{"$f":"IF($A62=\"\",\"\",IF($A62=\"Between\",SUMIFS('Age Distribution'!Z:Z,'Age Distribution'!$I:$I,\">=\"&$B62,'Age Distribution'!$I:$I,\"<\"&$D62),SUMIFS('Age Distribution'!Z:Z,'Age Distribution'!$I:$I,\">=\"&$B62)))","v":844},{"$f":"IF($A62=\"\",\"\",IF($A62=\"Between\",SUMIFS('Age Distribution'!AA:AA,'Age Distribution'!$I:$I,\">=\"&$B62,'Age Distribution'!$I:$I,\"<\"&$D62),SUMIFS('Age Distribution'!AA:AA,'Age Distribution'!$I:$I,\">=\"&$B62)))","v":97},{"$f":"IF($A62=\"\",\"\",IF($A62=\"Between\",SUMIFS('Age Distribution'!AB:AB,'Age Distribution'!$I:$I,\">=\"&$B62,'Age Distribution'!$I:$I,\"<\"&$D62),SUMIFS('Age Distribution'!AB:AB,'Age Distribution'!$I:$I,\">=\"&$B62)))","v":33},{"$f":"IF($A62=\"\",\"\",IF($A62=\"Between\",SUMIFS('Age Distribution'!AC:AC,'Age Distribution'!$I:$I,\">=\"&$B62,'Age Distribution'!$I:$I,\"<\"&$D62),SUMIFS('Age Distribution'!AC:AC,'Age Distribution'!$I:$I,\">=\"&$B62)))","v":172},{"$f":"IF($A62=\"\",\"\",IF($A62=\"Between\",SUMIFS('Age Distribution'!AD:AD,'Age Distribution'!$I:$I,\">=\"&$B62,'Age Distribution'!$I:$I,\"<\"&$D62),SUMIFS('Age Distribution'!AD:AD,'Age Distribution'!$I:$I,\">=\"&$B62)))","v":2},{"$f":"IF($A62=\"\",\"\",IF($A62=\"Between\",SUMIFS('Age Distribution'!AE:AE,'Age Distribution'!$I:$I,\">=\"&$B62,'Age Distribution'!$I:$I,\"<\"&$D62),SUMIFS('Age Distribution'!AE:AE,'Age Distribution'!$I:$I,\">=\"&$B62)))","v":19432},{"$f":"IF($A62=\"\",\"\",IF($A62=\"Between\",SUMPRODUCT(--('Age Distribution'!$I$2:$I$6545<$D62),--('Age Distribution'!$I$2:$I$6545>=$B62),'Age Distribution'!$AE$2:$AE$6545,'Age Distribution'!AF$2:AF$6545)/SUMIFS('Age Distribution'!$AE$2:$AE$6545,'Age Distribution'!$I$2:$I$6545,\"<\"&$D62,'Age Distribution'!$I$2:$I$6545,\">=\"&$B62),SUMPRODUCT(--('Age Distribution'!$I$2:$I$6545>=$B62),'Age Distribution'!$AE$2:$AE$6545,'Age Distribution'!AF$2:AF$6545)/SUMIFS('Age Distribution'!$AE$2:$AE$6545,'Age Distribution'!$I$2:$I$6545,\">=\"&$B62)))","v":5.6176410045286094},{"$f":"IF($A62=\"\",\"\",IF($A62=\"Between\",SUMPRODUCT(--('Age Distribution'!$I$2:$I$6545<$D62),--('Age Distribution'!$I$2:$I$6545>=$B62),'Age Distribution'!$AE$2:$AE$6545,'Age Distribution'!AG$2:AG$6545)/SUMIFS('Age Distribution'!$AE$2:$AE$6545,'Age Distribution'!$I$2:$I$6545,\"<\"&$D62,'Age Distribution'!$I$2:$I$6545,\">=\"&$B62,'Age Distribution'!$AG$2:$AG$6545,\"<>\"),SUMPRODUCT(--('Age Distribution'!$I$2:$I$6545>=$B62),'Age Distribution'!$AE$2:$AE$6545,'Age Distribution'!AG$2:AG$6545)/SUMIFS('Age Distribution'!$AE$2:$AE$6545,'Age Distribution'!$I$2:$I$6545,\">=\"&$B62,'Age Distribution'!$AG$2:$AG$6545,\"<>\")))","v":254812.35615425682}]
["Between",500,"and",1000,"Between 500 and 1,000",{"$f":"IF($A63=\"\",\"\",IF($A63=\"Between\",SUMIFS('Age Distribution'!L:L,'Age Distribution'!$I:$I,\">=\"&$B63,'Age Distribution'!$I:$I,\"<\"&$D63),SUMIFS('Age Distribution'!L:L,'Age Distribution'!$I:$I,\">=\"&$B63)))","v":1455},{"$f":"IF($A63=\"\",\"\",IF($A63=\"Between\",SUMIFS('Age Distribution'!M:M,'Age Distribution'!$I:$I,\">=\"&$B63,'Age Distribution'!$I:$I,\"<\"&$D63),SUMIFS('Age Distribution'!M:M,'Age Distribution'!$I:$I,\">=\"&$B63)))","v":2529},{"$f":"IF($A63=\"\",\"\",IF($A63=\"Between\",SUMIFS('Age Distribution'!N:N,'Age Distribution'!$I:$I,\">=\"&$B63,'Age Distribution'!$I:$I,\"<\"&$D63),SUMIFS('Age Distribution'!N:N,'Age Distribution'!$I:$I,\">=\"&$B63)))","v":2099},{"$f":"IF($A63=\"\",\"\",IF($A63=\"Between\",SUMIFS('Age Distribution'!O:O,'Age Distribution'!$I:$I,\">=\"&$B63,'Age Distribution'!$I:$I,\"<\"&$D63),SUMIFS('Age Distribution'!O:O,'Age Distribution'!$I:$I,\">=\"&$B63)))","v":1864},{"$f":"IF($A63=\"\",\"\",IF($A63=\"Between\",SUMIFS('Age Distribution'!P:P,'Age Distribution'!$I:$I,\">=\"&$B63,'Age Distribution'!$I:$I,\"<\"&$D63),SUMIFS('Age Distribution'!P:P,'Age Distribution'!$I:$I,\">=\"&$B63)))","v":2230},{"$f":"IF($A63=\"\",\"\",IF($A63=\"Between\",SUMIFS('Age Distribution'!Q:Q,'Age Distribution'!$I:$I,\">=\"&$B63,'Age Distribution'!$I:$I,\"<\"&$D63),SUMIFS('Age Distribution'!Q:Q,'Age Distribution'!$I:$I,\">=\"&$B63)))","v":1563},{"$f":"IF($A63=\"\",\"\",IF($A63=\"Between\",SUMIFS('Age Distribution'!R:R,'Age Distribution'!$I:$I,\">=\"&$B63,'Age Distribution'!$I:$I,\"<\"&$D63),SUMIFS('Age Distribution'!R:R,'Age Distribution'!$I:$I,\">=\"&$B63)))","v":1286},{"$f":"IF($A63=\"\",\"\",IF($A63=\"Between\",SUMIFS('Age Distribution'!S:S,'Age Distribution'!$I:$I,\">=\"&$B63,'Age Distribution'!$I:$I,\"<\"&$D63),SUMIFS('Age Distribution'!S:S,'Age Distribution'!$I:$I,\">=\"&$B63)))","v":1008},{"$f":"IF($A63=\"\",\"\",IF($A63=\"Between\",SUMIFS('Age Distribution'!T:T,'Age Distribution'!$I:$I,\">=\"&$B63,'Age Distribution'!$I:$I,\"<\"&$D63),SUMIFS('Age Distribution'!T:T,'Age Distribution'!$I:$I,\">=\"&$B63)))","v":711},{"$f":"IF($A63=\"\",\"\",IF($A63=\"Between\",SUMIFS('Age Distribution'!U:U,'Age Distribution'!$I:$I,\">=\"&$B63,'Age Distribution'!$I:$I,\"<\"&$D63),SUMIFS('Age Distribution'!U:U,'Age Distribution'!$I:$I,\">=\"&$B63)))","v":967},{"$f":"IF($A63=\"\",\"\",IF($A63=\"Between\",SUMIFS('Age Distribution'!V:V,'Age Distribution'!$I:$I,\">=\"&$B63,'Age Distribution'!$I:$I,\"<\"&$D63),SUMIFS('Age Distribution'!V:V,'Age Distribution'!$I:$I,\">=\"&$B63)))","v":1058},{"$f":"IF($A63=\"\",\"\",IF($A63=\"Between\",SUMIFS('Age Distribution'!W:W,'Age Distribution'!$I:$I,\">=\"&$B63,'Age Distribution'!$I:$I,\"<\"&$D63),SUMIFS('Age Distribution'!W:W,'Age Distribution'!$I:$I,\">=\"&$B63)))","v":702},{"$f":"IF($A63=\"\",\"\",IF($A63=\"Between\",SUMIFS('Age Distribution'!X:X,'Age Distribution'!$I:$I,\">=\"&$B63,'Age Distribution'!$I:$I,\"<\"&$D63),SUMIFS('Age Distribution'!X:X,'Age Distribution'!$I:$I,\">=\"&$B63)))","v":499},{"$f":"IF($A63=\"\",\"\",IF($A63=\"Between\",SUMIFS('Age Distribution'!Y:Y,'Age Distribution'!$I:$I,\">=\"&$B63,'Age Distribution'!$I:$I,\"<\"&$D63),SUMIFS('Age Distribution'!Y:Y,'Age Distribution'!$I:$I,\">=\"&$B63)))","v":1228},{"$f":"IF($A63=\"\",\"\",IF($A63=\"Between\",SUMIFS('Age Distribution'!Z:Z,'Age Distribution'!$I:$I,\">=\"&$B63,'Age Distribution'!$I:$I,\"<\"&$D63),SUMIFS('Age Distribution'!Z:Z,'Age Distribution'!$I:$I,\">=\"&$B63)))","v":1102},{"$f":"IF($A63=\"\",\"\",IF($A63=\"Between\",SUMIFS('Age Distribution'!AA:AA,'Age Distribution'!$I:$I,\">=\"&$B63,'Age Distribution'!$I:$I,\"<\"&$D63),SUMIFS('Age Distribution'!AA:AA,'Age Distribution'!$I:$I,\">=\"&$B63)))","v":295},{"$f":"IF($A63=\"\",\"\",IF($A63=\"Between\",SUMIFS('Age Distribution'!AB:AB,'Age Distribution'!$I:$I,\">=\"&$B63,'Age Distribution'!$I:$I,\"<\"&$D63),SUMIFS('Age Distribution'!AB:AB,'Age Distribution'!$I:$I,\">=\"&$B63)))","v":202},{"$f":"IF($A63=\"\",\"\",IF($A63=\"Between\",SUMIFS('Age Distribution'!AC:AC,'Age Distribution'!$I:$I,\">=\"&$B63,'Age Distribution'!$I:$I,\"<\"&$D63),SUMIFS('Age Distribution'!AC:AC,'Age Distribution'!$I:$I,\">=\"&$B63)))","v":742},{"$f":"IF($A63=\"\",\"\",IF($A63=\"Between\",SUMIFS('Age Distribution'!AD:AD,'Age Distribution'!$I:$I,\">=\"&$B63,'Age Distribution'!$I:$I,\"<\"&$D63),SUMIFS('Age Distribution'!AD:AD,'Age Distribution'!$I:$I,\">=\"&$B63)))","v":7},{"$f":"IF($A63=\"\",\"\",IF($A63=\"Between\",SUMIFS('Age Distribution'!AE:AE,'Age Distribution'!$I:$I,\">=\"&$B63,'Age Distribution'!$I:$I,\"<\"&$D63),SUMIFS('Age Distribution'!AE:AE,'Age Distribution'!$I:$I,\">=\"&$B63)))","v":21547},{"$f":"IF($A63=\"\",\"\",IF($A63=\"Between\",SUMPRODUCT(--('Age Distribution'!$I$2:$I$6545<$D63),--('Age Distribution'!$I$2:$I$6545>=$B63),'Age Distribution'!$AE$2:$AE$6545,'Age Distribution'!AF$2:AF$6545)/SUMIFS('Age Distribution'!$AE$2:$AE$6545,'Age Distribution'!$I$2:$I$6545,\"<\"&$D63,'Age Distribution'!$I$2:$I$6545,\">=\"&$B63),SUMPRODUCT(--('Age Distribution'!$I$2:$I$6545>=$B63),'Age Distribution'!$AE$2:$AE$6545,'Age Distribution'!AF$2:AF$6545)/SUMIFS('Age Distribution'!$AE$2:$AE$6545,'Age Distribution'!$I$2:$I$6545,\">=\"&$B63)))","v":6.2637954239569256},{"$f":"IF($A63=\"\",\"\",IF($A63=\"Between\",SUMPRODUCT(--('Age Distribution'!$I$2:$I$6545<$D63),--('Age Distribution'!$I$2:$I$6545>=$B63),'Age Distribution'!$AE$2:$AE$6545,'Age Distribution'!AG$2:AG$6545)/SUMIFS('Age Distribution'!$AE$2:$AE$6545,'Age Distribution'!$I$2:$I$6545,\"<\"&$D63,'Age Distribution'!$I$2:$I$6545,\">=\"&$B63,'Age Distribution'!$AG$2:$AG$6545,\"<>\"),SUMPRODUCT(--('Age Distribution'!$I$2:$I$6545>=$B63),'Age Distribution'!$AE$2:$AE$6545,'Age Distribution'!AG$2:AG$6545)/SUMIFS('Age Distribution'!$AE$2:$AE$6545,'Age Distribution'!$I$2:$I$6545,\">=\"&$B63,'Age Distribution'!$AG$2:$AG$6545,\"<>\")))","v":314043.52389273897}]
["Between",1000,"and",2000,"Between 1,000 and 2,000",{"$f":"IF($A64=\"\",\"\",IF($A64=\"Between\",SUMIFS('Age Distribution'!L:L,'Age Distribution'!$I:$I,\">=\"&$B64,'Age Distribution'!$I:$I,\"<\"&$D64),SUMIFS('Age Distribution'!L:L,'Age Distribution'!$I:$I,\">=\"&$B64)))","v":1366},{"$f":"IF($A64=\"\",\"\",IF($A64=\"Between\",SUMIFS('Age Distribution'!M:M,'Age Distribution'!$I:$I,\">=\"&$B64,'Age Distribution'!$I:$I,\"<\"&$D64),SUMIFS('Age Distribution'!M:M,'Age Distribution'!$I:$I,\">=\"&$B64)))","v":2623},{"$f":"IF($A64=\"\",\"\",IF($A64=\"Between\",SUMIFS('Age Distribution'!N:N,'Age Distribution'!$I:$I,\">=\"&$B64,'Age Distribution'!$I:$I,\"<\"&$D64),SUMIFS('Age Distribution'!N:N,'Age Distribution'!$I:$I,\">=\"&$B64)))","v":2556},{"$f":"IF($A64=\"\",\"\",IF($A64=\"Between\",SUMIFS('Age Distribution'!O:O,'Age Distribution'!$I:$I,\">=\"&$B64,'Age Distribution'!$I:$I,\"<\"&$D64),SUMIFS('Age Distribution'!O:O,'Age Distribution'!$I:$I,\">=\"&$B64)))","v":1741},{"$f":"IF($A64=\"\",\"\",IF($A64=\"Between\",SUMIFS('Age Distribution'!P:P,'Age Distribution'!$I:$I,\">=\"&$B64,'Age Distribution'!$I:$I,\"<\"&$D64),SUMIFS('Age Distribution'!P:P,'Age Distribution'!$I:$I,\">=\"&$B64)))","v":2514},{"$f":"IF($A64=\"\",\"\",IF($A64=\"Between\",SUMIFS('Age Distribution'!Q:Q,'Age Distribution'!$I:$I,\">=\"&$B64,'Age Distribution'!$I:$I,\"<\"&$D64),SUMIFS('Age Distribution'!Q:Q,'Age Distribution'!$I:$I,\">=\"&$B64)))","v":1847},{"$f":"IF($A64=\"\",\"\",IF($A64=\"Between\",SUMIFS('Age Distribution'!R:R,'Age Distribution'!$I:$I,\">=\"&$B64,'Age Distribution'!$I:$I,\"<\"&$D64),SUMIFS('Age Distribution'!R:R,'Age Distribution'!$I:$I,\">=\"&$B64)))","v":1339},{"$f":"IF($A64=\"\",\"\",IF($A64=\"Between\",SUMIFS('Age Distribution'!S:S,'Age Distribution'!$I:$I,\">=\"&$B64,'Age Distribution'!$I:$I,\"<\"&$D64),SUMIFS('Age Distribution'!S:S,'Age Distribution'!$I:$I,\">=\"&$B64)))","v":900},{"$f":"IF($A64=\"\",\"\",IF($A64=\"Between\",SUMIFS('Age Distribution'!T:T,'Age Distribution'!$I:$I,\">=\"&$B64,'Age Distribution'!$I:$I,\"<\"&$D64),SUMIFS('Age Distribution'!T:T,'Age Distribution'!$I:$I,\">=\"&$B64)))","v":887},{"$f":"IF($A64=\"\",\"\",IF($A64=\"Between\",SUMIFS('Age Distribution'!U:U,'Age Distribution'!$I:$I,\">=\"&$B64,'Age Distribution'!$I:$I,\"<\"&$D64),SUMIFS('Age Distribution'!U:U,'Age Distribution'!$I:$I,\">=\"&$B64)))","v":769},{"$f":"IF($A64=\"\",\"\",IF($A64=\"Between\",SUMIFS('Age Distribution'!V:V,'Age Distribution'!$I:$I,\">=\"&$B64,'Age Distribution'!$I:$I,\"<\"&$D64),SUMIFS('Age Distribution'!V:V,'Age Distribution'!$I:$I,\">=\"&$B64)))","v":706},{"$f":"IF($A64=\"\",\"\",IF($A64=\"Between\",SUMIFS('Age Distribution'!W:W,'Age Distribution'!$I:$I,\">=\"&$B64,'Age Distribution'!$I:$I,\"<\"&$D64),SUMIFS('Age Distribution'!W:W,'Age Distribution'!$I:$I,\">=\"&$B64)))","v":1219},{"$f":"IF($A64=\"\",\"\",IF($A64=\"Between\",SUMIFS('Age Distribution'!X:X,'Age Distribution'!$I:$I,\">=\"&$B64,'Age Distribution'!$I:$I,\"<\"&$D64),SUMIFS('Age Distribution'!X:X,'Age Distribution'!$I:$I,\">=\"&$B64)))","v":1159},{"$f":"IF($A64=\"\",\"\",IF($A64=\"Between\",SUMIFS('Age Distribution'!Y:Y,'Age Distribution'!$I:$I,\">=\"&$B64,'Age Distribution'!$I:$I,\"<\"&$D64),SUMIFS('Age Distribution'!Y:Y,'Age Distribution'!$I:$I,\">=\"&$B64)))","v":2249},{"$f":"IF($A64=\"\",\"\",IF($A64=\"Between\",SUMIFS('Age Distribution'!Z:Z,'Age Distribution'!$I:$I,\">=\"&$B64,'Age Distribution'!$I:$I,\"<\"&$D64),SUMIFS('Age Distribution'!Z:Z,'Age Distribution'!$I:$I,\">=\"&$B64)))","v":1416},{"$f":"IF($A64=\"\",\"\",IF($A64=\"Between\",SUMIFS('Age Distribution'!AA:AA,'Age Distribution'!$I:$I,\">=\"&$B64,'Age Distribution'!$I:$I,\"<\"&$D64),SUMIFS('Age Distribution'!AA:AA,'Age Distribution'!$I:$I,\">=\"&$B64)))","v":675},{"$f":"IF($A64=\"\",\"\",IF($A64=\"Between\",SUMIFS('Age Distribution'!AB:AB,'Age Distribution'!$I:$I,\">=\"&$B64,'Age Distribution'!$I:$I,\"<\"&$D64),SUMIFS('Age Distribution'!AB:AB,'Age Distribution'!$I:$I,\">=\"&$B64)))","v":255},{"$f":"IF($A64=\"\",\"\",IF($A64=\"Between\",SUMIFS('Age Distribution'!AC:AC,'Age Distribution'!$I:$I,\">=\"&$B64,'Age Distribution'!$I:$I,\"<\"&$D64),SUMIFS('Age Distribution'!AC:AC,'Age Distribution'!$I:$I,\">=\"&$B64)))","v":1197},{"$f":"IF($A64=\"\",\"\",IF($A64=\"Between\",SUMIFS('Age Distribution'!AD:AD,'Age Distribution'!$I:$I,\">=\"&$B64,'Age Distribution'!$I:$I,\"<\"&$D64),SUMIFS('Age Distribution'!AD:AD,'Age Distribution'!$I:$I,\">=\"&$B64)))","v":93},{"$f":"IF($A64=\"\",\"\",IF($A64=\"Between\",SUMIFS('Age Distribution'!AE:AE,'Age Distribution'!$I:$I,\">=\"&$B64,'Age Distribution'!$I:$I,\"<\"&$D64),SUMIFS('Age Distribution'!AE:AE,'Age Distribution'!$I:$I,\">=\"&$B64)))","v":25511},{"$f":"IF($A64=\"\",\"\",IF($A64=\"Between\",SUMPRODUCT(--('Age Distribution'!$I$2:$I$6545<$D64),--('Age Distribution'!$I$2:$I$6545>=$B64),'Age Distribution'!$AE$2:$AE$6545,'Age Distribution'!AF$2:AF$6545)/SUMIFS('Age Distribution'!$AE$2:$AE$6545,'Age Distribution'!$I$2:$I$6545,\"<\"&$D64,'Age Distribution'!$I$2:$I$6545,\">=\"&$B64),SUMPRODUCT(--('Age Distribution'!$I$2:$I$6545>=$B64),'Age Distribution'!$AE$2:$AE$6545,'Age Distribution'!AF$2:AF$6545)/SUMIFS('Age Distribution'!$AE$2:$AE$6545,'Age Distribution'!$I$2:$I$6545,\">=\"&$B64)))","v":7.1179491199874425},{"$f":"IF($A64=\"\",\"\",IF($A64=\"Between\",SUMPRODUCT(--('Age Distribution'!$I$2:$I$6545<$D64),--('Age Distribution'!$I$2:$I$6545>=$B64),'Age Distribution'!$AE$2:$AE$6545,'Age Distribution'!AG$2:AG$6545)/SUMIFS('Age Distribution'!$AE$2:$AE$6545,'Age Distribution'!$I$2:$I$6545,\"<\"&$D64,'Age Distribution'!$I$2:$I$6545,\">=\"&$B64,'Age Distribution'!$AG$2:$AG$6545,\"<>\"),SUMPRODUCT(--('Age Distribution'!$I$2:$I$6545>=$B64),'Age Distribution'!$AE$2:$AE$6545,'Age Distribution'!AG$2:AG$6545)/SUMIFS('Age Distribution'!$AE$2:$AE$6545,'Age Distribution'!$I$2:$I$6545,\">=\"&$B64,'Age Distribution'!$AG$2:$AG$6545,\"<>\")))","v":404453.78175354243}]
["Over",2000,"",null,"Over 2,000",{"$f":"IF($A65=\"\",\"\",IF($A65=\"Between\",SUMIFS('Age Distribution'!L:L,'Age Distribution'!$I:$I,\">=\"&$B65,'Age Distribution'!$I:$I,\"<\"&$D65),SUMIFS('Age Distribution'!L:L,'Age Distribution'!$I:$I,\">=\"&$B65)))","v":2336},{"$f":"IF($A65=\"\",\"\",IF($A65=\"Between\",SUMIFS('Age Distribution'!M:M,'Age Distribution'!$I:$I,\">=\"&$B65,'Age Distribution'!$I:$I,\"<\"&$D65),SUMIFS('Age Distribution'!M:M,'Age Distribution'!$I:$I,\">=\"&$B65)))","v":2757},{"$f":"IF($A65=\"\",\"\",IF($A65=\"Between\",SUMIFS('Age Distribution'!N:N,'Age Distribution'!$I:$I,\">=\"&$B65,'Age Distribution'!$I:$I,\"<\"&$D65),SUMIFS('Age Distribution'!N:N,'Age Distribution'!$I:$I,\">=\"&$B65)))","v":3662},{"$f":"IF($A65=\"\",\"\",IF($A65=\"Between\",SUMIFS('Age Distribution'!O:O,'Age Distribution'!$I:$I,\">=\"&$B65,'Age Distribution'!$I:$I,\"<\"&$D65),SUMIFS('Age Distribution'!O:O,'Age Distribution'!$I:$I,\">=\"&$B65)))","v":4133},{"$f":"IF($A65=\"\",\"\",IF($A65=\"Between\",SUMIFS('Age Distribution'!P:P,'Age Distribution'!$I:$I,\">=\"&$B65,'Age Distribution'!$I:$I,\"<\"&$D65),SUMIFS('Age Distribution'!P:P,'Age Distribution'!$I:$I,\">=\"&$B65)))","v":3800},{"$f":"IF($A65=\"\",\"\",IF($A65=\"Between\",SUMIFS('Age Distribution'!Q:Q,'Age Distribution'!$I:$I,\">=\"&$B65,'Age Distribution'!$I:$I,\"<\"&$D65),SUMIFS('Age Distribution'!Q:Q,'Age Distribution'!$I:$I,\">=\"&$B65)))","v":2504},{"$f":"IF($A65=\"\",\"\",IF($A65=\"Between\",SUMIFS('Age Distribution'!R:R,'Age Distribution'!$I:$I,\">=\"&$B65,'Age Distribution'!$I:$I,\"<\"&$D65),SUMIFS('Age Distribution'!R:R,'Age Distribution'!$I:$I,\">=\"&$B65)))","v":3285},{"$f":"IF($A65=\"\",\"\",IF($A65=\"Between\",SUMIFS('Age Distribution'!S:S,'Age Distribution'!$I:$I,\">=\"&$B65,'Age Distribution'!$I:$I,\"<\"&$D65),SUMIFS('Age Distribution'!S:S,'Age Distribution'!$I:$I,\">=\"&$B65)))","v":2197},{"$f":"IF($A65=\"\",\"\",IF($A65=\"Between\",SUMIFS('Age Distribution'!T:T,'Age Distribution'!$I:$I,\">=\"&$B65,'Age Distribution'!$I:$I,\"<\"&$D65),SUMIFS('Age Distribution'!T:T,'Age Distribution'!$I:$I,\">=\"&$B65)))","v":1756},{"$f":"IF($A65=\"\",\"\",IF($A65=\"Between\",SUMIFS('Age Distribution'!U:U,'Age Distribution'!$I:$I,\">=\"&$B65,'Age Distribution'!$I:$I,\"<\"&$D65),SUMIFS('Age Distribution'!U:U,'Age Distribution'!$I:$I,\">=\"&$B65)))","v":2539},{"$f":"IF($A65=\"\",\"\",IF($A65=\"Between\",SUMIFS('Age Distribution'!V:V,'Age Distribution'!$I:$I,\">=\"&$B65,'Age Distribution'!$I:$I,\"<\"&$D65),SUMIFS('Age Distribution'!V:V,'Age Distribution'!$I:$I,\">=\"&$B65)))","v":2516},{"$f":"IF($A65=\"\",\"\",IF($A65=\"Between\",SUMIFS('Age Distribution'!W:W,'Age Distribution'!$I:$I,\">=\"&$B65,'Age Distribution'!$I:$I,\"<\"&$D65),SUMIFS('Age Distribution'!W:W,'Age Distribution'!$I:$I,\">=\"&$B65)))","v":3264},{"$f":"IF($A65=\"\",\"\",IF($A65=\"Between\",SUMIFS('Age Distribution'!X:X,'Age Distribution'!$I:$I,\">=\"&$B65,'Age Distribution'!$I:$I,\"<\"&$D65),SUMIFS('Age Distribution'!X:X,'Age Distribution'!$I:$I,\">=\"&$B65)))","v":1421},{"$f":"IF($A65=\"\",\"\",IF($A65=\"Between\",SUMIFS('Age Distribution'!Y:Y,'Age Distribution'!$I:$I,\">=\"&$B65,'Age Distribution'!$I:$I,\"<\"&$D65),SUMIFS('Age Distribution'!Y:Y,'Age Distribution'!$I:$I,\">=\"&$B65)))","v":2794},{"$f":"IF($A65=\"\",\"\",IF($A65=\"Between\",SUMIFS('Age Distribution'!Z:Z,'Age Distribution'!$I:$I,\">=\"&$B65,'Age Distribution'!$I:$I,\"<\"&$D65),SUMIFS('Age Distribution'!Z:Z,'Age Distribution'!$I:$I,\">=\"&$B65)))","v":4754},{"$f":"IF($A65=\"\",\"\",IF($A65=\"Between\",SUMIFS('Age Distribution'!AA:AA,'Age Distribution'!$I:$I,\">=\"&$B65,'Age Distribution'!$I:$I,\"<\"&$D65),SUMIFS('Age Distribution'!AA:AA,'Age Distribution'!$I:$I,\">=\"&$B65)))","v":684},{"$f":"IF($A65=\"\",\"\",IF($A65=\"Between\",SUMIFS('Age Distribution'!AB:AB,'Age Distribution'!$I:$I,\">=\"&$B65,'Age Distribution'!$I:$I,\"<\"&$D65),SUMIFS('Age Distribution'!AB:AB,'Age Distribution'!$I:$I,\">=\"&$B65)))","v":825},{"$f":"IF($A65=\"\",\"\",IF($A65=\"Between\",SUMIFS('Age Distribution'!AC:AC,'Age Distribution'!$I:$I,\">=\"&$B65,'Age Distribution'!$I:$I,\"<\"&$D65),SUMIFS('Age Distribution'!AC:AC,'Age Distribution'!$I:$I,\">=\"&$B65)))","v":5033},{"$f":"IF($A65=\"\",\"\",IF($A65=\"Between\",SUMIFS('Age Distribution'!AD:AD,'Age Distribution'!$I:$I,\">=\"&$B65,'Age Distribution'!$I:$I,\"<\"&$D65),SUMIFS('Age Distribution'!AD:AD,'Age Distribution'!$I:$I,\">=\"&$B65)))","v":74},{"$f":"IF($A65=\"\",\"\",IF($A65=\"Between\",SUMIFS('Age Distribution'!AE:AE,'Age Distribution'!$I:$I,\">=\"&$B65,'Age Distribution'!$I:$I,\"<\"&$D65),SUMIFS('Age Distribution'!AE:AE,'Age Distribution'!$I:$I,\">=\"&$B65)))","v":50334},{"$f":"IF($A65=\"\",\"\",IF($A65=\"Between\",SUMPRODUCT(--('Age Distribution'!$I$2:$I$6545<$D65),--('Age Distribution'!$I$2:$I$6545>=$B65),'Age Distribution'!$AE$2:$AE$6545,'Age Distribution'!AF$2:AF$6545)/SUMIFS('Age Distribution'!$AE$2:$AE$6545,'Age Distribution'!$I$2:$I$6545,\"<\"&$D65,'Age Distribution'!$I$2:$I$6545,\">=\"&$B65),SUMPRODUCT(--('Age Distribution'!$I$2:$I$6545>=$B65),'Age Distribution'!$AE$2:$AE$6545,'Age Distribution'!AF$2:AF$6545)/SUMIFS('Age Distribution'!$AE$2:$AE$6545,'Age Distribution'!$I$2:$I$6545,\">=\"&$B65)))","v":9.2826518854054836},{"$f":"IF($A65=\"\",\"\",IF($A65=\"Between\",SUMPRODUCT(--('Age Distribution'!$I$2:$I$6545<$D65),--('Age Distribution'!$I$2:$I$6545>=$B65),'Age Distribution'!$AE$2:$AE$6545,'Age Distribution'!AG$2:AG$6545)/SUMIFS('Age Distribution'!$AE$2:$AE$6545,'Age Distribution'!$I$2:$I$6545,\"<\"&$D65,'Age Distribution'!$I$2:$I$6545,\">=\"&$B65,'Age Distribution'!$AG$2:$AG$6545,\"<>\"),SUMPRODUCT(--('Age Distribution'!$I$2:$I$6545>=$B65),'Age Distribution'!$AE$2:$AE$6545,'Age Distribution'!AG$2:AG$6545)/SUMIFS('Age Distribution'!$AE$2:$AE$6545,'Age Distribution'!$I$2:$I$6545,\">=\"&$B65,'Age Distribution'!$AG$2:$AG$6545,\"<>\")))","v":529914.43994670827}]
[null,null,null,null,{"$f":"IFERROR($F$2&CHAR(10)&G68&\":\"&CHAR(10)&F66&CHAR(10)&G66&CHAR(10)&H66&CHAR(10)&I66&CHAR(10)&J66&CHAR(10)&K66&CHAR(10)&L66&CHAR(10)&M66&CHAR(10)&N66&CHAR(10)&O66&CHAR(10)&O66&CHAR(10)&P66&CHAR(10)&Q66&CHAR(10)&R66&CHAR(10)&S66&CHAR(10)&T66&CHAR(10)&U66&CHAR(10)&V66&CHAR(10)&W66&CHAR(10)&X66,\"\")","v":"Active Vehicles By Age Grouping (in Years)\nAgency Size Under 10 Vehicles:\n0: 458\n1: 1,161\n2: 1,163\n3: 1,099\n4: 710\n5: 877\n6: 682\n7: 687\n8: 864\n9: 533\n9: 533\n\n\n\n\n\n\n\n\n"},{"$f":"F56&\": \"&FIXED(F67,0,0)","v":"0: 458"},{"$f":"G56&\": \"&FIXED(G67,0,0)","v":"1: 1,161"},"2: 1,163","3: 1,099","4: 710","5: 877","6: 682","7: 687","8: 864","9: 533"]
[null,null,null,null,null,{"$f":"INDIRECT(\"F\"&(56+$F$68))","v":458},{"$f":"INDIRECT(\"G\"&(56+$F$68))","v":1161},{"$f":"INDIRECT(\"H\"&(56+$F$68))","v":1163},{"$f":"INDIRECT(\"I\"&(56+$F$68))","v":1099},{"$f":"INDIRECT(\"J\"&(56+$F$68))","v":710},{"$f":"INDIRECT(\"K\"&(56+$F$68))","v":877},{"$f":"INDIRECT(\"L\"&(56+$F$68))","v":682},{"$f":"INDIRECT(\"M\"&(56+$F$68))","v":687},{"$f":"INDIRECT(\"N\"&(56+$F$68))","v":864},{"$f":"INDIRECT(\"O\"&(56+$F$68))","v":533},{"$f":"INDIRECT(\"P\"&(56+$F$68))","v":459},{"$f":"INDIRECT(\"Q\"&(56+$F$68))","v":301},{"$f":"INDIRECT(\"R\"&(56+$F$68))","v":241},{"$f":"INDIRECT(\"S\"&(56+$F$68))","v":410},{"$f":"INDIRECT(\"T\"&(56+$F$68))","v":255},{"$f":"INDIRECT(\"U\"&(56+$F$68))","v":47},{"$f":"INDIRECT(\"V\"&(56+$F$68))","v":21},{"$f":"INDIRECT(\"W\"&(56+$F$68))","v":64},{"$f":"INDIRECT(\"X\"&(56+$F$68))","v":7}]
[null,null,null,null,null,1,{"$f":"IF(INDIRECT(\"A\"&(56+F68))=\"\",\"Please select a valid bin to graph.\",IF(OR(INDIRECT(\"A\"&(56+F68))=\"Under\",INDIRECT(\"A\"&(56+F68))=\"Over\"),\"Agency Size \"&INDIRECT(\"A\"&(56+F68))&\" \"&FIXED(INDIRECT(\"B\"&(56+F68)),0,0)&\" Vehicles\",\"Agency Size \"&\"Between \"&FIXED(INDIRECT(\"B\"&(56+F68)),0,0)&\" and \"&FIXED(INDIRECT(\"D\"&(56+F68)),0,0)&\" Vehicles\"))","v":"Agency Size Under 10 Vehicles"}]
[]
["By State"]
[null,null,null,null,null,"Active Vehicles By Age Grouping (in Years)"]
[null,null,"Abbreviation","State","Column1","0","1","2","3","4","5","6","7","8","9","10","11","12","13-15","16-20","21-25","26-30","31-60","60+","Total Active Fleet","Average Age of Fleet (in Years)","Average Lifetime Miles per Vehicle"]
[null,null,"AK","Alaska",null,{"$f":"SUMIFS('Age Distribution'!L:L,'Age Distribution'!$C:$C,\"=\"&'Summary Tables Age Distribution'!$C73)","v":58},{"$f":"SUMIFS('Age Distribution'!M:M,'Age Distribution'!$C:$C,\"=\"&'Summary Tables Age Distribution'!$C73)","v":68},{"$f":"SUMIFS('Age Distribution'!N:N,'Age Distribution'!$C:$C,\"=\"&'Summary Tables Age Distribution'!$C73)","v":72},{"$f":"SUMIFS('Age Distribution'!O:O,'Age Distribution'!$C:$C,\"=\"&'Summary Tables Age Distribution'!$C73)","v":34},{"$f":"SUMIFS('Age Distribution'!P:P,'Age Distribution'!$C:$C,\"=\"&'Summary Tables Age Distribution'!$C73)","v":34},{"$f":"SUMIFS('Age Distribution'!Q:Q,'Age Distribution'!$C:$C,\"=\"&'Summary Tables Age Distribution'!$C73)","v":35},{"$f":"SUMIFS('Age Distribution'!R:R,'Age Distribution'!$C:$C,\"=\"&'Summary Tables Age Distribution'!$C73)","v":54},{"$f":"SUMIFS('Age Distribution'!S:S,'Age Distribution'!$C:$C,\"=\"&'Summary Tables Age Distribution'!$C73)","v":60},{"$f":"SUMIFS('Age Distribution'!T:T,'Age Distribution'!$C:$C,\"=\"&'Summary Tables Age Distribution'!$C73)","v":47},{"$f":"SUMIFS('Age Distribution'!U:U,'Age Distribution'!$C:$C,\"=\"&'Summary Tables Age Distribution'!$C73)","v":38},{"$f":"SUMIFS('Age Distribution'!V:V,'Age Distribution'!$C:$C,\"=\"&'Summary Tables Age Distribution'!$C73)","v":47},{"$f":"SUMIFS('Age Distribution'!W:W,'Age Distribution'!$C:$C,\"=\"&'Summary Tables Age Distribution'!$C73)","v":29},{"$f":"SUMIFS('Age Distribution'!X:X,'Age Distribution'!$C:$C,\"=\"&'Summary Tables Age Distribution'!$C73)","v":17},{"$f":"SUMIFS('Age Distribution'!Y:Y,'Age Distribution'!$C:$C,\"=\"&'Summary Tables Age Distribution'!$C73)","v":49},{"$f":"SUMIFS('Age Distribution'!Z:Z,'Age Distribution'!$C:$C,\"=\"&'Summary Tables Age Distribution'!$C73)","v":88},{"$f":"SUMIFS('Age Distribution'!AA:AA,'Age Distribution'!$C:$C,\"=\"&'Summary Tables Age Distribution'!$C73)","v":22},{"$f":"SUMIFS('Age Distribution'!AB:AB,'Age Distribution'!$C:$C,\"=\"&'Summary Tables Age Distribution'!$C73)","v":14},{"$f":"SUMIFS('Age Distribution'!AC:AC,'Age Distribution'!$C:$C,\"=\"&'Summary Tables Age Distribution'!$C73)","v":43},{"$f":"SUMIFS('Age Distribution'!AD:AD,'Age Distribution'!$C:$C,\"=\"&'Summary Tables Age Distribution'!$C73)","v":0},{"$f":"SUMIFS('Age Distribution'!AE:AE,'Age Distribution'!$C:$C,\"=\"&'Summary Tables Age Distribution'!$C73)","v":809},{"$f":"IFERROR(SUMPRODUCT(--('Age Distribution'!$C:$C='Summary Tables Age Distribution'!$C73),'Age Distribution'!$AE:$AE,'Age Distribution'!AF:AF)/SUMIFS('Age Distribution'!$AE:$AE,'Age Distribution'!$C:$C,\"=\"&'Summary Tables Age Distribution'!$C73),\"-\")","v":5.3213844252163041},{"$f":"IFERROR(SUMPRODUCT(--('Age Distribution'!$C:$C='Summary Tables Age Distribution'!$C73),'Age Distribution'!$AE:$AE,'Age Distribution'!AG:AG)/SUMIFS('Age Distribution'!$AE:$AE,'Age Distribution'!$C:$C,\"=\"&'Summary Tables Age Distribution'!$C73,'Age Distribution'!$AG:$AG,\"<>\"),\"-\")","v":234572.01969693656}]
[null,null,"AL","Alabama",null,{"$f":"SUMIFS('Age Distribution'!L:L,'Age Distribution'!$C:$C,\"=\"&'Summary Tables Age Distribution'!$C74)","v":54},{"$f":"SUMIFS('Age Distribution'!M:M,'Age Distribution'!$C:$C,\"=\"&'Summary Tables Age Distribution'!$C74)","v":83},{"$f":"SUMIFS('Age Distribution'!N:N,'Age Distribution'!$C:$C,\"=\"&'Summary Tables Age Distribution'!$C74)","v":98},{"$f":"SUMIFS('Age Distribution'!O:O,'Age Distribution'!$C:$C,\"=\"&'Summary Tables Age Distribution'!$C74)","v":66},{"$f":"SUMIFS('Age Distribution'!P:P,'Age Distribution'!$C:$C,\"=\"&'Summary Tables Age Distribution'!$C74)","v":43},{"$f":"SUMIFS('Age Distribution'!Q:Q,'Age Distribution'!$C:$C,\"=\"&'Summary Tables Age Distribution'!$C74)","v":88},{"$f":"SUMIFS('Age Distribution'!R:R,'Age Distribution'!$C:$C,\"=\"&'Summary Tables Age Distribution'!$C74)","v":65},{"$f":"SUMIFS('Age Distribution'!S:S,'Age Distribution'!$C:$C,\"=\"&'Summary Tables Age Distribution'!$C74)","v":120},{"$f":"SUMIFS('Age Distribution'!T:T,'Age Distribution'!$C:$C,\"=\"&'Summary Tables Age Distribution'!$C74)","v":110},{"$f":"SUMIFS('Age Distribution'!U:U,'Age Distribution'!$C:$C,\"=\"&'Summary Tables Age Distribution'!$C74)","v":19},{"$f":"SUMIFS('Age Distribution'!V:V,'Age Distribution'!$C:$C,\"=\"&'Summary Tables Age Distribution'!$C74)","v":37},{"$f":"SUMIFS('Age Distribution'!W:W,'Age Distribution'!$C:$C,\"=\"&'Summary Tables Age Distribution'!$C74)","v":32},{"$f":"SUMIFS('Age Distribution'!X:X,'Age Distribution'!$C:$C,\"=\"&'Summary Tables Age Distribution'!$C74)","v":11},{"$f":"SUMIFS('Age Distribution'!Y:Y,'Age Distribution'!$C:$C,\"=\"&'Summary Tables Age Distribution'!$C74)","v":58},{"$f":"SUMIFS('Age Distribution'!Z:Z,'Age Distribution'!$C:$C,\"=\"&'Summary Tables Age Distribution'!$C74)","v":18},{"$f":"SUMIFS('Age Distribution'!AA:AA,'Age Distribution'!$C:$C,\"=\"&'Summary Tables Age Distribution'!$C74)","v":1},{"$f":"SUMIFS('Age Distribution'!AB:AB,'Age Distribution'!$C:$C,\"=\"&'Summary Tables Age Distribution'!$C74)","v":0},{"$f":"SUMIFS('Age Distribution'!AC:AC,'Age Distribution'!$C:$C,\"=\"&'Summary Tables Age Distribution'!$C74)","v":0},{"$f":"SUMIFS('Age Distribution'!AD:AD,'Age Distribution'!$C:$C,\"=\"&'Summary Tables Age Distribution'!$C74)","v":1},{"$f":"SUMIFS('Age Distribution'!AE:AE,'Age Distribution'!$C:$C,\"=\"&'Summary Tables Age Distribution'!$C74)","v":904},{"$f":"IFERROR(SUMPRODUCT(--('Age Distribution'!$C:$C='Summary Tables Age Distribution'!$C74),'Age Distribution'!$AE:$AE,'Age Distribution'!AF:AF)/SUMIFS('Age Distribution'!$AE:$AE,'Age Distribution'!$C:$C,\"=\"&'Summary Tables Age Distribution'!$C74),\"-\")","v":5.4612831858407036},{"$f":"IFERROR(SUMPRODUCT(--('Age Distribution'!$C:$C='Summary Tables Age Distribution'!$C74),'Age Distribution'!$AE:$AE,'Age Distribution'!AG:AG)/SUMIFS('Age Distribution'!$AE:$AE,'Age Distribution'!$C:$C,\"=\"&'Summary Tables Age Distribution'!$C74,'Age Distribution'!$AG:$AG,\"<>\"),\"-\")","v":129221.55529048752}]
[null,null,"AR","Arkansas",null,{"$f":"SUMIFS('Age Distribution'!L:L,'Age Distribution'!$C:$C,\"=\"&'Summary Tables Age Distribution'!$C75)","v":17},{"$f":"SUMIFS('Age Distribution'!M:M,'Age Distribution'!$C:$C,\"=\"&'Summary Tables Age Distribution'!$C75)","v":91},{"$f":"SUMIFS('Age Distribution'!N:N,'Age Distribution'!$C:$C,\"=\"&'Summary Tables Age Distribution'!$C75)","v":77},{"$f":"SUMIFS('Age Distribution'!O:O,'Age Distribution'!$C:$C,\"=\"&'Summary Tables Age Distribution'!$C75)","v":47},{"$f":"SUMIFS('Age Distribution'!P:P,'Age Distribution'!$C:$C,\"=\"&'Summary Tables Age Distribution'!$C75)","v":58},{"$f":"SUMIFS('Age Distribution'!Q:Q,'Age Distribution'!$C:$C,\"=\"&'Summary Tables Age Distribution'!$C75)","v":49},{"$f":"SUMIFS('Age Distribution'!R:R,'Age Distribution'!$C:$C,\"=\"&'Summary Tables Age Distribution'!$C75)","v":28},{"$f":"SUMIFS('Age Distribution'!S:S,'Age Distribution'!$C:$C,\"=\"&'Summary Tables Age Distribution'!$C75)","v":30},{"$f":"SUMIFS('Age Distribution'!T:T,'Age Distribution'!$C:$C,\"=\"&'Summary Tables Age Distribution'!$C75)","v":92},{"$f":"SUMIFS('Age Distribution'!U:U,'Age Distribution'!$C:$C,\"=\"&'Summary Tables Age Distribution'!$C75)","v":75},{"$f":"SUMIFS('Age Distribution'!V:V,'Age Distribution'!$C:$C,\"=\"&'Summary Tables Age Distribution'!$C75)","v":45},{"$f":"SUMIFS('Age Distribution'!W:W,'Age Distribution'!$C:$C,\"=\"&'Summary Tables Age Distribution'!$C75)","v":28},{"$f":"SUMIFS('Age Distribution'!X:X,'Age Distribution'!$C:$C,\"=\"&'Summary Tables Age Distribution'!$C75)","v":35},{"$f":"SUMIFS('Age Distribution'!Y:Y,'Age Distribution'!$C:$C,\"=\"&'Summary Tables Age Distribution'!$C75)","v":52},{"$f":"SUMIFS('Age Distribution'!Z:Z,'Age Distribution'!$C:$C,\"=\"&'Summary Tables Age Distribution'!$C75)","v":39},{"$f":"SUMIFS('Age Distribution'!AA:AA,'Age Distribution'!$C:$C,\"=\"&'Summary Tables Age Distribution'!$C75)","v":5},{"$f":"SUMIFS('Age Distribution'!AB:AB,'Age Distribution'!$C:$C,\"=\"&'Summary Tables Age Distribution'!$C75)","v":1},{"$f":"SUMIFS('Age Distribution'!AC:AC,'Age Distribution'!$C:$C,\"=\"&'Summary Tables Age Distribution'!$C75)","v":0},{"$f":"SUMIFS('Age Distribution'!AD:AD,'Age Distribution'!$C:$C,\"=\"&'Summary Tables Age Distribution'!$C75)","v":0},{"$f":"SUMIFS('Age Distribution'!AE:AE,'Age Distribution'!$C:$C,\"=\"&'Summary Tables Age Distribution'!$C75)","v":769},{"$f":"IFERROR(SUMPRODUCT(--('Age Distribution'!$C:$C='Summary Tables Age Distribution'!$C75),'Age Distribution'!$AE:$AE,'Age Distribution'!AF:AF)/SUMIFS('Age Distribution'!$AE:$AE,'Age Distribution'!$C:$C,\"=\"&'Summary Tables Age Distribution'!$C75),\"-\")","v":6.1365409622886826},{"$f":"IFERROR(SUMPRODUCT(--('Age Distribution'!$C:$C='Summary Tables Age Distribution'!$C75),'Age Distribution'!$AE:$AE,'Age Distribution'!AG:AG)/SUMIFS('Age Distribution'!$AE:$AE,'Age Distribution'!$C:$C,\"=\"&'Summary Tables Age Distribution'!$C75,'Age Distribution'!$AG:$AG,\"<>\"),\"-\")","v":63154.057912288146}]
[null,null,"AS","American Samoa",null,{"$f":"SUMIFS('Age Distribution'!L:L,'Age Distribution'!$C:$C,\"=\"&'Summary Tables Age Distribution'!$C76)","v":0},{"$f":"SUMIFS('Age Distribution'!M:M,'Age Distribution'!$C:$C,\"=\"&'Summary Tables Age Distribution'!$C76)","v":0},{"$f":"SUMIFS('Age Distribution'!N:N,'Age Distribution'!$C:$C,\"=\"&'Summary Tables Age Distribution'!$C76)","v":2},{"$f":"SUMIFS('Age Distribution'!O:O,'Age Distribution'!$C:$C,\"=\"&'Summary Tables Age Distribution'!$C76)","v":1},{"$f":"SUMIFS('Age Distribution'!P:P,'Age Distribution'!$C:$C,\"=\"&'Summary Tables Age Distribution'!$C76)","v":0},{"$f":"SUMIFS('Age Distribution'!Q:Q,'Age Distribution'!$C:$C,\"=\"&'Summary Tables Age Distribution'!$C76)","v":0},{"$f":"SUMIFS('Age Distribution'!R:R,'Age Distribution'!$C:$C,\"=\"&'Summary Tables Age Distribution'!$C76)","v":0},{"$f":"SUMIFS('Age Distribution'!S:S,'Age Distribution'!$C:$C,\"=\"&'Summary Tables Age Distribution'!$C76)","v":1},{"$f":"SUMIFS('Age Distribution'!T:T,'Age Distribution'!$C:$C,\"=\"&'Summary Tables Age Distribution'!$C76)","v":4},{"$f":"SUMIFS('Age Distribution'!U:U,'Age Distribution'!$C:$C,\"=\"&'Summary Tables Age Distribution'!$C76)","v":2},{"$f":"SUMIFS('Age Distribution'!V:V,'Age Distribution'!$C:$C,\"=\"&'Summary Tables Age Distribution'!$C76)","v":0},{"$f":"SUMIFS('Age Distribution'!W:W,'Age Distribution'!$C:$C,\"=\"&'Summary Tables Age Distribution'!$C76)","v":0},{"$f":"SUMIFS('Age Distribution'!X:X,'Age Distribution'!$C:$C,\"=\"&'Summary Tables Age Distribution'!$C76)","v":0},{"$f":"SUMIFS('Age Distribution'!Y:Y,'Age Distribution'!$C:$C,\"=\"&'Summary Tables Age Distribution'!$C76)","v":0},{"$f":"SUMIFS('Age Distribution'!Z:Z,'Age Distribution'!$C:$C,\"=\"&'Summary Tables Age Distribution'!$C76)","v":0},{"$f":"SUMIFS('Age Distribution'!AA:AA,'Age Distribution'!$C:$C,\"=\"&'Summary Tables Age Distribution'!$C76)","v":0},{"$f":"SUMIFS('Age Distribution'!AB:AB,'Age Distribution'!$C:$C,\"=\"&'Summary Tables Age Distribution'!$C76)","v":0},{"$f":"SUMIFS('Age Distribution'!AC:AC,'Age Distribution'!$C:$C,\"=\"&'Summary Tables Age Distribution'!$C76)","v":0},{"$f":"SUMIFS('Age Distribution'!AD:AD,'Age Distribution'!$C:$C,\"=\"&'Summary Tables Age Distribution'!$C76)","v":0},{"$f":"SUMIFS('Age Distribution'!AE:AE,'Age Distribution'!$C:$C,\"=\"&'Summary Tables Age Distribution'!$C76)","v":10},{"$f":"IFERROR(SUMPRODUCT(--('Age Distribution'!$C:$C='Summary Tables Age Distribution'!$C76),'Age Distribution'!$AE:$AE,'Age Distribution'!AF:AF)/SUMIFS('Age Distribution'!$AE:$AE,'Age Distribution'!$C:$C,\"=\"&'Summary Tables Age Distribution'!$C76),\"-\")","v":6.2},{"$f":"IFERROR(SUMPRODUCT(--('Age Distribution'!$C:$C='Summary Tables Age Distribution'!$C76),'Age Distribution'!$AE:$AE,'Age Distribution'!AG:AG)/SUMIFS('Age Distribution'!$AE:$AE,'Age Distribution'!$C:$C,\"=\"&'Summary Tables Age Distribution'!$C76,'Age Distribution'!$AG:$AG,\"<>\"),\"-\")","v":0}]
[null,null,"AZ","Arizona",null,{"$f":"SUMIFS('Age Distribution'!L:L,'Age Distribution'!$C:$C,\"=\"&'Summary Tables Age Distribution'!$C77)","v":235},{"$f":"SUMIFS('Age Distribution'!M:M,'Age Distribution'!$C:$C,\"=\"&'Summary Tables Age Distribution'!$C77)","v":292},{"$f":"SUMIFS('Age Distribution'!N:N,'Age Distribution'!$C:$C,\"=\"&'Summary Tables Age Distribution'!$C77)","v":205},{"$f":"SUMIFS('Age Distribution'!O:O,'Age Distribution'!$C:$C,\"=\"&'Summary Tables Age Distribution'!$C77)","v":269},{"$f":"SUMIFS('Age Distribution'!P:P,'Age Distribution'!$C:$C,\"=\"&'Summary Tables Age Distribution'!$C77)","v":223},{"$f":"SUMIFS('Age Distribution'!Q:Q,'Age Distribution'!$C:$C,\"=\"&'Summary Tables Age Distribution'!$C77)","v":372},{"$f":"SUMIFS('Age Distribution'!R:R,'Age Distribution'!$C:$C,\"=\"&'Summary Tables Age Distribution'!$C77)","v":168},{"$f":"SUMIFS('Age Distribution'!S:S,'Age Distribution'!$C:$C,\"=\"&'Summary Tables Age Distribution'!$C77)","v":106},{"$f":"SUMIFS('Age Distribution'!T:T,'Age Distribution'!$C:$C,\"=\"&'Summary Tables Age Distribution'!$C77)","v":79},{"$f":"SUMIFS('Age Distribution'!U:U,'Age Distribution'!$C:$C,\"=\"&'Summary Tables Age Distribution'!$C77)","v":92},{"$f":"SUMIFS('Age Distribution'!V:V,'Age Distribution'!$C:$C,\"=\"&'Summary Tables Age Distribution'!$C77)","v":220},{"$f":"SUMIFS('Age Distribution'!W:W,'Age Distribution'!$C:$C,\"=\"&'Summary Tables Age Distribution'!$C77)","v":192},{"$f":"SUMIFS('Age Distribution'!X:X,'Age Distribution'!$C:$C,\"=\"&'Summary Tables Age Distribution'!$C77)","v":30},{"$f":"SUMIFS('Age Distribution'!Y:Y,'Age Distribution'!$C:$C,\"=\"&'Summary Tables Age Distribution'!$C77)","v":90},{"$f":"SUMIFS('Age Distribution'!Z:Z,'Age Distribution'!$C:$C,\"=\"&'Summary Tables Age Distribution'!$C77)","v":10},{"$f":"SUMIFS('Age Distribution'!AA:AA,'Age Distribution'!$C:$C,\"=\"&'Summary Tables Age Distribution'!$C77)","v":3},{"$f":"SUMIFS('Age Distribution'!AB:AB,'Age Distribution'!$C:$C,\"=\"&'Summary Tables Age Distribution'!$C77)","v":0},{"$f":"SUMIFS('Age Distribution'!AC:AC,'Age Distribution'!$C:$C,\"=\"&'Summary Tables Age Distribution'!$C77)","v":0},{"$f":"SUMIFS('Age Distribution'!AD:AD,'Age Distribution'!$C:$C,\"=\"&'Summary Tables Age Distribution'!$C77)","v":0},{"$f":"SUMIFS('Age Distribution'!AE:AE,'Age Distribution'!$C:$C,\"=\"&'Summary Tables Age Distribution'!$C77)","v":2586},{"$f":"IFERROR(SUMPRODUCT(--('Age Distribution'!$C:$C='Summary Tables Age Distribution'!$C77),'Age Distribution'!$AE:$AE,'Age Distribution'!AF:AF)/SUMIFS('Age Distribution'!$AE:$AE,'Age Distribution'!$C:$C,\"=\"&'Summary Tables Age Distribution'!$C77),\"-\")","v":4.744392884764113},{"$f":"IFERROR(SUMPRODUCT(--('Age Distribution'!$C:$C='Summary Tables Age Distribution'!$C77),'Age Distribution'!$AE:$AE,'Age Distribution'!AG:AG)/SUMIFS('Age Distribution'!$AE:$AE,'Age Distribution'!$C:$C,\"=\"&'Summary Tables Age Distribution'!$C77,'Age Distribution'!$AG:$AG,\"<>\"),\"-\")","v":175384.34352377921}]
[null,null,"CA","California",null,{"$f":"SUMIFS('Age Distribution'!L:L,'Age Distribution'!$C:$C,\"=\"&'Summary Tables Age Distribution'!$C78)","v":1419},{"$f":"SUMIFS('Age Distribution'!M:M,'Age Distribution'!$C:$C,\"=\"&'Summary Tables Age Distribution'!$C78)","v":2787},{"$f":"SUMIFS('Age Distribution'!N:N,'Age Distribution'!$C:$C,\"=\"&'Summary Tables Age Distribution'!$C78)","v":2550},{"$f":"SUMIFS('Age Distribution'!O:O,'Age Distribution'!$C:$C,\"=\"&'Summary Tables Age Distribution'!$C78)","v":2220},{"$f":"SUMIFS('Age Distribution'!P:P,'Age Distribution'!$C:$C,\"=\"&'Summary Tables Age Distribution'!$C78)","v":2478},{"$f":"SUMIFS('Age Distribution'!Q:Q,'Age Distribution'!$C:$C,\"=\"&'Summary Tables Age Distribution'!$C78)","v":1935},{"$f":"SUMIFS('Age Distribution'!R:R,'Age Distribution'!$C:$C,\"=\"&'Summary Tables Age Distribution'!$C78)","v":1602},{"$f":"SUMIFS('Age Distribution'!S:S,'Age Distribution'!$C:$C,\"=\"&'Summary Tables Age Distribution'!$C78)","v":1062},{"$f":"SUMIFS('Age Distribution'!T:T,'Age Distribution'!$C:$C,\"=\"&'Summary Tables Age Distribution'!$C78)","v":1003},{"$f":"SUMIFS('Age Distribution'!U:U,'Age Distribution'!$C:$C,\"=\"&'Summary Tables Age Distribution'!$C78)","v":1477},{"$f":"SUMIFS('Age Distribution'!V:V,'Age Distribution'!$C:$C,\"=\"&'Summary Tables Age Distribution'!$C78)","v":1407},{"$f":"SUMIFS('Age Distribution'!W:W,'Age Distribution'!$C:$C,\"=\"&'Summary Tables Age Distribution'!$C78)","v":807},{"$f":"SUMIFS('Age Distribution'!X:X,'Age Distribution'!$C:$C,\"=\"&'Summary Tables Age Distribution'!$C78)","v":584},{"$f":"SUMIFS('Age Distribution'!Y:Y,'Age Distribution'!$C:$C,\"=\"&'Summary Tables Age Distribution'!$C78)","v":1669},{"$f":"SUMIFS('Age Distribution'!Z:Z,'Age Distribution'!$C:$C,\"=\"&'Summary Tables Age Distribution'!$C78)","v":1950},{"$f":"SUMIFS('Age Distribution'!AA:AA,'Age Distribution'!$C:$C,\"=\"&'Summary Tables Age Distribution'!$C78)","v":572},{"$f":"SUMIFS('Age Distribution'!AB:AB,'Age Distribution'!$C:$C,\"=\"&'Summary Tables Age Distribution'!$C78)","v":386},{"$f":"SUMIFS('Age Distribution'!AC:AC,'Age Distribution'!$C:$C,\"=\"&'Summary Tables Age Distribution'!$C78)","v":668},{"$f":"SUMIFS('Age Distribution'!AD:AD,'Age Distribution'!$C:$C,\"=\"&'Summary Tables Age Distribution'!$C78)","v":81},{"$f":"SUMIFS('Age Distribution'!AE:AE,'Age Distribution'!$C:$C,\"=\"&'Summary Tables Age Distribution'!$C78)","v":26657},{"$f":"IFERROR(SUMPRODUCT(--('Age Distribution'!$C:$C='Summary Tables Age Distribution'!$C78),'Age Distribution'!$AE:$AE,'Age Distribution'!AF:AF)/SUMIFS('Age Distribution'!$AE:$AE,'Age Distribution'!$C:$C,\"=\"&'Summary Tables Age Distribution'!$C78),\"-\")","v":6.7105825861874857},{"$f":"IFERROR(SUMPRODUCT(--('Age Distribution'!$C:$C='Summary Tables Age Distribution'!$C78),'Age Distribution'!$AE:$AE,'Age Distribution'!AG:AG)/SUMIFS('Age Distribution'!$AE:$AE,'Age Distribution'!$C:$C,\"=\"&'Summary Tables Age Distribution'!$C78,'Age Distribution'!$AG:$AG,\"<>\"),\"-\")","v":300353.27997720533}]
[null,null,"CO","Colorado",null,{"$f":"SUMIFS('Age Distribution'!L:L,'Age Distribution'!$C:$C,\"=\"&'Summary Tables Age Distribution'!$C79)","v":214},{"$f":"SUMIFS('Age Distribution'!M:M,'Age Distribution'!$C:$C,\"=\"&'Summary Tables Age Distribution'!$C79)","v":284},{"$f":"SUMIFS('Age Distribution'!N:N,'Age Distribution'!$C:$C,\"=\"&'Summary Tables Age Distribution'!$C79)","v":478},{"$f":"SUMIFS('Age Distribution'!O:O,'Age Distribution'!$C:$C,\"=\"&'Summary Tables Age Distribution'!$C79)","v":416},{"$f":"SUMIFS('Age Distribution'!P:P,'Age Distribution'!$C:$C,\"=\"&'Summary Tables Age Distribution'!$C79)","v":519},{"$f":"SUMIFS('Age Distribution'!Q:Q,'Age Distribution'!$C:$C,\"=\"&'Summary Tables Age Distribution'!$C79)","v":236},{"$f":"SUMIFS('Age Distribution'!R:R,'Age Distribution'!$C:$C,\"=\"&'Summary Tables Age Distribution'!$C79)","v":92},{"$f":"SUMIFS('Age Distribution'!S:S,'Age Distribution'!$C:$C,\"=\"&'Summary Tables Age Distribution'!$C79)","v":134},{"$f":"SUMIFS('Age Distribution'!T:T,'Age Distribution'!$C:$C,\"=\"&'Summary Tables Age Distribution'!$C79)","v":165},{"$f":"SUMIFS('Age Distribution'!U:U,'Age Distribution'!$C:$C,\"=\"&'Summary Tables Age Distribution'!$C79)","v":95},{"$f":"SUMIFS('Age Distribution'!V:V,'Age Distribution'!$C:$C,\"=\"&'Summary Tables Age Distribution'!$C79)","v":154},{"$f":"SUMIFS('Age Distribution'!W:W,'Age Distribution'!$C:$C,\"=\"&'Summary Tables Age Distribution'!$C79)","v":178},{"$f":"SUMIFS('Age Distribution'!X:X,'Age Distribution'!$C:$C,\"=\"&'Summary Tables Age Distribution'!$C79)","v":245},{"$f":"SUMIFS('Age Distribution'!Y:Y,'Age Distribution'!$C:$C,\"=\"&'Summary Tables Age Distribution'!$C79)","v":260},{"$f":"SUMIFS('Age Distribution'!Z:Z,'Age Distribution'!$C:$C,\"=\"&'Summary Tables Age Distribution'!$C79)","v":150},{"$f":"SUMIFS('Age Distribution'!AA:AA,'Age Distribution'!$C:$C,\"=\"&'Summary Tables Age Distribution'!$C79)","v":43},{"$f":"SUMIFS('Age Distribution'!AB:AB,'Age Distribution'!$C:$C,\"=\"&'Summary Tables Age Distribution'!$C79)","v":26},{"$f":"SUMIFS('Age Distribution'!AC:AC,'Age Distribution'!$C:$C,\"=\"&'Summary Tables Age Distribution'!$C79)","v":2},{"$f":"SUMIFS('Age Distribution'!AD:AD,'Age Distribution'!$C:$C,\"=\"&'Summary Tables Age Distribution'!$C79)","v":0},{"$f":"SUMIFS('Age Distribution'!AE:AE,'Age Distribution'!$C:$C,\"=\"&'Summary Tables Age Distribution'!$C79)","v":3691},{"$f":"IFERROR(SUMPRODUCT(--('Age Distribution'!$C:$C='Summary Tables Age Distribution'!$C79),'Age Distribution'!$AE:$AE,'Age Distribution'!AF:AF)/SUMIFS('Age Distribution'!$AE:$AE,'Age Distribution'!$C:$C,\"=\"&'Summary Tables Age Distribution'!$C79),\"-\")","v":5.383364941750199},{"$f":"IFERROR(SUMPRODUCT(--('Age Distribution'!$C:$C='Summary Tables Age Distribution'!$C79),'Age Distribution'!$AE:$AE,'Age Distribution'!AG:AG)/SUMIFS('Age Distribution'!$AE:$AE,'Age Distribution'!$C:$C,\"=\"&'Summary Tables Age Distribution'!$C79,'Age Distribution'!$AG:$AG,\"<>\"),\"-\")","v":188868.88774008193}]
[null,null,"CT","Connecticut",null,{"$f":"SUMIFS('Age Distribution'!L:L,'Age Distribution'!$C:$C,\"=\"&'Summary Tables Age Distribution'!$C80)","v":58},{"$f":"SUMIFS('Age Distribution'!M:M,'Age Distribution'!$C:$C,\"=\"&'Summary Tables Age Distribution'!$C80)","v":418},{"$f":"SUMIFS('Age Distribution'!N:N,'Age Distribution'!$C:$C,\"=\"&'Summary Tables Age Distribution'!$C80)","v":196},{"$f":"SUMIFS('Age Distribution'!O:O,'Age Distribution'!$C:$C,\"=\"&'Summary Tables Age Distribution'!$C80)","v":96},{"$f":"SUMIFS('Age Distribution'!P:P,'Age Distribution'!$C:$C,\"=\"&'Summary Tables Age Distribution'!$C80)","v":149},{"$f":"SUMIFS('Age Distribution'!Q:Q,'Age Distribution'!$C:$C,\"=\"&'Summary Tables Age Distribution'!$C80)","v":60},{"$f":"SUMIFS('Age Distribution'!R:R,'Age Distribution'!$C:$C,\"=\"&'Summary Tables Age Distribution'!$C80)","v":99},{"$f":"SUMIFS('Age Distribution'!S:S,'Age Distribution'!$C:$C,\"=\"&'Summary Tables Age Distribution'!$C80)","v":37},{"$f":"SUMIFS('Age Distribution'!T:T,'Age Distribution'!$C:$C,\"=\"&'Summary Tables Age Distribution'!$C80)","v":151},{"$f":"SUMIFS('Age Distribution'!U:U,'Age Distribution'!$C:$C,\"=\"&'Summary Tables Age Distribution'!$C80)","v":28},{"$f":"SUMIFS('Age Distribution'!V:V,'Age Distribution'!$C:$C,\"=\"&'Summary Tables Age Distribution'!$C80)","v":31},{"$f":"SUMIFS('Age Distribution'!W:W,'Age Distribution'!$C:$C,\"=\"&'Summary Tables Age Distribution'!$C80)","v":102},{"$f":"SUMIFS('Age Distribution'!X:X,'Age Distribution'!$C:$C,\"=\"&'Summary Tables Age Distribution'!$C80)","v":26},{"$f":"SUMIFS('Age Distribution'!Y:Y,'Age Distribution'!$C:$C,\"=\"&'Summary Tables Age Distribution'!$C80)","v":110},{"$f":"SUMIFS('Age Distribution'!Z:Z,'Age Distribution'!$C:$C,\"=\"&'Summary Tables Age Distribution'!$C80)","v":19},{"$f":"SUMIFS('Age Distribution'!AA:AA,'Age Distribution'!$C:$C,\"=\"&'Summary Tables Age Distribution'!$C80)","v":45},{"$f":"SUMIFS('Age Distribution'!AB:AB,'Age Distribution'!$C:$C,\"=\"&'Summary Tables Age Distribution'!$C80)","v":4},{"$f":"SUMIFS('Age Distribution'!AC:AC,'Age Distribution'!$C:$C,\"=\"&'Summary Tables Age Distribution'!$C80)","v":48},{"$f":"SUMIFS('Age Distribution'!AD:AD,'Age Distribution'!$C:$C,\"=\"&'Summary Tables Age Distribution'!$C80)","v":1},{"$f":"SUMIFS('Age Distribution'!AE:AE,'Age Distribution'!$C:$C,\"=\"&'Summary Tables Age Distribution'!$C80)","v":1678},{"$f":"IFERROR(SUMPRODUCT(--('Age Distribution'!$C:$C='Summary Tables Age Distribution'!$C80),'Age Distribution'!$AE:$AE,'Age Distribution'!AF:AF)/SUMIFS('Age Distribution'!$AE:$AE,'Age Distribution'!$C:$C,\"=\"&'Summary Tables Age Distribution'!$C80),\"-\")","v":5.0238379022645985},{"$f":"IFERROR(SUMPRODUCT(--('Age Distribution'!$C:$C='Summary Tables Age Distribution'!$C80),'Age Distribution'!$AE:$AE,'Age Distribution'!AG:AG)/SUMIFS('Age Distribution'!$AE:$AE,'Age Distribution'!$C:$C,\"=\"&'Summary Tables Age Distribution'!$C80,'Age Distribution'!$AG:$AG,\"<>\"),\"-\")","v":152988.14651075267}]
[null,null,"DC","District of Columbia",null,{"$f":"SUMIFS('Age Distribution'!L:L,'Age Distribution'!$C:$C,\"=\"&'Summary Tables Age Distribution'!$C81)","v":118},{"$f":"SUMIFS('Age Distribution'!M:M,'Age Distribution'!$C:$C,\"=\"&'Summary Tables Age Distribution'!$C81)","v":588},{"$f":"SUMIFS('Age Distribution'!N:N,'Age Distribution'!$C:$C,\"=\"&'Summary Tables Age Distribution'!$C81)","v":599},{"$f":"SUMIFS('Age Distribution'!O:O,'Age Distribution'!$C:$C,\"=\"&'Summary Tables Age Distribution'!$C81)","v":302},{"$f":"SUMIFS('Age Distribution'!P:P,'Age Distribution'!$C:$C,\"=\"&'Summary Tables Age Distribution'!$C81)","v":408},{"$f":"SUMIFS('Age Distribution'!Q:Q,'Age Distribution'!$C:$C,\"=\"&'Summary Tables Age Distribution'!$C81)","v":563},{"$f":"SUMIFS('Age Distribution'!R:R,'Age Distribution'!$C:$C,\"=\"&'Summary Tables Age Distribution'!$C81)","v":679},{"$f":"SUMIFS('Age Distribution'!S:S,'Age Distribution'!$C:$C,\"=\"&'Summary Tables Age Distribution'!$C81)","v":185},{"$f":"SUMIFS('Age Distribution'!T:T,'Age Distribution'!$C:$C,\"=\"&'Summary Tables Age Distribution'!$C81)","v":253},{"$f":"SUMIFS('Age Distribution'!U:U,'Age Distribution'!$C:$C,\"=\"&'Summary Tables Age Distribution'!$C81)","v":315},{"$f":"SUMIFS('Age Distribution'!V:V,'Age Distribution'!$C:$C,\"=\"&'Summary Tables Age Distribution'!$C81)","v":198},{"$f":"SUMIFS('Age Distribution'!W:W,'Age Distribution'!$C:$C,\"=\"&'Summary Tables Age Distribution'!$C81)","v":181},{"$f":"SUMIFS('Age Distribution'!X:X,'Age Distribution'!$C:$C,\"=\"&'Summary Tables Age Distribution'!$C81)","v":249},{"$f":"SUMIFS('Age Distribution'!Y:Y,'Age Distribution'!$C:$C,\"=\"&'Summary Tables Age Distribution'!$C81)","v":271},{"$f":"SUMIFS('Age Distribution'!Z:Z,'Age Distribution'!$C:$C,\"=\"&'Summary Tables Age Distribution'!$C81)","v":100},{"$f":"SUMIFS('Age Distribution'!AA:AA,'Age Distribution'!$C:$C,\"=\"&'Summary Tables Age Distribution'!$C81)","v":6},{"$f":"SUMIFS('Age Distribution'!AB:AB,'Age Distribution'!$C:$C,\"=\"&'Summary Tables Age Distribution'!$C81)","v":27},{"$f":"SUMIFS('Age Distribution'!AC:AC,'Age Distribution'!$C:$C,\"=\"&'Summary Tables Age Distribution'!$C81)","v":332},{"$f":"SUMIFS('Age Distribution'!AD:AD,'Age Distribution'!$C:$C,\"=\"&'Summary Tables Age Distribution'!$C81)","v":0},{"$f":"SUMIFS('Age Distribution'!AE:AE,'Age Distribution'!$C:$C,\"=\"&'Summary Tables Age Distribution'!$C81)","v":5374},{"$f":"IFERROR(SUMPRODUCT(--('Age Distribution'!$C:$C='Summary Tables Age Distribution'!$C81),'Age Distribution'!$AE:$AE,'Age Distribution'!AF:AF)/SUMIFS('Age Distribution'!$AE:$AE,'Age Distribution'!$C:$C,\"=\"&'Summary Tables Age Distribution'!$C81),\"-\")","v":5.7994045403795935},{"$f":"IFERROR(SUMPRODUCT(--('Age Distribution'!$C:$C='Summary Tables Age Distribution'!$C81),'Age Distribution'!$AE:$AE,'Age Distribution'!AG:AG)/SUMIFS('Age Distribution'!$AE:$AE,'Age Distribution'!$C:$C,\"=\"&'Summary Tables Age Distribution'!$C81,'Age Distribution'!$AG:$AG,\"<>\"),\"-\")","v":436033.44132977619}]
[null,null,"DE","Delaware",null,{"$f":"SUMIFS('Age Distribution'!L:L,'Age Distribution'!$C:$C,\"=\"&'Summary Tables Age Distribution'!$C82)","v":62},{"$f":"SUMIFS('Age Distribution'!M:M,'Age Distribution'!$C:$C,\"=\"&'Summary Tables Age Distribution'!$C82)","v":116},{"$f":"SUMIFS('Age Distribution'!N:N,'Age Distribution'!$C:$C,\"=\"&'Summary Tables Age Distribution'!$C82)","v":94},{"$f":"SUMIFS('Age Distribution'!O:O,'Age Distribution'!$C:$C,\"=\"&'Summary Tables Age Distribution'!$C82)","v":64},{"$f":"SUMIFS('Age Distribution'!P:P,'Age Distribution'!$C:$C,\"=\"&'Summary Tables Age Distribution'!$C82)","v":191},{"$f":"SUMIFS('Age Distribution'!Q:Q,'Age Distribution'!$C:$C,\"=\"&'Summary Tables Age Distribution'!$C82)","v":11},{"$f":"SUMIFS('Age Distribution'!R:R,'Age Distribution'!$C:$C,\"=\"&'Summary Tables Age Distribution'!$C82)","v":23},{"$f":"SUMIFS('Age Distribution'!S:S,'Age Distribution'!$C:$C,\"=\"&'Summary Tables Age Distribution'!$C82)","v":1},{"$f":"SUMIFS('Age Distribution'!T:T,'Age Distribution'!$C:$C,\"=\"&'Summary Tables Age Distribution'!$C82)","v":59},{"$f":"SUMIFS('Age Distribution'!U:U,'Age Distribution'!$C:$C,\"=\"&'Summary Tables Age Distribution'!$C82)","v":29},{"$f":"SUMIFS('Age Distribution'!V:V,'Age Distribution'!$C:$C,\"=\"&'Summary Tables Age Distribution'!$C82)","v":83},{"$f":"SUMIFS('Age Distribution'!W:W,'Age Distribution'!$C:$C,\"=\"&'Summary Tables Age Distribution'!$C82)","v":9},{"$f":"SUMIFS('Age Distribution'!X:X,'Age Distribution'!$C:$C,\"=\"&'Summary Tables Age Distribution'!$C82)","v":13},{"$f":"SUMIFS('Age Distribution'!Y:Y,'Age Distribution'!$C:$C,\"=\"&'Summary Tables Age Distribution'!$C82)","v":7},{"$f":"SUMIFS('Age Distribution'!Z:Z,'Age Distribution'!$C:$C,\"=\"&'Summary Tables Age Distribution'!$C82)","v":2},{"$f":"SUMIFS('Age Distribution'!AA:AA,'Age Distribution'!$C:$C,\"=\"&'Summary Tables Age Distribution'!$C82)","v":0},{"$f":"SUMIFS('Age Distribution'!AB:AB,'Age Distribution'!$C:$C,\"=\"&'Summary Tables Age Distribution'!$C82)","v":0},{"$f":"SUMIFS('Age Distribution'!AC:AC,'Age Distribution'!$C:$C,\"=\"&'Summary Tables Age Distribution'!$C82)","v":0},{"$f":"SUMIFS('Age Distribution'!AD:AD,'Age Distribution'!$C:$C,\"=\"&'Summary Tables Age Distribution'!$C82)","v":0},{"$f":"SUMIFS('Age Distribution'!AE:AE,'Age Distribution'!$C:$C,\"=\"&'Summary Tables Age Distribution'!$C82)","v":764},{"$f":"IFERROR(SUMPRODUCT(--('Age Distribution'!$C:$C='Summary Tables Age Distribution'!$C82),'Age Distribution'!$AE:$AE,'Age Distribution'!AF:AF)/SUMIFS('Age Distribution'!$AE:$AE,'Age Distribution'!$C:$C,\"=\"&'Summary Tables Age Distribution'!$C82),\"-\")","v":3.706806282722507},{"$f":"IFERROR(SUMPRODUCT(--('Age Distribution'!$C:$C='Summary Tables Age Distribution'!$C82),'Age Distribution'!$AE:$AE,'Age Distribution'!AG:AG)/SUMIFS('Age Distribution'!$AE:$AE,'Age Distribution'!$C:$C,\"=\"&'Summary Tables Age Distribution'!$C82,'Age Distribution'!$AG:$AG,\"<>\"),\"-\")","v":149686.0754881356}]
[null,null,"FL","Florida",null,{"$f":"SUMIFS('Age Distribution'!L:L,'Age Distribution'!$C:$C,\"=\"&'Summary Tables Age Distribution'!$C83)","v":725},{"$f":"SUMIFS('Age Distribution'!M:M,'Age Distribution'!$C:$C,\"=\"&'Summary Tables Age Distribution'!$C83)","v":525},{"$f":"SUMIFS('Age Distribution'!N:N,'Age Distribution'!$C:$C,\"=\"&'Summary Tables Age Distribution'!$C83)","v":605},{"$f":"SUMIFS('Age Distribution'!O:O,'Age Distribution'!$C:$C,\"=\"&'Summary Tables Age Distribution'!$C83)","v":849},{"$f":"SUMIFS('Age Distribution'!P:P,'Age Distribution'!$C:$C,\"=\"&'Summary Tables Age Distribution'!$C83)","v":920},{"$f":"SUMIFS('Age Distribution'!Q:Q,'Age Distribution'!$C:$C,\"=\"&'Summary Tables Age Distribution'!$C83)","v":640},{"$f":"SUMIFS('Age Distribution'!R:R,'Age Distribution'!$C:$C,\"=\"&'Summary Tables Age Distribution'!$C83)","v":433},{"$f":"SUMIFS('Age Distribution'!S:S,'Age Distribution'!$C:$C,\"=\"&'Summary Tables Age Distribution'!$C83)","v":366},{"$f":"SUMIFS('Age Distribution'!T:T,'Age Distribution'!$C:$C,\"=\"&'Summary Tables Age Distribution'!$C83)","v":410},{"$f":"SUMIFS('Age Distribution'!U:U,'Age Distribution'!$C:$C,\"=\"&'Summary Tables Age Distribution'!$C83)","v":299},{"$f":"SUMIFS('Age Distribution'!V:V,'Age Distribution'!$C:$C,\"=\"&'Summary Tables Age Distribution'!$C83)","v":238},{"$f":"SUMIFS('Age Distribution'!W:W,'Age Distribution'!$C:$C,\"=\"&'Summary Tables Age Distribution'!$C83)","v":347},{"$f":"SUMIFS('Age Distribution'!X:X,'Age Distribution'!$C:$C,\"=\"&'Summary Tables Age Distribution'!$C83)","v":330},{"$f":"SUMIFS('Age Distribution'!Y:Y,'Age Distribution'!$C:$C,\"=\"&'Summary Tables Age Distribution'!$C83)","v":540},{"$f":"SUMIFS('Age Distribution'!Z:Z,'Age Distribution'!$C:$C,\"=\"&'Summary Tables Age Distribution'!$C83)","v":308},{"$f":"SUMIFS('Age Distribution'!AA:AA,'Age Distribution'!$C:$C,\"=\"&'Summary Tables Age Distribution'!$C83)","v":41},{"$f":"SUMIFS('Age Distribution'!AB:AB,'Age Distribution'!$C:$C,\"=\"&'Summary Tables Age Distribution'!$C83)","v":32},{"$f":"SUMIFS('Age Distribution'!AC:AC,'Age Distribution'!$C:$C,\"=\"&'Summary Tables Age Distribution'!$C83)","v":112},{"$f":"SUMIFS('Age Distribution'!AD:AD,'Age Distribution'!$C:$C,\"=\"&'Summary Tables Age Distribution'!$C83)","v":0},{"$f":"SUMIFS('Age Distribution'!AE:AE,'Age Distribution'!$C:$C,\"=\"&'Summary Tables Age Distribution'!$C83)","v":7720},{"$f":"IFERROR(SUMPRODUCT(--('Age Distribution'!$C:$C='Summary Tables Age Distribution'!$C83),'Age Distribution'!$AE:$AE,'Age Distribution'!AF:AF)/SUMIFS('Age Distribution'!$AE:$AE,'Age Distribution'!$C:$C,\"=\"&'Summary Tables Age Distribution'!$C83),\"-\")","v":5.5648963730569845},{"$f":"IFERROR(SUMPRODUCT(--('Age Distribution'!$C:$C='Summary Tables Age Distribution'!$C83),'Age Distribution'!$AE:$AE,'Age Distribution'!AG:AG)/SUMIFS('Age Distribution'!$AE:$AE,'Age Distribution'!$C:$C,\"=\"&'Summary Tables Age Distribution'!$C83,'Age Distribution'!$AG:$AG,\"<>\"),\"-\")","v":304531.33329278615}]
[null,null,"GA","Georgia",null,{"$f":"SUMIFS('Age Distribution'!L:L,'Age Distribution'!$C:$C,\"=\"&'Summary Tables Age Distribution'!$C84)","v":348},{"$f":"SUMIFS('Age Distribution'!M:M,'Age Distribution'!$C:$C,\"=\"&'Summary Tables Age Distribution'!$C84)","v":440},{"$f":"SUMIFS('Age Distribution'!N:N,'Age Distribution'!$C:$C,\"=\"&'Summary Tables Age Distribution'!$C84)","v":365},{"$f":"SUMIFS('Age Distribution'!O:O,'Age Distribution'!$C:$C,\"=\"&'Summary Tables Age Distribution'!$C84)","v":182},{"$f":"SUMIFS('Age Distribution'!P:P,'Age Distribution'!$C:$C,\"=\"&'Summary Tables Age Distribution'!$C84)","v":375},{"$f":"SUMIFS('Age Distribution'!Q:Q,'Age Distribution'!$C:$C,\"=\"&'Summary Tables Age Distribution'!$C84)","v":268},{"$f":"SUMIFS('Age Distribution'!R:R,'Age Distribution'!$C:$C,\"=\"&'Summary Tables Age Distribution'!$C84)","v":51},{"$f":"SUMIFS('Age Distribution'!S:S,'Age Distribution'!$C:$C,\"=\"&'Summary Tables Age Distribution'!$C84)","v":126},{"$f":"SUMIFS('Age Distribution'!T:T,'Age Distribution'!$C:$C,\"=\"&'Summary Tables Age Distribution'!$C84)","v":173},{"$f":"SUMIFS('Age Distribution'!U:U,'Age Distribution'!$C:$C,\"=\"&'Summary Tables Age Distribution'!$C84)","v":126},{"$f":"SUMIFS('Age Distribution'!V:V,'Age Distribution'!$C:$C,\"=\"&'Summary Tables Age Distribution'!$C84)","v":86},{"$f":"SUMIFS('Age Distribution'!W:W,'Age Distribution'!$C:$C,\"=\"&'Summary Tables Age Distribution'!$C84)","v":81},{"$f":"SUMIFS('Age Distribution'!X:X,'Age Distribution'!$C:$C,\"=\"&'Summary Tables Age Distribution'!$C84)","v":112},{"$f":"SUMIFS('Age Distribution'!Y:Y,'Age Distribution'!$C:$C,\"=\"&'Summary Tables Age Distribution'!$C84)","v":202},{"$f":"SUMIFS('Age Distribution'!Z:Z,'Age Distribution'!$C:$C,\"=\"&'Summary Tables Age Distribution'!$C84)","v":129},{"$f":"SUMIFS('Age Distribution'!AA:AA,'Age Distribution'!$C:$C,\"=\"&'Summary Tables Age Distribution'!$C84)","v":6},{"$f":"SUMIFS('Age Distribution'!AB:AB,'Age Distribution'!$C:$C,\"=\"&'Summary Tables Age Distribution'!$C84)","v":29},{"$f":"SUMIFS('Age Distribution'!AC:AC,'Age Distribution'!$C:$C,\"=\"&'Summary Tables Age Distribution'!$C84)","v":191},{"$f":"SUMIFS('Age Distribution'!AD:AD,'Age Distribution'!$C:$C,\"=\"&'Summary Tables Age Distribution'!$C84)","v":0},{"$f":"SUMIFS('Age Distribution'!AE:AE,'Age Distribution'!$C:$C,\"=\"&'Summary Tables Age Distribution'!$C84)","v":3290},{"$f":"IFERROR(SUMPRODUCT(--('Age Distribution'!$C:$C='Summary Tables Age Distribution'!$C84),'Age Distribution'!$AE:$AE,'Age Distribution'!AF:AF)/SUMIFS('Age Distribution'!$AE:$AE,'Age Distribution'!$C:$C,\"=\"&'Summary Tables Age Distribution'!$C84),\"-\")","v":6.0908814589665621},{"$f":"IFERROR(SUMPRODUCT(--('Age Distribution'!$C:$C='Summary Tables Age Distribution'!$C84),'Age Distribution'!$AE:$AE,'Age Distribution'!AG:AG)/SUMIFS('Age Distribution'!$AE:$AE,'Age Distribution'!$C:$C,\"=\"&'Summary Tables Age Distribution'!$C84,'Age Distribution'!$AG:$AG,\"<>\"),\"-\")","v":386571.22714972694}]
[null,null,"GU","Guam",null,{"$f":"SUMIFS('Age Distribution'!L:L,'Age Distribution'!$C:$C,\"=\"&'Summary Tables Age Distribution'!$C85)","v":0},{"$f":"SUMIFS('Age Distribution'!M:M,'Age Distribution'!$C:$C,\"=\"&'Summary Tables Age Distribution'!$C85)","v":1},{"$f":"SUMIFS('Age Distribution'!N:N,'Age Distribution'!$C:$C,\"=\"&'Summary Tables Age Distribution'!$C85)","v":1},{"$f":"SUMIFS('Age Distribution'!O:O,'Age Distribution'!$C:$C,\"=\"&'Summary Tables Age Distribution'!$C85)","v":12},{"$f":"SUMIFS('Age Distribution'!P:P,'Age Distribution'!$C:$C,\"=\"&'Summary Tables Age Distribution'!$C85)","v":11},{"$f":"SUMIFS('Age Distribution'!Q:Q,'Age Distribution'!$C:$C,\"=\"&'Summary Tables Age Distribution'!$C85)","v":0},{"$f":"SUMIFS('Age Distribution'!R:R,'Age Distribution'!$C:$C,\"=\"&'Summary Tables Age Distribution'!$C85)","v":0},{"$f":"SUMIFS('Age Distribution'!S:S,'Age Distribution'!$C:$C,\"=\"&'Summary Tables Age Distribution'!$C85)","v":0},{"$f":"SUMIFS('Age Distribution'!T:T,'Age Distribution'!$C:$C,\"=\"&'Summary Tables Age Distribution'!$C85)","v":0},{"$f":"SUMIFS('Age Distribution'!U:U,'Age Distribution'!$C:$C,\"=\"&'Summary Tables Age Distribution'!$C85)","v":0},{"$f":"SUMIFS('Age Distribution'!V:V,'Age Distribution'!$C:$C,\"=\"&'Summary Tables Age Distribution'!$C85)","v":0},{"$f":"SUMIFS('Age Distribution'!W:W,'Age Distribution'!$C:$C,\"=\"&'Summary Tables Age Distribution'!$C85)","v":0},{"$f":"SUMIFS('Age Distribution'!X:X,'Age Distribution'!$C:$C,\"=\"&'Summary Tables Age Distribution'!$C85)","v":0},{"$f":"SUMIFS('Age Distribution'!Y:Y,'Age Distribution'!$C:$C,\"=\"&'Summary Tables Age Distribution'!$C85)","v":0},{"$f":"SUMIFS('Age Distribution'!Z:Z,'Age Distribution'!$C:$C,\"=\"&'Summary Tables Age Distribution'!$C85)","v":7},{"$f":"SUMIFS('Age Distribution'!AA:AA,'Age Distribution'!$C:$C,\"=\"&'Summary Tables Age Distribution'!$C85)","v":9},{"$f":"SUMIFS('Age Distribution'!AB:AB,'Age Distribution'!$C:$C,\"=\"&'Summary Tables Age Distribution'!$C85)","v":1},{"$f":"SUMIFS('Age Distribution'!AC:AC,'Age Distribution'!$C:$C,\"=\"&'Summary Tables Age Distribution'!$C85)","v":0},{"$f":"SUMIFS('Age Distribution'!AD:AD,'Age Distribution'!$C:$C,\"=\"&'Summary Tables Age Distribution'!$C85)","v":0},{"$f":"SUMIFS('Age Distribution'!AE:AE,'Age Distribution'!$C:$C,\"=\"&'Summary Tables Age Distribution'!$C85)","v":42},{"$f":"IFERROR(SUMPRODUCT(--('Age Distribution'!$C:$C='Summary Tables Age Distribution'!$C85),'Age Distribution'!$AE:$AE,'Age Distribution'!AF:AF)/SUMIFS('Age Distribution'!$AE:$AE,'Age Distribution'!$C:$C,\"=\"&'Summary Tables Age Distribution'!$C85),\"-\")","v":10.047619047619047},{"$f":"IFERROR(SUMPRODUCT(--('Age Distribution'!$C:$C='Summary Tables Age Distribution'!$C85),'Age Distribution'!$AE:$AE,'Age Distribution'!AG:AG)/SUMIFS('Age Distribution'!$AE:$AE,'Age Distribution'!$C:$C,\"=\"&'Summary Tables Age Distribution'!$C85,'Age Distribution'!$AG:$AG,\"<>\"),\"-\")","v":0}]
[null,null,"HI","Hawaii",null,{"$f":"SUMIFS('Age Distribution'!L:L,'Age Distribution'!$C:$C,\"=\"&'Summary Tables Age Distribution'!$C86)","v":9},{"$f":"SUMIFS('Age Distribution'!M:M,'Age Distribution'!$C:$C,\"=\"&'Summary Tables Age Distribution'!$C86)","v":44},{"$f":"SUMIFS('Age Distribution'!N:N,'Age Distribution'!$C:$C,\"=\"&'Summary Tables Age Distribution'!$C86)","v":57},{"$f":"SUMIFS('Age Distribution'!O:O,'Age Distribution'!$C:$C,\"=\"&'Summary Tables Age Distribution'!$C86)","v":108},{"$f":"SUMIFS('Age Distribution'!P:P,'Age Distribution'!$C:$C,\"=\"&'Summary Tables Age Distribution'!$C86)","v":163},{"$f":"SUMIFS('Age Distribution'!Q:Q,'Age Distribution'!$C:$C,\"=\"&'Summary Tables Age Distribution'!$C86)","v":9},{"$f":"SUMIFS('Age Distribution'!R:R,'Age Distribution'!$C:$C,\"=\"&'Summary Tables Age Distribution'!$C86)","v":105},{"$f":"SUMIFS('Age Distribution'!S:S,'Age Distribution'!$C:$C,\"=\"&'Summary Tables Age Distribution'!$C86)","v":58},{"$f":"SUMIFS('Age Distribution'!T:T,'Age Distribution'!$C:$C,\"=\"&'Summary Tables Age Distribution'!$C86)","v":72},{"$f":"SUMIFS('Age Distribution'!U:U,'Age Distribution'!$C:$C,\"=\"&'Summary Tables Age Distribution'!$C86)","v":25},{"$f":"SUMIFS('Age Distribution'!V:V,'Age Distribution'!$C:$C,\"=\"&'Summary Tables Age Distribution'!$C86)","v":24},{"$f":"SUMIFS('Age Distribution'!W:W,'Age Distribution'!$C:$C,\"=\"&'Summary Tables Age Distribution'!$C86)","v":31},{"$f":"SUMIFS('Age Distribution'!X:X,'Age Distribution'!$C:$C,\"=\"&'Summary Tables Age Distribution'!$C86)","v":49},{"$f":"SUMIFS('Age Distribution'!Y:Y,'Age Distribution'!$C:$C,\"=\"&'Summary Tables Age Distribution'!$C86)","v":110},{"$f":"SUMIFS('Age Distribution'!Z:Z,'Age Distribution'!$C:$C,\"=\"&'Summary Tables Age Distribution'!$C86)","v":121},{"$f":"SUMIFS('Age Distribution'!AA:AA,'Age Distribution'!$C:$C,\"=\"&'Summary Tables Age Distribution'!$C86)","v":45},{"$f":"SUMIFS('Age Distribution'!AB:AB,'Age Distribution'!$C:$C,\"=\"&'Summary Tables Age Distribution'!$C86)","v":1},{"$f":"SUMIFS('Age Distribution'!AC:AC,'Age Distribution'!$C:$C,\"=\"&'Summary Tables Age Distribution'!$C86)","v":2},{"$f":"SUMIFS('Age Distribution'!AD:AD,'Age Distribution'!$C:$C,\"=\"&'Summary Tables Age Distribution'!$C86)","v":0},{"$f":"SUMIFS('Age Distribution'!AE:AE,'Age Distribution'!$C:$C,\"=\"&'Summary Tables Age Distribution'!$C86)","v":1033},{"$f":"IFERROR(SUMPRODUCT(--('Age Distribution'!$C:$C='Summary Tables Age Distribution'!$C86),'Age Distribution'!$AE:$AE,'Age Distribution'!AF:AF)/SUMIFS('Age Distribution'!$AE:$AE,'Age Distribution'!$C:$C,\"=\"&'Summary Tables Age Distribution'!$C86),\"-\")","v":7.8586640851887593},{"$f":"IFERROR(SUMPRODUCT(--('Age Distribution'!$C:$C='Summary Tables Age Distribution'!$C86),'Age Distribution'!$AE:$AE,'Age Distribution'!AG:AG)/SUMIFS('Age Distribution'!$AE:$AE,'Age Distribution'!$C:$C,\"=\"&'Summary Tables Age Distribution'!$C86,'Age Distribution'!$AG:$AG,\"<>\"),\"-\")","v":331726.65542687045}]
[null,null,"IA","Iowa",null,{"$f":"SUMIFS('Age Distribution'!L:L,'Age Distribution'!$C:$C,\"=\"&'Summary Tables Age Distribution'!$C87)","v":78},{"$f":"SUMIFS('Age Distribution'!M:M,'Age Distribution'!$C:$C,\"=\"&'Summary Tables Age Distribution'!$C87)","v":166},{"$f":"SUMIFS('Age Distribution'!N:N,'Age Distribution'!$C:$C,\"=\"&'Summary Tables Age Distribution'!$C87)","v":123},{"$f":"SUMIFS('Age Distribution'!O:O,'Age Distribution'!$C:$C,\"=\"&'Summary Tables Age Distribution'!$C87)","v":108},{"$f":"SUMIFS('Age Distribution'!P:P,'Age Distribution'!$C:$C,\"=\"&'Summary Tables Age Distribution'!$C87)","v":92},{"$f":"SUMIFS('Age Distribution'!Q:Q,'Age Distribution'!$C:$C,\"=\"&'Summary Tables Age Distribution'!$C87)","v":82},{"$f":"SUMIFS('Age Distribution'!R:R,'Age Distribution'!$C:$C,\"=\"&'Summary Tables Age Distribution'!$C87)","v":103},{"$f":"SUMIFS('Age Distribution'!S:S,'Age Distribution'!$C:$C,\"=\"&'Summary Tables Age Distribution'!$C87)","v":118},{"$f":"SUMIFS('Age Distribution'!T:T,'Age Distribution'!$C:$C,\"=\"&'Summary Tables Age Distribution'!$C87)","v":247},{"$f":"SUMIFS('Age Distribution'!U:U,'Age Distribution'!$C:$C,\"=\"&'Summary Tables Age Distribution'!$C87)","v":162},{"$f":"SUMIFS('Age Distribution'!V:V,'Age Distribution'!$C:$C,\"=\"&'Summary Tables Age Distribution'!$C87)","v":82},{"$f":"SUMIFS('Age Distribution'!W:W,'Age Distribution'!$C:$C,\"=\"&'Summary Tables Age Distribution'!$C87)","v":40},{"$f":"SUMIFS('Age Distribution'!X:X,'Age Distribution'!$C:$C,\"=\"&'Summary Tables Age Distribution'!$C87)","v":109},{"$f":"SUMIFS('Age Distribution'!Y:Y,'Age Distribution'!$C:$C,\"=\"&'Summary Tables Age Distribution'!$C87)","v":125},{"$f":"SUMIFS('Age Distribution'!Z:Z,'Age Distribution'!$C:$C,\"=\"&'Summary Tables Age Distribution'!$C87)","v":114},{"$f":"SUMIFS('Age Distribution'!AA:AA,'Age Distribution'!$C:$C,\"=\"&'Summary Tables Age Distribution'!$C87)","v":30},{"$f":"SUMIFS('Age Distribution'!AB:AB,'Age Distribution'!$C:$C,\"=\"&'Summary Tables Age Distribution'!$C87)","v":13},{"$f":"SUMIFS('Age Distribution'!AC:AC,'Age Distribution'!$C:$C,\"=\"&'Summary Tables Age Distribution'!$C87)","v":0},{"$f":"SUMIFS('Age Distribution'!AD:AD,'Age Distribution'!$C:$C,\"=\"&'Summary Tables Age Distribution'!$C87)","v":0},{"$f":"SUMIFS('Age Distribution'!AE:AE,'Age Distribution'!$C:$C,\"=\"&'Summary Tables Age Distribution'!$C87)","v":1792},{"$f":"IFERROR(SUMPRODUCT(--('Age Distribution'!$C:$C='Summary Tables Age Distribution'!$C87),'Age Distribution'!$AE:$AE,'Age Distribution'!AF:AF)/SUMIFS('Age Distribution'!$AE:$AE,'Age Distribution'!$C:$C,\"=\"&'Summary Tables Age Distribution'!$C87),\"-\")","v":7.4235491071428523},{"$f":"IFERROR(SUMPRODUCT(--('Age Distribution'!$C:$C='Summary Tables Age Distribution'!$C87),'Age Distribution'!$AE:$AE,'Age Distribution'!AG:AG)/SUMIFS('Age Distribution'!$AE:$AE,'Age Distribution'!$C:$C,\"=\"&'Summary Tables Age Distribution'!$C87,'Age Distribution'!$AG:$AG,\"<>\"),\"-\")","v":75087.41561664753}]
[null,null,"ID","Idaho",null,{"$f":"SUMIFS('Age Distribution'!L:L,'Age Distribution'!$C:$C,\"=\"&'Summary Tables Age Distribution'!$C88)","v":15},{"$f":"SUMIFS('Age Distribution'!M:M,'Age Distribution'!$C:$C,\"=\"&'Summary Tables Age Distribution'!$C88)","v":46},{"$f":"SUMIFS('Age Distribution'!N:N,'Age Distribution'!$C:$C,\"=\"&'Summary Tables Age Distribution'!$C88)","v":43},{"$f":"SUMIFS('Age Distribution'!O:O,'Age Distribution'!$C:$C,\"=\"&'Summary Tables Age Distribution'!$C88)","v":29},{"$f":"SUMIFS('Age Distribution'!P:P,'Age Distribution'!$C:$C,\"=\"&'Summary Tables Age Distribution'!$C88)","v":10},{"$f":"SUMIFS('Age Distribution'!Q:Q,'Age Distribution'!$C:$C,\"=\"&'Summary Tables Age Distribution'!$C88)","v":48},{"$f":"SUMIFS('Age Distribution'!R:R,'Age Distribution'!$C:$C,\"=\"&'Summary Tables Age Distribution'!$C88)","v":54},{"$f":"SUMIFS('Age Distribution'!S:S,'Age Distribution'!$C:$C,\"=\"&'Summary Tables Age Distribution'!$C88)","v":49},{"$f":"SUMIFS('Age Distribution'!T:T,'Age Distribution'!$C:$C,\"=\"&'Summary Tables Age Distribution'!$C88)","v":60},{"$f":"SUMIFS('Age Distribution'!U:U,'Age Distribution'!$C:$C,\"=\"&'Summary Tables Age Distribution'!$C88)","v":37},{"$f":"SUMIFS('Age Distribution'!V:V,'Age Distribution'!$C:$C,\"=\"&'Summary Tables Age Distribution'!$C88)","v":49},{"$f":"SUMIFS('Age Distribution'!W:W,'Age Distribution'!$C:$C,\"=\"&'Summary Tables Age Distribution'!$C88)","v":24},{"$f":"SUMIFS('Age Distribution'!X:X,'Age Distribution'!$C:$C,\"=\"&'Summary Tables Age Distribution'!$C88)","v":10},{"$f":"SUMIFS('Age Distribution'!Y:Y,'Age Distribution'!$C:$C,\"=\"&'Summary Tables Age Distribution'!$C88)","v":46},{"$f":"SUMIFS('Age Distribution'!Z:Z,'Age Distribution'!$C:$C,\"=\"&'Summary Tables Age Distribution'!$C88)","v":57},{"$f":"SUMIFS('Age Distribution'!AA:AA,'Age Distribution'!$C:$C,\"=\"&'Summary Tables Age Distribution'!$C88)","v":11},{"$f":"SUMIFS('Age Distribution'!AB:AB,'Age Distribution'!$C:$C,\"=\"&'Summary Tables Age Distribution'!$C88)","v":4},{"$f":"SUMIFS('Age Distribution'!AC:AC,'Age Distribution'!$C:$C,\"=\"&'Summary Tables Age Distribution'!$C88)","v":0},{"$f":"SUMIFS('Age Distribution'!AD:AD,'Age Distribution'!$C:$C,\"=\"&'Summary Tables Age Distribution'!$C88)","v":0},{"$f":"SUMIFS('Age Distribution'!AE:AE,'Age Distribution'!$C:$C,\"=\"&'Summary Tables Age Distribution'!$C88)","v":592},{"$f":"IFERROR(SUMPRODUCT(--('Age Distribution'!$C:$C='Summary Tables Age Distribution'!$C88),'Age Distribution'!$AE:$AE,'Age Distribution'!AF:AF)/SUMIFS('Age Distribution'!$AE:$AE,'Age Distribution'!$C:$C,\"=\"&'Summary Tables Age Distribution'!$C88),\"-\")","v":7.1706081081081035},{"$f":"IFERROR(SUMPRODUCT(--('Age Distribution'!$C:$C='Summary Tables Age Distribution'!$C88),'Age Distribution'!$AE:$AE,'Age Distribution'!AG:AG)/SUMIFS('Age Distribution'!$AE:$AE,'Age Distribution'!$C:$C,\"=\"&'Summary Tables Age Distribution'!$C88,'Age Distribution'!$AG:$AG,\"<>\"),\"-\")","v":101255.63485926607}]
[null,null,"IL","Illinois",null,{"$f":"SUMIFS('Age Distribution'!L:L,'Age Distribution'!$C:$C,\"=\"&'Summary Tables Age Distribution'!$C89)","v":486},{"$f":"SUMIFS('Age Distribution'!M:M,'Age Distribution'!$C:$C,\"=\"&'Summary Tables Age Distribution'!$C89)","v":1148},{"$f":"SUMIFS('Age Distribution'!N:N,'Age Distribution'!$C:$C,\"=\"&'Summary Tables Age Distribution'!$C89)","v":1225},{"$f":"SUMIFS('Age Distribution'!O:O,'Age Distribution'!$C:$C,\"=\"&'Summary Tables Age Distribution'!$C89)","v":713},{"$f":"SUMIFS('Age Distribution'!P:P,'Age Distribution'!$C:$C,\"=\"&'Summary Tables Age Distribution'!$C89)","v":1240},{"$f":"SUMIFS('Age Distribution'!Q:Q,'Age Distribution'!$C:$C,\"=\"&'Summary Tables Age Distribution'!$C89)","v":771},{"$f":"SUMIFS('Age Distribution'!R:R,'Age Distribution'!$C:$C,\"=\"&'Summary Tables Age Distribution'!$C89)","v":447},{"$f":"SUMIFS('Age Distribution'!S:S,'Age Distribution'!$C:$C,\"=\"&'Summary Tables Age Distribution'!$C89)","v":338},{"$f":"SUMIFS('Age Distribution'!T:T,'Age Distribution'!$C:$C,\"=\"&'Summary Tables Age Distribution'!$C89)","v":435},{"$f":"SUMIFS('Age Distribution'!U:U,'Age Distribution'!$C:$C,\"=\"&'Summary Tables Age Distribution'!$C89)","v":579},{"$f":"SUMIFS('Age Distribution'!V:V,'Age Distribution'!$C:$C,\"=\"&'Summary Tables Age Distribution'!$C89)","v":632},{"$f":"SUMIFS('Age Distribution'!W:W,'Age Distribution'!$C:$C,\"=\"&'Summary Tables Age Distribution'!$C89)","v":410},{"$f":"SUMIFS('Age Distribution'!X:X,'Age Distribution'!$C:$C,\"=\"&'Summary Tables Age Distribution'!$C89)","v":504},{"$f":"SUMIFS('Age Distribution'!Y:Y,'Age Distribution'!$C:$C,\"=\"&'Summary Tables Age Distribution'!$C89)","v":741},{"$f":"SUMIFS('Age Distribution'!Z:Z,'Age Distribution'!$C:$C,\"=\"&'Summary Tables Age Distribution'!$C89)","v":404},{"$f":"SUMIFS('Age Distribution'!AA:AA,'Age Distribution'!$C:$C,\"=\"&'Summary Tables Age Distribution'!$C89)","v":381},{"$f":"SUMIFS('Age Distribution'!AB:AB,'Age Distribution'!$C:$C,\"=\"&'Summary Tables Age Distribution'!$C89)","v":211},{"$f":"SUMIFS('Age Distribution'!AC:AC,'Age Distribution'!$C:$C,\"=\"&'Summary Tables Age Distribution'!$C89)","v":963},{"$f":"SUMIFS('Age Distribution'!AD:AD,'Age Distribution'!$C:$C,\"=\"&'Summary Tables Age Distribution'!$C89)","v":19},{"$f":"SUMIFS('Age Distribution'!AE:AE,'Age Distribution'!$C:$C,\"=\"&'Summary Tables Age Distribution'!$C89)","v":11647},{"$f":"IFERROR(SUMPRODUCT(--('Age Distribution'!$C:$C='Summary Tables Age Distribution'!$C89),'Age Distribution'!$AE:$AE,'Age Distribution'!AF:AF)/SUMIFS('Age Distribution'!$AE:$AE,'Age Distribution'!$C:$C,\"=\"&'Summary Tables Age Distribution'!$C89),\"-\")","v":8.4371082682235645},{"$f":"IFERROR(SUMPRODUCT(--('Age Distribution'!$C:$C='Summary Tables Age Distribution'!$C89),'Age Distribution'!$AE:$AE,'Age Distribution'!AG:AG)/SUMIFS('Age Distribution'!$AE:$AE,'Age Distribution'!$C:$C,\"=\"&'Summary Tables Age Distribution'!$C89,'Age Distribution'!$AG:$AG,\"<>\"),\"-\")","v":392330.70749945473}]
[null,null,"IN","Indiana",null,{"$f":"SUMIFS('Age Distribution'!L:L,'Age Distribution'!$C:$C,\"=\"&'Summary Tables Age Distribution'!$C90)","v":163},{"$f":"SUMIFS('Age Distribution'!M:M,'Age Distribution'!$C:$C,\"=\"&'Summary Tables Age Distribution'!$C90)","v":215},{"$f":"SUMIFS('Age Distribution'!N:N,'Age Distribution'!$C:$C,\"=\"&'Summary Tables Age Distribution'!$C90)","v":190},{"$f":"SUMIFS('Age Distribution'!O:O,'Age Distribution'!$C:$C,\"=\"&'Summary Tables Age Distribution'!$C90)","v":269},{"$f":"SUMIFS('Age Distribution'!P:P,'Age Distribution'!$C:$C,\"=\"&'Summary Tables Age Distribution'!$C90)","v":120},{"$f":"SUMIFS('Age Distribution'!Q:Q,'Age Distribution'!$C:$C,\"=\"&'Summary Tables Age Distribution'!$C90)","v":107},{"$f":"SUMIFS('Age Distribution'!R:R,'Age Distribution'!$C:$C,\"=\"&'Summary Tables Age Distribution'!$C90)","v":64},{"$f":"SUMIFS('Age Distribution'!S:S,'Age Distribution'!$C:$C,\"=\"&'Summary Tables Age Distribution'!$C90)","v":54},{"$f":"SUMIFS('Age Distribution'!T:T,'Age Distribution'!$C:$C,\"=\"&'Summary Tables Age Distribution'!$C90)","v":233},{"$f":"SUMIFS('Age Distribution'!U:U,'Age Distribution'!$C:$C,\"=\"&'Summary Tables Age Distribution'!$C90)","v":95},{"$f":"SUMIFS('Age Distribution'!V:V,'Age Distribution'!$C:$C,\"=\"&'Summary Tables Age Distribution'!$C90)","v":87},{"$f":"SUMIFS('Age Distribution'!W:W,'Age Distribution'!$C:$C,\"=\"&'Summary Tables Age Distribution'!$C90)","v":79},{"$f":"SUMIFS('Age Distribution'!X:X,'Age Distribution'!$C:$C,\"=\"&'Summary Tables Age Distribution'!$C90)","v":45},{"$f":"SUMIFS('Age Distribution'!Y:Y,'Age Distribution'!$C:$C,\"=\"&'Summary Tables Age Distribution'!$C90)","v":118},{"$f":"SUMIFS('Age Distribution'!Z:Z,'Age Distribution'!$C:$C,\"=\"&'Summary Tables Age Distribution'!$C90)","v":104},{"$f":"SUMIFS('Age Distribution'!AA:AA,'Age Distribution'!$C:$C,\"=\"&'Summary Tables Age Distribution'!$C90)","v":20},{"$f":"SUMIFS('Age Distribution'!AB:AB,'Age Distribution'!$C:$C,\"=\"&'Summary Tables Age Distribution'!$C90)","v":12},{"$f":"SUMIFS('Age Distribution'!AC:AC,'Age Distribution'!$C:$C,\"=\"&'Summary Tables Age Distribution'!$C90)","v":43},{"$f":"SUMIFS('Age Distribution'!AD:AD,'Age Distribution'!$C:$C,\"=\"&'Summary Tables Age Distribution'!$C90)","v":0},{"$f":"SUMIFS('Age Distribution'!AE:AE,'Age Distribution'!$C:$C,\"=\"&'Summary Tables Age Distribution'!$C90)","v":2018},{"$f":"IFERROR(SUMPRODUCT(--('Age Distribution'!$C:$C='Summary Tables Age Distribution'!$C90),'Age Distribution'!$AE:$AE,'Age Distribution'!AF:AF)/SUMIFS('Age Distribution'!$AE:$AE,'Age Distribution'!$C:$C,\"=\"&'Summary Tables Age Distribution'!$C90),\"-\")","v":6.05203171456888},{"$f":"IFERROR(SUMPRODUCT(--('Age Distribution'!$C:$C='Summary Tables Age Distribution'!$C90),'Age Distribution'!$AE:$AE,'Age Distribution'!AG:AG)/SUMIFS('Age Distribution'!$AE:$AE,'Age Distribution'!$C:$C,\"=\"&'Summary Tables Age Distribution'!$C90,'Age Distribution'!$AG:$AG,\"<>\"),\"-\")","v":179059.78763601123}]
[null,null,"KS","Kansas",null,{"$f":"SUMIFS('Age Distribution'!L:L,'Age Distribution'!$C:$C,\"=\"&'Summary Tables Age Distribution'!$C91)","v":69},{"$f":"SUMIFS('Age Distribution'!M:M,'Age Distribution'!$C:$C,\"=\"&'Summary Tables Age Distribution'!$C91)","v":48},{"$f":"SUMIFS('Age Distribution'!N:N,'Age Distribution'!$C:$C,\"=\"&'Summary Tables Age Distribution'!$C91)","v":85},{"$f":"SUMIFS('Age Distribution'!O:O,'Age Distribution'!$C:$C,\"=\"&'Summary Tables Age Distribution'!$C91)","v":112},{"$f":"SUMIFS('Age Distribution'!P:P,'Age Distribution'!$C:$C,\"=\"&'Summary Tables Age Distribution'!$C91)","v":101},{"$f":"SUMIFS('Age Distribution'!Q:Q,'Age Distribution'!$C:$C,\"=\"&'Summary Tables Age Distribution'!$C91)","v":75},{"$f":"SUMIFS('Age Distribution'!R:R,'Age Distribution'!$C:$C,\"=\"&'Summary Tables Age Distribution'!$C91)","v":46},{"$f":"SUMIFS('Age Distribution'!S:S,'Age Distribution'!$C:$C,\"=\"&'Summary Tables Age Distribution'!$C91)","v":71},{"$f":"SUMIFS('Age Distribution'!T:T,'Age Distribution'!$C:$C,\"=\"&'Summary Tables Age Distribution'!$C91)","v":34},{"$f":"SUMIFS('Age Distribution'!U:U,'Age Distribution'!$C:$C,\"=\"&'Summary Tables Age Distribution'!$C91)","v":50},{"$f":"SUMIFS('Age Distribution'!V:V,'Age Distribution'!$C:$C,\"=\"&'Summary Tables Age Distribution'!$C91)","v":26},{"$f":"SUMIFS('Age Distribution'!W:W,'Age Distribution'!$C:$C,\"=\"&'Summary Tables Age Distribution'!$C91)","v":25},{"$f":"SUMIFS('Age Distribution'!X:X,'Age Distribution'!$C:$C,\"=\"&'Summary Tables Age Distribution'!$C91)","v":39},{"$f":"SUMIFS('Age Distribution'!Y:Y,'Age Distribution'!$C:$C,\"=\"&'Summary Tables Age Distribution'!$C91)","v":31},{"$f":"SUMIFS('Age Distribution'!Z:Z,'Age Distribution'!$C:$C,\"=\"&'Summary Tables Age Distribution'!$C91)","v":20},{"$f":"SUMIFS('Age Distribution'!AA:AA,'Age Distribution'!$C:$C,\"=\"&'Summary Tables Age Distribution'!$C91)","v":8},{"$f":"SUMIFS('Age Distribution'!AB:AB,'Age Distribution'!$C:$C,\"=\"&'Summary Tables Age Distribution'!$C91)","v":4},{"$f":"SUMIFS('Age Distribution'!AC:AC,'Age Distribution'!$C:$C,\"=\"&'Summary Tables Age Distribution'!$C91)","v":0},{"$f":"SUMIFS('Age Distribution'!AD:AD,'Age Distribution'!$C:$C,\"=\"&'Summary Tables Age Distribution'!$C91)","v":0},{"$f":"SUMIFS('Age Distribution'!AE:AE,'Age Distribution'!$C:$C,\"=\"&'Summary Tables Age Distribution'!$C91)","v":844},{"$f":"IFERROR(SUMPRODUCT(--('Age Distribution'!$C:$C='Summary Tables Age Distribution'!$C91),'Age Distribution'!$AE:$AE,'Age Distribution'!AF:AF)/SUMIFS('Age Distribution'!$AE:$AE,'Age Distribution'!$C:$C,\"=\"&'Summary Tables Age Distribution'!$C91),\"-\")","v":5.408767772511843},{"$f":"IFERROR(SUMPRODUCT(--('Age Distribution'!$C:$C='Summary Tables Age Distribution'!$C91),'Age Distribution'!$AE:$AE,'Age Distribution'!AG:AG)/SUMIFS('Age Distribution'!$AE:$AE,'Age Distribution'!$C:$C,\"=\"&'Summary Tables Age Distribution'!$C91,'Age Distribution'!$AG:$AG,\"<>\"),\"-\")","v":79143.334158539612}]
[null,null,"KY","Kentucky",null,{"$f":"SUMIFS('Age Distribution'!L:L,'Age Distribution'!$C:$C,\"=\"&'Summary Tables Age Distribution'!$C92)","v":69},{"$f":"SUMIFS('Age Distribution'!M:M,'Age Distribution'!$C:$C,\"=\"&'Summary Tables Age Distribution'!$C92)","v":368},{"$f":"SUMIFS('Age Distribution'!N:N,'Age Distribution'!$C:$C,\"=\"&'Summary Tables Age Distribution'!$C92)","v":338},{"$f":"SUMIFS('Age Distribution'!O:O,'Age Distribution'!$C:$C,\"=\"&'Summary Tables Age Distribution'!$C92)","v":185},{"$f":"SUMIFS('Age Distribution'!P:P,'Age Distribution'!$C:$C,\"=\"&'Summary Tables Age Distribution'!$C92)","v":190},{"$f":"SUMIFS('Age Distribution'!Q:Q,'Age Distribution'!$C:$C,\"=\"&'Summary Tables Age Distribution'!$C92)","v":126},{"$f":"SUMIFS('Age Distribution'!R:R,'Age Distribution'!$C:$C,\"=\"&'Summary Tables Age Distribution'!$C92)","v":172},{"$f":"SUMIFS('Age Distribution'!S:S,'Age Distribution'!$C:$C,\"=\"&'Summary Tables Age Distribution'!$C92)","v":139},{"$f":"SUMIFS('Age Distribution'!T:T,'Age Distribution'!$C:$C,\"=\"&'Summary Tables Age Distribution'!$C92)","v":142},{"$f":"SUMIFS('Age Distribution'!U:U,'Age Distribution'!$C:$C,\"=\"&'Summary Tables Age Distribution'!$C92)","v":191},{"$f":"SUMIFS('Age Distribution'!V:V,'Age Distribution'!$C:$C,\"=\"&'Summary Tables Age Distribution'!$C92)","v":86},{"$f":"SUMIFS('Age Distribution'!W:W,'Age Distribution'!$C:$C,\"=\"&'Summary Tables Age Distribution'!$C92)","v":67},{"$f":"SUMIFS('Age Distribution'!X:X,'Age Distribution'!$C:$C,\"=\"&'Summary Tables Age Distribution'!$C92)","v":36},{"$f":"SUMIFS('Age Distribution'!Y:Y,'Age Distribution'!$C:$C,\"=\"&'Summary Tables Age Distribution'!$C92)","v":146},{"$f":"SUMIFS('Age Distribution'!Z:Z,'Age Distribution'!$C:$C,\"=\"&'Summary Tables Age Distribution'!$C92)","v":70},{"$f":"SUMIFS('Age Distribution'!AA:AA,'Age Distribution'!$C:$C,\"=\"&'Summary Tables Age Distribution'!$C92)","v":5},{"$f":"SUMIFS('Age Distribution'!AB:AB,'Age Distribution'!$C:$C,\"=\"&'Summary Tables Age Distribution'!$C92)","v":2},{"$f":"SUMIFS('Age Distribution'!AC:AC,'Age Distribution'!$C:$C,\"=\"&'Summary Tables Age Distribution'!$C92)","v":1},{"$f":"SUMIFS('Age Distribution'!AD:AD,'Age Distribution'!$C:$C,\"=\"&'Summary Tables Age Distribution'!$C92)","v":0},{"$f":"SUMIFS('Age Distribution'!AE:AE,'Age Distribution'!$C:$C,\"=\"&'Summary Tables Age Distribution'!$C92)","v":2333},{"$f":"IFERROR(SUMPRODUCT(--('Age Distribution'!$C:$C='Summary Tables Age Distribution'!$C92),'Age Distribution'!$AE:$AE,'Age Distribution'!AF:AF)/SUMIFS('Age Distribution'!$AE:$AE,'Age Distribution'!$C:$C,\"=\"&'Summary Tables Age Distribution'!$C92),\"-\")","v":5.1633090441491625},{"$f":"IFERROR(SUMPRODUCT(--('Age Distribution'!$C:$C='Summary Tables Age Distribution'!$C92),'Age Distribution'!$AE:$AE,'Age Distribution'!AG:AG)/SUMIFS('Age Distribution'!$AE:$AE,'Age Distribution'!$C:$C,\"=\"&'Summary Tables Age Distribution'!$C92,'Age Distribution'!$AG:$AG,\"<>\"),\"-\")","v":87340.143962806556}]
[null,null,"LA","Lousiana",null,{"$f":"SUMIFS('Age Distribution'!L:L,'Age Distribution'!$C:$C,\"=\"&'Summary Tables Age Distribution'!$C93)","v":116},{"$f":"SUMIFS('Age Distribution'!M:M,'Age Distribution'!$C:$C,\"=\"&'Summary Tables Age Distribution'!$C93)","v":84},{"$f":"SUMIFS('Age Distribution'!N:N,'Age Distribution'!$C:$C,\"=\"&'Summary Tables Age Distribution'!$C93)","v":105},{"$f":"SUMIFS('Age Distribution'!O:O,'Age Distribution'!$C:$C,\"=\"&'Summary Tables Age Distribution'!$C93)","v":96},{"$f":"SUMIFS('Age Distribution'!P:P,'Age Distribution'!$C:$C,\"=\"&'Summary Tables Age Distribution'!$C93)","v":59},{"$f":"SUMIFS('Age Distribution'!Q:Q,'Age Distribution'!$C:$C,\"=\"&'Summary Tables Age Distribution'!$C93)","v":91},{"$f":"SUMIFS('Age Distribution'!R:R,'Age Distribution'!$C:$C,\"=\"&'Summary Tables Age Distribution'!$C93)","v":94},{"$f":"SUMIFS('Age Distribution'!S:S,'Age Distribution'!$C:$C,\"=\"&'Summary Tables Age Distribution'!$C93)","v":67},{"$f":"SUMIFS('Age Distribution'!T:T,'Age Distribution'!$C:$C,\"=\"&'Summary Tables Age Distribution'!$C93)","v":183},{"$f":"SUMIFS('Age Distribution'!U:U,'Age Distribution'!$C:$C,\"=\"&'Summary Tables Age Distribution'!$C93)","v":50},{"$f":"SUMIFS('Age Distribution'!V:V,'Age Distribution'!$C:$C,\"=\"&'Summary Tables Age Distribution'!$C93)","v":94},{"$f":"SUMIFS('Age Distribution'!W:W,'Age Distribution'!$C:$C,\"=\"&'Summary Tables Age Distribution'!$C93)","v":17},{"$f":"SUMIFS('Age Distribution'!X:X,'Age Distribution'!$C:$C,\"=\"&'Summary Tables Age Distribution'!$C93)","v":10},{"$f":"SUMIFS('Age Distribution'!Y:Y,'Age Distribution'!$C:$C,\"=\"&'Summary Tables Age Distribution'!$C93)","v":61},{"$f":"SUMIFS('Age Distribution'!Z:Z,'Age Distribution'!$C:$C,\"=\"&'Summary Tables Age Distribution'!$C93)","v":24},{"$f":"SUMIFS('Age Distribution'!AA:AA,'Age Distribution'!$C:$C,\"=\"&'Summary Tables Age Distribution'!$C93)","v":9},{"$f":"SUMIFS('Age Distribution'!AB:AB,'Age Distribution'!$C:$C,\"=\"&'Summary Tables Age Distribution'!$C93)","v":0},{"$f":"SUMIFS('Age Distribution'!AC:AC,'Age Distribution'!$C:$C,\"=\"&'Summary Tables Age Distribution'!$C93)","v":3},{"$f":"SUMIFS('Age Distribution'!AD:AD,'Age Distribution'!$C:$C,\"=\"&'Summary Tables Age Distribution'!$C93)","v":38},{"$f":"SUMIFS('Age Distribution'!AE:AE,'Age Distribution'!$C:$C,\"=\"&'Summary Tables Age Distribution'!$C93)","v":1201},{"$f":"IFERROR(SUMPRODUCT(--('Age Distribution'!$C:$C='Summary Tables Age Distribution'!$C93),'Age Distribution'!$AE:$AE,'Age Distribution'!AF:AF)/SUMIFS('Age Distribution'!$AE:$AE,'Age Distribution'!$C:$C,\"=\"&'Summary Tables Age Distribution'!$C93),\"-\")","v":7.913405495420478},{"$f":"IFERROR(SUMPRODUCT(--('Age Distribution'!$C:$C='Summary Tables Age Distribution'!$C93),'Age Distribution'!$AE:$AE,'Age Distribution'!AG:AG)/SUMIFS('Age Distribution'!$AE:$AE,'Age Distribution'!$C:$C,\"=\"&'Summary Tables Age Distribution'!$C93,'Age Distribution'!$AG:$AG,\"<>\"),\"-\")","v":191526.26584107487}]
[null,null,"MA","Massachusetts",null,{"$f":"SUMIFS('Age Distribution'!L:L,'Age Distribution'!$C:$C,\"=\"&'Summary Tables Age Distribution'!$C94)","v":140},{"$f":"SUMIFS('Age Distribution'!M:M,'Age Distribution'!$C:$C,\"=\"&'Summary Tables Age Distribution'!$C94)","v":383},{"$f":"SUMIFS('Age Distribution'!N:N,'Age Distribution'!$C:$C,\"=\"&'Summary Tables Age Distribution'!$C94)","v":879},{"$f":"SUMIFS('Age Distribution'!O:O,'Age Distribution'!$C:$C,\"=\"&'Summary Tables Age Distribution'!$C94)","v":406},{"$f":"SUMIFS('Age Distribution'!P:P,'Age Distribution'!$C:$C,\"=\"&'Summary Tables Age Distribution'!$C94)","v":591},{"$f":"SUMIFS('Age Distribution'!Q:Q,'Age Distribution'!$C:$C,\"=\"&'Summary Tables Age Distribution'!$C94)","v":457},{"$f":"SUMIFS('Age Distribution'!R:R,'Age Distribution'!$C:$C,\"=\"&'Summary Tables Age Distribution'!$C94)","v":286},{"$f":"SUMIFS('Age Distribution'!S:S,'Age Distribution'!$C:$C,\"=\"&'Summary Tables Age Distribution'!$C94)","v":334},{"$f":"SUMIFS('Age Distribution'!T:T,'Age Distribution'!$C:$C,\"=\"&'Summary Tables Age Distribution'!$C94)","v":216},{"$f":"SUMIFS('Age Distribution'!U:U,'Age Distribution'!$C:$C,\"=\"&'Summary Tables Age Distribution'!$C94)","v":232},{"$f":"SUMIFS('Age Distribution'!V:V,'Age Distribution'!$C:$C,\"=\"&'Summary Tables Age Distribution'!$C94)","v":221},{"$f":"SUMIFS('Age Distribution'!W:W,'Age Distribution'!$C:$C,\"=\"&'Summary Tables Age Distribution'!$C94)","v":261},{"$f":"SUMIFS('Age Distribution'!X:X,'Age Distribution'!$C:$C,\"=\"&'Summary Tables Age Distribution'!$C94)","v":422},{"$f":"SUMIFS('Age Distribution'!Y:Y,'Age Distribution'!$C:$C,\"=\"&'Summary Tables Age Distribution'!$C94)","v":429},{"$f":"SUMIFS('Age Distribution'!Z:Z,'Age Distribution'!$C:$C,\"=\"&'Summary Tables Age Distribution'!$C94)","v":273},{"$f":"SUMIFS('Age Distribution'!AA:AA,'Age Distribution'!$C:$C,\"=\"&'Summary Tables Age Distribution'!$C94)","v":169},{"$f":"SUMIFS('Age Distribution'!AB:AB,'Age Distribution'!$C:$C,\"=\"&'Summary Tables Age Distribution'!$C94)","v":272},{"$f":"SUMIFS('Age Distribution'!AC:AC,'Age Distribution'!$C:$C,\"=\"&'Summary Tables Age Distribution'!$C94)","v":496},{"$f":"SUMIFS('Age Distribution'!AD:AD,'Age Distribution'!$C:$C,\"=\"&'Summary Tables Age Distribution'!$C94)","v":12},{"$f":"SUMIFS('Age Distribution'!AE:AE,'Age Distribution'!$C:$C,\"=\"&'Summary Tables Age Distribution'!$C94)","v":6479},{"$f":"IFERROR(SUMPRODUCT(--('Age Distribution'!$C:$C='Summary Tables Age Distribution'!$C94),'Age Distribution'!$AE:$AE,'Age Distribution'!AF:AF)/SUMIFS('Age Distribution'!$AE:$AE,'Age Distribution'!$C:$C,\"=\"&'Summary Tables Age Distribution'!$C94),\"-\")","v":8.2887791325821816},{"$f":"IFERROR(SUMPRODUCT(--('Age Distribution'!$C:$C='Summary Tables Age Distribution'!$C94),'Age Distribution'!$AE:$AE,'Age Distribution'!AG:AG)/SUMIFS('Age Distribution'!$AE:$AE,'Age Distribution'!$C:$C,\"=\"&'Summary Tables Age Distribution'!$C94,'Age Distribution'!$AG:$AG,\"<>\"),\"-\")","v":454289.47361090279}]
[null,null,"MD","Maryland",null,{"$f":"SUMIFS('Age Distribution'!L:L,'Age Distribution'!$C:$C,\"=\"&'Summary Tables Age Distribution'!$C95)","v":91},{"$f":"SUMIFS('Age Distribution'!M:M,'Age Distribution'!$C:$C,\"=\"&'Summary Tables Age Distribution'!$C95)","v":446},{"$f":"SUMIFS('Age Distribution'!N:N,'Age Distribution'!$C:$C,\"=\"&'Summary Tables Age Distribution'!$C95)","v":424},{"$f":"SUMIFS('Age Distribution'!O:O,'Age Distribution'!$C:$C,\"=\"&'Summary Tables Age Distribution'!$C95)","v":66},{"$f":"SUMIFS('Age Distribution'!P:P,'Age Distribution'!$C:$C,\"=\"&'Summary Tables Age Distribution'!$C95)","v":359},{"$f":"SUMIFS('Age Distribution'!Q:Q,'Age Distribution'!$C:$C,\"=\"&'Summary Tables Age Distribution'!$C95)","v":172},{"$f":"SUMIFS('Age Distribution'!R:R,'Age Distribution'!$C:$C,\"=\"&'Summary Tables Age Distribution'!$C95)","v":214},{"$f":"SUMIFS('Age Distribution'!S:S,'Age Distribution'!$C:$C,\"=\"&'Summary Tables Age Distribution'!$C95)","v":300},{"$f":"SUMIFS('Age Distribution'!T:T,'Age Distribution'!$C:$C,\"=\"&'Summary Tables Age Distribution'!$C95)","v":228},{"$f":"SUMIFS('Age Distribution'!U:U,'Age Distribution'!$C:$C,\"=\"&'Summary Tables Age Distribution'!$C95)","v":340},{"$f":"SUMIFS('Age Distribution'!V:V,'Age Distribution'!$C:$C,\"=\"&'Summary Tables Age Distribution'!$C95)","v":109},{"$f":"SUMIFS('Age Distribution'!W:W,'Age Distribution'!$C:$C,\"=\"&'Summary Tables Age Distribution'!$C95)","v":90},{"$f":"SUMIFS('Age Distribution'!X:X,'Age Distribution'!$C:$C,\"=\"&'Summary Tables Age Distribution'!$C95)","v":52},{"$f":"SUMIFS('Age Distribution'!Y:Y,'Age Distribution'!$C:$C,\"=\"&'Summary Tables Age Distribution'!$C95)","v":261},{"$f":"SUMIFS('Age Distribution'!Z:Z,'Age Distribution'!$C:$C,\"=\"&'Summary Tables Age Distribution'!$C95)","v":162},{"$f":"SUMIFS('Age Distribution'!AA:AA,'Age Distribution'!$C:$C,\"=\"&'Summary Tables Age Distribution'!$C95)","v":34},{"$f":"SUMIFS('Age Distribution'!AB:AB,'Age Distribution'!$C:$C,\"=\"&'Summary Tables Age Distribution'!$C95)","v":64},{"$f":"SUMIFS('Age Distribution'!AC:AC,'Age Distribution'!$C:$C,\"=\"&'Summary Tables Age Distribution'!$C95)","v":125},{"$f":"SUMIFS('Age Distribution'!AD:AD,'Age Distribution'!$C:$C,\"=\"&'Summary Tables Age Distribution'!$C95)","v":0},{"$f":"SUMIFS('Age Distribution'!AE:AE,'Age Distribution'!$C:$C,\"=\"&'Summary Tables Age Distribution'!$C95)","v":3537},{"$f":"IFERROR(SUMPRODUCT(--('Age Distribution'!$C:$C='Summary Tables Age Distribution'!$C95),'Age Distribution'!$AE:$AE,'Age Distribution'!AF:AF)/SUMIFS('Age Distribution'!$AE:$AE,'Age Distribution'!$C:$C,\"=\"&'Summary Tables Age Distribution'!$C95),\"-\")","v":6.4851569126378195},{"$f":"IFERROR(SUMPRODUCT(--('Age Distribution'!$C:$C='Summary Tables Age Distribution'!$C95),'Age Distribution'!$AE:$AE,'Age Distribution'!AG:AG)/SUMIFS('Age Distribution'!$AE:$AE,'Age Distribution'!$C:$C,\"=\"&'Summary Tables Age Distribution'!$C95,'Age Distribution'!$AG:$AG,\"<>\"),\"-\")","v":253589.27234926351}]
[null,null,"ME","Maine",null,{"$f":"SUMIFS('Age Distribution'!L:L,'Age Distribution'!$C:$C,\"=\"&'Summary Tables Age Distribution'!$C96)","v":26},{"$f":"SUMIFS('Age Distribution'!M:M,'Age Distribution'!$C:$C,\"=\"&'Summary Tables Age Distribution'!$C96)","v":13},{"$f":"SUMIFS('Age Distribution'!N:N,'Age Distribution'!$C:$C,\"=\"&'Summary Tables Age Distribution'!$C96)","v":36},{"$f":"SUMIFS('Age Distribution'!O:O,'Age Distribution'!$C:$C,\"=\"&'Summary Tables Age Distribution'!$C96)","v":10},{"$f":"SUMIFS('Age Distribution'!P:P,'Age Distribution'!$C:$C,\"=\"&'Summary Tables Age Distribution'!$C96)","v":33},{"$f":"SUMIFS('Age Distribution'!Q:Q,'Age Distribution'!$C:$C,\"=\"&'Summary Tables Age Distribution'!$C96)","v":30},{"$f":"SUMIFS('Age Distribution'!R:R,'Age Distribution'!$C:$C,\"=\"&'Summary Tables Age Distribution'!$C96)","v":14},{"$f":"SUMIFS('Age Distribution'!S:S,'Age Distribution'!$C:$C,\"=\"&'Summary Tables Age Distribution'!$C96)","v":33},{"$f":"SUMIFS('Age Distribution'!T:T,'Age Distribution'!$C:$C,\"=\"&'Summary Tables Age Distribution'!$C96)","v":73},{"$f":"SUMIFS('Age Distribution'!U:U,'Age Distribution'!$C:$C,\"=\"&'Summary Tables Age Distribution'!$C96)","v":27},{"$f":"SUMIFS('Age Distribution'!V:V,'Age Distribution'!$C:$C,\"=\"&'Summary Tables Age Distribution'!$C96)","v":26},{"$f":"SUMIFS('Age Distribution'!W:W,'Age Distribution'!$C:$C,\"=\"&'Summary Tables Age Distribution'!$C96)","v":37},{"$f":"SUMIFS('Age Distribution'!X:X,'Age Distribution'!$C:$C,\"=\"&'Summary Tables Age Distribution'!$C96)","v":19},{"$f":"SUMIFS('Age Distribution'!Y:Y,'Age Distribution'!$C:$C,\"=\"&'Summary Tables Age Distribution'!$C96)","v":45},{"$f":"SUMIFS('Age Distribution'!Z:Z,'Age Distribution'!$C:$C,\"=\"&'Summary Tables Age Distribution'!$C96)","v":29},{"$f":"SUMIFS('Age Distribution'!AA:AA,'Age Distribution'!$C:$C,\"=\"&'Summary Tables Age Distribution'!$C96)","v":8},{"$f":"SUMIFS('Age Distribution'!AB:AB,'Age Distribution'!$C:$C,\"=\"&'Summary Tables Age Distribution'!$C96)","v":0},{"$f":"SUMIFS('Age Distribution'!AC:AC,'Age Distribution'!$C:$C,\"=\"&'Summary Tables Age Distribution'!$C96)","v":7},{"$f":"SUMIFS('Age Distribution'!AD:AD,'Age Distribution'!$C:$C,\"=\"&'Summary Tables Age Distribution'!$C96)","v":0},{"$f":"SUMIFS('Age Distribution'!AE:AE,'Age Distribution'!$C:$C,\"=\"&'Summary Tables Age Distribution'!$C96)","v":466},{"$f":"IFERROR(SUMPRODUCT(--('Age Distribution'!$C:$C='Summary Tables Age Distribution'!$C96),'Age Distribution'!$AE:$AE,'Age Distribution'!AF:AF)/SUMIFS('Age Distribution'!$AE:$AE,'Age Distribution'!$C:$C,\"=\"&'Summary Tables Age Distribution'!$C96),\"-\")","v":8.2725321888411845},{"$f":"IFERROR(SUMPRODUCT(--('Age Distribution'!$C:$C='Summary Tables Age Distribution'!$C96),'Age Distribution'!$AE:$AE,'Age Distribution'!AG:AG)/SUMIFS('Age Distribution'!$AE:$AE,'Age Distribution'!$C:$C,\"=\"&'Summary Tables Age Distribution'!$C96,'Age Distribution'!$AG:$AG,\"<>\"),\"-\")","v":112305.68008255035}]
[null,null,"MI","Michigan",null,{"$f":"SUMIFS('Age Distribution'!L:L,'Age Distribution'!$C:$C,\"=\"&'Summary Tables Age Distribution'!$C97)","v":443},{"$f":"SUMIFS('Age Distribution'!M:M,'Age Distribution'!$C:$C,\"=\"&'Summary Tables Age Distribution'!$C97)","v":624},{"$f":"SUMIFS('Age Distribution'!N:N,'Age Distribution'!$C:$C,\"=\"&'Summary Tables Age Distribution'!$C97)","v":453},{"$f":"SUMIFS('Age Distribution'!O:O,'Age Distribution'!$C:$C,\"=\"&'Summary Tables Age Distribution'!$C97)","v":550},{"$f":"SUMIFS('Age Distribution'!P:P,'Age Distribution'!$C:$C,\"=\"&'Summary Tables Age Distribution'!$C97)","v":319},{"$f":"SUMIFS('Age Distribution'!Q:Q,'Age Distribution'!$C:$C,\"=\"&'Summary Tables Age Distribution'!$C97)","v":315},{"$f":"SUMIFS('Age Distribution'!R:R,'Age Distribution'!$C:$C,\"=\"&'Summary Tables Age Distribution'!$C97)","v":504},{"$f":"SUMIFS('Age Distribution'!S:S,'Age Distribution'!$C:$C,\"=\"&'Summary Tables Age Distribution'!$C97)","v":259},{"$f":"SUMIFS('Age Distribution'!T:T,'Age Distribution'!$C:$C,\"=\"&'Summary Tables Age Distribution'!$C97)","v":420},{"$f":"SUMIFS('Age Distribution'!U:U,'Age Distribution'!$C:$C,\"=\"&'Summary Tables Age Distribution'!$C97)","v":254},{"$f":"SUMIFS('Age Distribution'!V:V,'Age Distribution'!$C:$C,\"=\"&'Summary Tables Age Distribution'!$C97)","v":189},{"$f":"SUMIFS('Age Distribution'!W:W,'Age Distribution'!$C:$C,\"=\"&'Summary Tables Age Distribution'!$C97)","v":116},{"$f":"SUMIFS('Age Distribution'!X:X,'Age Distribution'!$C:$C,\"=\"&'Summary Tables Age Distribution'!$C97)","v":85},{"$f":"SUMIFS('Age Distribution'!Y:Y,'Age Distribution'!$C:$C,\"=\"&'Summary Tables Age Distribution'!$C97)","v":333},{"$f":"SUMIFS('Age Distribution'!Z:Z,'Age Distribution'!$C:$C,\"=\"&'Summary Tables Age Distribution'!$C97)","v":156},{"$f":"SUMIFS('Age Distribution'!AA:AA,'Age Distribution'!$C:$C,\"=\"&'Summary Tables Age Distribution'!$C97)","v":46},{"$f":"SUMIFS('Age Distribution'!AB:AB,'Age Distribution'!$C:$C,\"=\"&'Summary Tables Age Distribution'!$C97)","v":4},{"$f":"SUMIFS('Age Distribution'!AC:AC,'Age Distribution'!$C:$C,\"=\"&'Summary Tables Age Distribution'!$C97)","v":12},{"$f":"SUMIFS('Age Distribution'!AD:AD,'Age Distribution'!$C:$C,\"=\"&'Summary Tables Age Distribution'!$C97)","v":1},{"$f":"SUMIFS('Age Distribution'!AE:AE,'Age Distribution'!$C:$C,\"=\"&'Summary Tables Age Distribution'!$C97)","v":5083},{"$f":"IFERROR(SUMPRODUCT(--('Age Distribution'!$C:$C='Summary Tables Age Distribution'!$C97),'Age Distribution'!$AE:$AE,'Age Distribution'!AF:AF)/SUMIFS('Age Distribution'!$AE:$AE,'Age Distribution'!$C:$C,\"=\"&'Summary Tables Age Distribution'!$C97),\"-\")","v":5.3324808184143198},{"$f":"IFERROR(SUMPRODUCT(--('Age Distribution'!$C:$C='Summary Tables Age Distribution'!$C97),'Age Distribution'!$AE:$AE,'Age Distribution'!AG:AG)/SUMIFS('Age Distribution'!$AE:$AE,'Age Distribution'!$C:$C,\"=\"&'Summary Tables Age Distribution'!$C97,'Age Distribution'!$AG:$AG,\"<>\"),\"-\")","v":121295.24861819332}]
[null,null,"MN","Minnesota",null,{"$f":"SUMIFS('Age Distribution'!L:L,'Age Distribution'!$C:$C,\"=\"&'Summary Tables Age Distribution'!$C98)","v":334},{"$f":"SUMIFS('Age Distribution'!M:M,'Age Distribution'!$C:$C,\"=\"&'Summary Tables Age Distribution'!$C98)","v":357},{"$f":"SUMIFS('Age Distribution'!N:N,'Age Distribution'!$C:$C,\"=\"&'Summary Tables Age Distribution'!$C98)","v":376},{"$f":"SUMIFS('Age Distribution'!O:O,'Age Distribution'!$C:$C,\"=\"&'Summary Tables Age Distribution'!$C98)","v":384},{"$f":"SUMIFS('Age Distribution'!P:P,'Age Distribution'!$C:$C,\"=\"&'Summary Tables Age Distribution'!$C98)","v":359},{"$f":"SUMIFS('Age Distribution'!Q:Q,'Age Distribution'!$C:$C,\"=\"&'Summary Tables Age Distribution'!$C98)","v":350},{"$f":"SUMIFS('Age Distribution'!R:R,'Age Distribution'!$C:$C,\"=\"&'Summary Tables Age Distribution'!$C98)","v":227},{"$f":"SUMIFS('Age Distribution'!S:S,'Age Distribution'!$C:$C,\"=\"&'Summary Tables Age Distribution'!$C98)","v":219},{"$f":"SUMIFS('Age Distribution'!T:T,'Age Distribution'!$C:$C,\"=\"&'Summary Tables Age Distribution'!$C98)","v":178},{"$f":"SUMIFS('Age Distribution'!U:U,'Age Distribution'!$C:$C,\"=\"&'Summary Tables Age Distribution'!$C98)","v":196},{"$f":"SUMIFS('Age Distribution'!V:V,'Age Distribution'!$C:$C,\"=\"&'Summary Tables Age Distribution'!$C98)","v":221},{"$f":"SUMIFS('Age Distribution'!W:W,'Age Distribution'!$C:$C,\"=\"&'Summary Tables Age Distribution'!$C98)","v":85},{"$f":"SUMIFS('Age Distribution'!X:X,'Age Distribution'!$C:$C,\"=\"&'Summary Tables Age Distribution'!$C98)","v":87},{"$f":"SUMIFS('Age Distribution'!Y:Y,'Age Distribution'!$C:$C,\"=\"&'Summary Tables Age Distribution'!$C98)","v":106},{"$f":"SUMIFS('Age Distribution'!Z:Z,'Age Distribution'!$C:$C,\"=\"&'Summary Tables Age Distribution'!$C98)","v":32},{"$f":"SUMIFS('Age Distribution'!AA:AA,'Age Distribution'!$C:$C,\"=\"&'Summary Tables Age Distribution'!$C98)","v":9},{"$f":"SUMIFS('Age Distribution'!AB:AB,'Age Distribution'!$C:$C,\"=\"&'Summary Tables Age Distribution'!$C98)","v":1},{"$f":"SUMIFS('Age Distribution'!AC:AC,'Age Distribution'!$C:$C,\"=\"&'Summary Tables Age Distribution'!$C98)","v":1},{"$f":"SUMIFS('Age Distribution'!AD:AD,'Age Distribution'!$C:$C,\"=\"&'Summary Tables Age Distribution'!$C98)","v":0},{"$f":"SUMIFS('Age Distribution'!AE:AE,'Age Distribution'!$C:$C,\"=\"&'Summary Tables Age Distribution'!$C98)","v":3522},{"$f":"IFERROR(SUMPRODUCT(--('Age Distribution'!$C:$C='Summary Tables Age Distribution'!$C98),'Age Distribution'!$AE:$AE,'Age Distribution'!AF:AF)/SUMIFS('Age Distribution'!$AE:$AE,'Age Distribution'!$C:$C,\"=\"&'Summary Tables Age Distribution'!$C98),\"-\")","v":4.3850085178875622},{"$f":"IFERROR(SUMPRODUCT(--('Age Distribution'!$C:$C='Summary Tables Age Distribution'!$C98),'Age Distribution'!$AE:$AE,'Age Distribution'!AG:AG)/SUMIFS('Age Distribution'!$AE:$AE,'Age Distribution'!$C:$C,\"=\"&'Summary Tables Age Distribution'!$C98,'Age Distribution'!$AG:$AG,\"<>\"),\"-\")","v":161718.49368358581}]
[null,null,"MO","Missouri",null,{"$f":"SUMIFS('Age Distribution'!L:L,'Age Distribution'!$C:$C,\"=\"&'Summary Tables Age Distribution'!$C99)","v":142},{"$f":"SUMIFS('Age Distribution'!M:M,'Age Distribution'!$C:$C,\"=\"&'Summary Tables Age Distribution'!$C99)","v":211},{"$f":"SUMIFS('Age Distribution'!N:N,'Age Distribution'!$C:$C,\"=\"&'Summary Tables Age Distribution'!$C99)","v":129},{"$f":"SUMIFS('Age Distribution'!O:O,'Age Distribution'!$C:$C,\"=\"&'Summary Tables Age Distribution'!$C99)","v":179},{"$f":"SUMIFS('Age Distribution'!P:P,'Age Distribution'!$C:$C,\"=\"&'Summary Tables Age Distribution'!$C99)","v":218},{"$f":"SUMIFS('Age Distribution'!Q:Q,'Age Distribution'!$C:$C,\"=\"&'Summary Tables Age Distribution'!$C99)","v":101},{"$f":"SUMIFS('Age Distribution'!R:R,'Age Distribution'!$C:$C,\"=\"&'Summary Tables Age Distribution'!$C99)","v":246},{"$f":"SUMIFS('Age Distribution'!S:S,'Age Distribution'!$C:$C,\"=\"&'Summary Tables Age Distribution'!$C99)","v":196},{"$f":"SUMIFS('Age Distribution'!T:T,'Age Distribution'!$C:$C,\"=\"&'Summary Tables Age Distribution'!$C99)","v":96},{"$f":"SUMIFS('Age Distribution'!U:U,'Age Distribution'!$C:$C,\"=\"&'Summary Tables Age Distribution'!$C99)","v":274},{"$f":"SUMIFS('Age Distribution'!V:V,'Age Distribution'!$C:$C,\"=\"&'Summary Tables Age Distribution'!$C99)","v":191},{"$f":"SUMIFS('Age Distribution'!W:W,'Age Distribution'!$C:$C,\"=\"&'Summary Tables Age Distribution'!$C99)","v":33},{"$f":"SUMIFS('Age Distribution'!X:X,'Age Distribution'!$C:$C,\"=\"&'Summary Tables Age Distribution'!$C99)","v":84},{"$f":"SUMIFS('Age Distribution'!Y:Y,'Age Distribution'!$C:$C,\"=\"&'Summary Tables Age Distribution'!$C99)","v":172},{"$f":"SUMIFS('Age Distribution'!Z:Z,'Age Distribution'!$C:$C,\"=\"&'Summary Tables Age Distribution'!$C99)","v":206},{"$f":"SUMIFS('Age Distribution'!AA:AA,'Age Distribution'!$C:$C,\"=\"&'Summary Tables Age Distribution'!$C99)","v":29},{"$f":"SUMIFS('Age Distribution'!AB:AB,'Age Distribution'!$C:$C,\"=\"&'Summary Tables Age Distribution'!$C99)","v":15},{"$f":"SUMIFS('Age Distribution'!AC:AC,'Age Distribution'!$C:$C,\"=\"&'Summary Tables Age Distribution'!$C99)","v":0},{"$f":"SUMIFS('Age Distribution'!AD:AD,'Age Distribution'!$C:$C,\"=\"&'Summary Tables Age Distribution'!$C99)","v":0},{"$f":"SUMIFS('Age Distribution'!AE:AE,'Age Distribution'!$C:$C,\"=\"&'Summary Tables Age Distribution'!$C99)","v":2522},{"$f":"IFERROR(SUMPRODUCT(--('Age Distribution'!$C:$C='Summary Tables Age Distribution'!$C99),'Age Distribution'!$AE:$AE,'Age Distribution'!AF:AF)/SUMIFS('Age Distribution'!$AE:$AE,'Age Distribution'!$C:$C,\"=\"&'Summary Tables Age Distribution'!$C99),\"-\")","v":6.1007137192704164},{"$f":"IFERROR(SUMPRODUCT(--('Age Distribution'!$C:$C='Summary Tables Age Distribution'!$C99),'Age Distribution'!$AE:$AE,'Age Distribution'!AG:AG)/SUMIFS('Age Distribution'!$AE:$AE,'Age Distribution'!$C:$C,\"=\"&'Summary Tables Age Distribution'!$C99,'Age Distribution'!$AG:$AG,\"<>\"),\"-\")","v":195134.63691313603}]
[null,null,"MP","Northern Marianas",null,{"$f":"SUMIFS('Age Distribution'!L:L,'Age Distribution'!$C:$C,\"=\"&'Summary Tables Age Distribution'!$C100)","v":0},{"$f":"SUMIFS('Age Distribution'!M:M,'Age Distribution'!$C:$C,\"=\"&'Summary Tables Age Distribution'!$C100)","v":0},{"$f":"SUMIFS('Age Distribution'!N:N,'Age Distribution'!$C:$C,\"=\"&'Summary Tables Age Distribution'!$C100)","v":0},{"$f":"SUMIFS('Age Distribution'!O:O,'Age Distribution'!$C:$C,\"=\"&'Summary Tables Age Distribution'!$C100)","v":0},{"$f":"SUMIFS('Age Distribution'!P:P,'Age Distribution'!$C:$C,\"=\"&'Summary Tables Age Distribution'!$C100)","v":0},{"$f":"SUMIFS('Age Distribution'!Q:Q,'Age Distribution'!$C:$C,\"=\"&'Summary Tables Age Distribution'!$C100)","v":0},{"$f":"SUMIFS('Age Distribution'!R:R,'Age Distribution'!$C:$C,\"=\"&'Summary Tables Age Distribution'!$C100)","v":0},{"$f":"SUMIFS('Age Distribution'!S:S,'Age Distribution'!$C:$C,\"=\"&'Summary Tables Age Distribution'!$C100)","v":0},{"$f":"SUMIFS('Age Distribution'!T:T,'Age Distribution'!$C:$C,\"=\"&'Summary Tables Age Distribution'!$C100)","v":0},{"$f":"SUMIFS('Age Distribution'!U:U,'Age Distribution'!$C:$C,\"=\"&'Summary Tables Age Distribution'!$C100)","v":0},{"$f":"SUMIFS('Age Distribution'!V:V,'Age Distribution'!$C:$C,\"=\"&'Summary Tables Age Distribution'!$C100)","v":0},{"$f":"SUMIFS('Age Distribution'!W:W,'Age Distribution'!$C:$C,\"=\"&'Summary Tables Age Distribution'!$C100)","v":0},{"$f":"SUMIFS('Age Distribution'!X:X,'Age Distribution'!$C:$C,\"=\"&'Summary Tables Age Distribution'!$C100)","v":0},{"$f":"SUMIFS('Age Distribution'!Y:Y,'Age Distribution'!$C:$C,\"=\"&'Summary Tables Age Distribution'!$C100)","v":0},{"$f":"SUMIFS('Age Distribution'!Z:Z,'Age Distribution'!$C:$C,\"=\"&'Summary Tables Age Distribution'!$C100)","v":0},{"$f":"SUMIFS('Age Distribution'!AA:AA,'Age Distribution'!$C:$C,\"=\"&'Summary Tables Age Distribution'!$C100)","v":0},{"$f":"SUMIFS('Age Distribution'!AB:AB,'Age Distribution'!$C:$C,\"=\"&'Summary Tables Age Distribution'!$C100)","v":0},{"$f":"SUMIFS('Age Distribution'!AC:AC,'Age Distribution'!$C:$C,\"=\"&'Summary Tables Age Distribution'!$C100)","v":0},{"$f":"SUMIFS('Age Distribution'!AD:AD,'Age Distribution'!$C:$C,\"=\"&'Summary Tables Age Distribution'!$C100)","v":0},{"$f":"SUMIFS('Age Distribution'!AE:AE,'Age Distribution'!$C:$C,\"=\"&'Summary Tables Age Distribution'!$C100)","v":0},{"$f":"IFERROR(SUMPRODUCT(--('Age Distribution'!$C:$C='Summary Tables Age Distribution'!$C100),'Age Distribution'!$AE:$AE,'Age Distribution'!AF:AF)/SUMIFS('Age Distribution'!$AE:$AE,'Age Distribution'!$C:$C,\"=\"&'Summary Tables Age Distribution'!$C100),\"-\")","v":"-"},{"$f":"IFERROR(SUMPRODUCT(--('Age Distribution'!$C:$C='Summary Tables Age Distribution'!$C100),'Age Distribution'!$AE:$AE,'Age Distribution'!AG:AG)/SUMIFS('Age Distribution'!$AE:$AE,'Age Distribution'!$C:$C,\"=\"&'Summary Tables Age Distribution'!$C100,'Age Distribution'!$AG:$AG,\"<>\"),\"-\")","v":"-"}]
[null,null,"MS","Mississippi",null,{"$f":"SUMIFS('Age Distribution'!L:L,'Age Distribution'!$C:$C,\"=\"&'Summary Tables Age Distribution'!$C101)","v":44},{"$f":"SUMIFS('Age Distribution'!M:M,'Age Distribution'!$C:$C,\"=\"&'Summary Tables Age Distribution'!$C101)","v":64},{"$f":"SUMIFS('Age Distribution'!N:N,'Age Distribution'!$C:$C,\"=\"&'Summary Tables Age Distribution'!$C101)","v":78},{"$f":"SUMIFS('Age Distribution'!O:O,'Age Distribution'!$C:$C,\"=\"&'Summary Tables Age Distribution'!$C101)","v":87},{"$f":"SUMIFS('Age Distribution'!P:P,'Age Distribution'!$C:$C,\"=\"&'Summary Tables Age Distribution'!$C101)","v":65},{"$f":"SUMIFS('Age Distribution'!Q:Q,'Age Distribution'!$C:$C,\"=\"&'Summary Tables Age Distribution'!$C101)","v":63},{"$f":"SUMIFS('Age Distribution'!R:R,'Age Distribution'!$C:$C,\"=\"&'Summary Tables Age Distribution'!$C101)","v":17},{"$f":"SUMIFS('Age Distribution'!S:S,'Age Distribution'!$C:$C,\"=\"&'Summary Tables Age Distribution'!$C101)","v":33},{"$f":"SUMIFS('Age Distribution'!T:T,'Age Distribution'!$C:$C,\"=\"&'Summary Tables Age Distribution'!$C101)","v":94},{"$f":"SUMIFS('Age Distribution'!U:U,'Age Distribution'!$C:$C,\"=\"&'Summary Tables Age Distribution'!$C101)","v":31},{"$f":"SUMIFS('Age Distribution'!V:V,'Age Distribution'!$C:$C,\"=\"&'Summary Tables Age Distribution'!$C101)","v":51},{"$f":"SUMIFS('Age Distribution'!W:W,'Age Distribution'!$C:$C,\"=\"&'Summary Tables Age Distribution'!$C101)","v":14},{"$f":"SUMIFS('Age Distribution'!X:X,'Age Distribution'!$C:$C,\"=\"&'Summary Tables Age Distribution'!$C101)","v":20},{"$f":"SUMIFS('Age Distribution'!Y:Y,'Age Distribution'!$C:$C,\"=\"&'Summary Tables Age Distribution'!$C101)","v":23},{"$f":"SUMIFS('Age Distribution'!Z:Z,'Age Distribution'!$C:$C,\"=\"&'Summary Tables Age Distribution'!$C101)","v":11},{"$f":"SUMIFS('Age Distribution'!AA:AA,'Age Distribution'!$C:$C,\"=\"&'Summary Tables Age Distribution'!$C101)","v":4},{"$f":"SUMIFS('Age Distribution'!AB:AB,'Age Distribution'!$C:$C,\"=\"&'Summary Tables Age Distribution'!$C101)","v":0},{"$f":"SUMIFS('Age Distribution'!AC:AC,'Age Distribution'!$C:$C,\"=\"&'Summary Tables Age Distribution'!$C101)","v":0},{"$f":"SUMIFS('Age Distribution'!AD:AD,'Age Distribution'!$C:$C,\"=\"&'Summary Tables Age Distribution'!$C101)","v":0},{"$f":"SUMIFS('Age Distribution'!AE:AE,'Age Distribution'!$C:$C,\"=\"&'Summary Tables Age Distribution'!$C101)","v":699},{"$f":"IFERROR(SUMPRODUCT(--('Age Distribution'!$C:$C='Summary Tables Age Distribution'!$C101),'Age Distribution'!$AE:$AE,'Age Distribution'!AF:AF)/SUMIFS('Age Distribution'!$AE:$AE,'Age Distribution'!$C:$C,\"=\"&'Summary Tables Age Distribution'!$C101),\"-\")","v":5.389127324749639},{"$f":"IFERROR(SUMPRODUCT(--('Age Distribution'!$C:$C='Summary Tables Age Distribution'!$C101),'Age Distribution'!$AE:$AE,'Age Distribution'!AG:AG)/SUMIFS('Age Distribution'!$AE:$AE,'Age Distribution'!$C:$C,\"=\"&'Summary Tables Age Distribution'!$C101,'Age Distribution'!$AG:$AG,\"<>\"),\"-\")","v":44544.971974778753}]
[null,null,"MT","Montana",null,{"$f":"SUMIFS('Age Distribution'!L:L,'Age Distribution'!$C:$C,\"=\"&'Summary Tables Age Distribution'!$C102)","v":4},{"$f":"SUMIFS('Age Distribution'!M:M,'Age Distribution'!$C:$C,\"=\"&'Summary Tables Age Distribution'!$C102)","v":42},{"$f":"SUMIFS('Age Distribution'!N:N,'Age Distribution'!$C:$C,\"=\"&'Summary Tables Age Distribution'!$C102)","v":43},{"$f":"SUMIFS('Age Distribution'!O:O,'Age Distribution'!$C:$C,\"=\"&'Summary Tables Age Distribution'!$C102)","v":35},{"$f":"SUMIFS('Age Distribution'!P:P,'Age Distribution'!$C:$C,\"=\"&'Summary Tables Age Distribution'!$C102)","v":21},{"$f":"SUMIFS('Age Distribution'!Q:Q,'Age Distribution'!$C:$C,\"=\"&'Summary Tables Age Distribution'!$C102)","v":34},{"$f":"SUMIFS('Age Distribution'!R:R,'Age Distribution'!$C:$C,\"=\"&'Summary Tables Age Distribution'!$C102)","v":33},{"$f":"SUMIFS('Age Distribution'!S:S,'Age Distribution'!$C:$C,\"=\"&'Summary Tables Age Distribution'!$C102)","v":25},{"$f":"SUMIFS('Age Distribution'!T:T,'Age Distribution'!$C:$C,\"=\"&'Summary Tables Age Distribution'!$C102)","v":67},{"$f":"SUMIFS('Age Distribution'!U:U,'Age Distribution'!$C:$C,\"=\"&'Summary Tables Age Distribution'!$C102)","v":38},{"$f":"SUMIFS('Age Distribution'!V:V,'Age Distribution'!$C:$C,\"=\"&'Summary Tables Age Distribution'!$C102)","v":13},{"$f":"SUMIFS('Age Distribution'!W:W,'Age Distribution'!$C:$C,\"=\"&'Summary Tables Age Distribution'!$C102)","v":46},{"$f":"SUMIFS('Age Distribution'!X:X,'Age Distribution'!$C:$C,\"=\"&'Summary Tables Age Distribution'!$C102)","v":15},{"$f":"SUMIFS('Age Distribution'!Y:Y,'Age Distribution'!$C:$C,\"=\"&'Summary Tables Age Distribution'!$C102)","v":41},{"$f":"SUMIFS('Age Distribution'!Z:Z,'Age Distribution'!$C:$C,\"=\"&'Summary Tables Age Distribution'!$C102)","v":20},{"$f":"SUMIFS('Age Distribution'!AA:AA,'Age Distribution'!$C:$C,\"=\"&'Summary Tables Age Distribution'!$C102)","v":9},{"$f":"SUMIFS('Age Distribution'!AB:AB,'Age Distribution'!$C:$C,\"=\"&'Summary Tables Age Distribution'!$C102)","v":4},{"$f":"SUMIFS('Age Distribution'!AC:AC,'Age Distribution'!$C:$C,\"=\"&'Summary Tables Age Distribution'!$C102)","v":0},{"$f":"SUMIFS('Age Distribution'!AD:AD,'Age Distribution'!$C:$C,\"=\"&'Summary Tables Age Distribution'!$C102)","v":0},{"$f":"SUMIFS('Age Distribution'!AE:AE,'Age Distribution'!$C:$C,\"=\"&'Summary Tables Age Distribution'!$C102)","v":490},{"$f":"IFERROR(SUMPRODUCT(--('Age Distribution'!$C:$C='Summary Tables Age Distribution'!$C102),'Age Distribution'!$AE:$AE,'Age Distribution'!AF:AF)/SUMIFS('Age Distribution'!$AE:$AE,'Age Distribution'!$C:$C,\"=\"&'Summary Tables Age Distribution'!$C102),\"-\")","v":7.1142857142857094},{"$f":"IFERROR(SUMPRODUCT(--('Age Distribution'!$C:$C='Summary Tables Age Distribution'!$C102),'Age Distribution'!$AE:$AE,'Age Distribution'!AG:AG)/SUMIFS('Age Distribution'!$AE:$AE,'Age Distribution'!$C:$C,\"=\"&'Summary Tables Age Distribution'!$C102,'Age Distribution'!$AG:$AG,\"<>\"),\"-\")","v":47313.835116274087}]
[null,null,"NC","North Carolina",null,{"$f":"SUMIFS('Age Distribution'!L:L,'Age Distribution'!$C:$C,\"=\"&'Summary Tables Age Distribution'!$C103)","v":122},{"$f":"SUMIFS('Age Distribution'!M:M,'Age Distribution'!$C:$C,\"=\"&'Summary Tables Age Distribution'!$C103)","v":492},{"$f":"SUMIFS('Age Distribution'!N:N,'Age Distribution'!$C:$C,\"=\"&'Summary Tables Age Distribution'!$C103)","v":427},{"$f":"SUMIFS('Age Distribution'!O:O,'Age Distribution'!$C:$C,\"=\"&'Summary Tables Age Distribution'!$C103)","v":348},{"$f":"SUMIFS('Age Distribution'!P:P,'Age Distribution'!$C:$C,\"=\"&'Summary Tables Age Distribution'!$C103)","v":297},{"$f":"SUMIFS('Age Distribution'!Q:Q,'Age Distribution'!$C:$C,\"=\"&'Summary Tables Age Distribution'!$C103)","v":298},{"$f":"SUMIFS('Age Distribution'!R:R,'Age Distribution'!$C:$C,\"=\"&'Summary Tables Age Distribution'!$C103)","v":331},{"$f":"SUMIFS('Age Distribution'!S:S,'Age Distribution'!$C:$C,\"=\"&'Summary Tables Age Distribution'!$C103)","v":236},{"$f":"SUMIFS('Age Distribution'!T:T,'Age Distribution'!$C:$C,\"=\"&'Summary Tables Age Distribution'!$C103)","v":242},{"$f":"SUMIFS('Age Distribution'!U:U,'Age Distribution'!$C:$C,\"=\"&'Summary Tables Age Distribution'!$C103)","v":307},{"$f":"SUMIFS('Age Distribution'!V:V,'Age Distribution'!$C:$C,\"=\"&'Summary Tables Age Distribution'!$C103)","v":167},{"$f":"SUMIFS('Age Distribution'!W:W,'Age Distribution'!$C:$C,\"=\"&'Summary Tables Age Distribution'!$C103)","v":142},{"$f":"SUMIFS('Age Distribution'!X:X,'Age Distribution'!$C:$C,\"=\"&'Summary Tables Age Distribution'!$C103)","v":63},{"$f":"SUMIFS('Age Distribution'!Y:Y,'Age Distribution'!$C:$C,\"=\"&'Summary Tables Age Distribution'!$C103)","v":292},{"$f":"SUMIFS('Age Distribution'!Z:Z,'Age Distribution'!$C:$C,\"=\"&'Summary Tables Age Distribution'!$C103)","v":140},{"$f":"SUMIFS('Age Distribution'!AA:AA,'Age Distribution'!$C:$C,\"=\"&'Summary Tables Age Distribution'!$C103)","v":7},{"$f":"SUMIFS('Age Distribution'!AB:AB,'Age Distribution'!$C:$C,\"=\"&'Summary Tables Age Distribution'!$C103)","v":1},{"$f":"SUMIFS('Age Distribution'!AC:AC,'Age Distribution'!$C:$C,\"=\"&'Summary Tables Age Distribution'!$C103)","v":0},{"$f":"SUMIFS('Age Distribution'!AD:AD,'Age Distribution'!$C:$C,\"=\"&'Summary Tables Age Distribution'!$C103)","v":0},{"$f":"SUMIFS('Age Distribution'!AE:AE,'Age Distribution'!$C:$C,\"=\"&'Summary Tables Age Distribution'!$C103)","v":3912},{"$f":"IFERROR(SUMPRODUCT(--('Age Distribution'!$C:$C='Summary Tables Age Distribution'!$C103),'Age Distribution'!$AE:$AE,'Age Distribution'!AF:AF)/SUMIFS('Age Distribution'!$AE:$AE,'Age Distribution'!$C:$C,\"=\"&'Summary Tables Age Distribution'!$C103),\"-\")","v":5.4805725971370132},{"$f":"IFERROR(SUMPRODUCT(--('Age Distribution'!$C:$C='Summary Tables Age Distribution'!$C103),'Age Distribution'!$AE:$AE,'Age Distribution'!AG:AG)/SUMIFS('Age Distribution'!$AE:$AE,'Age Distribution'!$C:$C,\"=\"&'Summary Tables Age Distribution'!$C103,'Age Distribution'!$AG:$AG,\"<>\"),\"-\")","v":162252.78692377877}]
[null,null,"ND","North Dakota",null,{"$f":"SUMIFS('Age Distribution'!L:L,'Age Distribution'!$C:$C,\"=\"&'Summary Tables Age Distribution'!$C104)","v":28},{"$f":"SUMIFS('Age Distribution'!M:M,'Age Distribution'!$C:$C,\"=\"&'Summary Tables Age Distribution'!$C104)","v":32},{"$f":"SUMIFS('Age Distribution'!N:N,'Age Distribution'!$C:$C,\"=\"&'Summary Tables Age Distribution'!$C104)","v":38},{"$f":"SUMIFS('Age Distribution'!O:O,'Age Distribution'!$C:$C,\"=\"&'Summary Tables Age Distribution'!$C104)","v":43},{"$f":"SUMIFS('Age Distribution'!P:P,'Age Distribution'!$C:$C,\"=\"&'Summary Tables Age Distribution'!$C104)","v":36},{"$f":"SUMIFS('Age Distribution'!Q:Q,'Age Distribution'!$C:$C,\"=\"&'Summary Tables Age Distribution'!$C104)","v":22},{"$f":"SUMIFS('Age Distribution'!R:R,'Age Distribution'!$C:$C,\"=\"&'Summary Tables Age Distribution'!$C104)","v":25},{"$f":"SUMIFS('Age Distribution'!S:S,'Age Distribution'!$C:$C,\"=\"&'Summary Tables Age Distribution'!$C104)","v":25},{"$f":"SUMIFS('Age Distribution'!T:T,'Age Distribution'!$C:$C,\"=\"&'Summary Tables Age Distribution'!$C104)","v":39},{"$f":"SUMIFS('Age Distribution'!U:U,'Age Distribution'!$C:$C,\"=\"&'Summary Tables Age Distribution'!$C104)","v":14},{"$f":"SUMIFS('Age Distribution'!V:V,'Age Distribution'!$C:$C,\"=\"&'Summary Tables Age Distribution'!$C104)","v":9},{"$f":"SUMIFS('Age Distribution'!W:W,'Age Distribution'!$C:$C,\"=\"&'Summary Tables Age Distribution'!$C104)","v":11},{"$f":"SUMIFS('Age Distribution'!X:X,'Age Distribution'!$C:$C,\"=\"&'Summary Tables Age Distribution'!$C104)","v":9},{"$f":"SUMIFS('Age Distribution'!Y:Y,'Age Distribution'!$C:$C,\"=\"&'Summary Tables Age Distribution'!$C104)","v":22},{"$f":"SUMIFS('Age Distribution'!Z:Z,'Age Distribution'!$C:$C,\"=\"&'Summary Tables Age Distribution'!$C104)","v":15},{"$f":"SUMIFS('Age Distribution'!AA:AA,'Age Distribution'!$C:$C,\"=\"&'Summary Tables Age Distribution'!$C104)","v":4},{"$f":"SUMIFS('Age Distribution'!AB:AB,'Age Distribution'!$C:$C,\"=\"&'Summary Tables Age Distribution'!$C104)","v":0},{"$f":"SUMIFS('Age Distribution'!AC:AC,'Age Distribution'!$C:$C,\"=\"&'Summary Tables Age Distribution'!$C104)","v":0},{"$f":"SUMIFS('Age Distribution'!AD:AD,'Age Distribution'!$C:$C,\"=\"&'Summary Tables Age Distribution'!$C104)","v":0},{"$f":"SUMIFS('Age Distribution'!AE:AE,'Age Distribution'!$C:$C,\"=\"&'Summary Tables Age Distribution'!$C104)","v":372},{"$f":"IFERROR(SUMPRODUCT(--('Age Distribution'!$C:$C='Summary Tables Age Distribution'!$C104),'Age Distribution'!$AE:$AE,'Age Distribution'!AF:AF)/SUMIFS('Age Distribution'!$AE:$AE,'Age Distribution'!$C:$C,\"=\"&'Summary Tables Age Distribution'!$C104),\"-\")","v":5.5537634408602123},{"$f":"IFERROR(SUMPRODUCT(--('Age Distribution'!$C:$C='Summary Tables Age Distribution'!$C104),'Age Distribution'!$AE:$AE,'Age Distribution'!AG:AG)/SUMIFS('Age Distribution'!$AE:$AE,'Age Distribution'!$C:$C,\"=\"&'Summary Tables Age Distribution'!$C104,'Age Distribution'!$AG:$AG,\"<>\"),\"-\")","v":64216.248577142869}]
[null,null,"NE","Nebraska",null,{"$f":"SUMIFS('Age Distribution'!L:L,'Age Distribution'!$C:$C,\"=\"&'Summary Tables Age Distribution'!$C105)","v":47},{"$f":"SUMIFS('Age Distribution'!M:M,'Age Distribution'!$C:$C,\"=\"&'Summary Tables Age Distribution'!$C105)","v":68},{"$f":"SUMIFS('Age Distribution'!N:N,'Age Distribution'!$C:$C,\"=\"&'Summary Tables Age Distribution'!$C105)","v":23},{"$f":"SUMIFS('Age Distribution'!O:O,'Age Distribution'!$C:$C,\"=\"&'Summary Tables Age Distribution'!$C105)","v":30},{"$f":"SUMIFS('Age Distribution'!P:P,'Age Distribution'!$C:$C,\"=\"&'Summary Tables Age Distribution'!$C105)","v":57},{"$f":"SUMIFS('Age Distribution'!Q:Q,'Age Distribution'!$C:$C,\"=\"&'Summary Tables Age Distribution'!$C105)","v":24},{"$f":"SUMIFS('Age Distribution'!R:R,'Age Distribution'!$C:$C,\"=\"&'Summary Tables Age Distribution'!$C105)","v":35},{"$f":"SUMIFS('Age Distribution'!S:S,'Age Distribution'!$C:$C,\"=\"&'Summary Tables Age Distribution'!$C105)","v":40},{"$f":"SUMIFS('Age Distribution'!T:T,'Age Distribution'!$C:$C,\"=\"&'Summary Tables Age Distribution'!$C105)","v":78},{"$f":"SUMIFS('Age Distribution'!U:U,'Age Distribution'!$C:$C,\"=\"&'Summary Tables Age Distribution'!$C105)","v":16},{"$f":"SUMIFS('Age Distribution'!V:V,'Age Distribution'!$C:$C,\"=\"&'Summary Tables Age Distribution'!$C105)","v":37},{"$f":"SUMIFS('Age Distribution'!W:W,'Age Distribution'!$C:$C,\"=\"&'Summary Tables Age Distribution'!$C105)","v":3},{"$f":"SUMIFS('Age Distribution'!X:X,'Age Distribution'!$C:$C,\"=\"&'Summary Tables Age Distribution'!$C105)","v":27},{"$f":"SUMIFS('Age Distribution'!Y:Y,'Age Distribution'!$C:$C,\"=\"&'Summary Tables Age Distribution'!$C105)","v":31},{"$f":"SUMIFS('Age Distribution'!Z:Z,'Age Distribution'!$C:$C,\"=\"&'Summary Tables Age Distribution'!$C105)","v":73},{"$f":"SUMIFS('Age Distribution'!AA:AA,'Age Distribution'!$C:$C,\"=\"&'Summary Tables Age Distribution'!$C105)","v":15},{"$f":"SUMIFS('Age Distribution'!AB:AB,'Age Distribution'!$C:$C,\"=\"&'Summary Tables Age Distribution'!$C105)","v":0},{"$f":"SUMIFS('Age Distribution'!AC:AC,'Age Distribution'!$C:$C,\"=\"&'Summary Tables Age Distribution'!$C105)","v":0},{"$f":"SUMIFS('Age Distribution'!AD:AD,'Age Distribution'!$C:$C,\"=\"&'Summary Tables Age Distribution'!$C105)","v":0},{"$f":"SUMIFS('Age Distribution'!AE:AE,'Age Distribution'!$C:$C,\"=\"&'Summary Tables Age Distribution'!$C105)","v":604},{"$f":"IFERROR(SUMPRODUCT(--('Age Distribution'!$C:$C='Summary Tables Age Distribution'!$C105),'Age Distribution'!$AE:$AE,'Age Distribution'!AF:AF)/SUMIFS('Age Distribution'!$AE:$AE,'Age Distribution'!$C:$C,\"=\"&'Summary Tables Age Distribution'!$C105),\"-\")","v":7.3940397350993345},{"$f":"IFERROR(SUMPRODUCT(--('Age Distribution'!$C:$C='Summary Tables Age Distribution'!$C105),'Age Distribution'!$AE:$AE,'Age Distribution'!AG:AG)/SUMIFS('Age Distribution'!$AE:$AE,'Age Distribution'!$C:$C,\"=\"&'Summary Tables Age Distribution'!$C105,'Age Distribution'!$AG:$AG,\"<>\"),\"-\")","v":126936.70538956228}]
[null,null,"NH","New Hampshire",null,{"$f":"SUMIFS('Age Distribution'!L:L,'Age Distribution'!$C:$C,\"=\"&'Summary Tables Age Distribution'!$C106)","v":23},{"$f":"SUMIFS('Age Distribution'!M:M,'Age Distribution'!$C:$C,\"=\"&'Summary Tables Age Distribution'!$C106)","v":40},{"$f":"SUMIFS('Age Distribution'!N:N,'Age Distribution'!$C:$C,\"=\"&'Summary Tables Age Distribution'!$C106)","v":33},{"$f":"SUMIFS('Age Distribution'!O:O,'Age Distribution'!$C:$C,\"=\"&'Summary Tables Age Distribution'!$C106)","v":4},{"$f":"SUMIFS('Age Distribution'!P:P,'Age Distribution'!$C:$C,\"=\"&'Summary Tables Age Distribution'!$C106)","v":13},{"$f":"SUMIFS('Age Distribution'!Q:Q,'Age Distribution'!$C:$C,\"=\"&'Summary Tables Age Distribution'!$C106)","v":23},{"$f":"SUMIFS('Age Distribution'!R:R,'Age Distribution'!$C:$C,\"=\"&'Summary Tables Age Distribution'!$C106)","v":18},{"$f":"SUMIFS('Age Distribution'!S:S,'Age Distribution'!$C:$C,\"=\"&'Summary Tables Age Distribution'!$C106)","v":29},{"$f":"SUMIFS('Age Distribution'!T:T,'Age Distribution'!$C:$C,\"=\"&'Summary Tables Age Distribution'!$C106)","v":31},{"$f":"SUMIFS('Age Distribution'!U:U,'Age Distribution'!$C:$C,\"=\"&'Summary Tables Age Distribution'!$C106)","v":24},{"$f":"SUMIFS('Age Distribution'!V:V,'Age Distribution'!$C:$C,\"=\"&'Summary Tables Age Distribution'!$C106)","v":22},{"$f":"SUMIFS('Age Distribution'!W:W,'Age Distribution'!$C:$C,\"=\"&'Summary Tables Age Distribution'!$C106)","v":9},{"$f":"SUMIFS('Age Distribution'!X:X,'Age Distribution'!$C:$C,\"=\"&'Summary Tables Age Distribution'!$C106)","v":16},{"$f":"SUMIFS('Age Distribution'!Y:Y,'Age Distribution'!$C:$C,\"=\"&'Summary Tables Age Distribution'!$C106)","v":17},{"$f":"SUMIFS('Age Distribution'!Z:Z,'Age Distribution'!$C:$C,\"=\"&'Summary Tables Age Distribution'!$C106)","v":15},{"$f":"SUMIFS('Age Distribution'!AA:AA,'Age Distribution'!$C:$C,\"=\"&'Summary Tables Age Distribution'!$C106)","v":1},{"$f":"SUMIFS('Age Distribution'!AB:AB,'Age Distribution'!$C:$C,\"=\"&'Summary Tables Age Distribution'!$C106)","v":0},{"$f":"SUMIFS('Age Distribution'!AC:AC,'Age Distribution'!$C:$C,\"=\"&'Summary Tables Age Distribution'!$C106)","v":0},{"$f":"SUMIFS('Age Distribution'!AD:AD,'Age Distribution'!$C:$C,\"=\"&'Summary Tables Age Distribution'!$C106)","v":0},{"$f":"SUMIFS('Age Distribution'!AE:AE,'Age Distribution'!$C:$C,\"=\"&'Summary Tables Age Distribution'!$C106)","v":318},{"$f":"IFERROR(SUMPRODUCT(--('Age Distribution'!$C:$C='Summary Tables Age Distribution'!$C106),'Age Distribution'!$AE:$AE,'Age Distribution'!AF:AF)/SUMIFS('Age Distribution'!$AE:$AE,'Age Distribution'!$C:$C,\"=\"&'Summary Tables Age Distribution'!$C106),\"-\")","v":5.8081761006289296},{"$f":"IFERROR(SUMPRODUCT(--('Age Distribution'!$C:$C='Summary Tables Age Distribution'!$C106),'Age Distribution'!$AE:$AE,'Age Distribution'!AG:AG)/SUMIFS('Age Distribution'!$AE:$AE,'Age Distribution'!$C:$C,\"=\"&'Summary Tables Age Distribution'!$C106,'Age Distribution'!$AG:$AG,\"<>\"),\"-\")","v":202180.10345689656}]
[null,null,"NJ","New Jersey",null,{"$f":"SUMIFS('Age Distribution'!L:L,'Age Distribution'!$C:$C,\"=\"&'Summary Tables Age Distribution'!$C107)","v":285},{"$f":"SUMIFS('Age Distribution'!M:M,'Age Distribution'!$C:$C,\"=\"&'Summary Tables Age Distribution'!$C107)","v":511},{"$f":"SUMIFS('Age Distribution'!N:N,'Age Distribution'!$C:$C,\"=\"&'Summary Tables Age Distribution'!$C107)","v":649},{"$f":"SUMIFS('Age Distribution'!O:O,'Age Distribution'!$C:$C,\"=\"&'Summary Tables Age Distribution'!$C107)","v":547},{"$f":"SUMIFS('Age Distribution'!P:P,'Age Distribution'!$C:$C,\"=\"&'Summary Tables Age Distribution'!$C107)","v":320},{"$f":"SUMIFS('Age Distribution'!Q:Q,'Age Distribution'!$C:$C,\"=\"&'Summary Tables Age Distribution'!$C107)","v":616},{"$f":"SUMIFS('Age Distribution'!R:R,'Age Distribution'!$C:$C,\"=\"&'Summary Tables Age Distribution'!$C107)","v":613},{"$f":"SUMIFS('Age Distribution'!S:S,'Age Distribution'!$C:$C,\"=\"&'Summary Tables Age Distribution'!$C107)","v":646},{"$f":"SUMIFS('Age Distribution'!T:T,'Age Distribution'!$C:$C,\"=\"&'Summary Tables Age Distribution'!$C107)","v":594},{"$f":"SUMIFS('Age Distribution'!U:U,'Age Distribution'!$C:$C,\"=\"&'Summary Tables Age Distribution'!$C107)","v":287},{"$f":"SUMIFS('Age Distribution'!V:V,'Age Distribution'!$C:$C,\"=\"&'Summary Tables Age Distribution'!$C107)","v":545},{"$f":"SUMIFS('Age Distribution'!W:W,'Age Distribution'!$C:$C,\"=\"&'Summary Tables Age Distribution'!$C107)","v":435},{"$f":"SUMIFS('Age Distribution'!X:X,'Age Distribution'!$C:$C,\"=\"&'Summary Tables Age Distribution'!$C107)","v":167},{"$f":"SUMIFS('Age Distribution'!Y:Y,'Age Distribution'!$C:$C,\"=\"&'Summary Tables Age Distribution'!$C107)","v":587},{"$f":"SUMIFS('Age Distribution'!Z:Z,'Age Distribution'!$C:$C,\"=\"&'Summary Tables Age Distribution'!$C107)","v":1141},{"$f":"SUMIFS('Age Distribution'!AA:AA,'Age Distribution'!$C:$C,\"=\"&'Summary Tables Age Distribution'!$C107)","v":163},{"$f":"SUMIFS('Age Distribution'!AB:AB,'Age Distribution'!$C:$C,\"=\"&'Summary Tables Age Distribution'!$C107)","v":25},{"$f":"SUMIFS('Age Distribution'!AC:AC,'Age Distribution'!$C:$C,\"=\"&'Summary Tables Age Distribution'!$C107)","v":532},{"$f":"SUMIFS('Age Distribution'!AD:AD,'Age Distribution'!$C:$C,\"=\"&'Summary Tables Age Distribution'!$C107)","v":0},{"$f":"SUMIFS('Age Distribution'!AE:AE,'Age Distribution'!$C:$C,\"=\"&'Summary Tables Age Distribution'!$C107)","v":8663},{"$f":"IFERROR(SUMPRODUCT(--('Age Distribution'!$C:$C='Summary Tables Age Distribution'!$C107),'Age Distribution'!$AE:$AE,'Age Distribution'!AF:AF)/SUMIFS('Age Distribution'!$AE:$AE,'Age Distribution'!$C:$C,\"=\"&'Summary Tables Age Distribution'!$C107),\"-\")","v":8.6906383469929356},{"$f":"IFERROR(SUMPRODUCT(--('Age Distribution'!$C:$C='Summary Tables Age Distribution'!$C107),'Age Distribution'!$AE:$AE,'Age Distribution'!AG:AG)/SUMIFS('Age Distribution'!$AE:$AE,'Age Distribution'!$C:$C,\"=\"&'Summary Tables Age Distribution'!$C107,'Age Distribution'!$AG:$AG,\"<>\"),\"-\")","v":445775.94447688339}]
[null,null,"NM","New Mexico",null,{"$f":"SUMIFS('Age Distribution'!L:L,'Age Distribution'!$C:$C,\"=\"&'Summary Tables Age Distribution'!$C108)","v":54},{"$f":"SUMIFS('Age Distribution'!M:M,'Age Distribution'!$C:$C,\"=\"&'Summary Tables Age Distribution'!$C108)","v":46},{"$f":"SUMIFS('Age Distribution'!N:N,'Age Distribution'!$C:$C,\"=\"&'Summary Tables Age Distribution'!$C108)","v":76},{"$f":"SUMIFS('Age Distribution'!O:O,'Age Distribution'!$C:$C,\"=\"&'Summary Tables Age Distribution'!$C108)","v":87},{"$f":"SUMIFS('Age Distribution'!P:P,'Age Distribution'!$C:$C,\"=\"&'Summary Tables Age Distribution'!$C108)","v":54},{"$f":"SUMIFS('Age Distribution'!Q:Q,'Age Distribution'!$C:$C,\"=\"&'Summary Tables Age Distribution'!$C108)","v":34},{"$f":"SUMIFS('Age Distribution'!R:R,'Age Distribution'!$C:$C,\"=\"&'Summary Tables Age Distribution'!$C108)","v":77},{"$f":"SUMIFS('Age Distribution'!S:S,'Age Distribution'!$C:$C,\"=\"&'Summary Tables Age Distribution'!$C108)","v":46},{"$f":"SUMIFS('Age Distribution'!T:T,'Age Distribution'!$C:$C,\"=\"&'Summary Tables Age Distribution'!$C108)","v":49},{"$f":"SUMIFS('Age Distribution'!U:U,'Age Distribution'!$C:$C,\"=\"&'Summary Tables Age Distribution'!$C108)","v":69},{"$f":"SUMIFS('Age Distribution'!V:V,'Age Distribution'!$C:$C,\"=\"&'Summary Tables Age Distribution'!$C108)","v":41},{"$f":"SUMIFS('Age Distribution'!W:W,'Age Distribution'!$C:$C,\"=\"&'Summary Tables Age Distribution'!$C108)","v":81},{"$f":"SUMIFS('Age Distribution'!X:X,'Age Distribution'!$C:$C,\"=\"&'Summary Tables Age Distribution'!$C108)","v":18},{"$f":"SUMIFS('Age Distribution'!Y:Y,'Age Distribution'!$C:$C,\"=\"&'Summary Tables Age Distribution'!$C108)","v":48},{"$f":"SUMIFS('Age Distribution'!Z:Z,'Age Distribution'!$C:$C,\"=\"&'Summary Tables Age Distribution'!$C108)","v":19},{"$f":"SUMIFS('Age Distribution'!AA:AA,'Age Distribution'!$C:$C,\"=\"&'Summary Tables Age Distribution'!$C108)","v":2},{"$f":"SUMIFS('Age Distribution'!AB:AB,'Age Distribution'!$C:$C,\"=\"&'Summary Tables Age Distribution'!$C108)","v":0},{"$f":"SUMIFS('Age Distribution'!AC:AC,'Age Distribution'!$C:$C,\"=\"&'Summary Tables Age Distribution'!$C108)","v":1},{"$f":"SUMIFS('Age Distribution'!AD:AD,'Age Distribution'!$C:$C,\"=\"&'Summary Tables Age Distribution'!$C108)","v":0},{"$f":"SUMIFS('Age Distribution'!AE:AE,'Age Distribution'!$C:$C,\"=\"&'Summary Tables Age Distribution'!$C108)","v":802},{"$f":"IFERROR(SUMPRODUCT(--('Age Distribution'!$C:$C='Summary Tables Age Distribution'!$C108),'Age Distribution'!$AE:$AE,'Age Distribution'!AF:AF)/SUMIFS('Age Distribution'!$AE:$AE,'Age Distribution'!$C:$C,\"=\"&'Summary Tables Age Distribution'!$C108),\"-\")","v":5.7406483790523621},{"$f":"IFERROR(SUMPRODUCT(--('Age Distribution'!$C:$C='Summary Tables Age Distribution'!$C108),'Age Distribution'!$AE:$AE,'Age Distribution'!AG:AG)/SUMIFS('Age Distribution'!$AE:$AE,'Age Distribution'!$C:$C,\"=\"&'Summary Tables Age Distribution'!$C108,'Age Distribution'!$AG:$AG,\"<>\"),\"-\")","v":176418.83266394556}]
[null,null,"NV","Nevada",null,{"$f":"SUMIFS('Age Distribution'!L:L,'Age Distribution'!$C:$C,\"=\"&'Summary Tables Age Distribution'!$C109)","v":182},{"$f":"SUMIFS('Age Distribution'!M:M,'Age Distribution'!$C:$C,\"=\"&'Summary Tables Age Distribution'!$C109)","v":177},{"$f":"SUMIFS('Age Distribution'!N:N,'Age Distribution'!$C:$C,\"=\"&'Summary Tables Age Distribution'!$C109)","v":201},{"$f":"SUMIFS('Age Distribution'!O:O,'Age Distribution'!$C:$C,\"=\"&'Summary Tables Age Distribution'!$C109)","v":196},{"$f":"SUMIFS('Age Distribution'!P:P,'Age Distribution'!$C:$C,\"=\"&'Summary Tables Age Distribution'!$C109)","v":49},{"$f":"SUMIFS('Age Distribution'!Q:Q,'Age Distribution'!$C:$C,\"=\"&'Summary Tables Age Distribution'!$C109)","v":80},{"$f":"SUMIFS('Age Distribution'!R:R,'Age Distribution'!$C:$C,\"=\"&'Summary Tables Age Distribution'!$C109)","v":24},{"$f":"SUMIFS('Age Distribution'!S:S,'Age Distribution'!$C:$C,\"=\"&'Summary Tables Age Distribution'!$C109)","v":4},{"$f":"SUMIFS('Age Distribution'!T:T,'Age Distribution'!$C:$C,\"=\"&'Summary Tables Age Distribution'!$C109)","v":45},{"$f":"SUMIFS('Age Distribution'!U:U,'Age Distribution'!$C:$C,\"=\"&'Summary Tables Age Distribution'!$C109)","v":58},{"$f":"SUMIFS('Age Distribution'!V:V,'Age Distribution'!$C:$C,\"=\"&'Summary Tables Age Distribution'!$C109)","v":30},{"$f":"SUMIFS('Age Distribution'!W:W,'Age Distribution'!$C:$C,\"=\"&'Summary Tables Age Distribution'!$C109)","v":122},{"$f":"SUMIFS('Age Distribution'!X:X,'Age Distribution'!$C:$C,\"=\"&'Summary Tables Age Distribution'!$C109)","v":14},{"$f":"SUMIFS('Age Distribution'!Y:Y,'Age Distribution'!$C:$C,\"=\"&'Summary Tables Age Distribution'!$C109)","v":65},{"$f":"SUMIFS('Age Distribution'!Z:Z,'Age Distribution'!$C:$C,\"=\"&'Summary Tables Age Distribution'!$C109)","v":7},{"$f":"SUMIFS('Age Distribution'!AA:AA,'Age Distribution'!$C:$C,\"=\"&'Summary Tables Age Distribution'!$C109)","v":4},{"$f":"SUMIFS('Age Distribution'!AB:AB,'Age Distribution'!$C:$C,\"=\"&'Summary Tables Age Distribution'!$C109)","v":0},{"$f":"SUMIFS('Age Distribution'!AC:AC,'Age Distribution'!$C:$C,\"=\"&'Summary Tables Age Distribution'!$C109)","v":1},{"$f":"SUMIFS('Age Distribution'!AD:AD,'Age Distribution'!$C:$C,\"=\"&'Summary Tables Age Distribution'!$C109)","v":0},{"$f":"SUMIFS('Age Distribution'!AE:AE,'Age Distribution'!$C:$C,\"=\"&'Summary Tables Age Distribution'!$C109)","v":1259},{"$f":"IFERROR(SUMPRODUCT(--('Age Distribution'!$C:$C='Summary Tables Age Distribution'!$C109),'Age Distribution'!$AE:$AE,'Age Distribution'!AF:AF)/SUMIFS('Age Distribution'!$AE:$AE,'Age Distribution'!$C:$C,\"=\"&'Summary Tables Age Distribution'!$C109),\"-\")","v":4.4058776806989641},{"$f":"IFERROR(SUMPRODUCT(--('Age Distribution'!$C:$C='Summary Tables Age Distribution'!$C109),'Age Distribution'!$AE:$AE,'Age Distribution'!AG:AG)/SUMIFS('Age Distribution'!$AE:$AE,'Age Distribution'!$C:$C,\"=\"&'Summary Tables Age Distribution'!$C109,'Age Distribution'!$AG:$AG,\"<>\"),\"-\")","v":138850.54267173915}]
[null,null,"NY","New York",null,{"$f":"SUMIFS('Age Distribution'!L:L,'Age Distribution'!$C:$C,\"=\"&'Summary Tables Age Distribution'!$C110)","v":1200},{"$f":"SUMIFS('Age Distribution'!M:M,'Age Distribution'!$C:$C,\"=\"&'Summary Tables Age Distribution'!$C110)","v":1092},{"$f":"SUMIFS('Age Distribution'!N:N,'Age Distribution'!$C:$C,\"=\"&'Summary Tables Age Distribution'!$C110)","v":1114},{"$f":"SUMIFS('Age Distribution'!O:O,'Age Distribution'!$C:$C,\"=\"&'Summary Tables Age Distribution'!$C110)","v":1768},{"$f":"SUMIFS('Age Distribution'!P:P,'Age Distribution'!$C:$C,\"=\"&'Summary Tables Age Distribution'!$C110)","v":1064},{"$f":"SUMIFS('Age Distribution'!Q:Q,'Age Distribution'!$C:$C,\"=\"&'Summary Tables Age Distribution'!$C110)","v":913},{"$f":"SUMIFS('Age Distribution'!R:R,'Age Distribution'!$C:$C,\"=\"&'Summary Tables Age Distribution'!$C110)","v":1488},{"$f":"SUMIFS('Age Distribution'!S:S,'Age Distribution'!$C:$C,\"=\"&'Summary Tables Age Distribution'!$C110)","v":1009},{"$f":"SUMIFS('Age Distribution'!T:T,'Age Distribution'!$C:$C,\"=\"&'Summary Tables Age Distribution'!$C110)","v":814},{"$f":"SUMIFS('Age Distribution'!U:U,'Age Distribution'!$C:$C,\"=\"&'Summary Tables Age Distribution'!$C110)","v":1735},{"$f":"SUMIFS('Age Distribution'!V:V,'Age Distribution'!$C:$C,\"=\"&'Summary Tables Age Distribution'!$C110)","v":811},{"$f":"SUMIFS('Age Distribution'!W:W,'Age Distribution'!$C:$C,\"=\"&'Summary Tables Age Distribution'!$C110)","v":2530},{"$f":"SUMIFS('Age Distribution'!X:X,'Age Distribution'!$C:$C,\"=\"&'Summary Tables Age Distribution'!$C110)","v":1001},{"$f":"SUMIFS('Age Distribution'!Y:Y,'Age Distribution'!$C:$C,\"=\"&'Summary Tables Age Distribution'!$C110)","v":1697},{"$f":"SUMIFS('Age Distribution'!Z:Z,'Age Distribution'!$C:$C,\"=\"&'Summary Tables Age Distribution'!$C110)","v":2626},{"$f":"SUMIFS('Age Distribution'!AA:AA,'Age Distribution'!$C:$C,\"=\"&'Summary Tables Age Distribution'!$C110)","v":219},{"$f":"SUMIFS('Age Distribution'!AB:AB,'Age Distribution'!$C:$C,\"=\"&'Summary Tables Age Distribution'!$C110)","v":313},{"$f":"SUMIFS('Age Distribution'!AC:AC,'Age Distribution'!$C:$C,\"=\"&'Summary Tables Age Distribution'!$C110)","v":3335},{"$f":"SUMIFS('Age Distribution'!AD:AD,'Age Distribution'!$C:$C,\"=\"&'Summary Tables Age Distribution'!$C110)","v":32},{"$f":"SUMIFS('Age Distribution'!AE:AE,'Age Distribution'!$C:$C,\"=\"&'Summary Tables Age Distribution'!$C110)","v":24761},{"$f":"IFERROR(SUMPRODUCT(--('Age Distribution'!$C:$C='Summary Tables Age Distribution'!$C110),'Age Distribution'!$AE:$AE,'Age Distribution'!AF:AF)/SUMIFS('Age Distribution'!$AE:$AE,'Age Distribution'!$C:$C,\"=\"&'Summary Tables Age Distribution'!$C110),\"-\")","v":11.197286054682763},{"$f":"IFERROR(SUMPRODUCT(--('Age Distribution'!$C:$C='Summary Tables Age Distribution'!$C110),'Age Distribution'!$AE:$AE,'Age Distribution'!AG:AG)/SUMIFS('Age Distribution'!$AE:$AE,'Age Distribution'!$C:$C,\"=\"&'Summary Tables Age Distribution'!$C110,'Age Distribution'!$AG:$AG,\"<>\"),\"-\")","v":673922.07998542581}]
[null,null,"OH","Ohio",null,{"$f":"SUMIFS('Age Distribution'!L:L,'Age Distribution'!$C:$C,\"=\"&'Summary Tables Age Distribution'!$C111)","v":279},{"$f":"SUMIFS('Age Distribution'!M:M,'Age Distribution'!$C:$C,\"=\"&'Summary Tables Age Distribution'!$C111)","v":469},{"$f":"SUMIFS('Age Distribution'!N:N,'Age Distribution'!$C:$C,\"=\"&'Summary Tables Age Distribution'!$C111)","v":474},{"$f":"SUMIFS('Age Distribution'!O:O,'Age Distribution'!$C:$C,\"=\"&'Summary Tables Age Distribution'!$C111)","v":468},{"$f":"SUMIFS('Age Distribution'!P:P,'Age Distribution'!$C:$C,\"=\"&'Summary Tables Age Distribution'!$C111)","v":390},{"$f":"SUMIFS('Age Distribution'!Q:Q,'Age Distribution'!$C:$C,\"=\"&'Summary Tables Age Distribution'!$C111)","v":351},{"$f":"SUMIFS('Age Distribution'!R:R,'Age Distribution'!$C:$C,\"=\"&'Summary Tables Age Distribution'!$C111)","v":350},{"$f":"SUMIFS('Age Distribution'!S:S,'Age Distribution'!$C:$C,\"=\"&'Summary Tables Age Distribution'!$C111)","v":239},{"$f":"SUMIFS('Age Distribution'!T:T,'Age Distribution'!$C:$C,\"=\"&'Summary Tables Age Distribution'!$C111)","v":334},{"$f":"SUMIFS('Age Distribution'!U:U,'Age Distribution'!$C:$C,\"=\"&'Summary Tables Age Distribution'!$C111)","v":316},{"$f":"SUMIFS('Age Distribution'!V:V,'Age Distribution'!$C:$C,\"=\"&'Summary Tables Age Distribution'!$C111)","v":171},{"$f":"SUMIFS('Age Distribution'!W:W,'Age Distribution'!$C:$C,\"=\"&'Summary Tables Age Distribution'!$C111)","v":85},{"$f":"SUMIFS('Age Distribution'!X:X,'Age Distribution'!$C:$C,\"=\"&'Summary Tables Age Distribution'!$C111)","v":125},{"$f":"SUMIFS('Age Distribution'!Y:Y,'Age Distribution'!$C:$C,\"=\"&'Summary Tables Age Distribution'!$C111)","v":151},{"$f":"SUMIFS('Age Distribution'!Z:Z,'Age Distribution'!$C:$C,\"=\"&'Summary Tables Age Distribution'!$C111)","v":175},{"$f":"SUMIFS('Age Distribution'!AA:AA,'Age Distribution'!$C:$C,\"=\"&'Summary Tables Age Distribution'!$C111)","v":13},{"$f":"SUMIFS('Age Distribution'!AB:AB,'Age Distribution'!$C:$C,\"=\"&'Summary Tables Age Distribution'!$C111)","v":11},{"$f":"SUMIFS('Age Distribution'!AC:AC,'Age Distribution'!$C:$C,\"=\"&'Summary Tables Age Distribution'!$C111)","v":81},{"$f":"SUMIFS('Age Distribution'!AD:AD,'Age Distribution'!$C:$C,\"=\"&'Summary Tables Age Distribution'!$C111)","v":1},{"$f":"SUMIFS('Age Distribution'!AE:AE,'Age Distribution'!$C:$C,\"=\"&'Summary Tables Age Distribution'!$C111)","v":4483},{"$f":"IFERROR(SUMPRODUCT(--('Age Distribution'!$C:$C='Summary Tables Age Distribution'!$C111),'Age Distribution'!$AE:$AE,'Age Distribution'!AF:AF)/SUMIFS('Age Distribution'!$AE:$AE,'Age Distribution'!$C:$C,\"=\"&'Summary Tables Age Distribution'!$C111),\"-\")","v":5.482935534240462},{"$f":"IFERROR(SUMPRODUCT(--('Age Distribution'!$C:$C='Summary Tables Age Distribution'!$C111),'Age Distribution'!$AE:$AE,'Age Distribution'!AG:AG)/SUMIFS('Age Distribution'!$AE:$AE,'Age Distribution'!$C:$C,\"=\"&'Summary Tables Age Distribution'!$C111,'Age Distribution'!$AG:$AG,\"<>\"),\"-\")","v":188546.85146537324}]
[null,null,"OK","Oklahoma",null,{"$f":"SUMIFS('Age Distribution'!L:L,'Age Distribution'!$C:$C,\"=\"&'Summary Tables Age Distribution'!$C112)","v":29},{"$f":"SUMIFS('Age Distribution'!M:M,'Age Distribution'!$C:$C,\"=\"&'Summary Tables Age Distribution'!$C112)","v":204},{"$f":"SUMIFS('Age Distribution'!N:N,'Age Distribution'!$C:$C,\"=\"&'Summary Tables Age Distribution'!$C112)","v":113},{"$f":"SUMIFS('Age Distribution'!O:O,'Age Distribution'!$C:$C,\"=\"&'Summary Tables Age Distribution'!$C112)","v":116},{"$f":"SUMIFS('Age Distribution'!P:P,'Age Distribution'!$C:$C,\"=\"&'Summary Tables Age Distribution'!$C112)","v":94},{"$f":"SUMIFS('Age Distribution'!Q:Q,'Age Distribution'!$C:$C,\"=\"&'Summary Tables Age Distribution'!$C112)","v":90},{"$f":"SUMIFS('Age Distribution'!R:R,'Age Distribution'!$C:$C,\"=\"&'Summary Tables Age Distribution'!$C112)","v":111},{"$f":"SUMIFS('Age Distribution'!S:S,'Age Distribution'!$C:$C,\"=\"&'Summary Tables Age Distribution'!$C112)","v":93},{"$f":"SUMIFS('Age Distribution'!T:T,'Age Distribution'!$C:$C,\"=\"&'Summary Tables Age Distribution'!$C112)","v":112},{"$f":"SUMIFS('Age Distribution'!U:U,'Age Distribution'!$C:$C,\"=\"&'Summary Tables Age Distribution'!$C112)","v":190},{"$f":"SUMIFS('Age Distribution'!V:V,'Age Distribution'!$C:$C,\"=\"&'Summary Tables Age Distribution'!$C112)","v":62},{"$f":"SUMIFS('Age Distribution'!W:W,'Age Distribution'!$C:$C,\"=\"&'Summary Tables Age Distribution'!$C112)","v":63},{"$f":"SUMIFS('Age Distribution'!X:X,'Age Distribution'!$C:$C,\"=\"&'Summary Tables Age Distribution'!$C112)","v":46},{"$f":"SUMIFS('Age Distribution'!Y:Y,'Age Distribution'!$C:$C,\"=\"&'Summary Tables Age Distribution'!$C112)","v":101},{"$f":"SUMIFS('Age Distribution'!Z:Z,'Age Distribution'!$C:$C,\"=\"&'Summary Tables Age Distribution'!$C112)","v":34},{"$f":"SUMIFS('Age Distribution'!AA:AA,'Age Distribution'!$C:$C,\"=\"&'Summary Tables Age Distribution'!$C112)","v":1},{"$f":"SUMIFS('Age Distribution'!AB:AB,'Age Distribution'!$C:$C,\"=\"&'Summary Tables Age Distribution'!$C112)","v":2},{"$f":"SUMIFS('Age Distribution'!AC:AC,'Age Distribution'!$C:$C,\"=\"&'Summary Tables Age Distribution'!$C112)","v":0},{"$f":"SUMIFS('Age Distribution'!AD:AD,'Age Distribution'!$C:$C,\"=\"&'Summary Tables Age Distribution'!$C112)","v":0},{"$f":"SUMIFS('Age Distribution'!AE:AE,'Age Distribution'!$C:$C,\"=\"&'Summary Tables Age Distribution'!$C112)","v":1461},{"$f":"IFERROR(SUMPRODUCT(--('Age Distribution'!$C:$C='Summary Tables Age Distribution'!$C112),'Age Distribution'!$AE:$AE,'Age Distribution'!AF:AF)/SUMIFS('Age Distribution'!$AE:$AE,'Age Distribution'!$C:$C,\"=\"&'Summary Tables Age Distribution'!$C112),\"-\")","v":6.1937029431895922},{"$f":"IFERROR(SUMPRODUCT(--('Age Distribution'!$C:$C='Summary Tables Age Distribution'!$C112),'Age Distribution'!$AE:$AE,'Age Distribution'!AG:AG)/SUMIFS('Age Distribution'!$AE:$AE,'Age Distribution'!$C:$C,\"=\"&'Summary Tables Age Distribution'!$C112,'Age Distribution'!$AG:$AG,\"<>\"),\"-\")","v":43975.355461741608}]
[null,null,"OR","Oregon",null,{"$f":"SUMIFS('Age Distribution'!L:L,'Age Distribution'!$C:$C,\"=\"&'Summary Tables Age Distribution'!$C113)","v":69},{"$f":"SUMIFS('Age Distribution'!M:M,'Age Distribution'!$C:$C,\"=\"&'Summary Tables Age Distribution'!$C113)","v":217},{"$f":"SUMIFS('Age Distribution'!N:N,'Age Distribution'!$C:$C,\"=\"&'Summary Tables Age Distribution'!$C113)","v":244},{"$f":"SUMIFS('Age Distribution'!O:O,'Age Distribution'!$C:$C,\"=\"&'Summary Tables Age Distribution'!$C113)","v":176},{"$f":"SUMIFS('Age Distribution'!P:P,'Age Distribution'!$C:$C,\"=\"&'Summary Tables Age Distribution'!$C113)","v":253},{"$f":"SUMIFS('Age Distribution'!Q:Q,'Age Distribution'!$C:$C,\"=\"&'Summary Tables Age Distribution'!$C113)","v":160},{"$f":"SUMIFS('Age Distribution'!R:R,'Age Distribution'!$C:$C,\"=\"&'Summary Tables Age Distribution'!$C113)","v":201},{"$f":"SUMIFS('Age Distribution'!S:S,'Age Distribution'!$C:$C,\"=\"&'Summary Tables Age Distribution'!$C113)","v":147},{"$f":"SUMIFS('Age Distribution'!T:T,'Age Distribution'!$C:$C,\"=\"&'Summary Tables Age Distribution'!$C113)","v":121},{"$f":"SUMIFS('Age Distribution'!U:U,'Age Distribution'!$C:$C,\"=\"&'Summary Tables Age Distribution'!$C113)","v":121},{"$f":"SUMIFS('Age Distribution'!V:V,'Age Distribution'!$C:$C,\"=\"&'Summary Tables Age Distribution'!$C113)","v":173},{"$f":"SUMIFS('Age Distribution'!W:W,'Age Distribution'!$C:$C,\"=\"&'Summary Tables Age Distribution'!$C113)","v":74},{"$f":"SUMIFS('Age Distribution'!X:X,'Age Distribution'!$C:$C,\"=\"&'Summary Tables Age Distribution'!$C113)","v":38},{"$f":"SUMIFS('Age Distribution'!Y:Y,'Age Distribution'!$C:$C,\"=\"&'Summary Tables Age Distribution'!$C113)","v":194},{"$f":"SUMIFS('Age Distribution'!Z:Z,'Age Distribution'!$C:$C,\"=\"&'Summary Tables Age Distribution'!$C113)","v":268},{"$f":"SUMIFS('Age Distribution'!AA:AA,'Age Distribution'!$C:$C,\"=\"&'Summary Tables Age Distribution'!$C113)","v":76},{"$f":"SUMIFS('Age Distribution'!AB:AB,'Age Distribution'!$C:$C,\"=\"&'Summary Tables Age Distribution'!$C113)","v":8},{"$f":"SUMIFS('Age Distribution'!AC:AC,'Age Distribution'!$C:$C,\"=\"&'Summary Tables Age Distribution'!$C113)","v":33},{"$f":"SUMIFS('Age Distribution'!AD:AD,'Age Distribution'!$C:$C,\"=\"&'Summary Tables Age Distribution'!$C113)","v":2},{"$f":"SUMIFS('Age Distribution'!AE:AE,'Age Distribution'!$C:$C,\"=\"&'Summary Tables Age Distribution'!$C113)","v":2575},{"$f":"IFERROR(SUMPRODUCT(--('Age Distribution'!$C:$C='Summary Tables Age Distribution'!$C113),'Age Distribution'!$AE:$AE,'Age Distribution'!AF:AF)/SUMIFS('Age Distribution'!$AE:$AE,'Age Distribution'!$C:$C,\"=\"&'Summary Tables Age Distribution'!$C113),\"-\")","v":6.5297087378640688},{"$f":"IFERROR(SUMPRODUCT(--('Age Distribution'!$C:$C='Summary Tables Age Distribution'!$C113),'Age Distribution'!$AE:$AE,'Age Distribution'!AG:AG)/SUMIFS('Age Distribution'!$AE:$AE,'Age Distribution'!$C:$C,\"=\"&'Summary Tables Age Distribution'!$C113,'Age Distribution'!$AG:$AG,\"<>\"),\"-\")","v":259144.28085805851}]
[null,null,"PA","Pennsylvania",null,{"$f":"SUMIFS('Age Distribution'!L:L,'Age Distribution'!$C:$C,\"=\"&'Summary Tables Age Distribution'!$C114)","v":277},{"$f":"SUMIFS('Age Distribution'!M:M,'Age Distribution'!$C:$C,\"=\"&'Summary Tables Age Distribution'!$C114)","v":592},{"$f":"SUMIFS('Age Distribution'!N:N,'Age Distribution'!$C:$C,\"=\"&'Summary Tables Age Distribution'!$C114)","v":952},{"$f":"SUMIFS('Age Distribution'!O:O,'Age Distribution'!$C:$C,\"=\"&'Summary Tables Age Distribution'!$C114)","v":640},{"$f":"SUMIFS('Age Distribution'!P:P,'Age Distribution'!$C:$C,\"=\"&'Summary Tables Age Distribution'!$C114)","v":535},{"$f":"SUMIFS('Age Distribution'!Q:Q,'Age Distribution'!$C:$C,\"=\"&'Summary Tables Age Distribution'!$C114)","v":583},{"$f":"SUMIFS('Age Distribution'!R:R,'Age Distribution'!$C:$C,\"=\"&'Summary Tables Age Distribution'!$C114)","v":558},{"$f":"SUMIFS('Age Distribution'!S:S,'Age Distribution'!$C:$C,\"=\"&'Summary Tables Age Distribution'!$C114)","v":600},{"$f":"SUMIFS('Age Distribution'!T:T,'Age Distribution'!$C:$C,\"=\"&'Summary Tables Age Distribution'!$C114)","v":434},{"$f":"SUMIFS('Age Distribution'!U:U,'Age Distribution'!$C:$C,\"=\"&'Summary Tables Age Distribution'!$C114)","v":427},{"$f":"SUMIFS('Age Distribution'!V:V,'Age Distribution'!$C:$C,\"=\"&'Summary Tables Age Distribution'!$C114)","v":415},{"$f":"SUMIFS('Age Distribution'!W:W,'Age Distribution'!$C:$C,\"=\"&'Summary Tables Age Distribution'!$C114)","v":148},{"$f":"SUMIFS('Age Distribution'!X:X,'Age Distribution'!$C:$C,\"=\"&'Summary Tables Age Distribution'!$C114)","v":188},{"$f":"SUMIFS('Age Distribution'!Y:Y,'Age Distribution'!$C:$C,\"=\"&'Summary Tables Age Distribution'!$C114)","v":750},{"$f":"SUMIFS('Age Distribution'!Z:Z,'Age Distribution'!$C:$C,\"=\"&'Summary Tables Age Distribution'!$C114)","v":590},{"$f":"SUMIFS('Age Distribution'!AA:AA,'Age Distribution'!$C:$C,\"=\"&'Summary Tables Age Distribution'!$C114)","v":89},{"$f":"SUMIFS('Age Distribution'!AB:AB,'Age Distribution'!$C:$C,\"=\"&'Summary Tables Age Distribution'!$C114)","v":35},{"$f":"SUMIFS('Age Distribution'!AC:AC,'Age Distribution'!$C:$C,\"=\"&'Summary Tables Age Distribution'!$C114)","v":644},{"$f":"SUMIFS('Age Distribution'!AD:AD,'Age Distribution'!$C:$C,\"=\"&'Summary Tables Age Distribution'!$C114)","v":33},{"$f":"SUMIFS('Age Distribution'!AE:AE,'Age Distribution'!$C:$C,\"=\"&'Summary Tables Age Distribution'!$C114)","v":8490},{"$f":"IFERROR(SUMPRODUCT(--('Age Distribution'!$C:$C='Summary Tables Age Distribution'!$C114),'Age Distribution'!$AE:$AE,'Age Distribution'!AF:AF)/SUMIFS('Age Distribution'!$AE:$AE,'Age Distribution'!$C:$C,\"=\"&'Summary Tables Age Distribution'!$C114),\"-\")","v":8.1234393404004646},{"$f":"IFERROR(SUMPRODUCT(--('Age Distribution'!$C:$C='Summary Tables Age Distribution'!$C114),'Age Distribution'!$AE:$AE,'Age Distribution'!AG:AG)/SUMIFS('Age Distribution'!$AE:$AE,'Age Distribution'!$C:$C,\"=\"&'Summary Tables Age Distribution'!$C114,'Age Distribution'!$AG:$AG,\"<>\"),\"-\")","v":312295.84519036952}]
[null,null,"PR","Puerto Rico",null,{"$f":"SUMIFS('Age Distribution'!L:L,'Age Distribution'!$C:$C,\"=\"&'Summary Tables Age Distribution'!$C115)","v":15},{"$f":"SUMIFS('Age Distribution'!M:M,'Age Distribution'!$C:$C,\"=\"&'Summary Tables Age Distribution'!$C115)","v":104},{"$f":"SUMIFS('Age Distribution'!N:N,'Age Distribution'!$C:$C,\"=\"&'Summary Tables Age Distribution'!$C115)","v":41},{"$f":"SUMIFS('Age Distribution'!O:O,'Age Distribution'!$C:$C,\"=\"&'Summary Tables Age Distribution'!$C115)","v":18},{"$f":"SUMIFS('Age Distribution'!P:P,'Age Distribution'!$C:$C,\"=\"&'Summary Tables Age Distribution'!$C115)","v":16},{"$f":"SUMIFS('Age Distribution'!Q:Q,'Age Distribution'!$C:$C,\"=\"&'Summary Tables Age Distribution'!$C115)","v":29},{"$f":"SUMIFS('Age Distribution'!R:R,'Age Distribution'!$C:$C,\"=\"&'Summary Tables Age Distribution'!$C115)","v":110},{"$f":"SUMIFS('Age Distribution'!S:S,'Age Distribution'!$C:$C,\"=\"&'Summary Tables Age Distribution'!$C115)","v":57},{"$f":"SUMIFS('Age Distribution'!T:T,'Age Distribution'!$C:$C,\"=\"&'Summary Tables Age Distribution'!$C115)","v":109},{"$f":"SUMIFS('Age Distribution'!U:U,'Age Distribution'!$C:$C,\"=\"&'Summary Tables Age Distribution'!$C115)","v":50},{"$f":"SUMIFS('Age Distribution'!V:V,'Age Distribution'!$C:$C,\"=\"&'Summary Tables Age Distribution'!$C115)","v":12},{"$f":"SUMIFS('Age Distribution'!W:W,'Age Distribution'!$C:$C,\"=\"&'Summary Tables Age Distribution'!$C115)","v":51},{"$f":"SUMIFS('Age Distribution'!X:X,'Age Distribution'!$C:$C,\"=\"&'Summary Tables Age Distribution'!$C115)","v":13},{"$f":"SUMIFS('Age Distribution'!Y:Y,'Age Distribution'!$C:$C,\"=\"&'Summary Tables Age Distribution'!$C115)","v":75},{"$f":"SUMIFS('Age Distribution'!Z:Z,'Age Distribution'!$C:$C,\"=\"&'Summary Tables Age Distribution'!$C115)","v":84},{"$f":"SUMIFS('Age Distribution'!AA:AA,'Age Distribution'!$C:$C,\"=\"&'Summary Tables Age Distribution'!$C115)","v":4},{"$f":"SUMIFS('Age Distribution'!AB:AB,'Age Distribution'!$C:$C,\"=\"&'Summary Tables Age Distribution'!$C115)","v":4},{"$f":"SUMIFS('Age Distribution'!AC:AC,'Age Distribution'!$C:$C,\"=\"&'Summary Tables Age Distribution'!$C115)","v":6},{"$f":"SUMIFS('Age Distribution'!AD:AD,'Age Distribution'!$C:$C,\"=\"&'Summary Tables Age Distribution'!$C115)","v":0},{"$f":"SUMIFS('Age Distribution'!AE:AE,'Age Distribution'!$C:$C,\"=\"&'Summary Tables Age Distribution'!$C115)","v":798},{"$f":"IFERROR(SUMPRODUCT(--('Age Distribution'!$C:$C='Summary Tables Age Distribution'!$C115),'Age Distribution'!$AE:$AE,'Age Distribution'!AF:AF)/SUMIFS('Age Distribution'!$AE:$AE,'Age Distribution'!$C:$C,\"=\"&'Summary Tables Age Distribution'!$C115),\"-\")","v":6.5914786967418477},{"$f":"IFERROR(SUMPRODUCT(--('Age Distribution'!$C:$C='Summary Tables Age Distribution'!$C115),'Age Distribution'!$AE:$AE,'Age Distribution'!AG:AG)/SUMIFS('Age Distribution'!$AE:$AE,'Age Distribution'!$C:$C,\"=\"&'Summary Tables Age Distribution'!$C115,'Age Distribution'!$AG:$AG,\"<>\"),\"-\")","v":164883.48238851462}]
[null,null,"RI","Rhode Island",null,{"$f":"SUMIFS('Age Distribution'!L:L,'Age Distribution'!$C:$C,\"=\"&'Summary Tables Age Distribution'!$C116)","v":5},{"$f":"SUMIFS('Age Distribution'!M:M,'Age Distribution'!$C:$C,\"=\"&'Summary Tables Age Distribution'!$C116)","v":4},{"$f":"SUMIFS('Age Distribution'!N:N,'Age Distribution'!$C:$C,\"=\"&'Summary Tables Age Distribution'!$C116)","v":47},{"$f":"SUMIFS('Age Distribution'!O:O,'Age Distribution'!$C:$C,\"=\"&'Summary Tables Age Distribution'!$C116)","v":39},{"$f":"SUMIFS('Age Distribution'!P:P,'Age Distribution'!$C:$C,\"=\"&'Summary Tables Age Distribution'!$C116)","v":5},{"$f":"SUMIFS('Age Distribution'!Q:Q,'Age Distribution'!$C:$C,\"=\"&'Summary Tables Age Distribution'!$C116)","v":50},{"$f":"SUMIFS('Age Distribution'!R:R,'Age Distribution'!$C:$C,\"=\"&'Summary Tables Age Distribution'!$C116)","v":27},{"$f":"SUMIFS('Age Distribution'!S:S,'Age Distribution'!$C:$C,\"=\"&'Summary Tables Age Distribution'!$C116)","v":52},{"$f":"SUMIFS('Age Distribution'!T:T,'Age Distribution'!$C:$C,\"=\"&'Summary Tables Age Distribution'!$C116)","v":80},{"$f":"SUMIFS('Age Distribution'!U:U,'Age Distribution'!$C:$C,\"=\"&'Summary Tables Age Distribution'!$C116)","v":24},{"$f":"SUMIFS('Age Distribution'!V:V,'Age Distribution'!$C:$C,\"=\"&'Summary Tables Age Distribution'!$C116)","v":2},{"$f":"SUMIFS('Age Distribution'!W:W,'Age Distribution'!$C:$C,\"=\"&'Summary Tables Age Distribution'!$C116)","v":3},{"$f":"SUMIFS('Age Distribution'!X:X,'Age Distribution'!$C:$C,\"=\"&'Summary Tables Age Distribution'!$C116)","v":0},{"$f":"SUMIFS('Age Distribution'!Y:Y,'Age Distribution'!$C:$C,\"=\"&'Summary Tables Age Distribution'!$C116)","v":48},{"$f":"SUMIFS('Age Distribution'!Z:Z,'Age Distribution'!$C:$C,\"=\"&'Summary Tables Age Distribution'!$C116)","v":0},{"$f":"SUMIFS('Age Distribution'!AA:AA,'Age Distribution'!$C:$C,\"=\"&'Summary Tables Age Distribution'!$C116)","v":0},{"$f":"SUMIFS('Age Distribution'!AB:AB,'Age Distribution'!$C:$C,\"=\"&'Summary Tables Age Distribution'!$C116)","v":0},{"$f":"SUMIFS('Age Distribution'!AC:AC,'Age Distribution'!$C:$C,\"=\"&'Summary Tables Age Distribution'!$C116)","v":0},{"$f":"SUMIFS('Age Distribution'!AD:AD,'Age Distribution'!$C:$C,\"=\"&'Summary Tables Age Distribution'!$C116)","v":0},{"$f":"SUMIFS('Age Distribution'!AE:AE,'Age Distribution'!$C:$C,\"=\"&'Summary Tables Age Distribution'!$C116)","v":386},{"$f":"IFERROR(SUMPRODUCT(--('Age Distribution'!$C:$C='Summary Tables Age Distribution'!$C116),'Age Distribution'!$AE:$AE,'Age Distribution'!AF:AF)/SUMIFS('Age Distribution'!$AE:$AE,'Age Distribution'!$C:$C,\"=\"&'Summary Tables Age Distribution'!$C116),\"-\")","v":5.8730569948186506},{"$f":"IFERROR(SUMPRODUCT(--('Age Distribution'!$C:$C='Summary Tables Age Distribution'!$C116),'Age Distribution'!$AE:$AE,'Age Distribution'!AG:AG)/SUMIFS('Age Distribution'!$AE:$AE,'Age Distribution'!$C:$C,\"=\"&'Summary Tables Age Distribution'!$C116,'Age Distribution'!$AG:$AG,\"<>\"),\"-\")","v":286590.54335231212}]
[null,null,"SC","South Carolina",null,{"$f":"SUMIFS('Age Distribution'!L:L,'Age Distribution'!$C:$C,\"=\"&'Summary Tables Age Distribution'!$C117)","v":43},{"$f":"SUMIFS('Age Distribution'!M:M,'Age Distribution'!$C:$C,\"=\"&'Summary Tables Age Distribution'!$C117)","v":135},{"$f":"SUMIFS('Age Distribution'!N:N,'Age Distribution'!$C:$C,\"=\"&'Summary Tables Age Distribution'!$C117)","v":113},{"$f":"SUMIFS('Age Distribution'!O:O,'Age Distribution'!$C:$C,\"=\"&'Summary Tables Age Distribution'!$C117)","v":31},{"$f":"SUMIFS('Age Distribution'!P:P,'Age Distribution'!$C:$C,\"=\"&'Summary Tables Age Distribution'!$C117)","v":63},{"$f":"SUMIFS('Age Distribution'!Q:Q,'Age Distribution'!$C:$C,\"=\"&'Summary Tables Age Distribution'!$C117)","v":36},{"$f":"SUMIFS('Age Distribution'!R:R,'Age Distribution'!$C:$C,\"=\"&'Summary Tables Age Distribution'!$C117)","v":37},{"$f":"SUMIFS('Age Distribution'!S:S,'Age Distribution'!$C:$C,\"=\"&'Summary Tables Age Distribution'!$C117)","v":55},{"$f":"SUMIFS('Age Distribution'!T:T,'Age Distribution'!$C:$C,\"=\"&'Summary Tables Age Distribution'!$C117)","v":69},{"$f":"SUMIFS('Age Distribution'!U:U,'Age Distribution'!$C:$C,\"=\"&'Summary Tables Age Distribution'!$C117)","v":57},{"$f":"SUMIFS('Age Distribution'!V:V,'Age Distribution'!$C:$C,\"=\"&'Summary Tables Age Distribution'!$C117)","v":19},{"$f":"SUMIFS('Age Distribution'!W:W,'Age Distribution'!$C:$C,\"=\"&'Summary Tables Age Distribution'!$C117)","v":19},{"$f":"SUMIFS('Age Distribution'!X:X,'Age Distribution'!$C:$C,\"=\"&'Summary Tables Age Distribution'!$C117)","v":13},{"$f":"SUMIFS('Age Distribution'!Y:Y,'Age Distribution'!$C:$C,\"=\"&'Summary Tables Age Distribution'!$C117)","v":38},{"$f":"SUMIFS('Age Distribution'!Z:Z,'Age Distribution'!$C:$C,\"=\"&'Summary Tables Age Distribution'!$C117)","v":37},{"$f":"SUMIFS('Age Distribution'!AA:AA,'Age Distribution'!$C:$C,\"=\"&'Summary Tables Age Distribution'!$C117)","v":41},{"$f":"SUMIFS('Age Distribution'!AB:AB,'Age Distribution'!$C:$C,\"=\"&'Summary Tables Age Distribution'!$C117)","v":0},{"$f":"SUMIFS('Age Distribution'!AC:AC,'Age Distribution'!$C:$C,\"=\"&'Summary Tables Age Distribution'!$C117)","v":2},{"$f":"SUMIFS('Age Distribution'!AD:AD,'Age Distribution'!$C:$C,\"=\"&'Summary Tables Age Distribution'!$C117)","v":0},{"$f":"SUMIFS('Age Distribution'!AE:AE,'Age Distribution'!$C:$C,\"=\"&'Summary Tables Age Distribution'!$C117)","v":808},{"$f":"IFERROR(SUMPRODUCT(--('Age Distribution'!$C:$C='Summary Tables Age Distribution'!$C117),'Age Distribution'!$AE:$AE,'Age Distribution'!AF:AF)/SUMIFS('Age Distribution'!$AE:$AE,'Age Distribution'!$C:$C,\"=\"&'Summary Tables Age Distribution'!$C117),\"-\")","v":6.0061881188118731},{"$f":"IFERROR(SUMPRODUCT(--('Age Distribution'!$C:$C='Summary Tables Age Distribution'!$C117),'Age Distribution'!$AE:$AE,'Age Distribution'!AG:AG)/SUMIFS('Age Distribution'!$AE:$AE,'Age Distribution'!$C:$C,\"=\"&'Summary Tables Age Distribution'!$C117,'Age Distribution'!$AG:$AG,\"<>\"),\"-\")","v":181889.20679809523}]
[null,null,"SD","South Dakota",null,{"$f":"SUMIFS('Age Distribution'!L:L,'Age Distribution'!$C:$C,\"=\"&'Summary Tables Age Distribution'!$C118)","v":25},{"$f":"SUMIFS('Age Distribution'!M:M,'Age Distribution'!$C:$C,\"=\"&'Summary Tables Age Distribution'!$C118)","v":39},{"$f":"SUMIFS('Age Distribution'!N:N,'Age Distribution'!$C:$C,\"=\"&'Summary Tables Age Distribution'!$C118)","v":43},{"$f":"SUMIFS('Age Distribution'!O:O,'Age Distribution'!$C:$C,\"=\"&'Summary Tables Age Distribution'!$C118)","v":52},{"$f":"SUMIFS('Age Distribution'!P:P,'Age Distribution'!$C:$C,\"=\"&'Summary Tables Age Distribution'!$C118)","v":22},{"$f":"SUMIFS('Age Distribution'!Q:Q,'Age Distribution'!$C:$C,\"=\"&'Summary Tables Age Distribution'!$C118)","v":30},{"$f":"SUMIFS('Age Distribution'!R:R,'Age Distribution'!$C:$C,\"=\"&'Summary Tables Age Distribution'!$C118)","v":12},{"$f":"SUMIFS('Age Distribution'!S:S,'Age Distribution'!$C:$C,\"=\"&'Summary Tables Age Distribution'!$C118)","v":7},{"$f":"SUMIFS('Age Distribution'!T:T,'Age Distribution'!$C:$C,\"=\"&'Summary Tables Age Distribution'!$C118)","v":48},{"$f":"SUMIFS('Age Distribution'!U:U,'Age Distribution'!$C:$C,\"=\"&'Summary Tables Age Distribution'!$C118)","v":35},{"$f":"SUMIFS('Age Distribution'!V:V,'Age Distribution'!$C:$C,\"=\"&'Summary Tables Age Distribution'!$C118)","v":74},{"$f":"SUMIFS('Age Distribution'!W:W,'Age Distribution'!$C:$C,\"=\"&'Summary Tables Age Distribution'!$C118)","v":13},{"$f":"SUMIFS('Age Distribution'!X:X,'Age Distribution'!$C:$C,\"=\"&'Summary Tables Age Distribution'!$C118)","v":22},{"$f":"SUMIFS('Age Distribution'!Y:Y,'Age Distribution'!$C:$C,\"=\"&'Summary Tables Age Distribution'!$C118)","v":72},{"$f":"SUMIFS('Age Distribution'!Z:Z,'Age Distribution'!$C:$C,\"=\"&'Summary Tables Age Distribution'!$C118)","v":25},{"$f":"SUMIFS('Age Distribution'!AA:AA,'Age Distribution'!$C:$C,\"=\"&'Summary Tables Age Distribution'!$C118)","v":5},{"$f":"SUMIFS('Age Distribution'!AB:AB,'Age Distribution'!$C:$C,\"=\"&'Summary Tables Age Distribution'!$C118)","v":1},{"$f":"SUMIFS('Age Distribution'!AC:AC,'Age Distribution'!$C:$C,\"=\"&'Summary Tables Age Distribution'!$C118)","v":0},{"$f":"SUMIFS('Age Distribution'!AD:AD,'Age Distribution'!$C:$C,\"=\"&'Summary Tables Age Distribution'!$C118)","v":0},{"$f":"SUMIFS('Age Distribution'!AE:AE,'Age Distribution'!$C:$C,\"=\"&'Summary Tables Age Distribution'!$C118)","v":525},{"$f":"IFERROR(SUMPRODUCT(--('Age Distribution'!$C:$C='Summary Tables Age Distribution'!$C118),'Age Distribution'!$AE:$AE,'Age Distribution'!AF:AF)/SUMIFS('Age Distribution'!$AE:$AE,'Age Distribution'!$C:$C,\"=\"&'Summary Tables Age Distribution'!$C118),\"-\")","v":7.4076190476190442},{"$f":"IFERROR(SUMPRODUCT(--('Age Distribution'!$C:$C='Summary Tables Age Distribution'!$C118),'Age Distribution'!$AE:$AE,'Age Distribution'!AG:AG)/SUMIFS('Age Distribution'!$AE:$AE,'Age Distribution'!$C:$C,\"=\"&'Summary Tables Age Distribution'!$C118,'Age Distribution'!$AG:$AG,\"<>\"),\"-\")","v":33390.94222609562}]
[null,null,"TN","Tennessee",null,{"$f":"SUMIFS('Age Distribution'!L:L,'Age Distribution'!$C:$C,\"=\"&'Summary Tables Age Distribution'!$C119)","v":98},{"$f":"SUMIFS('Age Distribution'!M:M,'Age Distribution'!$C:$C,\"=\"&'Summary Tables Age Distribution'!$C119)","v":331},{"$f":"SUMIFS('Age Distribution'!N:N,'Age Distribution'!$C:$C,\"=\"&'Summary Tables Age Distribution'!$C119)","v":288},{"$f":"SUMIFS('Age Distribution'!O:O,'Age Distribution'!$C:$C,\"=\"&'Summary Tables Age Distribution'!$C119)","v":133},{"$f":"SUMIFS('Age Distribution'!P:P,'Age Distribution'!$C:$C,\"=\"&'Summary Tables Age Distribution'!$C119)","v":196},{"$f":"SUMIFS('Age Distribution'!Q:Q,'Age Distribution'!$C:$C,\"=\"&'Summary Tables Age Distribution'!$C119)","v":258},{"$f":"SUMIFS('Age Distribution'!R:R,'Age Distribution'!$C:$C,\"=\"&'Summary Tables Age Distribution'!$C119)","v":117},{"$f":"SUMIFS('Age Distribution'!S:S,'Age Distribution'!$C:$C,\"=\"&'Summary Tables Age Distribution'!$C119)","v":137},{"$f":"SUMIFS('Age Distribution'!T:T,'Age Distribution'!$C:$C,\"=\"&'Summary Tables Age Distribution'!$C119)","v":312},{"$f":"SUMIFS('Age Distribution'!U:U,'Age Distribution'!$C:$C,\"=\"&'Summary Tables Age Distribution'!$C119)","v":164},{"$f":"SUMIFS('Age Distribution'!V:V,'Age Distribution'!$C:$C,\"=\"&'Summary Tables Age Distribution'!$C119)","v":67},{"$f":"SUMIFS('Age Distribution'!W:W,'Age Distribution'!$C:$C,\"=\"&'Summary Tables Age Distribution'!$C119)","v":37},{"$f":"SUMIFS('Age Distribution'!X:X,'Age Distribution'!$C:$C,\"=\"&'Summary Tables Age Distribution'!$C119)","v":59},{"$f":"SUMIFS('Age Distribution'!Y:Y,'Age Distribution'!$C:$C,\"=\"&'Summary Tables Age Distribution'!$C119)","v":120},{"$f":"SUMIFS('Age Distribution'!Z:Z,'Age Distribution'!$C:$C,\"=\"&'Summary Tables Age Distribution'!$C119)","v":46},{"$f":"SUMIFS('Age Distribution'!AA:AA,'Age Distribution'!$C:$C,\"=\"&'Summary Tables Age Distribution'!$C119)","v":8},{"$f":"SUMIFS('Age Distribution'!AB:AB,'Age Distribution'!$C:$C,\"=\"&'Summary Tables Age Distribution'!$C119)","v":1},{"$f":"SUMIFS('Age Distribution'!AC:AC,'Age Distribution'!$C:$C,\"=\"&'Summary Tables Age Distribution'!$C119)","v":14},{"$f":"SUMIFS('Age Distribution'!AD:AD,'Age Distribution'!$C:$C,\"=\"&'Summary Tables Age Distribution'!$C119)","v":3},{"$f":"SUMIFS('Age Distribution'!AE:AE,'Age Distribution'!$C:$C,\"=\"&'Summary Tables Age Distribution'!$C119)","v":2389},{"$f":"IFERROR(SUMPRODUCT(--('Age Distribution'!$C:$C='Summary Tables Age Distribution'!$C119),'Age Distribution'!$AE:$AE,'Age Distribution'!AF:AF)/SUMIFS('Age Distribution'!$AE:$AE,'Age Distribution'!$C:$C,\"=\"&'Summary Tables Age Distribution'!$C119),\"-\")","v":5.3156132272917489},{"$f":"IFERROR(SUMPRODUCT(--('Age Distribution'!$C:$C='Summary Tables Age Distribution'!$C119),'Age Distribution'!$AE:$AE,'Age Distribution'!AG:AG)/SUMIFS('Age Distribution'!$AE:$AE,'Age Distribution'!$C:$C,\"=\"&'Summary Tables Age Distribution'!$C119,'Age Distribution'!$AG:$AG,\"<>\"),\"-\")","v":134177.93512098482}]
[null,null,"TX","Texas",null,{"$f":"SUMIFS('Age Distribution'!L:L,'Age Distribution'!$C:$C,\"=\"&'Summary Tables Age Distribution'!$C120)","v":660},{"$f":"SUMIFS('Age Distribution'!M:M,'Age Distribution'!$C:$C,\"=\"&'Summary Tables Age Distribution'!$C120)","v":1383},{"$f":"SUMIFS('Age Distribution'!N:N,'Age Distribution'!$C:$C,\"=\"&'Summary Tables Age Distribution'!$C120)","v":922},{"$f":"SUMIFS('Age Distribution'!O:O,'Age Distribution'!$C:$C,\"=\"&'Summary Tables Age Distribution'!$C120)","v":987},{"$f":"SUMIFS('Age Distribution'!P:P,'Age Distribution'!$C:$C,\"=\"&'Summary Tables Age Distribution'!$C120)","v":1262},{"$f":"SUMIFS('Age Distribution'!Q:Q,'Age Distribution'!$C:$C,\"=\"&'Summary Tables Age Distribution'!$C120)","v":743},{"$f":"SUMIFS('Age Distribution'!R:R,'Age Distribution'!$C:$C,\"=\"&'Summary Tables Age Distribution'!$C120)","v":670},{"$f":"SUMIFS('Age Distribution'!S:S,'Age Distribution'!$C:$C,\"=\"&'Summary Tables Age Distribution'!$C120)","v":356},{"$f":"SUMIFS('Age Distribution'!T:T,'Age Distribution'!$C:$C,\"=\"&'Summary Tables Age Distribution'!$C120)","v":707},{"$f":"SUMIFS('Age Distribution'!U:U,'Age Distribution'!$C:$C,\"=\"&'Summary Tables Age Distribution'!$C120)","v":553},{"$f":"SUMIFS('Age Distribution'!V:V,'Age Distribution'!$C:$C,\"=\"&'Summary Tables Age Distribution'!$C120)","v":597},{"$f":"SUMIFS('Age Distribution'!W:W,'Age Distribution'!$C:$C,\"=\"&'Summary Tables Age Distribution'!$C120)","v":270},{"$f":"SUMIFS('Age Distribution'!X:X,'Age Distribution'!$C:$C,\"=\"&'Summary Tables Age Distribution'!$C120)","v":201},{"$f":"SUMIFS('Age Distribution'!Y:Y,'Age Distribution'!$C:$C,\"=\"&'Summary Tables Age Distribution'!$C120)","v":324},{"$f":"SUMIFS('Age Distribution'!Z:Z,'Age Distribution'!$C:$C,\"=\"&'Summary Tables Age Distribution'!$C120)","v":389},{"$f":"SUMIFS('Age Distribution'!AA:AA,'Age Distribution'!$C:$C,\"=\"&'Summary Tables Age Distribution'!$C120)","v":59},{"$f":"SUMIFS('Age Distribution'!AB:AB,'Age Distribution'!$C:$C,\"=\"&'Summary Tables Age Distribution'!$C120)","v":13},{"$f":"SUMIFS('Age Distribution'!AC:AC,'Age Distribution'!$C:$C,\"=\"&'Summary Tables Age Distribution'!$C120)","v":17},{"$f":"SUMIFS('Age Distribution'!AD:AD,'Age Distribution'!$C:$C,\"=\"&'Summary Tables Age Distribution'!$C120)","v":5},{"$f":"SUMIFS('Age Distribution'!AE:AE,'Age Distribution'!$C:$C,\"=\"&'Summary Tables Age Distribution'!$C120)","v":10118},{"$f":"IFERROR(SUMPRODUCT(--('Age Distribution'!$C:$C='Summary Tables Age Distribution'!$C120),'Age Distribution'!$AE:$AE,'Age Distribution'!AF:AF)/SUMIFS('Age Distribution'!$AE:$AE,'Age Distribution'!$C:$C,\"=\"&'Summary Tables Age Distribution'!$C120),\"-\")","v":4.4604664953548099},{"$f":"IFERROR(SUMPRODUCT(--('Age Distribution'!$C:$C='Summary Tables Age Distribution'!$C120),'Age Distribution'!$AE:$AE,'Age Distribution'!AG:AG)/SUMIFS('Age Distribution'!$AE:$AE,'Age Distribution'!$C:$C,\"=\"&'Summary Tables Age Distribution'!$C120,'Age Distribution'!$AG:$AG,\"<>\"),\"-\")","v":171913.3666903259}]
[null,null,"UT","Utah",null,{"$f":"SUMIFS('Age Distribution'!L:L,'Age Distribution'!$C:$C,\"=\"&'Summary Tables Age Distribution'!$C121)","v":19},{"$f":"SUMIFS('Age Distribution'!M:M,'Age Distribution'!$C:$C,\"=\"&'Summary Tables Age Distribution'!$C121)","v":186},{"$f":"SUMIFS('Age Distribution'!N:N,'Age Distribution'!$C:$C,\"=\"&'Summary Tables Age Distribution'!$C121)","v":125},{"$f":"SUMIFS('Age Distribution'!O:O,'Age Distribution'!$C:$C,\"=\"&'Summary Tables Age Distribution'!$C121)","v":114},{"$f":"SUMIFS('Age Distribution'!P:P,'Age Distribution'!$C:$C,\"=\"&'Summary Tables Age Distribution'!$C121)","v":134},{"$f":"SUMIFS('Age Distribution'!Q:Q,'Age Distribution'!$C:$C,\"=\"&'Summary Tables Age Distribution'!$C121)","v":149},{"$f":"SUMIFS('Age Distribution'!R:R,'Age Distribution'!$C:$C,\"=\"&'Summary Tables Age Distribution'!$C121)","v":169},{"$f":"SUMIFS('Age Distribution'!S:S,'Age Distribution'!$C:$C,\"=\"&'Summary Tables Age Distribution'!$C121)","v":215},{"$f":"SUMIFS('Age Distribution'!T:T,'Age Distribution'!$C:$C,\"=\"&'Summary Tables Age Distribution'!$C121)","v":178},{"$f":"SUMIFS('Age Distribution'!U:U,'Age Distribution'!$C:$C,\"=\"&'Summary Tables Age Distribution'!$C121)","v":148},{"$f":"SUMIFS('Age Distribution'!V:V,'Age Distribution'!$C:$C,\"=\"&'Summary Tables Age Distribution'!$C121)","v":97},{"$f":"SUMIFS('Age Distribution'!W:W,'Age Distribution'!$C:$C,\"=\"&'Summary Tables Age Distribution'!$C121)","v":151},{"$f":"SUMIFS('Age Distribution'!X:X,'Age Distribution'!$C:$C,\"=\"&'Summary Tables Age Distribution'!$C121)","v":88},{"$f":"SUMIFS('Age Distribution'!Y:Y,'Age Distribution'!$C:$C,\"=\"&'Summary Tables Age Distribution'!$C121)","v":105},{"$f":"SUMIFS('Age Distribution'!Z:Z,'Age Distribution'!$C:$C,\"=\"&'Summary Tables Age Distribution'!$C121)","v":140},{"$f":"SUMIFS('Age Distribution'!AA:AA,'Age Distribution'!$C:$C,\"=\"&'Summary Tables Age Distribution'!$C121)","v":1},{"$f":"SUMIFS('Age Distribution'!AB:AB,'Age Distribution'!$C:$C,\"=\"&'Summary Tables Age Distribution'!$C121)","v":0},{"$f":"SUMIFS('Age Distribution'!AC:AC,'Age Distribution'!$C:$C,\"=\"&'Summary Tables Age Distribution'!$C121)","v":14},{"$f":"SUMIFS('Age Distribution'!AD:AD,'Age Distribution'!$C:$C,\"=\"&'Summary Tables Age Distribution'!$C121)","v":0},{"$f":"SUMIFS('Age Distribution'!AE:AE,'Age Distribution'!$C:$C,\"=\"&'Summary Tables Age Distribution'!$C121)","v":2033},{"$f":"IFERROR(SUMPRODUCT(--('Age Distribution'!$C:$C='Summary Tables Age Distribution'!$C121),'Age Distribution'!$AE:$AE,'Age Distribution'!AF:AF)/SUMIFS('Age Distribution'!$AE:$AE,'Age Distribution'!$C:$C,\"=\"&'Summary Tables Age Distribution'!$C121),\"-\")","v":5.1923266109198192},{"$f":"IFERROR(SUMPRODUCT(--('Age Distribution'!$C:$C='Summary Tables Age Distribution'!$C121),'Age Distribution'!$AE:$AE,'Age Distribution'!AG:AG)/SUMIFS('Age Distribution'!$AE:$AE,'Age Distribution'!$C:$C,\"=\"&'Summary Tables Age Distribution'!$C121,'Age Distribution'!$AG:$AG,\"<>\"),\"-\")","v":252407.14116936256}]
[null,null,"VA","Virginia",null,{"$f":"SUMIFS('Age Distribution'!L:L,'Age Distribution'!$C:$C,\"=\"&'Summary Tables Age Distribution'!$C122)","v":224},{"$f":"SUMIFS('Age Distribution'!M:M,'Age Distribution'!$C:$C,\"=\"&'Summary Tables Age Distribution'!$C122)","v":322},{"$f":"SUMIFS('Age Distribution'!N:N,'Age Distribution'!$C:$C,\"=\"&'Summary Tables Age Distribution'!$C122)","v":192},{"$f":"SUMIFS('Age Distribution'!O:O,'Age Distribution'!$C:$C,\"=\"&'Summary Tables Age Distribution'!$C122)","v":351},{"$f":"SUMIFS('Age Distribution'!P:P,'Age Distribution'!$C:$C,\"=\"&'Summary Tables Age Distribution'!$C122)","v":241},{"$f":"SUMIFS('Age Distribution'!Q:Q,'Age Distribution'!$C:$C,\"=\"&'Summary Tables Age Distribution'!$C122)","v":221},{"$f":"SUMIFS('Age Distribution'!R:R,'Age Distribution'!$C:$C,\"=\"&'Summary Tables Age Distribution'!$C122)","v":211},{"$f":"SUMIFS('Age Distribution'!S:S,'Age Distribution'!$C:$C,\"=\"&'Summary Tables Age Distribution'!$C122)","v":214},{"$f":"SUMIFS('Age Distribution'!T:T,'Age Distribution'!$C:$C,\"=\"&'Summary Tables Age Distribution'!$C122)","v":137},{"$f":"SUMIFS('Age Distribution'!U:U,'Age Distribution'!$C:$C,\"=\"&'Summary Tables Age Distribution'!$C122)","v":212},{"$f":"SUMIFS('Age Distribution'!V:V,'Age Distribution'!$C:$C,\"=\"&'Summary Tables Age Distribution'!$C122)","v":195},{"$f":"SUMIFS('Age Distribution'!W:W,'Age Distribution'!$C:$C,\"=\"&'Summary Tables Age Distribution'!$C122)","v":198},{"$f":"SUMIFS('Age Distribution'!X:X,'Age Distribution'!$C:$C,\"=\"&'Summary Tables Age Distribution'!$C122)","v":108},{"$f":"SUMIFS('Age Distribution'!Y:Y,'Age Distribution'!$C:$C,\"=\"&'Summary Tables Age Distribution'!$C122)","v":128},{"$f":"SUMIFS('Age Distribution'!Z:Z,'Age Distribution'!$C:$C,\"=\"&'Summary Tables Age Distribution'!$C122)","v":114},{"$f":"SUMIFS('Age Distribution'!AA:AA,'Age Distribution'!$C:$C,\"=\"&'Summary Tables Age Distribution'!$C122)","v":8},{"$f":"SUMIFS('Age Distribution'!AB:AB,'Age Distribution'!$C:$C,\"=\"&'Summary Tables Age Distribution'!$C122)","v":3},{"$f":"SUMIFS('Age Distribution'!AC:AC,'Age Distribution'!$C:$C,\"=\"&'Summary Tables Age Distribution'!$C122)","v":1},{"$f":"SUMIFS('Age Distribution'!AD:AD,'Age Distribution'!$C:$C,\"=\"&'Summary Tables Age Distribution'!$C122)","v":0},{"$f":"SUMIFS('Age Distribution'!AE:AE,'Age Distribution'!$C:$C,\"=\"&'Summary Tables Age Distribution'!$C122)","v":3080},{"$f":"IFERROR(SUMPRODUCT(--('Age Distribution'!$C:$C='Summary Tables Age Distribution'!$C122),'Age Distribution'!$AE:$AE,'Age Distribution'!AF:AF)/SUMIFS('Age Distribution'!$AE:$AE,'Age Distribution'!$C:$C,\"=\"&'Summary Tables Age Distribution'!$C122),\"-\")","v":5.3457792207792147},{"$f":"IFERROR(SUMPRODUCT(--('Age Distribution'!$C:$C='Summary Tables Age Distribution'!$C122),'Age Distribution'!$AE:$AE,'Age Distribution'!AG:AG)/SUMIFS('Age Distribution'!$AE:$AE,'Age Distribution'!$C:$C,\"=\"&'Summary Tables Age Distribution'!$C122,'Age Distribution'!$AG:$AG,\"<>\"),\"-\")","v":202421.69148244444}]
[null,null,"VI","Virgin Islands",null,{"$f":"SUMIFS('Age Distribution'!L:L,'Age Distribution'!$C:$C,\"=\"&'Summary Tables Age Distribution'!$C123)","v":0},{"$f":"SUMIFS('Age Distribution'!M:M,'Age Distribution'!$C:$C,\"=\"&'Summary Tables Age Distribution'!$C123)","v":9},{"$f":"SUMIFS('Age Distribution'!N:N,'Age Distribution'!$C:$C,\"=\"&'Summary Tables Age Distribution'!$C123)","v":2},{"$f":"SUMIFS('Age Distribution'!O:O,'Age Distribution'!$C:$C,\"=\"&'Summary Tables Age Distribution'!$C123)","v":16},{"$f":"SUMIFS('Age Distribution'!P:P,'Age Distribution'!$C:$C,\"=\"&'Summary Tables Age Distribution'!$C123)","v":8},{"$f":"SUMIFS('Age Distribution'!Q:Q,'Age Distribution'!$C:$C,\"=\"&'Summary Tables Age Distribution'!$C123)","v":4},{"$f":"SUMIFS('Age Distribution'!R:R,'Age Distribution'!$C:$C,\"=\"&'Summary Tables Age Distribution'!$C123)","v":0},{"$f":"SUMIFS('Age Distribution'!S:S,'Age Distribution'!$C:$C,\"=\"&'Summary Tables Age Distribution'!$C123)","v":0},{"$f":"SUMIFS('Age Distribution'!T:T,'Age Distribution'!$C:$C,\"=\"&'Summary Tables Age Distribution'!$C123)","v":0},{"$f":"SUMIFS('Age Distribution'!U:U,'Age Distribution'!$C:$C,\"=\"&'Summary Tables Age Distribution'!$C123)","v":2},{"$f":"SUMIFS('Age Distribution'!V:V,'Age Distribution'!$C:$C,\"=\"&'Summary Tables Age Distribution'!$C123)","v":0},{"$f":"SUMIFS('Age Distribution'!W:W,'Age Distribution'!$C:$C,\"=\"&'Summary Tables Age Distribution'!$C123)","v":4},{"$f":"SUMIFS('Age Distribution'!X:X,'Age Distribution'!$C:$C,\"=\"&'Summary Tables Age Distribution'!$C123)","v":1},{"$f":"SUMIFS('Age Distribution'!Y:Y,'Age Distribution'!$C:$C,\"=\"&'Summary Tables Age Distribution'!$C123)","v":2},{"$f":"SUMIFS('Age Distribution'!Z:Z,'Age Distribution'!$C:$C,\"=\"&'Summary Tables Age Distribution'!$C123)","v":0},{"$f":"SUMIFS('Age Distribution'!AA:AA,'Age Distribution'!$C:$C,\"=\"&'Summary Tables Age Distribution'!$C123)","v":0},{"$f":"SUMIFS('Age Distribution'!AB:AB,'Age Distribution'!$C:$C,\"=\"&'Summary Tables Age Distribution'!$C123)","v":0},{"$f":"SUMIFS('Age Distribution'!AC:AC,'Age Distribution'!$C:$C,\"=\"&'Summary Tables Age Distribution'!$C123)","v":0},{"$f":"SUMIFS('Age Distribution'!AD:AD,'Age Distribution'!$C:$C,\"=\"&'Summary Tables Age Distribution'!$C123)","v":0},{"$f":"SUMIFS('Age Distribution'!AE:AE,'Age Distribution'!$C:$C,\"=\"&'Summary Tables Age Distribution'!$C123)","v":48},{"$f":"IFERROR(SUMPRODUCT(--('Age Distribution'!$C:$C='Summary Tables Age Distribution'!$C123),'Age Distribution'!$AE:$AE,'Age Distribution'!AF:AF)/SUMIFS('Age Distribution'!$AE:$AE,'Age Distribution'!$C:$C,\"=\"&'Summary Tables Age Distribution'!$C123),\"-\")","v":1.645833333333331},{"$f":"IFERROR(SUMPRODUCT(--('Age Distribution'!$C:$C='Summary Tables Age Distribution'!$C123),'Age Distribution'!$AE:$AE,'Age Distribution'!AG:AG)/SUMIFS('Age Distribution'!$AE:$AE,'Age Distribution'!$C:$C,\"=\"&'Summary Tables Age Distribution'!$C123,'Age Distribution'!$AG:$AG,\"<>\"),\"-\")","v":46789.333325925931}]
[null,null,"VT","Vermont",null,{"$f":"SUMIFS('Age Distribution'!L:L,'Age Distribution'!$C:$C,\"=\"&'Summary Tables Age Distribution'!$C124)","v":15},{"$f":"SUMIFS('Age Distribution'!M:M,'Age Distribution'!$C:$C,\"=\"&'Summary Tables Age Distribution'!$C124)","v":38},{"$f":"SUMIFS('Age Distribution'!N:N,'Age Distribution'!$C:$C,\"=\"&'Summary Tables Age Distribution'!$C124)","v":35},{"$f":"SUMIFS('Age Distribution'!O:O,'Age Distribution'!$C:$C,\"=\"&'Summary Tables Age Distribution'!$C124)","v":31},{"$f":"SUMIFS('Age Distribution'!P:P,'Age Distribution'!$C:$C,\"=\"&'Summary Tables Age Distribution'!$C124)","v":29},{"$f":"SUMIFS('Age Distribution'!Q:Q,'Age Distribution'!$C:$C,\"=\"&'Summary Tables Age Distribution'!$C124)","v":35},{"$f":"SUMIFS('Age Distribution'!R:R,'Age Distribution'!$C:$C,\"=\"&'Summary Tables Age Distribution'!$C124)","v":58},{"$f":"SUMIFS('Age Distribution'!S:S,'Age Distribution'!$C:$C,\"=\"&'Summary Tables Age Distribution'!$C124)","v":26},{"$f":"SUMIFS('Age Distribution'!T:T,'Age Distribution'!$C:$C,\"=\"&'Summary Tables Age Distribution'!$C124)","v":23},{"$f":"SUMIFS('Age Distribution'!U:U,'Age Distribution'!$C:$C,\"=\"&'Summary Tables Age Distribution'!$C124)","v":54},{"$f":"SUMIFS('Age Distribution'!V:V,'Age Distribution'!$C:$C,\"=\"&'Summary Tables Age Distribution'!$C124)","v":16},{"$f":"SUMIFS('Age Distribution'!W:W,'Age Distribution'!$C:$C,\"=\"&'Summary Tables Age Distribution'!$C124)","v":27},{"$f":"SUMIFS('Age Distribution'!X:X,'Age Distribution'!$C:$C,\"=\"&'Summary Tables Age Distribution'!$C124)","v":5},{"$f":"SUMIFS('Age Distribution'!Y:Y,'Age Distribution'!$C:$C,\"=\"&'Summary Tables Age Distribution'!$C124)","v":11},{"$f":"SUMIFS('Age Distribution'!Z:Z,'Age Distribution'!$C:$C,\"=\"&'Summary Tables Age Distribution'!$C124)","v":7},{"$f":"SUMIFS('Age Distribution'!AA:AA,'Age Distribution'!$C:$C,\"=\"&'Summary Tables Age Distribution'!$C124)","v":0},{"$f":"SUMIFS('Age Distribution'!AB:AB,'Age Distribution'!$C:$C,\"=\"&'Summary Tables Age Distribution'!$C124)","v":0},{"$f":"SUMIFS('Age Distribution'!AC:AC,'Age Distribution'!$C:$C,\"=\"&'Summary Tables Age Distribution'!$C124)","v":0},{"$f":"SUMIFS('Age Distribution'!AD:AD,'Age Distribution'!$C:$C,\"=\"&'Summary Tables Age Distribution'!$C124)","v":0},{"$f":"SUMIFS('Age Distribution'!AE:AE,'Age Distribution'!$C:$C,\"=\"&'Summary Tables Age Distribution'!$C124)","v":410},{"$f":"IFERROR(SUMPRODUCT(--('Age Distribution'!$C:$C='Summary Tables Age Distribution'!$C124),'Age Distribution'!$AE:$AE,'Age Distribution'!AF:AF)/SUMIFS('Age Distribution'!$AE:$AE,'Age Distribution'!$C:$C,\"=\"&'Summary Tables Age Distribution'!$C124),\"-\")","v":5.7707317073170694},{"$f":"IFERROR(SUMPRODUCT(--('Age Distribution'!$C:$C='Summary Tables Age Distribution'!$C124),'Age Distribution'!$AE:$AE,'Age Distribution'!AG:AG)/SUMIFS('Age Distribution'!$AE:$AE,'Age Distribution'!$C:$C,\"=\"&'Summary Tables Age Distribution'!$C124,'Age Distribution'!$AG:$AG,\"<>\"),\"-\")","v":43870.061381585678}]
[null,null,"WA","Washington",null,{"$f":"SUMIFS('Age Distribution'!L:L,'Age Distribution'!$C:$C,\"=\"&'Summary Tables Age Distribution'!$C125)","v":939},{"$f":"SUMIFS('Age Distribution'!M:M,'Age Distribution'!$C:$C,\"=\"&'Summary Tables Age Distribution'!$C125)","v":858},{"$f":"SUMIFS('Age Distribution'!N:N,'Age Distribution'!$C:$C,\"=\"&'Summary Tables Age Distribution'!$C125)","v":774},{"$f":"SUMIFS('Age Distribution'!O:O,'Age Distribution'!$C:$C,\"=\"&'Summary Tables Age Distribution'!$C125)","v":1107},{"$f":"SUMIFS('Age Distribution'!P:P,'Age Distribution'!$C:$C,\"=\"&'Summary Tables Age Distribution'!$C125)","v":981},{"$f":"SUMIFS('Age Distribution'!Q:Q,'Age Distribution'!$C:$C,\"=\"&'Summary Tables Age Distribution'!$C125)","v":724},{"$f":"SUMIFS('Age Distribution'!R:R,'Age Distribution'!$C:$C,\"=\"&'Summary Tables Age Distribution'!$C125)","v":862},{"$f":"SUMIFS('Age Distribution'!S:S,'Age Distribution'!$C:$C,\"=\"&'Summary Tables Age Distribution'!$C125)","v":644},{"$f":"SUMIFS('Age Distribution'!T:T,'Age Distribution'!$C:$C,\"=\"&'Summary Tables Age Distribution'!$C125)","v":605},{"$f":"SUMIFS('Age Distribution'!U:U,'Age Distribution'!$C:$C,\"=\"&'Summary Tables Age Distribution'!$C125)","v":410},{"$f":"SUMIFS('Age Distribution'!V:V,'Age Distribution'!$C:$C,\"=\"&'Summary Tables Age Distribution'!$C125)","v":513},{"$f":"SUMIFS('Age Distribution'!W:W,'Age Distribution'!$C:$C,\"=\"&'Summary Tables Age Distribution'!$C125)","v":336},{"$f":"SUMIFS('Age Distribution'!X:X,'Age Distribution'!$C:$C,\"=\"&'Summary Tables Age Distribution'!$C125)","v":258},{"$f":"SUMIFS('Age Distribution'!Y:Y,'Age Distribution'!$C:$C,\"=\"&'Summary Tables Age Distribution'!$C125)","v":856},{"$f":"SUMIFS('Age Distribution'!Z:Z,'Age Distribution'!$C:$C,\"=\"&'Summary Tables Age Distribution'!$C125)","v":291},{"$f":"SUMIFS('Age Distribution'!AA:AA,'Age Distribution'!$C:$C,\"=\"&'Summary Tables Age Distribution'!$C125)","v":89},{"$f":"SUMIFS('Age Distribution'!AB:AB,'Age Distribution'!$C:$C,\"=\"&'Summary Tables Age Distribution'!$C125)","v":7},{"$f":"SUMIFS('Age Distribution'!AC:AC,'Age Distribution'!$C:$C,\"=\"&'Summary Tables Age Distribution'!$C125)","v":26},{"$f":"SUMIFS('Age Distribution'!AD:AD,'Age Distribution'!$C:$C,\"=\"&'Summary Tables Age Distribution'!$C125)","v":1},{"$f":"SUMIFS('Age Distribution'!AE:AE,'Age Distribution'!$C:$C,\"=\"&'Summary Tables Age Distribution'!$C125)","v":10281},{"$f":"IFERROR(SUMPRODUCT(--('Age Distribution'!$C:$C='Summary Tables Age Distribution'!$C125),'Age Distribution'!$AE:$AE,'Age Distribution'!AF:AF)/SUMIFS('Age Distribution'!$AE:$AE,'Age Distribution'!$C:$C,\"=\"&'Summary Tables Age Distribution'!$C125),\"-\")","v":5.2707907791070889},{"$f":"IFERROR(SUMPRODUCT(--('Age Distribution'!$C:$C='Summary Tables Age Distribution'!$C125),'Age Distribution'!$AE:$AE,'Age Distribution'!AG:AG)/SUMIFS('Age Distribution'!$AE:$AE,'Age Distribution'!$C:$C,\"=\"&'Summary Tables Age Distribution'!$C125,'Age Distribution'!$AG:$AG,\"<>\"),\"-\")","v":154626.46414836592}]
[null,null,"WI","Wisconsin",null,{"$f":"SUMIFS('Age Distribution'!L:L,'Age Distribution'!$C:$C,\"=\"&'Summary Tables Age Distribution'!$C126)","v":133},{"$f":"SUMIFS('Age Distribution'!M:M,'Age Distribution'!$C:$C,\"=\"&'Summary Tables Age Distribution'!$C126)","v":197},{"$f":"SUMIFS('Age Distribution'!N:N,'Age Distribution'!$C:$C,\"=\"&'Summary Tables Age Distribution'!$C126)","v":153},{"$f":"SUMIFS('Age Distribution'!O:O,'Age Distribution'!$C:$C,\"=\"&'Summary Tables Age Distribution'!$C126)","v":192},{"$f":"SUMIFS('Age Distribution'!P:P,'Age Distribution'!$C:$C,\"=\"&'Summary Tables Age Distribution'!$C126)","v":160},{"$f":"SUMIFS('Age Distribution'!Q:Q,'Age Distribution'!$C:$C,\"=\"&'Summary Tables Age Distribution'!$C126)","v":199},{"$f":"SUMIFS('Age Distribution'!R:R,'Age Distribution'!$C:$C,\"=\"&'Summary Tables Age Distribution'!$C126)","v":169},{"$f":"SUMIFS('Age Distribution'!S:S,'Age Distribution'!$C:$C,\"=\"&'Summary Tables Age Distribution'!$C126)","v":236},{"$f":"SUMIFS('Age Distribution'!T:T,'Age Distribution'!$C:$C,\"=\"&'Summary Tables Age Distribution'!$C126)","v":283},{"$f":"SUMIFS('Age Distribution'!U:U,'Age Distribution'!$C:$C,\"=\"&'Summary Tables Age Distribution'!$C126)","v":112},{"$f":"SUMIFS('Age Distribution'!V:V,'Age Distribution'!$C:$C,\"=\"&'Summary Tables Age Distribution'!$C126)","v":76},{"$f":"SUMIFS('Age Distribution'!W:W,'Age Distribution'!$C:$C,\"=\"&'Summary Tables Age Distribution'!$C126)","v":66},{"$f":"SUMIFS('Age Distribution'!X:X,'Age Distribution'!$C:$C,\"=\"&'Summary Tables Age Distribution'!$C126)","v":70},{"$f":"SUMIFS('Age Distribution'!Y:Y,'Age Distribution'!$C:$C,\"=\"&'Summary Tables Age Distribution'!$C126)","v":219},{"$f":"SUMIFS('Age Distribution'!Z:Z,'Age Distribution'!$C:$C,\"=\"&'Summary Tables Age Distribution'!$C126)","v":107},{"$f":"SUMIFS('Age Distribution'!AA:AA,'Age Distribution'!$C:$C,\"=\"&'Summary Tables Age Distribution'!$C126)","v":21},{"$f":"SUMIFS('Age Distribution'!AB:AB,'Age Distribution'!$C:$C,\"=\"&'Summary Tables Age Distribution'!$C126)","v":2},{"$f":"SUMIFS('Age Distribution'!AC:AC,'Age Distribution'!$C:$C,\"=\"&'Summary Tables Age Distribution'!$C126)","v":4},{"$f":"SUMIFS('Age Distribution'!AD:AD,'Age Distribution'!$C:$C,\"=\"&'Summary Tables Age Distribution'!$C126)","v":7},{"$f":"SUMIFS('Age Distribution'!AE:AE,'Age Distribution'!$C:$C,\"=\"&'Summary Tables Age Distribution'!$C126)","v":2406},{"$f":"IFERROR(SUMPRODUCT(--('Age Distribution'!$C:$C='Summary Tables Age Distribution'!$C126),'Age Distribution'!$AE:$AE,'Age Distribution'!AF:AF)/SUMIFS('Age Distribution'!$AE:$AE,'Age Distribution'!$C:$C,\"=\"&'Summary Tables Age Distribution'!$C126),\"-\")","v":6.417290108063173},{"$f":"IFERROR(SUMPRODUCT(--('Age Distribution'!$C:$C='Summary Tables Age Distribution'!$C126),'Age Distribution'!$AE:$AE,'Age Distribution'!AG:AG)/SUMIFS('Age Distribution'!$AE:$AE,'Age Distribution'!$C:$C,\"=\"&'Summary Tables Age Distribution'!$C126,'Age Distribution'!$AG:$AG,\"<>\"),\"-\")","v":145666.55579742108}]
[null,null,"WV","West Virginia",null,{"$f":"SUMIFS('Age Distribution'!L:L,'Age Distribution'!$C:$C,\"=\"&'Summary Tables Age Distribution'!$C127)","v":28},{"$f":"SUMIFS('Age Distribution'!M:M,'Age Distribution'!$C:$C,\"=\"&'Summary Tables Age Distribution'!$C127)","v":104},{"$f":"SUMIFS('Age Distribution'!N:N,'Age Distribution'!$C:$C,\"=\"&'Summary Tables Age Distribution'!$C127)","v":68},{"$f":"SUMIFS('Age Distribution'!O:O,'Age Distribution'!$C:$C,\"=\"&'Summary Tables Age Distribution'!$C127)","v":113},{"$f":"SUMIFS('Age Distribution'!P:P,'Age Distribution'!$C:$C,\"=\"&'Summary Tables Age Distribution'!$C127)","v":48},{"$f":"SUMIFS('Age Distribution'!Q:Q,'Age Distribution'!$C:$C,\"=\"&'Summary Tables Age Distribution'!$C127)","v":35},{"$f":"SUMIFS('Age Distribution'!R:R,'Age Distribution'!$C:$C,\"=\"&'Summary Tables Age Distribution'!$C127)","v":29},{"$f":"SUMIFS('Age Distribution'!S:S,'Age Distribution'!$C:$C,\"=\"&'Summary Tables Age Distribution'!$C127)","v":47},{"$f":"SUMIFS('Age Distribution'!T:T,'Age Distribution'!$C:$C,\"=\"&'Summary Tables Age Distribution'!$C127)","v":39},{"$f":"SUMIFS('Age Distribution'!U:U,'Age Distribution'!$C:$C,\"=\"&'Summary Tables Age Distribution'!$C127)","v":52},{"$f":"SUMIFS('Age Distribution'!V:V,'Age Distribution'!$C:$C,\"=\"&'Summary Tables Age Distribution'!$C127)","v":18},{"$f":"SUMIFS('Age Distribution'!W:W,'Age Distribution'!$C:$C,\"=\"&'Summary Tables Age Distribution'!$C127)","v":10},{"$f":"SUMIFS('Age Distribution'!X:X,'Age Distribution'!$C:$C,\"=\"&'Summary Tables Age Distribution'!$C127)","v":3},{"$f":"SUMIFS('Age Distribution'!Y:Y,'Age Distribution'!$C:$C,\"=\"&'Summary Tables Age Distribution'!$C127)","v":13},{"$f":"SUMIFS('Age Distribution'!Z:Z,'Age Distribution'!$C:$C,\"=\"&'Summary Tables Age Distribution'!$C127)","v":10},{"$f":"SUMIFS('Age Distribution'!AA:AA,'Age Distribution'!$C:$C,\"=\"&'Summary Tables Age Distribution'!$C127)","v":1},{"$f":"SUMIFS('Age Distribution'!AB:AB,'Age Distribution'!$C:$C,\"=\"&'Summary Tables Age Distribution'!$C127)","v":5},{"$f":"SUMIFS('Age Distribution'!AC:AC,'Age Distribution'!$C:$C,\"=\"&'Summary Tables Age Distribution'!$C127)","v":74},{"$f":"SUMIFS('Age Distribution'!AD:AD,'Age Distribution'!$C:$C,\"=\"&'Summary Tables Age Distribution'!$C127)","v":0},{"$f":"SUMIFS('Age Distribution'!AE:AE,'Age Distribution'!$C:$C,\"=\"&'Summary Tables Age Distribution'!$C127)","v":697},{"$f":"IFERROR(SUMPRODUCT(--('Age Distribution'!$C:$C='Summary Tables Age Distribution'!$C127),'Age Distribution'!$AE:$AE,'Age Distribution'!AF:AF)/SUMIFS('Age Distribution'!$AE:$AE,'Age Distribution'!$C:$C,\"=\"&'Summary Tables Age Distribution'!$C127),\"-\")","v":8.197991391678622},{"$f":"IFERROR(SUMPRODUCT(--('Age Distribution'!$C:$C='Summary Tables Age Distribution'!$C127),'Age Distribution'!$AE:$AE,'Age Distribution'!AG:AG)/SUMIFS('Age Distribution'!$AE:$AE,'Age Distribution'!$C:$C,\"=\"&'Summary Tables Age Distribution'!$C127,'Age Distribution'!$AG:$AG,\"<>\"),\"-\")","v":119224.99842566926}]
[null,null,"WY","Wyoming",null,{"$f":"SUMIFS('Age Distribution'!L:L,'Age Distribution'!$C:$C,\"=\"&'Summary Tables Age Distribution'!$C128)","v":14},{"$f":"SUMIFS('Age Distribution'!M:M,'Age Distribution'!$C:$C,\"=\"&'Summary Tables Age Distribution'!$C128)","v":11},{"$f":"SUMIFS('Age Distribution'!N:N,'Age Distribution'!$C:$C,\"=\"&'Summary Tables Age Distribution'!$C128)","v":24},{"$f":"SUMIFS('Age Distribution'!O:O,'Age Distribution'!$C:$C,\"=\"&'Summary Tables Age Distribution'!$C128)","v":23},{"$f":"SUMIFS('Age Distribution'!P:P,'Age Distribution'!$C:$C,\"=\"&'Summary Tables Age Distribution'!$C128)","v":26},{"$f":"SUMIFS('Age Distribution'!Q:Q,'Age Distribution'!$C:$C,\"=\"&'Summary Tables Age Distribution'!$C128)","v":23},{"$f":"SUMIFS('Age Distribution'!R:R,'Age Distribution'!$C:$C,\"=\"&'Summary Tables Age Distribution'!$C128)","v":35},{"$f":"SUMIFS('Age Distribution'!S:S,'Age Distribution'!$C:$C,\"=\"&'Summary Tables Age Distribution'!$C128)","v":23},{"$f":"SUMIFS('Age Distribution'!T:T,'Age Distribution'!$C:$C,\"=\"&'Summary Tables Age Distribution'!$C128)","v":8},{"$f":"SUMIFS('Age Distribution'!U:U,'Age Distribution'!$C:$C,\"=\"&'Summary Tables Age Distribution'!$C128)","v":17},{"$f":"SUMIFS('Age Distribution'!V:V,'Age Distribution'!$C:$C,\"=\"&'Summary Tables Age Distribution'!$C128)","v":19},{"$f":"SUMIFS('Age Distribution'!W:W,'Age Distribution'!$C:$C,\"=\"&'Summary Tables Age Distribution'!$C128)","v":9},{"$f":"SUMIFS('Age Distribution'!X:X,'Age Distribution'!$C:$C,\"=\"&'Summary Tables Age Distribution'!$C128)","v":8},{"$f":"SUMIFS('Age Distribution'!Y:Y,'Age Distribution'!$C:$C,\"=\"&'Summary Tables Age Distribution'!$C128)","v":33},{"$f":"SUMIFS('Age Distribution'!Z:Z,'Age Distribution'!$C:$C,\"=\"&'Summary Tables Age Distribution'!$C128)","v":17},{"$f":"SUMIFS('Age Distribution'!AA:AA,'Age Distribution'!$C:$C,\"=\"&'Summary Tables Age Distribution'!$C128)","v":0},{"$f":"SUMIFS('Age Distribution'!AB:AB,'Age Distribution'!$C:$C,\"=\"&'Summary Tables Age Distribution'!$C128)","v":0},{"$f":"SUMIFS('Age Distribution'!AC:AC,'Age Distribution'!$C:$C,\"=\"&'Summary Tables Age Distribution'!$C128)","v":0},{"$f":"SUMIFS('Age Distribution'!AD:AD,'Age Distribution'!$C:$C,\"=\"&'Summary Tables Age Distribution'!$C128)","v":0},{"$f":"SUMIFS('Age Distribution'!AE:AE,'Age Distribution'!$C:$C,\"=\"&'Summary Tables Age Distribution'!$C128)","v":290},{"$f":"IFERROR(SUMPRODUCT(--('Age Distribution'!$C:$C='Summary Tables Age Distribution'!$C128),'Age Distribution'!$AE:$AE,'Age Distribution'!AF:AF)/SUMIFS('Age Distribution'!$AE:$AE,'Age Distribution'!$C:$C,\"=\"&'Summary Tables Age Distribution'!$C128),\"-\")","v":7.113793103448276},{"$f":"IFERROR(SUMPRODUCT(--('Age Distribution'!$C:$C='Summary Tables Age Distribution'!$C128),'Age Distribution'!$AE:$AE,'Age Distribution'!AG:AG)/SUMIFS('Age Distribution'!$AE:$AE,'Age Distribution'!$C:$C,\"=\"&'Summary Tables Age Distribution'!$C128,'Age Distribution'!$AG:$AG,\"<>\"),\"-\")","v":14589.9375}]

{"sheet":"Summary Tables Vehicle Type","index":5,"n_rows":152,"n_cols":31,"rows_kept":152,"cut":false,"hidden":false,"merged":[]}
["To bring up the accessible control panel, press ctrl + s. Some screen reading functionality will not work while the sheet is protected. To unprotect the sheet press alt h o p and enter the password ntd.",null,null,null,null,"National Totals"]
[null,null,null,null,null,"Active Vehicles By Vehicle Type"]
[null,null,null,null,null,"Bus","Articulated Bus","Over-the-road Bus","Double Decker Bus","School Bus","Van","Cutaway","Automobile","Minivan","Sports Utility Vehicle","Trolleybus","Heavy Rail Passenger Car","Light Rail Vehicle","Commuter Rail Passenger Coach","Commuter Rail Self-Propelled Passenger Car","Locomotive","Automated Guideway Vehicle","Vintage/ Historic Trolley","Streetcar","Aerial Tramway","Monorail","Cable Car","Inclined Plane","Ferryboat","Other","Total"]
[null,null,null,null,null,{"$f":"SUM('Vehicle Type Count by Agency'!J:J)","v":55929},{"$f":"SUM('Vehicle Type Count by Agency'!L:L)","v":5670},{"$f":"SUM('Vehicle Type Count by Agency'!N:N)","v":5932},{"$f":"SUM('Vehicle Type Count by Agency'!P:P)","v":229},{"$f":"SUM('Vehicle Type Count by Agency'!R:R)","v":99},{"$f":"SUM('Vehicle Type Count by Agency'!T:T)","v":23707},{"$f":"SUM('Vehicle Type Count by Agency'!V:V)","v":38872},{"$f":"SUM('Vehicle Type Count by Agency'!X:X)","v":7547},{"$f":"SUM('Vehicle Type Count by Agency'!Z:Z)","v":11167},{"$f":"SUM('Vehicle Type Count by Agency'!AB:AB)","v":1655},{"$f":"SUM('Vehicle Type Count by Agency'!AD:AD)","v":596},{"$f":"SUM('Vehicle Type Count by Agency'!AF:AF)","v":11892},{"$f":"SUM('Vehicle Type Count by Agency'!AH:AH)","v":2328},{"$f":"SUM('Vehicle Type Count by Agency'!AJ:AJ)","v":3666},{"$f":"SUM('Vehicle Type Count by Agency'!AL:AL)","v":2756},{"$f":"SUM('Vehicle Type Count by Agency'!AN:AN)","v":840},{"$f":"SUM('Vehicle Type Count by Agency'!AP:AP)","v":116},{"$f":"SUM('Vehicle Type Count by Agency'!AR:AR)","v":73},{"$f":"SUM('Vehicle Type Count by Agency'!AT:AT)","v":291},{"$f":"SUM('Vehicle Type Count by Agency'!AV:AV)","v":70},{"$f":"SUM('Vehicle Type Count by Agency'!AX:AX)","v":8},{"$f":"SUM('Vehicle Type Count by Agency'!AZ:AZ)","v":36},{"$f":"SUM('Vehicle Type Count by Agency'!BB:BB)","v":6},{"$f":"SUM('Vehicle Type Count by Agency'!BD:BD)","v":196},{"$f":"SUM('Vehicle Type Count by Agency'!BF:BF)","v":37},{"$f":"SUM('Vehicle Type Count by Agency'!BH:BH)","v":173718}]
[null,null,null,null,{"$f":"IFERROR($F$2&\":\"&CHAR(10)&F5&CHAR(10)&G5&CHAR(10)&H5&CHAR(10)&I5&CHAR(10)&J5&CHAR(10)&K5&CHAR(10)&L5&CHAR(10)&M5&CHAR(10)&N5&CHAR(10)&O5&CHAR(10)&P5&CHAR(10)&Q5&CHAR(10)&R5,\"\")","v":"Active Vehicles By Vehicle Type:\nBus: 34%\nArticulated Bus: 3%\nOver-the-road Bus: 4%\nDouble Decker Bus: 0%\nSchool Bus: 0%\nVan: 14%\nCutaway: 23%\nAutomobile: 5%\nMinivan: 7%\nSports Utility Vehicle: 1%\nTrolleybus: 0%\nHeavy Rail Passenger Car: 7%\nLight Rail Vehicle: 1%"},{"$f":"F3&\": \"&FIXED(100*F4/SUM($F$4:$R$4),0,0)&\"%\"","v":"Bus: 34%"},"Articulated Bus: 3%","Over-the-road Bus: 4%","Double Decker Bus: 0%","School Bus: 0%","Van: 14%","Cutaway: 23%","Automobile: 5%","Minivan: 7%","Sports Utility Vehicle: 1%","Trolleybus: 0%","Heavy Rail Passenger Car: 7%","Light Rail Vehicle: 1%"]
["By Urbanized Area Size"]
[null,null,null,null,null,"Active Vehicles By Vehicle Type"]
[null,null,null,"enter bins below","click to graph","Bus","Articulated Bus","Over-the-road Bus","Double Decker Bus","School Bus","Van","Cutaway","Automobile","Minivan","Sports Utility Vehicle","Trolleybus","Heavy Rail Passenger Car","Light Rail Vehicle","Commuter Rail Passenger Coach","Commuter Rail Self-Propelled Passenger Car","Locomotive","Automated Guideway Vehicle","Vintage/ Historic Trolley","Streetcar","Aerial Tramway","Monorail","Cable Car","Inclined Plane","Ferryboat","Other","Total"]
["Under",{"$f":"D9","v":200000},null,200000,{"$f":"IFERROR(IF(A9=\"Between\",A9&\" \"&FIXED(B9,0,0)&\" \"&C9&\" \"&FIXED(D9,0,0),A9&\" \"&FIXED(B9,0,0)),\"invalid bin\")","v":"Under 200,000"},{"$f":"SUMIFS('Vehicle Type Count by Agency'!J:J,'Vehicle Type Count by Agency'!$H:$H,\"<\"&$D9)","v":8534},{"$f":"SUMIFS('Vehicle Type Count by Agency'!L:L,'Vehicle Type Count by Agency'!$H:$H,\"<\"&$D9)","v":62},{"$f":"SUMIFS('Vehicle Type Count by Agency'!N:N,'Vehicle Type Count by Agency'!$H:$H,\"<\"&$D9)","v":258},{"$f":"SUMIFS('Vehicle Type Count by Agency'!P:P,'Vehicle Type Count by Agency'!$H:$H,\"<\"&$D9)","v":10},{"$f":"SUMIFS('Vehicle Type Count by Agency'!R:R,'Vehicle Type Count by Agency'!$H:$H,\"<\"&$D9)","v":93},{"$f":"SUMIFS('Vehicle Type Count by Agency'!T:T,'Vehicle Type Count by Agency'!$H:$H,\"<\"&$D9)","v":6473},{"$f":"SUMIFS('Vehicle Type Count by Agency'!V:V,'Vehicle Type Count by Agency'!$H:$H,\"<\"&$D9)","v":19192},{"$f":"SUMIFS('Vehicle Type Count by Agency'!X:X,'Vehicle Type Count by Agency'!$H:$H,\"<\"&$D9)","v":808},{"$f":"SUMIFS('Vehicle Type Count by Agency'!Z:Z,'Vehicle Type Count by Agency'!$H:$H,\"<\"&$D9)","v":6105},{"$f":"SUMIFS('Vehicle Type Count by Agency'!AB:AB,'Vehicle Type Count by Agency'!$H:$H,\"<\"&$D9)","v":367},{"$f":"SUMIFS('Vehicle Type Count by Agency'!AD:AD,'Vehicle Type Count by Agency'!$H:$H,\"<\"&$D9)","v":0},{"$f":"SUMIFS('Vehicle Type Count by Agency'!AF:AF,'Vehicle Type Count by Agency'!$H:$H,\"<\"&$D9)","v":0},{"$f":"SUMIFS('Vehicle Type Count by Agency'!AH:AH,'Vehicle Type Count by Agency'!$H:$H,\"<\"&$D9)","v":0},{"$f":"SUMIFS('Vehicle Type Count by Agency'!AJ:AJ,'Vehicle Type Count by Agency'!$H:$H,\"<\"&$D9)","v":0},{"$f":"SUMIFS('Vehicle Type Count by Agency'!AL:AL,'Vehicle Type Count by Agency'!$H:$H,\"<\"&$D9)","v":0},{"$f":"SUMIFS('Vehicle Type Count by Agency'!AN:AN,'Vehicle Type Count by Agency'!$H:$H,\"<\"&$D9)","v":0},{"$f":"SUMIFS('Vehicle Type Count by Agency'!AP:AP,'Vehicle Type Count by Agency'!$H:$H,\"<\"&$D9)","v":69},{"$f":"SUMIFS('Vehicle Type Count by Agency'!AR:AR,'Vehicle Type Count by Agency'!$H:$H,\"<\"&$D9)","v":7},{"$f":"SUMIFS('Vehicle Type Count by Agency'!AT:AT,'Vehicle Type Count by Agency'!$H:$H,\"<\"&$D9)","v":0},{"$f":"SUMIFS('Vehicle Type Count by Agency'!AV:AV,'Vehicle Type Count by Agency'!$H:$H,\"<\"&$D9)","v":68},{"$f":"SUMIFS('Vehicle Type Count by Agency'!AX:AX,'Vehicle Type Count by Agency'!$H:$H,\"<\"&$D9)","v":0},{"$f":"SUMIFS('Vehicle Type Count by Agency'!AZ:AZ,'Vehicle Type Count by Agency'!$H:$H,\"<\"&$D9)","v":0},{"$f":"SUMIFS('Vehicle Type Count by Agency'!BB:BB,'Vehicle Type Count by Agency'!$H:$H,\"<\"&$D9)","v":2},{"$f":"SUMIFS('Vehicle Type Count by Agency'!BD:BD,'Vehicle Type Count by Agency'!$H:$H,\"<\"&$D9)","v":24},{"$f":"SUMIFS('Vehicle Type Count by Agency'!BF:BF,'Vehicle Type Count by Agency'!$H:$H,\"<\"&$D9)","v":33},{"$f":"SUMIFS('Vehicle Type Count by Agency'!BH:BH,'Vehicle Type Count by Agency'!$H:$H,\"<\"&$D9)","v":42105}]
[{"$f":"IF(D10<>\"\",\"Between\",\"Over\")","v":"Between"},{"$f":"D9","v":200000},{"$f":"IF(D10<>\"\",\"and\",\"\")","v":"and"},1000000,"Between 200,000 and 1,000,000",{"$f":"IF($A10=\"Between\",SUMIFS('Vehicle Type Count by Agency'!J:J,'Vehicle Type Count by Agency'!$H:$H,\">=\"&$B10,'Vehicle Type Count by Agency'!$H:$H,\"<\"&$D10),SUMIFS('Vehicle Type Count by Agency'!J:J,'Vehicle Type Count by Agency'!$H:$H,\">=\"&$B10))","v":10600},{"$f":"IF($A10=\"Between\",SUMIFS('Vehicle Type Count by Agency'!L:L,'Vehicle Type Count by Agency'!$H:$H,\">=\"&$B10,'Vehicle Type Count by Agency'!$H:$H,\"<\"&$D10),SUMIFS('Vehicle Type Count by Agency'!L:L,'Vehicle Type Count by Agency'!$H:$H,\">=\"&$B10))","v":420},{"$f":"IF($A10=\"Between\",SUMIFS('Vehicle Type Count by Agency'!N:N,'Vehicle Type Count by Agency'!$H:$H,\">=\"&$B10,'Vehicle Type Count by Agency'!$H:$H,\"<\"&$D10),SUMIFS('Vehicle Type Count by Agency'!N:N,'Vehicle Type Count by Agency'!$H:$H,\">=\"&$B10))","v":330},{"$f":"IF($A10=\"Between\",SUMIFS('Vehicle Type Count by Agency'!P:P,'Vehicle Type Count by Agency'!$H:$H,\">=\"&$B10,'Vehicle Type Count by Agency'!$H:$H,\"<\"&$D10),SUMIFS('Vehicle Type Count by Agency'!P:P,'Vehicle Type Count by Agency'!$H:$H,\">=\"&$B10))","v":0},{"$f":"IF($A10=\"Between\",SUMIFS('Vehicle Type Count by Agency'!R:R,'Vehicle Type Count by Agency'!$H:$H,\">=\"&$B10,'Vehicle Type Count by Agency'!$H:$H,\"<\"&$D10),SUMIFS('Vehicle Type Count by Agency'!R:R,'Vehicle Type Count by Agency'!$H:$H,\">=\"&$B10))","v":5},{"$f":"IF($A10=\"Between\",SUMIFS('Vehicle Type Count by Agency'!T:T,'Vehicle Type Count by Agency'!$H:$H,\">=\"&$B10,'Vehicle Type Count by Agency'!$H:$H,\"<\"&$D10),SUMIFS('Vehicle Type Count by Agency'!T:T,'Vehicle Type Count by Agency'!$H:$H,\">=\"&$B10))","v":3693},{"$f":"IF($A10=\"Between\",SUMIFS('Vehicle Type Count by Agency'!V:V,'Vehicle Type Count by Agency'!$H:$H,\">=\"&$B10,'Vehicle Type Count by Agency'!$H:$H,\"<\"&$D10),SUMIFS('Vehicle Type Count by Agency'!V:V,'Vehicle Type Count by Agency'!$H:$H,\">=\"&$B10))","v":6517},{"$f":"IF($A10=\"Between\",SUMIFS('Vehicle Type Count by Agency'!X:X,'Vehicle Type Count by Agency'!$H:$H,\">=\"&$B10,'Vehicle Type Count by Agency'!$H:$H,\"<\"&$D10),SUMIFS('Vehicle Type Count by Agency'!X:X,'Vehicle Type Count by Agency'!$H:$H,\">=\"&$B10))","v":1024},{"$f":"IF($A10=\"Between\",SUMIFS('Vehicle Type Count by Agency'!Z:Z,'Vehicle Type Count by Agency'!$H:$H,\">=\"&$B10,'Vehicle Type Count by Agency'!$H:$H,\"<\"&$D10),SUMIFS('Vehicle Type Count by Agency'!Z:Z,'Vehicle Type Count by Agency'!$H:$H,\">=\"&$B10))","v":634},{"$f":"IF($A10=\"Between\",SUMIFS('Vehicle Type Count by Agency'!AB:AB,'Vehicle Type Count by Agency'!$H:$H,\">=\"&$B10,'Vehicle Type Count by Agency'!$H:$H,\"<\"&$D10),SUMIFS('Vehicle Type Count by Agency'!AB:AB,'Vehicle Type Count by Agency'!$H:$H,\">=\"&$B10))","v":95},{"$f":"IF($A10=\"Between\",SUMIFS('Vehicle Type Count by Agency'!AD:AD,'Vehicle Type Count by Agency'!$H:$H,\">=\"&$B10,'Vehicle Type Count by Agency'!$H:$H,\"<\"&$D10),SUMIFS('Vehicle Type Count by Agency'!AD:AD,'Vehicle Type Count by Agency'!$H:$H,\">=\"&$B10))","v":37},{"$f":"IF($A10=\"Between\",SUMIFS('Vehicle Type Count by Agency'!AF:AF,'Vehicle Type Count by Agency'!$H:$H,\">=\"&$B10,'Vehicle Type Count by Agency'!$H:$H,\"<\"&$D10),SUMIFS('Vehicle Type Count by Agency'!AF:AF,'Vehicle Type Count by Agency'!$H:$H,\">=\"&$B10))","v":0},{"$f":"IF($A10=\"Between\",SUMIFS('Vehicle Type Count by Agency'!AH:AH,'Vehicle Type Count by Agency'!$H:$H,\">=\"&$B10,'Vehicle Type Count by Agency'!$H:$H,\"<\"&$D10),SUMIFS('Vehicle Type Count by Agency'!AH:AH,'Vehicle Type Count by Agency'!$H:$H,\">=\"&$B10))","v":27},{"$f":"IF($A10=\"Between\",SUMIFS('Vehicle Type Count by Agency'!AJ:AJ,'Vehicle Type Count by Agency'!$H:$H,\">=\"&$B10,'Vehicle Type Count by Agency'!$H:$H,\"<\"&$D10),SUMIFS('Vehicle Type Count by Agency'!AJ:AJ,'Vehicle Type Count by Agency'!$H:$H,\">=\"&$B10))","v":149},{"$f":"IF($A10=\"Between\",SUMIFS('Vehicle Type Count by Agency'!AL:AL,'Vehicle Type Count by Agency'!$H:$H,\">=\"&$B10,'Vehicle Type Count by Agency'!$H:$H,\"<\"&$D10),SUMIFS('Vehicle Type Count by Agency'!AL:AL,'Vehicle Type Count by Agency'!$H:$H,\">=\"&$B10))","v":25},{"$f":"IF($A10=\"Between\",SUMIFS('Vehicle Type Count by Agency'!AN:AN,'Vehicle Type Count by Agency'!$H:$H,\">=\"&$B10,'Vehicle Type Count by Agency'!$H:$H,\"<\"&$D10),SUMIFS('Vehicle Type Count by Agency'!AN:AN,'Vehicle Type Count by Agency'!$H:$H,\">=\"&$B10))","v":93},{"$f":"IF($A10=\"Between\",SUMIFS('Vehicle Type Count by Agency'!AP:AP,'Vehicle Type Count by Agency'!$H:$H,\">=\"&$B10,'Vehicle Type Count by Agency'!$H:$H,\"<\"&$D10),SUMIFS('Vehicle Type Count by Agency'!AP:AP,'Vehicle Type Count by Agency'!$H:$H,\">=\"&$B10))","v":0},{"$f":"IF($A10=\"Between\",SUMIFS('Vehicle Type Count by Agency'!AR:AR,'Vehicle Type Count by Agency'!$H:$H,\">=\"&$B10,'Vehicle Type Count by Agency'!$H:$H,\"<\"&$D10),SUMIFS('Vehicle Type Count by Agency'!AR:AR,'Vehicle Type Count by Agency'!$H:$H,\">=\"&$B10))","v":40},{"$f":"IF($A10=\"Between\",SUMIFS('Vehicle Type Count by Agency'!AT:AT,'Vehicle Type Count by Agency'!$H:$H,\">=\"&$B10,'Vehicle Type Count by Agency'!$H:$H,\"<\"&$D10),SUMIFS('Vehicle Type Count by Agency'!AT:AT,'Vehicle Type Count by Agency'!$H:$H,\">=\"&$B10))","v":39},{"$f":"IF($A10=\"Between\",SUMIFS('Vehicle Type Count by Agency'!AV:AV,'Vehicle Type Count by Agency'!$H:$H,\">=\"&$B10,'Vehicle Type Count by Agency'!$H:$H,\"<\"&$D10),SUMIFS('Vehicle Type Count by Agency'!AV:AV,'Vehicle Type Count by Agency'!$H:$H,\">=\"&$B10))","v":0},{"$f":"IF($A10=\"Between\",SUMIFS('Vehicle Type Count by Agency'!AX:AX,'Vehicle Type Count by Agency'!$H:$H,\">=\"&$B10,'Vehicle Type Count by Agency'!$H:$H,\"<\"&$D10),SUMIFS('Vehicle Type Count by Agency'!AX:AX,'Vehicle Type Count by Agency'!$H:$H,\">=\"&$B10))","v":0},{"$f":"IF($A10=\"Between\",SUMIFS('Vehicle Type Count by Agency'!AZ:AZ,'Vehicle Type Count by Agency'!$H:$H,\">=\"&$B10,'Vehicle Type Count by Agency'!$H:$H,\"<\"&$D10),SUMIFS('Vehicle Type Count by Agency'!AZ:AZ,'Vehicle Type Count by Agency'!$H:$H,\">=\"&$B10))","v":0},{"$f":"IF($A10=\"Between\",SUMIFS('Vehicle Type Count by Agency'!BB:BB,'Vehicle Type Count by Agency'!$H:$H,\">=\"&$B10,'Vehicle Type Count by Agency'!$H:$H,\"<\"&$D10),SUMIFS('Vehicle Type Count by Agency'!BB:BB,'Vehicle Type Count by Agency'!$H:$H,\">=\"&$B10))","v":2},{"$f":"IF($A10=\"Between\",SUMIFS('Vehicle Type Count by Agency'!BD:BD,'Vehicle Type Count by Agency'!$H:$H,\">=\"&$B10,'Vehicle Type Count by Agency'!$H:$H,\"<\"&$D10),SUMIFS('Vehicle Type Count by Agency'!BD:BD,'Vehicle Type Count by Agency'!$H:$H,\">=\"&$B10))","v":31},{"$f":"IF($A10=\"Between\",SUMIFS('Vehicle Type Count by Agency'!BF:BF,'Vehicle Type Count by Agency'!$H:$H,\">=\"&$B10,'Vehicle Type Count by Agency'!$H:$H,\"<\"&$D10),SUMIFS('Vehicle Type Count by Agency'!BF:BF,'Vehicle Type Count by Agency'!$H:$H,\">=\"&$B10))","v":2},{"$f":"IF($A10=\"Between\",SUMIFS('Vehicle Type Count by Agency'!BH:BH,'Vehicle Type Count by Agency'!$H:$H,\">=\"&$B10,'Vehicle Type Count by Agency'!$H:$H,\"<\"&$D10),SUMIFS('Vehicle Type Count by Agency'!BH:BH,'Vehicle Type Count by Agency'!$H:$H,\">=\"&$B10))","v":23763}]
[{"$f":"IF(OR(A10=\"Over\",A10=\"\"),\"\",IF(D11=\"\",\"Over\",\"Between\"))","v":"Over"},{"$f":"IF(D10=\"\",\"\",D10)","v":1000000},{"$f":"IF(D11<>\"\",\"and\",\"\")","v":""},null,"Over 1,000,000",{"$f":"IF($A11=\"\",\"\",IF($A11=\"Between\",SUMIFS('Vehicle Type Count by Agency'!J:J,'Vehicle Type Count by Agency'!$H:$H,\">=\"&$B11,'Vehicle Type Count by Agency'!$H:$H,\"<\"&$D11),SUMIFS('Vehicle Type Count by Agency'!J:J,'Vehicle Type Count by Agency'!$H:$H,\">=\"&$B11)))","v":36795},{"$f":"IF($A11=\"\",\"\",IF($A11=\"Between\",SUMIFS('Vehicle Type Count by Agency'!L:L,'Vehicle Type Count by Agency'!$H:$H,\">=\"&$B11,'Vehicle Type Count by Agency'!$H:$H,\"<\"&$D11),SUMIFS('Vehicle Type Count by Agency'!L:L,'Vehicle Type Count by Agency'!$H:$H,\">=\"&$B11)))","v":5188},{"$f":"IF($A11=\"\",\"\",IF($A11=\"Between\",SUMIFS('Vehicle Type Count by Agency'!N:N,'Vehicle Type Count by Agency'!$H:$H,\">=\"&$B11,'Vehicle Type Count by Agency'!$H:$H,\"<\"&$D11),SUMIFS('Vehicle Type Count by Agency'!N:N,'Vehicle Type Count by Agency'!$H:$H,\">=\"&$B11)))","v":5344},{"$f":"IF($A11=\"\",\"\",IF($A11=\"Between\",SUMIFS('Vehicle Type Count by Agency'!P:P,'Vehicle Type Count by Agency'!$H:$H,\">=\"&$B11,'Vehicle Type Count by Agency'!$H:$H,\"<\"&$D11),SUMIFS('Vehicle Type Count by Agency'!P:P,'Vehicle Type Count by Agency'!$H:$H,\">=\"&$B11)))","v":219},{"$f":"IF($A11=\"\",\"\",IF($A11=\"Between\",SUMIFS('Vehicle Type Count by Agency'!R:R,'Vehicle Type Count by Agency'!$H:$H,\">=\"&$B11,'Vehicle Type Count by Agency'!$H:$H,\"<\"&$D11),SUMIFS('Vehicle Type Count by Agency'!R:R,'Vehicle Type Count by Agency'!$H:$H,\">=\"&$B11)))","v":1},{"$f":"IF($A11=\"\",\"\",IF($A11=\"Between\",SUMIFS('Vehicle Type Count by Agency'!T:T,'Vehicle Type Count by Agency'!$H:$H,\">=\"&$B11,'Vehicle Type Count by Agency'!$H:$H,\"<\"&$D11),SUMIFS('Vehicle Type Count by Agency'!T:T,'Vehicle Type Count by Agency'!$H:$H,\">=\"&$B11)))","v":13541},{"$f":"IF($A11=\"\",\"\",IF($A11=\"Between\",SUMIFS('Vehicle Type Count by Agency'!V:V,'Vehicle Type Count by Agency'!$H:$H,\">=\"&$B11,'Vehicle Type Count by Agency'!$H:$H,\"<\"&$D11),SUMIFS('Vehicle Type Count by Agency'!V:V,'Vehicle Type Count by Agency'!$H:$H,\">=\"&$B11)))","v":13163},{"$f":"IF($A11=\"\",\"\",IF($A11=\"Between\",SUMIFS('Vehicle Type Count by Agency'!X:X,'Vehicle Type Count by Agency'!$H:$H,\">=\"&$B11,'Vehicle Type Count by Agency'!$H:$H,\"<\"&$D11),SUMIFS('Vehicle Type Count by Agency'!X:X,'Vehicle Type Count by Agency'!$H:$H,\">=\"&$B11)))","v":5715},{"$f":"IF($A11=\"\",\"\",IF($A11=\"Between\",SUMIFS('Vehicle Type Count by Agency'!Z:Z,'Vehicle Type Count by Agency'!$H:$H,\">=\"&$B11,'Vehicle Type Count by Agency'!$H:$H,\"<\"&$D11),SUMIFS('Vehicle Type Count by Agency'!Z:Z,'Vehicle Type Count by Agency'!$H:$H,\">=\"&$B11)))","v":4428},{"$f":"IF($A11=\"\",\"\",IF($A11=\"Between\",SUMIFS('Vehicle Type Count by Agency'!AB:AB,'Vehicle Type Count by Agency'!$H:$H,\">=\"&$B11,'Vehicle Type Count by Agency'!$H:$H,\"<\"&$D11),SUMIFS('Vehicle Type Count by Agency'!AB:AB,'Vehicle Type Count by Agency'!$H:$H,\">=\"&$B11)))","v":1193},{"$f":"IF($A11=\"\",\"\",IF($A11=\"Between\",SUMIFS('Vehicle Type Count by Agency'!AD:AD,'Vehicle Type Count by Agency'!$H:$H,\">=\"&$B11,'Vehicle Type Count by Agency'!$H:$H,\"<\"&$D11),SUMIFS('Vehicle Type Count by Agency'!AD:AD,'Vehicle Type Count by Agency'!$H:$H,\">=\"&$B11)))","v":559},{"$f":"IF($A11=\"\",\"\",IF($A11=\"Between\",SUMIFS('Vehicle Type Count by Agency'!AF:AF,'Vehicle Type Count by Agency'!$H:$H,\">=\"&$B11,'Vehicle Type Count by Agency'!$H:$H,\"<\"&$D11),SUMIFS('Vehicle Type Count by Agency'!AF:AF,'Vehicle Type Count by Agency'!$H:$H,\">=\"&$B11)))","v":11892},{"$f":"IF($A11=\"\",\"\",IF($A11=\"Between\",SUMIFS('Vehicle Type Count by Agency'!AH:AH,'Vehicle Type Count by Agency'!$H:$H,\">=\"&$B11,'Vehicle Type Count by Agency'!$H:$H,\"<\"&$D11),SUMIFS('Vehicle Type Count by Agency'!AH:AH,'Vehicle Type Count by Agency'!$H:$H,\">=\"&$B11)))","v":2301},{"$f":"IF($A11=\"\",\"\",IF($A11=\"Between\",SUMIFS('Vehicle Type Count by Agency'!AJ:AJ,'Vehicle Type Count by Agency'!$H:$H,\">=\"&$B11,'Vehicle Type Count by Agency'!$H:$H,\"<\"&$D11),SUMIFS('Vehicle Type Count by Agency'!AJ:AJ,'Vehicle Type Count by Agency'!$H:$H,\">=\"&$B11)))","v":3517},{"$f":"IF($A11=\"\",\"\",IF($A11=\"Between\",SUMIFS('Vehicle Type Count by Agency'!AL:AL,'Vehicle Type Count by Agency'!$H:$H,\">=\"&$B11,'Vehicle Type Count by Agency'!$H:$H,\"<\"&$D11),SUMIFS('Vehicle Type Count by Agency'!AL:AL,'Vehicle Type Count by Agency'!$H:$H,\">=\"&$B11)))","v":2731},{"$f":"IF($A11=\"\",\"\",IF($A11=\"Between\",SUMIFS('Vehicle Type Count by Agency'!AN:AN,'Vehicle Type Count by Agency'!$H:$H,\">=\"&$B11,'Vehicle Type Count by Agency'!$H:$H,\"<\"&$D11),SUMIFS('Vehicle Type Count by Agency'!AN:AN,'Vehicle Type Count by Agency'!$H:$H,\">=\"&$B11)))","v":747},{"$f":"IF($A11=\"\",\"\",IF($A11=\"Between\",SUMIFS('Vehicle Type Count by Agency'!AP:AP,'Vehicle Type Count by Agency'!$H:$H,\">=\"&$B11,'Vehicle Type Count by Agency'!$H:$H,\"<\"&$D11),SUMIFS('Vehicle Type Count by Agency'!AP:AP,'Vehicle Type Count by Agency'!$H:$H,\">=\"&$B11)))","v":47},{"$f":"IF($A11=\"\",\"\",IF($A11=\"Between\",SUMIFS('Vehicle Type Count by Agency'!AR:AR,'Vehicle Type Count by Agency'!$H:$H,\">=\"&$B11,'Vehicle Type Count by Agency'!$H:$H,\"<\"&$D11),SUMIFS('Vehicle Type Count by Agency'!AR:AR,'Vehicle Type Count by Agency'!$H:$H,\">=\"&$B11)))","v":26},{"$f":"IF($A11=\"\",\"\",IF($A11=\"Between\",SUMIFS('Vehicle Type Count by Agency'!AT:AT,'Vehicle Type Count by Agency'!$H:$H,\">=\"&$B11,'Vehicle Type Count by Agency'!$H:$H,\"<\"&$D11),SUMIFS('Vehicle Type Count by Agency'!AT:AT,'Vehicle Type Count by Agency'!$H:$H,\">=\"&$B11)))","v":252},{"$f":"IF($A11=\"\",\"\",IF($A11=\"Between\",SUMIFS('Vehicle Type Count by Agency'!AV:AV,'Vehicle Type Count by Agency'!$H:$H,\">=\"&$B11,'Vehicle Type Count by Agency'!$H:$H,\"<\"&$D11),SUMIFS('Vehicle Type Count by Agency'!AV:AV,'Vehicle Type Count by Agency'!$H:$H,\">=\"&$B11)))","v":2},{"$f":"IF($A11=\"\",\"\",IF($A11=\"Between\",SUMIFS('Vehicle Type Count by Agency'!AX:AX,'Vehicle Type Count by Agency'!$H:$H,\">=\"&$B11,'Vehicle Type Count by Agency'!$H:$H,\"<\"&$D11),SUMIFS('Vehicle Type Count by Agency'!AX:AX,'Vehicle Type Count by Agency'!$H:$H,\">=\"&$B11)))","v":8},{"$f":"IF($A11=\"\",\"\",IF($A11=\"Between\",SUMIFS('Vehicle Type Count by Agency'!AZ:AZ,'Vehicle Type Count by Agency'!$H:$H,\">=\"&$B11,'Vehicle Type Count by Agency'!$H:$H,\"<\"&$D11),SUMIFS('Vehicle Type Count by Agency'!AZ:AZ,'Vehicle Type Count by Agency'!$H:$H,\">=\"&$B11)))","v":36},{"$f":"IF($A11=\"\",\"\",IF($A11=\"Between\",SUMIFS('Vehicle Type Count by Agency'!BB:BB,'Vehicle Type Count by Agency'!$H:$H,\">=\"&$B11,'Vehicle Type Count by Agency'!$H:$H,\"<\"&$D11),SUMIFS('Vehicle Type Count by Agency'!BB:BB,'Vehicle Type Count by Agency'!$H:$H,\">=\"&$B11)))","v":2},{"$f":"IF($A11=\"\",\"\",IF($A11=\"Between\",SUMIFS('Vehicle Type Count by Agency'!BD:BD,'Vehicle Type Count by Agency'!$H:$H,\">=\"&$B11,'Vehicle Type Count by Agency'!$H:$H,\"<\"&$D11),SUMIFS('Vehicle Type Count by Agency'!BD:BD,'Vehicle Type Count by Agency'!$H:$H,\">=\"&$B11)))","v":141},{"$f":"IF($A11=\"\",\"\",IF($A11=\"Between\",SUMIFS('Vehicle Type Count by Agency'!BF:BF,'Vehicle Type Count by Agency'!$H:$H,\">=\"&$B11,'Vehicle Type Count by Agency'!$H:$H,\"<\"&$D11),SUMIFS('Vehicle Type Count by Agency'!BF:BF,'Vehicle Type Count by Agency'!$H:$H,\">=\"&$B11)))","v":2},{"$f":"IF($A11=\"\",\"\",IF($A11=\"Between\",SUMIFS('Vehicle Type Count by Agency'!BH:BH,'Vehicle Type Count by Agency'!$H:$H,\">=\"&$B11,'Vehicle Type Count by Agency'!$H:$H,\"<\"&$D11),SUMIFS('Vehicle Type Count by Agency'!BH:BH,'Vehicle Type Count by Agency'!$H:$H,\">=\"&$B11)))","v":107850}]
["","",{"$f":"IF(D12<>\"\",\"and\",\"\")","v":""},null,"invalid bin",{"$f":"IF($A12=\"\",\"\",IF($A12=\"Between\",SUMIFS('Vehicle Type Count by Agency'!J:J,'Vehicle Type Count by Agency'!$H:$H,\">=\"&$B12,'Vehicle Type Count by Agency'!$H:$H,\"<\"&$D12),SUMIFS('Vehicle Type Count by Agency'!J:J,'Vehicle Type Count by Agency'!$H:$H,\">=\"&$B12)))","v":""},{"$f":"IF($A12=\"\",\"\",IF($A12=\"Between\",SUMIFS('Vehicle Type Count by Agency'!L:L,'Vehicle Type Count by Agency'!$H:$H,\">=\"&$B12,'Vehicle Type Count by Agency'!$H:$H,\"<\"&$D12),SUMIFS('Vehicle Type Count by Agency'!L:L,'Vehicle Type Count by Agency'!$H:$H,\">=\"&$B12)))","v":""},{"$f":"IF($A12=\"\",\"\",IF($A12=\"Between\",SUMIFS('Vehicle Type Count by Agency'!N:N,'Vehicle Type Count by Agency'!$H:$H,\">=\"&$B12,'Vehicle Type Count by Agency'!$H:$H,\"<\"&$D12),SUMIFS('Vehicle Type Count by Agency'!N:N,'Vehicle Type Count by Agency'!$H:$H,\">=\"&$B12)))","v":""},{"$f":"IF($A12=\"\",\"\",IF($A12=\"Between\",SUMIFS('Vehicle Type Count by Agency'!P:P,'Vehicle Type Count by Agency'!$H:$H,\">=\"&$B12,'Vehicle Type Count by Agency'!$H:$H,\"<\"&$D12),SUMIFS('Vehicle Type Count by Agency'!P:P,'Vehicle Type Count by Agency'!$H:$H,\">=\"&$B12)))","v":""},{"$f":"IF($A12=\"\",\"\",IF($A12=\"Between\",SUMIFS('Vehicle Type Count by Agency'!R:R,'Vehicle Type Count by Agency'!$H:$H,\">=\"&$B12,'Vehicle Type Count by Agency'!$H:$H,\"<\"&$D12),SUMIFS('Vehicle Type Count by Agency'!R:R,'Vehicle Type Count by Agency'!$H:$H,\">=\"&$B12)))","v":""},{"$f":"IF($A12=\"\",\"\",IF($A12=\"Between\",SUMIFS('Vehicle Type Count by Agency'!T:T,'Vehicle Type Count by Agency'!$H:$H,\">=\"&$B12,'Vehicle Type Count by Agency'!$H:$H,\"<\"&$D12),SUMIFS('Vehicle Type Count by Agency'!T:T,'Vehicle Type Count by Agency'!$H:$H,\">=\"&$B12)))","v":""},{"$f":"IF($A12=\"\",\"\",IF($A12=\"Between\",SUMIFS('Vehicle Type Count by Agency'!V:V,'Vehicle Type Count by Agency'!$H:$H,\">=\"&$B12,'Vehicle Type Count by Agency'!$H:$H,\"<\"&$D12),SUMIFS('Vehicle Type Count by Agency'!V:V,'Vehicle Type Count by Agency'!$H:$H,\">=\"&$B12)))","v":""},{"$f":"IF($A12=\"\",\"\",IF($A12=\"Between\",SUMIFS('Vehicle Type Count by Agency'!X:X,'Vehicle Type Count by Agency'!$H:$H,\">=\"&$B12,'Vehicle Type Count by Agency'!$H:$H,\"<\"&$D12),SUMIFS('Vehicle Type Count by Agency'!X:X,'Vehicle Type Count by Agency'!$H:$H,\">=\"&$B12)))","v":""},{"$f":"IF($A12=\"\",\"\",IF($A12=\"Between\",SUMIFS('Vehicle Type Count by Agency'!Z:Z,'Vehicle Type Count by Agency'!$H:$H,\">=\"&$B12,'Vehicle Type Count by Agency'!$H:$H,\"<\"&$D12),SUMIFS('Vehicle Type Count by Agency'!Z:Z,'Vehicle Type Count by Agency'!$H:$H,\">=\"&$B12)))","v":""},{"$f":"IF($A12=\"\",\"\",IF($A12=\"Between\",SUMIFS('Vehicle Type Count by Agency'!AB:AB,'Vehicle Type Count by Agency'!$H:$H,\">=\"&$B12,'Vehicle Type Count by Agency'!$H:$H,\"<\"&$D12),SUMIFS('Vehicle Type Count by Agency'!AB:AB,'Vehicle Type Count by Agency'!$H:$H,\">=\"&$B12)))","v":""},{"$f":"IF($A12=\"\",\"\",IF($A12=\"Between\",SUMIFS('Vehicle Type Count by Agency'!AD:AD,'Vehicle Type Count by Agency'!$H:$H,\">=\"&$B12,'Vehicle Type Count by Agency'!$H:$H,\"<\"&$D12),SUMIFS('Vehicle Type Count by Agency'!AD:AD,'Vehicle Type Count by Agency'!$H:$H,\">=\"&$B12)))","v":""},{"$f":"IF($A12=\"\",\"\",IF($A12=\"Between\",SUMIFS('Vehicle Type Count by Agency'!AF:AF,'Vehicle Type Count by Agency'!$H:$H,\">=\"&$B12,'Vehicle Type Count by Agency'!$H:$H,\"<\"&$D12),SUMIFS('Vehicle Type Count by Agency'!AF:AF,'Vehicle Type Count by Agency'!$H:$H,\">=\"&$B12)))","v":""},{"$f":"IF($A12=\"\",\"\",IF($A12=\"Between\",SUMIFS('Vehicle Type Count by Agency'!AH:AH,'Vehicle Type Count by Agency'!$H:$H,\">=\"&$B12,'Vehicle Type Count by Agency'!$H:$H,\"<\"&$D12),SUMIFS('Vehicle Type Count by Agency'!AH:AH,'Vehicle Type Count by Agency'!$H:$H,\">=\"&$B12)))","v":""},{"$f":"IF($A12=\"\",\"\",IF($A12=\"Between\",SUMIFS('Vehicle Type Count by Agency'!AJ:AJ,'Vehicle Type Count by Agency'!$H:$H,\">=\"&$B12,'Vehicle Type Count by Agency'!$H:$H,\"<\"&$D12),SUMIFS('Vehicle Type Count by Agency'!AJ:AJ,'Vehicle Type Count by Agency'!$H:$H,\">=\"&$B12)))","v":""},{"$f":"IF($A12=\"\",\"\",IF($A12=\"Between\",SUMIFS('Vehicle Type Count by Agency'!AL:AL,'Vehicle Type Count by Agency'!$H:$H,\">=\"&$B12,'Vehicle Type Count by Agency'!$H:$H,\"<\"&$D12),SUMIFS('Vehicle Type Count by Agency'!AL:AL,'Vehicle Type Count by Agency'!$H:$H,\">=\"&$B12)))","v":""},{"$f":"IF($A12=\"\",\"\",IF($A12=\"Between\",SUMIFS('Vehicle Type Count by Agency'!AN:AN,'Vehicle Type Count by Agency'!$H:$H,\">=\"&$B12,'Vehicle Type Count by Agency'!$H:$H,\"<\"&$D12),SUMIFS('Vehicle Type Count by Agency'!AN:AN,'Vehicle Type Count by Agency'!$H:$H,\">=\"&$B12)))","v":""},{"$f":"IF($A12=\"\",\"\",IF($A12=\"Between\",SUMIFS('Vehicle Type Count by Agency'!AP:AP,'Vehicle Type Count by Agency'!$H:$H,\">=\"&$B12,'Vehicle Type Count by Agency'!$H:$H,\"<\"&$D12),SUMIFS('Vehicle Type Count by Agency'!AP:AP,'Vehicle Type Count by Agency'!$H:$H,\">=\"&$B12)))","v":""},{"$f":"IF($A12=\"\",\"\",IF($A12=\"Between\",SUMIFS('Vehicle Type Count by Agency'!AR:AR,'Vehicle Type Count by Agency'!$H:$H,\">=\"&$B12,'Vehicle Type Count by Agency'!$H:$H,\"<\"&$D12),SUMIFS('Vehicle Type Count by Agency'!AR:AR,'Vehicle Type Count by Agency'!$H:$H,\">=\"&$B12)))","v":""},{"$f":"IF($A12=\"\",\"\",IF($A12=\"Between\",SUMIFS('Vehicle Type Count by Agency'!AT:AT,'Vehicle Type Count by Agency'!$H:$H,\">=\"&$B12,'Vehicle Type Count by Agency'!$H:$H,\"<\"&$D12),SUMIFS('Vehicle Type Count by Agency'!AT:AT,'Vehicle Type Count by Agency'!$H:$H,\">=\"&$B12)))","v":""},{"$f":"IF($A12=\"\",\"\",IF($A12=\"Between\",SUMIFS('Vehicle Type Count by Agency'!AV:AV,'Vehicle Type Count by Agency'!$H:$H,\">=\"&$B12,'Vehicle Type Count by Agency'!$H:$H,\"<\"&$D12),SUMIFS('Vehicle Type Count by Agency'!AV:AV,'Vehicle Type Count by Agency'!$H:$H,\">=\"&$B12)))","v":""},{"$f":"IF($A12=\"\",\"\",IF($A12=\"Between\",SUMIFS('Vehicle Type Count by Agency'!AX:AX,'Vehicle Type Count by Agency'!$H:$H,\">=\"&$B12,'Vehicle Type Count by Agency'!$H:$H,\"<\"&$D12),SUMIFS('Vehicle Type Count by Agency'!AX:AX,'Vehicle Type Count by Agency'!$H:$H,\">=\"&$B12)))","v":""},{"$f":"IF($A12=\"\",\"\",IF($A12=\"Between\",SUMIFS('Vehicle Type Count by Agency'!AZ:AZ,'Vehicle Type Count by Agency'!$H:$H,\">=\"&$B12,'Vehicle Type Count by Agency'!$H:$H,\"<\"&$D12),SUMIFS('Vehicle Type Count by Agency'!AZ:AZ,'Vehicle Type Count by Agency'!$H:$H,\">=\"&$B12)))","v":""},{"$f":"IF($A12=\"\",\"\",IF($A12=\"Between\",SUMIFS('Vehicle Type Count by Agency'!BB:BB,'Vehicle Type Count by Agency'!$H:$H,\">=\"&$B12,'Vehicle Type Count by Agency'!$H:$H,\"<\"&$D12),SUMIFS('Vehicle Type Count by Agency'!BB:BB,'Vehicle Type Count by Agency'!$H:$H,\">=\"&$B12)))","v":""},{"$f":"IF($A12=\"\",\"\",IF($A12=\"Between\",SUMIFS('Vehicle Type Count by Agency'!BD:BD,'Vehicle Type Count by Agency'!$H:$H,\">=\"&$B12,'Vehicle Type Count by Agency'!$H:$H,\"<\"&$D12),SUMIFS('Vehicle Type Count by Agency'!BD:BD,'Vehicle Type Count by Agency'!$H:$H,\">=\"&$B12)))","v":""},{"$f":"IF($A12=\"\",\"\",IF($A12=\"Between\",SUMIFS('Vehicle Type Count by Agency'!BF:BF,'Vehicle Type Count by Agency'!$H:$H,\">=\"&$B12,'Vehicle Type Count by Agency'!$H:$H,\"<\"&$D12),SUMIFS('Vehicle Type Count by Agency'!BF:BF,'Vehicle Type Count by Agency'!$H:$H,\">=\"&$B12)))","v":""},{"$f":"IF($A12=\"\",\"\",IF($A12=\"Between\",SUMIFS('Vehicle Type Count by Agency'!BH:BH,'Vehicle Type Count by Agency'!$H:$H,\">=\"&$B12,'Vehicle Type Count by Agency'!$H:$H,\"<\"&$D12),SUMIFS('Vehicle Type Count by Agency'!BH:BH,'Vehicle Type Count by Agency'!$H:$H,\">=\"&$B12)))","v":""}]
["","","",null,"invalid bin",{"$f":"IF($A13=\"\",\"\",IF($A13=\"Between\",SUMIFS('Vehicle Type Count by Agency'!J:J,'Vehicle Type Count by Agency'!$H:$H,\">=\"&$B13,'Vehicle Type Count by Agency'!$H:$H,\"<\"&$D13),SUMIFS('Vehicle Type Count by Agency'!J:J,'Vehicle Type Count by Agency'!$H:$H,\">=\"&$B13)))","v":""},{"$f":"IF($A13=\"\",\"\",IF($A13=\"Between\",SUMIFS('Vehicle Type Count by Agency'!L:L,'Vehicle Type Count by Agency'!$H:$H,\">=\"&$B13,'Vehicle Type Count by Agency'!$H:$H,\"<\"&$D13),SUMIFS('Vehicle Type Count by Agency'!L:L,'Vehicle Type Count by Agency'!$H:$H,\">=\"&$B13)))","v":""},{"$f":"IF($A13=\"\",\"\",IF($A13=\"Between\",SUMIFS('Vehicle Type Count by Agency'!N:N,'Vehicle Type Count by Agency'!$H:$H,\">=\"&$B13,'Vehicle Type Count by Agency'!$H:$H,\"<\"&$D13),SUMIFS('Vehicle Type Count by Agency'!N:N,'Vehicle Type Count by Agency'!$H:$H,\">=\"&$B13)))","v":""},{"$f":"IF($A13=\"\",\"\",IF($A13=\"Between\",SUMIFS('Vehicle Type Count by Agency'!P:P,'Vehicle Type Count by Agency'!$H:$H,\">=\"&$B13,'Vehicle Type Count by Agency'!$H:$H,\"<\"&$D13),SUMIFS('Vehicle Type Count by Agency'!P:P,'Vehicle Type Count by Agency'!$H:$H,\">=\"&$B13)))","v":""},{"$f":"IF($A13=\"\",\"\",IF($A13=\"Between\",SUMIFS('Vehicle Type Count by Agency'!R:R,'Vehicle Type Count by Agency'!$H:$H,\">=\"&$B13,'Vehicle Type Count by Agency'!$H:$H,\"<\"&$D13),SUMIFS('Vehicle Type Count by Agency'!R:R,'Vehicle Type Count by Agency'!$H:$H,\">=\"&$B13)))","v":""},{"$f":"IF($A13=\"\",\"\",IF($A13=\"Between\",SUMIFS('Vehicle Type Count by Agency'!T:T,'Vehicle Type Count by Agency'!$H:$H,\">=\"&$B13,'Vehicle Type Count by Agency'!$H:$H,\"<\"&$D13),SUMIFS('Vehicle Type Count by Agency'!T:T,'Vehicle Type Count by Agency'!$H:$H,\">=\"&$B13)))","v":""},{"$f":"IF($A13=\"\",\"\",IF($A13=\"Between\",SUMIFS('Vehicle Type Count by Agency'!V:V,'Vehicle Type Count by Agency'!$H:$H,\">=\"&$B13,'Vehicle Type Count by Agency'!$H:$H,\"<\"&$D13),SUMIFS('Vehicle Type Count by Agency'!V:V,'Vehicle Type Count by Agency'!$H:$H,\">=\"&$B13)))","v":""},{"$f":"IF($A13=\"\",\"\",IF($A13=\"Between\",SUMIFS('Vehicle Type Count by Agency'!X:X,'Vehicle Type Count by Agency'!$H:$H,\">=\"&$B13,'Vehicle Type Count by Agency'!$H:$H,\"<\"&$D13),SUMIFS('Vehicle Type Count by Agency'!X:X,'Vehicle Type Count by Agency'!$H:$H,\">=\"&$B13)))","v":""},{"$f":"IF($A13=\"\",\"\",IF($A13=\"Between\",SUMIFS('Vehicle Type Count by Agency'!Z:Z,'Vehicle Type Count by Agency'!$H:$H,\">=\"&$B13,'Vehicle Type Count by Agency'!$H:$H,\"<\"&$D13),SUMIFS('Vehicle Type Count by Agency'!Z:Z,'Vehicle Type Count by Agency'!$H:$H,\">=\"&$B13)))","v":""},{"$f":"IF($A13=\"\",\"\",IF($A13=\"Between\",SUMIFS('Vehicle Type Count by Agency'!AB:AB,'Vehicle Type Count by Agency'!$H:$H,\">=\"&$B13,'Vehicle Type Count by Agency'!$H:$H,\"<\"&$D13),SUMIFS('Vehicle Type Count by Agency'!AB:AB,'Vehicle Type Count by Agency'!$H:$H,\">=\"&$B13)))","v":""},{"$f":"IF($A13=\"\",\"\",IF($A13=\"Between\",SUMIFS('Vehicle Type Count by Agency'!AD:AD,'Vehicle Type Count by Agency'!$H:$H,\">=\"&$B13,'Vehicle Type Count by Agency'!$H:$H,\"<\"&$D13),SUMIFS('Vehicle Type Count by Agency'!AD:AD,'Vehicle Type Count by Agency'!$H:$H,\">=\"&$B13)))","v":""},{"$f":"IF($A13=\"\",\"\",IF($A13=\"Between\",SUMIFS('Vehicle Type Count by Agency'!AF:AF,'Vehicle Type Count by Agency'!$H:$H,\">=\"&$B13,'Vehicle Type Count by Agency'!$H:$H,\"<\"&$D13),SUMIFS('Vehicle Type Count by Agency'!AF:AF,'Vehicle Type Count by Agency'!$H:$H,\">=\"&$B13)))","v":""},{"$f":"IF($A13=\"\",\"\",IF($A13=\"Between\",SUMIFS('Vehicle Type Count by Agency'!AH:AH,'Vehicle Type Count by Agency'!$H:$H,\">=\"&$B13,'Vehicle Type Count by Agency'!$H:$H,\"<\"&$D13),SUMIFS('Vehicle Type Count by Agency'!AH:AH,'Vehicle Type Count by Agency'!$H:$H,\">=\"&$B13)))","v":""},{"$f":"IF($A13=\"\",\"\",IF($A13=\"Between\",SUMIFS('Vehicle Type Count by Agency'!AJ:AJ,'Vehicle Type Count by Agency'!$H:$H,\">=\"&$B13,'Vehicle Type Count by Agency'!$H:$H,\"<\"&$D13),SUMIFS('Vehicle Type Count by Agency'!AJ:AJ,'Vehicle Type Count by Agency'!$H:$H,\">=\"&$B13)))","v":""},{"$f":"IF($A13=\"\",\"\",IF($A13=\"Between\",SUMIFS('Vehicle Type Count by Agency'!AL:AL,'Vehicle Type Count by Agency'!$H:$H,\">=\"&$B13,'Vehicle Type Count by Agency'!$H:$H,\"<\"&$D13),SUMIFS('Vehicle Type Count by Agency'!AL:AL,'Vehicle Type Count by Agency'!$H:$H,\">=\"&$B13)))","v":""},{"$f":"IF($A13=\"\",\"\",IF($A13=\"Between\",SUMIFS('Vehicle Type Count by Agency'!AN:AN,'Vehicle Type Count by Agency'!$H:$H,\">=\"&$B13,'Vehicle Type Count by Agency'!$H:$H,\"<\"&$D13),SUMIFS('Vehicle Type Count by Agency'!AN:AN,'Vehicle Type Count by Agency'!$H:$H,\">=\"&$B13)))","v":""},{"$f":"IF($A13=\"\",\"\",IF($A13=\"Between\",SUMIFS('Vehicle Type Count by Agency'!AP:AP,'Vehicle Type Count by Agency'!$H:$H,\">=\"&$B13,'Vehicle Type Count by Agency'!$H:$H,\"<\"&$D13),SUMIFS('Vehicle Type Count by Agency'!AP:AP,'Vehicle Type Count by Agency'!$H:$H,\">=\"&$B13)))","v":""},{"$f":"IF($A13=\"\",\"\",IF($A13=\"Between\",SUMIFS('Vehicle Type Count by Agency'!AR:AR,'Vehicle Type Count by Agency'!$H:$H,\">=\"&$B13,'Vehicle Type Count by Agency'!$H:$H,\"<\"&$D13),SUMIFS('Vehicle Type Count by Agency'!AR:AR,'Vehicle Type Count by Agency'!$H:$H,\">=\"&$B13)))","v":""},{"$f":"IF($A13=\"\",\"\",IF($A13=\"Between\",SUMIFS('Vehicle Type Count by Agency'!AT:AT,'Vehicle Type Count by Agency'!$H:$H,\">=\"&$B13,'Vehicle Type Count by Agency'!$H:$H,\"<\"&$D13),SUMIFS('Vehicle Type Count by Agency'!AT:AT,'Vehicle Type Count by Agency'!$H:$H,\">=\"&$B13)))","v":""},{"$f":"IF($A13=\"\",\"\",IF($A13=\"Between\",SUMIFS('Vehicle Type Count by Agency'!AV:AV,'Vehicle Type Count by Agency'!$H:$H,\">=\"&$B13,'Vehicle Type Count by Agency'!$H:$H,\"<\"&$D13),SUMIFS('Vehicle Type Count by Agency'!AV:AV,'Vehicle Type Count by Agency'!$H:$H,\">=\"&$B13)))","v":""},{"$f":"IF($A13=\"\",\"\",IF($A13=\"Between\",SUMIFS('Vehicle Type Count by Agency'!AX:AX,'Vehicle Type Count by Agency'!$H:$H,\">=\"&$B13,'Vehicle Type Count by Agency'!$H:$H,\"<\"&$D13),SUMIFS('Vehicle Type Count by Agency'!AX:AX,'Vehicle Type Count by Agency'!$H:$H,\">=\"&$B13)))","v":""},{"$f":"IF($A13=\"\",\"\",IF($A13=\"Between\",SUMIFS('Vehicle Type Count by Agency'!AZ:AZ,'Vehicle Type Count by Agency'!$H:$H,\">=\"&$B13,'Vehicle Type Count by Agency'!$H:$H,\"<\"&$D13),SUMIFS('Vehicle Type Count by Agency'!AZ:AZ,'Vehicle Type Count by Agency'!$H:$H,\">=\"&$B13)))","v":""},{"$f":"IF($A13=\"\",\"\",IF($A13=\"Between\",SUMIFS('Vehicle Type Count by Agency'!BB:BB,'Vehicle Type Count by Agency'!$H:$H,\">=\"&$B13,'Vehicle Type Count by Agency'!$H:$H,\"<\"&$D13),SUMIFS('Vehicle Type Count by Agency'!BB:BB,'Vehicle Type Count by Agency'!$H:$H,\">=\"&$B13)))","v":""},{"$f":"IF($A13=\"\",\"\",IF($A13=\"Between\",SUMIFS('Vehicle Type Count by Agency'!BD:BD,'Vehicle Type Count by Agency'!$H:$H,\">=\"&$B13,'Vehicle Type Count by Agency'!$H:$H,\"<\"&$D13),SUMIFS('Vehicle Type Count by Agency'!BD:BD,'Vehicle Type Count by Agency'!$H:$H,\">=\"&$B13)))","v":""},{"$f":"IF($A13=\"\",\"\",IF($A13=\"Between\",SUMIFS('Vehicle Type Count by Agency'!BF:BF,'Vehicle Type Count by Agency'!$H:$H,\">=\"&$B13,'Vehicle Type Count by Agency'!$H:$H,\"<\"&$D13),SUMIFS('Vehicle Type Count by Agency'!BF:BF,'Vehicle Type Count by Agency'!$H:$H,\">=\"&$B13)))","v":""},{"$f":"IF($A13=\"\",\"\",IF($A13=\"Between\",SUMIFS('Vehicle Type Count by Agency'!BH:BH,'Vehicle Type Count by Agency'!$H:$H,\">=\"&$B13,'Vehicle Type Count by Agency'!$H:$H,\"<\"&$D13),SUMIFS('Vehicle Type Count by Agency'!BH:BH,'Vehicle Type Count by Agency'!$H:$H,\">=\"&$B13)))","v":""}]
["","","",null,"invalid bin",{"$f":"IF($A14=\"\",\"\",IF($A14=\"Between\",SUMIFS('Vehicle Type Count by Agency'!J:J,'Vehicle Type Count by Agency'!$H:$H,\">=\"&$B14,'Vehicle Type Count by Agency'!$H:$H,\"<\"&$D14),SUMIFS('Vehicle Type Count by Agency'!J:J,'Vehicle Type Count by Agency'!$H:$H,\">=\"&$B14)))","v":""},{"$f":"IF($A14=\"\",\"\",IF($A14=\"Between\",SUMIFS('Vehicle Type Count by Agency'!L:L,'Vehicle Type Count by Agency'!$H:$H,\">=\"&$B14,'Vehicle Type Count by Agency'!$H:$H,\"<\"&$D14),SUMIFS('Vehicle Type Count by Agency'!L:L,'Vehicle Type Count by Agency'!$H:$H,\">=\"&$B14)))","v":""},{"$f":"IF($A14=\"\",\"\",IF($A14=\"Between\",SUMIFS('Vehicle Type Count by Agency'!N:N,'Vehicle Type Count by Agency'!$H:$H,\">=\"&$B14,'Vehicle Type Count by Agency'!$H:$H,\"<\"&$D14),SUMIFS('Vehicle Type Count by Agency'!N:N,'Vehicle Type Count by Agency'!$H:$H,\">=\"&$B14)))","v":""},{"$f":"IF($A14=\"\",\"\",IF($A14=\"Between\",SUMIFS('Vehicle Type Count by Agency'!P:P,'Vehicle Type Count by Agency'!$H:$H,\">=\"&$B14,'Vehicle Type Count by Agency'!$H:$H,\"<\"&$D14),SUMIFS('Vehicle Type Count by Agency'!P:P,'Vehicle Type Count by Agency'!$H:$H,\">=\"&$B14)))","v":""},{"$f":"IF($A14=\"\",\"\",IF($A14=\"Between\",SUMIFS('Vehicle Type Count by Agency'!R:R,'Vehicle Type Count by Agency'!$H:$H,\">=\"&$B14,'Vehicle Type Count by Agency'!$H:$H,\"<\"&$D14),SUMIFS('Vehicle Type Count by Agency'!R:R,'Vehicle Type Count by Agency'!$H:$H,\">=\"&$B14)))","v":""},{"$f":"IF($A14=\"\",\"\",IF($A14=\"Between\",SUMIFS('Vehicle Type Count by Agency'!T:T,'Vehicle Type Count by Agency'!$H:$H,\">=\"&$B14,'Vehicle Type Count by Agency'!$H:$H,\"<\"&$D14),SUMIFS('Vehicle Type Count by Agency'!T:T,'Vehicle Type Count by Agency'!$H:$H,\">=\"&$B14)))","v":""},{"$f":"IF($A14=\"\",\"\",IF($A14=\"Between\",SUMIFS('Vehicle Type Count by Agency'!V:V,'Vehicle Type Count by Agency'!$H:$H,\">=\"&$B14,'Vehicle Type Count by Agency'!$H:$H,\"<\"&$D14),SUMIFS('Vehicle Type Count by Agency'!V:V,'Vehicle Type Count by Agency'!$H:$H,\">=\"&$B14)))","v":""},{"$f":"IF($A14=\"\",\"\",IF($A14=\"Between\",SUMIFS('Vehicle Type Count by Agency'!X:X,'Vehicle Type Count by Agency'!$H:$H,\">=\"&$B14,'Vehicle Type Count by Agency'!$H:$H,\"<\"&$D14),SUMIFS('Vehicle Type Count by Agency'!X:X,'Vehicle Type Count by Agency'!$H:$H,\">=\"&$B14)))","v":""},{"$f":"IF($A14=\"\",\"\",IF($A14=\"Between\",SUMIFS('Vehicle Type Count by Agency'!Z:Z,'Vehicle Type Count by Agency'!$H:$H,\">=\"&$B14,'Vehicle Type Count by Agency'!$H:$H,\"<\"&$D14),SUMIFS('Vehicle Type Count by Agency'!Z:Z,'Vehicle Type Count by Agency'!$H:$H,\">=\"&$B14)))","v":""},{"$f":"IF($A14=\"\",\"\",IF($A14=\"Between\",SUMIFS('Vehicle Type Count by Agency'!AB:AB,'Vehicle Type Count by Agency'!$H:$H,\">=\"&$B14,'Vehicle Type Count by Agency'!$H:$H,\"<\"&$D14),SUMIFS('Vehicle Type Count by Agency'!AB:AB,'Vehicle Type Count by Agency'!$H:$H,\">=\"&$B14)))","v":""},{"$f":"IF($A14=\"\",\"\",IF($A14=\"Between\",SUMIFS('Vehicle Type Count by Agency'!AD:AD,'Vehicle Type Count by Agency'!$H:$H,\">=\"&$B14,'Vehicle Type Count by Agency'!$H:$H,\"<\"&$D14),SUMIFS('Vehicle Type Count by Agency'!AD:AD,'Vehicle Type Count by Agency'!$H:$H,\">=\"&$B14)))","v":""},{"$f":"IF($A14=\"\",\"\",IF($A14=\"Between\",SUMIFS('Vehicle Type Count by Agency'!AF:AF,'Vehicle Type Count by Agency'!$H:$H,\">=\"&$B14,'Vehicle Type Count by Agency'!$H:$H,\"<\"&$D14),SUMIFS('Vehicle Type Count by Agency'!AF:AF,'Vehicle Type Count by Agency'!$H:$H,\">=\"&$B14)))","v":""},{"$f":"IF($A14=\"\",\"\",IF($A14=\"Between\",SUMIFS('Vehicle Type Count by Agency'!AH:AH,'Vehicle Type Count by Agency'!$H:$H,\">=\"&$B14,'Vehicle Type Count by Agency'!$H:$H,\"<\"&$D14),SUMIFS('Vehicle Type Count by Agency'!AH:AH,'Vehicle Type Count by Agency'!$H:$H,\">=\"&$B14)))","v":""},{"$f":"IF($A14=\"\",\"\",IF($A14=\"Between\",SUMIFS('Vehicle Type Count by Agency'!AJ:AJ,'Vehicle Type Count by Agency'!$H:$H,\">=\"&$B14,'Vehicle Type Count by Agency'!$H:$H,\"<\"&$D14),SUMIFS('Vehicle Type Count by Agency'!AJ:AJ,'Vehicle Type Count by Agency'!$H:$H,\">=\"&$B14)))","v":""},{"$f":"IF($A14=\"\",\"\",IF($A14=\"Between\",SUMIFS('Vehicle Type Count by Agency'!AL:AL,'Vehicle Type Count by Agency'!$H:$H,\">=\"&$B14,'Vehicle Type Count by Agency'!$H:$H,\"<\"&$D14),SUMIFS('Vehicle Type Count by Agency'!AL:AL,'Vehicle Type Count by Agency'!$H:$H,\">=\"&$B14)))","v":""},{"$f":"IF($A14=\"\",\"\",IF($A14=\"Between\",SUMIFS('Vehicle Type Count by Agency'!AN:AN,'Vehicle Type Count by Agency'!$H:$H,\">=\"&$B14,'Vehicle Type Count by Agency'!$H:$H,\"<\"&$D14),SUMIFS('Vehicle Type Count by Agency'!AN:AN,'Vehicle Type Count by Agency'!$H:$H,\">=\"&$B14)))","v":""},{"$f":"IF($A14=\"\",\"\",IF($A14=\"Between\",SUMIFS('Vehicle Type Count by Agency'!AP:AP,'Vehicle Type Count by Agency'!$H:$H,\">=\"&$B14,'Vehicle Type Count by Agency'!$H:$H,\"<\"&$D14),SUMIFS('Vehicle Type Count by Agency'!AP:AP,'Vehicle Type Count by Agency'!$H:$H,\">=\"&$B14)))","v":""},{"$f":"IF($A14=\"\",\"\",IF($A14=\"Between\",SUMIFS('Vehicle Type Count by Agency'!AR:AR,'Vehicle Type Count by Agency'!$H:$H,\">=\"&$B14,'Vehicle Type Count by Agency'!$H:$H,\"<\"&$D14),SUMIFS('Vehicle Type Count by Agency'!AR:AR,'Vehicle Type Count by Agency'!$H:$H,\">=\"&$B14)))","v":""},{"$f":"IF($A14=\"\",\"\",IF($A14=\"Between\",SUMIFS('Vehicle Type Count by Agency'!AT:AT,'Vehicle Type Count by Agency'!$H:$H,\">=\"&$B14,'Vehicle Type Count by Agency'!$H:$H,\"<\"&$D14),SUMIFS('Vehicle Type Count by Agency'!AT:AT,'Vehicle Type Count by Agency'!$H:$H,\">=\"&$B14)))","v":""},{"$f":"IF($A14=\"\",\"\",IF($A14=\"Between\",SUMIFS('Vehicle Type Count by Agency'!AV:AV,'Vehicle Type Count by Agency'!$H:$H,\">=\"&$B14,'Vehicle Type Count by Agency'!$H:$H,\"<\"&$D14),SUMIFS('Vehicle Type Count by Agency'!AV:AV,'Vehicle Type Count by Agency'!$H:$H,\">=\"&$B14)))","v":""},{"$f":"IF($A14=\"\",\"\",IF($A14=\"Between\",SUMIFS('Vehicle Type Count by Agency'!AX:AX,'Vehicle Type Count by Agency'!$H:$H,\">=\"&$B14,'Vehicle Type Count by Agency'!$H:$H,\"<\"&$D14),SUMIFS('Vehicle Type Count by Agency'!AX:AX,'Vehicle Type Count by Agency'!$H:$H,\">=\"&$B14)))","v":""},{"$f":"IF($A14=\"\",\"\",IF($A14=\"Between\",SUMIFS('Vehicle Type Count by Agency'!AZ:AZ,'Vehicle Type Count by Agency'!$H:$H,\">=\"&$B14,'Vehicle Type Count by Agency'!$H:$H,\"<\"&$D14),SUMIFS('Vehicle Type Count by Agency'!AZ:AZ,'Vehicle Type Count by Agency'!$H:$H,\">=\"&$B14)))","v":""},{"$f":"IF($A14=\"\",\"\",IF($A14=\"Between\",SUMIFS('Vehicle Type Count by Agency'!BB:BB,'Vehicle Type Count by Agency'!$H:$H,\">=\"&$B14,'Vehicle Type Count by Agency'!$H:$H,\"<\"&$D14),SUMIFS('Vehicle Type Count by Agency'!BB:BB,'Vehicle Type Count by Agency'!$H:$H,\">=\"&$B14)))","v":""},{"$f":"IF($A14=\"\",\"\",IF($A14=\"Between\",SUMIFS('Vehicle Type Count by Agency'!BD:BD,'Vehicle Type Count by Agency'!$H:$H,\">=\"&$B14,'Vehicle Type Count by Agency'!$H:$H,\"<\"&$D14),SUMIFS('Vehicle Type Count by Agency'!BD:BD,'Vehicle Type Count by Agency'!$H:$H,\">=\"&$B14)))","v":""},{"$f":"IF($A14=\"\",\"\",IF($A14=\"Between\",SUMIFS('Vehicle Type Count by Agency'!BF:BF,'Vehicle Type Count by Agency'!$H:$H,\">=\"&$B14,'Vehicle Type Count by Agency'!$H:$H,\"<\"&$D14),SUMIFS('Vehicle Type Count by Agency'!BF:BF,'Vehicle Type Count by Agency'!$H:$H,\">=\"&$B14)))","v":""},{"$f":"IF($A14=\"\",\"\",IF($A14=\"Between\",SUMIFS('Vehicle Type Count by Agency'!BH:BH,'Vehicle Type Count by Agency'!$H:$H,\">=\"&$B14,'Vehicle Type Count by Agency'!$H:$H,\"<\"&$D14),SUMIFS('Vehicle Type Count by Agency'!BH:BH,'Vehicle Type Count by Agency'!$H:$H,\">=\"&$B14)))","v":""}]
["","","",null,"invalid bin",{"$f":"IF($A15=\"\",\"\",IF($A15=\"Between\",SUMIFS('Vehicle Type Count by Agency'!J:J,'Vehicle Type Count by Agency'!$H:$H,\">=\"&$B15,'Vehicle Type Count by Agency'!$H:$H,\"<\"&$D15),SUMIFS('Vehicle Type Count by Agency'!J:J,'Vehicle Type Count by Agency'!$H:$H,\">=\"&$B15)))","v":""},{"$f":"IF($A15=\"\",\"\",IF($A15=\"Between\",SUMIFS('Vehicle Type Count by Agency'!L:L,'Vehicle Type Count by Agency'!$H:$H,\">=\"&$B15,'Vehicle Type Count by Agency'!$H:$H,\"<\"&$D15),SUMIFS('Vehicle Type Count by Agency'!L:L,'Vehicle Type Count by Agency'!$H:$H,\">=\"&$B15)))","v":""},{"$f":"IF($A15=\"\",\"\",IF($A15=\"Between\",SUMIFS('Vehicle Type Count by Agency'!N:N,'Vehicle Type Count by Agency'!$H:$H,\">=\"&$B15,'Vehicle Type Count by Agency'!$H:$H,\"<\"&$D15),SUMIFS('Vehicle Type Count by Agency'!N:N,'Vehicle Type Count by Agency'!$H:$H,\">=\"&$B15)))","v":""},{"$f":"IF($A15=\"\",\"\",IF($A15=\"Between\",SUMIFS('Vehicle Type Count by Agency'!P:P,'Vehicle Type Count by Agency'!$H:$H,\">=\"&$B15,'Vehicle Type Count by Agency'!$H:$H,\"<\"&$D15),SUMIFS('Vehicle Type Count by Agency'!P:P,'Vehicle Type Count by Agency'!$H:$H,\">=\"&$B15)))","v":""},{"$f":"IF($A15=\"\",\"\",IF($A15=\"Between\",SUMIFS('Vehicle Type Count by Agency'!R:R,'Vehicle Type Count by Agency'!$H:$H,\">=\"&$B15,'Vehicle Type Count by Agency'!$H:$H,\"<\"&$D15),SUMIFS('Vehicle Type Count by Agency'!R:R,'Vehicle Type Count by Agency'!$H:$H,\">=\"&$B15)))","v":""},{"$f":"IF($A15=\"\",\"\",IF($A15=\"Between\",SUMIFS('Vehicle Type Count by Agency'!T:T,'Vehicle Type Count by Agency'!$H:$H,\">=\"&$B15,'Vehicle Type Count by Agency'!$H:$H,\"<\"&$D15),SUMIFS('Vehicle Type Count by Agency'!T:T,'Vehicle Type Count by Agency'!$H:$H,\">=\"&$B15)))","v":""},{"$f":"IF($A15=\"\",\"\",IF($A15=\"Between\",SUMIFS('Vehicle Type Count by Agency'!V:V,'Vehicle Type Count by Agency'!$H:$H,\">=\"&$B15,'Vehicle Type Count by Agency'!$H:$H,\"<\"&$D15),SUMIFS('Vehicle Type Count by Agency'!V:V,'Vehicle Type Count by Agency'!$H:$H,\">=\"&$B15)))","v":""},{"$f":"IF($A15=\"\",\"\",IF($A15=\"Between\",SUMIFS('Vehicle Type Count by Agency'!X:X,'Vehicle Type Count by Agency'!$H:$H,\">=\"&$B15,'Vehicle Type Count by Agency'!$H:$H,\"<\"&$D15),SUMIFS('Vehicle Type Count by Agency'!X:X,'Vehicle Type Count by Agency'!$H:$H,\">=\"&$B15)))","v":""},{"$f":"IF($A15=\"\",\"\",IF($A15=\"Between\",SUMIFS('Vehicle Type Count by Agency'!Z:Z,'Vehicle Type Count by Agency'!$H:$H,\">=\"&$B15,'Vehicle Type Count by Agency'!$H:$H,\"<\"&$D15),SUMIFS('Vehicle Type Count by Agency'!Z:Z,'Vehicle Type Count by Agency'!$H:$H,\">=\"&$B15)))","v":""},{"$f":"IF($A15=\"\",\"\",IF($A15=\"Between\",SUMIFS('Vehicle Type Count by Agency'!AB:AB,'Vehicle Type Count by Agency'!$H:$H,\">=\"&$B15,'Vehicle Type Count by Agency'!$H:$H,\"<\"&$D15),SUMIFS('Vehicle Type Count by Agency'!AB:AB,'Vehicle Type Count by Agency'!$H:$H,\">=\"&$B15)))","v":""},{"$f":"IF($A15=\"\",\"\",IF($A15=\"Between\",SUMIFS('Vehicle Type Count by Agency'!AD:AD,'Vehicle Type Count by Agency'!$H:$H,\">=\"&$B15,'Vehicle Type Count by Agency'!$H:$H,\"<\"&$D15),SUMIFS('Vehicle Type Count by Agency'!AD:AD,'Vehicle Type Count by Agency'!$H:$H,\">=\"&$B15)))","v":""},{"$f":"IF($A15=\"\",\"\",IF($A15=\"Between\",SUMIFS('Vehicle Type Count by Agency'!AF:AF,'Vehicle Type Count by Agency'!$H:$H,\">=\"&$B15,'Vehicle Type Count by Agency'!$H:$H,\"<\"&$D15),SUMIFS('Vehicle Type Count by Agency'!AF:AF,'Vehicle Type Count by Agency'!$H:$H,\">=\"&$B15)))","v":""},{"$f":"IF($A15=\"\",\"\",IF($A15=\"Between\",SUMIFS('Vehicle Type Count by Agency'!AH:AH,'Vehicle Type Count by Agency'!$H:$H,\">=\"&$B15,'Vehicle Type Count by Agency'!$H:$H,\"<\"&$D15),SUMIFS('Vehicle Type Count by Agency'!AH:AH,'Vehicle Type Count by Agency'!$H:$H,\">=\"&$B15)))","v":""},{"$f":"IF($A15=\"\",\"\",IF($A15=\"Between\",SUMIFS('Vehicle Type Count by Agency'!AJ:AJ,'Vehicle Type Count by Agency'!$H:$H,\">=\"&$B15,'Vehicle Type Count by Agency'!$H:$H,\"<\"&$D15),SUMIFS('Vehicle Type Count by Agency'!AJ:AJ,'Vehicle Type Count by Agency'!$H:$H,\">=\"&$B15)))","v":""},{"$f":"IF($A15=\"\",\"\",IF($A15=\"Between\",SUMIFS('Vehicle Type Count by Agency'!AL:AL,'Vehicle Type Count by Agency'!$H:$H,\">=\"&$B15,'Vehicle Type Count by Agency'!$H:$H,\"<\"&$D15),SUMIFS('Vehicle Type Count by Agency'!AL:AL,'Vehicle Type Count by Agency'!$H:$H,\">=\"&$B15)))","v":""},{"$f":"IF($A15=\"\",\"\",IF($A15=\"Between\",SUMIFS('Vehicle Type Count by Agency'!AN:AN,'Vehicle Type Count by Agency'!$H:$H,\">=\"&$B15,'Vehicle Type Count by Agency'!$H:$H,\"<\"&$D15),SUMIFS('Vehicle Type Count by Agency'!AN:AN,'Vehicle Type Count by Agency'!$H:$H,\">=\"&$B15)))","v":""},{"$f":"IF($A15=\"\",\"\",IF($A15=\"Between\",SUMIFS('Vehicle Type Count by Agency'!AP:AP,'Vehicle Type Count by Agency'!$H:$H,\">=\"&$B15,'Vehicle Type Count by Agency'!$H:$H,\"<\"&$D15),SUMIFS('Vehicle Type Count by Agency'!AP:AP,'Vehicle Type Count by Agency'!$H:$H,\">=\"&$B15)))","v":""},{"$f":"IF($A15=\"\",\"\",IF($A15=\"Between\",SUMIFS('Vehicle Type Count by Agency'!AR:AR,'Vehicle Type Count by Agency'!$H:$H,\">=\"&$B15,'Vehicle Type Count by Agency'!$H:$H,\"<\"&$D15),SUMIFS('Vehicle Type Count by Agency'!AR:AR,'Vehicle Type Count by Agency'!$H:$H,\">=\"&$B15)))","v":""},{"$f":"IF($A15=\"\",\"\",IF($A15=\"Between\",SUMIFS('Vehicle Type Count by Agency'!AT:AT,'Vehicle Type Count by Agency'!$H:$H,\">=\"&$B15,'Vehicle Type Count by Agency'!$H:$H,\"<\"&$D15),SUMIFS('Vehicle Type Count by Agency'!AT:AT,'Vehicle Type Count by Agency'!$H:$H,\">=\"&$B15)))","v":""},{"$f":"IF($A15=\"\",\"\",IF($A15=\"Between\",SUMIFS('Vehicle Type Count by Agency'!AV:AV,'Vehicle Type Count by Agency'!$H:$H,\">=\"&$B15,'Vehicle Type Count by Agency'!$H:$H,\"<\"&$D15),SUMIFS('Vehicle Type Count by Agency'!AV:AV,'Vehicle Type Count by Agency'!$H:$H,\">=\"&$B15)))","v":""},{"$f":"IF($A15=\"\",\"\",IF($A15=\"Between\",SUMIFS('Vehicle Type Count by Agency'!AX:AX,'Vehicle Type Count by Agency'!$H:$H,\">=\"&$B15,'Vehicle Type Count by Agency'!$H:$H,\"<\"&$D15),SUMIFS('Vehicle Type Count by Agency'!AX:AX,'Vehicle Type Count by Agency'!$H:$H,\">=\"&$B15)))","v":""},{"$f":"IF($A15=\"\",\"\",IF($A15=\"Between\",SUMIFS('Vehicle Type Count by Agency'!AZ:AZ,'Vehicle Type Count by Agency'!$H:$H,\">=\"&$B15,'Vehicle Type Count by Agency'!$H:$H,\"<\"&$D15),SUMIFS('Vehicle Type Count by Agency'!AZ:AZ,'Vehicle Type Count by Agency'!$H:$H,\">=\"&$B15)))","v":""},{"$f":"IF($A15=\"\",\"\",IF($A15=\"Between\",SUMIFS('Vehicle Type Count by Agency'!BB:BB,'Vehicle Type Count by Agency'!$H:$H,\">=\"&$B15,'Vehicle Type Count by Agency'!$H:$H,\"<\"&$D15),SUMIFS('Vehicle Type Count by Agency'!BB:BB,'Vehicle Type Count by Agency'!$H:$H,\">=\"&$B15)))","v":""},{"$f":"IF($A15=\"\",\"\",IF($A15=\"Between\",SUMIFS('Vehicle Type Count by Agency'!BD:BD,'Vehicle Type Count by Agency'!$H:$H,\">=\"&$B15,'Vehicle Type Count by Agency'!$H:$H,\"<\"&$D15),SUMIFS('Vehicle Type Count by Agency'!BD:BD,'Vehicle Type Count by Agency'!$H:$H,\">=\"&$B15)))","v":""},{"$f":"IF($A15=\"\",\"\",IF($A15=\"Between\",SUMIFS('Vehicle Type Count by Agency'!BF:BF,'Vehicle Type Count by Agency'!$H:$H,\">=\"&$B15,'Vehicle Type Count by Agency'!$H:$H,\"<\"&$D15),SUMIFS('Vehicle Type Count by Agency'!BF:BF,'Vehicle Type Count by Agency'!$H:$H,\">=\"&$B15)))","v":""},{"$f":"IF($A15=\"\",\"\",IF($A15=\"Between\",SUMIFS('Vehicle Type Count by Agency'!BH:BH,'Vehicle Type Count by Agency'!$H:$H,\">=\"&$B15,'Vehicle Type Count by Agency'!$H:$H,\"<\"&$D15),SUMIFS('Vehicle Type Count by Agency'!BH:BH,'Vehicle Type Count by Agency'!$H:$H,\">=\"&$B15)))","v":""}]
["","","",null,"invalid bin",{"$f":"IF($A16=\"\",\"\",IF($A16=\"Between\",SUMIFS('Vehicle Type Count by Agency'!J:J,'Vehicle Type Count by Agency'!$H:$H,\">=\"&$B16,'Vehicle Type Count by Agency'!$H:$H,\"<\"&$D16),SUMIFS('Vehicle Type Count by Agency'!J:J,'Vehicle Type Count by Agency'!$H:$H,\">=\"&$B16)))","v":""},{"$f":"IF($A16=\"\",\"\",IF($A16=\"Between\",SUMIFS('Vehicle Type Count by Agency'!L:L,'Vehicle Type Count by Agency'!$H:$H,\">=\"&$B16,'Vehicle Type Count by Agency'!$H:$H,\"<\"&$D16),SUMIFS('Vehicle Type Count by Agency'!L:L,'Vehicle Type Count by Agency'!$H:$H,\">=\"&$B16)))","v":""},{"$f":"IF($A16=\"\",\"\",IF($A16=\"Between\",SUMIFS('Vehicle Type Count by Agency'!N:N,'Vehicle Type Count by Agency'!$H:$H,\">=\"&$B16,'Vehicle Type Count by Agency'!$H:$H,\"<\"&$D16),SUMIFS('Vehicle Type Count by Agency'!N:N,'Vehicle Type Count by Agency'!$H:$H,\">=\"&$B16)))","v":""},{"$f":"IF($A16=\"\",\"\",IF($A16=\"Between\",SUMIFS('Vehicle Type Count by Agency'!P:P,'Vehicle Type Count by Agency'!$H:$H,\">=\"&$B16,'Vehicle Type Count by Agency'!$H:$H,\"<\"&$D16),SUMIFS('Vehicle Type Count by Agency'!P:P,'Vehicle Type Count by Agency'!$H:$H,\">=\"&$B16)))","v":""},{"$f":"IF($A16=\"\",\"\",IF($A16=\"Between\",SUMIFS('Vehicle Type Count by Agency'!R:R,'Vehicle Type Count by Agency'!$H:$H,\">=\"&$B16,'Vehicle Type Count by Agency'!$H:$H,\"<\"&$D16),SUMIFS('Vehicle Type Count by Agency'!R:R,'Vehicle Type Count by Agency'!$H:$H,\">=\"&$B16)))","v":""},{"$f":"IF($A16=\"\",\"\",IF($A16=\"Between\",SUMIFS('Vehicle Type Count by Agency'!T:T,'Vehicle Type Count by Agency'!$H:$H,\">=\"&$B16,'Vehicle Type Count by Agency'!$H:$H,\"<\"&$D16),SUMIFS('Vehicle Type Count by Agency'!T:T,'Vehicle Type Count by Agency'!$H:$H,\">=\"&$B16)))","v":""},{"$f":"IF($A16=\"\",\"\",IF($A16=\"Between\",SUMIFS('Vehicle Type Count by Agency'!V:V,'Vehicle Type Count by Agency'!$H:$H,\">=\"&$B16,'Vehicle Type Count by Agency'!$H:$H,\"<\"&$D16),SUMIFS('Vehicle Type Count by Agency'!V:V,'Vehicle Type Count by Agency'!$H:$H,\">=\"&$B16)))","v":""},{"$f":"IF($A16=\"\",\"\",IF($A16=\"Between\",SUMIFS('Vehicle Type Count by Agency'!X:X,'Vehicle Type Count by Agency'!$H:$H,\">=\"&$B16,'Vehicle Type Count by Agency'!$H:$H,\"<\"&$D16),SUMIFS('Vehicle Type Count by Agency'!X:X,'Vehicle Type Count by Agency'!$H:$H,\">=\"&$B16)))","v":""},{"$f":"IF($A16=\"\",\"\",IF($A16=\"Between\",SUMIFS('Vehicle Type Count by Agency'!Z:Z,'Vehicle Type Count by Agency'!$H:$H,\">=\"&$B16,'Vehicle Type Count by Agency'!$H:$H,\"<\"&$D16),SUMIFS('Vehicle Type Count by Agency'!Z:Z,'Vehicle Type Count by Agency'!$H:$H,\">=\"&$B16)))","v":""},{"$f":"IF($A16=\"\",\"\",IF($A16=\"Between\",SUMIFS('Vehicle Type Count by Agency'!AB:AB,'Vehicle Type Count by Agency'!$H:$H,\">=\"&$B16,'Vehicle Type Count by Agency'!$H:$H,\"<\"&$D16),SUMIFS('Vehicle Type Count by Agency'!AB:AB,'Vehicle Type Count by Agency'!$H:$H,\">=\"&$B16)))","v":""},{"$f":"IF($A16=\"\",\"\",IF($A16=\"Between\",SUMIFS('Vehicle Type Count by Agency'!AD:AD,'Vehicle Type Count by Agency'!$H:$H,\">=\"&$B16,'Vehicle Type Count by Agency'!$H:$H,\"<\"&$D16),SUMIFS('Vehicle Type Count by Agency'!AD:AD,'Vehicle Type Count by Agency'!$H:$H,\">=\"&$B16)))","v":""},{"$f":"IF($A16=\"\",\"\",IF($A16=\"Between\",SUMIFS('Vehicle Type Count by Agency'!AF:AF,'Vehicle Type Count by Agency'!$H:$H,\">=\"&$B16,'Vehicle Type Count by Agency'!$H:$H,\"<\"&$D16),SUMIFS('Vehicle Type Count by Agency'!AF:AF,'Vehicle Type Count by Agency'!$H:$H,\">=\"&$B16)))","v":""},{"$f":"IF($A16=\"\",\"\",IF($A16=\"Between\",SUMIFS('Vehicle Type Count by Agency'!AH:AH,'Vehicle Type Count by Agency'!$H:$H,\">=\"&$B16,'Vehicle Type Count by Agency'!$H:$H,\"<\"&$D16),SUMIFS('Vehicle Type Count by Agency'!AH:AH,'Vehicle Type Count by Agency'!$H:$H,\">=\"&$B16)))","v":""},{"$f":"IF($A16=\"\",\"\",IF($A16=\"Between\",SUMIFS('Vehicle Type Count by Agency'!AJ:AJ,'Vehicle Type Count by Agency'!$H:$H,\">=\"&$B16,'Vehicle Type Count by Agency'!$H:$H,\"<\"&$D16),SUMIFS('Vehicle Type Count by Agency'!AJ:AJ,'Vehicle Type Count by Agency'!$H:$H,\">=\"&$B16)))","v":""},{"$f":"IF($A16=\"\",\"\",IF($A16=\"Between\",SUMIFS('Vehicle Type Count by Agency'!AL:AL,'Vehicle Type Count by Agency'!$H:$H,\">=\"&$B16,'Vehicle Type Count by Agency'!$H:$H,\"<\"&$D16),SUMIFS('Vehicle Type Count by Agency'!AL:AL,'Vehicle Type Count by Agency'!$H:$H,\">=\"&$B16)))","v":""},{"$f":"IF($A16=\"\",\"\",IF($A16=\"Between\",SUMIFS('Vehicle Type Count by Agency'!AN:AN,'Vehicle Type Count by Agency'!$H:$H,\">=\"&$B16,'Vehicle Type Count by Agency'!$H:$H,\"<\"&$D16),SUMIFS('Vehicle Type Count by Agency'!AN:AN,'Vehicle Type Count by Agency'!$H:$H,\">=\"&$B16)))","v":""},{"$f":"IF($A16=\"\",\"\",IF($A16=\"Between\",SUMIFS('Vehicle Type Count by Agency'!AP:AP,'Vehicle Type Count by Agency'!$H:$H,\">=\"&$B16,'Vehicle Type Count by Agency'!$H:$H,\"<\"&$D16),SUMIFS('Vehicle Type Count by Agency'!AP:AP,'Vehicle Type Count by Agency'!$H:$H,\">=\"&$B16)))","v":""},{"$f":"IF($A16=\"\",\"\",IF($A16=\"Between\",SUMIFS('Vehicle Type Count by Agency'!AR:AR,'Vehicle Type Count by Agency'!$H:$H,\">=\"&$B16,'Vehicle Type Count by Agency'!$H:$H,\"<\"&$D16),SUMIFS('Vehicle Type Count by Agency'!AR:AR,'Vehicle Type Count by Agency'!$H:$H,\">=\"&$B16)))","v":""},{"$f":"IF($A16=\"\",\"\",IF($A16=\"Between\",SUMIFS('Vehicle Type Count by Agency'!AT:AT,'Vehicle Type Count by Agency'!$H:$H,\">=\"&$B16,'Vehicle Type Count by Agency'!$H:$H,\"<\"&$D16),SUMIFS('Vehicle Type Count by Agency'!AT:AT,'Vehicle Type Count by Agency'!$H:$H,\">=\"&$B16)))","v":""},{"$f":"IF($A16=\"\",\"\",IF($A16=\"Between\",SUMIFS('Vehicle Type Count by Agency'!AV:AV,'Vehicle Type Count by Agency'!$H:$H,\">=\"&$B16,'Vehicle Type Count by Agency'!$H:$H,\"<\"&$D16),SUMIFS('Vehicle Type Count by Agency'!AV:AV,'Vehicle Type Count by Agency'!$H:$H,\">=\"&$B16)))","v":""},{"$f":"IF($A16=\"\",\"\",IF($A16=\"Between\",SUMIFS('Vehicle Type Count by Agency'!AX:AX,'Vehicle Type Count by Agency'!$H:$H,\">=\"&$B16,'Vehicle Type Count by Agency'!$H:$H,\"<\"&$D16),SUMIFS('Vehicle Type Count by Agency'!AX:AX,'Vehicle Type Count by Agency'!$H:$H,\">=\"&$B16)))","v":""},{"$f":"IF($A16=\"\",\"\",IF($A16=\"Between\",SUMIFS('Vehicle Type Count by Agency'!AZ:AZ,'Vehicle Type Count by Agency'!$H:$H,\">=\"&$B16,'Vehicle Type Count by Agency'!$H:$H,\"<\"&$D16),SUMIFS('Vehicle Type Count by Agency'!AZ:AZ,'Vehicle Type Count by Agency'!$H:$H,\">=\"&$B16)))","v":""},{"$f":"IF($A16=\"\",\"\",IF($A16=\"Between\",SUMIFS('Vehicle Type Count by Agency'!BB:BB,'Vehicle Type Count by Agency'!$H:$H,\">=\"&$B16,'Vehicle Type Count by Agency'!$H:$H,\"<\"&$D16),SUMIFS('Vehicle Type Count by Agency'!BB:BB,'Vehicle Type Count by Agency'!$H:$H,\">=\"&$B16)))","v":""},{"$f":"IF($A16=\"\",\"\",IF($A16=\"Between\",SUMIFS('Vehicle Type Count by Agency'!BD:BD,'Vehicle Type Count by Agency'!$H:$H,\">=\"&$B16,'Vehicle Type Count by Agency'!$H:$H,\"<\"&$D16),SUMIFS('Vehicle Type Count by Agency'!BD:BD,'Vehicle Type Count by Agency'!$H:$H,\">=\"&$B16)))","v":""},{"$f":"IF($A16=\"\",\"\",IF($A16=\"Between\",SUMIFS('Vehicle Type Count by Agency'!BF:BF,'Vehicle Type Count by Agency'!$H:$H,\">=\"&$B16,'Vehicle Type Count by Agency'!$H:$H,\"<\"&$D16),SUMIFS('Vehicle Type Count by Agency'!BF:BF,'Vehicle Type Count by Agency'!$H:$H,\">=\"&$B16)))","v":""},{"$f":"IF($A16=\"\",\"\",IF($A16=\"Between\",SUMIFS('Vehicle Type Count by Agency'!BH:BH,'Vehicle Type Count by Agency'!$H:$H,\">=\"&$B16,'Vehicle Type Count by Agency'!$H:$H,\"<\"&$D16),SUMIFS('Vehicle Type Count by Agency'!BH:BH,'Vehicle Type Count by Agency'!$H:$H,\">=\"&$B16)))","v":""}]
["","","",null,"invalid bin",{"$f":"IF($A17=\"\",\"\",IF($A17=\"Between\",SUMIFS('Vehicle Type Count by Agency'!J:J,'Vehicle Type Count by Agency'!$H:$H,\">=\"&$B17,'Vehicle Type Count by Agency'!$H:$H,\"<\"&$D17),SUMIFS('Vehicle Type Count by Agency'!J:J,'Vehicle Type Count by Agency'!$H:$H,\">=\"&$B17)))","v":""},{"$f":"IF($A17=\"\",\"\",IF($A17=\"Between\",SUMIFS('Vehicle Type Count by Agency'!L:L,'Vehicle Type Count by Agency'!$H:$H,\">=\"&$B17,'Vehicle Type Count by Agency'!$H:$H,\"<\"&$D17),SUMIFS('Vehicle Type Count by Agency'!L:L,'Vehicle Type Count by Agency'!$H:$H,\">=\"&$B17)))","v":""},{"$f":"IF($A17=\"\",\"\",IF($A17=\"Between\",SUMIFS('Vehicle Type Count by Agency'!N:N,'Vehicle Type Count by Agency'!$H:$H,\">=\"&$B17,'Vehicle Type Count by Agency'!$H:$H,\"<\"&$D17),SUMIFS('Vehicle Type Count by Agency'!N:N,'Vehicle Type Count by Agency'!$H:$H,\">=\"&$B17)))","v":""},{"$f":"IF($A17=\"\",\"\",IF($A17=\"Between\",SUMIFS('Vehicle Type Count by Agency'!P:P,'Vehicle Type Count by Agency'!$H:$H,\">=\"&$B17,'Vehicle Type Count by Agency'!$H:$H,\"<\"&$D17),SUMIFS('Vehicle Type Count by Agency'!P:P,'Vehicle Type Count by Agency'!$H:$H,\">=\"&$B17)))","v":""},{"$f":"IF($A17=\"\",\"\",IF($A17=\"Between\",SUMIFS('Vehicle Type Count by Agency'!R:R,'Vehicle Type Count by Agency'!$H:$H,\">=\"&$B17,'Vehicle Type Count by Agency'!$H:$H,\"<\"&$D17),SUMIFS('Vehicle Type Count by Agency'!R:R,'Vehicle Type Count by Agency'!$H:$H,\">=\"&$B17)))","v":""},{"$f":"IF($A17=\"\",\"\",IF($A17=\"Between\",SUMIFS('Vehicle Type Count by Agency'!T:T,'Vehicle Type Count by Agency'!$H:$H,\">=\"&$B17,'Vehicle Type Count by Agency'!$H:$H,\"<\"&$D17),SUMIFS('Vehicle Type Count by Agency'!T:T,'Vehicle Type Count by Agency'!$H:$H,\">=\"&$B17)))","v":""},{"$f":"IF($A17=\"\",\"\",IF($A17=\"Between\",SUMIFS('Vehicle Type Count by Agency'!V:V,'Vehicle Type Count by Agency'!$H:$H,\">=\"&$B17,'Vehicle Type Count by Agency'!$H:$H,\"<\"&$D17),SUMIFS('Vehicle Type Count by Agency'!V:V,'Vehicle Type Count by Agency'!$H:$H,\">=\"&$B17)))","v":""},{"$f":"IF($A17=\"\",\"\",IF($A17=\"Between\",SUMIFS('Vehicle Type Count by Agency'!X:X,'Vehicle Type Count by Agency'!$H:$H,\">=\"&$B17,'Vehicle Type Count by Agency'!$H:$H,\"<\"&$D17),SUMIFS('Vehicle Type Count by Agency'!X:X,'Vehicle Type Count by Agency'!$H:$H,\">=\"&$B17)))","v":""},{"$f":"IF($A17=\"\",\"\",IF($A17=\"Between\",SUMIFS('Vehicle Type Count by Agency'!Z:Z,'Vehicle Type Count by Agency'!$H:$H,\">=\"&$B17,'Vehicle Type Count by Agency'!$H:$H,\"<\"&$D17),SUMIFS('Vehicle Type Count by Agency'!Z:Z,'Vehicle Type Count by Agency'!$H:$H,\">=\"&$B17)))","v":""},{"$f":"IF($A17=\"\",\"\",IF($A17=\"Between\",SUMIFS('Vehicle Type Count by Agency'!AB:AB,'Vehicle Type Count by Agency'!$H:$H,\">=\"&$B17,'Vehicle Type Count by Agency'!$H:$H,\"<\"&$D17),SUMIFS('Vehicle Type Count by Agency'!AB:AB,'Vehicle Type Count by Agency'!$H:$H,\">=\"&$B17)))","v":""},{"$f":"IF($A17=\"\",\"\",IF($A17=\"Between\",SUMIFS('Vehicle Type Count by Agency'!AD:AD,'Vehicle Type Count by Agency'!$H:$H,\">=\"&$B17,'Vehicle Type Count by Agency'!$H:$H,\"<\"&$D17),SUMIFS('Vehicle Type Count by Agency'!AD:AD,'Vehicle Type Count by Agency'!$H:$H,\">=\"&$B17)))","v":""},{"$f":"IF($A17=\"\",\"\",IF($A17=\"Between\",SUMIFS('Vehicle Type Count by Agency'!AF:AF,'Vehicle Type Count by Agency'!$H:$H,\">=\"&$B17,'Vehicle Type Count by Agency'!$H:$H,\"<\"&$D17),SUMIFS('Vehicle Type Count by Agency'!AF:AF,'Vehicle Type Count by Agency'!$H:$H,\">=\"&$B17)))","v":""},{"$f":"IF($A17=\"\",\"\",IF($A17=\"Between\",SUMIFS('Vehicle Type Count by Agency'!AH:AH,'Vehicle Type Count by Agency'!$H:$H,\">=\"&$B17,'Vehicle Type Count by Agency'!$H:$H,\"<\"&$D17),SUMIFS('Vehicle Type Count by Agency'!AH:AH,'Vehicle Type Count by Agency'!$H:$H,\">=\"&$B17)))","v":""},{"$f":"IF($A17=\"\",\"\",IF($A17=\"Between\",SUMIFS('Vehicle Type Count by Agency'!AJ:AJ,'Vehicle Type Count by Agency'!$H:$H,\">=\"&$B17,'Vehicle Type Count by Agency'!$H:$H,\"<\"&$D17),SUMIFS('Vehicle Type Count by Agency'!AJ:AJ,'Vehicle Type Count by Agency'!$H:$H,\">=\"&$B17)))","v":""},{"$f":"IF($A17=\"\",\"\",IF($A17=\"Between\",SUMIFS('Vehicle Type Count by Agency'!AL:AL,'Vehicle Type Count by Agency'!$H:$H,\">=\"&$B17,'Vehicle Type Count by Agency'!$H:$H,\"<\"&$D17),SUMIFS('Vehicle Type Count by Agency'!AL:AL,'Vehicle Type Count by Agency'!$H:$H,\">=\"&$B17)))","v":""},{"$f":"IF($A17=\"\",\"\",IF($A17=\"Between\",SUMIFS('Vehicle Type Count by Agency'!AN:AN,'Vehicle Type Count by Agency'!$H:$H,\">=\"&$B17,'Vehicle Type Count by Agency'!$H:$H,\"<\"&$D17),SUMIFS('Vehicle Type Count by Agency'!AN:AN,'Vehicle Type Count by Agency'!$H:$H,\">=\"&$B17)))","v":""},{"$f":"IF($A17=\"\",\"\",IF($A17=\"Between\",SUMIFS('Vehicle Type Count by Agency'!AP:AP,'Vehicle Type Count by Agency'!$H:$H,\">=\"&$B17,'Vehicle Type Count by Agency'!$H:$H,\"<\"&$D17),SUMIFS('Vehicle Type Count by Agency'!AP:AP,'Vehicle Type Count by Agency'!$H:$H,\">=\"&$B17)))","v":""},{"$f":"IF($A17=\"\",\"\",IF($A17=\"Between\",SUMIFS('Vehicle Type Count by Agency'!AR:AR,'Vehicle Type Count by Agency'!$H:$H,\">=\"&$B17,'Vehicle Type Count by Agency'!$H:$H,\"<\"&$D17),SUMIFS('Vehicle Type Count by Agency'!AR:AR,'Vehicle Type Count by Agency'!$H:$H,\">=\"&$B17)))","v":""},{"$f":"IF($A17=\"\",\"\",IF($A17=\"Between\",SUMIFS('Vehicle Type Count by Agency'!AT:AT,'Vehicle Type Count by Agency'!$H:$H,\">=\"&$B17,'Vehicle Type Count by Agency'!$H:$H,\"<\"&$D17),SUMIFS('Vehicle Type Count by Agency'!AT:AT,'Vehicle Type Count by Agency'!$H:$H,\">=\"&$B17)))","v":""},{"$f":"IF($A17=\"\",\"\",IF($A17=\"Between\",SUMIFS('Vehicle Type Count by Agency'!AV:AV,'Vehicle Type Count by Agency'!$H:$H,\">=\"&$B17,'Vehicle Type Count by Agency'!$H:$H,\"<\"&$D17),SUMIFS('Vehicle Type Count by Agency'!AV:AV,'Vehicle Type Count by Agency'!$H:$H,\">=\"&$B17)))","v":""},{"$f":"IF($A17=\"\",\"\",IF($A17=\"Between\",SUMIFS('Vehicle Type Count by Agency'!AX:AX,'Vehicle Type Count by Agency'!$H:$H,\">=\"&$B17,'Vehicle Type Count by Agency'!$H:$H,\"<\"&$D17),SUMIFS('Vehicle Type Count by Agency'!AX:AX,'Vehicle Type Count by Agency'!$H:$H,\">=\"&$B17)))","v":""},{"$f":"IF($A17=\"\",\"\",IF($A17=\"Between\",SUMIFS('Vehicle Type Count by Agency'!AZ:AZ,'Vehicle Type Count by Agency'!$H:$H,\">=\"&$B17,'Vehicle Type Count by Agency'!$H:$H,\"<\"&$D17),SUMIFS('Vehicle Type Count by Agency'!AZ:AZ,'Vehicle Type Count by Agency'!$H:$H,\">=\"&$B17)))","v":""},{"$f":"IF($A17=\"\",\"\",IF($A17=\"Between\",SUMIFS('Vehicle Type Count by Agency'!BB:BB,'Vehicle Type Count by Agency'!$H:$H,\">=\"&$B17,'Vehicle Type Count by Agency'!$H:$H,\"<\"&$D17),SUMIFS('Vehicle Type Count by Agency'!BB:BB,'Vehicle Type Count by Agency'!$H:$H,\">=\"&$B17)))","v":""},{"$f":"IF($A17=\"\",\"\",IF($A17=\"Between\",SUMIFS('Vehicle Type Count by Agency'!BD:BD,'Vehicle Type Count by Agency'!$H:$H,\">=\"&$B17,'Vehicle Type Count by Agency'!$H:$H,\"<\"&$D17),SUMIFS('Vehicle Type Count by Agency'!BD:BD,'Vehicle Type Count by Agency'!$H:$H,\">=\"&$B17)))","v":""},{"$f":"IF($A17=\"\",\"\",IF($A17=\"Between\",SUMIFS('Vehicle Type Count by Agency'!BF:BF,'Vehicle Type Count by Agency'!$H:$H,\">=\"&$B17,'Vehicle Type Count by Agency'!$H:$H,\"<\"&$D17),SUMIFS('Vehicle Type Count by Agency'!BF:BF,'Vehicle Type Count by Agency'!$H:$H,\">=\"&$B17)))","v":""},{"$f":"IF($A17=\"\",\"\",IF($A17=\"Between\",SUMIFS('Vehicle Type Count by Agency'!BH:BH,'Vehicle Type Count by Agency'!$H:$H,\">=\"&$B17,'Vehicle Type Count by Agency'!$H:$H,\"<\"&$D17),SUMIFS('Vehicle Type Count by Agency'!BH:BH,'Vehicle Type Count by Agency'!$H:$H,\">=\"&$B17)))","v":""}]
[null,null,null,null,{"$f":"IFERROR($F$2&\":\"&CHAR(10)&G20&\":\"&CHAR(10)&F18&CHAR(10)&G18&CHAR(10)&H18&CHAR(10)&I18&CHAR(10)&J18&CHAR(10)&K18&CHAR(10)&L18&CHAR(10)&M18&CHAR(10)&N18&CHAR(10)&O18&CHAR(10)&P18&CHAR(10)&Q18&CHAR(10)&R18,\"\")","v":"Active Vehicles By Vehicle Type:\nUnder 200,000 Population:\nBus: 20%\nArticulated Bus: 0%\nOver-the-road Bus: 1%\nDouble Decker Bus: 0%\nSchool Bus: 0%\nVan: 15%\nCutaway: 46%\nAutomobile: 2%\nMinivan: 14%\nSports Utility Vehicle: 1%\nTrolleybus: 0%\nHeavy Rail Passenger Car: 0%\nLight Rail Vehicle: 0%"},{"$f":"F8&\": \"&FIXED(100*F19/$AE$19,0,0)&\"%\"","v":"Bus: 20%"},{"$f":"G8&\": \"&FIXED(100*G19/$AE$19,0,0)&\"%\"","v":"Articulated Bus: 0%"},"Over-the-road Bus: 1%","Double Decker Bus: 0%","School Bus: 0%","Van: 15%","Cutaway: 46%","Automobile: 2%","Minivan: 14%","Sports Utility Vehicle: 1%","Trolleybus: 0%","Heavy Rail Passenger Car: 0%","Light Rail Vehicle: 0%","Commuter Rail Passenger Coach: 0%","Commuter Rail Self-Propelled Passenger Car: 0%","Locomotive: 0%","Automated Guideway Vehicle: 0%","Vintage/ Historic Trolley: 0%","Streetcar: 0%","Aerial Tramway: 0%","Monorail: 0%","Cable Car: 0%","Inclined Plane: 0%","Ferryboat: 0%","Other: 0%"]
[null,null,null,null,null,{"$f":"INDIRECT(ADDRESS(ROW(Table1[[#Headers],[Bus]])+$F$20,COLUMN(Table1[[#Headers],[Bus]])))","v":8534},{"$f":"INDIRECT(ADDRESS(ROW(Table1[[#Headers],[Articulated Bus]])+$F$20,COLUMN(Table1[[#Headers],[Articulated Bus]])))","v":62},{"$f":"INDIRECT(ADDRESS(ROW(Table1[[#Headers],[Over-the-road Bus]])+$F$20,COLUMN(Table1[[#Headers],[Over-the-road Bus]])))","v":258},{"$f":"INDIRECT(ADDRESS(ROW(Table1[[#Headers],[Double Decker Bus]])+$F$20,COLUMN(Table1[[#Headers],[Double Decker Bus]])))","v":10},{"$f":"INDIRECT(ADDRESS(ROW(Table1[[#Headers],[School Bus]])+$F$20,COLUMN(Table1[[#Headers],[School Bus]])))","v":93},{"$f":"INDIRECT(ADDRESS(ROW(Table1[[#Headers],[Van]])+$F$20,COLUMN(Table1[[#Headers],[Van]])))","v":6473},{"$f":"INDIRECT(ADDRESS(ROW(Table1[[#Headers],[Cutaway]])+$F$20,COLUMN(Table1[[#Headers],[Cutaway]])))","v":19192},{"$f":"INDIRECT(ADDRESS(ROW(Table1[[#Headers],[Automobile]])+$F$20,COLUMN(Table1[[#Headers],[Automobile]])))","v":808},{"$f":"INDIRECT(ADDRESS(ROW(Table1[[#Headers],[Minivan]])+$F$20,COLUMN(Table1[[#Headers],[Minivan]])))","v":6105},{"$f":"INDIRECT(ADDRESS(ROW(Table1[[#Headers],[Sports Utility Vehicle]])+$F$20,COLUMN(Table1[[#Headers],[Sports Utility Vehicle]])))","v":367},{"$f":"INDIRECT(ADDRESS(ROW(Table1[[#Headers],[Trolleybus]])+$F$20,COLUMN(Table1[[#Headers],[Trolleybus]])))","v":0},{"$f":"INDIRECT(ADDRESS(ROW(Table1[[#Headers],[Heavy Rail Passenger Car]])+$F$20,COLUMN(Table1[[#Headers],[Heavy Rail Passenger Car]])))","v":0},{"$f":"INDIRECT(ADDRESS(ROW(Table1[[#Headers],[Light Rail Vehicle]])+$F$20,COLUMN(Table1[[#Headers],[Light Rail Vehicle]])))","v":0},{"$f":"INDIRECT(ADDRESS(ROW(Table1[[#Headers],[Commuter Rail Passenger Coach]])+$F$20,COLUMN(Table1[[#Headers],[Commuter Rail Passenger Coach]])))","v":0},{"$f":"INDIRECT(ADDRESS(ROW(Table1[[#Headers],[Commuter Rail Self-Propelled Passenger Car]])+$F$20,COLUMN(Table1[[#Headers],[Commuter Rail Self-Propelled Passenger Car]])))","v":0},{"$f":"INDIRECT(ADDRESS(ROW(Table1[[#Headers],[Locomotive]])+$F$20,COLUMN(Table1[[#Headers],[Locomotive]])))","v":0},{"$f":"INDIRECT(ADDRESS(ROW(Table1[[#Headers],[Automated Guideway Vehicle]])+$F$20,COLUMN(Table1[[#Headers],[Automated Guideway Vehicle]])))","v":69},{"$f":"INDIRECT(ADDRESS(ROW(Table1[[#Headers],[Vintage/ Historic Trolley]])+$F$20,COLUMN(Table1[[#Headers],[Vintage/ Historic Trolley]])))","v":7},{"$f":"INDIRECT(ADDRESS(ROW(Table1[[#Headers],[Streetcar]])+$F$20,COLUMN(Table1[[#Headers],[Streetcar]])))","v":0},{"$f":"INDIRECT(ADDRESS(ROW(Table1[[#Headers],[Aerial Tramway]])+$F$20,COLUMN(Table1[[#Headers],[Aerial Tramway]])))","v":68},{"$f":"INDIRECT(ADDRESS(ROW(Table1[[#Headers],[Monorail]])+$F$20,COLUMN(Table1[[#Headers],[Monorail]])))","v":0},{"$f":"INDIRECT(ADDRESS(ROW(Table1[[#Headers],[Cable Car]])+$F$20,COLUMN(Table1[[#Headers],[Cable Car]])))","v":0},{"$f":"INDIRECT(ADDRESS(ROW(Table1[[#Headers],[Inclined Plane]])+$F$20,COLUMN(Table1[[#Headers],[Inclined Plane]])))","v":2},{"$f":"INDIRECT(ADDRESS(ROW(Table1[[#Headers],[Ferryboat]])+$F$20,COLUMN(Table1[[#Headers],[Ferryboat]])))","v":24},{"$f":"INDIRECT(ADDRESS(ROW(Table1[[#Headers],[Other]])+$F$20,COLUMN(Table1[[#Headers],[Other]])))","v":33},{"$f":"SUM(F19:AD19)","v":42105}]
[null,null,null,null,null,1,{"$f":"IF(INDIRECT(\"A\"&(8+F20))=\"\",\"Please select a valid bin to graph.\",IF(OR(INDIRECT(\"A\"&(8+F20))=\"Under\",INDIRECT(\"A\"&(8+F20))=\"Over\"),INDIRECT(\"A\"&(8+F20))&\" \"&FIXED(INDIRECT(\"B\"&(8+F20)),0,0)&\" Population\",\"Between \"&FIXED(INDIRECT(\"B\"&(8+F20)),0,0)&\" and \"&FIXED(INDIRECT(\"D\"&(8+F20)),0,0)&\" Population\"))","v":"Under 200,000 Population"}]
[]
["By Agency Size (Vehicles)"]
[null,null,null,null,null,"Active Vehicles By Vehicle Type"]
[null,null,null,null,"click to graph","Bus","Articulated Bus","Over-the-road Bus","Double Decker Bus","School Bus","Van","Cutaway","Automobile","Minivan","Sports Utility Vehicle","Trolleybus","Heavy Rail Passenger Car","Light Rail Vehicle","Commuter Rail Passenger Coach","Commuter Rail Self-Propelled Passenger Car","Locomotive","Automated Guideway Vehicle","Vintage/ Historic Trolley","Streetcar","Aerial Tramway","Monorail","Cable Car","Inclined Plane","Ferryboat","Other","Total"]
["Under",{"$f":"D25","v":10},null,10,{"$f":"IFERROR(IF(A25=\"Between\",A25&\" \"&FIXED(B25,0,0)&\" \"&C25&\" \"&FIXED(D26,0,0),A25&\" \"&FIXED(B25,0,0)),\"invalid bin\")","v":"Under 10"},{"$f":"SUMIFS('Vehicle Type Count by Agency'!J:J,'Vehicle Type Count by Agency'!$I:$I,\"<\"&$D25)","v":1054},{"$f":"SUMIFS('Vehicle Type Count by Agency'!L:L,'Vehicle Type Count by Agency'!$I:$I,\"<\"&$D25)","v":12},{"$f":"SUMIFS('Vehicle Type Count by Agency'!N:N,'Vehicle Type Count by Agency'!$I:$I,\"<\"&$D25)","v":77},{"$f":"SUMIFS('Vehicle Type Count by Agency'!P:P,'Vehicle Type Count by Agency'!$I:$I,\"<\"&$D25)","v":0},{"$f":"SUMIFS('Vehicle Type Count by Agency'!R:R,'Vehicle Type Count by Agency'!$I:$I,\"<\"&$D25)","v":10},{"$f":"SUMIFS('Vehicle Type Count by Agency'!T:T,'Vehicle Type Count by Agency'!$I:$I,\"<\"&$D25)","v":1338},{"$f":"SUMIFS('Vehicle Type Count by Agency'!V:V,'Vehicle Type Count by Agency'!$I:$I,\"<\"&$D25)","v":5129},{"$f":"SUMIFS('Vehicle Type Count by Agency'!X:X,'Vehicle Type Count by Agency'!$I:$I,\"<\"&$D25)","v":369},{"$f":"SUMIFS('Vehicle Type Count by Agency'!Z:Z,'Vehicle Type Count by Agency'!$I:$I,\"<\"&$D25)","v":2026},{"$f":"SUMIFS('Vehicle Type Count by Agency'!AB:AB,'Vehicle Type Count by Agency'!$I:$I,\"<\"&$D25)","v":93},{"$f":"SUMIFS('Vehicle Type Count by Agency'!AD:AD,'Vehicle Type Count by Agency'!$I:$I,\"<\"&$D25)","v":0},{"$f":"SUMIFS('Vehicle Type Count by Agency'!AF:AF,'Vehicle Type Count by Agency'!$I:$I,\"<\"&$D25)","v":0},{"$f":"SUMIFS('Vehicle Type Count by Agency'!AH:AH,'Vehicle Type Count by Agency'!$I:$I,\"<\"&$D25)","v":0},{"$f":"SUMIFS('Vehicle Type Count by Agency'!AJ:AJ,'Vehicle Type Count by Agency'!$I:$I,\"<\"&$D25)","v":0},{"$f":"SUMIFS('Vehicle Type Count by Agency'!AL:AL,'Vehicle Type Count by Agency'!$I:$I,\"<\"&$D25)","v":0},{"$f":"SUMIFS('Vehicle Type Count by Agency'!AN:AN,'Vehicle Type Count by Agency'!$I:$I,\"<\"&$D25)","v":0},{"$f":"SUMIFS('Vehicle Type Count by Agency'!AP:AP,'Vehicle Type Count by Agency'!$I:$I,\"<\"&$D25)","v":0},{"$f":"SUMIFS('Vehicle Type Count by Agency'!AR:AR,'Vehicle Type Count by Agency'!$I:$I,\"<\"&$D25)","v":5},{"$f":"SUMIFS('Vehicle Type Count by Agency'!AT:AT,'Vehicle Type Count by Agency'!$I:$I,\"<\"&$D25)","v":21},{"$f":"SUMIFS('Vehicle Type Count by Agency'!AV:AV,'Vehicle Type Count by Agency'!$I:$I,\"<\"&$D25)","v":0},{"$f":"SUMIFS('Vehicle Type Count by Agency'!AX:AX,'Vehicle Type Count by Agency'!$I:$I,\"<\"&$D25)","v":8},{"$f":"SUMIFS('Vehicle Type Count by Agency'!AZ:AZ,'Vehicle Type Count by Agency'!$I:$I,\"<\"&$D25)","v":0},{"$f":"SUMIFS('Vehicle Type Count by Agency'!BB:BB,'Vehicle Type Count by Agency'!$I:$I,\"<\"&$D25)","v":0},{"$f":"SUMIFS('Vehicle Type Count by Agency'!BD:BD,'Vehicle Type Count by Agency'!$I:$I,\"<\"&$D25)","v":43},{"$f":"SUMIFS('Vehicle Type Count by Agency'!BF:BF,'Vehicle Type Count by Agency'!$I:$I,\"<\"&$D25)","v":5},{"$f":"SUMIFS('Vehicle Type Count by Agency'!BH:BH,'Vehicle Type Count by Agency'!$I:$I,\"<\"&$D25)","v":10190}]
[{"$f":"IF(D27<>\"\",\"Between\",\"Over\")","v":"Between"},{"$f":"D25","v":10},{"$f":"IF(D26<>\"\",\"and\",\"\")","v":"and"},25,"Between 10 and 50",{"$f":"IF($A26=\"Between\",SUMIFS('Vehicle Type Count by Agency'!J:J,'Vehicle Type Count by Agency'!$I:$I,\">=\"&$B26,'Vehicle Type Count by Agency'!$I:$I,\"<\"&$D26),SUMIFS('Vehicle Type Count by Agency'!J:J,'Vehicle Type Count by Agency'!$I:$I,\">=\"&$B26))","v":3238},{"$f":"IF($A26=\"Between\",SUMIFS('Vehicle Type Count by Agency'!L:L,'Vehicle Type Count by Agency'!$I:$I,\">=\"&$B26,'Vehicle Type Count by Agency'!$I:$I,\"<\"&$D26),SUMIFS('Vehicle Type Count by Agency'!L:L,'Vehicle Type Count by Agency'!$I:$I,\">=\"&$B26))","v":2},{"$f":"IF($A26=\"Between\",SUMIFS('Vehicle Type Count by Agency'!N:N,'Vehicle Type Count by Agency'!$I:$I,\">=\"&$B26,'Vehicle Type Count by Agency'!$I:$I,\"<\"&$D26),SUMIFS('Vehicle Type Count by Agency'!N:N,'Vehicle Type Count by Agency'!$I:$I,\">=\"&$B26))","v":171},{"$f":"IF($A26=\"Between\",SUMIFS('Vehicle Type Count by Agency'!P:P,'Vehicle Type Count by Agency'!$I:$I,\">=\"&$B26,'Vehicle Type Count by Agency'!$I:$I,\"<\"&$D26),SUMIFS('Vehicle Type Count by Agency'!P:P,'Vehicle Type Count by Agency'!$I:$I,\">=\"&$B26))","v":1},{"$f":"IF($A26=\"Between\",SUMIFS('Vehicle Type Count by Agency'!R:R,'Vehicle Type Count by Agency'!$I:$I,\">=\"&$B26,'Vehicle Type Count by Agency'!$I:$I,\"<\"&$D26),SUMIFS('Vehicle Type Count by Agency'!R:R,'Vehicle Type Count by Agency'!$I:$I,\">=\"&$B26))","v":32},{"$f":"IF($A26=\"Between\",SUMIFS('Vehicle Type Count by Agency'!T:T,'Vehicle Type Count by Agency'!$I:$I,\">=\"&$B26,'Vehicle Type Count by Agency'!$I:$I,\"<\"&$D26),SUMIFS('Vehicle Type Count by Agency'!T:T,'Vehicle Type Count by Agency'!$I:$I,\">=\"&$B26))","v":1309},{"$f":"IF($A26=\"Between\",SUMIFS('Vehicle Type Count by Agency'!V:V,'Vehicle Type Count by Agency'!$I:$I,\">=\"&$B26,'Vehicle Type Count by Agency'!$I:$I,\"<\"&$D26),SUMIFS('Vehicle Type Count by Agency'!V:V,'Vehicle Type Count by Agency'!$I:$I,\">=\"&$B26))","v":5956},{"$f":"IF($A26=\"Between\",SUMIFS('Vehicle Type Count by Agency'!X:X,'Vehicle Type Count by Agency'!$I:$I,\">=\"&$B26,'Vehicle Type Count by Agency'!$I:$I,\"<\"&$D26),SUMIFS('Vehicle Type Count by Agency'!X:X,'Vehicle Type Count by Agency'!$I:$I,\">=\"&$B26))","v":137},{"$f":"IF($A26=\"Between\",SUMIFS('Vehicle Type Count by Agency'!Z:Z,'Vehicle Type Count by Agency'!$I:$I,\">=\"&$B26,'Vehicle Type Count by Agency'!$I:$I,\"<\"&$D26),SUMIFS('Vehicle Type Count by Agency'!Z:Z,'Vehicle Type Count by Agency'!$I:$I,\">=\"&$B26))","v":1377},{"$f":"IF($A26=\"Between\",SUMIFS('Vehicle Type Count by Agency'!AB:AB,'Vehicle Type Count by Agency'!$I:$I,\">=\"&$B26,'Vehicle Type Count by Agency'!$I:$I,\"<\"&$D26),SUMIFS('Vehicle Type Count by Agency'!AB:AB,'Vehicle Type Count by Agency'!$I:$I,\">=\"&$B26))","v":66},{"$f":"IF($A26=\"Between\",SUMIFS('Vehicle Type Count by Agency'!AD:AD,'Vehicle Type Count by Agency'!$I:$I,\">=\"&$B26,'Vehicle Type Count by Agency'!$I:$I,\"<\"&$D26),SUMIFS('Vehicle Type Count by Agency'!AD:AD,'Vehicle Type Count by Agency'!$I:$I,\">=\"&$B26))","v":0},{"$f":"IF($A26=\"Between\",SUMIFS('Vehicle Type Count by Agency'!AF:AF,'Vehicle Type Count by Agency'!$I:$I,\">=\"&$B26,'Vehicle Type Count by Agency'!$I:$I,\"<\"&$D26),SUMIFS('Vehicle Type Count by Agency'!AF:AF,'Vehicle Type Count by Agency'!$I:$I,\">=\"&$B26))","v":0},{"$f":"IF($A26=\"Between\",SUMIFS('Vehicle Type Count by Agency'!AH:AH,'Vehicle Type Count by Agency'!$I:$I,\">=\"&$B26,'Vehicle Type Count by Agency'!$I:$I,\"<\"&$D26),SUMIFS('Vehicle Type Count by Agency'!AH:AH,'Vehicle Type Count by Agency'!$I:$I,\">=\"&$B26))","v":0},{"$f":"IF($A26=\"Between\",SUMIFS('Vehicle Type Count by Agency'!AJ:AJ,'Vehicle Type Count by Agency'!$I:$I,\">=\"&$B26,'Vehicle Type Count by Agency'!$I:$I,\"<\"&$D26),SUMIFS('Vehicle Type Count by Agency'!AJ:AJ,'Vehicle Type Count by Agency'!$I:$I,\">=\"&$B26))","v":35},{"$f":"IF($A26=\"Between\",SUMIFS('Vehicle Type Count by Agency'!AL:AL,'Vehicle Type Count by Agency'!$I:$I,\">=\"&$B26,'Vehicle Type Count by Agency'!$I:$I,\"<\"&$D26),SUMIFS('Vehicle Type Count by Agency'!AL:AL,'Vehicle Type Count by Agency'!$I:$I,\">=\"&$B26))","v":14},{"$f":"IF($A26=\"Between\",SUMIFS('Vehicle Type Count by Agency'!AN:AN,'Vehicle Type Count by Agency'!$I:$I,\">=\"&$B26,'Vehicle Type Count by Agency'!$I:$I,\"<\"&$D26),SUMIFS('Vehicle Type Count by Agency'!AN:AN,'Vehicle Type Count by Agency'!$I:$I,\">=\"&$B26))","v":17},{"$f":"IF($A26=\"Between\",SUMIFS('Vehicle Type Count by Agency'!AP:AP,'Vehicle Type Count by Agency'!$I:$I,\">=\"&$B26,'Vehicle Type Count by Agency'!$I:$I,\"<\"&$D26),SUMIFS('Vehicle Type Count by Agency'!AP:AP,'Vehicle Type Count by Agency'!$I:$I,\">=\"&$B26))","v":10},{"$f":"IF($A26=\"Between\",SUMIFS('Vehicle Type Count by Agency'!AR:AR,'Vehicle Type Count by Agency'!$I:$I,\">=\"&$B26,'Vehicle Type Count by Agency'!$I:$I,\"<\"&$D26),SUMIFS('Vehicle Type Count by Agency'!AR:AR,'Vehicle Type Count by Agency'!$I:$I,\">=\"&$B26))","v":0},{"$f":"IF($A26=\"Between\",SUMIFS('Vehicle Type Count by Agency'!AT:AT,'Vehicle Type Count by Agency'!$I:$I,\">=\"&$B26,'Vehicle Type Count by Agency'!$I:$I,\"<\"&$D26),SUMIFS('Vehicle Type Count by Agency'!AT:AT,'Vehicle Type Count by Agency'!$I:$I,\">=\"&$B26))","v":17},{"$f":"IF($A26=\"Between\",SUMIFS('Vehicle Type Count by Agency'!AV:AV,'Vehicle Type Count by Agency'!$I:$I,\">=\"&$B26,'Vehicle Type Count by Agency'!$I:$I,\"<\"&$D26),SUMIFS('Vehicle Type Count by Agency'!AV:AV,'Vehicle Type Count by Agency'!$I:$I,\">=\"&$B26))","v":2},{"$f":"IF($A26=\"Between\",SUMIFS('Vehicle Type Count by Agency'!AX:AX,'Vehicle Type Count by Agency'!$I:$I,\">=\"&$B26,'Vehicle Type Count by Agency'!$I:$I,\"<\"&$D26),SUMIFS('Vehicle Type Count by Agency'!AX:AX,'Vehicle Type Count by Agency'!$I:$I,\">=\"&$B26))","v":0},{"$f":"IF($A26=\"Between\",SUMIFS('Vehicle Type Count by Agency'!AZ:AZ,'Vehicle Type Count by Agency'!$I:$I,\">=\"&$B26,'Vehicle Type Count by Agency'!$I:$I,\"<\"&$D26),SUMIFS('Vehicle Type Count by Agency'!AZ:AZ,'Vehicle Type Count by Agency'!$I:$I,\">=\"&$B26))","v":0},{"$f":"IF($A26=\"Between\",SUMIFS('Vehicle Type Count by Agency'!BB:BB,'Vehicle Type Count by Agency'!$I:$I,\">=\"&$B26,'Vehicle Type Count by Agency'!$I:$I,\"<\"&$D26),SUMIFS('Vehicle Type Count by Agency'!BB:BB,'Vehicle Type Count by Agency'!$I:$I,\">=\"&$B26))","v":0},{"$f":"IF($A26=\"Between\",SUMIFS('Vehicle Type Count by Agency'!BD:BD,'Vehicle Type Count by Agency'!$I:$I,\">=\"&$B26,'Vehicle Type Count by Agency'!$I:$I,\"<\"&$D26),SUMIFS('Vehicle Type Count by Agency'!BD:BD,'Vehicle Type Count by Agency'!$I:$I,\">=\"&$B26))","v":64},{"$f":"IF($A26=\"Between\",SUMIFS('Vehicle Type Count by Agency'!BF:BF,'Vehicle Type Count by Agency'!$I:$I,\">=\"&$B26,'Vehicle Type Count by Agency'!$I:$I,\"<\"&$D26),SUMIFS('Vehicle Type Count by Agency'!BF:BF,'Vehicle Type Count by Agency'!$I:$I,\">=\"&$B26))","v":0},{"$f":"IF($A26=\"Between\",SUMIFS('Vehicle Type Count by Agency'!BH:BH,'Vehicle Type Count by Agency'!$I:$I,\">=\"&$B26,'Vehicle Type Count by Agency'!$I:$I,\"<\"&$D26),SUMIFS('Vehicle Type Count by Agency'!BH:BH,'Vehicle Type Count by Agency'!$I:$I,\">=\"&$B26))","v":12448}]
[{"$f":"IF(OR(A26=\"Over\",A26=\"\"),\"\",IF(D27=\"\",\"Over\",\"Between\"))","v":"Between"},{"$f":"IF(D26=\"\",\"\",D26)","v":25},{"$f":"IF(D27<>\"\",\"and\",\"\")","v":"and"},50,"Between 25 and 100",{"$f":"IF($A27=\"\",\"\",IF($A27=\"Between\",SUMIFS('Vehicle Type Count by Agency'!J:J,'Vehicle Type Count by Agency'!$I:$I,\">=\"&$B27,'Vehicle Type Count by Agency'!$I:$I,\"<\"&$D27),SUMIFS('Vehicle Type Count by Agency'!J:J,'Vehicle Type Count by Agency'!$I:$I,\">=\"&$B27)))","v":4298},{"$f":"IF($A27=\"\",\"\",IF($A27=\"Between\",SUMIFS('Vehicle Type Count by Agency'!L:L,'Vehicle Type Count by Agency'!$I:$I,\">=\"&$B27,'Vehicle Type Count by Agency'!$I:$I,\"<\"&$D27),SUMIFS('Vehicle Type Count by Agency'!L:L,'Vehicle Type Count by Agency'!$I:$I,\">=\"&$B27)))","v":34},{"$f":"IF($A27=\"\",\"\",IF($A27=\"Between\",SUMIFS('Vehicle Type Count by Agency'!N:N,'Vehicle Type Count by Agency'!$I:$I,\">=\"&$B27,'Vehicle Type Count by Agency'!$I:$I,\"<\"&$D27),SUMIFS('Vehicle Type Count by Agency'!N:N,'Vehicle Type Count by Agency'!$I:$I,\">=\"&$B27)))","v":371},{"$f":"IF($A27=\"\",\"\",IF($A27=\"Between\",SUMIFS('Vehicle Type Count by Agency'!P:P,'Vehicle Type Count by Agency'!$I:$I,\">=\"&$B27,'Vehicle Type Count by Agency'!$I:$I,\"<\"&$D27),SUMIFS('Vehicle Type Count by Agency'!P:P,'Vehicle Type Count by Agency'!$I:$I,\">=\"&$B27)))","v":9},{"$f":"IF($A27=\"\",\"\",IF($A27=\"Between\",SUMIFS('Vehicle Type Count by Agency'!R:R,'Vehicle Type Count by Agency'!$I:$I,\">=\"&$B27,'Vehicle Type Count by Agency'!$I:$I,\"<\"&$D27),SUMIFS('Vehicle Type Count by Agency'!R:R,'Vehicle Type Count by Agency'!$I:$I,\">=\"&$B27)))","v":10},{"$f":"IF($A27=\"\",\"\",IF($A27=\"Between\",SUMIFS('Vehicle Type Count by Agency'!T:T,'Vehicle Type Count by Agency'!$I:$I,\">=\"&$B27,'Vehicle Type Count by Agency'!$I:$I,\"<\"&$D27),SUMIFS('Vehicle Type Count by Agency'!T:T,'Vehicle Type Count by Agency'!$I:$I,\">=\"&$B27)))","v":1387},{"$f":"IF($A27=\"\",\"\",IF($A27=\"Between\",SUMIFS('Vehicle Type Count by Agency'!V:V,'Vehicle Type Count by Agency'!$I:$I,\">=\"&$B27,'Vehicle Type Count by Agency'!$I:$I,\"<\"&$D27),SUMIFS('Vehicle Type Count by Agency'!V:V,'Vehicle Type Count by Agency'!$I:$I,\">=\"&$B27)))","v":6193},{"$f":"IF($A27=\"\",\"\",IF($A27=\"Between\",SUMIFS('Vehicle Type Count by Agency'!X:X,'Vehicle Type Count by Agency'!$I:$I,\">=\"&$B27,'Vehicle Type Count by Agency'!$I:$I,\"<\"&$D27),SUMIFS('Vehicle Type Count by Agency'!X:X,'Vehicle Type Count by Agency'!$I:$I,\">=\"&$B27)))","v":286},{"$f":"IF($A27=\"\",\"\",IF($A27=\"Between\",SUMIFS('Vehicle Type Count by Agency'!Z:Z,'Vehicle Type Count by Agency'!$I:$I,\">=\"&$B27,'Vehicle Type Count by Agency'!$I:$I,\"<\"&$D27),SUMIFS('Vehicle Type Count by Agency'!Z:Z,'Vehicle Type Count by Agency'!$I:$I,\">=\"&$B27)))","v":1466},{"$f":"IF($A27=\"\",\"\",IF($A27=\"Between\",SUMIFS('Vehicle Type Count by Agency'!AB:AB,'Vehicle Type Count by Agency'!$I:$I,\">=\"&$B27,'Vehicle Type Count by Agency'!$I:$I,\"<\"&$D27),SUMIFS('Vehicle Type Count by Agency'!AB:AB,'Vehicle Type Count by Agency'!$I:$I,\">=\"&$B27)))","v":88},{"$f":"IF($A27=\"\",\"\",IF($A27=\"Between\",SUMIFS('Vehicle Type Count by Agency'!AD:AD,'Vehicle Type Count by Agency'!$I:$I,\">=\"&$B27,'Vehicle Type Count by Agency'!$I:$I,\"<\"&$D27),SUMIFS('Vehicle Type Count by Agency'!AD:AD,'Vehicle Type Count by Agency'!$I:$I,\">=\"&$B27)))","v":0},{"$f":"IF($A27=\"\",\"\",IF($A27=\"Between\",SUMIFS('Vehicle Type Count by Agency'!AF:AF,'Vehicle Type Count by Agency'!$I:$I,\">=\"&$B27,'Vehicle Type Count by Agency'!$I:$I,\"<\"&$D27),SUMIFS('Vehicle Type Count by Agency'!AF:AF,'Vehicle Type Count by Agency'!$I:$I,\">=\"&$B27)))","v":61},{"$f":"IF($A27=\"\",\"\",IF($A27=\"Between\",SUMIFS('Vehicle Type Count by Agency'!AH:AH,'Vehicle Type Count by Agency'!$I:$I,\">=\"&$B27,'Vehicle Type Count by Agency'!$I:$I,\"<\"&$D27),SUMIFS('Vehicle Type Count by Agency'!AH:AH,'Vehicle Type Count by Agency'!$I:$I,\">=\"&$B27)))","v":50},{"$f":"IF($A27=\"\",\"\",IF($A27=\"Between\",SUMIFS('Vehicle Type Count by Agency'!AJ:AJ,'Vehicle Type Count by Agency'!$I:$I,\">=\"&$B27,'Vehicle Type Count by Agency'!$I:$I,\"<\"&$D27),SUMIFS('Vehicle Type Count by Agency'!AJ:AJ,'Vehicle Type Count by Agency'!$I:$I,\">=\"&$B27)))","v":132},{"$f":"IF($A27=\"\",\"\",IF($A27=\"Between\",SUMIFS('Vehicle Type Count by Agency'!AL:AL,'Vehicle Type Count by Agency'!$I:$I,\">=\"&$B27,'Vehicle Type Count by Agency'!$I:$I,\"<\"&$D27),SUMIFS('Vehicle Type Count by Agency'!AL:AL,'Vehicle Type Count by Agency'!$I:$I,\">=\"&$B27)))","v":7},{"$f":"IF($A27=\"\",\"\",IF($A27=\"Between\",SUMIFS('Vehicle Type Count by Agency'!AN:AN,'Vehicle Type Count by Agency'!$I:$I,\">=\"&$B27,'Vehicle Type Count by Agency'!$I:$I,\"<\"&$D27),SUMIFS('Vehicle Type Count by Agency'!AN:AN,'Vehicle Type Count by Agency'!$I:$I,\">=\"&$B27)))","v":81},{"$f":"IF($A27=\"\",\"\",IF($A27=\"Between\",SUMIFS('Vehicle Type Count by Agency'!AP:AP,'Vehicle Type Count by Agency'!$I:$I,\">=\"&$B27,'Vehicle Type Count by Agency'!$I:$I,\"<\"&$D27),SUMIFS('Vehicle Type Count by Agency'!AP:AP,'Vehicle Type Count by Agency'!$I:$I,\">=\"&$B27)))","v":69},{"$f":"IF($A27=\"\",\"\",IF($A27=\"Between\",SUMIFS('Vehicle Type Count by Agency'!AR:AR,'Vehicle Type Count by Agency'!$I:$I,\">=\"&$B27,'Vehicle Type Count by Agency'!$I:$I,\"<\"&$D27),SUMIFS('Vehicle Type Count by Agency'!AR:AR,'Vehicle Type Count by Agency'!$I:$I,\">=\"&$B27)))","v":0},{"$f":"IF($A27=\"\",\"\",IF($A27=\"Between\",SUMIFS('Vehicle Type Count by Agency'!AT:AT,'Vehicle Type Count by Agency'!$I:$I,\">=\"&$B27,'Vehicle Type Count by Agency'!$I:$I,\"<\"&$D27),SUMIFS('Vehicle Type Count by Agency'!AT:AT,'Vehicle Type Count by Agency'!$I:$I,\">=\"&$B27)))","v":0},{"$f":"IF($A27=\"\",\"\",IF($A27=\"Between\",SUMIFS('Vehicle Type Count by Agency'!AV:AV,'Vehicle Type Count by Agency'!$I:$I,\">=\"&$B27,'Vehicle Type Count by Agency'!$I:$I,\"<\"&$D27),SUMIFS('Vehicle Type Count by Agency'!AV:AV,'Vehicle Type Count by Agency'!$I:$I,\">=\"&$B27)))","v":0},{"$f":"IF($A27=\"\",\"\",IF($A27=\"Between\",SUMIFS('Vehicle Type Count by Agency'!AX:AX,'Vehicle Type Count by Agency'!$I:$I,\">=\"&$B27,'Vehicle Type Count by Agency'!$I:$I,\"<\"&$D27),SUMIFS('Vehicle Type Count by Agency'!AX:AX,'Vehicle Type Count by Agency'!$I:$I,\">=\"&$B27)))","v":0},{"$f":"IF($A27=\"\",\"\",IF($A27=\"Between\",SUMIFS('Vehicle Type Count by Agency'!AZ:AZ,'Vehicle Type Count by Agency'!$I:$I,\">=\"&$B27,'Vehicle Type Count by Agency'!$I:$I,\"<\"&$D27),SUMIFS('Vehicle Type Count by Agency'!AZ:AZ,'Vehicle Type Count by Agency'!$I:$I,\">=\"&$B27)))","v":0},{"$f":"IF($A27=\"\",\"\",IF($A27=\"Between\",SUMIFS('Vehicle Type Count by Agency'!BB:BB,'Vehicle Type Count by Agency'!$I:$I,\">=\"&$B27,'Vehicle Type Count by Agency'!$I:$I,\"<\"&$D27),SUMIFS('Vehicle Type Count by Agency'!BB:BB,'Vehicle Type Count by Agency'!$I:$I,\">=\"&$B27)))","v":0},{"$f":"IF($A27=\"\",\"\",IF($A27=\"Between\",SUMIFS('Vehicle Type Count by Agency'!BD:BD,'Vehicle Type Count by Agency'!$I:$I,\">=\"&$B27,'Vehicle Type Count by Agency'!$I:$I,\"<\"&$D27),SUMIFS('Vehicle Type Count by Agency'!BD:BD,'Vehicle Type Count by Agency'!$I:$I,\">=\"&$B27)))","v":18},{"$f":"IF($A27=\"\",\"\",IF($A27=\"Between\",SUMIFS('Vehicle Type Count by Agency'!BF:BF,'Vehicle Type Count by Agency'!$I:$I,\">=\"&$B27,'Vehicle Type Count by Agency'!$I:$I,\"<\"&$D27),SUMIFS('Vehicle Type Count by Agency'!BF:BF,'Vehicle Type Count by Agency'!$I:$I,\">=\"&$B27)))","v":5},{"$f":"IF($A27=\"\",\"\",IF($A27=\"Between\",SUMIFS('Vehicle Type Count by Agency'!BH:BH,'Vehicle Type Count by Agency'!$I:$I,\">=\"&$B27,'Vehicle Type Count by Agency'!$I:$I,\"<\"&$D27),SUMIFS('Vehicle Type Count by Agency'!BH:BH,'Vehicle Type Count by Agency'!$I:$I,\">=\"&$B27)))","v":14565}]
[{"$f":"IF(OR(A27=\"Over\",A27=\"\"),\"\",IF(D28=\"\",\"Over\",\"Between\"))","v":"Between"},{"$f":"IF(D27=\"\",\"\",D27)","v":50},"and",100,"Between 50 and 250",{"$f":"IF($A28=\"\",\"\",IF($A28=\"Between\",SUMIFS('Vehicle Type Count by Agency'!J:J,'Vehicle Type Count by Agency'!$I:$I,\">=\"&$B28,'Vehicle Type Count by Agency'!$I:$I,\"<\"&$D28),SUMIFS('Vehicle Type Count by Agency'!J:J,'Vehicle Type Count by Agency'!$I:$I,\">=\"&$B28)))","v":5707},{"$f":"IF($A28=\"\",\"\",IF($A28=\"Between\",SUMIFS('Vehicle Type Count by Agency'!L:L,'Vehicle Type Count by Agency'!$I:$I,\">=\"&$B28,'Vehicle Type Count by Agency'!$I:$I,\"<\"&$D28),SUMIFS('Vehicle Type Count by Agency'!L:L,'Vehicle Type Count by Agency'!$I:$I,\">=\"&$B28)))","v":80},{"$f":"IF($A28=\"\",\"\",IF($A28=\"Between\",SUMIFS('Vehicle Type Count by Agency'!N:N,'Vehicle Type Count by Agency'!$I:$I,\">=\"&$B28,'Vehicle Type Count by Agency'!$I:$I,\"<\"&$D28),SUMIFS('Vehicle Type Count by Agency'!N:N,'Vehicle Type Count by Agency'!$I:$I,\">=\"&$B28)))","v":952},{"$f":"IF($A28=\"\",\"\",IF($A28=\"Between\",SUMIFS('Vehicle Type Count by Agency'!P:P,'Vehicle Type Count by Agency'!$I:$I,\">=\"&$B28,'Vehicle Type Count by Agency'!$I:$I,\"<\"&$D28),SUMIFS('Vehicle Type Count by Agency'!P:P,'Vehicle Type Count by Agency'!$I:$I,\">=\"&$B28)))","v":0},{"$f":"IF($A28=\"\",\"\",IF($A28=\"Between\",SUMIFS('Vehicle Type Count by Agency'!R:R,'Vehicle Type Count by Agency'!$I:$I,\">=\"&$B28,'Vehicle Type Count by Agency'!$I:$I,\"<\"&$D28),SUMIFS('Vehicle Type Count by Agency'!R:R,'Vehicle Type Count by Agency'!$I:$I,\">=\"&$B28)))","v":42},{"$f":"IF($A28=\"\",\"\",IF($A28=\"Between\",SUMIFS('Vehicle Type Count by Agency'!T:T,'Vehicle Type Count by Agency'!$I:$I,\">=\"&$B28,'Vehicle Type Count by Agency'!$I:$I,\"<\"&$D28),SUMIFS('Vehicle Type Count by Agency'!T:T,'Vehicle Type Count by Agency'!$I:$I,\">=\"&$B28)))","v":2371},{"$f":"IF($A28=\"\",\"\",IF($A28=\"Between\",SUMIFS('Vehicle Type Count by Agency'!V:V,'Vehicle Type Count by Agency'!$I:$I,\">=\"&$B28,'Vehicle Type Count by Agency'!$I:$I,\"<\"&$D28),SUMIFS('Vehicle Type Count by Agency'!V:V,'Vehicle Type Count by Agency'!$I:$I,\">=\"&$B28)))","v":5406},{"$f":"IF($A28=\"\",\"\",IF($A28=\"Between\",SUMIFS('Vehicle Type Count by Agency'!X:X,'Vehicle Type Count by Agency'!$I:$I,\">=\"&$B28,'Vehicle Type Count by Agency'!$I:$I,\"<\"&$D28),SUMIFS('Vehicle Type Count by Agency'!X:X,'Vehicle Type Count by Agency'!$I:$I,\">=\"&$B28)))","v":449},{"$f":"IF($A28=\"\",\"\",IF($A28=\"Between\",SUMIFS('Vehicle Type Count by Agency'!Z:Z,'Vehicle Type Count by Agency'!$I:$I,\">=\"&$B28,'Vehicle Type Count by Agency'!$I:$I,\"<\"&$D28),SUMIFS('Vehicle Type Count by Agency'!Z:Z,'Vehicle Type Count by Agency'!$I:$I,\">=\"&$B28)))","v":1211},{"$f":"IF($A28=\"\",\"\",IF($A28=\"Between\",SUMIFS('Vehicle Type Count by Agency'!AB:AB,'Vehicle Type Count by Agency'!$I:$I,\">=\"&$B28,'Vehicle Type Count by Agency'!$I:$I,\"<\"&$D28),SUMIFS('Vehicle Type Count by Agency'!AB:AB,'Vehicle Type Count by Agency'!$I:$I,\">=\"&$B28)))","v":123},{"$f":"IF($A28=\"\",\"\",IF($A28=\"Between\",SUMIFS('Vehicle Type Count by Agency'!AD:AD,'Vehicle Type Count by Agency'!$I:$I,\">=\"&$B28,'Vehicle Type Count by Agency'!$I:$I,\"<\"&$D28),SUMIFS('Vehicle Type Count by Agency'!AD:AD,'Vehicle Type Count by Agency'!$I:$I,\">=\"&$B28)))","v":0},{"$f":"IF($A28=\"\",\"\",IF($A28=\"Between\",SUMIFS('Vehicle Type Count by Agency'!AF:AF,'Vehicle Type Count by Agency'!$I:$I,\">=\"&$B28,'Vehicle Type Count by Agency'!$I:$I,\"<\"&$D28),SUMIFS('Vehicle Type Count by Agency'!AF:AF,'Vehicle Type Count by Agency'!$I:$I,\">=\"&$B28)))","v":200},{"$f":"IF($A28=\"\",\"\",IF($A28=\"Between\",SUMIFS('Vehicle Type Count by Agency'!AH:AH,'Vehicle Type Count by Agency'!$I:$I,\">=\"&$B28,'Vehicle Type Count by Agency'!$I:$I,\"<\"&$D28),SUMIFS('Vehicle Type Count by Agency'!AH:AH,'Vehicle Type Count by Agency'!$I:$I,\">=\"&$B28)))","v":0},{"$f":"IF($A28=\"\",\"\",IF($A28=\"Between\",SUMIFS('Vehicle Type Count by Agency'!AJ:AJ,'Vehicle Type Count by Agency'!$I:$I,\">=\"&$B28,'Vehicle Type Count by Agency'!$I:$I,\"<\"&$D28),SUMIFS('Vehicle Type Count by Agency'!AJ:AJ,'Vehicle Type Count by Agency'!$I:$I,\">=\"&$B28)))","v":186},{"$f":"IF($A28=\"\",\"\",IF($A28=\"Between\",SUMIFS('Vehicle Type Count by Agency'!AL:AL,'Vehicle Type Count by Agency'!$I:$I,\">=\"&$B28,'Vehicle Type Count by Agency'!$I:$I,\"<\"&$D28),SUMIFS('Vehicle Type Count by Agency'!AL:AL,'Vehicle Type Count by Agency'!$I:$I,\">=\"&$B28)))","v":72},{"$f":"IF($A28=\"\",\"\",IF($A28=\"Between\",SUMIFS('Vehicle Type Count by Agency'!AN:AN,'Vehicle Type Count by Agency'!$I:$I,\">=\"&$B28,'Vehicle Type Count by Agency'!$I:$I,\"<\"&$D28),SUMIFS('Vehicle Type Count by Agency'!AN:AN,'Vehicle Type Count by Agency'!$I:$I,\">=\"&$B28)))","v":49},{"$f":"IF($A28=\"\",\"\",IF($A28=\"Between\",SUMIFS('Vehicle Type Count by Agency'!AP:AP,'Vehicle Type Count by Agency'!$I:$I,\">=\"&$B28,'Vehicle Type Count by Agency'!$I:$I,\"<\"&$D28),SUMIFS('Vehicle Type Count by Agency'!AP:AP,'Vehicle Type Count by Agency'!$I:$I,\">=\"&$B28)))","v":0},{"$f":"IF($A28=\"\",\"\",IF($A28=\"Between\",SUMIFS('Vehicle Type Count by Agency'!AR:AR,'Vehicle Type Count by Agency'!$I:$I,\">=\"&$B28,'Vehicle Type Count by Agency'!$I:$I,\"<\"&$D28),SUMIFS('Vehicle Type Count by Agency'!AR:AR,'Vehicle Type Count by Agency'!$I:$I,\">=\"&$B28)))","v":12},{"$f":"IF($A28=\"\",\"\",IF($A28=\"Between\",SUMIFS('Vehicle Type Count by Agency'!AT:AT,'Vehicle Type Count by Agency'!$I:$I,\">=\"&$B28,'Vehicle Type Count by Agency'!$I:$I,\"<\"&$D28),SUMIFS('Vehicle Type Count by Agency'!AT:AT,'Vehicle Type Count by Agency'!$I:$I,\">=\"&$B28)))","v":6},{"$f":"IF($A28=\"\",\"\",IF($A28=\"Between\",SUMIFS('Vehicle Type Count by Agency'!AV:AV,'Vehicle Type Count by Agency'!$I:$I,\">=\"&$B28,'Vehicle Type Count by Agency'!$I:$I,\"<\"&$D28),SUMIFS('Vehicle Type Count by Agency'!AV:AV,'Vehicle Type Count by Agency'!$I:$I,\">=\"&$B28)))","v":68},{"$f":"IF($A28=\"\",\"\",IF($A28=\"Between\",SUMIFS('Vehicle Type Count by Agency'!AX:AX,'Vehicle Type Count by Agency'!$I:$I,\">=\"&$B28,'Vehicle Type Count by Agency'!$I:$I,\"<\"&$D28),SUMIFS('Vehicle Type Count by Agency'!AX:AX,'Vehicle Type Count by Agency'!$I:$I,\">=\"&$B28)))","v":0},{"$f":"IF($A28=\"\",\"\",IF($A28=\"Between\",SUMIFS('Vehicle Type Count by Agency'!AZ:AZ,'Vehicle Type Count by Agency'!$I:$I,\">=\"&$B28,'Vehicle Type Count by Agency'!$I:$I,\"<\"&$D28),SUMIFS('Vehicle Type Count by Agency'!AZ:AZ,'Vehicle Type Count by Agency'!$I:$I,\">=\"&$B28)))","v":0},{"$f":"IF($A28=\"\",\"\",IF($A28=\"Between\",SUMIFS('Vehicle Type Count by Agency'!BB:BB,'Vehicle Type Count by Agency'!$I:$I,\">=\"&$B28,'Vehicle Type Count by Agency'!$I:$I,\"<\"&$D28),SUMIFS('Vehicle Type Count by Agency'!BB:BB,'Vehicle Type Count by Agency'!$I:$I,\">=\"&$B28)))","v":4},{"$f":"IF($A28=\"\",\"\",IF($A28=\"Between\",SUMIFS('Vehicle Type Count by Agency'!BD:BD,'Vehicle Type Count by Agency'!$I:$I,\">=\"&$B28,'Vehicle Type Count by Agency'!$I:$I,\"<\"&$D28),SUMIFS('Vehicle Type Count by Agency'!BD:BD,'Vehicle Type Count by Agency'!$I:$I,\">=\"&$B28)))","v":25},{"$f":"IF($A28=\"\",\"\",IF($A28=\"Between\",SUMIFS('Vehicle Type Count by Agency'!BF:BF,'Vehicle Type Count by Agency'!$I:$I,\">=\"&$B28,'Vehicle Type Count by Agency'!$I:$I,\"<\"&$D28),SUMIFS('Vehicle Type Count by Agency'!BF:BF,'Vehicle Type Count by Agency'!$I:$I,\">=\"&$B28)))","v":23},{"$f":"IF($A28=\"\",\"\",IF($A28=\"Between\",SUMIFS('Vehicle Type Count by Agency'!BH:BH,'Vehicle Type Count by Agency'!$I:$I,\">=\"&$B28,'Vehicle Type Count by Agency'!$I:$I,\"<\"&$D28),SUMIFS('Vehicle Type Count by Agency'!BH:BH,'Vehicle Type Count by Agency'!$I:$I,\">=\"&$B28)))","v":16986}]
["Between",100,"and",250,"Between 100 and 500",{"$f":"IF($A29=\"\",\"\",IF($A29=\"Between\",SUMIFS('Vehicle Type Count by Agency'!J:J,'Vehicle Type Count by Agency'!$I:$I,\">=\"&$B29,'Vehicle Type Count by Agency'!$I:$I,\"<\"&$D29),SUMIFS('Vehicle Type Count by Agency'!J:J,'Vehicle Type Count by Agency'!$I:$I,\">=\"&$B29)))","v":6791},{"$f":"IF($A29=\"\",\"\",IF($A29=\"Between\",SUMIFS('Vehicle Type Count by Agency'!L:L,'Vehicle Type Count by Agency'!$I:$I,\">=\"&$B29,'Vehicle Type Count by Agency'!$I:$I,\"<\"&$D29),SUMIFS('Vehicle Type Count by Agency'!L:L,'Vehicle Type Count by Agency'!$I:$I,\">=\"&$B29)))","v":235},{"$f":"IF($A29=\"\",\"\",IF($A29=\"Between\",SUMIFS('Vehicle Type Count by Agency'!N:N,'Vehicle Type Count by Agency'!$I:$I,\">=\"&$B29,'Vehicle Type Count by Agency'!$I:$I,\"<\"&$D29),SUMIFS('Vehicle Type Count by Agency'!N:N,'Vehicle Type Count by Agency'!$I:$I,\">=\"&$B29)))","v":794},{"$f":"IF($A29=\"\",\"\",IF($A29=\"Between\",SUMIFS('Vehicle Type Count by Agency'!P:P,'Vehicle Type Count by Agency'!$I:$I,\">=\"&$B29,'Vehicle Type Count by Agency'!$I:$I,\"<\"&$D29),SUMIFS('Vehicle Type Count by Agency'!P:P,'Vehicle Type Count by Agency'!$I:$I,\">=\"&$B29)))","v":0},{"$f":"IF($A29=\"\",\"\",IF($A29=\"Between\",SUMIFS('Vehicle Type Count by Agency'!R:R,'Vehicle Type Count by Agency'!$I:$I,\">=\"&$B29,'Vehicle Type Count by Agency'!$I:$I,\"<\"&$D29),SUMIFS('Vehicle Type Count by Agency'!R:R,'Vehicle Type Count by Agency'!$I:$I,\">=\"&$B29)))","v":5},{"$f":"IF($A29=\"\",\"\",IF($A29=\"Between\",SUMIFS('Vehicle Type Count by Agency'!T:T,'Vehicle Type Count by Agency'!$I:$I,\">=\"&$B29,'Vehicle Type Count by Agency'!$I:$I,\"<\"&$D29),SUMIFS('Vehicle Type Count by Agency'!T:T,'Vehicle Type Count by Agency'!$I:$I,\">=\"&$B29)))","v":1747},{"$f":"IF($A29=\"\",\"\",IF($A29=\"Between\",SUMIFS('Vehicle Type Count by Agency'!V:V,'Vehicle Type Count by Agency'!$I:$I,\">=\"&$B29,'Vehicle Type Count by Agency'!$I:$I,\"<\"&$D29),SUMIFS('Vehicle Type Count by Agency'!V:V,'Vehicle Type Count by Agency'!$I:$I,\">=\"&$B29)))","v":4166},{"$f":"IF($A29=\"\",\"\",IF($A29=\"Between\",SUMIFS('Vehicle Type Count by Agency'!X:X,'Vehicle Type Count by Agency'!$I:$I,\">=\"&$B29,'Vehicle Type Count by Agency'!$I:$I,\"<\"&$D29),SUMIFS('Vehicle Type Count by Agency'!X:X,'Vehicle Type Count by Agency'!$I:$I,\">=\"&$B29)))","v":576},{"$f":"IF($A29=\"\",\"\",IF($A29=\"Between\",SUMIFS('Vehicle Type Count by Agency'!Z:Z,'Vehicle Type Count by Agency'!$I:$I,\">=\"&$B29,'Vehicle Type Count by Agency'!$I:$I,\"<\"&$D29),SUMIFS('Vehicle Type Count by Agency'!Z:Z,'Vehicle Type Count by Agency'!$I:$I,\">=\"&$B29)))","v":780},{"$f":"IF($A29=\"\",\"\",IF($A29=\"Between\",SUMIFS('Vehicle Type Count by Agency'!AB:AB,'Vehicle Type Count by Agency'!$I:$I,\">=\"&$B29,'Vehicle Type Count by Agency'!$I:$I,\"<\"&$D29),SUMIFS('Vehicle Type Count by Agency'!AB:AB,'Vehicle Type Count by Agency'!$I:$I,\">=\"&$B29)))","v":192},{"$f":"IF($A29=\"\",\"\",IF($A29=\"Between\",SUMIFS('Vehicle Type Count by Agency'!AD:AD,'Vehicle Type Count by Agency'!$I:$I,\">=\"&$B29,'Vehicle Type Count by Agency'!$I:$I,\"<\"&$D29),SUMIFS('Vehicle Type Count by Agency'!AD:AD,'Vehicle Type Count by Agency'!$I:$I,\">=\"&$B29)))","v":37},{"$f":"IF($A29=\"\",\"\",IF($A29=\"Between\",SUMIFS('Vehicle Type Count by Agency'!AF:AF,'Vehicle Type Count by Agency'!$I:$I,\">=\"&$B29,'Vehicle Type Count by Agency'!$I:$I,\"<\"&$D29),SUMIFS('Vehicle Type Count by Agency'!AF:AF,'Vehicle Type Count by Agency'!$I:$I,\">=\"&$B29)))","v":0},{"$f":"IF($A29=\"\",\"\",IF($A29=\"Between\",SUMIFS('Vehicle Type Count by Agency'!AH:AH,'Vehicle Type Count by Agency'!$I:$I,\">=\"&$B29,'Vehicle Type Count by Agency'!$I:$I,\"<\"&$D29),SUMIFS('Vehicle Type Count by Agency'!AH:AH,'Vehicle Type Count by Agency'!$I:$I,\">=\"&$B29)))","v":121},{"$f":"IF($A29=\"\",\"\",IF($A29=\"Between\",SUMIFS('Vehicle Type Count by Agency'!AJ:AJ,'Vehicle Type Count by Agency'!$I:$I,\">=\"&$B29,'Vehicle Type Count by Agency'!$I:$I,\"<\"&$D29),SUMIFS('Vehicle Type Count by Agency'!AJ:AJ,'Vehicle Type Count by Agency'!$I:$I,\">=\"&$B29)))","v":397},{"$f":"IF($A29=\"\",\"\",IF($A29=\"Between\",SUMIFS('Vehicle Type Count by Agency'!AL:AL,'Vehicle Type Count by Agency'!$I:$I,\">=\"&$B29,'Vehicle Type Count by Agency'!$I:$I,\"<\"&$D29),SUMIFS('Vehicle Type Count by Agency'!AL:AL,'Vehicle Type Count by Agency'!$I:$I,\">=\"&$B29)))","v":11},{"$f":"IF($A29=\"\",\"\",IF($A29=\"Between\",SUMIFS('Vehicle Type Count by Agency'!AN:AN,'Vehicle Type Count by Agency'!$I:$I,\">=\"&$B29,'Vehicle Type Count by Agency'!$I:$I,\"<\"&$D29),SUMIFS('Vehicle Type Count by Agency'!AN:AN,'Vehicle Type Count by Agency'!$I:$I,\">=\"&$B29)))","v":91},{"$f":"IF($A29=\"\",\"\",IF($A29=\"Between\",SUMIFS('Vehicle Type Count by Agency'!AP:AP,'Vehicle Type Count by Agency'!$I:$I,\">=\"&$B29,'Vehicle Type Count by Agency'!$I:$I,\"<\"&$D29),SUMIFS('Vehicle Type Count by Agency'!AP:AP,'Vehicle Type Count by Agency'!$I:$I,\">=\"&$B29)))","v":0},{"$f":"IF($A29=\"\",\"\",IF($A29=\"Between\",SUMIFS('Vehicle Type Count by Agency'!AR:AR,'Vehicle Type Count by Agency'!$I:$I,\">=\"&$B29,'Vehicle Type Count by Agency'!$I:$I,\"<\"&$D29),SUMIFS('Vehicle Type Count by Agency'!AR:AR,'Vehicle Type Count by Agency'!$I:$I,\">=\"&$B29)))","v":35},{"$f":"IF($A29=\"\",\"\",IF($A29=\"Between\",SUMIFS('Vehicle Type Count by Agency'!AT:AT,'Vehicle Type Count by Agency'!$I:$I,\">=\"&$B29,'Vehicle Type Count by Agency'!$I:$I,\"<\"&$D29),SUMIFS('Vehicle Type Count by Agency'!AT:AT,'Vehicle Type Count by Agency'!$I:$I,\">=\"&$B29)))","v":31},{"$f":"IF($A29=\"\",\"\",IF($A29=\"Between\",SUMIFS('Vehicle Type Count by Agency'!AV:AV,'Vehicle Type Count by Agency'!$I:$I,\">=\"&$B29,'Vehicle Type Count by Agency'!$I:$I,\"<\"&$D29),SUMIFS('Vehicle Type Count by Agency'!AV:AV,'Vehicle Type Count by Agency'!$I:$I,\">=\"&$B29)))","v":0},{"$f":"IF($A29=\"\",\"\",IF($A29=\"Between\",SUMIFS('Vehicle Type Count by Agency'!AX:AX,'Vehicle Type Count by Agency'!$I:$I,\">=\"&$B29,'Vehicle Type Count by Agency'!$I:$I,\"<\"&$D29),SUMIFS('Vehicle Type Count by Agency'!AX:AX,'Vehicle Type Count by Agency'!$I:$I,\">=\"&$B29)))","v":0},{"$f":"IF($A29=\"\",\"\",IF($A29=\"Between\",SUMIFS('Vehicle Type Count by Agency'!AZ:AZ,'Vehicle Type Count by Agency'!$I:$I,\">=\"&$B29,'Vehicle Type Count by Agency'!$I:$I,\"<\"&$D29),SUMIFS('Vehicle Type Count by Agency'!AZ:AZ,'Vehicle Type Count by Agency'!$I:$I,\">=\"&$B29)))","v":0},{"$f":"IF($A29=\"\",\"\",IF($A29=\"Between\",SUMIFS('Vehicle Type Count by Agency'!BB:BB,'Vehicle Type Count by Agency'!$I:$I,\">=\"&$B29,'Vehicle Type Count by Agency'!$I:$I,\"<\"&$D29),SUMIFS('Vehicle Type Count by Agency'!BB:BB,'Vehicle Type Count by Agency'!$I:$I,\">=\"&$B29)))","v":0},{"$f":"IF($A29=\"\",\"\",IF($A29=\"Between\",SUMIFS('Vehicle Type Count by Agency'!BD:BD,'Vehicle Type Count by Agency'!$I:$I,\">=\"&$B29,'Vehicle Type Count by Agency'!$I:$I,\"<\"&$D29),SUMIFS('Vehicle Type Count by Agency'!BD:BD,'Vehicle Type Count by Agency'!$I:$I,\">=\"&$B29)))","v":10},{"$f":"IF($A29=\"\",\"\",IF($A29=\"Between\",SUMIFS('Vehicle Type Count by Agency'!BF:BF,'Vehicle Type Count by Agency'!$I:$I,\">=\"&$B29,'Vehicle Type Count by Agency'!$I:$I,\"<\"&$D29),SUMIFS('Vehicle Type Count by Agency'!BF:BF,'Vehicle Type Count by Agency'!$I:$I,\">=\"&$B29)))","v":2},{"$f":"IF($A29=\"\",\"\",IF($A29=\"Between\",SUMIFS('Vehicle Type Count by Agency'!BH:BH,'Vehicle Type Count by Agency'!$I:$I,\">=\"&$B29,'Vehicle Type Count by Agency'!$I:$I,\"<\"&$D29),SUMIFS('Vehicle Type Count by Agency'!BH:BH,'Vehicle Type Count by Agency'!$I:$I,\">=\"&$B29)))","v":16021}]
["Between",250,"and",500,"Between 250 and 1,000",{"$f":"IF($A30=\"\",\"\",IF($A30=\"Between\",SUMIFS('Vehicle Type Count by Agency'!J:J,'Vehicle Type Count by Agency'!$I:$I,\">=\"&$B30,'Vehicle Type Count by Agency'!$I:$I,\"<\"&$D30),SUMIFS('Vehicle Type Count by Agency'!J:J,'Vehicle Type Count by Agency'!$I:$I,\">=\"&$B30)))","v":9156},{"$f":"IF($A30=\"\",\"\",IF($A30=\"Between\",SUMIFS('Vehicle Type Count by Agency'!L:L,'Vehicle Type Count by Agency'!$I:$I,\">=\"&$B30,'Vehicle Type Count by Agency'!$I:$I,\"<\"&$D30),SUMIFS('Vehicle Type Count by Agency'!L:L,'Vehicle Type Count by Agency'!$I:$I,\">=\"&$B30)))","v":538},{"$f":"IF($A30=\"\",\"\",IF($A30=\"Between\",SUMIFS('Vehicle Type Count by Agency'!N:N,'Vehicle Type Count by Agency'!$I:$I,\">=\"&$B30,'Vehicle Type Count by Agency'!$I:$I,\"<\"&$D30),SUMIFS('Vehicle Type Count by Agency'!N:N,'Vehicle Type Count by Agency'!$I:$I,\">=\"&$B30)))","v":286},{"$f":"IF($A30=\"\",\"\",IF($A30=\"Between\",SUMIFS('Vehicle Type Count by Agency'!P:P,'Vehicle Type Count by Agency'!$I:$I,\">=\"&$B30,'Vehicle Type Count by Agency'!$I:$I,\"<\"&$D30),SUMIFS('Vehicle Type Count by Agency'!P:P,'Vehicle Type Count by Agency'!$I:$I,\">=\"&$B30)))","v":37},{"$f":"IF($A30=\"\",\"\",IF($A30=\"Between\",SUMIFS('Vehicle Type Count by Agency'!R:R,'Vehicle Type Count by Agency'!$I:$I,\">=\"&$B30,'Vehicle Type Count by Agency'!$I:$I,\"<\"&$D30),SUMIFS('Vehicle Type Count by Agency'!R:R,'Vehicle Type Count by Agency'!$I:$I,\">=\"&$B30)))","v":0},{"$f":"IF($A30=\"\",\"\",IF($A30=\"Between\",SUMIFS('Vehicle Type Count by Agency'!T:T,'Vehicle Type Count by Agency'!$I:$I,\">=\"&$B30,'Vehicle Type Count by Agency'!$I:$I,\"<\"&$D30),SUMIFS('Vehicle Type Count by Agency'!T:T,'Vehicle Type Count by Agency'!$I:$I,\">=\"&$B30)))","v":3319},{"$f":"IF($A30=\"\",\"\",IF($A30=\"Between\",SUMIFS('Vehicle Type Count by Agency'!V:V,'Vehicle Type Count by Agency'!$I:$I,\">=\"&$B30,'Vehicle Type Count by Agency'!$I:$I,\"<\"&$D30),SUMIFS('Vehicle Type Count by Agency'!V:V,'Vehicle Type Count by Agency'!$I:$I,\">=\"&$B30)))","v":2912},{"$f":"IF($A30=\"\",\"\",IF($A30=\"Between\",SUMIFS('Vehicle Type Count by Agency'!X:X,'Vehicle Type Count by Agency'!$I:$I,\">=\"&$B30,'Vehicle Type Count by Agency'!$I:$I,\"<\"&$D30),SUMIFS('Vehicle Type Count by Agency'!X:X,'Vehicle Type Count by Agency'!$I:$I,\">=\"&$B30)))","v":935},{"$f":"IF($A30=\"\",\"\",IF($A30=\"Between\",SUMIFS('Vehicle Type Count by Agency'!Z:Z,'Vehicle Type Count by Agency'!$I:$I,\">=\"&$B30,'Vehicle Type Count by Agency'!$I:$I,\"<\"&$D30),SUMIFS('Vehicle Type Count by Agency'!Z:Z,'Vehicle Type Count by Agency'!$I:$I,\">=\"&$B30)))","v":375},{"$f":"IF($A30=\"\",\"\",IF($A30=\"Between\",SUMIFS('Vehicle Type Count by Agency'!AB:AB,'Vehicle Type Count by Agency'!$I:$I,\">=\"&$B30,'Vehicle Type Count by Agency'!$I:$I,\"<\"&$D30),SUMIFS('Vehicle Type Count by Agency'!AB:AB,'Vehicle Type Count by Agency'!$I:$I,\">=\"&$B30)))","v":247},{"$f":"IF($A30=\"\",\"\",IF($A30=\"Between\",SUMIFS('Vehicle Type Count by Agency'!AD:AD,'Vehicle Type Count by Agency'!$I:$I,\">=\"&$B30,'Vehicle Type Count by Agency'!$I:$I,\"<\"&$D30),SUMIFS('Vehicle Type Count by Agency'!AD:AD,'Vehicle Type Count by Agency'!$I:$I,\">=\"&$B30)))","v":0},{"$f":"IF($A30=\"\",\"\",IF($A30=\"Between\",SUMIFS('Vehicle Type Count by Agency'!AF:AF,'Vehicle Type Count by Agency'!$I:$I,\">=\"&$B30,'Vehicle Type Count by Agency'!$I:$I,\"<\"&$D30),SUMIFS('Vehicle Type Count by Agency'!AF:AF,'Vehicle Type Count by Agency'!$I:$I,\">=\"&$B30)))","v":390},{"$f":"IF($A30=\"\",\"\",IF($A30=\"Between\",SUMIFS('Vehicle Type Count by Agency'!AH:AH,'Vehicle Type Count by Agency'!$I:$I,\">=\"&$B30,'Vehicle Type Count by Agency'!$I:$I,\"<\"&$D30),SUMIFS('Vehicle Type Count by Agency'!AH:AH,'Vehicle Type Count by Agency'!$I:$I,\">=\"&$B30)))","v":262},{"$f":"IF($A30=\"\",\"\",IF($A30=\"Between\",SUMIFS('Vehicle Type Count by Agency'!AJ:AJ,'Vehicle Type Count by Agency'!$I:$I,\">=\"&$B30,'Vehicle Type Count by Agency'!$I:$I,\"<\"&$D30),SUMIFS('Vehicle Type Count by Agency'!AJ:AJ,'Vehicle Type Count by Agency'!$I:$I,\">=\"&$B30)))","v":67},{"$f":"IF($A30=\"\",\"\",IF($A30=\"Between\",SUMIFS('Vehicle Type Count by Agency'!AL:AL,'Vehicle Type Count by Agency'!$I:$I,\">=\"&$B30,'Vehicle Type Count by Agency'!$I:$I,\"<\"&$D30),SUMIFS('Vehicle Type Count by Agency'!AL:AL,'Vehicle Type Count by Agency'!$I:$I,\">=\"&$B30)))","v":0},{"$f":"IF($A30=\"\",\"\",IF($A30=\"Between\",SUMIFS('Vehicle Type Count by Agency'!AN:AN,'Vehicle Type Count by Agency'!$I:$I,\">=\"&$B30,'Vehicle Type Count by Agency'!$I:$I,\"<\"&$D30),SUMIFS('Vehicle Type Count by Agency'!AN:AN,'Vehicle Type Count by Agency'!$I:$I,\">=\"&$B30)))","v":14},{"$f":"IF($A30=\"\",\"\",IF($A30=\"Between\",SUMIFS('Vehicle Type Count by Agency'!AP:AP,'Vehicle Type Count by Agency'!$I:$I,\">=\"&$B30,'Vehicle Type Count by Agency'!$I:$I,\"<\"&$D30),SUMIFS('Vehicle Type Count by Agency'!AP:AP,'Vehicle Type Count by Agency'!$I:$I,\">=\"&$B30)))","v":6},{"$f":"IF($A30=\"\",\"\",IF($A30=\"Between\",SUMIFS('Vehicle Type Count by Agency'!AR:AR,'Vehicle Type Count by Agency'!$I:$I,\">=\"&$B30,'Vehicle Type Count by Agency'!$I:$I,\"<\"&$D30),SUMIFS('Vehicle Type Count by Agency'!AR:AR,'Vehicle Type Count by Agency'!$I:$I,\">=\"&$B30)))","v":0},{"$f":"IF($A30=\"\",\"\",IF($A30=\"Between\",SUMIFS('Vehicle Type Count by Agency'!AT:AT,'Vehicle Type Count by Agency'!$I:$I,\">=\"&$B30,'Vehicle Type Count by Agency'!$I:$I,\"<\"&$D30),SUMIFS('Vehicle Type Count by Agency'!AT:AT,'Vehicle Type Count by Agency'!$I:$I,\">=\"&$B30)))","v":16},{"$f":"IF($A30=\"\",\"\",IF($A30=\"Between\",SUMIFS('Vehicle Type Count by Agency'!AV:AV,'Vehicle Type Count by Agency'!$I:$I,\">=\"&$B30,'Vehicle Type Count by Agency'!$I:$I,\"<\"&$D30),SUMIFS('Vehicle Type Count by Agency'!AV:AV,'Vehicle Type Count by Agency'!$I:$I,\">=\"&$B30)))","v":0},{"$f":"IF($A30=\"\",\"\",IF($A30=\"Between\",SUMIFS('Vehicle Type Count by Agency'!AX:AX,'Vehicle Type Count by Agency'!$I:$I,\">=\"&$B30,'Vehicle Type Count by Agency'!$I:$I,\"<\"&$D30),SUMIFS('Vehicle Type Count by Agency'!AX:AX,'Vehicle Type Count by Agency'!$I:$I,\">=\"&$B30)))","v":0},{"$f":"IF($A30=\"\",\"\",IF($A30=\"Between\",SUMIFS('Vehicle Type Count by Agency'!AZ:AZ,'Vehicle Type Count by Agency'!$I:$I,\">=\"&$B30,'Vehicle Type Count by Agency'!$I:$I,\"<\"&$D30),SUMIFS('Vehicle Type Count by Agency'!AZ:AZ,'Vehicle Type Count by Agency'!$I:$I,\">=\"&$B30)))","v":0},{"$f":"IF($A30=\"\",\"\",IF($A30=\"Between\",SUMIFS('Vehicle Type Count by Agency'!BB:BB,'Vehicle Type Count by Agency'!$I:$I,\">=\"&$B30,'Vehicle Type Count by Agency'!$I:$I,\"<\"&$D30),SUMIFS('Vehicle Type Count by Agency'!BB:BB,'Vehicle Type Count by Agency'!$I:$I,\">=\"&$B30)))","v":0},{"$f":"IF($A30=\"\",\"\",IF($A30=\"Between\",SUMIFS('Vehicle Type Count by Agency'!BD:BD,'Vehicle Type Count by Agency'!$I:$I,\">=\"&$B30,'Vehicle Type Count by Agency'!$I:$I,\"<\"&$D30),SUMIFS('Vehicle Type Count by Agency'!BD:BD,'Vehicle Type Count by Agency'!$I:$I,\">=\"&$B30)))","v":17},{"$f":"IF($A30=\"\",\"\",IF($A30=\"Between\",SUMIFS('Vehicle Type Count by Agency'!BF:BF,'Vehicle Type Count by Agency'!$I:$I,\">=\"&$B30,'Vehicle Type Count by Agency'!$I:$I,\"<\"&$D30),SUMIFS('Vehicle Type Count by Agency'!BF:BF,'Vehicle Type Count by Agency'!$I:$I,\">=\"&$B30)))","v":0},{"$f":"IF($A30=\"\",\"\",IF($A30=\"Between\",SUMIFS('Vehicle Type Count by Agency'!BH:BH,'Vehicle Type Count by Agency'!$I:$I,\">=\"&$B30,'Vehicle Type Count by Agency'!$I:$I,\"<\"&$D30),SUMIFS('Vehicle Type Count by Agency'!BH:BH,'Vehicle Type Count by Agency'!$I:$I,\">=\"&$B30)))","v":18577}]
["Between",500,"and",1000,"Between 500 and 2,000",{"$f":"IF($A31=\"\",\"\",IF($A31=\"Between\",SUMIFS('Vehicle Type Count by Agency'!J:J,'Vehicle Type Count by Agency'!$I:$I,\">=\"&$B31,'Vehicle Type Count by Agency'!$I:$I,\"<\"&$D31),SUMIFS('Vehicle Type Count by Agency'!J:J,'Vehicle Type Count by Agency'!$I:$I,\">=\"&$B31)))","v":7022},{"$f":"IF($A31=\"\",\"\",IF($A31=\"Between\",SUMIFS('Vehicle Type Count by Agency'!L:L,'Vehicle Type Count by Agency'!$I:$I,\">=\"&$B31,'Vehicle Type Count by Agency'!$I:$I,\"<\"&$D31),SUMIFS('Vehicle Type Count by Agency'!L:L,'Vehicle Type Count by Agency'!$I:$I,\">=\"&$B31)))","v":1184},{"$f":"IF($A31=\"\",\"\",IF($A31=\"Between\",SUMIFS('Vehicle Type Count by Agency'!N:N,'Vehicle Type Count by Agency'!$I:$I,\">=\"&$B31,'Vehicle Type Count by Agency'!$I:$I,\"<\"&$D31),SUMIFS('Vehicle Type Count by Agency'!N:N,'Vehicle Type Count by Agency'!$I:$I,\">=\"&$B31)))","v":307},{"$f":"IF($A31=\"\",\"\",IF($A31=\"Between\",SUMIFS('Vehicle Type Count by Agency'!P:P,'Vehicle Type Count by Agency'!$I:$I,\">=\"&$B31,'Vehicle Type Count by Agency'!$I:$I,\"<\"&$D31),SUMIFS('Vehicle Type Count by Agency'!P:P,'Vehicle Type Count by Agency'!$I:$I,\">=\"&$B31)))","v":182},{"$f":"IF($A31=\"\",\"\",IF($A31=\"Between\",SUMIFS('Vehicle Type Count by Agency'!R:R,'Vehicle Type Count by Agency'!$I:$I,\">=\"&$B31,'Vehicle Type Count by Agency'!$I:$I,\"<\"&$D31),SUMIFS('Vehicle Type Count by Agency'!R:R,'Vehicle Type Count by Agency'!$I:$I,\">=\"&$B31)))","v":0},{"$f":"IF($A31=\"\",\"\",IF($A31=\"Between\",SUMIFS('Vehicle Type Count by Agency'!T:T,'Vehicle Type Count by Agency'!$I:$I,\">=\"&$B31,'Vehicle Type Count by Agency'!$I:$I,\"<\"&$D31),SUMIFS('Vehicle Type Count by Agency'!T:T,'Vehicle Type Count by Agency'!$I:$I,\">=\"&$B31)))","v":4473},{"$f":"IF($A31=\"\",\"\",IF($A31=\"Between\",SUMIFS('Vehicle Type Count by Agency'!V:V,'Vehicle Type Count by Agency'!$I:$I,\">=\"&$B31,'Vehicle Type Count by Agency'!$I:$I,\"<\"&$D31),SUMIFS('Vehicle Type Count by Agency'!V:V,'Vehicle Type Count by Agency'!$I:$I,\">=\"&$B31)))","v":3836},{"$f":"IF($A31=\"\",\"\",IF($A31=\"Between\",SUMIFS('Vehicle Type Count by Agency'!X:X,'Vehicle Type Count by Agency'!$I:$I,\">=\"&$B31,'Vehicle Type Count by Agency'!$I:$I,\"<\"&$D31),SUMIFS('Vehicle Type Count by Agency'!X:X,'Vehicle Type Count by Agency'!$I:$I,\">=\"&$B31)))","v":379},{"$f":"IF($A31=\"\",\"\",IF($A31=\"Between\",SUMIFS('Vehicle Type Count by Agency'!Z:Z,'Vehicle Type Count by Agency'!$I:$I,\">=\"&$B31,'Vehicle Type Count by Agency'!$I:$I,\"<\"&$D31),SUMIFS('Vehicle Type Count by Agency'!Z:Z,'Vehicle Type Count by Agency'!$I:$I,\">=\"&$B31)))","v":454},{"$f":"IF($A31=\"\",\"\",IF($A31=\"Between\",SUMIFS('Vehicle Type Count by Agency'!AB:AB,'Vehicle Type Count by Agency'!$I:$I,\">=\"&$B31,'Vehicle Type Count by Agency'!$I:$I,\"<\"&$D31),SUMIFS('Vehicle Type Count by Agency'!AB:AB,'Vehicle Type Count by Agency'!$I:$I,\">=\"&$B31)))","v":137},{"$f":"IF($A31=\"\",\"\",IF($A31=\"Between\",SUMIFS('Vehicle Type Count by Agency'!AD:AD,'Vehicle Type Count by Agency'!$I:$I,\">=\"&$B31,'Vehicle Type Count by Agency'!$I:$I,\"<\"&$D31),SUMIFS('Vehicle Type Count by Agency'!AD:AD,'Vehicle Type Count by Agency'!$I:$I,\">=\"&$B31)))","v":0},{"$f":"IF($A31=\"\",\"\",IF($A31=\"Between\",SUMIFS('Vehicle Type Count by Agency'!AF:AF,'Vehicle Type Count by Agency'!$I:$I,\">=\"&$B31,'Vehicle Type Count by Agency'!$I:$I,\"<\"&$D31),SUMIFS('Vehicle Type Count by Agency'!AF:AF,'Vehicle Type Count by Agency'!$I:$I,\">=\"&$B31)))","v":996},{"$f":"IF($A31=\"\",\"\",IF($A31=\"Between\",SUMIFS('Vehicle Type Count by Agency'!AH:AH,'Vehicle Type Count by Agency'!$I:$I,\">=\"&$B31,'Vehicle Type Count by Agency'!$I:$I,\"<\"&$D31),SUMIFS('Vehicle Type Count by Agency'!AH:AH,'Vehicle Type Count by Agency'!$I:$I,\">=\"&$B31)))","v":546},{"$f":"IF($A31=\"\",\"\",IF($A31=\"Between\",SUMIFS('Vehicle Type Count by Agency'!AJ:AJ,'Vehicle Type Count by Agency'!$I:$I,\">=\"&$B31,'Vehicle Type Count by Agency'!$I:$I,\"<\"&$D31),SUMIFS('Vehicle Type Count by Agency'!AJ:AJ,'Vehicle Type Count by Agency'!$I:$I,\">=\"&$B31)))","v":19},{"$f":"IF($A31=\"\",\"\",IF($A31=\"Between\",SUMIFS('Vehicle Type Count by Agency'!AL:AL,'Vehicle Type Count by Agency'!$I:$I,\">=\"&$B31,'Vehicle Type Count by Agency'!$I:$I,\"<\"&$D31),SUMIFS('Vehicle Type Count by Agency'!AL:AL,'Vehicle Type Count by Agency'!$I:$I,\">=\"&$B31)))","v":23},{"$f":"IF($A31=\"\",\"\",IF($A31=\"Between\",SUMIFS('Vehicle Type Count by Agency'!AN:AN,'Vehicle Type Count by Agency'!$I:$I,\">=\"&$B31,'Vehicle Type Count by Agency'!$I:$I,\"<\"&$D31),SUMIFS('Vehicle Type Count by Agency'!AN:AN,'Vehicle Type Count by Agency'!$I:$I,\">=\"&$B31)))","v":6},{"$f":"IF($A31=\"\",\"\",IF($A31=\"Between\",SUMIFS('Vehicle Type Count by Agency'!AP:AP,'Vehicle Type Count by Agency'!$I:$I,\">=\"&$B31,'Vehicle Type Count by Agency'!$I:$I,\"<\"&$D31),SUMIFS('Vehicle Type Count by Agency'!AP:AP,'Vehicle Type Count by Agency'!$I:$I,\">=\"&$B31)))","v":4},{"$f":"IF($A31=\"\",\"\",IF($A31=\"Between\",SUMIFS('Vehicle Type Count by Agency'!AR:AR,'Vehicle Type Count by Agency'!$I:$I,\">=\"&$B31,'Vehicle Type Count by Agency'!$I:$I,\"<\"&$D31),SUMIFS('Vehicle Type Count by Agency'!AR:AR,'Vehicle Type Count by Agency'!$I:$I,\">=\"&$B31)))","v":3},{"$f":"IF($A31=\"\",\"\",IF($A31=\"Between\",SUMIFS('Vehicle Type Count by Agency'!AT:AT,'Vehicle Type Count by Agency'!$I:$I,\">=\"&$B31,'Vehicle Type Count by Agency'!$I:$I,\"<\"&$D31),SUMIFS('Vehicle Type Count by Agency'!AT:AT,'Vehicle Type Count by Agency'!$I:$I,\">=\"&$B31)))","v":0},{"$f":"IF($A31=\"\",\"\",IF($A31=\"Between\",SUMIFS('Vehicle Type Count by Agency'!AV:AV,'Vehicle Type Count by Agency'!$I:$I,\">=\"&$B31,'Vehicle Type Count by Agency'!$I:$I,\"<\"&$D31),SUMIFS('Vehicle Type Count by Agency'!AV:AV,'Vehicle Type Count by Agency'!$I:$I,\">=\"&$B31)))","v":0},{"$f":"IF($A31=\"\",\"\",IF($A31=\"Between\",SUMIFS('Vehicle Type Count by Agency'!AX:AX,'Vehicle Type Count by Agency'!$I:$I,\">=\"&$B31,'Vehicle Type Count by Agency'!$I:$I,\"<\"&$D31),SUMIFS('Vehicle Type Count by Agency'!AX:AX,'Vehicle Type Count by Agency'!$I:$I,\">=\"&$B31)))","v":0},{"$f":"IF($A31=\"\",\"\",IF($A31=\"Between\",SUMIFS('Vehicle Type Count by Agency'!AZ:AZ,'Vehicle Type Count by Agency'!$I:$I,\">=\"&$B31,'Vehicle Type Count by Agency'!$I:$I,\"<\"&$D31),SUMIFS('Vehicle Type Count by Agency'!AZ:AZ,'Vehicle Type Count by Agency'!$I:$I,\">=\"&$B31)))","v":0},{"$f":"IF($A31=\"\",\"\",IF($A31=\"Between\",SUMIFS('Vehicle Type Count by Agency'!BB:BB,'Vehicle Type Count by Agency'!$I:$I,\">=\"&$B31,'Vehicle Type Count by Agency'!$I:$I,\"<\"&$D31),SUMIFS('Vehicle Type Count by Agency'!BB:BB,'Vehicle Type Count by Agency'!$I:$I,\">=\"&$B31)))","v":2},{"$f":"IF($A31=\"\",\"\",IF($A31=\"Between\",SUMIFS('Vehicle Type Count by Agency'!BD:BD,'Vehicle Type Count by Agency'!$I:$I,\">=\"&$B31,'Vehicle Type Count by Agency'!$I:$I,\"<\"&$D31),SUMIFS('Vehicle Type Count by Agency'!BD:BD,'Vehicle Type Count by Agency'!$I:$I,\">=\"&$B31)))","v":0},{"$f":"IF($A31=\"\",\"\",IF($A31=\"Between\",SUMIFS('Vehicle Type Count by Agency'!BF:BF,'Vehicle Type Count by Agency'!$I:$I,\">=\"&$B31,'Vehicle Type Count by Agency'!$I:$I,\"<\"&$D31),SUMIFS('Vehicle Type Count by Agency'!BF:BF,'Vehicle Type Count by Agency'!$I:$I,\">=\"&$B31)))","v":2},{"$f":"IF($A31=\"\",\"\",IF($A31=\"Between\",SUMIFS('Vehicle Type Count by Agency'!BH:BH,'Vehicle Type Count by Agency'!$I:$I,\">=\"&$B31,'Vehicle Type Count by Agency'!$I:$I,\"<\"&$D31),SUMIFS('Vehicle Type Count by Agency'!BH:BH,'Vehicle Type Count by Agency'!$I:$I,\">=\"&$B31)))","v":19575}]
["Between",1000,"and",2000,{"$f":"IFERROR(IF(A32=\"Between\",A32&\" \"&FIXED(B32,0,0)&\" \"&C32&\" \"&FIXED(#REF!,0,0),A32&\" \"&FIXED(B32,0,0)),\"invalid bin\")","v":"invalid bin"},{"$f":"IF($A32=\"\",\"\",IF($A32=\"Between\",SUMIFS('Vehicle Type Count by Agency'!J:J,'Vehicle Type Count by Agency'!$I:$I,\">=\"&$B32,'Vehicle Type Count by Agency'!$I:$I,\"<\"&$D32),SUMIFS('Vehicle Type Count by Agency'!J:J,'Vehicle Type Count by Agency'!$I:$I,\">=\"&$B32)))","v":5679},{"$f":"IF($A32=\"\",\"\",IF($A32=\"Between\",SUMIFS('Vehicle Type Count by Agency'!L:L,'Vehicle Type Count by Agency'!$I:$I,\">=\"&$B32,'Vehicle Type Count by Agency'!$I:$I,\"<\"&$D32),SUMIFS('Vehicle Type Count by Agency'!L:L,'Vehicle Type Count by Agency'!$I:$I,\">=\"&$B32)))","v":732},{"$f":"IF($A32=\"\",\"\",IF($A32=\"Between\",SUMIFS('Vehicle Type Count by Agency'!N:N,'Vehicle Type Count by Agency'!$I:$I,\">=\"&$B32,'Vehicle Type Count by Agency'!$I:$I,\"<\"&$D32),SUMIFS('Vehicle Type Count by Agency'!N:N,'Vehicle Type Count by Agency'!$I:$I,\">=\"&$B32)))","v":1123},{"$f":"IF($A32=\"\",\"\",IF($A32=\"Between\",SUMIFS('Vehicle Type Count by Agency'!P:P,'Vehicle Type Count by Agency'!$I:$I,\">=\"&$B32,'Vehicle Type Count by Agency'!$I:$I,\"<\"&$D32),SUMIFS('Vehicle Type Count by Agency'!P:P,'Vehicle Type Count by Agency'!$I:$I,\">=\"&$B32)))","v":0},{"$f":"IF($A32=\"\",\"\",IF($A32=\"Between\",SUMIFS('Vehicle Type Count by Agency'!R:R,'Vehicle Type Count by Agency'!$I:$I,\">=\"&$B32,'Vehicle Type Count by Agency'!$I:$I,\"<\"&$D32),SUMIFS('Vehicle Type Count by Agency'!R:R,'Vehicle Type Count by Agency'!$I:$I,\">=\"&$B32)))","v":0},{"$f":"IF($A32=\"\",\"\",IF($A32=\"Between\",SUMIFS('Vehicle Type Count by Agency'!T:T,'Vehicle Type Count by Agency'!$I:$I,\">=\"&$B32,'Vehicle Type Count by Agency'!$I:$I,\"<\"&$D32),SUMIFS('Vehicle Type Count by Agency'!T:T,'Vehicle Type Count by Agency'!$I:$I,\">=\"&$B32)))","v":4277},{"$f":"IF($A32=\"\",\"\",IF($A32=\"Between\",SUMIFS('Vehicle Type Count by Agency'!V:V,'Vehicle Type Count by Agency'!$I:$I,\">=\"&$B32,'Vehicle Type Count by Agency'!$I:$I,\"<\"&$D32),SUMIFS('Vehicle Type Count by Agency'!V:V,'Vehicle Type Count by Agency'!$I:$I,\">=\"&$B32)))","v":2997},{"$f":"IF($A32=\"\",\"\",IF($A32=\"Between\",SUMIFS('Vehicle Type Count by Agency'!X:X,'Vehicle Type Count by Agency'!$I:$I,\">=\"&$B32,'Vehicle Type Count by Agency'!$I:$I,\"<\"&$D32),SUMIFS('Vehicle Type Count by Agency'!X:X,'Vehicle Type Count by Agency'!$I:$I,\">=\"&$B32)))","v":2818},{"$f":"IF($A32=\"\",\"\",IF($A32=\"Between\",SUMIFS('Vehicle Type Count by Agency'!Z:Z,'Vehicle Type Count by Agency'!$I:$I,\">=\"&$B32,'Vehicle Type Count by Agency'!$I:$I,\"<\"&$D32),SUMIFS('Vehicle Type Count by Agency'!Z:Z,'Vehicle Type Count by Agency'!$I:$I,\">=\"&$B32)))","v":1512},{"$f":"IF($A32=\"\",\"\",IF($A32=\"Between\",SUMIFS('Vehicle Type Count by Agency'!AB:AB,'Vehicle Type Count by Agency'!$I:$I,\">=\"&$B32,'Vehicle Type Count by Agency'!$I:$I,\"<\"&$D32),SUMIFS('Vehicle Type Count by Agency'!AB:AB,'Vehicle Type Count by Agency'!$I:$I,\">=\"&$B32)))","v":252},{"$f":"IF($A32=\"\",\"\",IF($A32=\"Between\",SUMIFS('Vehicle Type Count by Agency'!AD:AD,'Vehicle Type Count by Agency'!$I:$I,\">=\"&$B32,'Vehicle Type Count by Agency'!$I:$I,\"<\"&$D32),SUMIFS('Vehicle Type Count by Agency'!AD:AD,'Vehicle Type Count by Agency'!$I:$I,\">=\"&$B32)))","v":319},{"$f":"IF($A32=\"\",\"\",IF($A32=\"Between\",SUMIFS('Vehicle Type Count by Agency'!AF:AF,'Vehicle Type Count by Agency'!$I:$I,\">=\"&$B32,'Vehicle Type Count by Agency'!$I:$I,\"<\"&$D32),SUMIFS('Vehicle Type Count by Agency'!AF:AF,'Vehicle Type Count by Agency'!$I:$I,\">=\"&$B32)))","v":226},{"$f":"IF($A32=\"\",\"\",IF($A32=\"Between\",SUMIFS('Vehicle Type Count by Agency'!AH:AH,'Vehicle Type Count by Agency'!$I:$I,\">=\"&$B32,'Vehicle Type Count by Agency'!$I:$I,\"<\"&$D32),SUMIFS('Vehicle Type Count by Agency'!AH:AH,'Vehicle Type Count by Agency'!$I:$I,\">=\"&$B32)))","v":664},{"$f":"IF($A32=\"\",\"\",IF($A32=\"Between\",SUMIFS('Vehicle Type Count by Agency'!AJ:AJ,'Vehicle Type Count by Agency'!$I:$I,\">=\"&$B32,'Vehicle Type Count by Agency'!$I:$I,\"<\"&$D32),SUMIFS('Vehicle Type Count by Agency'!AJ:AJ,'Vehicle Type Count by Agency'!$I:$I,\">=\"&$B32)))","v":1438},{"$f":"IF($A32=\"\",\"\",IF($A32=\"Between\",SUMIFS('Vehicle Type Count by Agency'!AL:AL,'Vehicle Type Count by Agency'!$I:$I,\">=\"&$B32,'Vehicle Type Count by Agency'!$I:$I,\"<\"&$D32),SUMIFS('Vehicle Type Count by Agency'!AL:AL,'Vehicle Type Count by Agency'!$I:$I,\">=\"&$B32)))","v":2122},{"$f":"IF($A32=\"\",\"\",IF($A32=\"Between\",SUMIFS('Vehicle Type Count by Agency'!AN:AN,'Vehicle Type Count by Agency'!$I:$I,\">=\"&$B32,'Vehicle Type Count by Agency'!$I:$I,\"<\"&$D32),SUMIFS('Vehicle Type Count by Agency'!AN:AN,'Vehicle Type Count by Agency'!$I:$I,\">=\"&$B32)))","v":310},{"$f":"IF($A32=\"\",\"\",IF($A32=\"Between\",SUMIFS('Vehicle Type Count by Agency'!AP:AP,'Vehicle Type Count by Agency'!$I:$I,\">=\"&$B32,'Vehicle Type Count by Agency'!$I:$I,\"<\"&$D32),SUMIFS('Vehicle Type Count by Agency'!AP:AP,'Vehicle Type Count by Agency'!$I:$I,\">=\"&$B32)))","v":27},{"$f":"IF($A32=\"\",\"\",IF($A32=\"Between\",SUMIFS('Vehicle Type Count by Agency'!AR:AR,'Vehicle Type Count by Agency'!$I:$I,\">=\"&$B32,'Vehicle Type Count by Agency'!$I:$I,\"<\"&$D32),SUMIFS('Vehicle Type Count by Agency'!AR:AR,'Vehicle Type Count by Agency'!$I:$I,\">=\"&$B32)))","v":0},{"$f":"IF($A32=\"\",\"\",IF($A32=\"Between\",SUMIFS('Vehicle Type Count by Agency'!AT:AT,'Vehicle Type Count by Agency'!$I:$I,\">=\"&$B32,'Vehicle Type Count by Agency'!$I:$I,\"<\"&$D32),SUMIFS('Vehicle Type Count by Agency'!AT:AT,'Vehicle Type Count by Agency'!$I:$I,\">=\"&$B32)))","v":49},{"$f":"IF($A32=\"\",\"\",IF($A32=\"Between\",SUMIFS('Vehicle Type Count by Agency'!AV:AV,'Vehicle Type Count by Agency'!$I:$I,\">=\"&$B32,'Vehicle Type Count by Agency'!$I:$I,\"<\"&$D32),SUMIFS('Vehicle Type Count by Agency'!AV:AV,'Vehicle Type Count by Agency'!$I:$I,\">=\"&$B32)))","v":0},{"$f":"IF($A32=\"\",\"\",IF($A32=\"Between\",SUMIFS('Vehicle Type Count by Agency'!AX:AX,'Vehicle Type Count by Agency'!$I:$I,\">=\"&$B32,'Vehicle Type Count by Agency'!$I:$I,\"<\"&$D32),SUMIFS('Vehicle Type Count by Agency'!AX:AX,'Vehicle Type Count by Agency'!$I:$I,\">=\"&$B32)))","v":0},{"$f":"IF($A32=\"\",\"\",IF($A32=\"Between\",SUMIFS('Vehicle Type Count by Agency'!AZ:AZ,'Vehicle Type Count by Agency'!$I:$I,\">=\"&$B32,'Vehicle Type Count by Agency'!$I:$I,\"<\"&$D32),SUMIFS('Vehicle Type Count by Agency'!AZ:AZ,'Vehicle Type Count by Agency'!$I:$I,\">=\"&$B32)))","v":36},{"$f":"IF($A32=\"\",\"\",IF($A32=\"Between\",SUMIFS('Vehicle Type Count by Agency'!BB:BB,'Vehicle Type Count by Agency'!$I:$I,\">=\"&$B32,'Vehicle Type Count by Agency'!$I:$I,\"<\"&$D32),SUMIFS('Vehicle Type Count by Agency'!BB:BB,'Vehicle Type Count by Agency'!$I:$I,\">=\"&$B32)))","v":0},{"$f":"IF($A32=\"\",\"\",IF($A32=\"Between\",SUMIFS('Vehicle Type Count by Agency'!BD:BD,'Vehicle Type Count by Agency'!$I:$I,\">=\"&$B32,'Vehicle Type Count by Agency'!$I:$I,\"<\"&$D32),SUMIFS('Vehicle Type Count by Agency'!BD:BD,'Vehicle Type Count by Agency'!$I:$I,\">=\"&$B32)))","v":2},{"$f":"IF($A32=\"\",\"\",IF($A32=\"Between\",SUMIFS('Vehicle Type Count by Agency'!BF:BF,'Vehicle Type Count by Agency'!$I:$I,\">=\"&$B32,'Vehicle Type Count by Agency'!$I:$I,\"<\"&$D32),SUMIFS('Vehicle Type Count by Agency'!BF:BF,'Vehicle Type Count by Agency'!$I:$I,\">=\"&$B32)))","v":0},{"$f":"IF($A32=\"\",\"\",IF($A32=\"Between\",SUMIFS('Vehicle Type Count by Agency'!BH:BH,'Vehicle Type Count by Agency'!$I:$I,\">=\"&$B32,'Vehicle Type Count by Agency'!$I:$I,\"<\"&$D32),SUMIFS('Vehicle Type Count by Agency'!BH:BH,'Vehicle Type Count by Agency'!$I:$I,\">=\"&$B32)))","v":24583}]
[{"$f":"IF(OR(A32=\"Over\",A32=\"\"),\"\",IF(D33=\"\",\"Over\",\"Between\"))","v":"Over"},2000,{"$f":"IF(D33<>\"\",\"and\",\"\")","v":""},null,{"$f":"IFERROR(IF(A33=\"Between\",A33&\" \"&FIXED(B33,0,0)&\" \"&C33&\" \"&FIXED(D33,0,0),A33&\" \"&FIXED(B33,0,0)),\"invalid bin\")","v":"Over 2,000"},{"$f":"IF($A33=\"\",\"\",IF($A33=\"Between\",SUMIFS('Vehicle Type Count by Agency'!J:J,'Vehicle Type Count by Agency'!$I:$I,\">=\"&$B33,'Vehicle Type Count by Agency'!$I:$I,\"<\"&$D33),SUMIFS('Vehicle Type Count by Agency'!J:J,'Vehicle Type Count by Agency'!$I:$I,\">=\"&$B33)))","v":12984},{"$f":"IF($A33=\"\",\"\",IF($A33=\"Between\",SUMIFS('Vehicle Type Count by Agency'!L:L,'Vehicle Type Count by Agency'!$I:$I,\">=\"&$B33,'Vehicle Type Count by Agency'!$I:$I,\"<\"&$D33),SUMIFS('Vehicle Type Count by Agency'!L:L,'Vehicle Type Count by Agency'!$I:$I,\">=\"&$B33)))","v":2853},{"$f":"IF($A33=\"\",\"\",IF($A33=\"Between\",SUMIFS('Vehicle Type Count by Agency'!N:N,'Vehicle Type Count by Agency'!$I:$I,\">=\"&$B33,'Vehicle Type Count by Agency'!$I:$I,\"<\"&$D33),SUMIFS('Vehicle Type Count by Agency'!N:N,'Vehicle Type Count by Agency'!$I:$I,\">=\"&$B33)))","v":1851},{"$f":"IF($A33=\"\",\"\",IF($A33=\"Between\",SUMIFS('Vehicle Type Count by Agency'!P:P,'Vehicle Type Count by Agency'!$I:$I,\">=\"&$B33,'Vehicle Type Count by Agency'!$I:$I,\"<\"&$D33),SUMIFS('Vehicle Type Count by Agency'!P:P,'Vehicle Type Count by Agency'!$I:$I,\">=\"&$B33)))","v":0},{"$f":"IF($A33=\"\",\"\",IF($A33=\"Between\",SUMIFS('Vehicle Type Count by Agency'!R:R,'Vehicle Type Count by Agency'!$I:$I,\">=\"&$B33,'Vehicle Type Count by Agency'!$I:$I,\"<\"&$D33),SUMIFS('Vehicle Type Count by Agency'!R:R,'Vehicle Type Count by Agency'!$I:$I,\">=\"&$B33)))","v":0},{"$f":"IF($A33=\"\",\"\",IF($A33=\"Between\",SUMIFS('Vehicle Type Count by Agency'!T:T,'Vehicle Type Count by Agency'!$I:$I,\">=\"&$B33,'Vehicle Type Count by Agency'!$I:$I,\"<\"&$D33),SUMIFS('Vehicle Type Count by Agency'!T:T,'Vehicle Type Count by Agency'!$I:$I,\">=\"&$B33)))","v":3486},{"$f":"IF($A33=\"\",\"\",IF($A33=\"Between\",SUMIFS('Vehicle Type Count by Agency'!V:V,'Vehicle Type Count by Agency'!$I:$I,\">=\"&$B33,'Vehicle Type Count by Agency'!$I:$I,\"<\"&$D33),SUMIFS('Vehicle Type Count by Agency'!V:V,'Vehicle Type Count by Agency'!$I:$I,\">=\"&$B33)))","v":2277},{"$f":"IF($A33=\"\",\"\",IF($A33=\"Between\",SUMIFS('Vehicle Type Count by Agency'!X:X,'Vehicle Type Count by Agency'!$I:$I,\">=\"&$B33,'Vehicle Type Count by Agency'!$I:$I,\"<\"&$D33),SUMIFS('Vehicle Type Count by Agency'!X:X,'Vehicle Type Count by Agency'!$I:$I,\">=\"&$B33)))","v":1598},{"$f":"IF($A33=\"\",\"\",IF($A33=\"Between\",SUMIFS('Vehicle Type Count by Agency'!Z:Z,'Vehicle Type Count by Agency'!$I:$I,\">=\"&$B33,'Vehicle Type Count by Agency'!$I:$I,\"<\"&$D33),SUMIFS('Vehicle Type Count by Agency'!Z:Z,'Vehicle Type Count by Agency'!$I:$I,\">=\"&$B33)))","v":1966},{"$f":"IF($A33=\"\",\"\",IF($A33=\"Between\",SUMIFS('Vehicle Type Count by Agency'!AB:AB,'Vehicle Type Count by Agency'!$I:$I,\">=\"&$B33,'Vehicle Type Count by Agency'!$I:$I,\"<\"&$D33),SUMIFS('Vehicle Type Count by Agency'!AB:AB,'Vehicle Type Count by Agency'!$I:$I,\">=\"&$B33)))","v":457},{"$f":"IF($A33=\"\",\"\",IF($A33=\"Between\",SUMIFS('Vehicle Type Count by Agency'!AD:AD,'Vehicle Type Count by Agency'!$I:$I,\">=\"&$B33,'Vehicle Type Count by Agency'!$I:$I,\"<\"&$D33),SUMIFS('Vehicle Type Count by Agency'!AD:AD,'Vehicle Type Count by Agency'!$I:$I,\">=\"&$B33)))","v":240},{"$f":"IF($A33=\"\",\"\",IF($A33=\"Between\",SUMIFS('Vehicle Type Count by Agency'!AF:AF,'Vehicle Type Count by Agency'!$I:$I,\">=\"&$B33,'Vehicle Type Count by Agency'!$I:$I,\"<\"&$D33),SUMIFS('Vehicle Type Count by Agency'!AF:AF,'Vehicle Type Count by Agency'!$I:$I,\">=\"&$B33)))","v":10019},{"$f":"IF($A33=\"\",\"\",IF($A33=\"Between\",SUMIFS('Vehicle Type Count by Agency'!AH:AH,'Vehicle Type Count by Agency'!$I:$I,\">=\"&$B33,'Vehicle Type Count by Agency'!$I:$I,\"<\"&$D33),SUMIFS('Vehicle Type Count by Agency'!AH:AH,'Vehicle Type Count by Agency'!$I:$I,\">=\"&$B33)))","v":685},{"$f":"IF($A33=\"\",\"\",IF($A33=\"Between\",SUMIFS('Vehicle Type Count by Agency'!AJ:AJ,'Vehicle Type Count by Agency'!$I:$I,\">=\"&$B33,'Vehicle Type Count by Agency'!$I:$I,\"<\"&$D33),SUMIFS('Vehicle Type Count by Agency'!AJ:AJ,'Vehicle Type Count by Agency'!$I:$I,\">=\"&$B33)))","v":1392},{"$f":"IF($A33=\"\",\"\",IF($A33=\"Between\",SUMIFS('Vehicle Type Count by Agency'!AL:AL,'Vehicle Type Count by Agency'!$I:$I,\">=\"&$B33,'Vehicle Type Count by Agency'!$I:$I,\"<\"&$D33),SUMIFS('Vehicle Type Count by Agency'!AL:AL,'Vehicle Type Count by Agency'!$I:$I,\">=\"&$B33)))","v":507},{"$f":"IF($A33=\"\",\"\",IF($A33=\"Between\",SUMIFS('Vehicle Type Count by Agency'!AN:AN,'Vehicle Type Count by Agency'!$I:$I,\">=\"&$B33,'Vehicle Type Count by Agency'!$I:$I,\"<\"&$D33),SUMIFS('Vehicle Type Count by Agency'!AN:AN,'Vehicle Type Count by Agency'!$I:$I,\">=\"&$B33)))","v":272},{"$f":"IF($A33=\"\",\"\",IF($A33=\"Between\",SUMIFS('Vehicle Type Count by Agency'!AP:AP,'Vehicle Type Count by Agency'!$I:$I,\">=\"&$B33,'Vehicle Type Count by Agency'!$I:$I,\"<\"&$D33),SUMIFS('Vehicle Type Count by Agency'!AP:AP,'Vehicle Type Count by Agency'!$I:$I,\">=\"&$B33)))","v":0},{"$f":"IF($A33=\"\",\"\",IF($A33=\"Between\",SUMIFS('Vehicle Type Count by Agency'!AR:AR,'Vehicle Type Count by Agency'!$I:$I,\">=\"&$B33,'Vehicle Type Count by Agency'!$I:$I,\"<\"&$D33),SUMIFS('Vehicle Type Count by Agency'!AR:AR,'Vehicle Type Count by Agency'!$I:$I,\">=\"&$B33)))","v":18},{"$f":"IF($A33=\"\",\"\",IF($A33=\"Between\",SUMIFS('Vehicle Type Count by Agency'!AT:AT,'Vehicle Type Count by Agency'!$I:$I,\">=\"&$B33,'Vehicle Type Count by Agency'!$I:$I,\"<\"&$D33),SUMIFS('Vehicle Type Count by Agency'!AT:AT,'Vehicle Type Count by Agency'!$I:$I,\">=\"&$B33)))","v":151},{"$f":"IF($A33=\"\",\"\",IF($A33=\"Between\",SUMIFS('Vehicle Type Count by Agency'!AV:AV,'Vehicle Type Count by Agency'!$I:$I,\">=\"&$B33,'Vehicle Type Count by Agency'!$I:$I,\"<\"&$D33),SUMIFS('Vehicle Type Count by Agency'!AV:AV,'Vehicle Type Count by Agency'!$I:$I,\">=\"&$B33)))","v":0},{"$f":"IF($A33=\"\",\"\",IF($A33=\"Between\",SUMIFS('Vehicle Type Count by Agency'!AX:AX,'Vehicle Type Count by Agency'!$I:$I,\">=\"&$B33,'Vehicle Type Count by Agency'!$I:$I,\"<\"&$D33),SUMIFS('Vehicle Type Count by Agency'!AX:AX,'Vehicle Type Count by Agency'!$I:$I,\">=\"&$B33)))","v":0},{"$f":"IF($A33=\"\",\"\",IF($A33=\"Between\",SUMIFS('Vehicle Type Count by Agency'!AZ:AZ,'Vehicle Type Count by Agency'!$I:$I,\">=\"&$B33,'Vehicle Type Count by Agency'!$I:$I,\"<\"&$D33),SUMIFS('Vehicle Type Count by Agency'!AZ:AZ,'Vehicle Type Count by Agency'!$I:$I,\">=\"&$B33)))","v":0},{"$f":"IF($A33=\"\",\"\",IF($A33=\"Between\",SUMIFS('Vehicle Type Count by Agency'!BB:BB,'Vehicle Type Count by Agency'!$I:$I,\">=\"&$B33,'Vehicle Type Count by Agency'!$I:$I,\"<\"&$D33),SUMIFS('Vehicle Type Count by Agency'!BB:BB,'Vehicle Type Count by Agency'!$I:$I,\">=\"&$B33)))","v":0},{"$f":"IF($A33=\"\",\"\",IF($A33=\"Between\",SUMIFS('Vehicle Type Count by Agency'!BD:BD,'Vehicle Type Count by Agency'!$I:$I,\">=\"&$B33,'Vehicle Type Count by Agency'!$I:$I,\"<\"&$D33),SUMIFS('Vehicle Type Count by Agency'!BD:BD,'Vehicle Type Count by Agency'!$I:$I,\">=\"&$B33)))","v":17},{"$f":"IF($A33=\"\",\"\",IF($A33=\"Between\",SUMIFS('Vehicle Type Count by Agency'!BF:BF,'Vehicle Type Count by Agency'!$I:$I,\">=\"&$B33,'Vehicle Type Count by Agency'!$I:$I,\"<\"&$D33),SUMIFS('Vehicle Type Count by Agency'!BF:BF,'Vehicle Type Count by Agency'!$I:$I,\">=\"&$B33)))","v":0},{"$f":"IF($A33=\"\",\"\",IF($A33=\"Between\",SUMIFS('Vehicle Type Count by Agency'!BH:BH,'Vehicle Type Count by Agency'!$I:$I,\">=\"&$B33,'Vehicle Type Count by Agency'!$I:$I,\"<\"&$D33),SUMIFS('Vehicle Type Count by Agency'!BH:BH,'Vehicle Type Count by Agency'!$I:$I,\">=\"&$B33)))","v":40773}]
[null,null,null,null,{"$f":"IFERROR($F$2&\":\"&CHAR(10)&G36&\":\"&CHAR(10)&F34&CHAR(10)&G34&CHAR(10)&H34&CHAR(10)&I34&CHAR(10)&J34&CHAR(10)&K34&CHAR(10)&L34&CHAR(10)&M34&CHAR(10)&N34&CHAR(10)&O34&CHAR(10)&P34&CHAR(10)&Q34&CHAR(10)&R34,\"\")","v":"Active Vehicles By Vehicle Type:\nAgency Size Under 10 Vehicles:\nBus: 10%\nArticulated Bus: 0%\nOver-the-road Bus: 1%\nDouble Decker Bus: 0%\nSchool Bus: 0%\nVan: 13%\nCutaway: 50%\nAutomobile: 4%\nMinivan: 20%\nSports Utility Vehicle: 1%\nTrolleybus: 0%\nHeavy Rail Passenger Car: 0%\nLight Rail Vehicle: 0%"},{"$f":"F24&\": \"&FIXED(100*F35/$AE$35,0,0)&\"%\"","v":"Bus: 10%"},{"$f":"G24&\": \"&FIXED(100*G35/$AE$35,0,0)&\"%\"","v":"Articulated Bus: 0%"},"Over-the-road Bus: 1%","Double Decker Bus: 0%","School Bus: 0%","Van: 13%","Cutaway: 50%","Automobile: 4%","Minivan: 20%","Sports Utility Vehicle: 1%","Trolleybus: 0%","Heavy Rail Passenger Car: 0%","Light Rail Vehicle: 0%","Commuter Rail Passenger Coach: 0%","Commuter Rail Self-Propelled Passenger Car: 0%","Locomotive: 0%","Automated Guideway Vehicle: 0%","Vintage/ Historic Trolley: 0%","Streetcar: 0%","Aerial Tramway: 0%","Monorail: 0%","Cable Car: 0%","Inclined Plane: 0%","Ferryboat: 0%","Other: 0%"]
[null,null,null,null,null,{"$f":"INDIRECT(ADDRESS(ROW(Table3[[#Headers],[Bus]])+$F$36,COLUMN(Table3[[#Headers],[Bus]])))","v":1054},{"$f":"INDIRECT(ADDRESS(ROW(Table3[[#Headers],[Articulated Bus]])+$F$36,COLUMN(Table3[[#Headers],[Articulated Bus]])))","v":12},{"$f":"INDIRECT(ADDRESS(ROW(Table3[[#Headers],[Over-the-road Bus]])+$F$36,COLUMN(Table3[[#Headers],[Over-the-road Bus]])))","v":77},{"$f":"INDIRECT(ADDRESS(ROW(Table3[[#Headers],[Double Decker Bus]])+$F$36,COLUMN(Table3[[#Headers],[Double Decker Bus]])))","v":0},{"$f":"INDIRECT(ADDRESS(ROW(Table3[[#Headers],[School Bus]])+$F$36,COLUMN(Table3[[#Headers],[School Bus]])))","v":10},{"$f":"INDIRECT(ADDRESS(ROW(Table3[[#Headers],[Van]])+$F$36,COLUMN(Table3[[#Headers],[Van]])))","v":1338},{"$f":"INDIRECT(ADDRESS(ROW(Table3[[#Headers],[Cutaway]])+$F$36,COLUMN(Table3[[#Headers],[Cutaway]])))","v":5129},{"$f":"INDIRECT(ADDRESS(ROW(Table3[[#Headers],[Automobile]])+$F$36,COLUMN(Table3[[#Headers],[Automobile]])))","v":369},{"$f":"INDIRECT(ADDRESS(ROW(Table3[[#Headers],[Minivan]])+$F$36,COLUMN(Table3[[#Headers],[Minivan]])))","v":2026},{"$f":"INDIRECT(ADDRESS(ROW(Table3[[#Headers],[Sports Utility Vehicle]])+$F$36,COLUMN(Table3[[#Headers],[Sports Utility Vehicle]])))","v":93},{"$f":"INDIRECT(ADDRESS(ROW(Table3[[#Headers],[Trolleybus]])+$F$36,COLUMN(Table3[[#Headers],[Trolleybus]])))","v":0},{"$f":"INDIRECT(ADDRESS(ROW(Table3[[#Headers],[Heavy Rail Passenger Car]])+$F$36,COLUMN(Table3[[#Headers],[Heavy Rail Passenger Car]])))","v":0},{"$f":"INDIRECT(ADDRESS(ROW(Table3[[#Headers],[Light Rail Vehicle]])+$F$36,COLUMN(Table3[[#Headers],[Light Rail Vehicle]])))","v":0},{"$f":"INDIRECT(ADDRESS(ROW(Table3[[#Headers],[Commuter Rail Passenger Coach]])+$F$36,COLUMN(Table3[[#Headers],[Commuter Rail Passenger Coach]])))","v":0},{"$f":"INDIRECT(ADDRESS(ROW(Table3[[#Headers],[Commuter Rail Self-Propelled Passenger Car]])+$F$36,COLUMN(Table3[[#Headers],[Commuter Rail Self-Propelled Passenger Car]])))","v":0},{"$f":"INDIRECT(ADDRESS(ROW(Table3[[#Headers],[Locomotive]])+$F$36,COLUMN(Table3[[#Headers],[Locomotive]])))","v":0},{"$f":"INDIRECT(ADDRESS(ROW(Table3[[#Headers],[Automated Guideway Vehicle]])+$F$36,COLUMN(Table3[[#Headers],[Automated Guideway Vehicle]])))","v":0},{"$f":"INDIRECT(ADDRESS(ROW(Table3[[#Headers],[Vintage/ Historic Trolley]])+$F$36,COLUMN(Table3[[#Headers],[Vintage/ Historic Trolley]])))","v":5},{"$f":"INDIRECT(ADDRESS(ROW(Table3[[#Headers],[Streetcar]])+$F$36,COLUMN(Table3[[#Headers],[Streetcar]])))","v":21},{"$f":"INDIRECT(ADDRESS(ROW(Table3[[#Headers],[Aerial Tramway]])+$F$36,COLUMN(Table3[[#Headers],[Aerial Tramway]])))","v":0},{"$f":"INDIRECT(ADDRESS(ROW(Table3[[#Headers],[Monorail]])+$F$36,COLUMN(Table3[[#Headers],[Monorail]])))","v":8},{"$f":"INDIRECT(ADDRESS(ROW(Table3[[#Headers],[Cable Car]])+$F$36,COLUMN(Table3[[#Headers],[Cable Car]])))","v":0},{"$f":"INDIRECT(ADDRESS(ROW(Table3[[#Headers],[Inclined Plane]])+$F$36,COLUMN(Table3[[#Headers],[Inclined Plane]])))","v":0},{"$f":"INDIRECT(ADDRESS(ROW(Table3[[#Headers],[Ferryboat]])+$F$36,COLUMN(Table3[[#Headers],[Ferryboat]])))","v":43},{"$f":"INDIRECT(ADDRESS(ROW(Table3[[#Headers],[Other]])+$F$36,COLUMN(Table3[[#Headers],[Other]])))","v":5},{"$f":"SUM(F35:AD35)","v":10190}]
[null,null,null,null,null,1,{"$f":"IF(INDIRECT(\"A\"&(24+F36))=\"\",\"Please select a valid bin to graph.\",IF(OR(INDIRECT(\"A\"&(24+F36))=\"Under\",INDIRECT(\"A\"&(24+F36))=\"Over\"),\"Agency Size \"&INDIRECT(\"A\"&(24+F36))&\" \"&FIXED(INDIRECT(\"B\"&(24+F36)),0,0)&\" Vehicles\",\"Agency Size \"&\"Between \"&FIXED(INDIRECT(\"B\"&(24+F36)),0,0)&\" and \"&FIXED(INDIRECT(\"D\"&(24+F36)),0,0)&\" Vehicles\"))","v":"Agency Size Under 10 Vehicles"}]
[]
["By State"]
[null,null,null,null,null,"Active Vehicles By Vehicle Type"]
[null,null,"Abbreviation","State","Column1","Bus","Articulated Bus","Over-the-road Bus","Double Decker Bus","School Bus","Van","Cutaway","Automobile","Minivan","Sports Utility Vehicle","Trolleybus","Heavy Rail Passenger Car","Light Rail Vehicle","Commuter Rail Passenger Coach","Commuter Rail Self-Propelled Passenger Car","Locomotive","Automated Guideway Vehicle","Vintage/ Historic Trolley","Streetcar","Aerial Tramway","Monorail","Cable Car","Inclined Plane","Ferryboat","Other","Total"]
[null,null,"AK","Alaska",null,{"$f":"SUMIFS('Vehicle Type Count by Agency'!J:J,'Vehicle Type Count by Agency'!$C:$C,\"=\"&$C41)","v":113},{"$f":"SUMIFS('Vehicle Type Count by Agency'!L:L,'Vehicle Type Count by Agency'!$C:$C,\"=\"&$C41)","v":0},{"$f":"SUMIFS('Vehicle Type Count by Agency'!N:N,'Vehicle Type Count by Agency'!$C:$C,\"=\"&$C41)","v":0},{"$f":"SUMIFS('Vehicle Type Count by Agency'!P:P,'Vehicle Type Count by Agency'!$C:$C,\"=\"&$C41)","v":0},{"$f":"SUMIFS('Vehicle Type Count by Agency'!R:R,'Vehicle Type Count by Agency'!$C:$C,\"=\"&$C41)","v":2},{"$f":"SUMIFS('Vehicle Type Count by Agency'!T:T,'Vehicle Type Count by Agency'!$C:$C,\"=\"&$C41)","v":84},{"$f":"SUMIFS('Vehicle Type Count by Agency'!V:V,'Vehicle Type Count by Agency'!$C:$C,\"=\"&$C41)","v":115},{"$f":"SUMIFS('Vehicle Type Count by Agency'!X:X,'Vehicle Type Count by Agency'!$C:$C,\"=\"&$C41)","v":20},{"$f":"SUMIFS('Vehicle Type Count by Agency'!Z:Z,'Vehicle Type Count by Agency'!$C:$C,\"=\"&$C41)","v":19},{"$f":"SUMIFS('Vehicle Type Count by Agency'!AB:AB,'Vehicle Type Count by Agency'!$C:$C,\"=\"&$C41)","v":41},{"$f":"SUMIFS('Vehicle Type Count by Agency'!AD:AD,'Vehicle Type Count by Agency'!$C:$C,\"=\"&$C41)","v":0},{"$f":"SUMIFS('Vehicle Type Count by Agency'!AF:AF,'Vehicle Type Count by Agency'!$C:$C,\"=\"&$C41)","v":0},{"$f":"SUMIFS('Vehicle Type Count by Agency'!AH:AH,'Vehicle Type Count by Agency'!$C:$C,\"=\"&$C41)","v":0},{"$f":"SUMIFS('Vehicle Type Count by Agency'!AJ:AJ,'Vehicle Type Count by Agency'!$C:$C,\"=\"&$C41)","v":42},{"$f":"SUMIFS('Vehicle Type Count by Agency'!AL:AL,'Vehicle Type Count by Agency'!$C:$C,\"=\"&$C41)","v":0},{"$f":"SUMIFS('Vehicle Type Count by Agency'!AN:AN,'Vehicle Type Count by Agency'!$C:$C,\"=\"&$C41)","v":54},{"$f":"SUMIFS('Vehicle Type Count by Agency'!AP:AP,'Vehicle Type Count by Agency'!$C:$C,\"=\"&$C41)","v":0},{"$f":"SUMIFS('Vehicle Type Count by Agency'!AR:AR,'Vehicle Type Count by Agency'!$C:$C,\"=\"&$C41)","v":0},{"$f":"SUMIFS('Vehicle Type Count by Agency'!AT:AT,'Vehicle Type Count by Agency'!$C:$C,\"=\"&$C41)","v":0},{"$f":"SUMIFS('Vehicle Type Count by Agency'!AV:AV,'Vehicle Type Count by Agency'!$C:$C,\"=\"&$C41)","v":0},{"$f":"SUMIFS('Vehicle Type Count by Agency'!AX:AX,'Vehicle Type Count by Agency'!$C:$C,\"=\"&$C41)","v":0},{"$f":"SUMIFS('Vehicle Type Count by Agency'!AZ:AZ,'Vehicle Type Count by Agency'!$C:$C,\"=\"&$C41)","v":0},{"$f":"SUMIFS('Vehicle Type Count by Agency'!BB:BB,'Vehicle Type Count by Agency'!$C:$C,\"=\"&$C41)","v":0},{"$f":"SUMIFS('Vehicle Type Count by Agency'!BD:BD,'Vehicle Type Count by Agency'!$C:$C,\"=\"&$C41)","v":3},{"$f":"SUMIFS('Vehicle Type Count by Agency'!BF:BF,'Vehicle Type Count by Agency'!$C:$C,\"=\"&$C41)","v":2},{"$f":"SUMIFS('Vehicle Type Count by Agency'!BH:BH,'Vehicle Type Count by Agency'!$C:$C,\"=\"&$C41)","v":495}]
[null,null,"AL","Alabama",null,{"$f":"SUMIFS('Vehicle Type Count by Agency'!J:J,'Vehicle Type Count by Agency'!$C:$C,\"=\"&$C42)","v":208},{"$f":"SUMIFS('Vehicle Type Count by Agency'!L:L,'Vehicle Type Count by Agency'!$C:$C,\"=\"&$C42)","v":0},{"$f":"SUMIFS('Vehicle Type Count by Agency'!N:N,'Vehicle Type Count by Agency'!$C:$C,\"=\"&$C42)","v":0},{"$f":"SUMIFS('Vehicle Type Count by Agency'!P:P,'Vehicle Type Count by Agency'!$C:$C,\"=\"&$C42)","v":0},{"$f":"SUMIFS('Vehicle Type Count by Agency'!R:R,'Vehicle Type Count by Agency'!$C:$C,\"=\"&$C42)","v":15},{"$f":"SUMIFS('Vehicle Type Count by Agency'!T:T,'Vehicle Type Count by Agency'!$C:$C,\"=\"&$C42)","v":236},{"$f":"SUMIFS('Vehicle Type Count by Agency'!V:V,'Vehicle Type Count by Agency'!$C:$C,\"=\"&$C42)","v":383},{"$f":"SUMIFS('Vehicle Type Count by Agency'!X:X,'Vehicle Type Count by Agency'!$C:$C,\"=\"&$C42)","v":3},{"$f":"SUMIFS('Vehicle Type Count by Agency'!Z:Z,'Vehicle Type Count by Agency'!$C:$C,\"=\"&$C42)","v":37},{"$f":"SUMIFS('Vehicle Type Count by Agency'!AB:AB,'Vehicle Type Count by Agency'!$C:$C,\"=\"&$C42)","v":0},{"$f":"SUMIFS('Vehicle Type Count by Agency'!AD:AD,'Vehicle Type Count by Agency'!$C:$C,\"=\"&$C42)","v":0},{"$f":"SUMIFS('Vehicle Type Count by Agency'!AF:AF,'Vehicle Type Count by Agency'!$C:$C,\"=\"&$C42)","v":0},{"$f":"SUMIFS('Vehicle Type Count by Agency'!AH:AH,'Vehicle Type Count by Agency'!$C:$C,\"=\"&$C42)","v":0},{"$f":"SUMIFS('Vehicle Type Count by Agency'!AJ:AJ,'Vehicle Type Count by Agency'!$C:$C,\"=\"&$C42)","v":0},{"$f":"SUMIFS('Vehicle Type Count by Agency'!AL:AL,'Vehicle Type Count by Agency'!$C:$C,\"=\"&$C42)","v":0},{"$f":"SUMIFS('Vehicle Type Count by Agency'!AN:AN,'Vehicle Type Count by Agency'!$C:$C,\"=\"&$C42)","v":0},{"$f":"SUMIFS('Vehicle Type Count by Agency'!AP:AP,'Vehicle Type Count by Agency'!$C:$C,\"=\"&$C42)","v":0},{"$f":"SUMIFS('Vehicle Type Count by Agency'!AR:AR,'Vehicle Type Count by Agency'!$C:$C,\"=\"&$C42)","v":0},{"$f":"SUMIFS('Vehicle Type Count by Agency'!AT:AT,'Vehicle Type Count by Agency'!$C:$C,\"=\"&$C42)","v":0},{"$f":"SUMIFS('Vehicle Type Count by Agency'!AV:AV,'Vehicle Type Count by Agency'!$C:$C,\"=\"&$C42)","v":0},{"$f":"SUMIFS('Vehicle Type Count by Agency'!AX:AX,'Vehicle Type Count by Agency'!$C:$C,\"=\"&$C42)","v":0},{"$f":"SUMIFS('Vehicle Type Count by Agency'!AZ:AZ,'Vehicle Type Count by Agency'!$C:$C,\"=\"&$C42)","v":0},{"$f":"SUMIFS('Vehicle Type Count by Agency'!BB:BB,'Vehicle Type Count by Agency'!$C:$C,\"=\"&$C42)","v":0},{"$f":"SUMIFS('Vehicle Type Count by Agency'!BD:BD,'Vehicle Type Count by Agency'!$C:$C,\"=\"&$C42)","v":0},{"$f":"SUMIFS('Vehicle Type Count by Agency'!BF:BF,'Vehicle Type Count by Agency'!$C:$C,\"=\"&$C42)","v":0},{"$f":"SUMIFS('Vehicle Type Count by Agency'!BH:BH,'Vehicle Type Count by Agency'!$C:$C,\"=\"&$C42)","v":882}]
[null,null,"AR","Arkansas",null,{"$f":"SUMIFS('Vehicle Type Count by Agency'!J:J,'Vehicle Type Count by Agency'!$C:$C,\"=\"&$C43)","v":108},{"$f":"SUMIFS('Vehicle Type Count by Agency'!L:L,'Vehicle Type Count by Agency'!$C:$C,\"=\"&$C43)","v":0},{"$f":"SUMIFS('Vehicle Type Count by Agency'!N:N,'Vehicle Type Count by Agency'!$C:$C,\"=\"&$C43)","v":0},{"$f":"SUMIFS('Vehicle Type Count by Agency'!P:P,'Vehicle Type Count by Agency'!$C:$C,\"=\"&$C43)","v":0},{"$f":"SUMIFS('Vehicle Type Count by Agency'!R:R,'Vehicle Type Count by Agency'!$C:$C,\"=\"&$C43)","v":0},{"$f":"SUMIFS('Vehicle Type Count by Agency'!T:T,'Vehicle Type Count by Agency'!$C:$C,\"=\"&$C43)","v":171},{"$f":"SUMIFS('Vehicle Type Count by Agency'!V:V,'Vehicle Type Count by Agency'!$C:$C,\"=\"&$C43)","v":325},{"$f":"SUMIFS('Vehicle Type Count by Agency'!X:X,'Vehicle Type Count by Agency'!$C:$C,\"=\"&$C43)","v":4},{"$f":"SUMIFS('Vehicle Type Count by Agency'!Z:Z,'Vehicle Type Count by Agency'!$C:$C,\"=\"&$C43)","v":95},{"$f":"SUMIFS('Vehicle Type Count by Agency'!AB:AB,'Vehicle Type Count by Agency'!$C:$C,\"=\"&$C43)","v":0},{"$f":"SUMIFS('Vehicle Type Count by Agency'!AD:AD,'Vehicle Type Count by Agency'!$C:$C,\"=\"&$C43)","v":0},{"$f":"SUMIFS('Vehicle Type Count by Agency'!AF:AF,'Vehicle Type Count by Agency'!$C:$C,\"=\"&$C43)","v":0},{"$f":"SUMIFS('Vehicle Type Count by Agency'!AH:AH,'Vehicle Type Count by Agency'!$C:$C,\"=\"&$C43)","v":0},{"$f":"SUMIFS('Vehicle Type Count by Agency'!AJ:AJ,'Vehicle Type Count by Agency'!$C:$C,\"=\"&$C43)","v":0},{"$f":"SUMIFS('Vehicle Type Count by Agency'!AL:AL,'Vehicle Type Count by Agency'!$C:$C,\"=\"&$C43)","v":0},{"$f":"SUMIFS('Vehicle Type Count by Agency'!AN:AN,'Vehicle Type Count by Agency'!$C:$C,\"=\"&$C43)","v":0},{"$f":"SUMIFS('Vehicle Type Count by Agency'!AP:AP,'Vehicle Type Count by Agency'!$C:$C,\"=\"&$C43)","v":0},{"$f":"SUMIFS('Vehicle Type Count by Agency'!AR:AR,'Vehicle Type Count by Agency'!$C:$C,\"=\"&$C43)","v":5},{"$f":"SUMIFS('Vehicle Type Count by Agency'!AT:AT,'Vehicle Type Count by Agency'!$C:$C,\"=\"&$C43)","v":0},{"$f":"SUMIFS('Vehicle Type Count by Agency'!AV:AV,'Vehicle Type Count by Agency'!$C:$C,\"=\"&$C43)","v":0},{"$f":"SUMIFS('Vehicle Type Count by Agency'!AX:AX,'Vehicle Type Count by Agency'!$C:$C,\"=\"&$C43)","v":0},{"$f":"SUMIFS('Vehicle Type Count by Agency'!AZ:AZ,'Vehicle Type Count by Agency'!$C:$C,\"=\"&$C43)","v":0},{"$f":"SUMIFS('Vehicle Type Count by Agency'!BB:BB,'Vehicle Type Count by Agency'!$C:$C,\"=\"&$C43)","v":0},{"$f":"SUMIFS('Vehicle Type Count by Agency'!BD:BD,'Vehicle Type Count by Agency'!$C:$C,\"=\"&$C43)","v":0},{"$f":"SUMIFS('Vehicle Type Count by Agency'!BF:BF,'Vehicle Type Count by Agency'!$C:$C,\"=\"&$C43)","v":0},{"$f":"SUMIFS('Vehicle Type Count by Agency'!BH:BH,'Vehicle Type Count by Agency'!$C:$C,\"=\"&$C43)","v":708}]
[null,null,"AS","American Samoa",null,{"$f":"SUMIFS('Vehicle Type Count by Agency'!J:J,'Vehicle Type Count by Agency'!$C:$C,\"=\"&$C44)","v":4},{"$f":"SUMIFS('Vehicle Type Count by Agency'!L:L,'Vehicle Type Count by Agency'!$C:$C,\"=\"&$C44)","v":0},{"$f":"SUMIFS('Vehicle Type Count by Agency'!N:N,'Vehicle Type Count by Agency'!$C:$C,\"=\"&$C44)","v":0},{"$f":"SUMIFS('Vehicle Type Count by Agency'!P:P,'Vehicle Type Count by Agency'!$C:$C,\"=\"&$C44)","v":0},{"$f":"SUMIFS('Vehicle Type Count by Agency'!R:R,'Vehicle Type Count by Agency'!$C:$C,\"=\"&$C44)","v":0},{"$f":"SUMIFS('Vehicle Type Count by Agency'!T:T,'Vehicle Type Count by Agency'!$C:$C,\"=\"&$C44)","v":4},{"$f":"SUMIFS('Vehicle Type Count by Agency'!V:V,'Vehicle Type Count by Agency'!$C:$C,\"=\"&$C44)","v":0},{"$f":"SUMIFS('Vehicle Type Count by Agency'!X:X,'Vehicle Type Count by Agency'!$C:$C,\"=\"&$C44)","v":0},{"$f":"SUMIFS('Vehicle Type Count by Agency'!Z:Z,'Vehicle Type Count by Agency'!$C:$C,\"=\"&$C44)","v":0},{"$f":"SUMIFS('Vehicle Type Count by Agency'!AB:AB,'Vehicle Type Count by Agency'!$C:$C,\"=\"&$C44)","v":0},{"$f":"SUMIFS('Vehicle Type Count by Agency'!AD:AD,'Vehicle Type Count by Agency'!$C:$C,\"=\"&$C44)","v":0},{"$f":"SUMIFS('Vehicle Type Count by Agency'!AF:AF,'Vehicle Type Count by Agency'!$C:$C,\"=\"&$C44)","v":0},{"$f":"SUMIFS('Vehicle Type Count by Agency'!AH:AH,'Vehicle Type Count by Agency'!$C:$C,\"=\"&$C44)","v":0},{"$f":"SUMIFS('Vehicle Type Count by Agency'!AJ:AJ,'Vehicle Type Count by Agency'!$C:$C,\"=\"&$C44)","v":0},{"$f":"SUMIFS('Vehicle Type Count by Agency'!AL:AL,'Vehicle Type Count by Agency'!$C:$C,\"=\"&$C44)","v":0},{"$f":"SUMIFS('Vehicle Type Count by Agency'!AN:AN,'Vehicle Type Count by Agency'!$C:$C,\"=\"&$C44)","v":0},{"$f":"SUMIFS('Vehicle Type Count by Agency'!AP:AP,'Vehicle Type Count by Agency'!$C:$C,\"=\"&$C44)","v":0},{"$f":"SUMIFS('Vehicle Type Count by Agency'!AR:AR,'Vehicle Type Count by Agency'!$C:$C,\"=\"&$C44)","v":0},{"$f":"SUMIFS('Vehicle Type Count by Agency'!AT:AT,'Vehicle Type Count by Agency'!$C:$C,\"=\"&$C44)","v":0},{"$f":"SUMIFS('Vehicle Type Count by Agency'!AV:AV,'Vehicle Type Count by Agency'!$C:$C,\"=\"&$C44)","v":0},{"$f":"SUMIFS('Vehicle Type Count by Agency'!AX:AX,'Vehicle Type Count by Agency'!$C:$C,\"=\"&$C44)","v":0},{"$f":"SUMIFS('Vehicle Type Count by Agency'!AZ:AZ,'Vehicle Type Count by Agency'!$C:$C,\"=\"&$C44)","v":0},{"$f":"SUMIFS('Vehicle Type Count by Agency'!BB:BB,'Vehicle Type Count by Agency'!$C:$C,\"=\"&$C44)","v":0},{"$f":"SUMIFS('Vehicle Type Count by Agency'!BD:BD,'Vehicle Type Count by Agency'!$C:$C,\"=\"&$C44)","v":1},{"$f":"SUMIFS('Vehicle Type Count by Agency'!BF:BF,'Vehicle Type Count by Agency'!$C:$C,\"=\"&$C44)","v":0},{"$f":"SUMIFS('Vehicle Type Count by Agency'!BH:BH,'Vehicle Type Count by Agency'!$C:$C,\"=\"&$C44)","v":9}]
[null,null,"AZ","Arizona",null,{"$f":"SUMIFS('Vehicle Type Count by Agency'!J:J,'Vehicle Type Count by Agency'!$C:$C,\"=\"&$C45)","v":1029},{"$f":"SUMIFS('Vehicle Type Count by Agency'!L:L,'Vehicle Type Count by Agency'!$C:$C,\"=\"&$C45)","v":136},{"$f":"SUMIFS('Vehicle Type Count by Agency'!N:N,'Vehicle Type Count by Agency'!$C:$C,\"=\"&$C45)","v":3},{"$f":"SUMIFS('Vehicle Type Count by Agency'!P:P,'Vehicle Type Count by Agency'!$C:$C,\"=\"&$C45)","v":0},{"$f":"SUMIFS('Vehicle Type Count by Agency'!R:R,'Vehicle Type Count by Agency'!$C:$C,\"=\"&$C45)","v":0},{"$f":"SUMIFS('Vehicle Type Count by Agency'!T:T,'Vehicle Type Count by Agency'!$C:$C,\"=\"&$C45)","v":479},{"$f":"SUMIFS('Vehicle Type Count by Agency'!V:V,'Vehicle Type Count by Agency'!$C:$C,\"=\"&$C45)","v":599},{"$f":"SUMIFS('Vehicle Type Count by Agency'!X:X,'Vehicle Type Count by Agency'!$C:$C,\"=\"&$C45)","v":289},{"$f":"SUMIFS('Vehicle Type Count by Agency'!Z:Z,'Vehicle Type Count by Agency'!$C:$C,\"=\"&$C45)","v":118},{"$f":"SUMIFS('Vehicle Type Count by Agency'!AB:AB,'Vehicle Type Count by Agency'!$C:$C,\"=\"&$C45)","v":31},{"$f":"SUMIFS('Vehicle Type Count by Agency'!AD:AD,'Vehicle Type Count by Agency'!$C:$C,\"=\"&$C45)","v":0},{"$f":"SUMIFS('Vehicle Type Count by Agency'!AF:AF,'Vehicle Type Count by Agency'!$C:$C,\"=\"&$C45)","v":0},{"$f":"SUMIFS('Vehicle Type Count by Agency'!AH:AH,'Vehicle Type Count by Agency'!$C:$C,\"=\"&$C45)","v":50},{"$f":"SUMIFS('Vehicle Type Count by Agency'!AJ:AJ,'Vehicle Type Count by Agency'!$C:$C,\"=\"&$C45)","v":0},{"$f":"SUMIFS('Vehicle Type Count by Agency'!AL:AL,'Vehicle Type Count by Agency'!$C:$C,\"=\"&$C45)","v":0},{"$f":"SUMIFS('Vehicle Type Count by Agency'!AN:AN,'Vehicle Type Count by Agency'!$C:$C,\"=\"&$C45)","v":0},{"$f":"SUMIFS('Vehicle Type Count by Agency'!AP:AP,'Vehicle Type Count by Agency'!$C:$C,\"=\"&$C45)","v":0},{"$f":"SUMIFS('Vehicle Type Count by Agency'!AR:AR,'Vehicle Type Count by Agency'!$C:$C,\"=\"&$C45)","v":0},{"$f":"SUMIFS('Vehicle Type Count by Agency'!AT:AT,'Vehicle Type Count by Agency'!$C:$C,\"=\"&$C45)","v":8},{"$f":"SUMIFS('Vehicle Type Count by Agency'!AV:AV,'Vehicle Type Count by Agency'!$C:$C,\"=\"&$C45)","v":0},{"$f":"SUMIFS('Vehicle Type Count by Agency'!AX:AX,'Vehicle Type Count by Agency'!$C:$C,\"=\"&$C45)","v":0},{"$f":"SUMIFS('Vehicle Type Count by Agency'!AZ:AZ,'Vehicle Type Count by Agency'!$C:$C,\"=\"&$C45)","v":0},{"$f":"SUMIFS('Vehicle Type Count by Agency'!BB:BB,'Vehicle Type Count by Agency'!$C:$C,\"=\"&$C45)","v":0},{"$f":"SUMIFS('Vehicle Type Count by Agency'!BD:BD,'Vehicle Type Count by Agency'!$C:$C,\"=\"&$C45)","v":0},{"$f":"SUMIFS('Vehicle Type Count by Agency'!BF:BF,'Vehicle Type Count by Agency'!$C:$C,\"=\"&$C45)","v":3},{"$f":"SUMIFS('Vehicle Type Count by Agency'!BH:BH,'Vehicle Type Count by Agency'!$C:$C,\"=\"&$C45)","v":2745}]
[null,null,"CA","California",null,{"$f":"SUMIFS('Vehicle Type Count by Agency'!J:J,'Vehicle Type Count by Agency'!$C:$C,\"=\"&$C46)","v":9150},{"$f":"SUMIFS('Vehicle Type Count by Agency'!L:L,'Vehicle Type Count by Agency'!$C:$C,\"=\"&$C46)","v":1138},{"$f":"SUMIFS('Vehicle Type Count by Agency'!N:N,'Vehicle Type Count by Agency'!$C:$C,\"=\"&$C46)","v":486},{"$f":"SUMIFS('Vehicle Type Count by Agency'!P:P,'Vehicle Type Count by Agency'!$C:$C,\"=\"&$C46)","v":6},{"$f":"SUMIFS('Vehicle Type Count by Agency'!R:R,'Vehicle Type Count by Agency'!$C:$C,\"=\"&$C46)","v":0},{"$f":"SUMIFS('Vehicle Type Count by Agency'!T:T,'Vehicle Type Count by Agency'!$C:$C,\"=\"&$C46)","v":4316},{"$f":"SUMIFS('Vehicle Type Count by Agency'!V:V,'Vehicle Type Count by Agency'!$C:$C,\"=\"&$C46)","v":3439},{"$f":"SUMIFS('Vehicle Type Count by Agency'!X:X,'Vehicle Type Count by Agency'!$C:$C,\"=\"&$C46)","v":1697},{"$f":"SUMIFS('Vehicle Type Count by Agency'!Z:Z,'Vehicle Type Count by Agency'!$C:$C,\"=\"&$C46)","v":768},{"$f":"SUMIFS('Vehicle Type Count by Agency'!AB:AB,'Vehicle Type Count by Agency'!$C:$C,\"=\"&$C46)","v":251},{"$f":"SUMIFS('Vehicle Type Count by Agency'!AD:AD,'Vehicle Type Count by Agency'!$C:$C,\"=\"&$C46)","v":319},{"$f":"SUMIFS('Vehicle Type Count by Agency'!AF:AF,'Vehicle Type Count by Agency'!$C:$C,\"=\"&$C46)","v":794},{"$f":"SUMIFS('Vehicle Type Count by Agency'!AH:AH,'Vehicle Type Count by Agency'!$C:$C,\"=\"&$C46)","v":799},{"$f":"SUMIFS('Vehicle Type Count by Agency'!AJ:AJ,'Vehicle Type Count by Agency'!$C:$C,\"=\"&$C46)","v":426},{"$f":"SUMIFS('Vehicle Type Count by Agency'!AL:AL,'Vehicle Type Count by Agency'!$C:$C,\"=\"&$C46)","v":22},{"$f":"SUMIFS('Vehicle Type Count by Agency'!AN:AN,'Vehicle Type Count by Agency'!$C:$C,\"=\"&$C46)","v":97},{"$f":"SUMIFS('Vehicle Type Count by Agency'!AP:AP,'Vehicle Type Count by Agency'!$C:$C,\"=\"&$C46)","v":4},{"$f":"SUMIFS('Vehicle Type Count by Agency'!AR:AR,'Vehicle Type Count by Agency'!$C:$C,\"=\"&$C46)","v":3},{"$f":"SUMIFS('Vehicle Type Count by Agency'!AT:AT,'Vehicle Type Count by Agency'!$C:$C,\"=\"&$C46)","v":45},{"$f":"SUMIFS('Vehicle Type Count by Agency'!AV:AV,'Vehicle Type Count by Agency'!$C:$C,\"=\"&$C46)","v":0},{"$f":"SUMIFS('Vehicle Type Count by Agency'!AX:AX,'Vehicle Type Count by Agency'!$C:$C,\"=\"&$C46)","v":0},{"$f":"SUMIFS('Vehicle Type Count by Agency'!AZ:AZ,'Vehicle Type Count by Agency'!$C:$C,\"=\"&$C46)","v":36},{"$f":"SUMIFS('Vehicle Type Count by Agency'!BB:BB,'Vehicle Type Count by Agency'!$C:$C,\"=\"&$C46)","v":0},{"$f":"SUMIFS('Vehicle Type Count by Agency'!BD:BD,'Vehicle Type Count by Agency'!$C:$C,\"=\"&$C46)","v":24},{"$f":"SUMIFS('Vehicle Type Count by Agency'!BF:BF,'Vehicle Type Count by Agency'!$C:$C,\"=\"&$C46)","v":0},{"$f":"SUMIFS('Vehicle Type Count by Agency'!BH:BH,'Vehicle Type Count by Agency'!$C:$C,\"=\"&$C46)","v":23820}]
[null,null,"CO","Colorado",null,{"$f":"SUMIFS('Vehicle Type Count by Agency'!J:J,'Vehicle Type Count by Agency'!$C:$C,\"=\"&$C47)","v":1266},{"$f":"SUMIFS('Vehicle Type Count by Agency'!L:L,'Vehicle Type Count by Agency'!$C:$C,\"=\"&$C47)","v":127},{"$f":"SUMIFS('Vehicle Type Count by Agency'!N:N,'Vehicle Type Count by Agency'!$C:$C,\"=\"&$C47)","v":198},{"$f":"SUMIFS('Vehicle Type Count by Agency'!P:P,'Vehicle Type Count by Agency'!$C:$C,\"=\"&$C47)","v":0},{"$f":"SUMIFS('Vehicle Type Count by Agency'!R:R,'Vehicle Type Count by Agency'!$C:$C,\"=\"&$C47)","v":1},{"$f":"SUMIFS('Vehicle Type Count by Agency'!T:T,'Vehicle Type Count by Agency'!$C:$C,\"=\"&$C47)","v":228},{"$f":"SUMIFS('Vehicle Type Count by Agency'!V:V,'Vehicle Type Count by Agency'!$C:$C,\"=\"&$C47)","v":828},{"$f":"SUMIFS('Vehicle Type Count by Agency'!X:X,'Vehicle Type Count by Agency'!$C:$C,\"=\"&$C47)","v":69},{"$f":"SUMIFS('Vehicle Type Count by Agency'!Z:Z,'Vehicle Type Count by Agency'!$C:$C,\"=\"&$C47)","v":211},{"$f":"SUMIFS('Vehicle Type Count by Agency'!AB:AB,'Vehicle Type Count by Agency'!$C:$C,\"=\"&$C47)","v":35},{"$f":"SUMIFS('Vehicle Type Count by Agency'!AD:AD,'Vehicle Type Count by Agency'!$C:$C,\"=\"&$C47)","v":0},{"$f":"SUMIFS('Vehicle Type Count by Agency'!AF:AF,'Vehicle Type Count by Agency'!$C:$C,\"=\"&$C47)","v":0},{"$f":"SUMIFS('Vehicle Type Count by Agency'!AH:AH,'Vehicle Type Count by Agency'!$C:$C,\"=\"&$C47)","v":172},{"$f":"SUMIFS('Vehicle Type Count by Agency'!AJ:AJ,'Vehicle Type Count by Agency'!$C:$C,\"=\"&$C47)","v":0},{"$f":"SUMIFS('Vehicle Type Count by Agency'!AL:AL,'Vehicle Type Count by Agency'!$C:$C,\"=\"&$C47)","v":66},{"$f":"SUMIFS('Vehicle Type Count by Agency'!AN:AN,'Vehicle Type Count by Agency'!$C:$C,\"=\"&$C47)","v":0},{"$f":"SUMIFS('Vehicle Type Count by Agency'!AP:AP,'Vehicle Type Count by Agency'!$C:$C,\"=\"&$C47)","v":0},{"$f":"SUMIFS('Vehicle Type Count by Agency'!AR:AR,'Vehicle Type Count by Agency'!$C:$C,\"=\"&$C47)","v":0},{"$f":"SUMIFS('Vehicle Type Count by Agency'!AT:AT,'Vehicle Type Count by Agency'!$C:$C,\"=\"&$C47)","v":0},{"$f":"SUMIFS('Vehicle Type Count by Agency'!AV:AV,'Vehicle Type Count by Agency'!$C:$C,\"=\"&$C47)","v":68},{"$f":"SUMIFS('Vehicle Type Count by Agency'!AX:AX,'Vehicle Type Count by Agency'!$C:$C,\"=\"&$C47)","v":0},{"$f":"SUMIFS('Vehicle Type Count by Agency'!AZ:AZ,'Vehicle Type Count by Agency'!$C:$C,\"=\"&$C47)","v":0},{"$f":"SUMIFS('Vehicle Type Count by Agency'!BB:BB,'Vehicle Type Count by Agency'!$C:$C,\"=\"&$C47)","v":0},{"$f":"SUMIFS('Vehicle Type Count by Agency'!BD:BD,'Vehicle Type Count by Agency'!$C:$C,\"=\"&$C47)","v":0},{"$f":"SUMIFS('Vehicle Type Count by Agency'!BF:BF,'Vehicle Type Count by Agency'!$C:$C,\"=\"&$C47)","v":23},{"$f":"SUMIFS('Vehicle Type Count by Agency'!BH:BH,'Vehicle Type Count by Agency'!$C:$C,\"=\"&$C47)","v":3292}]
[null,null,"CT","Connecticut",null,{"$f":"SUMIFS('Vehicle Type Count by Agency'!J:J,'Vehicle Type Count by Agency'!$C:$C,\"=\"&$C48)","v":693},{"$f":"SUMIFS('Vehicle Type Count by Agency'!L:L,'Vehicle Type Count by Agency'!$C:$C,\"=\"&$C48)","v":51},{"$f":"SUMIFS('Vehicle Type Count by Agency'!N:N,'Vehicle Type Count by Agency'!$C:$C,\"=\"&$C48)","v":43},{"$f":"SUMIFS('Vehicle Type Count by Agency'!P:P,'Vehicle Type Count by Agency'!$C:$C,\"=\"&$C48)","v":0},{"$f":"SUMIFS('Vehicle Type Count by Agency'!R:R,'Vehicle Type Count by Agency'!$C:$C,\"=\"&$C48)","v":0},{"$f":"SUMIFS('Vehicle Type Count by Agency'!T:T,'Vehicle Type Count by Agency'!$C:$C,\"=\"&$C48)","v":25},{"$f":"SUMIFS('Vehicle Type Count by Agency'!V:V,'Vehicle Type Count by Agency'!$C:$C,\"=\"&$C48)","v":632},{"$f":"SUMIFS('Vehicle Type Count by Agency'!X:X,'Vehicle Type Count by Agency'!$C:$C,\"=\"&$C48)","v":0},{"$f":"SUMIFS('Vehicle Type Count by Agency'!Z:Z,'Vehicle Type Count by Agency'!$C:$C,\"=\"&$C48)","v":6},{"$f":"SUMIFS('Vehicle Type Count by Agency'!AB:AB,'Vehicle Type Count by Agency'!$C:$C,\"=\"&$C48)","v":4},{"$f":"SUMIFS('Vehicle Type Count by Agency'!AD:AD,'Vehicle Type Count by Agency'!$C:$C,\"=\"&$C48)","v":0},{"$f":"SUMIFS('Vehicle Type Count by Agency'!AF:AF,'Vehicle Type Count by Agency'!$C:$C,\"=\"&$C48)","v":0},{"$f":"SUMIFS('Vehicle Type Count by Agency'!AH:AH,'Vehicle Type Count by Agency'!$C:$C,\"=\"&$C48)","v":0},{"$f":"SUMIFS('Vehicle Type Count by Agency'!AJ:AJ,'Vehicle Type Count by Agency'!$C:$C,\"=\"&$C48)","v":33},{"$f":"SUMIFS('Vehicle Type Count by Agency'!AL:AL,'Vehicle Type Count by Agency'!$C:$C,\"=\"&$C48)","v":0},{"$f":"SUMIFS('Vehicle Type Count by Agency'!AN:AN,'Vehicle Type Count by Agency'!$C:$C,\"=\"&$C48)","v":14},{"$f":"SUMIFS('Vehicle Type Count by Agency'!AP:AP,'Vehicle Type Count by Agency'!$C:$C,\"=\"&$C48)","v":0},{"$f":"SUMIFS('Vehicle Type Count by Agency'!AR:AR,'Vehicle Type Count by Agency'!$C:$C,\"=\"&$C48)","v":0},{"$f":"SUMIFS('Vehicle Type Count by Agency'!AT:AT,'Vehicle Type Count by Agency'!$C:$C,\"=\"&$C48)","v":0},{"$f":"SUMIFS('Vehicle Type Count by Agency'!AV:AV,'Vehicle Type Count by Agency'!$C:$C,\"=\"&$C48)","v":0},{"$f":"SUMIFS('Vehicle Type Count by Agency'!AX:AX,'Vehicle Type Count by Agency'!$C:$C,\"=\"&$C48)","v":0},{"$f":"SUMIFS('Vehicle Type Count by Agency'!AZ:AZ,'Vehicle Type Count by Agency'!$C:$C,\"=\"&$C48)","v":0},{"$f":"SUMIFS('Vehicle Type Count by Agency'!BB:BB,'Vehicle Type Count by Agency'!$C:$C,\"=\"&$C48)","v":0},{"$f":"SUMIFS('Vehicle Type Count by Agency'!BD:BD,'Vehicle Type Count by Agency'!$C:$C,\"=\"&$C48)","v":0},{"$f":"SUMIFS('Vehicle Type Count by Agency'!BF:BF,'Vehicle Type Count by Agency'!$C:$C,\"=\"&$C48)","v":0},{"$f":"SUMIFS('Vehicle Type Count by Agency'!BH:BH,'Vehicle Type Count by Agency'!$C:$C,\"=\"&$C48)","v":1501}]
[null,null,"DC","District of Columbia",null,{"$f":"SUMIFS('Vehicle Type Count by Agency'!J:J,'Vehicle Type Count by Agency'!$C:$C,\"=\"&$C49)","v":1673},{"$f":"SUMIFS('Vehicle Type Count by Agency'!L:L,'Vehicle Type Count by Agency'!$C:$C,\"=\"&$C49)","v":65},{"$f":"SUMIFS('Vehicle Type Count by Agency'!N:N,'Vehicle Type Count by Agency'!$C:$C,\"=\"&$C49)","v":0},{"$f":"SUMIFS('Vehicle Type Count by Agency'!P:P,'Vehicle Type Count by Agency'!$C:$C,\"=\"&$C49)","v":0},{"$f":"SUMIFS('Vehicle Type Count by Agency'!R:R,'Vehicle Type Count by Agency'!$C:$C,\"=\"&$C49)","v":0},{"$f":"SUMIFS('Vehicle Type Count by Agency'!T:T,'Vehicle Type Count by Agency'!$C:$C,\"=\"&$C49)","v":806},{"$f":"SUMIFS('Vehicle Type Count by Agency'!V:V,'Vehicle Type Count by Agency'!$C:$C,\"=\"&$C49)","v":0},{"$f":"SUMIFS('Vehicle Type Count by Agency'!X:X,'Vehicle Type Count by Agency'!$C:$C,\"=\"&$C49)","v":89},{"$f":"SUMIFS('Vehicle Type Count by Agency'!Z:Z,'Vehicle Type Count by Agency'!$C:$C,\"=\"&$C49)","v":0},{"$f":"SUMIFS('Vehicle Type Count by Agency'!AB:AB,'Vehicle Type Count by Agency'!$C:$C,\"=\"&$C49)","v":0},{"$f":"SUMIFS('Vehicle Type Count by Agency'!AD:AD,'Vehicle Type Count by Agency'!$C:$C,\"=\"&$C49)","v":0},{"$f":"SUMIFS('Vehicle Type Count by Agency'!AF:AF,'Vehicle Type Count by Agency'!$C:$C,\"=\"&$C49)","v":1114},{"$f":"SUMIFS('Vehicle Type Count by Agency'!AH:AH,'Vehicle Type Count by Agency'!$C:$C,\"=\"&$C49)","v":0},{"$f":"SUMIFS('Vehicle Type Count by Agency'!AJ:AJ,'Vehicle Type Count by Agency'!$C:$C,\"=\"&$C49)","v":0},{"$f":"SUMIFS('Vehicle Type Count by Agency'!AL:AL,'Vehicle Type Count by Agency'!$C:$C,\"=\"&$C49)","v":0},{"$f":"SUMIFS('Vehicle Type Count by Agency'!AN:AN,'Vehicle Type Count by Agency'!$C:$C,\"=\"&$C49)","v":0},{"$f":"SUMIFS('Vehicle Type Count by Agency'!AP:AP,'Vehicle Type Count by Agency'!$C:$C,\"=\"&$C49)","v":0},{"$f":"SUMIFS('Vehicle Type Count by Agency'!AR:AR,'Vehicle Type Count by Agency'!$C:$C,\"=\"&$C49)","v":0},{"$f":"SUMIFS('Vehicle Type Count by Agency'!AT:AT,'Vehicle Type Count by Agency'!$C:$C,\"=\"&$C49)","v":6},{"$f":"SUMIFS('Vehicle Type Count by Agency'!AV:AV,'Vehicle Type Count by Agency'!$C:$C,\"=\"&$C49)","v":0},{"$f":"SUMIFS('Vehicle Type Count by Agency'!AX:AX,'Vehicle Type Count by Agency'!$C:$C,\"=\"&$C49)","v":0},{"$f":"SUMIFS('Vehicle Type Count by Agency'!AZ:AZ,'Vehicle Type Count by Agency'!$C:$C,\"=\"&$C49)","v":0},{"$f":"SUMIFS('Vehicle Type Count by Agency'!BB:BB,'Vehicle Type Count by Agency'!$C:$C,\"=\"&$C49)","v":0},{"$f":"SUMIFS('Vehicle Type Count by Agency'!BD:BD,'Vehicle Type Count by Agency'!$C:$C,\"=\"&$C49)","v":0},{"$f":"SUMIFS('Vehicle Type Count by Agency'!BF:BF,'Vehicle Type Count by Agency'!$C:$C,\"=\"&$C49)","v":0},{"$f":"SUMIFS('Vehicle Type Count by Agency'!BH:BH,'Vehicle Type Count by Agency'!$C:$C,\"=\"&$C49)","v":3753}]
[null,null,"DE","Delaware",null,{"$f":"SUMIFS('Vehicle Type Count by Agency'!J:J,'Vehicle Type Count by Agency'!$C:$C,\"=\"&$C50)","v":248},{"$f":"SUMIFS('Vehicle Type Count by Agency'!L:L,'Vehicle Type Count by Agency'!$C:$C,\"=\"&$C50)","v":0},{"$f":"SUMIFS('Vehicle Type Count by Agency'!N:N,'Vehicle Type Count by Agency'!$C:$C,\"=\"&$C50)","v":17},{"$f":"SUMIFS('Vehicle Type Count by Agency'!P:P,'Vehicle Type Count by Agency'!$C:$C,\"=\"&$C50)","v":0},{"$f":"SUMIFS('Vehicle Type Count by Agency'!R:R,'Vehicle Type Count by Agency'!$C:$C,\"=\"&$C50)","v":0},{"$f":"SUMIFS('Vehicle Type Count by Agency'!T:T,'Vehicle Type Count by Agency'!$C:$C,\"=\"&$C50)","v":0},{"$f":"SUMIFS('Vehicle Type Count by Agency'!V:V,'Vehicle Type Count by Agency'!$C:$C,\"=\"&$C50)","v":384},{"$f":"SUMIFS('Vehicle Type Count by Agency'!X:X,'Vehicle Type Count by Agency'!$C:$C,\"=\"&$C50)","v":0},{"$f":"SUMIFS('Vehicle Type Count by Agency'!Z:Z,'Vehicle Type Count by Agency'!$C:$C,\"=\"&$C50)","v":0},{"$f":"SUMIFS('Vehicle Type Count by Agency'!AB:AB,'Vehicle Type Count by Agency'!$C:$C,\"=\"&$C50)","v":0},{"$f":"SUMIFS('Vehicle Type Count by Agency'!AD:AD,'Vehicle Type Count by Agency'!$C:$C,\"=\"&$C50)","v":0},{"$f":"SUMIFS('Vehicle Type Count by Agency'!AF:AF,'Vehicle Type Count by Agency'!$C:$C,\"=\"&$C50)","v":0},{"$f":"SUMIFS('Vehicle Type Count by Agency'!AH:AH,'Vehicle Type Count by Agency'!$C:$C,\"=\"&$C50)","v":0},{"$f":"SUMIFS('Vehicle Type Count by Agency'!AJ:AJ,'Vehicle Type Count by Agency'!$C:$C,\"=\"&$C50)","v":0},{"$f":"SUMIFS('Vehicle Type Count by Agency'!AL:AL,'Vehicle Type Count by Agency'!$C:$C,\"=\"&$C50)","v":0},{"$f":"SUMIFS('Vehicle Type Count by Agency'!AN:AN,'Vehicle Type Count by Agency'!$C:$C,\"=\"&$C50)","v":0},{"$f":"SUMIFS('Vehicle Type Count by Agency'!AP:AP,'Vehicle Type Count by Agency'!$C:$C,\"=\"&$C50)","v":0},{"$f":"SUMIFS('Vehicle Type Count by Agency'!AR:AR,'Vehicle Type Count by Agency'!$C:$C,\"=\"&$C50)","v":0},{"$f":"SUMIFS('Vehicle Type Count by Agency'!AT:AT,'Vehicle Type Count by Agency'!$C:$C,\"=\"&$C50)","v":0},{"$f":"SUMIFS('Vehicle Type Count by Agency'!AV:AV,'Vehicle Type Count by Agency'!$C:$C,\"=\"&$C50)","v":0},{"$f":"SUMIFS('Vehicle Type Count by Agency'!AX:AX,'Vehicle Type Count by Agency'!$C:$C,\"=\"&$C50)","v":0},{"$f":"SUMIFS('Vehicle Type Count by Agency'!AZ:AZ,'Vehicle Type Count by Agency'!$C:$C,\"=\"&$C50)","v":0},{"$f":"SUMIFS('Vehicle Type Count by Agency'!BB:BB,'Vehicle Type Count by Agency'!$C:$C,\"=\"&$C50)","v":0},{"$f":"SUMIFS('Vehicle Type Count by Agency'!BD:BD,'Vehicle Type Count by Agency'!$C:$C,\"=\"&$C50)","v":0},{"$f":"SUMIFS('Vehicle Type Count by Agency'!BF:BF,'Vehicle Type Count by Agency'!$C:$C,\"=\"&$C50)","v":0},{"$f":"SUMIFS('Vehicle Type Count by Agency'!BH:BH,'Vehicle Type Count by Agency'!$C:$C,\"=\"&$C50)","v":649}]
[null,null,"FL","Florida",null,{"$f":"SUMIFS('Vehicle Type Count by Agency'!J:J,'Vehicle Type Count by Agency'!$C:$C,\"=\"&$C51)","v":2911},{"$f":"SUMIFS('Vehicle Type Count by Agency'!L:L,'Vehicle Type Count by Agency'!$C:$C,\"=\"&$C51)","v":156},{"$f":"SUMIFS('Vehicle Type Count by Agency'!N:N,'Vehicle Type Count by Agency'!$C:$C,\"=\"&$C51)","v":66},{"$f":"SUMIFS('Vehicle Type Count by Agency'!P:P,'Vehicle Type Count by Agency'!$C:$C,\"=\"&$C51)","v":0},{"$f":"SUMIFS('Vehicle Type Count by Agency'!R:R,'Vehicle Type Count by Agency'!$C:$C,\"=\"&$C51)","v":8},{"$f":"SUMIFS('Vehicle Type Count by Agency'!T:T,'Vehicle Type Count by Agency'!$C:$C,\"=\"&$C51)","v":1095},{"$f":"SUMIFS('Vehicle Type Count by Agency'!V:V,'Vehicle Type Count by Agency'!$C:$C,\"=\"&$C51)","v":1730},{"$f":"SUMIFS('Vehicle Type Count by Agency'!X:X,'Vehicle Type Count by Agency'!$C:$C,\"=\"&$C51)","v":450},{"$f":"SUMIFS('Vehicle Type Count by Agency'!Z:Z,'Vehicle Type Count by Agency'!$C:$C,\"=\"&$C51)","v":336},{"$f":"SUMIFS('Vehicle Type Count by Agency'!AB:AB,'Vehicle Type Count by Agency'!$C:$C,\"=\"&$C51)","v":177},{"$f":"SUMIFS('Vehicle Type Count by Agency'!AD:AD,'Vehicle Type Count by Agency'!$C:$C,\"=\"&$C51)","v":0},{"$f":"SUMIFS('Vehicle Type Count by Agency'!AF:AF,'Vehicle Type Count by Agency'!$C:$C,\"=\"&$C51)","v":130},{"$f":"SUMIFS('Vehicle Type Count by Agency'!AH:AH,'Vehicle Type Count by Agency'!$C:$C,\"=\"&$C51)","v":10},{"$f":"SUMIFS('Vehicle Type Count by Agency'!AJ:AJ,'Vehicle Type Count by Agency'!$C:$C,\"=\"&$C51)","v":66},{"$f":"SUMIFS('Vehicle Type Count by Agency'!AL:AL,'Vehicle Type Count by Agency'!$C:$C,\"=\"&$C51)","v":0},{"$f":"SUMIFS('Vehicle Type Count by Agency'!AN:AN,'Vehicle Type Count by Agency'!$C:$C,\"=\"&$C51)","v":27},{"$f":"SUMIFS('Vehicle Type Count by Agency'!AP:AP,'Vehicle Type Count by Agency'!$C:$C,\"=\"&$C51)","v":33},{"$f":"SUMIFS('Vehicle Type Count by Agency'!AR:AR,'Vehicle Type Count by Agency'!$C:$C,\"=\"&$C51)","v":0},{"$f":"SUMIFS('Vehicle Type Count by Agency'!AT:AT,'Vehicle Type Count by Agency'!$C:$C,\"=\"&$C51)","v":0},{"$f":"SUMIFS('Vehicle Type Count by Agency'!AV:AV,'Vehicle Type Count by Agency'!$C:$C,\"=\"&$C51)","v":0},{"$f":"SUMIFS('Vehicle Type Count by Agency'!AX:AX,'Vehicle Type Count by Agency'!$C:$C,\"=\"&$C51)","v":0},{"$f":"SUMIFS('Vehicle Type Count by Agency'!AZ:AZ,'Vehicle Type Count by Agency'!$C:$C,\"=\"&$C51)","v":0},{"$f":"SUMIFS('Vehicle Type Count by Agency'!BB:BB,'Vehicle Type Count by Agency'!$C:$C,\"=\"&$C51)","v":0},{"$f":"SUMIFS('Vehicle Type Count by Agency'!BD:BD,'Vehicle Type Count by Agency'!$C:$C,\"=\"&$C51)","v":3},{"$f":"SUMIFS('Vehicle Type Count by Agency'!BF:BF,'Vehicle Type Count by Agency'!$C:$C,\"=\"&$C51)","v":2},{"$f":"SUMIFS('Vehicle Type Count by Agency'!BH:BH,'Vehicle Type Count by Agency'!$C:$C,\"=\"&$C51)","v":7200}]
[null,null,"GA","Georgia",null,{"$f":"SUMIFS('Vehicle Type Count by Agency'!J:J,'Vehicle Type Count by Agency'!$C:$C,\"=\"&$C52)","v":996},{"$f":"SUMIFS('Vehicle Type Count by Agency'!L:L,'Vehicle Type Count by Agency'!$C:$C,\"=\"&$C52)","v":18},{"$f":"SUMIFS('Vehicle Type Count by Agency'!N:N,'Vehicle Type Count by Agency'!$C:$C,\"=\"&$C52)","v":227},{"$f":"SUMIFS('Vehicle Type Count by Agency'!P:P,'Vehicle Type Count by Agency'!$C:$C,\"=\"&$C52)","v":0},{"$f":"SUMIFS('Vehicle Type Count by Agency'!R:R,'Vehicle Type Count by Agency'!$C:$C,\"=\"&$C52)","v":0},{"$f":"SUMIFS('Vehicle Type Count by Agency'!T:T,'Vehicle Type Count by Agency'!$C:$C,\"=\"&$C52)","v":324},{"$f":"SUMIFS('Vehicle Type Count by Agency'!V:V,'Vehicle Type Count by Agency'!$C:$C,\"=\"&$C52)","v":809},{"$f":"SUMIFS('Vehicle Type Count by Agency'!X:X,'Vehicle Type Count by Agency'!$C:$C,\"=\"&$C52)","v":9},{"$f":"SUMIFS('Vehicle Type Count by Agency'!Z:Z,'Vehicle Type Count by Agency'!$C:$C,\"=\"&$C52)","v":16},{"$f":"SUMIFS('Vehicle Type Count by Agency'!AB:AB,'Vehicle Type Count by Agency'!$C:$C,\"=\"&$C52)","v":38},{"$f":"SUMIFS('Vehicle Type Count by Agency'!AD:AD,'Vehicle Type Count by Agency'!$C:$C,\"=\"&$C52)","v":0},{"$f":"SUMIFS('Vehicle Type Count by Agency'!AF:AF,'Vehicle Type Count by Agency'!$C:$C,\"=\"&$C52)","v":306},{"$f":"SUMIFS('Vehicle Type Count by Agency'!AH:AH,'Vehicle Type Count by Agency'!$C:$C,\"=\"&$C52)","v":0},{"$f":"SUMIFS('Vehicle Type Count by Agency'!AJ:AJ,'Vehicle Type Count by Agency'!$C:$C,\"=\"&$C52)","v":0},{"$f":"SUMIFS('Vehicle Type Count by Agency'!AL:AL,'Vehicle Type Count by Agency'!$C:$C,\"=\"&$C52)","v":0},{"$f":"SUMIFS('Vehicle Type Count by Agency'!AN:AN,'Vehicle Type Count by Agency'!$C:$C,\"=\"&$C52)","v":0},{"$f":"SUMIFS('Vehicle Type Count by Agency'!AP:AP,'Vehicle Type Count by Agency'!$C:$C,\"=\"&$C52)","v":0},{"$f":"SUMIFS('Vehicle Type Count by Agency'!AR:AR,'Vehicle Type Count by Agency'!$C:$C,\"=\"&$C52)","v":0},{"$f":"SUMIFS('Vehicle Type Count by Agency'!AT:AT,'Vehicle Type Count by Agency'!$C:$C,\"=\"&$C52)","v":4},{"$f":"SUMIFS('Vehicle Type Count by Agency'!AV:AV,'Vehicle Type Count by Agency'!$C:$C,\"=\"&$C52)","v":0},{"$f":"SUMIFS('Vehicle Type Count by Agency'!AX:AX,'Vehicle Type Count by Agency'!$C:$C,\"=\"&$C52)","v":0},{"$f":"SUMIFS('Vehicle Type Count by Agency'!AZ:AZ,'Vehicle Type Count by Agency'!$C:$C,\"=\"&$C52)","v":0},{"$f":"SUMIFS('Vehicle Type Count by Agency'!BB:BB,'Vehicle Type Count by Agency'!$C:$C,\"=\"&$C52)","v":0},{"$f":"SUMIFS('Vehicle Type Count by Agency'!BD:BD,'Vehicle Type Count by Agency'!$C:$C,\"=\"&$C52)","v":4},{"$f":"SUMIFS('Vehicle Type Count by Agency'!BF:BF,'Vehicle Type Count by Agency'!$C:$C,\"=\"&$C52)","v":0},{"$f":"SUMIFS('Vehicle Type Count by Agency'!BH:BH,'Vehicle Type Count by Agency'!$C:$C,\"=\"&$C52)","v":2751}]
[null,null,"GU","Guam",null,{"$f":"SUMIFS('Vehicle Type Count by Agency'!J:J,'Vehicle Type Count by Agency'!$C:$C,\"=\"&$C53)","v":10},{"$f":"SUMIFS('Vehicle Type Count by Agency'!L:L,'Vehicle Type Count by Agency'!$C:$C,\"=\"&$C53)","v":0},{"$f":"SUMIFS('Vehicle Type Count by Agency'!N:N,'Vehicle Type Count by Agency'!$C:$C,\"=\"&$C53)","v":0},{"$f":"SUMIFS('Vehicle Type Count by Agency'!P:P,'Vehicle Type Count by Agency'!$C:$C,\"=\"&$C53)","v":0},{"$f":"SUMIFS('Vehicle Type Count by Agency'!R:R,'Vehicle Type Count by Agency'!$C:$C,\"=\"&$C53)","v":0},{"$f":"SUMIFS('Vehicle Type Count by Agency'!T:T,'Vehicle Type Count by Agency'!$C:$C,\"=\"&$C53)","v":1},{"$f":"SUMIFS('Vehicle Type Count by Agency'!V:V,'Vehicle Type Count by Agency'!$C:$C,\"=\"&$C53)","v":17},{"$f":"SUMIFS('Vehicle Type Count by Agency'!X:X,'Vehicle Type Count by Agency'!$C:$C,\"=\"&$C53)","v":0},{"$f":"SUMIFS('Vehicle Type Count by Agency'!Z:Z,'Vehicle Type Count by Agency'!$C:$C,\"=\"&$C53)","v":11},{"$f":"SUMIFS('Vehicle Type Count by Agency'!AB:AB,'Vehicle Type Count by Agency'!$C:$C,\"=\"&$C53)","v":0},{"$f":"SUMIFS('Vehicle Type Count by Agency'!AD:AD,'Vehicle Type Count by Agency'!$C:$C,\"=\"&$C53)","v":0},{"$f":"SUMIFS('Vehicle Type Count by Agency'!AF:AF,'Vehicle Type Count by Agency'!$C:$C,\"=\"&$C53)","v":0},{"$f":"SUMIFS('Vehicle Type Count by Agency'!AH:AH,'Vehicle Type Count by Agency'!$C:$C,\"=\"&$C53)","v":0},{"$f":"SUMIFS('Vehicle Type Count by Agency'!AJ:AJ,'Vehicle Type Count by Agency'!$C:$C,\"=\"&$C53)","v":0},{"$f":"SUMIFS('Vehicle Type Count by Agency'!AL:AL,'Vehicle Type Count by Agency'!$C:$C,\"=\"&$C53)","v":0},{"$f":"SUMIFS('Vehicle Type Count by Agency'!AN:AN,'Vehicle Type Count by Agency'!$C:$C,\"=\"&$C53)","v":0},{"$f":"SUMIFS('Vehicle Type Count by Agency'!AP:AP,'Vehicle Type Count by Agency'!$C:$C,\"=\"&$C53)","v":0},{"$f":"SUMIFS('Vehicle Type Count by Agency'!AR:AR,'Vehicle Type Count by Agency'!$C:$C,\"=\"&$C53)","v":0},{"$f":"SUMIFS('Vehicle Type Count by Agency'!AT:AT,'Vehicle Type Count by Agency'!$C:$C,\"=\"&$C53)","v":0},{"$f":"SUMIFS('Vehicle Type Count by Agency'!AV:AV,'Vehicle Type Count by Agency'!$C:$C,\"=\"&$C53)","v":0},{"$f":"SUMIFS('Vehicle Type Count by Agency'!AX:AX,'Vehicle Type Count by Agency'!$C:$C,\"=\"&$C53)","v":0},{"$f":"SUMIFS('Vehicle Type Count by Agency'!AZ:AZ,'Vehicle Type Count by Agency'!$C:$C,\"=\"&$C53)","v":0},{"$f":"SUMIFS('Vehicle Type Count by Agency'!BB:BB,'Vehicle Type Count by Agency'!$C:$C,\"=\"&$C53)","v":0},{"$f":"SUMIFS('Vehicle Type Count by Agency'!BD:BD,'Vehicle Type Count by Agency'!$C:$C,\"=\"&$C53)","v":0},{"$f":"SUMIFS('Vehicle Type Count by Agency'!BF:BF,'Vehicle Type Count by Agency'!$C:$C,\"=\"&$C53)","v":0},{"$f":"SUMIFS('Vehicle Type Count by Agency'!BH:BH,'Vehicle Type Count by Agency'!$C:$C,\"=\"&$C53)","v":39}]
[null,null,"HI","Hawaii",null,{"$f":"SUMIFS('Vehicle Type Count by Agency'!J:J,'Vehicle Type Count by Agency'!$C:$C,\"=\"&$C54)","v":473},{"$f":"SUMIFS('Vehicle Type Count by Agency'!L:L,'Vehicle Type Count by Agency'!$C:$C,\"=\"&$C54)","v":115},{"$f":"SUMIFS('Vehicle Type Count by Agency'!N:N,'Vehicle Type Count by Agency'!$C:$C,\"=\"&$C54)","v":6},{"$f":"SUMIFS('Vehicle Type Count by Agency'!P:P,'Vehicle Type Count by Agency'!$C:$C,\"=\"&$C54)","v":0},{"$f":"SUMIFS('Vehicle Type Count by Agency'!R:R,'Vehicle Type Count by Agency'!$C:$C,\"=\"&$C54)","v":19},{"$f":"SUMIFS('Vehicle Type Count by Agency'!T:T,'Vehicle Type Count by Agency'!$C:$C,\"=\"&$C54)","v":184},{"$f":"SUMIFS('Vehicle Type Count by Agency'!V:V,'Vehicle Type Count by Agency'!$C:$C,\"=\"&$C54)","v":328},{"$f":"SUMIFS('Vehicle Type Count by Agency'!X:X,'Vehicle Type Count by Agency'!$C:$C,\"=\"&$C54)","v":60},{"$f":"SUMIFS('Vehicle Type Count by Agency'!Z:Z,'Vehicle Type Count by Agency'!$C:$C,\"=\"&$C54)","v":59},{"$f":"SUMIFS('Vehicle Type Count by Agency'!AB:AB,'Vehicle Type Count by Agency'!$C:$C,\"=\"&$C54)","v":2},{"$f":"SUMIFS('Vehicle Type Count by Agency'!AD:AD,'Vehicle Type Count by Agency'!$C:$C,\"=\"&$C54)","v":0},{"$f":"SUMIFS('Vehicle Type Count by Agency'!AF:AF,'Vehicle Type Count by Agency'!$C:$C,\"=\"&$C54)","v":0},{"$f":"SUMIFS('Vehicle Type Count by Agency'!AH:AH,'Vehicle Type Count by Agency'!$C:$C,\"=\"&$C54)","v":0},{"$f":"SUMIFS('Vehicle Type Count by Agency'!AJ:AJ,'Vehicle Type Count by Agency'!$C:$C,\"=\"&$C54)","v":0},{"$f":"SUMIFS('Vehicle Type Count by Agency'!AL:AL,'Vehicle Type Count by Agency'!$C:$C,\"=\"&$C54)","v":0},{"$f":"SUMIFS('Vehicle Type Count by Agency'!AN:AN,'Vehicle Type Count by Agency'!$C:$C,\"=\"&$C54)","v":0},{"$f":"SUMIFS('Vehicle Type Count by Agency'!AP:AP,'Vehicle Type Count by Agency'!$C:$C,\"=\"&$C54)","v":0},{"$f":"SUMIFS('Vehicle Type Count by Agency'!AR:AR,'Vehicle Type Count by Agency'!$C:$C,\"=\"&$C54)","v":0},{"$f":"SUMIFS('Vehicle Type Count by Agency'!AT:AT,'Vehicle Type Count by Agency'!$C:$C,\"=\"&$C54)","v":0},{"$f":"SUMIFS('Vehicle Type Count by Agency'!AV:AV,'Vehicle Type Count by Agency'!$C:$C,\"=\"&$C54)","v":0},{"$f":"SUMIFS('Vehicle Type Count by Agency'!AX:AX,'Vehicle Type Count by Agency'!$C:$C,\"=\"&$C54)","v":0},{"$f":"SUMIFS('Vehicle Type Count by Agency'!AZ:AZ,'Vehicle Type Count by Agency'!$C:$C,\"=\"&$C54)","v":0},{"$f":"SUMIFS('Vehicle Type Count by Agency'!BB:BB,'Vehicle Type Count by Agency'!$C:$C,\"=\"&$C54)","v":0},{"$f":"SUMIFS('Vehicle Type Count by Agency'!BD:BD,'Vehicle Type Count by Agency'!$C:$C,\"=\"&$C54)","v":0},{"$f":"SUMIFS('Vehicle Type Count by Agency'!BF:BF,'Vehicle Type Count by Agency'!$C:$C,\"=\"&$C54)","v":0},{"$f":"SUMIFS('Vehicle Type Count by Agency'!BH:BH,'Vehicle Type Count by Agency'!$C:$C,\"=\"&$C54)","v":1246}]
[null,null,"IA","Iowa",null,{"$f":"SUMIFS('Vehicle Type Count by Agency'!J:J,'Vehicle Type Count by Agency'!$C:$C,\"=\"&$C55)","v":521},{"$f":"SUMIFS('Vehicle Type Count by Agency'!L:L,'Vehicle Type Count by Agency'!$C:$C,\"=\"&$C55)","v":12},{"$f":"SUMIFS('Vehicle Type Count by Agency'!N:N,'Vehicle Type Count by Agency'!$C:$C,\"=\"&$C55)","v":0},{"$f":"SUMIFS('Vehicle Type Count by Agency'!P:P,'Vehicle Type Count by Agency'!$C:$C,\"=\"&$C55)","v":0},{"$f":"SUMIFS('Vehicle Type Count by Agency'!R:R,'Vehicle Type Count by Agency'!$C:$C,\"=\"&$C55)","v":0},{"$f":"SUMIFS('Vehicle Type Count by Agency'!T:T,'Vehicle Type Count by Agency'!$C:$C,\"=\"&$C55)","v":100},{"$f":"SUMIFS('Vehicle Type Count by Agency'!V:V,'Vehicle Type Count by Agency'!$C:$C,\"=\"&$C55)","v":926},{"$f":"SUMIFS('Vehicle Type Count by Agency'!X:X,'Vehicle Type Count by Agency'!$C:$C,\"=\"&$C55)","v":19},{"$f":"SUMIFS('Vehicle Type Count by Agency'!Z:Z,'Vehicle Type Count by Agency'!$C:$C,\"=\"&$C55)","v":199},{"$f":"SUMIFS('Vehicle Type Count by Agency'!AB:AB,'Vehicle Type Count by Agency'!$C:$C,\"=\"&$C55)","v":0},{"$f":"SUMIFS('Vehicle Type Count by Agency'!AD:AD,'Vehicle Type Count by Agency'!$C:$C,\"=\"&$C55)","v":0},{"$f":"SUMIFS('Vehicle Type Count by Agency'!AF:AF,'Vehicle Type Count by Agency'!$C:$C,\"=\"&$C55)","v":0},{"$f":"SUMIFS('Vehicle Type Count by Agency'!AH:AH,'Vehicle Type Count by Agency'!$C:$C,\"=\"&$C55)","v":0},{"$f":"SUMIFS('Vehicle Type Count by Agency'!AJ:AJ,'Vehicle Type Count by Agency'!$C:$C,\"=\"&$C55)","v":0},{"$f":"SUMIFS('Vehicle Type Count by Agency'!AL:AL,'Vehicle Type Count by Agency'!$C:$C,\"=\"&$C55)","v":0},{"$f":"SUMIFS('Vehicle Type Count by Agency'!AN:AN,'Vehicle Type Count by Agency'!$C:$C,\"=\"&$C55)","v":0},{"$f":"SUMIFS('Vehicle Type Count by Agency'!AP:AP,'Vehicle Type Count by Agency'!$C:$C,\"=\"&$C55)","v":0},{"$f":"SUMIFS('Vehicle Type Count by Agency'!AR:AR,'Vehicle Type Count by Agency'!$C:$C,\"=\"&$C55)","v":0},{"$f":"SUMIFS('Vehicle Type Count by Agency'!AT:AT,'Vehicle Type Count by Agency'!$C:$C,\"=\"&$C55)","v":0},{"$f":"SUMIFS('Vehicle Type Count by Agency'!AV:AV,'Vehicle Type Count by Agency'!$C:$C,\"=\"&$C55)","v":0},{"$f":"SUMIFS('Vehicle Type Count by Agency'!AX:AX,'Vehicle Type Count by Agency'!$C:$C,\"=\"&$C55)","v":0},{"$f":"SUMIFS('Vehicle Type Count by Agency'!AZ:AZ,'Vehicle Type Count by Agency'!$C:$C,\"=\"&$C55)","v":0},{"$f":"SUMIFS('Vehicle Type Count by Agency'!BB:BB,'Vehicle Type Count by Agency'!$C:$C,\"=\"&$C55)","v":0},{"$f":"SUMIFS('Vehicle Type Count by Agency'!BD:BD,'Vehicle Type Count by Agency'!$C:$C,\"=\"&$C55)","v":0},{"$f":"SUMIFS('Vehicle Type Count by Agency'!BF:BF,'Vehicle Type Count by Agency'!$C:$C,\"=\"&$C55)","v":0},{"$f":"SUMIFS('Vehicle Type Count by Agency'!BH:BH,'Vehicle Type Count by Agency'!$C:$C,\"=\"&$C55)","v":1777}]
[null,null,"ID","Idaho",null,{"$f":"SUMIFS('Vehicle Type Count by Agency'!J:J,'Vehicle Type Count by Agency'!$C:$C,\"=\"&$C56)","v":88},{"$f":"SUMIFS('Vehicle Type Count by Agency'!L:L,'Vehicle Type Count by Agency'!$C:$C,\"=\"&$C56)","v":0},{"$f":"SUMIFS('Vehicle Type Count by Agency'!N:N,'Vehicle Type Count by Agency'!$C:$C,\"=\"&$C56)","v":0},{"$f":"SUMIFS('Vehicle Type Count by Agency'!P:P,'Vehicle Type Count by Agency'!$C:$C,\"=\"&$C56)","v":0},{"$f":"SUMIFS('Vehicle Type Count by Agency'!R:R,'Vehicle Type Count by Agency'!$C:$C,\"=\"&$C56)","v":4},{"$f":"SUMIFS('Vehicle Type Count by Agency'!T:T,'Vehicle Type Count by Agency'!$C:$C,\"=\"&$C56)","v":145},{"$f":"SUMIFS('Vehicle Type Count by Agency'!V:V,'Vehicle Type Count by Agency'!$C:$C,\"=\"&$C56)","v":249},{"$f":"SUMIFS('Vehicle Type Count by Agency'!X:X,'Vehicle Type Count by Agency'!$C:$C,\"=\"&$C56)","v":22},{"$f":"SUMIFS('Vehicle Type Count by Agency'!Z:Z,'Vehicle Type Count by Agency'!$C:$C,\"=\"&$C56)","v":36},{"$f":"SUMIFS('Vehicle Type Count by Agency'!AB:AB,'Vehicle Type Count by Agency'!$C:$C,\"=\"&$C56)","v":5},{"$f":"SUMIFS('Vehicle Type Count by Agency'!AD:AD,'Vehicle Type Count by Agency'!$C:$C,\"=\"&$C56)","v":0},{"$f":"SUMIFS('Vehicle Type Count by Agency'!AF:AF,'Vehicle Type Count by Agency'!$C:$C,\"=\"&$C56)","v":0},{"$f":"SUMIFS('Vehicle Type Count by Agency'!AH:AH,'Vehicle Type Count by Agency'!$C:$C,\"=\"&$C56)","v":0},{"$f":"SUMIFS('Vehicle Type Count by Agency'!AJ:AJ,'Vehicle Type Count by Agency'!$C:$C,\"=\"&$C56)","v":0},{"$f":"SUMIFS('Vehicle Type Count by Agency'!AL:AL,'Vehicle Type Count by Agency'!$C:$C,\"=\"&$C56)","v":0},{"$f":"SUMIFS('Vehicle Type Count by Agency'!AN:AN,'Vehicle Type Count by Agency'!$C:$C,\"=\"&$C56)","v":0},{"$f":"SUMIFS('Vehicle Type Count by Agency'!AP:AP,'Vehicle Type Count by Agency'!$C:$C,\"=\"&$C56)","v":0},{"$f":"SUMIFS('Vehicle Type Count by Agency'!AR:AR,'Vehicle Type Count by Agency'!$C:$C,\"=\"&$C56)","v":0},{"$f":"SUMIFS('Vehicle Type Count by Agency'!AT:AT,'Vehicle Type Count by Agency'!$C:$C,\"=\"&$C56)","v":0},{"$f":"SUMIFS('Vehicle Type Count by Agency'!AV:AV,'Vehicle Type Count by Agency'!$C:$C,\"=\"&$C56)","v":0},{"$f":"SUMIFS('Vehicle Type Count by Agency'!AX:AX,'Vehicle Type Count by Agency'!$C:$C,\"=\"&$C56)","v":0},{"$f":"SUMIFS('Vehicle Type Count by Agency'!AZ:AZ,'Vehicle Type Count by Agency'!$C:$C,\"=\"&$C56)","v":0},{"$f":"SUMIFS('Vehicle Type Count by Agency'!BB:BB,'Vehicle Type Count by Agency'!$C:$C,\"=\"&$C56)","v":0},{"$f":"SUMIFS('Vehicle Type Count by Agency'!BD:BD,'Vehicle Type Count by Agency'!$C:$C,\"=\"&$C56)","v":0},{"$f":"SUMIFS('Vehicle Type Count by Agency'!BF:BF,'Vehicle Type Count by Agency'!$C:$C,\"=\"&$C56)","v":0},{"$f":"SUMIFS('Vehicle Type Count by Agency'!BH:BH,'Vehicle Type Count by Agency'!$C:$C,\"=\"&$C56)","v":549}]
[null,null,"IL","Illinois",null,{"$f":"SUMIFS('Vehicle Type Count by Agency'!J:J,'Vehicle Type Count by Agency'!$C:$C,\"=\"&$C57)","v":2874},{"$f":"SUMIFS('Vehicle Type Count by Agency'!L:L,'Vehicle Type Count by Agency'!$C:$C,\"=\"&$C57)","v":320},{"$f":"SUMIFS('Vehicle Type Count by Agency'!N:N,'Vehicle Type Count by Agency'!$C:$C,\"=\"&$C57)","v":30},{"$f":"SUMIFS('Vehicle Type Count by Agency'!P:P,'Vehicle Type Count by Agency'!$C:$C,\"=\"&$C57)","v":0},{"$f":"SUMIFS('Vehicle Type Count by Agency'!R:R,'Vehicle Type Count by Agency'!$C:$C,\"=\"&$C57)","v":0},{"$f":"SUMIFS('Vehicle Type Count by Agency'!T:T,'Vehicle Type Count by Agency'!$C:$C,\"=\"&$C57)","v":632},{"$f":"SUMIFS('Vehicle Type Count by Agency'!V:V,'Vehicle Type Count by Agency'!$C:$C,\"=\"&$C57)","v":2213},{"$f":"SUMIFS('Vehicle Type Count by Agency'!X:X,'Vehicle Type Count by Agency'!$C:$C,\"=\"&$C57)","v":13},{"$f":"SUMIFS('Vehicle Type Count by Agency'!Z:Z,'Vehicle Type Count by Agency'!$C:$C,\"=\"&$C57)","v":1218},{"$f":"SUMIFS('Vehicle Type Count by Agency'!AB:AB,'Vehicle Type Count by Agency'!$C:$C,\"=\"&$C57)","v":0},{"$f":"SUMIFS('Vehicle Type Count by Agency'!AD:AD,'Vehicle Type Count by Agency'!$C:$C,\"=\"&$C57)","v":0},{"$f":"SUMIFS('Vehicle Type Count by Agency'!AF:AF,'Vehicle Type Count by Agency'!$C:$C,\"=\"&$C57)","v":1438},{"$f":"SUMIFS('Vehicle Type Count by Agency'!AH:AH,'Vehicle Type Count by Agency'!$C:$C,\"=\"&$C57)","v":0},{"$f":"SUMIFS('Vehicle Type Count by Agency'!AJ:AJ,'Vehicle Type Count by Agency'!$C:$C,\"=\"&$C57)","v":847},{"$f":"SUMIFS('Vehicle Type Count by Agency'!AL:AL,'Vehicle Type Count by Agency'!$C:$C,\"=\"&$C57)","v":186},{"$f":"SUMIFS('Vehicle Type Count by Agency'!AN:AN,'Vehicle Type Count by Agency'!$C:$C,\"=\"&$C57)","v":149},{"$f":"SUMIFS('Vehicle Type Count by Agency'!AP:AP,'Vehicle Type Count by Agency'!$C:$C,\"=\"&$C57)","v":0},{"$f":"SUMIFS('Vehicle Type Count by Agency'!AR:AR,'Vehicle Type Count by Agency'!$C:$C,\"=\"&$C57)","v":0},{"$f":"SUMIFS('Vehicle Type Count by Agency'!AT:AT,'Vehicle Type Count by Agency'!$C:$C,\"=\"&$C57)","v":0},{"$f":"SUMIFS('Vehicle Type Count by Agency'!AV:AV,'Vehicle Type Count by Agency'!$C:$C,\"=\"&$C57)","v":0},{"$f":"SUMIFS('Vehicle Type Count by Agency'!AX:AX,'Vehicle Type Count by Agency'!$C:$C,\"=\"&$C57)","v":0},{"$f":"SUMIFS('Vehicle Type Count by Agency'!AZ:AZ,'Vehicle Type Count by Agency'!$C:$C,\"=\"&$C57)","v":0},{"$f":"SUMIFS('Vehicle Type Count by Agency'!BB:BB,'Vehicle Type Count by Agency'!$C:$C,\"=\"&$C57)","v":0},{"$f":"SUMIFS('Vehicle Type Count by Agency'!BD:BD,'Vehicle Type Count by Agency'!$C:$C,\"=\"&$C57)","v":7},{"$f":"SUMIFS('Vehicle Type Count by Agency'!BF:BF,'Vehicle Type Count by Agency'!$C:$C,\"=\"&$C57)","v":0},{"$f":"SUMIFS('Vehicle Type Count by Agency'!BH:BH,'Vehicle Type Count by Agency'!$C:$C,\"=\"&$C57)","v":9927}]
[null,null,"IN","Indiana",null,{"$f":"SUMIFS('Vehicle Type Count by Agency'!J:J,'Vehicle Type Count by Agency'!$C:$C,\"=\"&$C58)","v":491},{"$f":"SUMIFS('Vehicle Type Count by Agency'!L:L,'Vehicle Type Count by Agency'!$C:$C,\"=\"&$C58)","v":17},{"$f":"SUMIFS('Vehicle Type Count by Agency'!N:N,'Vehicle Type Count by Agency'!$C:$C,\"=\"&$C58)","v":5},{"$f":"SUMIFS('Vehicle Type Count by Agency'!P:P,'Vehicle Type Count by Agency'!$C:$C,\"=\"&$C58)","v":0},{"$f":"SUMIFS('Vehicle Type Count by Agency'!R:R,'Vehicle Type Count by Agency'!$C:$C,\"=\"&$C58)","v":0},{"$f":"SUMIFS('Vehicle Type Count by Agency'!T:T,'Vehicle Type Count by Agency'!$C:$C,\"=\"&$C58)","v":105},{"$f":"SUMIFS('Vehicle Type Count by Agency'!V:V,'Vehicle Type Count by Agency'!$C:$C,\"=\"&$C58)","v":742},{"$f":"SUMIFS('Vehicle Type Count by Agency'!X:X,'Vehicle Type Count by Agency'!$C:$C,\"=\"&$C58)","v":36},{"$f":"SUMIFS('Vehicle Type Count by Agency'!Z:Z,'Vehicle Type Count by Agency'!$C:$C,\"=\"&$C58)","v":329},{"$f":"SUMIFS('Vehicle Type Count by Agency'!AB:AB,'Vehicle Type Count by Agency'!$C:$C,\"=\"&$C58)","v":0},{"$f":"SUMIFS('Vehicle Type Count by Agency'!AD:AD,'Vehicle Type Count by Agency'!$C:$C,\"=\"&$C58)","v":0},{"$f":"SUMIFS('Vehicle Type Count by Agency'!AF:AF,'Vehicle Type Count by Agency'!$C:$C,\"=\"&$C58)","v":0},{"$f":"SUMIFS('Vehicle Type Count by Agency'!AH:AH,'Vehicle Type Count by Agency'!$C:$C,\"=\"&$C58)","v":0},{"$f":"SUMIFS('Vehicle Type Count by Agency'!AJ:AJ,'Vehicle Type Count by Agency'!$C:$C,\"=\"&$C58)","v":10},{"$f":"SUMIFS('Vehicle Type Count by Agency'!AL:AL,'Vehicle Type Count by Agency'!$C:$C,\"=\"&$C58)","v":72},{"$f":"SUMIFS('Vehicle Type Count by Agency'!AN:AN,'Vehicle Type Count by Agency'!$C:$C,\"=\"&$C58)","v":0},{"$f":"SUMIFS('Vehicle Type Count by Agency'!AP:AP,'Vehicle Type Count by Agency'!$C:$C,\"=\"&$C58)","v":0},{"$f":"SUMIFS('Vehicle Type Count by Agency'!AR:AR,'Vehicle Type Count by Agency'!$C:$C,\"=\"&$C58)","v":0},{"$f":"SUMIFS('Vehicle Type Count by Agency'!AT:AT,'Vehicle Type Count by Agency'!$C:$C,\"=\"&$C58)","v":0},{"$f":"SUMIFS('Vehicle Type Count by Agency'!AV:AV,'Vehicle Type Count by Agency'!$C:$C,\"=\"&$C58)","v":0},{"$f":"SUMIFS('Vehicle Type Count by Agency'!AX:AX,'Vehicle Type Count by Agency'!$C:$C,\"=\"&$C58)","v":0},{"$f":"SUMIFS('Vehicle Type Count by Agency'!AZ:AZ,'Vehicle Type Count by Agency'!$C:$C,\"=\"&$C58)","v":0},{"$f":"SUMIFS('Vehicle Type Count by Agency'!BB:BB,'Vehicle Type Count by Agency'!$C:$C,\"=\"&$C58)","v":0},{"$f":"SUMIFS('Vehicle Type Count by Agency'!BD:BD,'Vehicle Type Count by Agency'!$C:$C,\"=\"&$C58)","v":0},{"$f":"SUMIFS('Vehicle Type Count by Agency'!BF:BF,'Vehicle Type Count by Agency'!$C:$C,\"=\"&$C58)","v":0},{"$f":"SUMIFS('Vehicle Type Count by Agency'!BH:BH,'Vehicle Type Count by Agency'!$C:$C,\"=\"&$C58)","v":1807}]
[null,null,"KS","Kansas",null,{"$f":"SUMIFS('Vehicle Type Count by Agency'!J:J,'Vehicle Type Count by Agency'!$C:$C,\"=\"&$C59)","v":197},{"$f":"SUMIFS('Vehicle Type Count by Agency'!L:L,'Vehicle Type Count by Agency'!$C:$C,\"=\"&$C59)","v":0},{"$f":"SUMIFS('Vehicle Type Count by Agency'!N:N,'Vehicle Type Count by Agency'!$C:$C,\"=\"&$C59)","v":5},{"$f":"SUMIFS('Vehicle Type Count by Agency'!P:P,'Vehicle Type Count by Agency'!$C:$C,\"=\"&$C59)","v":0},{"$f":"SUMIFS('Vehicle Type Count by Agency'!R:R,'Vehicle Type Count by Agency'!$C:$C,\"=\"&$C59)","v":0},{"$f":"SUMIFS('Vehicle Type Count by Agency'!T:T,'Vehicle Type Count by Agency'!$C:$C,\"=\"&$C59)","v":39},{"$f":"SUMIFS('Vehicle Type Count by Agency'!V:V,'Vehicle Type Count by Agency'!$C:$C,\"=\"&$C59)","v":382},{"$f":"SUMIFS('Vehicle Type Count by Agency'!X:X,'Vehicle Type Count by Agency'!$C:$C,\"=\"&$C59)","v":43},{"$f":"SUMIFS('Vehicle Type Count by Agency'!Z:Z,'Vehicle Type Count by Agency'!$C:$C,\"=\"&$C59)","v":185},{"$f":"SUMIFS('Vehicle Type Count by Agency'!AB:AB,'Vehicle Type Count by Agency'!$C:$C,\"=\"&$C59)","v":0},{"$f":"SUMIFS('Vehicle Type Count by Agency'!AD:AD,'Vehicle Type Count by Agency'!$C:$C,\"=\"&$C59)","v":0},{"$f":"SUMIFS('Vehicle Type Count by Agency'!AF:AF,'Vehicle Type Count by Agency'!$C:$C,\"=\"&$C59)","v":0},{"$f":"SUMIFS('Vehicle Type Count by Agency'!AH:AH,'Vehicle Type Count by Agency'!$C:$C,\"=\"&$C59)","v":0},{"$f":"SUMIFS('Vehicle Type Count by Agency'!AJ:AJ,'Vehicle Type Count by Agency'!$C:$C,\"=\"&$C59)","v":0},{"$f":"SUMIFS('Vehicle Type Count by Agency'!AL:AL,'Vehicle Type Count by Agency'!$C:$C,\"=\"&$C59)","v":0},{"$f":"SUMIFS('Vehicle Type Count by Agency'!AN:AN,'Vehicle Type Count by Agency'!$C:$C,\"=\"&$C59)","v":0},{"$f":"SUMIFS('Vehicle Type Count by Agency'!AP:AP,'Vehicle Type Count by Agency'!$C:$C,\"=\"&$C59)","v":0},{"$f":"SUMIFS('Vehicle Type Count by Agency'!AR:AR,'Vehicle Type Count by Agency'!$C:$C,\"=\"&$C59)","v":0},{"$f":"SUMIFS('Vehicle Type Count by Agency'!AT:AT,'Vehicle Type Count by Agency'!$C:$C,\"=\"&$C59)","v":0},{"$f":"SUMIFS('Vehicle Type Count by Agency'!AV:AV,'Vehicle Type Count by Agency'!$C:$C,\"=\"&$C59)","v":0},{"$f":"SUMIFS('Vehicle Type Count by Agency'!AX:AX,'Vehicle Type Count by Agency'!$C:$C,\"=\"&$C59)","v":0},{"$f":"SUMIFS('Vehicle Type Count by Agency'!AZ:AZ,'Vehicle Type Count by Agency'!$C:$C,\"=\"&$C59)","v":0},{"$f":"SUMIFS('Vehicle Type Count by Agency'!BB:BB,'Vehicle Type Count by Agency'!$C:$C,\"=\"&$C59)","v":0},{"$f":"SUMIFS('Vehicle Type Count by Agency'!BD:BD,'Vehicle Type Count by Agency'!$C:$C,\"=\"&$C59)","v":0},{"$f":"SUMIFS('Vehicle Type Count by Agency'!BF:BF,'Vehicle Type Count by Agency'!$C:$C,\"=\"&$C59)","v":0},{"$f":"SUMIFS('Vehicle Type Count by Agency'!BH:BH,'Vehicle Type Count by Agency'!$C:$C,\"=\"&$C59)","v":851}]
[null,null,"KY","Kentucky",null,{"$f":"SUMIFS('Vehicle Type Count by Agency'!J:J,'Vehicle Type Count by Agency'!$C:$C,\"=\"&$C60)","v":486},{"$f":"SUMIFS('Vehicle Type Count by Agency'!L:L,'Vehicle Type Count by Agency'!$C:$C,\"=\"&$C60)","v":0},{"$f":"SUMIFS('Vehicle Type Count by Agency'!N:N,'Vehicle Type Count by Agency'!$C:$C,\"=\"&$C60)","v":0},{"$f":"SUMIFS('Vehicle Type Count by Agency'!P:P,'Vehicle Type Count by Agency'!$C:$C,\"=\"&$C60)","v":0},{"$f":"SUMIFS('Vehicle Type Count by Agency'!R:R,'Vehicle Type Count by Agency'!$C:$C,\"=\"&$C60)","v":0},{"$f":"SUMIFS('Vehicle Type Count by Agency'!T:T,'Vehicle Type Count by Agency'!$C:$C,\"=\"&$C60)","v":384},{"$f":"SUMIFS('Vehicle Type Count by Agency'!V:V,'Vehicle Type Count by Agency'!$C:$C,\"=\"&$C60)","v":819},{"$f":"SUMIFS('Vehicle Type Count by Agency'!X:X,'Vehicle Type Count by Agency'!$C:$C,\"=\"&$C60)","v":127},{"$f":"SUMIFS('Vehicle Type Count by Agency'!Z:Z,'Vehicle Type Count by Agency'!$C:$C,\"=\"&$C60)","v":468},{"$f":"SUMIFS('Vehicle Type Count by Agency'!AB:AB,'Vehicle Type Count by Agency'!$C:$C,\"=\"&$C60)","v":123},{"$f":"SUMIFS('Vehicle Type Count by Agency'!AD:AD,'Vehicle Type Count by Agency'!$C:$C,\"=\"&$C60)","v":0},{"$f":"SUMIFS('Vehicle Type Count by Agency'!AF:AF,'Vehicle Type Count by Agency'!$C:$C,\"=\"&$C60)","v":0},{"$f":"SUMIFS('Vehicle Type Count by Agency'!AH:AH,'Vehicle Type Count by Agency'!$C:$C,\"=\"&$C60)","v":0},{"$f":"SUMIFS('Vehicle Type Count by Agency'!AJ:AJ,'Vehicle Type Count by Agency'!$C:$C,\"=\"&$C60)","v":0},{"$f":"SUMIFS('Vehicle Type Count by Agency'!AL:AL,'Vehicle Type Count by Agency'!$C:$C,\"=\"&$C60)","v":0},{"$f":"SUMIFS('Vehicle Type Count by Agency'!AN:AN,'Vehicle Type Count by Agency'!$C:$C,\"=\"&$C60)","v":0},{"$f":"SUMIFS('Vehicle Type Count by Agency'!AP:AP,'Vehicle Type Count by Agency'!$C:$C,\"=\"&$C60)","v":0},{"$f":"SUMIFS('Vehicle Type Count by Agency'!AR:AR,'Vehicle Type Count by Agency'!$C:$C,\"=\"&$C60)","v":0},{"$f":"SUMIFS('Vehicle Type Count by Agency'!AT:AT,'Vehicle Type Count by Agency'!$C:$C,\"=\"&$C60)","v":0},{"$f":"SUMIFS('Vehicle Type Count by Agency'!AV:AV,'Vehicle Type Count by Agency'!$C:$C,\"=\"&$C60)","v":0},{"$f":"SUMIFS('Vehicle Type Count by Agency'!AX:AX,'Vehicle Type Count by Agency'!$C:$C,\"=\"&$C60)","v":0},{"$f":"SUMIFS('Vehicle Type Count by Agency'!AZ:AZ,'Vehicle Type Count by Agency'!$C:$C,\"=\"&$C60)","v":0},{"$f":"SUMIFS('Vehicle Type Count by Agency'!BB:BB,'Vehicle Type Count by Agency'!$C:$C,\"=\"&$C60)","v":0},{"$f":"SUMIFS('Vehicle Type Count by Agency'!BD:BD,'Vehicle Type Count by Agency'!$C:$C,\"=\"&$C60)","v":0},{"$f":"SUMIFS('Vehicle Type Count by Agency'!BF:BF,'Vehicle Type Count by Agency'!$C:$C,\"=\"&$C60)","v":0},{"$f":"SUMIFS('Vehicle Type Count by Agency'!BH:BH,'Vehicle Type Count by Agency'!$C:$C,\"=\"&$C60)","v":2407}]
[null,null,"LA","Lousiana",null,{"$f":"SUMIFS('Vehicle Type Count by Agency'!J:J,'Vehicle Type Count by Agency'!$C:$C,\"=\"&$C61)","v":349},{"$f":"SUMIFS('Vehicle Type Count by Agency'!L:L,'Vehicle Type Count by Agency'!$C:$C,\"=\"&$C61)","v":16},{"$f":"SUMIFS('Vehicle Type Count by Agency'!N:N,'Vehicle Type Count by Agency'!$C:$C,\"=\"&$C61)","v":4},{"$f":"SUMIFS('Vehicle Type Count by Agency'!P:P,'Vehicle Type Count by Agency'!$C:$C,\"=\"&$C61)","v":0},{"$f":"SUMIFS('Vehicle Type Count by Agency'!R:R,'Vehicle Type Count by Agency'!$C:$C,\"=\"&$C61)","v":0},{"$f":"SUMIFS('Vehicle Type Count by Agency'!T:T,'Vehicle Type Count by Agency'!$C:$C,\"=\"&$C61)","v":97},{"$f":"SUMIFS('Vehicle Type Count by Agency'!V:V,'Vehicle Type Count by Agency'!$C:$C,\"=\"&$C61)","v":378},{"$f":"SUMIFS('Vehicle Type Count by Agency'!X:X,'Vehicle Type Count by Agency'!$C:$C,\"=\"&$C61)","v":4},{"$f":"SUMIFS('Vehicle Type Count by Agency'!Z:Z,'Vehicle Type Count by Agency'!$C:$C,\"=\"&$C61)","v":114},{"$f":"SUMIFS('Vehicle Type Count by Agency'!AB:AB,'Vehicle Type Count by Agency'!$C:$C,\"=\"&$C61)","v":1},{"$f":"SUMIFS('Vehicle Type Count by Agency'!AD:AD,'Vehicle Type Count by Agency'!$C:$C,\"=\"&$C61)","v":0},{"$f":"SUMIFS('Vehicle Type Count by Agency'!AF:AF,'Vehicle Type Count by Agency'!$C:$C,\"=\"&$C61)","v":0},{"$f":"SUMIFS('Vehicle Type Count by Agency'!AH:AH,'Vehicle Type Count by Agency'!$C:$C,\"=\"&$C61)","v":0},{"$f":"SUMIFS('Vehicle Type Count by Agency'!AJ:AJ,'Vehicle Type Count by Agency'!$C:$C,\"=\"&$C61)","v":0},{"$f":"SUMIFS('Vehicle Type Count by Agency'!AL:AL,'Vehicle Type Count by Agency'!$C:$C,\"=\"&$C61)","v":0},{"$f":"SUMIFS('Vehicle Type Count by Agency'!AN:AN,'Vehicle Type Count by Agency'!$C:$C,\"=\"&$C61)","v":0},{"$f":"SUMIFS('Vehicle Type Count by Agency'!AP:AP,'Vehicle Type Count by Agency'!$C:$C,\"=\"&$C61)","v":0},{"$f":"SUMIFS('Vehicle Type Count by Agency'!AR:AR,'Vehicle Type Count by Agency'!$C:$C,\"=\"&$C61)","v":35},{"$f":"SUMIFS('Vehicle Type Count by Agency'!AT:AT,'Vehicle Type Count by Agency'!$C:$C,\"=\"&$C61)","v":31},{"$f":"SUMIFS('Vehicle Type Count by Agency'!AV:AV,'Vehicle Type Count by Agency'!$C:$C,\"=\"&$C61)","v":0},{"$f":"SUMIFS('Vehicle Type Count by Agency'!AX:AX,'Vehicle Type Count by Agency'!$C:$C,\"=\"&$C61)","v":0},{"$f":"SUMIFS('Vehicle Type Count by Agency'!AZ:AZ,'Vehicle Type Count by Agency'!$C:$C,\"=\"&$C61)","v":0},{"$f":"SUMIFS('Vehicle Type Count by Agency'!BB:BB,'Vehicle Type Count by Agency'!$C:$C,\"=\"&$C61)","v":0},{"$f":"SUMIFS('Vehicle Type Count by Agency'!BD:BD,'Vehicle Type Count by Agency'!$C:$C,\"=\"&$C61)","v":6},{"$f":"SUMIFS('Vehicle Type Count by Agency'!BF:BF,'Vehicle Type Count by Agency'!$C:$C,\"=\"&$C61)","v":0},{"$f":"SUMIFS('Vehicle Type Count by Agency'!BH:BH,'Vehicle Type Count by Agency'!$C:$C,\"=\"&$C61)","v":1035}]
[null,null,"MA","Massachusetts",null,{"$f":"SUMIFS('Vehicle Type Count by Agency'!J:J,'Vehicle Type Count by Agency'!$C:$C,\"=\"&$C62)","v":1549},{"$f":"SUMIFS('Vehicle Type Count by Agency'!L:L,'Vehicle Type Count by Agency'!$C:$C,\"=\"&$C62)","v":104},{"$f":"SUMIFS('Vehicle Type Count by Agency'!N:N,'Vehicle Type Count by Agency'!$C:$C,\"=\"&$C62)","v":49},{"$f":"SUMIFS('Vehicle Type Count by Agency'!P:P,'Vehicle Type Count by Agency'!$C:$C,\"=\"&$C62)","v":0},{"$f":"SUMIFS('Vehicle Type Count by Agency'!R:R,'Vehicle Type Count by Agency'!$C:$C,\"=\"&$C62)","v":0},{"$f":"SUMIFS('Vehicle Type Count by Agency'!T:T,'Vehicle Type Count by Agency'!$C:$C,\"=\"&$C62)","v":823},{"$f":"SUMIFS('Vehicle Type Count by Agency'!V:V,'Vehicle Type Count by Agency'!$C:$C,\"=\"&$C62)","v":782},{"$f":"SUMIFS('Vehicle Type Count by Agency'!X:X,'Vehicle Type Count by Agency'!$C:$C,\"=\"&$C62)","v":308},{"$f":"SUMIFS('Vehicle Type Count by Agency'!Z:Z,'Vehicle Type Count by Agency'!$C:$C,\"=\"&$C62)","v":21},{"$f":"SUMIFS('Vehicle Type Count by Agency'!AB:AB,'Vehicle Type Count by Agency'!$C:$C,\"=\"&$C62)","v":0},{"$f":"SUMIFS('Vehicle Type Count by Agency'!AD:AD,'Vehicle Type Count by Agency'!$C:$C,\"=\"&$C62)","v":28},{"$f":"SUMIFS('Vehicle Type Count by Agency'!AF:AF,'Vehicle Type Count by Agency'!$C:$C,\"=\"&$C62)","v":432},{"$f":"SUMIFS('Vehicle Type Count by Agency'!AH:AH,'Vehicle Type Count by Agency'!$C:$C,\"=\"&$C62)","v":219},{"$f":"SUMIFS('Vehicle Type Count by Agency'!AJ:AJ,'Vehicle Type Count by Agency'!$C:$C,\"=\"&$C62)","v":422},{"$f":"SUMIFS('Vehicle Type Count by Agency'!AL:AL,'Vehicle Type Count by Agency'!$C:$C,\"=\"&$C62)","v":0},{"$f":"SUMIFS('Vehicle Type Count by Agency'!AN:AN,'Vehicle Type Count by Agency'!$C:$C,\"=\"&$C62)","v":93},{"$f":"SUMIFS('Vehicle Type Count by Agency'!AP:AP,'Vehicle Type Count by Agency'!$C:$C,\"=\"&$C62)","v":0},{"$f":"SUMIFS('Vehicle Type Count by Agency'!AR:AR,'Vehicle Type Count by Agency'!$C:$C,\"=\"&$C62)","v":0},{"$f":"SUMIFS('Vehicle Type Count by Agency'!AT:AT,'Vehicle Type Count by Agency'!$C:$C,\"=\"&$C62)","v":0},{"$f":"SUMIFS('Vehicle Type Count by Agency'!AV:AV,'Vehicle Type Count by Agency'!$C:$C,\"=\"&$C62)","v":0},{"$f":"SUMIFS('Vehicle Type Count by Agency'!AX:AX,'Vehicle Type Count by Agency'!$C:$C,\"=\"&$C62)","v":0},{"$f":"SUMIFS('Vehicle Type Count by Agency'!AZ:AZ,'Vehicle Type Count by Agency'!$C:$C,\"=\"&$C62)","v":0},{"$f":"SUMIFS('Vehicle Type Count by Agency'!BB:BB,'Vehicle Type Count by Agency'!$C:$C,\"=\"&$C62)","v":0},{"$f":"SUMIFS('Vehicle Type Count by Agency'!BD:BD,'Vehicle Type Count by Agency'!$C:$C,\"=\"&$C62)","v":24},{"$f":"SUMIFS('Vehicle Type Count by Agency'!BF:BF,'Vehicle Type Count by Agency'!$C:$C,\"=\"&$C62)","v":0},{"$f":"SUMIFS('Vehicle Type Count by Agency'!BH:BH,'Vehicle Type Count by Agency'!$C:$C,\"=\"&$C62)","v":4854}]
[null,null,"MD","Maryland",null,{"$f":"SUMIFS('Vehicle Type Count by Agency'!J:J,'Vehicle Type Count by Agency'!$C:$C,\"=\"&$C63)","v":1353},{"$f":"SUMIFS('Vehicle Type Count by Agency'!L:L,'Vehicle Type Count by Agency'!$C:$C,\"=\"&$C63)","v":54},{"$f":"SUMIFS('Vehicle Type Count by Agency'!N:N,'Vehicle Type Count by Agency'!$C:$C,\"=\"&$C63)","v":342},{"$f":"SUMIFS('Vehicle Type Count by Agency'!P:P,'Vehicle Type Count by Agency'!$C:$C,\"=\"&$C63)","v":0},{"$f":"SUMIFS('Vehicle Type Count by Agency'!R:R,'Vehicle Type Count by Agency'!$C:$C,\"=\"&$C63)","v":0},{"$f":"SUMIFS('Vehicle Type Count by Agency'!T:T,'Vehicle Type Count by Agency'!$C:$C,\"=\"&$C63)","v":50},{"$f":"SUMIFS('Vehicle Type Count by Agency'!V:V,'Vehicle Type Count by Agency'!$C:$C,\"=\"&$C63)","v":851},{"$f":"SUMIFS('Vehicle Type Count by Agency'!X:X,'Vehicle Type Count by Agency'!$C:$C,\"=\"&$C63)","v":226},{"$f":"SUMIFS('Vehicle Type Count by Agency'!Z:Z,'Vehicle Type Count by Agency'!$C:$C,\"=\"&$C63)","v":54},{"$f":"SUMIFS('Vehicle Type Count by Agency'!AB:AB,'Vehicle Type Count by Agency'!$C:$C,\"=\"&$C63)","v":1},{"$f":"SUMIFS('Vehicle Type Count by Agency'!AD:AD,'Vehicle Type Count by Agency'!$C:$C,\"=\"&$C63)","v":0},{"$f":"SUMIFS('Vehicle Type Count by Agency'!AF:AF,'Vehicle Type Count by Agency'!$C:$C,\"=\"&$C63)","v":96},{"$f":"SUMIFS('Vehicle Type Count by Agency'!AH:AH,'Vehicle Type Count by Agency'!$C:$C,\"=\"&$C63)","v":53},{"$f":"SUMIFS('Vehicle Type Count by Agency'!AJ:AJ,'Vehicle Type Count by Agency'!$C:$C,\"=\"&$C63)","v":177},{"$f":"SUMIFS('Vehicle Type Count by Agency'!AL:AL,'Vehicle Type Count by Agency'!$C:$C,\"=\"&$C63)","v":0},{"$f":"SUMIFS('Vehicle Type Count by Agency'!AN:AN,'Vehicle Type Count by Agency'!$C:$C,\"=\"&$C63)","v":46},{"$f":"SUMIFS('Vehicle Type Count by Agency'!AP:AP,'Vehicle Type Count by Agency'!$C:$C,\"=\"&$C63)","v":0},{"$f":"SUMIFS('Vehicle Type Count by Agency'!AR:AR,'Vehicle Type Count by Agency'!$C:$C,\"=\"&$C63)","v":0},{"$f":"SUMIFS('Vehicle Type Count by Agency'!AT:AT,'Vehicle Type Count by Agency'!$C:$C,\"=\"&$C63)","v":0},{"$f":"SUMIFS('Vehicle Type Count by Agency'!AV:AV,'Vehicle Type Count by Agency'!$C:$C,\"=\"&$C63)","v":0},{"$f":"SUMIFS('Vehicle Type Count by Agency'!AX:AX,'Vehicle Type Count by Agency'!$C:$C,\"=\"&$C63)","v":0},{"$f":"SUMIFS('Vehicle Type Count by Agency'!AZ:AZ,'Vehicle Type Count by Agency'!$C:$C,\"=\"&$C63)","v":0},{"$f":"SUMIFS('Vehicle Type Count by Agency'!BB:BB,'Vehicle Type Count by Agency'!$C:$C,\"=\"&$C63)","v":0},{"$f":"SUMIFS('Vehicle Type Count by Agency'!BD:BD,'Vehicle Type Count by Agency'!$C:$C,\"=\"&$C63)","v":3},{"$f":"SUMIFS('Vehicle Type Count by Agency'!BF:BF,'Vehicle Type Count by Agency'!$C:$C,\"=\"&$C63)","v":0},{"$f":"SUMIFS('Vehicle Type Count by Agency'!BH:BH,'Vehicle Type Count by Agency'!$C:$C,\"=\"&$C63)","v":3306}]
[null,null,"ME","Maine",null,{"$f":"SUMIFS('Vehicle Type Count by Agency'!J:J,'Vehicle Type Count by Agency'!$C:$C,\"=\"&$C64)","v":190},{"$f":"SUMIFS('Vehicle Type Count by Agency'!L:L,'Vehicle Type Count by Agency'!$C:$C,\"=\"&$C64)","v":0},{"$f":"SUMIFS('Vehicle Type Count by Agency'!N:N,'Vehicle Type Count by Agency'!$C:$C,\"=\"&$C64)","v":1},{"$f":"SUMIFS('Vehicle Type Count by Agency'!P:P,'Vehicle Type Count by Agency'!$C:$C,\"=\"&$C64)","v":0},{"$f":"SUMIFS('Vehicle Type Count by Agency'!R:R,'Vehicle Type Count by Agency'!$C:$C,\"=\"&$C64)","v":3},{"$f":"SUMIFS('Vehicle Type Count by Agency'!T:T,'Vehicle Type Count by Agency'!$C:$C,\"=\"&$C64)","v":103},{"$f":"SUMIFS('Vehicle Type Count by Agency'!V:V,'Vehicle Type Count by Agency'!$C:$C,\"=\"&$C64)","v":129},{"$f":"SUMIFS('Vehicle Type Count by Agency'!X:X,'Vehicle Type Count by Agency'!$C:$C,\"=\"&$C64)","v":53},{"$f":"SUMIFS('Vehicle Type Count by Agency'!Z:Z,'Vehicle Type Count by Agency'!$C:$C,\"=\"&$C64)","v":79},{"$f":"SUMIFS('Vehicle Type Count by Agency'!AB:AB,'Vehicle Type Count by Agency'!$C:$C,\"=\"&$C64)","v":4},{"$f":"SUMIFS('Vehicle Type Count by Agency'!AD:AD,'Vehicle Type Count by Agency'!$C:$C,\"=\"&$C64)","v":0},{"$f":"SUMIFS('Vehicle Type Count by Agency'!AF:AF,'Vehicle Type Count by Agency'!$C:$C,\"=\"&$C64)","v":0},{"$f":"SUMIFS('Vehicle Type Count by Agency'!AH:AH,'Vehicle Type Count by Agency'!$C:$C,\"=\"&$C64)","v":0},{"$f":"SUMIFS('Vehicle Type Count by Agency'!AJ:AJ,'Vehicle Type Count by Agency'!$C:$C,\"=\"&$C64)","v":15},{"$f":"SUMIFS('Vehicle Type Count by Agency'!AL:AL,'Vehicle Type Count by Agency'!$C:$C,\"=\"&$C64)","v":0},{"$f":"SUMIFS('Vehicle Type Count by Agency'!AN:AN,'Vehicle Type Count by Agency'!$C:$C,\"=\"&$C64)","v":6},{"$f":"SUMIFS('Vehicle Type Count by Agency'!AP:AP,'Vehicle Type Count by Agency'!$C:$C,\"=\"&$C64)","v":0},{"$f":"SUMIFS('Vehicle Type Count by Agency'!AR:AR,'Vehicle Type Count by Agency'!$C:$C,\"=\"&$C64)","v":0},{"$f":"SUMIFS('Vehicle Type Count by Agency'!AT:AT,'Vehicle Type Count by Agency'!$C:$C,\"=\"&$C64)","v":0},{"$f":"SUMIFS('Vehicle Type Count by Agency'!AV:AV,'Vehicle Type Count by Agency'!$C:$C,\"=\"&$C64)","v":0},{"$f":"SUMIFS('Vehicle Type Count by Agency'!AX:AX,'Vehicle Type Count by Agency'!$C:$C,\"=\"&$C64)","v":0},{"$f":"SUMIFS('Vehicle Type Count by Agency'!AZ:AZ,'Vehicle Type Count by Agency'!$C:$C,\"=\"&$C64)","v":0},{"$f":"SUMIFS('Vehicle Type Count by Agency'!BB:BB,'Vehicle Type Count by Agency'!$C:$C,\"=\"&$C64)","v":0},{"$f":"SUMIFS('Vehicle Type Count by Agency'!BD:BD,'Vehicle Type Count by Agency'!$C:$C,\"=\"&$C64)","v":10},{"$f":"SUMIFS('Vehicle Type Count by Agency'!BF:BF,'Vehicle Type Count by Agency'!$C:$C,\"=\"&$C64)","v":0},{"$f":"SUMIFS('Vehicle Type Count by Agency'!BH:BH,'Vehicle Type Count by Agency'!$C:$C,\"=\"&$C64)","v":593}]
[null,null,"MI","Michigan",null,{"$f":"SUMIFS('Vehicle Type Count by Agency'!J:J,'Vehicle Type Count by Agency'!$C:$C,\"=\"&$C65)","v":1991},{"$f":"SUMIFS('Vehicle Type Count by Agency'!L:L,'Vehicle Type Count by Agency'!$C:$C,\"=\"&$C65)","v":24},{"$f":"SUMIFS('Vehicle Type Count by Agency'!N:N,'Vehicle Type Count by Agency'!$C:$C,\"=\"&$C65)","v":26},{"$f":"SUMIFS('Vehicle Type Count by Agency'!P:P,'Vehicle Type Count by Agency'!$C:$C,\"=\"&$C65)","v":0},{"$f":"SUMIFS('Vehicle Type Count by Agency'!R:R,'Vehicle Type Count by Agency'!$C:$C,\"=\"&$C65)","v":16},{"$f":"SUMIFS('Vehicle Type Count by Agency'!T:T,'Vehicle Type Count by Agency'!$C:$C,\"=\"&$C65)","v":958},{"$f":"SUMIFS('Vehicle Type Count by Agency'!V:V,'Vehicle Type Count by Agency'!$C:$C,\"=\"&$C65)","v":1497},{"$f":"SUMIFS('Vehicle Type Count by Agency'!X:X,'Vehicle Type Count by Agency'!$C:$C,\"=\"&$C65)","v":182},{"$f":"SUMIFS('Vehicle Type Count by Agency'!Z:Z,'Vehicle Type Count by Agency'!$C:$C,\"=\"&$C65)","v":203},{"$f":"SUMIFS('Vehicle Type Count by Agency'!AB:AB,'Vehicle Type Count by Agency'!$C:$C,\"=\"&$C65)","v":204},{"$f":"SUMIFS('Vehicle Type Count by Agency'!AD:AD,'Vehicle Type Count by Agency'!$C:$C,\"=\"&$C65)","v":0},{"$f":"SUMIFS('Vehicle Type Count by Agency'!AF:AF,'Vehicle Type Count by Agency'!$C:$C,\"=\"&$C65)","v":0},{"$f":"SUMIFS('Vehicle Type Count by Agency'!AH:AH,'Vehicle Type Count by Agency'!$C:$C,\"=\"&$C65)","v":0},{"$f":"SUMIFS('Vehicle Type Count by Agency'!AJ:AJ,'Vehicle Type Count by Agency'!$C:$C,\"=\"&$C65)","v":0},{"$f":"SUMIFS('Vehicle Type Count by Agency'!AL:AL,'Vehicle Type Count by Agency'!$C:$C,\"=\"&$C65)","v":0},{"$f":"SUMIFS('Vehicle Type Count by Agency'!AN:AN,'Vehicle Type Count by Agency'!$C:$C,\"=\"&$C65)","v":0},{"$f":"SUMIFS('Vehicle Type Count by Agency'!AP:AP,'Vehicle Type Count by Agency'!$C:$C,\"=\"&$C65)","v":10},{"$f":"SUMIFS('Vehicle Type Count by Agency'!AR:AR,'Vehicle Type Count by Agency'!$C:$C,\"=\"&$C65)","v":0},{"$f":"SUMIFS('Vehicle Type Count by Agency'!AT:AT,'Vehicle Type Count by Agency'!$C:$C,\"=\"&$C65)","v":6},{"$f":"SUMIFS('Vehicle Type Count by Agency'!AV:AV,'Vehicle Type Count by Agency'!$C:$C,\"=\"&$C65)","v":0},{"$f":"SUMIFS('Vehicle Type Count by Agency'!AX:AX,'Vehicle Type Count by Agency'!$C:$C,\"=\"&$C65)","v":0},{"$f":"SUMIFS('Vehicle Type Count by Agency'!AZ:AZ,'Vehicle Type Count by Agency'!$C:$C,\"=\"&$C65)","v":0},{"$f":"SUMIFS('Vehicle Type Count by Agency'!BB:BB,'Vehicle Type Count by Agency'!$C:$C,\"=\"&$C65)","v":0},{"$f":"SUMIFS('Vehicle Type Count by Agency'!BD:BD,'Vehicle Type Count by Agency'!$C:$C,\"=\"&$C65)","v":4},{"$f":"SUMIFS('Vehicle Type Count by Agency'!BF:BF,'Vehicle Type Count by Agency'!$C:$C,\"=\"&$C65)","v":0},{"$f":"SUMIFS('Vehicle Type Count by Agency'!BH:BH,'Vehicle Type Count by Agency'!$C:$C,\"=\"&$C65)","v":5121}]
[null,null,"MN","Minnesota",null,{"$f":"SUMIFS('Vehicle Type Count by Agency'!J:J,'Vehicle Type Count by Agency'!$C:$C,\"=\"&$C66)","v":1158},{"$f":"SUMIFS('Vehicle Type Count by Agency'!L:L,'Vehicle Type Count by Agency'!$C:$C,\"=\"&$C66)","v":185},{"$f":"SUMIFS('Vehicle Type Count by Agency'!N:N,'Vehicle Type Count by Agency'!$C:$C,\"=\"&$C66)","v":203},{"$f":"SUMIFS('Vehicle Type Count by Agency'!P:P,'Vehicle Type Count by Agency'!$C:$C,\"=\"&$C66)","v":0},{"$f":"SUMIFS('Vehicle Type Count by Agency'!R:R,'Vehicle Type Count by Agency'!$C:$C,\"=\"&$C66)","v":0},{"$f":"SUMIFS('Vehicle Type Count by Agency'!T:T,'Vehicle Type Count by Agency'!$C:$C,\"=\"&$C66)","v":86},{"$f":"SUMIFS('Vehicle Type Count by Agency'!V:V,'Vehicle Type Count by Agency'!$C:$C,\"=\"&$C66)","v":1368},{"$f":"SUMIFS('Vehicle Type Count by Agency'!X:X,'Vehicle Type Count by Agency'!$C:$C,\"=\"&$C66)","v":2},{"$f":"SUMIFS('Vehicle Type Count by Agency'!Z:Z,'Vehicle Type Count by Agency'!$C:$C,\"=\"&$C66)","v":17},{"$f":"SUMIFS('Vehicle Type Count by Agency'!AB:AB,'Vehicle Type Count by Agency'!$C:$C,\"=\"&$C66)","v":40},{"$f":"SUMIFS('Vehicle Type Count by Agency'!AD:AD,'Vehicle Type Count by Agency'!$C:$C,\"=\"&$C66)","v":0},{"$f":"SUMIFS('Vehicle Type Count by Agency'!AF:AF,'Vehicle Type Count by Agency'!$C:$C,\"=\"&$C66)","v":0},{"$f":"SUMIFS('Vehicle Type Count by Agency'!AH:AH,'Vehicle Type Count by Agency'!$C:$C,\"=\"&$C66)","v":91},{"$f":"SUMIFS('Vehicle Type Count by Agency'!AJ:AJ,'Vehicle Type Count by Agency'!$C:$C,\"=\"&$C66)","v":18},{"$f":"SUMIFS('Vehicle Type Count by Agency'!AL:AL,'Vehicle Type Count by Agency'!$C:$C,\"=\"&$C66)","v":0},{"$f":"SUMIFS('Vehicle Type Count by Agency'!AN:AN,'Vehicle Type Count by Agency'!$C:$C,\"=\"&$C66)","v":6},{"$f":"SUMIFS('Vehicle Type Count by Agency'!AP:AP,'Vehicle Type Count by Agency'!$C:$C,\"=\"&$C66)","v":0},{"$f":"SUMIFS('Vehicle Type Count by Agency'!AR:AR,'Vehicle Type Count by Agency'!$C:$C,\"=\"&$C66)","v":0},{"$f":"SUMIFS('Vehicle Type Count by Agency'!AT:AT,'Vehicle Type Count by Agency'!$C:$C,\"=\"&$C66)","v":0},{"$f":"SUMIFS('Vehicle Type Count by Agency'!AV:AV,'Vehicle Type Count by Agency'!$C:$C,\"=\"&$C66)","v":0},{"$f":"SUMIFS('Vehicle Type Count by Agency'!AX:AX,'Vehicle Type Count by Agency'!$C:$C,\"=\"&$C66)","v":0},{"$f":"SUMIFS('Vehicle Type Count by Agency'!AZ:AZ,'Vehicle Type Count by Agency'!$C:$C,\"=\"&$C66)","v":0},{"$f":"SUMIFS('Vehicle Type Count by Agency'!BB:BB,'Vehicle Type Count by Agency'!$C:$C,\"=\"&$C66)","v":0},{"$f":"SUMIFS('Vehicle Type Count by Agency'!BD:BD,'Vehicle Type Count by Agency'!$C:$C,\"=\"&$C66)","v":0},{"$f":"SUMIFS('Vehicle Type Count by Agency'!BF:BF,'Vehicle Type Count by Agency'!$C:$C,\"=\"&$C66)","v":0},{"$f":"SUMIFS('Vehicle Type Count by Agency'!BH:BH,'Vehicle Type Count by Agency'!$C:$C,\"=\"&$C66)","v":3174}]
[null,null,"MO","Missouri",null,{"$f":"SUMIFS('Vehicle Type Count by Agency'!J:J,'Vehicle Type Count by Agency'!$C:$C,\"=\"&$C67)","v":736},{"$f":"SUMIFS('Vehicle Type Count by Agency'!L:L,'Vehicle Type Count by Agency'!$C:$C,\"=\"&$C67)","v":15},{"$f":"SUMIFS('Vehicle Type Count by Agency'!N:N,'Vehicle Type Count by Agency'!$C:$C,\"=\"&$C67)","v":0},{"$f":"SUMIFS('Vehicle Type Count by Agency'!P:P,'Vehicle Type Count by Agency'!$C:$C,\"=\"&$C67)","v":0},{"$f":"SUMIFS('Vehicle Type Count by Agency'!R:R,'Vehicle Type Count by Agency'!$C:$C,\"=\"&$C67)","v":0},{"$f":"SUMIFS('Vehicle Type Count by Agency'!T:T,'Vehicle Type Count by Agency'!$C:$C,\"=\"&$C67)","v":133},{"$f":"SUMIFS('Vehicle Type Count by Agency'!V:V,'Vehicle Type Count by Agency'!$C:$C,\"=\"&$C67)","v":865},{"$f":"SUMIFS('Vehicle Type Count by Agency'!X:X,'Vehicle Type Count by Agency'!$C:$C,\"=\"&$C67)","v":80},{"$f":"SUMIFS('Vehicle Type Count by Agency'!Z:Z,'Vehicle Type Count by Agency'!$C:$C,\"=\"&$C67)","v":278},{"$f":"SUMIFS('Vehicle Type Count by Agency'!AB:AB,'Vehicle Type Count by Agency'!$C:$C,\"=\"&$C67)","v":9},{"$f":"SUMIFS('Vehicle Type Count by Agency'!AD:AD,'Vehicle Type Count by Agency'!$C:$C,\"=\"&$C67)","v":0},{"$f":"SUMIFS('Vehicle Type Count by Agency'!AF:AF,'Vehicle Type Count by Agency'!$C:$C,\"=\"&$C67)","v":0},{"$f":"SUMIFS('Vehicle Type Count by Agency'!AH:AH,'Vehicle Type Count by Agency'!$C:$C,\"=\"&$C67)","v":87},{"$f":"SUMIFS('Vehicle Type Count by Agency'!AJ:AJ,'Vehicle Type Count by Agency'!$C:$C,\"=\"&$C67)","v":0},{"$f":"SUMIFS('Vehicle Type Count by Agency'!AL:AL,'Vehicle Type Count by Agency'!$C:$C,\"=\"&$C67)","v":0},{"$f":"SUMIFS('Vehicle Type Count by Agency'!AN:AN,'Vehicle Type Count by Agency'!$C:$C,\"=\"&$C67)","v":0},{"$f":"SUMIFS('Vehicle Type Count by Agency'!AP:AP,'Vehicle Type Count by Agency'!$C:$C,\"=\"&$C67)","v":0},{"$f":"SUMIFS('Vehicle Type Count by Agency'!AR:AR,'Vehicle Type Count by Agency'!$C:$C,\"=\"&$C67)","v":0},{"$f":"SUMIFS('Vehicle Type Count by Agency'!AT:AT,'Vehicle Type Count by Agency'!$C:$C,\"=\"&$C67)","v":6},{"$f":"SUMIFS('Vehicle Type Count by Agency'!AV:AV,'Vehicle Type Count by Agency'!$C:$C,\"=\"&$C67)","v":0},{"$f":"SUMIFS('Vehicle Type Count by Agency'!AX:AX,'Vehicle Type Count by Agency'!$C:$C,\"=\"&$C67)","v":0},{"$f":"SUMIFS('Vehicle Type Count by Agency'!AZ:AZ,'Vehicle Type Count by Agency'!$C:$C,\"=\"&$C67)","v":0},{"$f":"SUMIFS('Vehicle Type Count by Agency'!BB:BB,'Vehicle Type Count by Agency'!$C:$C,\"=\"&$C67)","v":0},{"$f":"SUMIFS('Vehicle Type Count by Agency'!BD:BD,'Vehicle Type Count by Agency'!$C:$C,\"=\"&$C67)","v":0},{"$f":"SUMIFS('Vehicle Type Count by Agency'!BF:BF,'Vehicle Type Count by Agency'!$C:$C,\"=\"&$C67)","v":0},{"$f":"SUMIFS('Vehicle Type Count by Agency'!BH:BH,'Vehicle Type Count by Agency'!$C:$C,\"=\"&$C67)","v":2209}]
[null,null,"MP","Northern Marianas",null,{"$f":"SUMIFS('Vehicle Type Count by Agency'!J:J,'Vehicle Type Count by Agency'!$C:$C,\"=\"&$C68)","v":0},{"$f":"SUMIFS('Vehicle Type Count by Agency'!L:L,'Vehicle Type Count by Agency'!$C:$C,\"=\"&$C68)","v":0},{"$f":"SUMIFS('Vehicle Type Count by Agency'!N:N,'Vehicle Type Count by Agency'!$C:$C,\"=\"&$C68)","v":0},{"$f":"SUMIFS('Vehicle Type Count by Agency'!P:P,'Vehicle Type Count by Agency'!$C:$C,\"=\"&$C68)","v":0},{"$f":"SUMIFS('Vehicle Type Count by Agency'!R:R,'Vehicle Type Count by Agency'!$C:$C,\"=\"&$C68)","v":0},{"$f":"SUMIFS('Vehicle Type Count by Agency'!T:T,'Vehicle Type Count by Agency'!$C:$C,\"=\"&$C68)","v":0},{"$f":"SUMIFS('Vehicle Type Count by Agency'!V:V,'Vehicle Type Count by Agency'!$C:$C,\"=\"&$C68)","v":0},{"$f":"SUMIFS('Vehicle Type Count by Agency'!X:X,'Vehicle Type Count by Agency'!$C:$C,\"=\"&$C68)","v":0},{"$f":"SUMIFS('Vehicle Type Count by Agency'!Z:Z,'Vehicle Type Count by Agency'!$C:$C,\"=\"&$C68)","v":0},{"$f":"SUMIFS('Vehicle Type Count by Agency'!AB:AB,'Vehicle Type Count by Agency'!$C:$C,\"=\"&$C68)","v":0},{"$f":"SUMIFS('Vehicle Type Count by Agency'!AD:AD,'Vehicle Type Count by Agency'!$C:$C,\"=\"&$C68)","v":0},{"$f":"SUMIFS('Vehicle Type Count by Agency'!AF:AF,'Vehicle Type Count by Agency'!$C:$C,\"=\"&$C68)","v":0},{"$f":"SUMIFS('Vehicle Type Count by Agency'!AH:AH,'Vehicle Type Count by Agency'!$C:$C,\"=\"&$C68)","v":0},{"$f":"SUMIFS('Vehicle Type Count by Agency'!AJ:AJ,'Vehicle Type Count by Agency'!$C:$C,\"=\"&$C68)","v":0},{"$f":"SUMIFS('Vehicle Type Count by Agency'!AL:AL,'Vehicle Type Count by Agency'!$C:$C,\"=\"&$C68)","v":0},{"$f":"SUMIFS('Vehicle Type Count by Agency'!AN:AN,'Vehicle Type Count by Agency'!$C:$C,\"=\"&$C68)","v":0},{"$f":"SUMIFS('Vehicle Type Count by Agency'!AP:AP,'Vehicle Type Count by Agency'!$C:$C,\"=\"&$C68)","v":0},{"$f":"SUMIFS('Vehicle Type Count by Agency'!AR:AR,'Vehicle Type Count by Agency'!$C:$C,\"=\"&$C68)","v":0},{"$f":"SUMIFS('Vehicle Type Count by Agency'!AT:AT,'Vehicle Type Count by Agency'!$C:$C,\"=\"&$C68)","v":0},{"$f":"SUMIFS('Vehicle Type Count by Agency'!AV:AV,'Vehicle Type Count by Agency'!$C:$C,\"=\"&$C68)","v":0},{"$f":"SUMIFS('Vehicle Type Count by Agency'!AX:AX,'Vehicle Type Count by Agency'!$C:$C,\"=\"&$C68)","v":0},{"$f":"SUMIFS('Vehicle Type Count by Agency'!AZ:AZ,'Vehicle Type Count by Agency'!$C:$C,\"=\"&$C68)","v":0},{"$f":"SUMIFS('Vehicle Type Count by Agency'!BB:BB,'Vehicle Type Count by Agency'!$C:$C,\"=\"&$C68)","v":0},{"$f":"SUMIFS('Vehicle Type Count by Agency'!BD:BD,'Vehicle Type Count by Agency'!$C:$C,\"=\"&$C68)","v":0},{"$f":"SUMIFS('Vehicle Type Count by Agency'!BF:BF,'Vehicle Type Count by Agency'!$C:$C,\"=\"&$C68)","v":0},{"$f":"SUMIFS('Vehicle Type Count by Agency'!BH:BH,'Vehicle Type Count by Agency'!$C:$C,\"=\"&$C68)","v":0}]
[null,null,"MS","Mississippi",null,{"$f":"SUMIFS('Vehicle Type Count by Agency'!J:J,'Vehicle Type Count by Agency'!$C:$C,\"=\"&$C69)","v":155},{"$f":"SUMIFS('Vehicle Type Count by Agency'!L:L,'Vehicle Type Count by Agency'!$C:$C,\"=\"&$C69)","v":0},{"$f":"SUMIFS('Vehicle Type Count by Agency'!N:N,'Vehicle Type Count by Agency'!$C:$C,\"=\"&$C69)","v":0},{"$f":"SUMIFS('Vehicle Type Count by Agency'!P:P,'Vehicle Type Count by Agency'!$C:$C,\"=\"&$C69)","v":0},{"$f":"SUMIFS('Vehicle Type Count by Agency'!R:R,'Vehicle Type Count by Agency'!$C:$C,\"=\"&$C69)","v":0},{"$f":"SUMIFS('Vehicle Type Count by Agency'!T:T,'Vehicle Type Count by Agency'!$C:$C,\"=\"&$C69)","v":112},{"$f":"SUMIFS('Vehicle Type Count by Agency'!V:V,'Vehicle Type Count by Agency'!$C:$C,\"=\"&$C69)","v":243},{"$f":"SUMIFS('Vehicle Type Count by Agency'!X:X,'Vehicle Type Count by Agency'!$C:$C,\"=\"&$C69)","v":0},{"$f":"SUMIFS('Vehicle Type Count by Agency'!Z:Z,'Vehicle Type Count by Agency'!$C:$C,\"=\"&$C69)","v":161},{"$f":"SUMIFS('Vehicle Type Count by Agency'!AB:AB,'Vehicle Type Count by Agency'!$C:$C,\"=\"&$C69)","v":7},{"$f":"SUMIFS('Vehicle Type Count by Agency'!AD:AD,'Vehicle Type Count by Agency'!$C:$C,\"=\"&$C69)","v":0},{"$f":"SUMIFS('Vehicle Type Count by Agency'!AF:AF,'Vehicle Type Count by Agency'!$C:$C,\"=\"&$C69)","v":0},{"$f":"SUMIFS('Vehicle Type Count by Agency'!AH:AH,'Vehicle Type Count by Agency'!$C:$C,\"=\"&$C69)","v":0},{"$f":"SUMIFS('Vehicle Type Count by Agency'!AJ:AJ,'Vehicle Type Count by Agency'!$C:$C,\"=\"&$C69)","v":0},{"$f":"SUMIFS('Vehicle Type Count by Agency'!AL:AL,'Vehicle Type Count by Agency'!$C:$C,\"=\"&$C69)","v":0},{"$f":"SUMIFS('Vehicle Type Count by Agency'!AN:AN,'Vehicle Type Count by Agency'!$C:$C,\"=\"&$C69)","v":0},{"$f":"SUMIFS('Vehicle Type Count by Agency'!AP:AP,'Vehicle Type Count by Agency'!$C:$C,\"=\"&$C69)","v":0},{"$f":"SUMIFS('Vehicle Type Count by Agency'!AR:AR,'Vehicle Type Count by Agency'!$C:$C,\"=\"&$C69)","v":0},{"$f":"SUMIFS('Vehicle Type Count by Agency'!AT:AT,'Vehicle Type Count by Agency'!$C:$C,\"=\"&$C69)","v":0},{"$f":"SUMIFS('Vehicle Type Count by Agency'!AV:AV,'Vehicle Type Count by Agency'!$C:$C,\"=\"&$C69)","v":0},{"$f":"SUMIFS('Vehicle Type Count by Agency'!AX:AX,'Vehicle Type Count by Agency'!$C:$C,\"=\"&$C69)","v":0},{"$f":"SUMIFS('Vehicle Type Count by Agency'!AZ:AZ,'Vehicle Type Count by Agency'!$C:$C,\"=\"&$C69)","v":0},{"$f":"SUMIFS('Vehicle Type Count by Agency'!BB:BB,'Vehicle Type Count by Agency'!$C:$C,\"=\"&$C69)","v":0},{"$f":"SUMIFS('Vehicle Type Count by Agency'!BD:BD,'Vehicle Type Count by Agency'!$C:$C,\"=\"&$C69)","v":0},{"$f":"SUMIFS('Vehicle Type Count by Agency'!BF:BF,'Vehicle Type Count by Agency'!$C:$C,\"=\"&$C69)","v":0},{"$f":"SUMIFS('Vehicle Type Count by Agency'!BH:BH,'Vehicle Type Count by Agency'!$C:$C,\"=\"&$C69)","v":678}]
[null,null,"MT","Montana",null,{"$f":"SUMIFS('Vehicle Type Count by Agency'!J:J,'Vehicle Type Count by Agency'!$C:$C,\"=\"&$C70)","v":155},{"$f":"SUMIFS('Vehicle Type Count by Agency'!L:L,'Vehicle Type Count by Agency'!$C:$C,\"=\"&$C70)","v":0},{"$f":"SUMIFS('Vehicle Type Count by Agency'!N:N,'Vehicle Type Count by Agency'!$C:$C,\"=\"&$C70)","v":0},{"$f":"SUMIFS('Vehicle Type Count by Agency'!P:P,'Vehicle Type Count by Agency'!$C:$C,\"=\"&$C70)","v":0},{"$f":"SUMIFS('Vehicle Type Count by Agency'!R:R,'Vehicle Type Count by Agency'!$C:$C,\"=\"&$C70)","v":0},{"$f":"SUMIFS('Vehicle Type Count by Agency'!T:T,'Vehicle Type Count by Agency'!$C:$C,\"=\"&$C70)","v":64},{"$f":"SUMIFS('Vehicle Type Count by Agency'!V:V,'Vehicle Type Count by Agency'!$C:$C,\"=\"&$C70)","v":163},{"$f":"SUMIFS('Vehicle Type Count by Agency'!X:X,'Vehicle Type Count by Agency'!$C:$C,\"=\"&$C70)","v":0},{"$f":"SUMIFS('Vehicle Type Count by Agency'!Z:Z,'Vehicle Type Count by Agency'!$C:$C,\"=\"&$C70)","v":85},{"$f":"SUMIFS('Vehicle Type Count by Agency'!AB:AB,'Vehicle Type Count by Agency'!$C:$C,\"=\"&$C70)","v":0},{"$f":"SUMIFS('Vehicle Type Count by Agency'!AD:AD,'Vehicle Type Count by Agency'!$C:$C,\"=\"&$C70)","v":0},{"$f":"SUMIFS('Vehicle Type Count by Agency'!AF:AF,'Vehicle Type Count by Agency'!$C:$C,\"=\"&$C70)","v":0},{"$f":"SUMIFS('Vehicle Type Count by Agency'!AH:AH,'Vehicle Type Count by Agency'!$C:$C,\"=\"&$C70)","v":0},{"$f":"SUMIFS('Vehicle Type Count by Agency'!AJ:AJ,'Vehicle Type Count by Agency'!$C:$C,\"=\"&$C70)","v":0},{"$f":"SUMIFS('Vehicle Type Count by Agency'!AL:AL,'Vehicle Type Count by Agency'!$C:$C,\"=\"&$C70)","v":0},{"$f":"SUMIFS('Vehicle Type Count by Agency'!AN:AN,'Vehicle Type Count by Agency'!$C:$C,\"=\"&$C70)","v":0},{"$f":"SUMIFS('Vehicle Type Count by Agency'!AP:AP,'Vehicle Type Count by Agency'!$C:$C,\"=\"&$C70)","v":0},{"$f":"SUMIFS('Vehicle Type Count by Agency'!AR:AR,'Vehicle Type Count by Agency'!$C:$C,\"=\"&$C70)","v":0},{"$f":"SUMIFS('Vehicle Type Count by Agency'!AT:AT,'Vehicle Type Count by Agency'!$C:$C,\"=\"&$C70)","v":0},{"$f":"SUMIFS('Vehicle Type Count by Agency'!AV:AV,'Vehicle Type Count by Agency'!$C:$C,\"=\"&$C70)","v":0},{"$f":"SUMIFS('Vehicle Type Count by Agency'!AX:AX,'Vehicle Type Count by Agency'!$C:$C,\"=\"&$C70)","v":0},{"$f":"SUMIFS('Vehicle Type Count by Agency'!AZ:AZ,'Vehicle Type Count by Agency'!$C:$C,\"=\"&$C70)","v":0},{"$f":"SUMIFS('Vehicle Type Count by Agency'!BB:BB,'Vehicle Type Count by Agency'!$C:$C,\"=\"&$C70)","v":0},{"$f":"SUMIFS('Vehicle Type Count by Agency'!BD:BD,'Vehicle Type Count by Agency'!$C:$C,\"=\"&$C70)","v":0},{"$f":"SUMIFS('Vehicle Type Count by Agency'!BF:BF,'Vehicle Type Count by Agency'!$C:$C,\"=\"&$C70)","v":0},{"$f":"SUMIFS('Vehicle Type Count by Agency'!BH:BH,'Vehicle Type Count by Agency'!$C:$C,\"=\"&$C70)","v":467}]
[null,null,"NC","North Carolina",null,{"$f":"SUMIFS('Vehicle Type Count by Agency'!J:J,'Vehicle Type Count by Agency'!$C:$C,\"=\"&$C71)","v":1259},{"$f":"SUMIFS('Vehicle Type Count by Agency'!L:L,'Vehicle Type Count by Agency'!$C:$C,\"=\"&$C71)","v":5},{"$f":"SUMIFS('Vehicle Type Count by Agency'!N:N,'Vehicle Type Count by Agency'!$C:$C,\"=\"&$C71)","v":40},{"$f":"SUMIFS('Vehicle Type Count by Agency'!P:P,'Vehicle Type Count by Agency'!$C:$C,\"=\"&$C71)","v":0},{"$f":"SUMIFS('Vehicle Type Count by Agency'!R:R,'Vehicle Type Count by Agency'!$C:$C,\"=\"&$C71)","v":1},{"$f":"SUMIFS('Vehicle Type Count by Agency'!T:T,'Vehicle Type Count by Agency'!$C:$C,\"=\"&$C71)","v":1005},{"$f":"SUMIFS('Vehicle Type Count by Agency'!V:V,'Vehicle Type Count by Agency'!$C:$C,\"=\"&$C71)","v":1114},{"$f":"SUMIFS('Vehicle Type Count by Agency'!X:X,'Vehicle Type Count by Agency'!$C:$C,\"=\"&$C71)","v":243},{"$f":"SUMIFS('Vehicle Type Count by Agency'!Z:Z,'Vehicle Type Count by Agency'!$C:$C,\"=\"&$C71)","v":232},{"$f":"SUMIFS('Vehicle Type Count by Agency'!AB:AB,'Vehicle Type Count by Agency'!$C:$C,\"=\"&$C71)","v":20},{"$f":"SUMIFS('Vehicle Type Count by Agency'!AD:AD,'Vehicle Type Count by Agency'!$C:$C,\"=\"&$C71)","v":0},{"$f":"SUMIFS('Vehicle Type Count by Agency'!AF:AF,'Vehicle Type Count by Agency'!$C:$C,\"=\"&$C71)","v":0},{"$f":"SUMIFS('Vehicle Type Count by Agency'!AH:AH,'Vehicle Type Count by Agency'!$C:$C,\"=\"&$C71)","v":40},{"$f":"SUMIFS('Vehicle Type Count by Agency'!AJ:AJ,'Vehicle Type Count by Agency'!$C:$C,\"=\"&$C71)","v":0},{"$f":"SUMIFS('Vehicle Type Count by Agency'!AL:AL,'Vehicle Type Count by Agency'!$C:$C,\"=\"&$C71)","v":0},{"$f":"SUMIFS('Vehicle Type Count by Agency'!AN:AN,'Vehicle Type Count by Agency'!$C:$C,\"=\"&$C71)","v":0},{"$f":"SUMIFS('Vehicle Type Count by Agency'!AP:AP,'Vehicle Type Count by Agency'!$C:$C,\"=\"&$C71)","v":0},{"$f":"SUMIFS('Vehicle Type Count by Agency'!AR:AR,'Vehicle Type Count by Agency'!$C:$C,\"=\"&$C71)","v":0},{"$f":"SUMIFS('Vehicle Type Count by Agency'!AT:AT,'Vehicle Type Count by Agency'!$C:$C,\"=\"&$C71)","v":3},{"$f":"SUMIFS('Vehicle Type Count by Agency'!AV:AV,'Vehicle Type Count by Agency'!$C:$C,\"=\"&$C71)","v":0},{"$f":"SUMIFS('Vehicle Type Count by Agency'!AX:AX,'Vehicle Type Count by Agency'!$C:$C,\"=\"&$C71)","v":0},{"$f":"SUMIFS('Vehicle Type Count by Agency'!AZ:AZ,'Vehicle Type Count by Agency'!$C:$C,\"=\"&$C71)","v":0},{"$f":"SUMIFS('Vehicle Type Count by Agency'!BB:BB,'Vehicle Type Count by Agency'!$C:$C,\"=\"&$C71)","v":0},{"$f":"SUMIFS('Vehicle Type Count by Agency'!BD:BD,'Vehicle Type Count by Agency'!$C:$C,\"=\"&$C71)","v":0},{"$f":"SUMIFS('Vehicle Type Count by Agency'!BF:BF,'Vehicle Type Count by Agency'!$C:$C,\"=\"&$C71)","v":0},{"$f":"SUMIFS('Vehicle Type Count by Agency'!BH:BH,'Vehicle Type Count by Agency'!$C:$C,\"=\"&$C71)","v":3962}]
[null,null,"ND","North Dakota",null,{"$f":"SUMIFS('Vehicle Type Count by Agency'!J:J,'Vehicle Type Count by Agency'!$C:$C,\"=\"&$C72)","v":71},{"$f":"SUMIFS('Vehicle Type Count by Agency'!L:L,'Vehicle Type Count by Agency'!$C:$C,\"=\"&$C72)","v":0},{"$f":"SUMIFS('Vehicle Type Count by Agency'!N:N,'Vehicle Type Count by Agency'!$C:$C,\"=\"&$C72)","v":0},{"$f":"SUMIFS('Vehicle Type Count by Agency'!P:P,'Vehicle Type Count by Agency'!$C:$C,\"=\"&$C72)","v":0},{"$f":"SUMIFS('Vehicle Type Count by Agency'!R:R,'Vehicle Type Count by Agency'!$C:$C,\"=\"&$C72)","v":0},{"$f":"SUMIFS('Vehicle Type Count by Agency'!T:T,'Vehicle Type Count by Agency'!$C:$C,\"=\"&$C72)","v":28},{"$f":"SUMIFS('Vehicle Type Count by Agency'!V:V,'Vehicle Type Count by Agency'!$C:$C,\"=\"&$C72)","v":135},{"$f":"SUMIFS('Vehicle Type Count by Agency'!X:X,'Vehicle Type Count by Agency'!$C:$C,\"=\"&$C72)","v":4},{"$f":"SUMIFS('Vehicle Type Count by Agency'!Z:Z,'Vehicle Type Count by Agency'!$C:$C,\"=\"&$C72)","v":118},{"$f":"SUMIFS('Vehicle Type Count by Agency'!AB:AB,'Vehicle Type Count by Agency'!$C:$C,\"=\"&$C72)","v":2},{"$f":"SUMIFS('Vehicle Type Count by Agency'!AD:AD,'Vehicle Type Count by Agency'!$C:$C,\"=\"&$C72)","v":0},{"$f":"SUMIFS('Vehicle Type Count by Agency'!AF:AF,'Vehicle Type Count by Agency'!$C:$C,\"=\"&$C72)","v":0},{"$f":"SUMIFS('Vehicle Type Count by Agency'!AH:AH,'Vehicle Type Count by Agency'!$C:$C,\"=\"&$C72)","v":0},{"$f":"SUMIFS('Vehicle Type Count by Agency'!AJ:AJ,'Vehicle Type Count by Agency'!$C:$C,\"=\"&$C72)","v":0},{"$f":"SUMIFS('Vehicle Type Count by Agency'!AL:AL,'Vehicle Type Count by Agency'!$C:$C,\"=\"&$C72)","v":0},{"$f":"SUMIFS('Vehicle Type Count by Agency'!AN:AN,'Vehicle Type Count by Agency'!$C:$C,\"=\"&$C72)","v":0},{"$f":"SUMIFS('Vehicle Type Count by Agency'!AP:AP,'Vehicle Type Count by Agency'!$C:$C,\"=\"&$C72)","v":0},{"$f":"SUMIFS('Vehicle Type Count by Agency'!AR:AR,'Vehicle Type Count by Agency'!$C:$C,\"=\"&$C72)","v":0},{"$f":"SUMIFS('Vehicle Type Count by Agency'!AT:AT,'Vehicle Type Count by Agency'!$C:$C,\"=\"&$C72)","v":0},{"$f":"SUMIFS('Vehicle Type Count by Agency'!AV:AV,'Vehicle Type Count by Agency'!$C:$C,\"=\"&$C72)","v":0},{"$f":"SUMIFS('Vehicle Type Count by Agency'!AX:AX,'Vehicle Type Count by Agency'!$C:$C,\"=\"&$C72)","v":0},{"$f":"SUMIFS('Vehicle Type Count by Agency'!AZ:AZ,'Vehicle Type Count by Agency'!$C:$C,\"=\"&$C72)","v":0},{"$f":"SUMIFS('Vehicle Type Count by Agency'!BB:BB,'Vehicle Type Count by Agency'!$C:$C,\"=\"&$C72)","v":0},{"$f":"SUMIFS('Vehicle Type Count by Agency'!BD:BD,'Vehicle Type Count by Agency'!$C:$C,\"=\"&$C72)","v":0},{"$f":"SUMIFS('Vehicle Type Count by Agency'!BF:BF,'Vehicle Type Count by Agency'!$C:$C,\"=\"&$C72)","v":0},{"$f":"SUMIFS('Vehicle Type Count by Agency'!BH:BH,'Vehicle Type Count by Agency'!$C:$C,\"=\"&$C72)","v":358}]
[null,null,"NE","Nebraska",null,{"$f":"SUMIFS('Vehicle Type Count by Agency'!J:J,'Vehicle Type Count by Agency'!$C:$C,\"=\"&$C73)","v":213},{"$f":"SUMIFS('Vehicle Type Count by Agency'!L:L,'Vehicle Type Count by Agency'!$C:$C,\"=\"&$C73)","v":0},{"$f":"SUMIFS('Vehicle Type Count by Agency'!N:N,'Vehicle Type Count by Agency'!$C:$C,\"=\"&$C73)","v":0},{"$f":"SUMIFS('Vehicle Type Count by Agency'!P:P,'Vehicle Type Count by Agency'!$C:$C,\"=\"&$C73)","v":0},{"$f":"SUMIFS('Vehicle Type Count by Agency'!R:R,'Vehicle Type Count by Agency'!$C:$C,\"=\"&$C73)","v":0},{"$f":"SUMIFS('Vehicle Type Count by Agency'!T:T,'Vehicle Type Count by Agency'!$C:$C,\"=\"&$C73)","v":54},{"$f":"SUMIFS('Vehicle Type Count by Agency'!V:V,'Vehicle Type Count by Agency'!$C:$C,\"=\"&$C73)","v":190},{"$f":"SUMIFS('Vehicle Type Count by Agency'!X:X,'Vehicle Type Count by Agency'!$C:$C,\"=\"&$C73)","v":9},{"$f":"SUMIFS('Vehicle Type Count by Agency'!Z:Z,'Vehicle Type Count by Agency'!$C:$C,\"=\"&$C73)","v":138},{"$f":"SUMIFS('Vehicle Type Count by Agency'!AB:AB,'Vehicle Type Count by Agency'!$C:$C,\"=\"&$C73)","v":3},{"$f":"SUMIFS('Vehicle Type Count by Agency'!AD:AD,'Vehicle Type Count by Agency'!$C:$C,\"=\"&$C73)","v":0},{"$f":"SUMIFS('Vehicle Type Count by Agency'!AF:AF,'Vehicle Type Count by Agency'!$C:$C,\"=\"&$C73)","v":0},{"$f":"SUMIFS('Vehicle Type Count by Agency'!AH:AH,'Vehicle Type Count by Agency'!$C:$C,\"=\"&$C73)","v":0},{"$f":"SUMIFS('Vehicle Type Count by Agency'!AJ:AJ,'Vehicle Type Count by Agency'!$C:$C,\"=\"&$C73)","v":0},{"$f":"SUMIFS('Vehicle Type Count by Agency'!AL:AL,'Vehicle Type Count by Agency'!$C:$C,\"=\"&$C73)","v":0},{"$f":"SUMIFS('Vehicle Type Count by Agency'!AN:AN,'Vehicle Type Count by Agency'!$C:$C,\"=\"&$C73)","v":0},{"$f":"SUMIFS('Vehicle Type Count by Agency'!AP:AP,'Vehicle Type Count by Agency'!$C:$C,\"=\"&$C73)","v":0},{"$f":"SUMIFS('Vehicle Type Count by Agency'!AR:AR,'Vehicle Type Count by Agency'!$C:$C,\"=\"&$C73)","v":0},{"$f":"SUMIFS('Vehicle Type Count by Agency'!AT:AT,'Vehicle Type Count by Agency'!$C:$C,\"=\"&$C73)","v":0},{"$f":"SUMIFS('Vehicle Type Count by Agency'!AV:AV,'Vehicle Type Count by Agency'!$C:$C,\"=\"&$C73)","v":0},{"$f":"SUMIFS('Vehicle Type Count by Agency'!AX:AX,'Vehicle Type Count by Agency'!$C:$C,\"=\"&$C73)","v":0},{"$f":"SUMIFS('Vehicle Type Count by Agency'!AZ:AZ,'Vehicle Type Count by Agency'!$C:$C,\"=\"&$C73)","v":0},{"$f":"SUMIFS('Vehicle Type Count by Agency'!BB:BB,'Vehicle Type Count by Agency'!$C:$C,\"=\"&$C73)","v":0},{"$f":"SUMIFS('Vehicle Type Count by Agency'!BD:BD,'Vehicle Type Count by Agency'!$C:$C,\"=\"&$C73)","v":0},{"$f":"SUMIFS('Vehicle Type Count by Agency'!BF:BF,'Vehicle Type Count by Agency'!$C:$C,\"=\"&$C73)","v":0},{"$f":"SUMIFS('Vehicle Type Count by Agency'!BH:BH,'Vehicle Type Count by Agency'!$C:$C,\"=\"&$C73)","v":607}]
[null,null,"NH","New Hampshire",null,{"$f":"SUMIFS('Vehicle Type Count by Agency'!J:J,'Vehicle Type Count by Agency'!$C:$C,\"=\"&$C74)","v":87},{"$f":"SUMIFS('Vehicle Type Count by Agency'!L:L,'Vehicle Type Count by Agency'!$C:$C,\"=\"&$C74)","v":0},{"$f":"SUMIFS('Vehicle Type Count by Agency'!N:N,'Vehicle Type Count by Agency'!$C:$C,\"=\"&$C74)","v":62},{"$f":"SUMIFS('Vehicle Type Count by Agency'!P:P,'Vehicle Type Count by Agency'!$C:$C,\"=\"&$C74)","v":4},{"$f":"SUMIFS('Vehicle Type Count by Agency'!R:R,'Vehicle Type Count by Agency'!$C:$C,\"=\"&$C74)","v":0},{"$f":"SUMIFS('Vehicle Type Count by Agency'!T:T,'Vehicle Type Count by Agency'!$C:$C,\"=\"&$C74)","v":26},{"$f":"SUMIFS('Vehicle Type Count by Agency'!V:V,'Vehicle Type Count by Agency'!$C:$C,\"=\"&$C74)","v":107},{"$f":"SUMIFS('Vehicle Type Count by Agency'!X:X,'Vehicle Type Count by Agency'!$C:$C,\"=\"&$C74)","v":0},{"$f":"SUMIFS('Vehicle Type Count by Agency'!Z:Z,'Vehicle Type Count by Agency'!$C:$C,\"=\"&$C74)","v":5},{"$f":"SUMIFS('Vehicle Type Count by Agency'!AB:AB,'Vehicle Type Count by Agency'!$C:$C,\"=\"&$C74)","v":0},{"$f":"SUMIFS('Vehicle Type Count by Agency'!AD:AD,'Vehicle Type Count by Agency'!$C:$C,\"=\"&$C74)","v":0},{"$f":"SUMIFS('Vehicle Type Count by Agency'!AF:AF,'Vehicle Type Count by Agency'!$C:$C,\"=\"&$C74)","v":0},{"$f":"SUMIFS('Vehicle Type Count by Agency'!AH:AH,'Vehicle Type Count by Agency'!$C:$C,\"=\"&$C74)","v":0},{"$f":"SUMIFS('Vehicle Type Count by Agency'!AJ:AJ,'Vehicle Type Count by Agency'!$C:$C,\"=\"&$C74)","v":0},{"$f":"SUMIFS('Vehicle Type Count by Agency'!AL:AL,'Vehicle Type Count by Agency'!$C:$C,\"=\"&$C74)","v":0},{"$f":"SUMIFS('Vehicle Type Count by Agency'!AN:AN,'Vehicle Type Count by Agency'!$C:$C,\"=\"&$C74)","v":0},{"$f":"SUMIFS('Vehicle Type Count by Agency'!AP:AP,'Vehicle Type Count by Agency'!$C:$C,\"=\"&$C74)","v":0},{"$f":"SUMIFS('Vehicle Type Count by Agency'!AR:AR,'Vehicle Type Count by Agency'!$C:$C,\"=\"&$C74)","v":0},{"$f":"SUMIFS('Vehicle Type Count by Agency'!AT:AT,'Vehicle Type Count by Agency'!$C:$C,\"=\"&$C74)","v":0},{"$f":"SUMIFS('Vehicle Type Count by Agency'!AV:AV,'Vehicle Type Count by Agency'!$C:$C,\"=\"&$C74)","v":0},{"$f":"SUMIFS('Vehicle Type Count by Agency'!AX:AX,'Vehicle Type Count by Agency'!$C:$C,\"=\"&$C74)","v":0},{"$f":"SUMIFS('Vehicle Type Count by Agency'!AZ:AZ,'Vehicle Type Count by Agency'!$C:$C,\"=\"&$C74)","v":0},{"$f":"SUMIFS('Vehicle Type Count by Agency'!BB:BB,'Vehicle Type Count by Agency'!$C:$C,\"=\"&$C74)","v":0},{"$f":"SUMIFS('Vehicle Type Count by Agency'!BD:BD,'Vehicle Type Count by Agency'!$C:$C,\"=\"&$C74)","v":0},{"$f":"SUMIFS('Vehicle Type Count by Agency'!BF:BF,'Vehicle Type Count by Agency'!$C:$C,\"=\"&$C74)","v":0},{"$f":"SUMIFS('Vehicle Type Count by Agency'!BH:BH,'Vehicle Type Count by Agency'!$C:$C,\"=\"&$C74)","v":291}]
[null,null,"NJ","New Jersey",null,{"$f":"SUMIFS('Vehicle Type Count by Agency'!J:J,'Vehicle Type Count by Agency'!$C:$C,\"=\"&$C75)","v":1483},{"$f":"SUMIFS('Vehicle Type Count by Agency'!L:L,'Vehicle Type Count by Agency'!$C:$C,\"=\"&$C75)","v":85},{"$f":"SUMIFS('Vehicle Type Count by Agency'!N:N,'Vehicle Type Count by Agency'!$C:$C,\"=\"&$C75)","v":1974},{"$f":"SUMIFS('Vehicle Type Count by Agency'!P:P,'Vehicle Type Count by Agency'!$C:$C,\"=\"&$C75)","v":0},{"$f":"SUMIFS('Vehicle Type Count by Agency'!R:R,'Vehicle Type Count by Agency'!$C:$C,\"=\"&$C75)","v":0},{"$f":"SUMIFS('Vehicle Type Count by Agency'!T:T,'Vehicle Type Count by Agency'!$C:$C,\"=\"&$C75)","v":209},{"$f":"SUMIFS('Vehicle Type Count by Agency'!V:V,'Vehicle Type Count by Agency'!$C:$C,\"=\"&$C75)","v":1303},{"$f":"SUMIFS('Vehicle Type Count by Agency'!X:X,'Vehicle Type Count by Agency'!$C:$C,\"=\"&$C75)","v":153},{"$f":"SUMIFS('Vehicle Type Count by Agency'!Z:Z,'Vehicle Type Count by Agency'!$C:$C,\"=\"&$C75)","v":108},{"$f":"SUMIFS('Vehicle Type Count by Agency'!AB:AB,'Vehicle Type Count by Agency'!$C:$C,\"=\"&$C75)","v":3},{"$f":"SUMIFS('Vehicle Type Count by Agency'!AD:AD,'Vehicle Type Count by Agency'!$C:$C,\"=\"&$C75)","v":0},{"$f":"SUMIFS('Vehicle Type Count by Agency'!AF:AF,'Vehicle Type Count by Agency'!$C:$C,\"=\"&$C75)","v":484},{"$f":"SUMIFS('Vehicle Type Count by Agency'!AH:AH,'Vehicle Type Count by Agency'!$C:$C,\"=\"&$C75)","v":93},{"$f":"SUMIFS('Vehicle Type Count by Agency'!AJ:AJ,'Vehicle Type Count by Agency'!$C:$C,\"=\"&$C75)","v":925},{"$f":"SUMIFS('Vehicle Type Count by Agency'!AL:AL,'Vehicle Type Count by Agency'!$C:$C,\"=\"&$C75)","v":156},{"$f":"SUMIFS('Vehicle Type Count by Agency'!AN:AN,'Vehicle Type Count by Agency'!$C:$C,\"=\"&$C75)","v":171},{"$f":"SUMIFS('Vehicle Type Count by Agency'!AP:AP,'Vehicle Type Count by Agency'!$C:$C,\"=\"&$C75)","v":0},{"$f":"SUMIFS('Vehicle Type Count by Agency'!AR:AR,'Vehicle Type Count by Agency'!$C:$C,\"=\"&$C75)","v":0},{"$f":"SUMIFS('Vehicle Type Count by Agency'!AT:AT,'Vehicle Type Count by Agency'!$C:$C,\"=\"&$C75)","v":0},{"$f":"SUMIFS('Vehicle Type Count by Agency'!AV:AV,'Vehicle Type Count by Agency'!$C:$C,\"=\"&$C75)","v":0},{"$f":"SUMIFS('Vehicle Type Count by Agency'!AX:AX,'Vehicle Type Count by Agency'!$C:$C,\"=\"&$C75)","v":0},{"$f":"SUMIFS('Vehicle Type Count by Agency'!AZ:AZ,'Vehicle Type Count by Agency'!$C:$C,\"=\"&$C75)","v":0},{"$f":"SUMIFS('Vehicle Type Count by Agency'!BB:BB,'Vehicle Type Count by Agency'!$C:$C,\"=\"&$C75)","v":0},{"$f":"SUMIFS('Vehicle Type Count by Agency'!BD:BD,'Vehicle Type Count by Agency'!$C:$C,\"=\"&$C75)","v":21},{"$f":"SUMIFS('Vehicle Type Count by Agency'!BF:BF,'Vehicle Type Count by Agency'!$C:$C,\"=\"&$C75)","v":0},{"$f":"SUMIFS('Vehicle Type Count by Agency'!BH:BH,'Vehicle Type Count by Agency'!$C:$C,\"=\"&$C75)","v":7168}]
[null,null,"NM","New Mexico",null,{"$f":"SUMIFS('Vehicle Type Count by Agency'!J:J,'Vehicle Type Count by Agency'!$C:$C,\"=\"&$C76)","v":228},{"$f":"SUMIFS('Vehicle Type Count by Agency'!L:L,'Vehicle Type Count by Agency'!$C:$C,\"=\"&$C76)","v":23},{"$f":"SUMIFS('Vehicle Type Count by Agency'!N:N,'Vehicle Type Count by Agency'!$C:$C,\"=\"&$C76)","v":0},{"$f":"SUMIFS('Vehicle Type Count by Agency'!P:P,'Vehicle Type Count by Agency'!$C:$C,\"=\"&$C76)","v":0},{"$f":"SUMIFS('Vehicle Type Count by Agency'!R:R,'Vehicle Type Count by Agency'!$C:$C,\"=\"&$C76)","v":3},{"$f":"SUMIFS('Vehicle Type Count by Agency'!T:T,'Vehicle Type Count by Agency'!$C:$C,\"=\"&$C76)","v":38},{"$f":"SUMIFS('Vehicle Type Count by Agency'!V:V,'Vehicle Type Count by Agency'!$C:$C,\"=\"&$C76)","v":381},{"$f":"SUMIFS('Vehicle Type Count by Agency'!X:X,'Vehicle Type Count by Agency'!$C:$C,\"=\"&$C76)","v":22},{"$f":"SUMIFS('Vehicle Type Count by Agency'!Z:Z,'Vehicle Type Count by Agency'!$C:$C,\"=\"&$C76)","v":25},{"$f":"SUMIFS('Vehicle Type Count by Agency'!AB:AB,'Vehicle Type Count by Agency'!$C:$C,\"=\"&$C76)","v":0},{"$f":"SUMIFS('Vehicle Type Count by Agency'!AD:AD,'Vehicle Type Count by Agency'!$C:$C,\"=\"&$C76)","v":0},{"$f":"SUMIFS('Vehicle Type Count by Agency'!AF:AF,'Vehicle Type Count by Agency'!$C:$C,\"=\"&$C76)","v":0},{"$f":"SUMIFS('Vehicle Type Count by Agency'!AH:AH,'Vehicle Type Count by Agency'!$C:$C,\"=\"&$C76)","v":0},{"$f":"SUMIFS('Vehicle Type Count by Agency'!AJ:AJ,'Vehicle Type Count by Agency'!$C:$C,\"=\"&$C76)","v":22},{"$f":"SUMIFS('Vehicle Type Count by Agency'!AL:AL,'Vehicle Type Count by Agency'!$C:$C,\"=\"&$C76)","v":0},{"$f":"SUMIFS('Vehicle Type Count by Agency'!AN:AN,'Vehicle Type Count by Agency'!$C:$C,\"=\"&$C76)","v":9},{"$f":"SUMIFS('Vehicle Type Count by Agency'!AP:AP,'Vehicle Type Count by Agency'!$C:$C,\"=\"&$C76)","v":0},{"$f":"SUMIFS('Vehicle Type Count by Agency'!AR:AR,'Vehicle Type Count by Agency'!$C:$C,\"=\"&$C76)","v":0},{"$f":"SUMIFS('Vehicle Type Count by Agency'!AT:AT,'Vehicle Type Count by Agency'!$C:$C,\"=\"&$C76)","v":0},{"$f":"SUMIFS('Vehicle Type Count by Agency'!AV:AV,'Vehicle Type Count by Agency'!$C:$C,\"=\"&$C76)","v":0},{"$f":"SUMIFS('Vehicle Type Count by Agency'!AX:AX,'Vehicle Type Count by Agency'!$C:$C,\"=\"&$C76)","v":0},{"$f":"SUMIFS('Vehicle Type Count by Agency'!AZ:AZ,'Vehicle Type Count by Agency'!$C:$C,\"=\"&$C76)","v":0},{"$f":"SUMIFS('Vehicle Type Count by Agency'!BB:BB,'Vehicle Type Count by Agency'!$C:$C,\"=\"&$C76)","v":0},{"$f":"SUMIFS('Vehicle Type Count by Agency'!BD:BD,'Vehicle Type Count by Agency'!$C:$C,\"=\"&$C76)","v":0},{"$f":"SUMIFS('Vehicle Type Count by Agency'!BF:BF,'Vehicle Type Count by Agency'!$C:$C,\"=\"&$C76)","v":0},{"$f":"SUMIFS('Vehicle Type Count by Agency'!BH:BH,'Vehicle Type Count by Agency'!$C:$C,\"=\"&$C76)","v":751}]
[null,null,"NV","Nevada",null,{"$f":"SUMIFS('Vehicle Type Count by Agency'!J:J,'Vehicle Type Count by Agency'!$C:$C,\"=\"&$C77)","v":226},{"$f":"SUMIFS('Vehicle Type Count by Agency'!L:L,'Vehicle Type Count by Agency'!$C:$C,\"=\"&$C77)","v":159},{"$f":"SUMIFS('Vehicle Type Count by Agency'!N:N,'Vehicle Type Count by Agency'!$C:$C,\"=\"&$C77)","v":0},{"$f":"SUMIFS('Vehicle Type Count by Agency'!P:P,'Vehicle Type Count by Agency'!$C:$C,\"=\"&$C77)","v":120},{"$f":"SUMIFS('Vehicle Type Count by Agency'!R:R,'Vehicle Type Count by Agency'!$C:$C,\"=\"&$C77)","v":0},{"$f":"SUMIFS('Vehicle Type Count by Agency'!T:T,'Vehicle Type Count by Agency'!$C:$C,\"=\"&$C77)","v":156},{"$f":"SUMIFS('Vehicle Type Count by Agency'!V:V,'Vehicle Type Count by Agency'!$C:$C,\"=\"&$C77)","v":549},{"$f":"SUMIFS('Vehicle Type Count by Agency'!X:X,'Vehicle Type Count by Agency'!$C:$C,\"=\"&$C77)","v":13},{"$f":"SUMIFS('Vehicle Type Count by Agency'!Z:Z,'Vehicle Type Count by Agency'!$C:$C,\"=\"&$C77)","v":33},{"$f":"SUMIFS('Vehicle Type Count by Agency'!AB:AB,'Vehicle Type Count by Agency'!$C:$C,\"=\"&$C77)","v":0},{"$f":"SUMIFS('Vehicle Type Count by Agency'!AD:AD,'Vehicle Type Count by Agency'!$C:$C,\"=\"&$C77)","v":0},{"$f":"SUMIFS('Vehicle Type Count by Agency'!AF:AF,'Vehicle Type Count by Agency'!$C:$C,\"=\"&$C77)","v":0},{"$f":"SUMIFS('Vehicle Type Count by Agency'!AH:AH,'Vehicle Type Count by Agency'!$C:$C,\"=\"&$C77)","v":0},{"$f":"SUMIFS('Vehicle Type Count by Agency'!AJ:AJ,'Vehicle Type Count by Agency'!$C:$C,\"=\"&$C77)","v":0},{"$f":"SUMIFS('Vehicle Type Count by Agency'!AL:AL,'Vehicle Type Count by Agency'!$C:$C,\"=\"&$C77)","v":0},{"$f":"SUMIFS('Vehicle Type Count by Agency'!AN:AN,'Vehicle Type Count by Agency'!$C:$C,\"=\"&$C77)","v":0},{"$f":"SUMIFS('Vehicle Type Count by Agency'!AP:AP,'Vehicle Type Count by Agency'!$C:$C,\"=\"&$C77)","v":0},{"$f":"SUMIFS('Vehicle Type Count by Agency'!AR:AR,'Vehicle Type Count by Agency'!$C:$C,\"=\"&$C77)","v":0},{"$f":"SUMIFS('Vehicle Type Count by Agency'!AT:AT,'Vehicle Type Count by Agency'!$C:$C,\"=\"&$C77)","v":0},{"$f":"SUMIFS('Vehicle Type Count by Agency'!AV:AV,'Vehicle Type Count by Agency'!$C:$C,\"=\"&$C77)","v":0},{"$f":"SUMIFS('Vehicle Type Count by Agency'!AX:AX,'Vehicle Type Count by Agency'!$C:$C,\"=\"&$C77)","v":0},{"$f":"SUMIFS('Vehicle Type Count by Agency'!AZ:AZ,'Vehicle Type Count by Agency'!$C:$C,\"=\"&$C77)","v":0},{"$f":"SUMIFS('Vehicle Type Count by Agency'!BB:BB,'Vehicle Type Count by Agency'!$C:$C,\"=\"&$C77)","v":0},{"$f":"SUMIFS('Vehicle Type Count by Agency'!BD:BD,'Vehicle Type Count by Agency'!$C:$C,\"=\"&$C77)","v":0},{"$f":"SUMIFS('Vehicle Type Count by Agency'!BF:BF,'Vehicle Type Count by Agency'!$C:$C,\"=\"&$C77)","v":0},{"$f":"SUMIFS('Vehicle Type Count by Agency'!BH:BH,'Vehicle Type Count by Agency'!$C:$C,\"=\"&$C77)","v":1256}]
[null,null,"NY","New York",null,{"$f":"SUMIFS('Vehicle Type Count by Agency'!J:J,'Vehicle Type Count by Agency'!$C:$C,\"=\"&$C78)","v":6018},{"$f":"SUMIFS('Vehicle Type Count by Agency'!L:L,'Vehicle Type Count by Agency'!$C:$C,\"=\"&$C78)","v":999},{"$f":"SUMIFS('Vehicle Type Count by Agency'!N:N,'Vehicle Type Count by Agency'!$C:$C,\"=\"&$C78)","v":1287},{"$f":"SUMIFS('Vehicle Type Count by Agency'!P:P,'Vehicle Type Count by Agency'!$C:$C,\"=\"&$C78)","v":0},{"$f":"SUMIFS('Vehicle Type Count by Agency'!R:R,'Vehicle Type Count by Agency'!$C:$C,\"=\"&$C78)","v":0},{"$f":"SUMIFS('Vehicle Type Count by Agency'!T:T,'Vehicle Type Count by Agency'!$C:$C,\"=\"&$C78)","v":137},{"$f":"SUMIFS('Vehicle Type Count by Agency'!V:V,'Vehicle Type Count by Agency'!$C:$C,\"=\"&$C78)","v":1953},{"$f":"SUMIFS('Vehicle Type Count by Agency'!X:X,'Vehicle Type Count by Agency'!$C:$C,\"=\"&$C78)","v":662},{"$f":"SUMIFS('Vehicle Type Count by Agency'!Z:Z,'Vehicle Type Count by Agency'!$C:$C,\"=\"&$C78)","v":9},{"$f":"SUMIFS('Vehicle Type Count by Agency'!AB:AB,'Vehicle Type Count by Agency'!$C:$C,\"=\"&$C78)","v":453},{"$f":"SUMIFS('Vehicle Type Count by Agency'!AD:AD,'Vehicle Type Count by Agency'!$C:$C,\"=\"&$C78)","v":0},{"$f":"SUMIFS('Vehicle Type Count by Agency'!AF:AF,'Vehicle Type Count by Agency'!$C:$C,\"=\"&$C78)","v":6631},{"$f":"SUMIFS('Vehicle Type Count by Agency'!AH:AH,'Vehicle Type Count by Agency'!$C:$C,\"=\"&$C78)","v":27},{"$f":"SUMIFS('Vehicle Type Count by Agency'!AJ:AJ,'Vehicle Type Count by Agency'!$C:$C,\"=\"&$C78)","v":340},{"$f":"SUMIFS('Vehicle Type Count by Agency'!AL:AL,'Vehicle Type Count by Agency'!$C:$C,\"=\"&$C78)","v":1870},{"$f":"SUMIFS('Vehicle Type Count by Agency'!AN:AN,'Vehicle Type Count by Agency'!$C:$C,\"=\"&$C78)","v":88},{"$f":"SUMIFS('Vehicle Type Count by Agency'!AP:AP,'Vehicle Type Count by Agency'!$C:$C,\"=\"&$C78)","v":0},{"$f":"SUMIFS('Vehicle Type Count by Agency'!AR:AR,'Vehicle Type Count by Agency'!$C:$C,\"=\"&$C78)","v":0},{"$f":"SUMIFS('Vehicle Type Count by Agency'!AT:AT,'Vehicle Type Count by Agency'!$C:$C,\"=\"&$C78)","v":0},{"$f":"SUMIFS('Vehicle Type Count by Agency'!AV:AV,'Vehicle Type Count by Agency'!$C:$C,\"=\"&$C78)","v":0},{"$f":"SUMIFS('Vehicle Type Count by Agency'!AX:AX,'Vehicle Type Count by Agency'!$C:$C,\"=\"&$C78)","v":0},{"$f":"SUMIFS('Vehicle Type Count by Agency'!AZ:AZ,'Vehicle Type Count by Agency'!$C:$C,\"=\"&$C78)","v":0},{"$f":"SUMIFS('Vehicle Type Count by Agency'!BB:BB,'Vehicle Type Count by Agency'!$C:$C,\"=\"&$C78)","v":0},{"$f":"SUMIFS('Vehicle Type Count by Agency'!BD:BD,'Vehicle Type Count by Agency'!$C:$C,\"=\"&$C78)","v":36},{"$f":"SUMIFS('Vehicle Type Count by Agency'!BF:BF,'Vehicle Type Count by Agency'!$C:$C,\"=\"&$C78)","v":0},{"$f":"SUMIFS('Vehicle Type Count by Agency'!BH:BH,'Vehicle Type Count by Agency'!$C:$C,\"=\"&$C78)","v":20510}]
[null,null,"OH","Ohio",null,{"$f":"SUMIFS('Vehicle Type Count by Agency'!J:J,'Vehicle Type Count by Agency'!$C:$C,\"=\"&$C79)","v":1689},{"$f":"SUMIFS('Vehicle Type Count by Agency'!L:L,'Vehicle Type Count by Agency'!$C:$C,\"=\"&$C79)","v":75},{"$f":"SUMIFS('Vehicle Type Count by Agency'!N:N,'Vehicle Type Count by Agency'!$C:$C,\"=\"&$C79)","v":51},{"$f":"SUMIFS('Vehicle Type Count by Agency'!P:P,'Vehicle Type Count by Agency'!$C:$C,\"=\"&$C79)","v":0},{"$f":"SUMIFS('Vehicle Type Count by Agency'!R:R,'Vehicle Type Count by Agency'!$C:$C,\"=\"&$C79)","v":5},{"$f":"SUMIFS('Vehicle Type Count by Agency'!T:T,'Vehicle Type Count by Agency'!$C:$C,\"=\"&$C79)","v":297},{"$f":"SUMIFS('Vehicle Type Count by Agency'!V:V,'Vehicle Type Count by Agency'!$C:$C,\"=\"&$C79)","v":1316},{"$f":"SUMIFS('Vehicle Type Count by Agency'!X:X,'Vehicle Type Count by Agency'!$C:$C,\"=\"&$C79)","v":184},{"$f":"SUMIFS('Vehicle Type Count by Agency'!Z:Z,'Vehicle Type Count by Agency'!$C:$C,\"=\"&$C79)","v":489},{"$f":"SUMIFS('Vehicle Type Count by Agency'!AB:AB,'Vehicle Type Count by Agency'!$C:$C,\"=\"&$C79)","v":12},{"$f":"SUMIFS('Vehicle Type Count by Agency'!AD:AD,'Vehicle Type Count by Agency'!$C:$C,\"=\"&$C79)","v":37},{"$f":"SUMIFS('Vehicle Type Count by Agency'!AF:AF,'Vehicle Type Count by Agency'!$C:$C,\"=\"&$C79)","v":40},{"$f":"SUMIFS('Vehicle Type Count by Agency'!AH:AH,'Vehicle Type Count by Agency'!$C:$C,\"=\"&$C79)","v":34},{"$f":"SUMIFS('Vehicle Type Count by Agency'!AJ:AJ,'Vehicle Type Count by Agency'!$C:$C,\"=\"&$C79)","v":0},{"$f":"SUMIFS('Vehicle Type Count by Agency'!AL:AL,'Vehicle Type Count by Agency'!$C:$C,\"=\"&$C79)","v":0},{"$f":"SUMIFS('Vehicle Type Count by Agency'!AN:AN,'Vehicle Type Count by Agency'!$C:$C,\"=\"&$C79)","v":0},{"$f":"SUMIFS('Vehicle Type Count by Agency'!AP:AP,'Vehicle Type Count by Agency'!$C:$C,\"=\"&$C79)","v":0},{"$f":"SUMIFS('Vehicle Type Count by Agency'!AR:AR,'Vehicle Type Count by Agency'!$C:$C,\"=\"&$C79)","v":0},{"$f":"SUMIFS('Vehicle Type Count by Agency'!AT:AT,'Vehicle Type Count by Agency'!$C:$C,\"=\"&$C79)","v":5},{"$f":"SUMIFS('Vehicle Type Count by Agency'!AV:AV,'Vehicle Type Count by Agency'!$C:$C,\"=\"&$C79)","v":0},{"$f":"SUMIFS('Vehicle Type Count by Agency'!AX:AX,'Vehicle Type Count by Agency'!$C:$C,\"=\"&$C79)","v":0},{"$f":"SUMIFS('Vehicle Type Count by Agency'!AZ:AZ,'Vehicle Type Count by Agency'!$C:$C,\"=\"&$C79)","v":0},{"$f":"SUMIFS('Vehicle Type Count by Agency'!BB:BB,'Vehicle Type Count by Agency'!$C:$C,\"=\"&$C79)","v":0},{"$f":"SUMIFS('Vehicle Type Count by Agency'!BD:BD,'Vehicle Type Count by Agency'!$C:$C,\"=\"&$C79)","v":0},{"$f":"SUMIFS('Vehicle Type Count by Agency'!BF:BF,'Vehicle Type Count by Agency'!$C:$C,\"=\"&$C79)","v":0},{"$f":"SUMIFS('Vehicle Type Count by Agency'!BH:BH,'Vehicle Type Count by Agency'!$C:$C,\"=\"&$C79)","v":4234}]
[null,null,"OK","Oklahoma",null,{"$f":"SUMIFS('Vehicle Type Count by Agency'!J:J,'Vehicle Type Count by Agency'!$C:$C,\"=\"&$C80)","v":203},{"$f":"SUMIFS('Vehicle Type Count by Agency'!L:L,'Vehicle Type Count by Agency'!$C:$C,\"=\"&$C80)","v":0},{"$f":"SUMIFS('Vehicle Type Count by Agency'!N:N,'Vehicle Type Count by Agency'!$C:$C,\"=\"&$C80)","v":10},{"$f":"SUMIFS('Vehicle Type Count by Agency'!P:P,'Vehicle Type Count by Agency'!$C:$C,\"=\"&$C80)","v":0},{"$f":"SUMIFS('Vehicle Type Count by Agency'!R:R,'Vehicle Type Count by Agency'!$C:$C,\"=\"&$C80)","v":1},{"$f":"SUMIFS('Vehicle Type Count by Agency'!T:T,'Vehicle Type Count by Agency'!$C:$C,\"=\"&$C80)","v":110},{"$f":"SUMIFS('Vehicle Type Count by Agency'!V:V,'Vehicle Type Count by Agency'!$C:$C,\"=\"&$C80)","v":479},{"$f":"SUMIFS('Vehicle Type Count by Agency'!X:X,'Vehicle Type Count by Agency'!$C:$C,\"=\"&$C80)","v":20},{"$f":"SUMIFS('Vehicle Type Count by Agency'!Z:Z,'Vehicle Type Count by Agency'!$C:$C,\"=\"&$C80)","v":520},{"$f":"SUMIFS('Vehicle Type Count by Agency'!AB:AB,'Vehicle Type Count by Agency'!$C:$C,\"=\"&$C80)","v":60},{"$f":"SUMIFS('Vehicle Type Count by Agency'!AD:AD,'Vehicle Type Count by Agency'!$C:$C,\"=\"&$C80)","v":0},{"$f":"SUMIFS('Vehicle Type Count by Agency'!AF:AF,'Vehicle Type Count by Agency'!$C:$C,\"=\"&$C80)","v":0},{"$f":"SUMIFS('Vehicle Type Count by Agency'!AH:AH,'Vehicle Type Count by Agency'!$C:$C,\"=\"&$C80)","v":0},{"$f":"SUMIFS('Vehicle Type Count by Agency'!AJ:AJ,'Vehicle Type Count by Agency'!$C:$C,\"=\"&$C80)","v":0},{"$f":"SUMIFS('Vehicle Type Count by Agency'!AL:AL,'Vehicle Type Count by Agency'!$C:$C,\"=\"&$C80)","v":0},{"$f":"SUMIFS('Vehicle Type Count by Agency'!AN:AN,'Vehicle Type Count by Agency'!$C:$C,\"=\"&$C80)","v":0},{"$f":"SUMIFS('Vehicle Type Count by Agency'!AP:AP,'Vehicle Type Count by Agency'!$C:$C,\"=\"&$C80)","v":0},{"$f":"SUMIFS('Vehicle Type Count by Agency'!AR:AR,'Vehicle Type Count by Agency'!$C:$C,\"=\"&$C80)","v":0},{"$f":"SUMIFS('Vehicle Type Count by Agency'!AT:AT,'Vehicle Type Count by Agency'!$C:$C,\"=\"&$C80)","v":0},{"$f":"SUMIFS('Vehicle Type Count by Agency'!AV:AV,'Vehicle Type Count by Agency'!$C:$C,\"=\"&$C80)","v":0},{"$f":"SUMIFS('Vehicle Type Count by Agency'!AX:AX,'Vehicle Type Count by Agency'!$C:$C,\"=\"&$C80)","v":0},{"$f":"SUMIFS('Vehicle Type Count by Agency'!AZ:AZ,'Vehicle Type Count by Agency'!$C:$C,\"=\"&$C80)","v":0},{"$f":"SUMIFS('Vehicle Type Count by Agency'!BB:BB,'Vehicle Type Count by Agency'!$C:$C,\"=\"&$C80)","v":0},{"$f":"SUMIFS('Vehicle Type Count by Agency'!BD:BD,'Vehicle Type Count by Agency'!$C:$C,\"=\"&$C80)","v":3},{"$f":"SUMIFS('Vehicle Type Count by Agency'!BF:BF,'Vehicle Type Count by Agency'!$C:$C,\"=\"&$C80)","v":0},{"$f":"SUMIFS('Vehicle Type Count by Agency'!BH:BH,'Vehicle Type Count by Agency'!$C:$C,\"=\"&$C80)","v":1406}]
[null,null,"OR","Oregon",null,{"$f":"SUMIFS('Vehicle Type Count by Agency'!J:J,'Vehicle Type Count by Agency'!$C:$C,\"=\"&$C81)","v":988},{"$f":"SUMIFS('Vehicle Type Count by Agency'!L:L,'Vehicle Type Count by Agency'!$C:$C,\"=\"&$C81)","v":32},{"$f":"SUMIFS('Vehicle Type Count by Agency'!N:N,'Vehicle Type Count by Agency'!$C:$C,\"=\"&$C81)","v":0},{"$f":"SUMIFS('Vehicle Type Count by Agency'!P:P,'Vehicle Type Count by Agency'!$C:$C,\"=\"&$C81)","v":0},{"$f":"SUMIFS('Vehicle Type Count by Agency'!R:R,'Vehicle Type Count by Agency'!$C:$C,\"=\"&$C81)","v":0},{"$f":"SUMIFS('Vehicle Type Count by Agency'!T:T,'Vehicle Type Count by Agency'!$C:$C,\"=\"&$C81)","v":350},{"$f":"SUMIFS('Vehicle Type Count by Agency'!V:V,'Vehicle Type Count by Agency'!$C:$C,\"=\"&$C81)","v":695},{"$f":"SUMIFS('Vehicle Type Count by Agency'!X:X,'Vehicle Type Count by Agency'!$C:$C,\"=\"&$C81)","v":272},{"$f":"SUMIFS('Vehicle Type Count by Agency'!Z:Z,'Vehicle Type Count by Agency'!$C:$C,\"=\"&$C81)","v":145},{"$f":"SUMIFS('Vehicle Type Count by Agency'!AB:AB,'Vehicle Type Count by Agency'!$C:$C,\"=\"&$C81)","v":11},{"$f":"SUMIFS('Vehicle Type Count by Agency'!AD:AD,'Vehicle Type Count by Agency'!$C:$C,\"=\"&$C81)","v":0},{"$f":"SUMIFS('Vehicle Type Count by Agency'!AF:AF,'Vehicle Type Count by Agency'!$C:$C,\"=\"&$C81)","v":0},{"$f":"SUMIFS('Vehicle Type Count by Agency'!AH:AH,'Vehicle Type Count by Agency'!$C:$C,\"=\"&$C81)","v":145},{"$f":"SUMIFS('Vehicle Type Count by Agency'!AJ:AJ,'Vehicle Type Count by Agency'!$C:$C,\"=\"&$C81)","v":1},{"$f":"SUMIFS('Vehicle Type Count by Agency'!AL:AL,'Vehicle Type Count by Agency'!$C:$C,\"=\"&$C81)","v":5},{"$f":"SUMIFS('Vehicle Type Count by Agency'!AN:AN,'Vehicle Type Count by Agency'!$C:$C,\"=\"&$C81)","v":0},{"$f":"SUMIFS('Vehicle Type Count by Agency'!AP:AP,'Vehicle Type Count by Agency'!$C:$C,\"=\"&$C81)","v":0},{"$f":"SUMIFS('Vehicle Type Count by Agency'!AR:AR,'Vehicle Type Count by Agency'!$C:$C,\"=\"&$C81)","v":0},{"$f":"SUMIFS('Vehicle Type Count by Agency'!AT:AT,'Vehicle Type Count by Agency'!$C:$C,\"=\"&$C81)","v":17},{"$f":"SUMIFS('Vehicle Type Count by Agency'!AV:AV,'Vehicle Type Count by Agency'!$C:$C,\"=\"&$C81)","v":2},{"$f":"SUMIFS('Vehicle Type Count by Agency'!AX:AX,'Vehicle Type Count by Agency'!$C:$C,\"=\"&$C81)","v":0},{"$f":"SUMIFS('Vehicle Type Count by Agency'!AZ:AZ,'Vehicle Type Count by Agency'!$C:$C,\"=\"&$C81)","v":0},{"$f":"SUMIFS('Vehicle Type Count by Agency'!BB:BB,'Vehicle Type Count by Agency'!$C:$C,\"=\"&$C81)","v":0},{"$f":"SUMIFS('Vehicle Type Count by Agency'!BD:BD,'Vehicle Type Count by Agency'!$C:$C,\"=\"&$C81)","v":0},{"$f":"SUMIFS('Vehicle Type Count by Agency'!BF:BF,'Vehicle Type Count by Agency'!$C:$C,\"=\"&$C81)","v":0},{"$f":"SUMIFS('Vehicle Type Count by Agency'!BH:BH,'Vehicle Type Count by Agency'!$C:$C,\"=\"&$C81)","v":2663}]
[null,null,"PA","Pennsylvania",null,{"$f":"SUMIFS('Vehicle Type Count by Agency'!J:J,'Vehicle Type Count by Agency'!$C:$C,\"=\"&$C82)","v":2806},{"$f":"SUMIFS('Vehicle Type Count by Agency'!L:L,'Vehicle Type Count by Agency'!$C:$C,\"=\"&$C82)","v":319},{"$f":"SUMIFS('Vehicle Type Count by Agency'!N:N,'Vehicle Type Count by Agency'!$C:$C,\"=\"&$C82)","v":130},{"$f":"SUMIFS('Vehicle Type Count by Agency'!P:P,'Vehicle Type Count by Agency'!$C:$C,\"=\"&$C82)","v":0},{"$f":"SUMIFS('Vehicle Type Count by Agency'!R:R,'Vehicle Type Count by Agency'!$C:$C,\"=\"&$C82)","v":0},{"$f":"SUMIFS('Vehicle Type Count by Agency'!T:T,'Vehicle Type Count by Agency'!$C:$C,\"=\"&$C82)","v":670},{"$f":"SUMIFS('Vehicle Type Count by Agency'!V:V,'Vehicle Type Count by Agency'!$C:$C,\"=\"&$C82)","v":2067},{"$f":"SUMIFS('Vehicle Type Count by Agency'!X:X,'Vehicle Type Count by Agency'!$C:$C,\"=\"&$C82)","v":223},{"$f":"SUMIFS('Vehicle Type Count by Agency'!Z:Z,'Vehicle Type Count by Agency'!$C:$C,\"=\"&$C82)","v":344},{"$f":"SUMIFS('Vehicle Type Count by Agency'!AB:AB,'Vehicle Type Count by Agency'!$C:$C,\"=\"&$C82)","v":2},{"$f":"SUMIFS('Vehicle Type Count by Agency'!AD:AD,'Vehicle Type Count by Agency'!$C:$C,\"=\"&$C82)","v":38},{"$f":"SUMIFS('Vehicle Type Count by Agency'!AF:AF,'Vehicle Type Count by Agency'!$C:$C,\"=\"&$C82)","v":361},{"$f":"SUMIFS('Vehicle Type Count by Agency'!AH:AH,'Vehicle Type Count by Agency'!$C:$C,\"=\"&$C82)","v":83},{"$f":"SUMIFS('Vehicle Type Count by Agency'!AJ:AJ,'Vehicle Type Count by Agency'!$C:$C,\"=\"&$C82)","v":73},{"$f":"SUMIFS('Vehicle Type Count by Agency'!AL:AL,'Vehicle Type Count by Agency'!$C:$C,\"=\"&$C82)","v":358},{"$f":"SUMIFS('Vehicle Type Count by Agency'!AN:AN,'Vehicle Type Count by Agency'!$C:$C,\"=\"&$C82)","v":15},{"$f":"SUMIFS('Vehicle Type Count by Agency'!AP:AP,'Vehicle Type Count by Agency'!$C:$C,\"=\"&$C82)","v":0},{"$f":"SUMIFS('Vehicle Type Count by Agency'!AR:AR,'Vehicle Type Count by Agency'!$C:$C,\"=\"&$C82)","v":18},{"$f":"SUMIFS('Vehicle Type Count by Agency'!AT:AT,'Vehicle Type Count by Agency'!$C:$C,\"=\"&$C82)","v":141},{"$f":"SUMIFS('Vehicle Type Count by Agency'!AV:AV,'Vehicle Type Count by Agency'!$C:$C,\"=\"&$C82)","v":0},{"$f":"SUMIFS('Vehicle Type Count by Agency'!AX:AX,'Vehicle Type Count by Agency'!$C:$C,\"=\"&$C82)","v":0},{"$f":"SUMIFS('Vehicle Type Count by Agency'!AZ:AZ,'Vehicle Type Count by Agency'!$C:$C,\"=\"&$C82)","v":0},{"$f":"SUMIFS('Vehicle Type Count by Agency'!BB:BB,'Vehicle Type Count by Agency'!$C:$C,\"=\"&$C82)","v":4},{"$f":"SUMIFS('Vehicle Type Count by Agency'!BD:BD,'Vehicle Type Count by Agency'!$C:$C,\"=\"&$C82)","v":0},{"$f":"SUMIFS('Vehicle Type Count by Agency'!BF:BF,'Vehicle Type Count by Agency'!$C:$C,\"=\"&$C82)","v":0},{"$f":"SUMIFS('Vehicle Type Count by Agency'!BH:BH,'Vehicle Type Count by Agency'!$C:$C,\"=\"&$C82)","v":7652}]
[null,null,"PR","Puerto Rico",null,{"$f":"SUMIFS('Vehicle Type Count by Agency'!J:J,'Vehicle Type Count by Agency'!$C:$C,\"=\"&$C83)","v":341},{"$f":"SUMIFS('Vehicle Type Count by Agency'!L:L,'Vehicle Type Count by Agency'!$C:$C,\"=\"&$C83)","v":2},{"$f":"SUMIFS('Vehicle Type Count by Agency'!N:N,'Vehicle Type Count by Agency'!$C:$C,\"=\"&$C83)","v":0},{"$f":"SUMIFS('Vehicle Type Count by Agency'!P:P,'Vehicle Type Count by Agency'!$C:$C,\"=\"&$C83)","v":0},{"$f":"SUMIFS('Vehicle Type Count by Agency'!R:R,'Vehicle Type Count by Agency'!$C:$C,\"=\"&$C83)","v":3},{"$f":"SUMIFS('Vehicle Type Count by Agency'!T:T,'Vehicle Type Count by Agency'!$C:$C,\"=\"&$C83)","v":1541},{"$f":"SUMIFS('Vehicle Type Count by Agency'!V:V,'Vehicle Type Count by Agency'!$C:$C,\"=\"&$C83)","v":111},{"$f":"SUMIFS('Vehicle Type Count by Agency'!X:X,'Vehicle Type Count by Agency'!$C:$C,\"=\"&$C83)","v":891},{"$f":"SUMIFS('Vehicle Type Count by Agency'!Z:Z,'Vehicle Type Count by Agency'!$C:$C,\"=\"&$C83)","v":1},{"$f":"SUMIFS('Vehicle Type Count by Agency'!AB:AB,'Vehicle Type Count by Agency'!$C:$C,\"=\"&$C83)","v":0},{"$f":"SUMIFS('Vehicle Type Count by Agency'!AD:AD,'Vehicle Type Count by Agency'!$C:$C,\"=\"&$C83)","v":0},{"$f":"SUMIFS('Vehicle Type Count by Agency'!AF:AF,'Vehicle Type Count by Agency'!$C:$C,\"=\"&$C83)","v":66},{"$f":"SUMIFS('Vehicle Type Count by Agency'!AH:AH,'Vehicle Type Count by Agency'!$C:$C,\"=\"&$C83)","v":0},{"$f":"SUMIFS('Vehicle Type Count by Agency'!AJ:AJ,'Vehicle Type Count by Agency'!$C:$C,\"=\"&$C83)","v":0},{"$f":"SUMIFS('Vehicle Type Count by Agency'!AL:AL,'Vehicle Type Count by Agency'!$C:$C,\"=\"&$C83)","v":0},{"$f":"SUMIFS('Vehicle Type Count by Agency'!AN:AN,'Vehicle Type Count by Agency'!$C:$C,\"=\"&$C83)","v":0},{"$f":"SUMIFS('Vehicle Type Count by Agency'!AP:AP,'Vehicle Type Count by Agency'!$C:$C,\"=\"&$C83)","v":0},{"$f":"SUMIFS('Vehicle Type Count by Agency'!AR:AR,'Vehicle Type Count by Agency'!$C:$C,\"=\"&$C83)","v":0},{"$f":"SUMIFS('Vehicle Type Count by Agency'!AT:AT,'Vehicle Type Count by Agency'!$C:$C,\"=\"&$C83)","v":0},{"$f":"SUMIFS('Vehicle Type Count by Agency'!AV:AV,'Vehicle Type Count by Agency'!$C:$C,\"=\"&$C83)","v":0},{"$f":"SUMIFS('Vehicle Type Count by Agency'!AX:AX,'Vehicle Type Count by Agency'!$C:$C,\"=\"&$C83)","v":0},{"$f":"SUMIFS('Vehicle Type Count by Agency'!AZ:AZ,'Vehicle Type Count by Agency'!$C:$C,\"=\"&$C83)","v":0},{"$f":"SUMIFS('Vehicle Type Count by Agency'!BB:BB,'Vehicle Type Count by Agency'!$C:$C,\"=\"&$C83)","v":0},{"$f":"SUMIFS('Vehicle Type Count by Agency'!BD:BD,'Vehicle Type Count by Agency'!$C:$C,\"=\"&$C83)","v":7},{"$f":"SUMIFS('Vehicle Type Count by Agency'!BF:BF,'Vehicle Type Count by Agency'!$C:$C,\"=\"&$C83)","v":0},{"$f":"SUMIFS('Vehicle Type Count by Agency'!BH:BH,'Vehicle Type Count by Agency'!$C:$C,\"=\"&$C83)","v":2963}]
[null,null,"RI","Rhode Island",null,{"$f":"SUMIFS('Vehicle Type Count by Agency'!J:J,'Vehicle Type Count by Agency'!$C:$C,\"=\"&$C84)","v":262},{"$f":"SUMIFS('Vehicle Type Count by Agency'!L:L,'Vehicle Type Count by Agency'!$C:$C,\"=\"&$C84)","v":0},{"$f":"SUMIFS('Vehicle Type Count by Agency'!N:N,'Vehicle Type Count by Agency'!$C:$C,\"=\"&$C84)","v":0},{"$f":"SUMIFS('Vehicle Type Count by Agency'!P:P,'Vehicle Type Count by Agency'!$C:$C,\"=\"&$C84)","v":0},{"$f":"SUMIFS('Vehicle Type Count by Agency'!R:R,'Vehicle Type Count by Agency'!$C:$C,\"=\"&$C84)","v":0},{"$f":"SUMIFS('Vehicle Type Count by Agency'!T:T,'Vehicle Type Count by Agency'!$C:$C,\"=\"&$C84)","v":8},{"$f":"SUMIFS('Vehicle Type Count by Agency'!V:V,'Vehicle Type Count by Agency'!$C:$C,\"=\"&$C84)","v":75},{"$f":"SUMIFS('Vehicle Type Count by Agency'!X:X,'Vehicle Type Count by Agency'!$C:$C,\"=\"&$C84)","v":8},{"$f":"SUMIFS('Vehicle Type Count by Agency'!Z:Z,'Vehicle Type Count by Agency'!$C:$C,\"=\"&$C84)","v":0},{"$f":"SUMIFS('Vehicle Type Count by Agency'!AB:AB,'Vehicle Type Count by Agency'!$C:$C,\"=\"&$C84)","v":0},{"$f":"SUMIFS('Vehicle Type Count by Agency'!AD:AD,'Vehicle Type Count by Agency'!$C:$C,\"=\"&$C84)","v":0},{"$f":"SUMIFS('Vehicle Type Count by Agency'!AF:AF,'Vehicle Type Count by Agency'!$C:$C,\"=\"&$C84)","v":0},{"$f":"SUMIFS('Vehicle Type Count by Agency'!AH:AH,'Vehicle Type Count by Agency'!$C:$C,\"=\"&$C84)","v":0},{"$f":"SUMIFS('Vehicle Type Count by Agency'!AJ:AJ,'Vehicle Type Count by Agency'!$C:$C,\"=\"&$C84)","v":0},{"$f":"SUMIFS('Vehicle Type Count by Agency'!AL:AL,'Vehicle Type Count by Agency'!$C:$C,\"=\"&$C84)","v":0},{"$f":"SUMIFS('Vehicle Type Count by Agency'!AN:AN,'Vehicle Type Count by Agency'!$C:$C,\"=\"&$C84)","v":0},{"$f":"SUMIFS('Vehicle Type Count by Agency'!AP:AP,'Vehicle Type Count by Agency'!$C:$C,\"=\"&$C84)","v":0},{"$f":"SUMIFS('Vehicle Type Count by Agency'!AR:AR,'Vehicle Type Count by Agency'!$C:$C,\"=\"&$C84)","v":0},{"$f":"SUMIFS('Vehicle Type Count by Agency'!AT:AT,'Vehicle Type Count by Agency'!$C:$C,\"=\"&$C84)","v":0},{"$f":"SUMIFS('Vehicle Type Count by Agency'!AV:AV,'Vehicle Type Count by Agency'!$C:$C,\"=\"&$C84)","v":0},{"$f":"SUMIFS('Vehicle Type Count by Agency'!AX:AX,'Vehicle Type Count by Agency'!$C:$C,\"=\"&$C84)","v":0},{"$f":"SUMIFS('Vehicle Type Count by Agency'!AZ:AZ,'Vehicle Type Count by Agency'!$C:$C,\"=\"&$C84)","v":0},{"$f":"SUMIFS('Vehicle Type Count by Agency'!BB:BB,'Vehicle Type Count by Agency'!$C:$C,\"=\"&$C84)","v":0},{"$f":"SUMIFS('Vehicle Type Count by Agency'!BD:BD,'Vehicle Type Count by Agency'!$C:$C,\"=\"&$C84)","v":1},{"$f":"SUMIFS('Vehicle Type Count by Agency'!BF:BF,'Vehicle Type Count by Agency'!$C:$C,\"=\"&$C84)","v":0},{"$f":"SUMIFS('Vehicle Type Count by Agency'!BH:BH,'Vehicle Type Count by Agency'!$C:$C,\"=\"&$C84)","v":354}]
[null,null,"SC","South Carolina",null,{"$f":"SUMIFS('Vehicle Type Count by Agency'!J:J,'Vehicle Type Count by Agency'!$C:$C,\"=\"&$C85)","v":271},{"$f":"SUMIFS('Vehicle Type Count by Agency'!L:L,'Vehicle Type Count by Agency'!$C:$C,\"=\"&$C85)","v":2},{"$f":"SUMIFS('Vehicle Type Count by Agency'!N:N,'Vehicle Type Count by Agency'!$C:$C,\"=\"&$C85)","v":11},{"$f":"SUMIFS('Vehicle Type Count by Agency'!P:P,'Vehicle Type Count by Agency'!$C:$C,\"=\"&$C85)","v":0},{"$f":"SUMIFS('Vehicle Type Count by Agency'!R:R,'Vehicle Type Count by Agency'!$C:$C,\"=\"&$C85)","v":1},{"$f":"SUMIFS('Vehicle Type Count by Agency'!T:T,'Vehicle Type Count by Agency'!$C:$C,\"=\"&$C85)","v":35},{"$f":"SUMIFS('Vehicle Type Count by Agency'!V:V,'Vehicle Type Count by Agency'!$C:$C,\"=\"&$C85)","v":347},{"$f":"SUMIFS('Vehicle Type Count by Agency'!X:X,'Vehicle Type Count by Agency'!$C:$C,\"=\"&$C85)","v":2},{"$f":"SUMIFS('Vehicle Type Count by Agency'!Z:Z,'Vehicle Type Count by Agency'!$C:$C,\"=\"&$C85)","v":64},{"$f":"SUMIFS('Vehicle Type Count by Agency'!AB:AB,'Vehicle Type Count by Agency'!$C:$C,\"=\"&$C85)","v":6},{"$f":"SUMIFS('Vehicle Type Count by Agency'!AD:AD,'Vehicle Type Count by Agency'!$C:$C,\"=\"&$C85)","v":0},{"$f":"SUMIFS('Vehicle Type Count by Agency'!AF:AF,'Vehicle Type Count by Agency'!$C:$C,\"=\"&$C85)","v":0},{"$f":"SUMIFS('Vehicle Type Count by Agency'!AH:AH,'Vehicle Type Count by Agency'!$C:$C,\"=\"&$C85)","v":0},{"$f":"SUMIFS('Vehicle Type Count by Agency'!AJ:AJ,'Vehicle Type Count by Agency'!$C:$C,\"=\"&$C85)","v":0},{"$f":"SUMIFS('Vehicle Type Count by Agency'!AL:AL,'Vehicle Type Count by Agency'!$C:$C,\"=\"&$C85)","v":0},{"$f":"SUMIFS('Vehicle Type Count by Agency'!AN:AN,'Vehicle Type Count by Agency'!$C:$C,\"=\"&$C85)","v":0},{"$f":"SUMIFS('Vehicle Type Count by Agency'!AP:AP,'Vehicle Type Count by Agency'!$C:$C,\"=\"&$C85)","v":0},{"$f":"SUMIFS('Vehicle Type Count by Agency'!AR:AR,'Vehicle Type Count by Agency'!$C:$C,\"=\"&$C85)","v":0},{"$f":"SUMIFS('Vehicle Type Count by Agency'!AT:AT,'Vehicle Type Count by Agency'!$C:$C,\"=\"&$C85)","v":0},{"$f":"SUMIFS('Vehicle Type Count by Agency'!AV:AV,'Vehicle Type Count by Agency'!$C:$C,\"=\"&$C85)","v":0},{"$f":"SUMIFS('Vehicle Type Count by Agency'!AX:AX,'Vehicle Type Count by Agency'!$C:$C,\"=\"&$C85)","v":0},{"$f":"SUMIFS('Vehicle Type Count by Agency'!AZ:AZ,'Vehicle Type Count by Agency'!$C:$C,\"=\"&$C85)","v":0},{"$f":"SUMIFS('Vehicle Type Count by Agency'!BB:BB,'Vehicle Type Count by Agency'!$C:$C,\"=\"&$C85)","v":0},{"$f":"SUMIFS('Vehicle Type Count by Agency'!BD:BD,'Vehicle Type Count by Agency'!$C:$C,\"=\"&$C85)","v":0},{"$f":"SUMIFS('Vehicle Type Count by Agency'!BF:BF,'Vehicle Type Count by Agency'!$C:$C,\"=\"&$C85)","v":0},{"$f":"SUMIFS('Vehicle Type Count by Agency'!BH:BH,'Vehicle Type Count by Agency'!$C:$C,\"=\"&$C85)","v":739}]
[null,null,"SD","South Dakota",null,{"$f":"SUMIFS('Vehicle Type Count by Agency'!J:J,'Vehicle Type Count by Agency'!$C:$C,\"=\"&$C86)","v":56},{"$f":"SUMIFS('Vehicle Type Count by Agency'!L:L,'Vehicle Type Count by Agency'!$C:$C,\"=\"&$C86)","v":0},{"$f":"SUMIFS('Vehicle Type Count by Agency'!N:N,'Vehicle Type Count by Agency'!$C:$C,\"=\"&$C86)","v":0},{"$f":"SUMIFS('Vehicle Type Count by Agency'!P:P,'Vehicle Type Count by Agency'!$C:$C,\"=\"&$C86)","v":0},{"$f":"SUMIFS('Vehicle Type Count by Agency'!R:R,'Vehicle Type Count by Agency'!$C:$C,\"=\"&$C86)","v":8},{"$f":"SUMIFS('Vehicle Type Count by Agency'!T:T,'Vehicle Type Count by Agency'!$C:$C,\"=\"&$C86)","v":38},{"$f":"SUMIFS('Vehicle Type Count by Agency'!V:V,'Vehicle Type Count by Agency'!$C:$C,\"=\"&$C86)","v":282},{"$f":"SUMIFS('Vehicle Type Count by Agency'!X:X,'Vehicle Type Count by Agency'!$C:$C,\"=\"&$C86)","v":8},{"$f":"SUMIFS('Vehicle Type Count by Agency'!Z:Z,'Vehicle Type Count by Agency'!$C:$C,\"=\"&$C86)","v":101},{"$f":"SUMIFS('Vehicle Type Count by Agency'!AB:AB,'Vehicle Type Count by Agency'!$C:$C,\"=\"&$C86)","v":8},{"$f":"SUMIFS('Vehicle Type Count by Agency'!AD:AD,'Vehicle Type Count by Agency'!$C:$C,\"=\"&$C86)","v":0},{"$f":"SUMIFS('Vehicle Type Count by Agency'!AF:AF,'Vehicle Type Count by Agency'!$C:$C,\"=\"&$C86)","v":0},{"$f":"SUMIFS('Vehicle Type Count by Agency'!AH:AH,'Vehicle Type Count by Agency'!$C:$C,\"=\"&$C86)","v":0},{"$f":"SUMIFS('Vehicle Type Count by Agency'!AJ:AJ,'Vehicle Type Count by Agency'!$C:$C,\"=\"&$C86)","v":0},{"$f":"SUMIFS('Vehicle Type Count by Agency'!AL:AL,'Vehicle Type Count by Agency'!$C:$C,\"=\"&$C86)","v":0},{"$f":"SUMIFS('Vehicle Type Count by Agency'!AN:AN,'Vehicle Type Count by Agency'!$C:$C,\"=\"&$C86)","v":0},{"$f":"SUMIFS('Vehicle Type Count by Agency'!AP:AP,'Vehicle Type Count by Agency'!$C:$C,\"=\"&$C86)","v":0},{"$f":"SUMIFS('Vehicle Type Count by Agency'!AR:AR,'Vehicle Type Count by Agency'!$C:$C,\"=\"&$C86)","v":0},{"$f":"SUMIFS('Vehicle Type Count by Agency'!AT:AT,'Vehicle Type Count by Agency'!$C:$C,\"=\"&$C86)","v":0},{"$f":"SUMIFS('Vehicle Type Count by Agency'!AV:AV,'Vehicle Type Count by Agency'!$C:$C,\"=\"&$C86)","v":0},{"$f":"SUMIFS('Vehicle Type Count by Agency'!AX:AX,'Vehicle Type Count by Agency'!$C:$C,\"=\"&$C86)","v":0},{"$f":"SUMIFS('Vehicle Type Count by Agency'!AZ:AZ,'Vehicle Type Count by Agency'!$C:$C,\"=\"&$C86)","v":0},{"$f":"SUMIFS('Vehicle Type Count by Agency'!BB:BB,'Vehicle Type Count by Agency'!$C:$C,\"=\"&$C86)","v":0},{"$f":"SUMIFS('Vehicle Type Count by Agency'!BD:BD,'Vehicle Type Count by Agency'!$C:$C,\"=\"&$C86)","v":0},{"$f":"SUMIFS('Vehicle Type Count by Agency'!BF:BF,'Vehicle Type Count by Agency'!$C:$C,\"=\"&$C86)","v":1},{"$f":"SUMIFS('Vehicle Type Count by Agency'!BH:BH,'Vehicle Type Count by Agency'!$C:$C,\"=\"&$C86)","v":502}]
[null,null,"TN","Tennessee",null,{"$f":"SUMIFS('Vehicle Type Count by Agency'!J:J,'Vehicle Type Count by Agency'!$C:$C,\"=\"&$C87)","v":526},{"$f":"SUMIFS('Vehicle Type Count by Agency'!L:L,'Vehicle Type Count by Agency'!$C:$C,\"=\"&$C87)","v":45},{"$f":"SUMIFS('Vehicle Type Count by Agency'!N:N,'Vehicle Type Count by Agency'!$C:$C,\"=\"&$C87)","v":24},{"$f":"SUMIFS('Vehicle Type Count by Agency'!P:P,'Vehicle Type Count by Agency'!$C:$C,\"=\"&$C87)","v":0},{"$f":"SUMIFS('Vehicle Type Count by Agency'!R:R,'Vehicle Type Count by Agency'!$C:$C,\"=\"&$C87)","v":0},{"$f":"SUMIFS('Vehicle Type Count by Agency'!T:T,'Vehicle Type Count by Agency'!$C:$C,\"=\"&$C87)","v":1073},{"$f":"SUMIFS('Vehicle Type Count by Agency'!V:V,'Vehicle Type Count by Agency'!$C:$C,\"=\"&$C87)","v":458},{"$f":"SUMIFS('Vehicle Type Count by Agency'!X:X,'Vehicle Type Count by Agency'!$C:$C,\"=\"&$C87)","v":28},{"$f":"SUMIFS('Vehicle Type Count by Agency'!Z:Z,'Vehicle Type Count by Agency'!$C:$C,\"=\"&$C87)","v":131},{"$f":"SUMIFS('Vehicle Type Count by Agency'!AB:AB,'Vehicle Type Count by Agency'!$C:$C,\"=\"&$C87)","v":0},{"$f":"SUMIFS('Vehicle Type Count by Agency'!AD:AD,'Vehicle Type Count by Agency'!$C:$C,\"=\"&$C87)","v":0},{"$f":"SUMIFS('Vehicle Type Count by Agency'!AF:AF,'Vehicle Type Count by Agency'!$C:$C,\"=\"&$C87)","v":0},{"$f":"SUMIFS('Vehicle Type Count by Agency'!AH:AH,'Vehicle Type Count by Agency'!$C:$C,\"=\"&$C87)","v":4},{"$f":"SUMIFS('Vehicle Type Count by Agency'!AJ:AJ,'Vehicle Type Count by Agency'!$C:$C,\"=\"&$C87)","v":8},{"$f":"SUMIFS('Vehicle Type Count by Agency'!AL:AL,'Vehicle Type Count by Agency'!$C:$C,\"=\"&$C87)","v":0},{"$f":"SUMIFS('Vehicle Type Count by Agency'!AN:AN,'Vehicle Type Count by Agency'!$C:$C,\"=\"&$C87)","v":4},{"$f":"SUMIFS('Vehicle Type Count by Agency'!AP:AP,'Vehicle Type Count by Agency'!$C:$C,\"=\"&$C87)","v":0},{"$f":"SUMIFS('Vehicle Type Count by Agency'!AR:AR,'Vehicle Type Count by Agency'!$C:$C,\"=\"&$C87)","v":0},{"$f":"SUMIFS('Vehicle Type Count by Agency'!AT:AT,'Vehicle Type Count by Agency'!$C:$C,\"=\"&$C87)","v":0},{"$f":"SUMIFS('Vehicle Type Count by Agency'!AV:AV,'Vehicle Type Count by Agency'!$C:$C,\"=\"&$C87)","v":0},{"$f":"SUMIFS('Vehicle Type Count by Agency'!AX:AX,'Vehicle Type Count by Agency'!$C:$C,\"=\"&$C87)","v":0},{"$f":"SUMIFS('Vehicle Type Count by Agency'!AZ:AZ,'Vehicle Type Count by Agency'!$C:$C,\"=\"&$C87)","v":0},{"$f":"SUMIFS('Vehicle Type Count by Agency'!BB:BB,'Vehicle Type Count by Agency'!$C:$C,\"=\"&$C87)","v":2},{"$f":"SUMIFS('Vehicle Type Count by Agency'!BD:BD,'Vehicle Type Count by Agency'!$C:$C,\"=\"&$C87)","v":0},{"$f":"SUMIFS('Vehicle Type Count by Agency'!BF:BF,'Vehicle Type Count by Agency'!$C:$C,\"=\"&$C87)","v":3},{"$f":"SUMIFS('Vehicle Type Count by Agency'!BH:BH,'Vehicle Type Count by Agency'!$C:$C,\"=\"&$C87)","v":2306}]
[null,null,"TX","Texas",null,{"$f":"SUMIFS('Vehicle Type Count by Agency'!J:J,'Vehicle Type Count by Agency'!$C:$C,\"=\"&$C88)","v":3106},{"$f":"SUMIFS('Vehicle Type Count by Agency'!L:L,'Vehicle Type Count by Agency'!$C:$C,\"=\"&$C88)","v":163},{"$f":"SUMIFS('Vehicle Type Count by Agency'!N:N,'Vehicle Type Count by Agency'!$C:$C,\"=\"&$C88)","v":284},{"$f":"SUMIFS('Vehicle Type Count by Agency'!P:P,'Vehicle Type Count by Agency'!$C:$C,\"=\"&$C88)","v":0},{"$f":"SUMIFS('Vehicle Type Count by Agency'!R:R,'Vehicle Type Count by Agency'!$C:$C,\"=\"&$C88)","v":0},{"$f":"SUMIFS('Vehicle Type Count by Agency'!T:T,'Vehicle Type Count by Agency'!$C:$C,\"=\"&$C88)","v":1897},{"$f":"SUMIFS('Vehicle Type Count by Agency'!V:V,'Vehicle Type Count by Agency'!$C:$C,\"=\"&$C88)","v":2474},{"$f":"SUMIFS('Vehicle Type Count by Agency'!X:X,'Vehicle Type Count by Agency'!$C:$C,\"=\"&$C88)","v":699},{"$f":"SUMIFS('Vehicle Type Count by Agency'!Z:Z,'Vehicle Type Count by Agency'!$C:$C,\"=\"&$C88)","v":887},{"$f":"SUMIFS('Vehicle Type Count by Agency'!AB:AB,'Vehicle Type Count by Agency'!$C:$C,\"=\"&$C88)","v":67},{"$f":"SUMIFS('Vehicle Type Count by Agency'!AD:AD,'Vehicle Type Count by Agency'!$C:$C,\"=\"&$C88)","v":0},{"$f":"SUMIFS('Vehicle Type Count by Agency'!AF:AF,'Vehicle Type Count by Agency'!$C:$C,\"=\"&$C88)","v":0},{"$f":"SUMIFS('Vehicle Type Count by Agency'!AH:AH,'Vehicle Type Count by Agency'!$C:$C,\"=\"&$C88)","v":237},{"$f":"SUMIFS('Vehicle Type Count by Agency'!AJ:AJ,'Vehicle Type Count by Agency'!$C:$C,\"=\"&$C88)","v":23},{"$f":"SUMIFS('Vehicle Type Count by Agency'!AL:AL,'Vehicle Type Count by Agency'!$C:$C,\"=\"&$C88)","v":21},{"$f":"SUMIFS('Vehicle Type Count by Agency'!AN:AN,'Vehicle Type Count by Agency'!$C:$C,\"=\"&$C88)","v":9},{"$f":"SUMIFS('Vehicle Type Count by Agency'!AP:AP,'Vehicle Type Count by Agency'!$C:$C,\"=\"&$C88)","v":0},{"$f":"SUMIFS('Vehicle Type Count by Agency'!AR:AR,'Vehicle Type Count by Agency'!$C:$C,\"=\"&$C88)","v":5},{"$f":"SUMIFS('Vehicle Type Count by Agency'!AT:AT,'Vehicle Type Count by Agency'!$C:$C,\"=\"&$C88)","v":4},{"$f":"SUMIFS('Vehicle Type Count by Agency'!AV:AV,'Vehicle Type Count by Agency'!$C:$C,\"=\"&$C88)","v":0},{"$f":"SUMIFS('Vehicle Type Count by Agency'!AX:AX,'Vehicle Type Count by Agency'!$C:$C,\"=\"&$C88)","v":0},{"$f":"SUMIFS('Vehicle Type Count by Agency'!AZ:AZ,'Vehicle Type Count by Agency'!$C:$C,\"=\"&$C88)","v":0},{"$f":"SUMIFS('Vehicle Type Count by Agency'!BB:BB,'Vehicle Type Count by Agency'!$C:$C,\"=\"&$C88)","v":0},{"$f":"SUMIFS('Vehicle Type Count by Agency'!BD:BD,'Vehicle Type Count by Agency'!$C:$C,\"=\"&$C88)","v":0},{"$f":"SUMIFS('Vehicle Type Count by Agency'!BF:BF,'Vehicle Type Count by Agency'!$C:$C,\"=\"&$C88)","v":1},{"$f":"SUMIFS('Vehicle Type Count by Agency'!BH:BH,'Vehicle Type Count by Agency'!$C:$C,\"=\"&$C88)","v":9877}]
[null,null,"UT","Utah",null,{"$f":"SUMIFS('Vehicle Type Count by Agency'!J:J,'Vehicle Type Count by Agency'!$C:$C,\"=\"&$C89)","v":492},{"$f":"SUMIFS('Vehicle Type Count by Agency'!L:L,'Vehicle Type Count by Agency'!$C:$C,\"=\"&$C89)","v":25},{"$f":"SUMIFS('Vehicle Type Count by Agency'!N:N,'Vehicle Type Count by Agency'!$C:$C,\"=\"&$C89)","v":53},{"$f":"SUMIFS('Vehicle Type Count by Agency'!P:P,'Vehicle Type Count by Agency'!$C:$C,\"=\"&$C89)","v":0},{"$f":"SUMIFS('Vehicle Type Count by Agency'!R:R,'Vehicle Type Count by Agency'!$C:$C,\"=\"&$C89)","v":0},{"$f":"SUMIFS('Vehicle Type Count by Agency'!T:T,'Vehicle Type Count by Agency'!$C:$C,\"=\"&$C89)","v":398},{"$f":"SUMIFS('Vehicle Type Count by Agency'!V:V,'Vehicle Type Count by Agency'!$C:$C,\"=\"&$C89)","v":285},{"$f":"SUMIFS('Vehicle Type Count by Agency'!X:X,'Vehicle Type Count by Agency'!$C:$C,\"=\"&$C89)","v":7},{"$f":"SUMIFS('Vehicle Type Count by Agency'!Z:Z,'Vehicle Type Count by Agency'!$C:$C,\"=\"&$C89)","v":19},{"$f":"SUMIFS('Vehicle Type Count by Agency'!AB:AB,'Vehicle Type Count by Agency'!$C:$C,\"=\"&$C89)","v":1},{"$f":"SUMIFS('Vehicle Type Count by Agency'!AD:AD,'Vehicle Type Count by Agency'!$C:$C,\"=\"&$C89)","v":0},{"$f":"SUMIFS('Vehicle Type Count by Agency'!AF:AF,'Vehicle Type Count by Agency'!$C:$C,\"=\"&$C89)","v":0},{"$f":"SUMIFS('Vehicle Type Count by Agency'!AH:AH,'Vehicle Type Count by Agency'!$C:$C,\"=\"&$C89)","v":110},{"$f":"SUMIFS('Vehicle Type Count by Agency'!AJ:AJ,'Vehicle Type Count by Agency'!$C:$C,\"=\"&$C89)","v":51},{"$f":"SUMIFS('Vehicle Type Count by Agency'!AL:AL,'Vehicle Type Count by Agency'!$C:$C,\"=\"&$C89)","v":0},{"$f":"SUMIFS('Vehicle Type Count by Agency'!AN:AN,'Vehicle Type Count by Agency'!$C:$C,\"=\"&$C89)","v":18},{"$f":"SUMIFS('Vehicle Type Count by Agency'!AP:AP,'Vehicle Type Count by Agency'!$C:$C,\"=\"&$C89)","v":0},{"$f":"SUMIFS('Vehicle Type Count by Agency'!AR:AR,'Vehicle Type Count by Agency'!$C:$C,\"=\"&$C89)","v":0},{"$f":"SUMIFS('Vehicle Type Count by Agency'!AT:AT,'Vehicle Type Count by Agency'!$C:$C,\"=\"&$C89)","v":0},{"$f":"SUMIFS('Vehicle Type Count by Agency'!AV:AV,'Vehicle Type Count by Agency'!$C:$C,\"=\"&$C89)","v":0},{"$f":"SUMIFS('Vehicle Type Count by Agency'!AX:AX,'Vehicle Type Count by Agency'!$C:$C,\"=\"&$C89)","v":0},{"$f":"SUMIFS('Vehicle Type Count by Agency'!AZ:AZ,'Vehicle Type Count by Agency'!$C:$C,\"=\"&$C89)","v":0},{"$f":"SUMIFS('Vehicle Type Count by Agency'!BB:BB,'Vehicle Type Count by Agency'!$C:$C,\"=\"&$C89)","v":0},{"$f":"SUMIFS('Vehicle Type Count by Agency'!BD:BD,'Vehicle Type Count by Agency'!$C:$C,\"=\"&$C89)","v":0},{"$f":"SUMIFS('Vehicle Type Count by Agency'!BF:BF,'Vehicle Type Count by Agency'!$C:$C,\"=\"&$C89)","v":0},{"$f":"SUMIFS('Vehicle Type Count by Agency'!BH:BH,'Vehicle Type Count by Agency'!$C:$C,\"=\"&$C89)","v":1459}]
[null,null,"VA","Virginia",null,{"$f":"SUMIFS('Vehicle Type Count by Agency'!J:J,'Vehicle Type Count by Agency'!$C:$C,\"=\"&$C90)","v":1225},{"$f":"SUMIFS('Vehicle Type Count by Agency'!L:L,'Vehicle Type Count by Agency'!$C:$C,\"=\"&$C90)","v":11},{"$f":"SUMIFS('Vehicle Type Count by Agency'!N:N,'Vehicle Type Count by Agency'!$C:$C,\"=\"&$C90)","v":172},{"$f":"SUMIFS('Vehicle Type Count by Agency'!P:P,'Vehicle Type Count by Agency'!$C:$C,\"=\"&$C90)","v":0},{"$f":"SUMIFS('Vehicle Type Count by Agency'!R:R,'Vehicle Type Count by Agency'!$C:$C,\"=\"&$C90)","v":0},{"$f":"SUMIFS('Vehicle Type Count by Agency'!T:T,'Vehicle Type Count by Agency'!$C:$C,\"=\"&$C90)","v":972},{"$f":"SUMIFS('Vehicle Type Count by Agency'!V:V,'Vehicle Type Count by Agency'!$C:$C,\"=\"&$C90)","v":768},{"$f":"SUMIFS('Vehicle Type Count by Agency'!X:X,'Vehicle Type Count by Agency'!$C:$C,\"=\"&$C90)","v":91},{"$f":"SUMIFS('Vehicle Type Count by Agency'!Z:Z,'Vehicle Type Count by Agency'!$C:$C,\"=\"&$C90)","v":146},{"$f":"SUMIFS('Vehicle Type Count by Agency'!AB:AB,'Vehicle Type Count by Agency'!$C:$C,\"=\"&$C90)","v":16},{"$f":"SUMIFS('Vehicle Type Count by Agency'!AD:AD,'Vehicle Type Count by Agency'!$C:$C,\"=\"&$C90)","v":0},{"$f":"SUMIFS('Vehicle Type Count by Agency'!AF:AF,'Vehicle Type Count by Agency'!$C:$C,\"=\"&$C90)","v":0},{"$f":"SUMIFS('Vehicle Type Count by Agency'!AH:AH,'Vehicle Type Count by Agency'!$C:$C,\"=\"&$C90)","v":9},{"$f":"SUMIFS('Vehicle Type Count by Agency'!AJ:AJ,'Vehicle Type Count by Agency'!$C:$C,\"=\"&$C90)","v":100},{"$f":"SUMIFS('Vehicle Type Count by Agency'!AL:AL,'Vehicle Type Count by Agency'!$C:$C,\"=\"&$C90)","v":0},{"$f":"SUMIFS('Vehicle Type Count by Agency'!AN:AN,'Vehicle Type Count by Agency'!$C:$C,\"=\"&$C90)","v":20},{"$f":"SUMIFS('Vehicle Type Count by Agency'!AP:AP,'Vehicle Type Count by Agency'!$C:$C,\"=\"&$C90)","v":0},{"$f":"SUMIFS('Vehicle Type Count by Agency'!AR:AR,'Vehicle Type Count by Agency'!$C:$C,\"=\"&$C90)","v":0},{"$f":"SUMIFS('Vehicle Type Count by Agency'!AT:AT,'Vehicle Type Count by Agency'!$C:$C,\"=\"&$C90)","v":0},{"$f":"SUMIFS('Vehicle Type Count by Agency'!AV:AV,'Vehicle Type Count by Agency'!$C:$C,\"=\"&$C90)","v":0},{"$f":"SUMIFS('Vehicle Type Count by Agency'!AX:AX,'Vehicle Type Count by Agency'!$C:$C,\"=\"&$C90)","v":0},{"$f":"SUMIFS('Vehicle Type Count by Agency'!AZ:AZ,'Vehicle Type Count by Agency'!$C:$C,\"=\"&$C90)","v":0},{"$f":"SUMIFS('Vehicle Type Count by Agency'!BB:BB,'Vehicle Type Count by Agency'!$C:$C,\"=\"&$C90)","v":0},{"$f":"SUMIFS('Vehicle Type Count by Agency'!BD:BD,'Vehicle Type Count by Agency'!$C:$C,\"=\"&$C90)","v":4},{"$f":"SUMIFS('Vehicle Type Count by Agency'!BF:BF,'Vehicle Type Count by Agency'!$C:$C,\"=\"&$C90)","v":0},{"$f":"SUMIFS('Vehicle Type Count by Agency'!BH:BH,'Vehicle Type Count by Agency'!$C:$C,\"=\"&$C90)","v":3534}]
[null,null,"VI","Virgin Islands",null,{"$f":"SUMIFS('Vehicle Type Count by Agency'!J:J,'Vehicle Type Count by Agency'!$C:$C,\"=\"&$C91)","v":3},{"$f":"SUMIFS('Vehicle Type Count by Agency'!L:L,'Vehicle Type Count by Agency'!$C:$C,\"=\"&$C91)","v":0},{"$f":"SUMIFS('Vehicle Type Count by Agency'!N:N,'Vehicle Type Count by Agency'!$C:$C,\"=\"&$C91)","v":0},{"$f":"SUMIFS('Vehicle Type Count by Agency'!P:P,'Vehicle Type Count by Agency'!$C:$C,\"=\"&$C91)","v":0},{"$f":"SUMIFS('Vehicle Type Count by Agency'!R:R,'Vehicle Type Count by Agency'!$C:$C,\"=\"&$C91)","v":0},{"$f":"SUMIFS('Vehicle Type Count by Agency'!T:T,'Vehicle Type Count by Agency'!$C:$C,\"=\"&$C91)","v":19},{"$f":"SUMIFS('Vehicle Type Count by Agency'!V:V,'Vehicle Type Count by Agency'!$C:$C,\"=\"&$C91)","v":5},{"$f":"SUMIFS('Vehicle Type Count by Agency'!X:X,'Vehicle Type Count by Agency'!$C:$C,\"=\"&$C91)","v":0},{"$f":"SUMIFS('Vehicle Type Count by Agency'!Z:Z,'Vehicle Type Count by Agency'!$C:$C,\"=\"&$C91)","v":0},{"$f":"SUMIFS('Vehicle Type Count by Agency'!AB:AB,'Vehicle Type Count by Agency'!$C:$C,\"=\"&$C91)","v":0},{"$f":"SUMIFS('Vehicle Type Count by Agency'!AD:AD,'Vehicle Type Count by Agency'!$C:$C,\"=\"&$C91)","v":0},{"$f":"SUMIFS('Vehicle Type Count by Agency'!AF:AF,'Vehicle Type Count by Agency'!$C:$C,\"=\"&$C91)","v":0},{"$f":"SUMIFS('Vehicle Type Count by Agency'!AH:AH,'Vehicle Type Count by Agency'!$C:$C,\"=\"&$C91)","v":0},{"$f":"SUMIFS('Vehicle Type Count by Agency'!AJ:AJ,'Vehicle Type Count by Agency'!$C:$C,\"=\"&$C91)","v":0},{"$f":"SUMIFS('Vehicle Type Count by Agency'!AL:AL,'Vehicle Type Count by Agency'!$C:$C,\"=\"&$C91)","v":0},{"$f":"SUMIFS('Vehicle Type Count by Agency'!AN:AN,'Vehicle Type Count by Agency'!$C:$C,\"=\"&$C91)","v":0},{"$f":"SUMIFS('Vehicle Type Count by Agency'!AP:AP,'Vehicle Type Count by Agency'!$C:$C,\"=\"&$C91)","v":0},{"$f":"SUMIFS('Vehicle Type Count by Agency'!AR:AR,'Vehicle Type Count by Agency'!$C:$C,\"=\"&$C91)","v":0},{"$f":"SUMIFS('Vehicle Type Count by Agency'!AT:AT,'Vehicle Type Count by Agency'!$C:$C,\"=\"&$C91)","v":0},{"$f":"SUMIFS('Vehicle Type Count by Agency'!AV:AV,'Vehicle Type Count by Agency'!$C:$C,\"=\"&$C91)","v":0},{"$f":"SUMIFS('Vehicle Type Count by Agency'!AX:AX,'Vehicle Type Count by Agency'!$C:$C,\"=\"&$C91)","v":0},{"$f":"SUMIFS('Vehicle Type Count by Agency'!AZ:AZ,'Vehicle Type Count by Agency'!$C:$C,\"=\"&$C91)","v":0},{"$f":"SUMIFS('Vehicle Type Count by Agency'!BB:BB,'Vehicle Type Count by Agency'!$C:$C,\"=\"&$C91)","v":0},{"$f":"SUMIFS('Vehicle Type Count by Agency'!BD:BD,'Vehicle Type Count by Agency'!$C:$C,\"=\"&$C91)","v":0},{"$f":"SUMIFS('Vehicle Type Count by Agency'!BF:BF,'Vehicle Type Count by Agency'!$C:$C,\"=\"&$C91)","v":0},{"$f":"SUMIFS('Vehicle Type Count by Agency'!BH:BH,'Vehicle Type Count by Agency'!$C:$C,\"=\"&$C91)","v":27}]
[null,null,"VT","Vermont",null,{"$f":"SUMIFS('Vehicle Type Count by Agency'!J:J,'Vehicle Type Count by Agency'!$C:$C,\"=\"&$C92)","v":115},{"$f":"SUMIFS('Vehicle Type Count by Agency'!L:L,'Vehicle Type Count by Agency'!$C:$C,\"=\"&$C92)","v":0},{"$f":"SUMIFS('Vehicle Type Count by Agency'!N:N,'Vehicle Type Count by Agency'!$C:$C,\"=\"&$C92)","v":13},{"$f":"SUMIFS('Vehicle Type Count by Agency'!P:P,'Vehicle Type Count by Agency'!$C:$C,\"=\"&$C92)","v":0},{"$f":"SUMIFS('Vehicle Type Count by Agency'!R:R,'Vehicle Type Count by Agency'!$C:$C,\"=\"&$C92)","v":0},{"$f":"SUMIFS('Vehicle Type Count by Agency'!T:T,'Vehicle Type Count by Agency'!$C:$C,\"=\"&$C92)","v":5},{"$f":"SUMIFS('Vehicle Type Count by Agency'!V:V,'Vehicle Type Count by Agency'!$C:$C,\"=\"&$C92)","v":243},{"$f":"SUMIFS('Vehicle Type Count by Agency'!X:X,'Vehicle Type Count by Agency'!$C:$C,\"=\"&$C92)","v":21},{"$f":"SUMIFS('Vehicle Type Count by Agency'!Z:Z,'Vehicle Type Count by Agency'!$C:$C,\"=\"&$C92)","v":14},{"$f":"SUMIFS('Vehicle Type Count by Agency'!AB:AB,'Vehicle Type Count by Agency'!$C:$C,\"=\"&$C92)","v":0},{"$f":"SUMIFS('Vehicle Type Count by Agency'!AD:AD,'Vehicle Type Count by Agency'!$C:$C,\"=\"&$C92)","v":0},{"$f":"SUMIFS('Vehicle Type Count by Agency'!AF:AF,'Vehicle Type Count by Agency'!$C:$C,\"=\"&$C92)","v":0},{"$f":"SUMIFS('Vehicle Type Count by Agency'!AH:AH,'Vehicle Type Count by Agency'!$C:$C,\"=\"&$C92)","v":0},{"$f":"SUMIFS('Vehicle Type Count by Agency'!AJ:AJ,'Vehicle Type Count by Agency'!$C:$C,\"=\"&$C92)","v":0},{"$f":"SUMIFS('Vehicle Type Count by Agency'!AL:AL,'Vehicle Type Count by Agency'!$C:$C,\"=\"&$C92)","v":0},{"$f":"SUMIFS('Vehicle Type Count by Agency'!AN:AN,'Vehicle Type Count by Agency'!$C:$C,\"=\"&$C92)","v":0},{"$f":"SUMIFS('Vehicle Type Count by Agency'!AP:AP,'Vehicle Type Count by Agency'!$C:$C,\"=\"&$C92)","v":0},{"$f":"SUMIFS('Vehicle Type Count by Agency'!AR:AR,'Vehicle Type Count by Agency'!$C:$C,\"=\"&$C92)","v":0},{"$f":"SUMIFS('Vehicle Type Count by Agency'!AT:AT,'Vehicle Type Count by Agency'!$C:$C,\"=\"&$C92)","v":0},{"$f":"SUMIFS('Vehicle Type Count by Agency'!AV:AV,'Vehicle Type Count by Agency'!$C:$C,\"=\"&$C92)","v":0},{"$f":"SUMIFS('Vehicle Type Count by Agency'!AX:AX,'Vehicle Type Count by Agency'!$C:$C,\"=\"&$C92)","v":0},{"$f":"SUMIFS('Vehicle Type Count by Agency'!AZ:AZ,'Vehicle Type Count by Agency'!$C:$C,\"=\"&$C92)","v":0},{"$f":"SUMIFS('Vehicle Type Count by Agency'!BB:BB,'Vehicle Type Count by Agency'!$C:$C,\"=\"&$C92)","v":0},{"$f":"SUMIFS('Vehicle Type Count by Agency'!BD:BD,'Vehicle Type Count by Agency'!$C:$C,\"=\"&$C92)","v":0},{"$f":"SUMIFS('Vehicle Type Count by Agency'!BF:BF,'Vehicle Type Count by Agency'!$C:$C,\"=\"&$C92)","v":0},{"$f":"SUMIFS('Vehicle Type Count by Agency'!BH:BH,'Vehicle Type Count by Agency'!$C:$C,\"=\"&$C92)","v":411}]
[null,null,"WA","Washington",null,{"$f":"SUMIFS('Vehicle Type Count by Agency'!J:J,'Vehicle Type Count by Agency'!$C:$C,\"=\"&$C93)","v":1739},{"$f":"SUMIFS('Vehicle Type Count by Agency'!L:L,'Vehicle Type Count by Agency'!$C:$C,\"=\"&$C93)","v":1172},{"$f":"SUMIFS('Vehicle Type Count by Agency'!N:N,'Vehicle Type Count by Agency'!$C:$C,\"=\"&$C93)","v":96},{"$f":"SUMIFS('Vehicle Type Count by Agency'!P:P,'Vehicle Type Count by Agency'!$C:$C,\"=\"&$C93)","v":99},{"$f":"SUMIFS('Vehicle Type Count by Agency'!R:R,'Vehicle Type Count by Agency'!$C:$C,\"=\"&$C93)","v":0},{"$f":"SUMIFS('Vehicle Type Count by Agency'!T:T,'Vehicle Type Count by Agency'!$C:$C,\"=\"&$C93)","v":2395},{"$f":"SUMIFS('Vehicle Type Count by Agency'!V:V,'Vehicle Type Count by Agency'!$C:$C,\"=\"&$C93)","v":1353},{"$f":"SUMIFS('Vehicle Type Count by Agency'!X:X,'Vehicle Type Count by Agency'!$C:$C,\"=\"&$C93)","v":66},{"$f":"SUMIFS('Vehicle Type Count by Agency'!Z:Z,'Vehicle Type Count by Agency'!$C:$C,\"=\"&$C93)","v":1729},{"$f":"SUMIFS('Vehicle Type Count by Agency'!AB:AB,'Vehicle Type Count by Agency'!$C:$C,\"=\"&$C93)","v":9},{"$f":"SUMIFS('Vehicle Type Count by Agency'!AD:AD,'Vehicle Type Count by Agency'!$C:$C,\"=\"&$C93)","v":174},{"$f":"SUMIFS('Vehicle Type Count by Agency'!AF:AF,'Vehicle Type Count by Agency'!$C:$C,\"=\"&$C93)","v":0},{"$f":"SUMIFS('Vehicle Type Count by Agency'!AH:AH,'Vehicle Type Count by Agency'!$C:$C,\"=\"&$C93)","v":65},{"$f":"SUMIFS('Vehicle Type Count by Agency'!AJ:AJ,'Vehicle Type Count by Agency'!$C:$C,\"=\"&$C93)","v":67},{"$f":"SUMIFS('Vehicle Type Count by Agency'!AL:AL,'Vehicle Type Count by Agency'!$C:$C,\"=\"&$C93)","v":0},{"$f":"SUMIFS('Vehicle Type Count by Agency'!AN:AN,'Vehicle Type Count by Agency'!$C:$C,\"=\"&$C93)","v":14},{"$f":"SUMIFS('Vehicle Type Count by Agency'!AP:AP,'Vehicle Type Count by Agency'!$C:$C,\"=\"&$C93)","v":0},{"$f":"SUMIFS('Vehicle Type Count by Agency'!AR:AR,'Vehicle Type Count by Agency'!$C:$C,\"=\"&$C93)","v":0},{"$f":"SUMIFS('Vehicle Type Count by Agency'!AT:AT,'Vehicle Type Count by Agency'!$C:$C,\"=\"&$C93)","v":10},{"$f":"SUMIFS('Vehicle Type Count by Agency'!AV:AV,'Vehicle Type Count by Agency'!$C:$C,\"=\"&$C93)","v":0},{"$f":"SUMIFS('Vehicle Type Count by Agency'!AX:AX,'Vehicle Type Count by Agency'!$C:$C,\"=\"&$C93)","v":8},{"$f":"SUMIFS('Vehicle Type Count by Agency'!AZ:AZ,'Vehicle Type Count by Agency'!$C:$C,\"=\"&$C93)","v":0},{"$f":"SUMIFS('Vehicle Type Count by Agency'!BB:BB,'Vehicle Type Count by Agency'!$C:$C,\"=\"&$C93)","v":0},{"$f":"SUMIFS('Vehicle Type Count by Agency'!BD:BD,'Vehicle Type Count by Agency'!$C:$C,\"=\"&$C93)","v":34},{"$f":"SUMIFS('Vehicle Type Count by Agency'!BF:BF,'Vehicle Type Count by Agency'!$C:$C,\"=\"&$C93)","v":2},{"$f":"SUMIFS('Vehicle Type Count by Agency'!BH:BH,'Vehicle Type Count by Agency'!$C:$C,\"=\"&$C93)","v":9032}]
[null,null,"WI","Wisconsin",null,{"$f":"SUMIFS('Vehicle Type Count by Agency'!J:J,'Vehicle Type Count by Agency'!$C:$C,\"=\"&$C94)","v":1071},{"$f":"SUMIFS('Vehicle Type Count by Agency'!L:L,'Vehicle Type Count by Agency'!$C:$C,\"=\"&$C94)","v":0},{"$f":"SUMIFS('Vehicle Type Count by Agency'!N:N,'Vehicle Type Count by Agency'!$C:$C,\"=\"&$C94)","v":13},{"$f":"SUMIFS('Vehicle Type Count by Agency'!P:P,'Vehicle Type Count by Agency'!$C:$C,\"=\"&$C94)","v":0},{"$f":"SUMIFS('Vehicle Type Count by Agency'!R:R,'Vehicle Type Count by Agency'!$C:$C,\"=\"&$C94)","v":9},{"$f":"SUMIFS('Vehicle Type Count by Agency'!T:T,'Vehicle Type Count by Agency'!$C:$C,\"=\"&$C94)","v":373},{"$f":"SUMIFS('Vehicle Type Count by Agency'!V:V,'Vehicle Type Count by Agency'!$C:$C,\"=\"&$C94)","v":693},{"$f":"SUMIFS('Vehicle Type Count by Agency'!X:X,'Vehicle Type Count by Agency'!$C:$C,\"=\"&$C94)","v":107},{"$f":"SUMIFS('Vehicle Type Count by Agency'!Z:Z,'Vehicle Type Count by Agency'!$C:$C,\"=\"&$C94)","v":610},{"$f":"SUMIFS('Vehicle Type Count by Agency'!AB:AB,'Vehicle Type Count by Agency'!$C:$C,\"=\"&$C94)","v":0},{"$f":"SUMIFS('Vehicle Type Count by Agency'!AD:AD,'Vehicle Type Count by Agency'!$C:$C,\"=\"&$C94)","v":0},{"$f":"SUMIFS('Vehicle Type Count by Agency'!AF:AF,'Vehicle Type Count by Agency'!$C:$C,\"=\"&$C94)","v":0},{"$f":"SUMIFS('Vehicle Type Count by Agency'!AH:AH,'Vehicle Type Count by Agency'!$C:$C,\"=\"&$C94)","v":0},{"$f":"SUMIFS('Vehicle Type Count by Agency'!AJ:AJ,'Vehicle Type Count by Agency'!$C:$C,\"=\"&$C94)","v":0},{"$f":"SUMIFS('Vehicle Type Count by Agency'!AL:AL,'Vehicle Type Count by Agency'!$C:$C,\"=\"&$C94)","v":0},{"$f":"SUMIFS('Vehicle Type Count by Agency'!AN:AN,'Vehicle Type Count by Agency'!$C:$C,\"=\"&$C94)","v":0},{"$f":"SUMIFS('Vehicle Type Count by Agency'!AP:AP,'Vehicle Type Count by Agency'!$C:$C,\"=\"&$C94)","v":0},{"$f":"SUMIFS('Vehicle Type Count by Agency'!AR:AR,'Vehicle Type Count by Agency'!$C:$C,\"=\"&$C94)","v":7},{"$f":"SUMIFS('Vehicle Type Count by Agency'!AT:AT,'Vehicle Type Count by Agency'!$C:$C,\"=\"&$C94)","v":5},{"$f":"SUMIFS('Vehicle Type Count by Agency'!AV:AV,'Vehicle Type Count by Agency'!$C:$C,\"=\"&$C94)","v":0},{"$f":"SUMIFS('Vehicle Type Count by Agency'!AX:AX,'Vehicle Type Count by Agency'!$C:$C,\"=\"&$C94)","v":0},{"$f":"SUMIFS('Vehicle Type Count by Agency'!AZ:AZ,'Vehicle Type Count by Agency'!$C:$C,\"=\"&$C94)","v":0},{"$f":"SUMIFS('Vehicle Type Count by Agency'!BB:BB,'Vehicle Type Count by Agency'!$C:$C,\"=\"&$C94)","v":0},{"$f":"SUMIFS('Vehicle Type Count by Agency'!BD:BD,'Vehicle Type Count by Agency'!$C:$C,\"=\"&$C94)","v":0},{"$f":"SUMIFS('Vehicle Type Count by Agency'!BF:BF,'Vehicle Type Count by Agency'!$C:$C,\"=\"&$C94)","v":0},{"$f":"SUMIFS('Vehicle Type Count by Agency'!BH:BH,'Vehicle Type Count by Agency'!$C:$C,\"=\"&$C94)","v":2888}]
[null,null,"WV","West Virginia",null,{"$f":"SUMIFS('Vehicle Type Count by Agency'!J:J,'Vehicle Type Count by Agency'!$C:$C,\"=\"&$C95)","v":210},{"$f":"SUMIFS('Vehicle Type Count by Agency'!L:L,'Vehicle Type Count by Agency'!$C:$C,\"=\"&$C95)","v":0},{"$f":"SUMIFS('Vehicle Type Count by Agency'!N:N,'Vehicle Type Count by Agency'!$C:$C,\"=\"&$C95)","v":0},{"$f":"SUMIFS('Vehicle Type Count by Agency'!P:P,'Vehicle Type Count by Agency'!$C:$C,\"=\"&$C95)","v":0},{"$f":"SUMIFS('Vehicle Type Count by Agency'!R:R,'Vehicle Type Count by Agency'!$C:$C,\"=\"&$C95)","v":0},{"$f":"SUMIFS('Vehicle Type Count by Agency'!T:T,'Vehicle Type Count by Agency'!$C:$C,\"=\"&$C95)","v":71},{"$f":"SUMIFS('Vehicle Type Count by Agency'!V:V,'Vehicle Type Count by Agency'!$C:$C,\"=\"&$C95)","v":190},{"$f":"SUMIFS('Vehicle Type Count by Agency'!X:X,'Vehicle Type Count by Agency'!$C:$C,\"=\"&$C95)","v":2},{"$f":"SUMIFS('Vehicle Type Count by Agency'!Z:Z,'Vehicle Type Count by Agency'!$C:$C,\"=\"&$C95)","v":86},{"$f":"SUMIFS('Vehicle Type Count by Agency'!AB:AB,'Vehicle Type Count by Agency'!$C:$C,\"=\"&$C95)","v":6},{"$f":"SUMIFS('Vehicle Type Count by Agency'!AD:AD,'Vehicle Type Count by Agency'!$C:$C,\"=\"&$C95)","v":0},{"$f":"SUMIFS('Vehicle Type Count by Agency'!AF:AF,'Vehicle Type Count by Agency'!$C:$C,\"=\"&$C95)","v":0},{"$f":"SUMIFS('Vehicle Type Count by Agency'!AH:AH,'Vehicle Type Count by Agency'!$C:$C,\"=\"&$C95)","v":0},{"$f":"SUMIFS('Vehicle Type Count by Agency'!AJ:AJ,'Vehicle Type Count by Agency'!$C:$C,\"=\"&$C95)","v":0},{"$f":"SUMIFS('Vehicle Type Count by Agency'!AL:AL,'Vehicle Type Count by Agency'!$C:$C,\"=\"&$C95)","v":0},{"$f":"SUMIFS('Vehicle Type Count by Agency'!AN:AN,'Vehicle Type Count by Agency'!$C:$C,\"=\"&$C95)","v":0},{"$f":"SUMIFS('Vehicle Type Count by Agency'!AP:AP,'Vehicle Type Count by Agency'!$C:$C,\"=\"&$C95)","v":69},{"$f":"SUMIFS('Vehicle Type Count by Agency'!AR:AR,'Vehicle Type Count by Agency'!$C:$C,\"=\"&$C95)","v":0},{"$f":"SUMIFS('Vehicle Type Count by Agency'!AT:AT,'Vehicle Type Count by Agency'!$C:$C,\"=\"&$C95)","v":0},{"$f":"SUMIFS('Vehicle Type Count by Agency'!AV:AV,'Vehicle Type Count by Agency'!$C:$C,\"=\"&$C95)","v":0},{"$f":"SUMIFS('Vehicle Type Count by Agency'!AX:AX,'Vehicle Type Count by Agency'!$C:$C,\"=\"&$C95)","v":0},{"$f":"SUMIFS('Vehicle Type Count by Agency'!AZ:AZ,'Vehicle Type Count by Agency'!$C:$C,\"=\"&$C95)","v":0},{"$f":"SUMIFS('Vehicle Type Count by Agency'!BB:BB,'Vehicle Type Count by Agency'!$C:$C,\"=\"&$C95)","v":0},{"$f":"SUMIFS('Vehicle Type Count by Agency'!BD:BD,'Vehicle Type Count by Agency'!$C:$C,\"=\"&$C95)","v":1},{"$f":"SUMIFS('Vehicle Type Count by Agency'!BF:BF,'Vehicle Type Count by Agency'!$C:$C,\"=\"&$C95)","v":0},{"$f":"SUMIFS('Vehicle Type Count by Agency'!BH:BH,'Vehicle Type Count by Agency'!$C:$C,\"=\"&$C95)","v":635}]
[null,null,"WY","Wyoming",null,{"$f":"SUMIFS('Vehicle Type Count by Agency'!J:J,'Vehicle Type Count by Agency'!$C:$C,\"=\"&$C96)","v":66},{"$f":"SUMIFS('Vehicle Type Count by Agency'!L:L,'Vehicle Type Count by Agency'!$C:$C,\"=\"&$C96)","v":0},{"$f":"SUMIFS('Vehicle Type Count by Agency'!N:N,'Vehicle Type Count by Agency'!$C:$C,\"=\"&$C96)","v":1},{"$f":"SUMIFS('Vehicle Type Count by Agency'!P:P,'Vehicle Type Count by Agency'!$C:$C,\"=\"&$C96)","v":0},{"$f":"SUMIFS('Vehicle Type Count by Agency'!R:R,'Vehicle Type Count by Agency'!$C:$C,\"=\"&$C96)","v":0},{"$f":"SUMIFS('Vehicle Type Count by Agency'!T:T,'Vehicle Type Count by Agency'!$C:$C,\"=\"&$C96)","v":18},{"$f":"SUMIFS('Vehicle Type Count by Agency'!V:V,'Vehicle Type Count by Agency'!$C:$C,\"=\"&$C96)","v":103},{"$f":"SUMIFS('Vehicle Type Count by Agency'!X:X,'Vehicle Type Count by Agency'!$C:$C,\"=\"&$C96)","v":7},{"$f":"SUMIFS('Vehicle Type Count by Agency'!Z:Z,'Vehicle Type Count by Agency'!$C:$C,\"=\"&$C96)","v":90},{"$f":"SUMIFS('Vehicle Type Count by Agency'!AB:AB,'Vehicle Type Count by Agency'!$C:$C,\"=\"&$C96)","v":3},{"$f":"SUMIFS('Vehicle Type Count by Agency'!AD:AD,'Vehicle Type Count by Agency'!$C:$C,\"=\"&$C96)","v":0},{"$f":"SUMIFS('Vehicle Type Count by Agency'!AF:AF,'Vehicle Type Count by Agency'!$C:$C,\"=\"&$C96)","v":0},{"$f":"SUMIFS('Vehicle Type Count by Agency'!AH:AH,'Vehicle Type Count by Agency'!$C:$C,\"=\"&$C96)","v":0},{"$f":"SUMIFS('Vehicle Type Count by Agency'!AJ:AJ,'Vehicle Type Count by Agency'!$C:$C,\"=\"&$C96)","v":0},{"$f":"SUMIFS('Vehicle Type Count by Agency'!AL:AL,'Vehicle Type Count by Agency'!$C:$C,\"=\"&$C96)","v":0},{"$f":"SUMIFS('Vehicle Type Count by Agency'!AN:AN,'Vehicle Type Count by Agency'!$C:$C,\"=\"&$C96)","v":0},{"$f":"SUMIFS('Vehicle Type Count by Agency'!AP:AP,'Vehicle Type Count by Agency'!$C:$C,\"=\"&$C96)","v":0},{"$f":"SUMIFS('Vehicle Type Count by Agency'!AR:AR,'Vehicle Type Count by Agency'!$C:$C,\"=\"&$C96)","v":0},{"$f":"SUMIFS('Vehicle Type Count by Agency'!AT:AT,'Vehicle Type Count by Agency'!$C:$C,\"=\"&$C96)","v":0},{"$f":"SUMIFS('Vehicle Type Count by Agency'!AV:AV,'Vehicle Type Count by Agency'!$C:$C,\"=\"&$C96)","v":0},{"$f":"SUMIFS('Vehicle Type Count by Agency'!AX:AX,'Vehicle Type Count by Agency'!$C:$C,\"=\"&$C96)","v":0},{"$f":"SUMIFS('Vehicle Type Count by Agency'!AZ:AZ,'Vehicle Type Count by Agency'!$C:$C,\"=\"&$C96)","v":0},{"$f":"SUMIFS('Vehicle Type Count by Agency'!BB:BB,'Vehicle Type Count by Agency'!$C:$C,\"=\"&$C96)","v":0},{"$f":"SUMIFS('Vehicle Type Count by Agency'!BD:BD,'Vehicle Type Count by Agency'!$C:$C,\"=\"&$C96)","v":0},{"$f":"SUMIFS('Vehicle Type Count by Agency'!BF:BF,'Vehicle Type Count by Agency'!$C:$C,\"=\"&$C96)","v":0},{"$f":"SUMIFS('Vehicle Type Count by Agency'!BH:BH,'Vehicle Type Count by Agency'!$C:$C,\"=\"&$C96)","v":288}]
[]
[]
[]
[]
["Bus",{"$f":"TRANSPOSE(F19:AD19)","v":8534}]
["Articulated Bus",62]
["Over-the-road Bus",258]
["Double Decker Bus",10]
["School Bus",93]
["Van",6473]
["Cutaway",19192]
["Automobile",808]
["Minivan",6105]
["Sports Utility Vehicle",367]
["Trolleybus",0]
["Heavy Rail Passenger Car",0]
["Light Rail Vehicle",0]
["Commuter Rail Passenger Coach",0]
["Commuter Rail Self-Propelled Passenger Car",0]
["Locomotive",0]
["Automated Guideway Vehicle",69]
["Vintage/ Historic Trolley",7]
["Streetcar",0]
["Aerial Tramway",68]
["Monorail",0]
["Cable Car",0]
["Inclined Plane",2]
["Ferryboat",24]
["Other",33]
[]
[]
["Bus",{"$f":"TRANSPOSE(F35:AD35)","v":1054}]
["Articulated Bus",12]
["Over-the-road Bus",77]
["Double Decker Bus",0]
["School Bus",10]
["Van",1338]
["Cutaway",5129]
["Automobile",369]
["Minivan",2026]
["Sports Utility Vehicle",93]
["Trolleybus",0]
["Heavy Rail Passenger Car",0]
["Light Rail Vehicle",0]
["Commuter Rail Passenger Coach",0]
["Commuter Rail Self-Propelled Passenger Car",0]
["Locomotive",0]
["Automated Guideway Vehicle",0]
["Vintage/ Historic Trolley",5]
["Streetcar",21]
["Aerial Tramway",0]
["Monorail",8]
["Cable Car",0]
["Inclined Plane",0]
["Ferryboat",43]
["Other",5]

{"sheet":"Summary Tables Useful Life","index":6,"n_rows":179,"n_cols":31,"rows_kept":179,"cut":false,"hidden":false,"merged":[]}
["To bring up the accessible control panel, press ctrl + d. Some screen reading functionality will not work while the sheet is protected. To unprotect the sheet press alt h o p and enter the password ntd.",null,null,null,null,"National Totals"]
[null,null,null,null,null,"Percent of Active Vehicles Beyond their Useful Life by Vehicle Type"]
[null,null,null,null,null,"Bus","Articulated Bus","Over-the-road Bus","Double Decker Bus","School Bus","Van","Cutaway","Automobile","Minivan","Sports Utility Vehicle","Trolleybus","Heavy Rail Passenger Car","Light Rail Vehicle","Commuter Rail Passenger Coach","Commuter Rail Self-Propelled Passenger Car","Locomotive","Automated Guideway Vehicle","Vintage/ Historic Trolley","Streetcar","Aerial Tramway","Monorail","Cable Car","Inclined Plane","Ferryboat","Other","Total"]
[null,null,null,null,null,{"$f":"IFERROR(SUM('Vehicle Type Count by Agency'!K:K)/SUM('Vehicle Type Count by Agency'!J:J),\"-\")","v":0.17196803089631496},{"$f":"IFERROR(SUM('Vehicle Type Count by Agency'!M:M)/SUM('Vehicle Type Count by Agency'!L:L),\"-\")","v":0.18553791887125221},{"$f":"IFERROR(SUM('Vehicle Type Count by Agency'!O:O)/SUM('Vehicle Type Count by Agency'!N:N),\"-\")","v":0.28287255563047875},{"$f":"IFERROR(SUM('Vehicle Type Count by Agency'!Q:Q)/SUM('Vehicle Type Count by Agency'!P:P),\"-\")","v":1.3100436681222707E-2},{"$f":"IFERROR(SUM('Vehicle Type Count by Agency'!S:S)/SUM('Vehicle Type Count by Agency'!R:R),\"-\")","v":0.39393939393939392},{"$f":"IFERROR(SUM('Vehicle Type Count by Agency'!U:U)/SUM('Vehicle Type Count by Agency'!T:T),\"-\")","v":0.16159784030033322},{"$f":"IFERROR(SUM('Vehicle Type Count by Agency'!W:W)/SUM('Vehicle Type Count by Agency'!V:V),\"-\")","v":0.21316114426836796},{"$f":"IFERROR(SUM('Vehicle Type Count by Agency'!Y:Y)/SUM('Vehicle Type Count by Agency'!X:X),\"-\")","v":6.4528951901417789E-2},{"$f":"IFERROR(SUM('Vehicle Type Count by Agency'!AA:AA)/SUM('Vehicle Type Count by Agency'!Z:Z),\"-\")","v":0.20479985672069489},{"$f":"IFERROR(SUM('Vehicle Type Count by Agency'!AC:AC)/SUM('Vehicle Type Count by Agency'!AB:AB),\"-\")","v":8.0966767371601203E-2},{"$f":"IFERROR(SUM('Vehicle Type Count by Agency'!AE:AE)/SUM('Vehicle Type Count by Agency'!AD:AD),\"-\")","v":0.43959731543624159},{"$f":"IFERROR(SUM('Vehicle Type Count by Agency'!AG:AG)/SUM('Vehicle Type Count by Agency'!AF:AF),\"-\")","v":0.12672384796501851},{"$f":"IFERROR(SUM('Vehicle Type Count by Agency'!AI:AI)/SUM('Vehicle Type Count by Agency'!AH:AH),\"-\")","v":8.9347079037800689E-2},{"$f":"IFERROR(SUM('Vehicle Type Count by Agency'!AK:AK)/SUM('Vehicle Type Count by Agency'!AJ:AJ),\"-\")","v":0.21276595744680851},{"$f":"IFERROR(SUM('Vehicle Type Count by Agency'!AM:AM)/SUM('Vehicle Type Count by Agency'!AL:AL),\"-\")","v":0.19121915820029028},{"$f":"IFERROR(SUM('Vehicle Type Count by Agency'!AO:AO)/SUM('Vehicle Type Count by Agency'!AN:AN),\"-\")","v":0.18452380952380953},{"$f":"IFERROR(SUM('Vehicle Type Count by Agency'!AQ:AQ)/SUM('Vehicle Type Count by Agency'!AP:AP),\"-\")","v":0},{"$f":"IFERROR(SUM('Vehicle Type Count by Agency'!AS:AS)/SUM('Vehicle Type Count by Agency'!AR:AR),\"-\")","v":0.93150684931506844},{"$f":"IFERROR(SUM('Vehicle Type Count by Agency'!AU:AU)/SUM('Vehicle Type Count by Agency'!AT:AT),\"-\")","v":0.63917525773195871},{"$f":"IFERROR(SUM('Vehicle Type Count by Agency'!AW:AW)/SUM('Vehicle Type Count by Agency'!AV:AV),\"-\")","v":0.81428571428571428},{"$f":"IFERROR(SUM('Vehicle Type Count by Agency'!AY:AY)/SUM('Vehicle Type Count by Agency'!AX:AX),\"-\")","v":0},{"$f":"IFERROR(SUM('Vehicle Type Count by Agency'!BA:BA)/SUM('Vehicle Type Count by Agency'!AZ:AZ),\"-\")","v":0.61111111111111116},{"$f":"IFERROR(SUM('Vehicle Type Count by Agency'!BC:BC)/SUM('Vehicle Type Count by Agency'!BB:BB),\"-\")","v":0.33333333333333331},{"$f":"IFERROR(SUM('Vehicle Type Count by Agency'!BE:BE)/SUM('Vehicle Type Count by Agency'!BD:BD),\"-\")","v":8.673469387755102E-2},{"$f":"IFERROR(SUM('Vehicle Type Count by Agency'!BG:BG)/SUM('Vehicle Type Count by Agency'!BF:BF),\"-\")","v":0.1891891891891892},{"$f":"IFERROR(SUM('Vehicle Type Count by Agency'!BI:BI)/SUM('Vehicle Type Count by Agency'!BH:BH),\"-\")","v":0.17967625692213818}]
[null,null,null,null,{"$f":"IFERROR(\"This bar chart shows vehicle types for the entire nation, from the table above called \"\"National Totals\"\".\"&CHAR(10)&\"Number of Active Vehicles Beyond their Useful Life out of the Total Number of Active Vehicles\"&\":\"&CHAR(10)&F5&CHAR(10)&G5&CHAR(10)&H5&CHAR(10)&I5&CHAR(10)&J5&CHAR(10)&K5&CHAR(10)&L5&CHAR(10)&M5&CHAR(10)&N5&CHAR(10)&O5&CHAR(10)&P5&CHAR(10)&Q5&CHAR(10)&R5&CHAR(10)&S5&CHAR(10)&T5&CHAR(10)&U5&CHAR(10)&V5&CHAR(10)&W5&CHAR(10)&X5&CHAR(10)&Y5&CHAR(10)&Z5&CHAR(10)&AA5&CHAR(10)&AB5&CHAR(10)&AC5&CHAR(10)&AD5,\"\")","v":"This bar chart shows vehicle types for the entire nation, from the table above called \"National Totals\".\nNumber of Active Vehicles Beyond their Useful Life out of the Total Number of Active Vehicles:\nBus: 9618 past useful life out of 55929\nArticulated Bus: 1052 past useful life out of 5670\nOver-the-road Bus: 1678 past useful life out of 5932\nDouble Decker Bus: 3 past useful life out of 229\nSchool Bus: 39 past useful life out of 99\nVan: 3831 past useful life out of 23707\nCutaway: 8286 past useful life out of 38872\nAutomobile: 487 past useful life out of 7547\nMinivan: 2287 past useful life out of 11167\nSports Utility Vehicle: 134 past useful life out of 1655\nTrolleybus: 262 past useful life out of 596\nHeavy Rail Passenger Car: 1507 past useful life out of 11892\nLight Rail Vehicle: 208 past useful life out of 2328\nCommuter Rail Passenger Coach: 780 past useful life out of 3666\nCommuter Rail Self-Propelled Passenger Car: 527 past useful life out of 2756\nLocomotive: 155 past useful life out of 840\nAutomated Guideway Vehicle: 0 past useful life out of 116\nVintage/ Historic Trolley: 68 past useful life out of 73\nStreetcar: 186 past useful life out of 291\nAerial Tramway: 57 past useful life out of 70\nMonorail: 0 past useful life out of 8\nCable Car: 22 past useful life out of 36\nInclined Plane: 2 past useful life out of 6\nFerryboat: 17 past useful life out of 196\nOther: 7 past useful life out of 37"},{"$f":"F3&\": \"&F6&\" past useful life out of \"&Table2[Bus]","v":"Bus: 9618 past useful life out of 55929"},{"$f":"G3&\": \"&G6&\" past useful life out of \"&Table2[Articulated Bus]","v":"Articulated Bus: 1052 past useful life out of 5670"},{"$f":"H3&\": \"&H6&\" past useful life out of \"&Table2[Over-the-road Bus]","v":"Over-the-road Bus: 1678 past useful life out of 5932"},{"$f":"I3&\": \"&I6&\" past useful life out of \"&Table2[Double Decker Bus]","v":"Double Decker Bus: 3 past useful life out of 229"},{"$f":"J3&\": \"&J6&\" past useful life out of \"&Table2[School Bus]","v":"School Bus: 39 past useful life out of 99"},{"$f":"K3&\": \"&K6&\" past useful life out of \"&Table2[Van]","v":"Van: 3831 past useful life out of 23707"},{"$f":"L3&\": \"&L6&\" past useful life out of \"&Table2[Cutaway]","v":"Cutaway: 8286 past useful life out of 38872"},{"$f":"M3&\": \"&M6&\" past useful life out of \"&Table2[Automobile]","v":"Automobile: 487 past useful life out of 7547"},{"$f":"N3&\": \"&N6&\" past useful life out of \"&Table2[Minivan]","v":"Minivan: 2287 past useful life out of 11167"},{"$f":"O3&\": \"&O6&\" past useful life out of \"&Table2[Sports Utility Vehicle]","v":"Sports Utility Vehicle: 134 past useful life out of 1655"},{"$f":"P3&\": \"&P6&\" past useful life out of \"&Table2[Trolleybus]","v":"Trolleybus: 262 past useful life out of 596"},{"$f":"Q3&\": \"&Q6&\" past useful life out of \"&Table2[Heavy Rail Passenger Car]","v":"Heavy Rail Passenger Car: 1507 past useful life out of 11892"},{"$f":"R3&\": \"&R6&\" past useful life out of \"&Table2[Light Rail Vehicle]","v":"Light Rail Vehicle: 208 past useful life out of 2328"},{"$f":"S3&\": \"&S6&\" past useful life out of \"&Table2[Commuter Rail Passenger Coach]","v":"Commuter Rail Passenger Coach: 780 past useful life out of 3666"},{"$f":"T3&\": \"&T6&\" past useful life out of \"&Table2[Commuter Rail Self-Propelled Passenger Car]","v":"Commuter Rail Self-Propelled Passenger Car: 527 past useful life out of 2756"},{"$f":"U3&\": \"&U6&\" past useful life out of \"&Table2[Locomotive]","v":"Locomotive: 155 past useful life out of 840"},{"$f":"V3&\": \"&V6&\" past useful life out of \"&Table2[Automated Guideway Vehicle]","v":"Automated Guideway Vehicle: 0 past useful life out of 116"},{"$f":"W3&\": \"&W6&\" past useful life out of \"&Table2[Vintage/ Historic Trolley]","v":"Vintage/ Historic Trolley: 68 past useful life out of 73"},{"$f":"X3&\": \"&X6&\" past useful life out of \"&Table2[Streetcar]","v":"Streetcar: 186 past useful life out of 291"},{"$f":"Y3&\": \"&Y6&\" past useful life out of \"&Table2[Aerial Tramway]","v":"Aerial Tramway: 57 past useful life out of 70"},{"$f":"Z3&\": \"&Z6&\" past useful life out of \"&Table2[Monorail]","v":"Monorail: 0 past useful life out of 8"},{"$f":"AA3&\": \"&AA6&\" past useful life out of \"&Table2[Cable Car]","v":"Cable Car: 22 past useful life out of 36"},{"$f":"AB3&\": \"&AB6&\" past useful life out of \"&Table2[Inclined Plane]","v":"Inclined Plane: 2 past useful life out of 6"},{"$f":"AC3&\": \"&AC6&\" past useful life out of \"&Table2[Ferryboat]","v":"Ferryboat: 17 past useful life out of 196"},{"$f":"AD3&\": \"&AD6&\" past useful life out of \"&Table2[Other]","v":"Other: 7 past useful life out of 37"}]
["By Urbanized Area Size",null,null,null,null,{"$f":"F4*Table2[Bus]","v":9618},{"$f":"G4*Table2[Articulated Bus]","v":1052},{"$f":"H4*Table2[Over-the-road Bus]","v":1678},{"$f":"I4*Table2[Double Decker Bus]","v":3},{"$f":"J4*Table2[School Bus]","v":39},{"$f":"K4*Table2[Van]","v":3830.9999999999995},{"$f":"L4*Table2[Cutaway]","v":8286},{"$f":"M4*Table2[Automobile]","v":487.00000000000006},{"$f":"N4*Table2[Minivan]","v":2287},{"$f":"O4*Table2[Sports Utility Vehicle]","v":134},{"$f":"P4*Table2[Trolleybus]","v":262},{"$f":"Q4*Table2[Heavy Rail Passenger Car]","v":1507.0000000000002},{"$f":"R4*Table2[Light Rail Vehicle]","v":208},{"$f":"S4*Table2[Commuter Rail Passenger Coach]","v":780},{"$f":"T4*Table2[Commuter Rail Self-Propelled Passenger Car]","v":527},{"$f":"U4*Table2[Locomotive]","v":155},{"$f":"V4*Table2[Automated Guideway Vehicle]","v":0},{"$f":"W4*Table2[Vintage/ Historic Trolley]","v":68},{"$f":"X4*Table2[Streetcar]","v":185.99999999999997},{"$f":"Y4*Table2[Aerial Tramway]","v":57},{"$f":"Z4*Table2[Monorail]","v":0},{"$f":"AA4*Table2[Cable Car]","v":22},{"$f":"AB4*Table2[Inclined Plane]","v":2},{"$f":"AC4*Table2[Ferryboat]","v":17},{"$f":"AD4*Table2[Other]","v":7}]
[null,null,null,null,null,"Percent of Active Vehicles Beyond their Useful Life by Vehicle Type"]
[null,null,null,"enter bins below","click to graph","Bus","Articulated Bus","Over-the-road Bus","Double Decker Bus","School Bus","Van","Cutaway","Automobile","Minivan","Sports Utility Vehicle","Trolleybus","Heavy Rail Passenger Car","Light Rail Vehicle","Commuter Rail Passenger Coach","Commuter Rail Self-Propelled Passenger Car","Locomotive","Automated Guideway Vehicle","Vintage/ Historic Trolley","Streetcar","Aerial Tramway","Monorail","Cable Car","Inclined Plane","Ferryboat","Other","Total"]
["Under",{"$f":"D9","v":200000},null,200000,{"$f":"IFERROR(IF(A9=\"Between\",A9&\" \"&FIXED(B9,0,0)&\" \"&C9&\" \"&FIXED(D9,0,0),A9&\" \"&FIXED(B9,0,0)),\"invalid bin\")","v":"Under 200,000"},{"$f":"IFERROR(SUMIFS('Vehicle Type Count by Agency'!K:K,'Vehicle Type Count by Agency'!$H:$H,\"<\"&$D9)/SUMIFS('Vehicle Type Count by Agency'!J:J,'Vehicle Type Count by Agency'!$H:$H,\"<\"&$D9),\"\")","v":0.2412702132645887},{"$f":"IFERROR(SUMIFS('Vehicle Type Count by Agency'!M:M,'Vehicle Type Count by Agency'!$H:$H,\"<\"&$D9)/SUMIFS('Vehicle Type Count by Agency'!L:L,'Vehicle Type Count by Agency'!$H:$H,\"<\"&$D9),\"\")","v":0.40322580645161288},{"$f":"IFERROR(SUMIFS('Vehicle Type Count by Agency'!O:O,'Vehicle Type Count by Agency'!$H:$H,\"<\"&$D9)/SUMIFS('Vehicle Type Count by Agency'!N:N,'Vehicle Type Count by Agency'!$H:$H,\"<\"&$D9),\"\")","v":0.22480620155038761},{"$f":"IFERROR(SUMIFS('Vehicle Type Count by Agency'!Q:Q,'Vehicle Type Count by Agency'!$H:$H,\"<\"&$D9)/SUMIFS('Vehicle Type Count by Agency'!P:P,'Vehicle Type Count by Agency'!$H:$H,\"<\"&$D9),\"\")","v":0.3},{"$f":"IFERROR(SUMIFS('Vehicle Type Count by Agency'!S:S,'Vehicle Type Count by Agency'!$H:$H,\"<\"&$D9)/SUMIFS('Vehicle Type Count by Agency'!R:R,'Vehicle Type Count by Agency'!$H:$H,\"<\"&$D9),\"\")","v":0.39784946236559138},{"$f":"IFERROR(SUMIFS('Vehicle Type Count by Agency'!U:U,'Vehicle Type Count by Agency'!$H:$H,\"<\"&$D9)/SUMIFS('Vehicle Type Count by Agency'!T:T,'Vehicle Type Count by Agency'!$H:$H,\"<\"&$D9),\"\")","v":0.35547659508728563},{"$f":"IFERROR(SUMIFS('Vehicle Type Count by Agency'!W:W,'Vehicle Type Count by Agency'!$H:$H,\"<\"&$D9)/SUMIFS('Vehicle Type Count by Agency'!V:V,'Vehicle Type Count by Agency'!$H:$H,\"<\"&$D9),\"\")","v":0.24927052938724467},{"$f":"IFERROR(SUMIFS('Vehicle Type Count by Agency'!Y:Y,'Vehicle Type Count by Agency'!$H:$H,\"<\"&$D9)/SUMIFS('Vehicle Type Count by Agency'!X:X,'Vehicle Type Count by Agency'!$H:$H,\"<\"&$D9),\"\")","v":0.37747524752475248},{"$f":"IFERROR(SUMIFS('Vehicle Type Count by Agency'!AA:AA,'Vehicle Type Count by Agency'!$H:$H,\"<\"&$D9)/SUMIFS('Vehicle Type Count by Agency'!Z:Z,'Vehicle Type Count by Agency'!$H:$H,\"<\"&$D9),\"\")","v":0.33382473382473382},{"$f":"IFERROR(SUMIFS('Vehicle Type Count by Agency'!AC:AC,'Vehicle Type Count by Agency'!$H:$H,\"<\"&$D9)/SUMIFS('Vehicle Type Count by Agency'!AB:AB,'Vehicle Type Count by Agency'!$H:$H,\"<\"&$D9),\"\")","v":0.25340599455040874},{"$f":"IFERROR(SUMIFS('Vehicle Type Count by Agency'!AE:AE,'Vehicle Type Count by Agency'!$H:$H,\"<\"&$D9)/SUMIFS('Vehicle Type Count by Agency'!AD:AD,'Vehicle Type Count by Agency'!$H:$H,\"<\"&$D9),\"\")","v":""},{"$f":"IFERROR(SUMIFS('Vehicle Type Count by Agency'!AG:AG,'Vehicle Type Count by Agency'!$H:$H,\"<\"&$D9)/SUMIFS('Vehicle Type Count by Agency'!AF:AF,'Vehicle Type Count by Agency'!$H:$H,\"<\"&$D9),\"\")","v":""},{"$f":"IFERROR(SUMIFS('Vehicle Type Count by Agency'!AI:AI,'Vehicle Type Count by Agency'!$H:$H,\"<\"&$D9)/SUMIFS('Vehicle Type Count by Agency'!AH:AH,'Vehicle Type Count by Agency'!$H:$H,\"<\"&$D9),\"\")","v":""},{"$f":"IFERROR(SUMIFS('Vehicle Type Count by Agency'!AK:AK,'Vehicle Type Count by Agency'!$H:$H,\"<\"&$D9)/SUMIFS('Vehicle Type Count by Agency'!AJ:AJ,'Vehicle Type Count by Agency'!$H:$H,\"<\"&$D9),\"\")","v":""},{"$f":"IFERROR(SUMIFS('Vehicle Type Count by Agency'!AM:AM,'Vehicle Type Count by Agency'!$H:$H,\"<\"&$D9)/SUMIFS('Vehicle Type Count by Agency'!AL:AL,'Vehicle Type Count by Agency'!$H:$H,\"<\"&$D9),\"\")","v":""},{"$f":"IFERROR(SUMIFS('Vehicle Type Count by Agency'!AO:AO,'Vehicle Type Count by Agency'!$H:$H,\"<\"&$D9)/SUMIFS('Vehicle Type Count by Agency'!AN:AN,'Vehicle Type Count by Agency'!$H:$H,\"<\"&$D9),\"\")","v":""},{"$f":"IFERROR(SUMIFS('Vehicle Type Count by Agency'!AQ:AQ,'Vehicle Type Count by Agency'!$H:$H,\"<\"&$D9)/SUMIFS('Vehicle Type Count by Agency'!AP:AP,'Vehicle Type Count by Agency'!$H:$H,\"<\"&$D9),\"\")","v":0},{"$f":"IFERROR(SUMIFS('Vehicle Type Count by Agency'!AS:AS,'Vehicle Type Count by Agency'!$H:$H,\"<\"&$D9)/SUMIFS('Vehicle Type Count by Agency'!AR:AR,'Vehicle Type Count by Agency'!$H:$H,\"<\"&$D9),\"\")","v":1},{"$f":"IFERROR(SUMIFS('Vehicle Type Count by Agency'!AU:AU,'Vehicle Type Count by Agency'!$H:$H,\"<\"&$D9)/SUMIFS('Vehicle Type Count by Agency'!AT:AT,'Vehicle Type Count by Agency'!$H:$H,\"<\"&$D9),\"\")","v":""},{"$f":"IFERROR(SUMIFS('Vehicle Type Count by Agency'!AW:AW,'Vehicle Type Count by Agency'!$H:$H,\"<\"&$D9)/SUMIFS('Vehicle Type Count by Agency'!AV:AV,'Vehicle Type Count by Agency'!$H:$H,\"<\"&$D9),\"\")","v":0.83823529411764708},{"$f":"IFERROR(SUMIFS('Vehicle Type Count by Agency'!AY:AY,'Vehicle Type Count by Agency'!$H:$H,\"<\"&$D9)/SUMIFS('Vehicle Type Count by Agency'!AX:AX,'Vehicle Type Count by Agency'!$H:$H,\"<\"&$D9),\"\")","v":""},{"$f":"IFERROR(SUMIFS('Vehicle Type Count by Agency'!BA:BA,'Vehicle Type Count by Agency'!$H:$H,\"<\"&$D9)/SUMIFS('Vehicle Type Count by Agency'!AZ:AZ,'Vehicle Type Count by Agency'!$H:$H,\"<\"&$D9),\"\")","v":""},{"$f":"IFERROR(SUMIFS('Vehicle Type Count by Agency'!BC:BC,'Vehicle Type Count by Agency'!$H:$H,\"<\"&$D9)/SUMIFS('Vehicle Type Count by Agency'!BB:BB,'Vehicle Type Count by Agency'!$H:$H,\"<\"&$D9),\"\")","v":0},{"$f":"IFERROR(SUMIFS('Vehicle Type Count by Agency'!BE:BE,'Vehicle Type Count by Agency'!$H:$H,\"<\"&$D9)/SUMIFS('Vehicle Type Count by Agency'!BD:BD,'Vehicle Type Count by Agency'!$H:$H,\"<\"&$D9),\"\")","v":0.125},{"$f":"IFERROR(SUMIFS('Vehicle Type Count by Agency'!BG:BG,'Vehicle Type Count by Agency'!$H:$H,\"<\"&$D9)/SUMIFS('Vehicle Type Count by Agency'!BF:BF,'Vehicle Type Count by Agency'!$H:$H,\"<\"&$D9),\"\")","v":0.15151515151515152},{"$f":"IFERROR(SUMIFS('Vehicle Type Count by Agency'!BI:BI,'Vehicle Type Count by Agency'!$H:$H,\"<\"&$D9)/SUMIFS('Vehicle Type Count by Agency'!BH:BH,'Vehicle Type Count by Agency'!$H:$H,\"<\"&$D9),\"\")","v":0.27965799786248663}]
[{"$f":"IF(D10<>\"\",\"Between\",\"Over\")","v":"Between"},{"$f":"D9","v":200000},{"$f":"IF(D10<>\"\",\"and\",\"\")","v":"and"},1000000,"Between 200,000 and 1,000,000",{"$f":"IFERROR(IF($A10=\"Between\",SUMIFS('Vehicle Type Count by Agency'!K:K,'Vehicle Type Count by Agency'!$H:$H,\">=\"&$B10,'Vehicle Type Count by Agency'!$H:$H,\"<\"&$D10),SUMIFS('Vehicle Type Count by Agency'!K:K,'Vehicle Type Count by Agency'!$H:$H,\">=\"&$B10))/IF($A10=\"Between\",SUMIFS('Vehicle Type Count by Agency'!J:J,'Vehicle Type Count by Agency'!$H:$H,\">=\"&$B10,'Vehicle Type Count by Agency'!$H:$H,\"<\"&$D10),SUMIFS('Vehicle Type Count by Agency'!J:J,'Vehicle Type Count by Agency'!$H:$H,\">=\"&$B10)),\"\")","v":0.18820754716981133},{"$f":"IFERROR(IF($A10=\"Between\",SUMIFS('Vehicle Type Count by Agency'!M:M,'Vehicle Type Count by Agency'!$H:$H,\">=\"&$B10,'Vehicle Type Count by Agency'!$H:$H,\"<\"&$D10),SUMIFS('Vehicle Type Count by Agency'!M:M,'Vehicle Type Count by Agency'!$H:$H,\">=\"&$B10))/IF($A10=\"Between\",SUMIFS('Vehicle Type Count by Agency'!L:L,'Vehicle Type Count by Agency'!$H:$H,\">=\"&$B10,'Vehicle Type Count by Agency'!$H:$H,\"<\"&$D10),SUMIFS('Vehicle Type Count by Agency'!L:L,'Vehicle Type Count by Agency'!$H:$H,\">=\"&$B10)),\"\")","v":0.14523809523809525},{"$f":"IFERROR(IF($A10=\"Between\",SUMIFS('Vehicle Type Count by Agency'!O:O,'Vehicle Type Count by Agency'!$H:$H,\">=\"&$B10,'Vehicle Type Count by Agency'!$H:$H,\"<\"&$D10),SUMIFS('Vehicle Type Count by Agency'!O:O,'Vehicle Type Count by Agency'!$H:$H,\">=\"&$B10))/IF($A10=\"Between\",SUMIFS('Vehicle Type Count by Agency'!N:N,'Vehicle Type Count by Agency'!$H:$H,\">=\"&$B10,'Vehicle Type Count by Agency'!$H:$H,\"<\"&$D10),SUMIFS('Vehicle Type Count by Agency'!N:N,'Vehicle Type Count by Agency'!$H:$H,\">=\"&$B10)),\"\")","v":0.19090909090909092},{"$f":"IFERROR(IF($A10=\"Between\",SUMIFS('Vehicle Type Count by Agency'!Q:Q,'Vehicle Type Count by Agency'!$H:$H,\">=\"&$B10,'Vehicle Type Count by Agency'!$H:$H,\"<\"&$D10),SUMIFS('Vehicle Type Count by Agency'!Q:Q,'Vehicle Type Count by Agency'!$H:$H,\">=\"&$B10))/IF($A10=\"Between\",SUMIFS('Vehicle Type Count by Agency'!P:P,'Vehicle Type Count by Agency'!$H:$H,\">=\"&$B10,'Vehicle Type Count by Agency'!$H:$H,\"<\"&$D10),SUMIFS('Vehicle Type Count by Agency'!P:P,'Vehicle Type Count by Agency'!$H:$H,\">=\"&$B10)),\"\")","v":""},{"$f":"IFERROR(IF($A10=\"Between\",SUMIFS('Vehicle Type Count by Agency'!S:S,'Vehicle Type Count by Agency'!$H:$H,\">=\"&$B10,'Vehicle Type Count by Agency'!$H:$H,\"<\"&$D10),SUMIFS('Vehicle Type Count by Agency'!S:S,'Vehicle Type Count by Agency'!$H:$H,\">=\"&$B10))/IF($A10=\"Between\",SUMIFS('Vehicle Type Count by Agency'!R:R,'Vehicle Type Count by Agency'!$H:$H,\">=\"&$B10,'Vehicle Type Count by Agency'!$H:$H,\"<\"&$D10),SUMIFS('Vehicle Type Count by Agency'!R:R,'Vehicle Type Count by Agency'!$H:$H,\">=\"&$B10)),\"\")","v":0.4},{"$f":"IFERROR(IF($A10=\"Between\",SUMIFS('Vehicle Type Count by Agency'!U:U,'Vehicle Type Count by Agency'!$H:$H,\">=\"&$B10,'Vehicle Type Count by Agency'!$H:$H,\"<\"&$D10),SUMIFS('Vehicle Type Count by Agency'!U:U,'Vehicle Type Count by Agency'!$H:$H,\">=\"&$B10))/IF($A10=\"Between\",SUMIFS('Vehicle Type Count by Agency'!T:T,'Vehicle Type Count by Agency'!$H:$H,\">=\"&$B10,'Vehicle Type Count by Agency'!$H:$H,\"<\"&$D10),SUMIFS('Vehicle Type Count by Agency'!T:T,'Vehicle Type Count by Agency'!$H:$H,\">=\"&$B10)),\"\")","v":0.14676414838884375},{"$f":"IFERROR(IF($A10=\"Between\",SUMIFS('Vehicle Type Count by Agency'!W:W,'Vehicle Type Count by Agency'!$H:$H,\">=\"&$B10,'Vehicle Type Count by Agency'!$H:$H,\"<\"&$D10),SUMIFS('Vehicle Type Count by Agency'!W:W,'Vehicle Type Count by Agency'!$H:$H,\">=\"&$B10))/IF($A10=\"Between\",SUMIFS('Vehicle Type Count by Agency'!V:V,'Vehicle Type Count by Agency'!$H:$H,\">=\"&$B10,'Vehicle Type Count by Agency'!$H:$H,\"<\"&$D10),SUMIFS('Vehicle Type Count by Agency'!V:V,'Vehicle Type Count by Agency'!$H:$H,\">=\"&$B10)),\"\")","v":0.18014423814638639},{"$f":"IFERROR(IF($A10=\"Between\",SUMIFS('Vehicle Type Count by Agency'!Y:Y,'Vehicle Type Count by Agency'!$H:$H,\">=\"&$B10,'Vehicle Type Count by Agency'!$H:$H,\"<\"&$D10),SUMIFS('Vehicle Type Count by Agency'!Y:Y,'Vehicle Type Count by Agency'!$H:$H,\">=\"&$B10))/IF($A10=\"Between\",SUMIFS('Vehicle Type Count by Agency'!X:X,'Vehicle Type Count by Agency'!$H:$H,\">=\"&$B10,'Vehicle Type Count by Agency'!$H:$H,\"<\"&$D10),SUMIFS('Vehicle Type Count by Agency'!X:X,'Vehicle Type Count by Agency'!$H:$H,\">=\"&$B10)),\"\")","v":6.8359375E-3},{"$f":"IFERROR(IF($A10=\"Between\",SUMIFS('Vehicle Type Count by Agency'!AA:AA,'Vehicle Type Count by Agency'!$H:$H,\">=\"&$B10,'Vehicle Type Count by Agency'!$H:$H,\"<\"&$D10),SUMIFS('Vehicle Type Count by Agency'!AA:AA,'Vehicle Type Count by Agency'!$H:$H,\">=\"&$B10))/IF($A10=\"Between\",SUMIFS('Vehicle Type Count by Agency'!Z:Z,'Vehicle Type Count by Agency'!$H:$H,\">=\"&$B10,'Vehicle Type Count by Agency'!$H:$H,\"<\"&$D10),SUMIFS('Vehicle Type Count by Agency'!Z:Z,'Vehicle Type Count by Agency'!$H:$H,\">=\"&$B10)),\"\")","v":0.12460567823343849},{"$f":"IFERROR(IF($A10=\"Between\",SUMIFS('Vehicle Type Count by Agency'!AC:AC,'Vehicle Type Count by Agency'!$H:$H,\">=\"&$B10,'Vehicle Type Count by Agency'!$H:$H,\"<\"&$D10),SUMIFS('Vehicle Type Count by Agency'!AC:AC,'Vehicle Type Count by Agency'!$H:$H,\">=\"&$B10))/IF($A10=\"Between\",SUMIFS('Vehicle Type Count by Agency'!AB:AB,'Vehicle Type Count by Agency'!$H:$H,\">=\"&$B10,'Vehicle Type Count by Agency'!$H:$H,\"<\"&$D10),SUMIFS('Vehicle Type Count by Agency'!AB:AB,'Vehicle Type Count by Agency'!$H:$H,\">=\"&$B10)),\"\")","v":2.1052631578947368E-2},{"$f":"IFERROR(IF($A10=\"Between\",SUMIFS('Vehicle Type Count by Agency'!AE:AE,'Vehicle Type Count by Agency'!$H:$H,\">=\"&$B10,'Vehicle Type Count by Agency'!$H:$H,\"<\"&$D10),SUMIFS('Vehicle Type Count by Agency'!AE:AE,'Vehicle Type Count by Agency'!$H:$H,\">=\"&$B10))/IF($A10=\"Between\",SUMIFS('Vehicle Type Count by Agency'!AD:AD,'Vehicle Type Count by Agency'!$H:$H,\">=\"&$B10,'Vehicle Type Count by Agency'!$H:$H,\"<\"&$D10),SUMIFS('Vehicle Type Count by Agency'!AD:AD,'Vehicle Type Count by Agency'!$H:$H,\">=\"&$B10)),\"\")","v":0.89189189189189189},{"$f":"IFERROR(IF($A10=\"Between\",SUMIFS('Vehicle Type Count by Agency'!AG:AG,'Vehicle Type Count by Agency'!$H:$H,\">=\"&$B10,'Vehicle Type Count by Agency'!$H:$H,\"<\"&$D10),SUMIFS('Vehicle Type Count by Agency'!AG:AG,'Vehicle Type Count by Agency'!$H:$H,\">=\"&$B10))/IF($A10=\"Between\",SUMIFS('Vehicle Type Count by Agency'!AF:AF,'Vehicle Type Count by Agency'!$H:$H,\">=\"&$B10,'Vehicle Type Count by Agency'!$H:$H,\"<\"&$D10),SUMIFS('Vehicle Type Count by Agency'!AF:AF,'Vehicle Type Count by Agency'!$H:$H,\">=\"&$B10)),\"\")","v":""},{"$f":"IFERROR(IF($A10=\"Between\",SUMIFS('Vehicle Type Count by Agency'!AI:AI,'Vehicle Type Count by Agency'!$H:$H,\">=\"&$B10,'Vehicle Type Count by Agency'!$H:$H,\"<\"&$D10),SUMIFS('Vehicle Type Count by Agency'!AI:AI,'Vehicle Type Count by Agency'!$H:$H,\">=\"&$B10))/IF($A10=\"Between\",SUMIFS('Vehicle Type Count by Agency'!AH:AH,'Vehicle Type Count by Agency'!$H:$H,\">=\"&$B10,'Vehicle Type Count by Agency'!$H:$H,\"<\"&$D10),SUMIFS('Vehicle Type Count by Agency'!AH:AH,'Vehicle Type Count by Agency'!$H:$H,\">=\"&$B10)),\"\")","v":1},{"$f":"IFERROR(IF($A10=\"Between\",SUMIFS('Vehicle Type Count by Agency'!AK:AK,'Vehicle Type Count by Agency'!$H:$H,\">=\"&$B10,'Vehicle Type Count by Agency'!$H:$H,\"<\"&$D10),SUMIFS('Vehicle Type Count by Agency'!AK:AK,'Vehicle Type Count by Agency'!$H:$H,\">=\"&$B10))/IF($A10=\"Between\",SUMIFS('Vehicle Type Count by Agency'!AJ:AJ,'Vehicle Type Count by Agency'!$H:$H,\">=\"&$B10,'Vehicle Type Count by Agency'!$H:$H,\"<\"&$D10),SUMIFS('Vehicle Type Count by Agency'!AJ:AJ,'Vehicle Type Count by Agency'!$H:$H,\">=\"&$B10)),\"\")","v":0.27516778523489932},{"$f":"IFERROR(IF($A10=\"Between\",SUMIFS('Vehicle Type Count by Agency'!AM:AM,'Vehicle Type Count by Agency'!$H:$H,\">=\"&$B10,'Vehicle Type Count by Agency'!$H:$H,\"<\"&$D10),SUMIFS('Vehicle Type Count by Agency'!AM:AM,'Vehicle Type Count by Agency'!$H:$H,\">=\"&$B10))/IF($A10=\"Between\",SUMIFS('Vehicle Type Count by Agency'!AL:AL,'Vehicle Type Count by Agency'!$H:$H,\">=\"&$B10,'Vehicle Type Count by Agency'!$H:$H,\"<\"&$D10),SUMIFS('Vehicle Type Count by Agency'!AL:AL,'Vehicle Type Count by Agency'!$H:$H,\">=\"&$B10)),\"\")","v":0},{"$f":"IFERROR(IF($A10=\"Between\",SUMIFS('Vehicle Type Count by Agency'!AO:AO,'Vehicle Type Count by Agency'!$H:$H,\">=\"&$B10,'Vehicle Type Count by Agency'!$H:$H,\"<\"&$D10),SUMIFS('Vehicle Type Count by Agency'!AO:AO,'Vehicle Type Count by Agency'!$H:$H,\">=\"&$B10))/IF($A10=\"Between\",SUMIFS('Vehicle Type Count by Agency'!AN:AN,'Vehicle Type Count by Agency'!$H:$H,\">=\"&$B10,'Vehicle Type Count by Agency'!$H:$H,\"<\"&$D10),SUMIFS('Vehicle Type Count by Agency'!AN:AN,'Vehicle Type Count by Agency'!$H:$H,\">=\"&$B10)),\"\")","v":0.15053763440860216},{"$f":"IFERROR(IF($A10=\"Between\",SUMIFS('Vehicle Type Count by Agency'!AQ:AQ,'Vehicle Type Count by Agency'!$H:$H,\">=\"&$B10,'Vehicle Type Count by Agency'!$H:$H,\"<\"&$D10),SUMIFS('Vehicle Type Count by Agency'!AQ:AQ,'Vehicle Type Count by Agency'!$H:$H,\">=\"&$B10))/IF($A10=\"Between\",SUMIFS('Vehicle Type Count by Agency'!AP:AP,'Vehicle Type Count by Agency'!$H:$H,\">=\"&$B10,'Vehicle Type Count by Agency'!$H:$H,\"<\"&$D10),SUMIFS('Vehicle Type Count by Agency'!AP:AP,'Vehicle Type Count by Agency'!$H:$H,\">=\"&$B10)),\"\")","v":""},{"$f":"IFERROR(IF($A10=\"Between\",SUMIFS('Vehicle Type Count by Agency'!AS:AS,'Vehicle Type Count by Agency'!$H:$H,\">=\"&$B10,'Vehicle Type Count by Agency'!$H:$H,\"<\"&$D10),SUMIFS('Vehicle Type Count by Agency'!AS:AS,'Vehicle Type Count by Agency'!$H:$H,\">=\"&$B10))/IF($A10=\"Between\",SUMIFS('Vehicle Type Count by Agency'!AR:AR,'Vehicle Type Count by Agency'!$H:$H,\">=\"&$B10,'Vehicle Type Count by Agency'!$H:$H,\"<\"&$D10),SUMIFS('Vehicle Type Count by Agency'!AR:AR,'Vehicle Type Count by Agency'!$H:$H,\">=\"&$B10)),\"\")","v":0.875},{"$f":"IFERROR(IF($A10=\"Between\",SUMIFS('Vehicle Type Count by Agency'!AU:AU,'Vehicle Type Count by Agency'!$H:$H,\">=\"&$B10,'Vehicle Type Count by Agency'!$H:$H,\"<\"&$D10),SUMIFS('Vehicle Type Count by Agency'!AU:AU,'Vehicle Type Count by Agency'!$H:$H,\">=\"&$B10))/IF($A10=\"Between\",SUMIFS('Vehicle Type Count by Agency'!AT:AT,'Vehicle Type Count by Agency'!$H:$H,\">=\"&$B10,'Vehicle Type Count by Agency'!$H:$H,\"<\"&$D10),SUMIFS('Vehicle Type Count by Agency'!AT:AT,'Vehicle Type Count by Agency'!$H:$H,\">=\"&$B10)),\"\")","v":0},{"$f":"IFERROR(IF($A10=\"Between\",SUMIFS('Vehicle Type Count by Agency'!AW:AW,'Vehicle Type Count by Agency'!$H:$H,\">=\"&$B10,'Vehicle Type Count by Agency'!$H:$H,\"<\"&$D10),SUMIFS('Vehicle Type Count by Agency'!AW:AW,'Vehicle Type Count by Agency'!$H:$H,\">=\"&$B10))/IF($A10=\"Between\",SUMIFS('Vehicle Type Count by Agency'!AV:AV,'Vehicle Type Count by Agency'!$H:$H,\">=\"&$B10,'Vehicle Type Count by Agency'!$H:$H,\"<\"&$D10),SUMIFS('Vehicle Type Count by Agency'!AV:AV,'Vehicle Type Count by Agency'!$H:$H,\">=\"&$B10)),\"\")","v":""},{"$f":"IFERROR(IF($A10=\"Between\",SUMIFS('Vehicle Type Count by Agency'!AY:AY,'Vehicle Type Count by Agency'!$H:$H,\">=\"&$B10,'Vehicle Type Count by Agency'!$H:$H,\"<\"&$D10),SUMIFS('Vehicle Type Count by Agency'!AY:AY,'Vehicle Type Count by Agency'!$H:$H,\">=\"&$B10))/IF($A10=\"Between\",SUMIFS('Vehicle Type Count by Agency'!AX:AX,'Vehicle Type Count by Agency'!$H:$H,\">=\"&$B10,'Vehicle Type Count by Agency'!$H:$H,\"<\"&$D10),SUMIFS('Vehicle Type Count by Agency'!AX:AX,'Vehicle Type Count by Agency'!$H:$H,\">=\"&$B10)),\"\")","v":""},{"$f":"IFERROR(IF($A10=\"Between\",SUMIFS('Vehicle Type Count by Agency'!BA:BA,'Vehicle Type Count by Agency'!$H:$H,\">=\"&$B10,'Vehicle Type Count by Agency'!$H:$H,\"<\"&$D10),SUMIFS('Vehicle Type Count by Agency'!BA:BA,'Vehicle Type Count by Agency'!$H:$H,\">=\"&$B10))/IF($A10=\"Between\",SUMIFS('Vehicle Type Count by Agency'!AZ:AZ,'Vehicle Type Count by Agency'!$H:$H,\">=\"&$B10,'Vehicle Type Count by Agency'!$H:$H,\"<\"&$D10),SUMIFS('Vehicle Type Count by Agency'!AZ:AZ,'Vehicle Type Count by Agency'!$H:$H,\">=\"&$B10)),\"\")","v":""},{"$f":"IFERROR(IF($A10=\"Between\",SUMIFS('Vehicle Type Count by Agency'!BC:BC,'Vehicle Type Count by Agency'!$H:$H,\">=\"&$B10,'Vehicle Type Count by Agency'!$H:$H,\"<\"&$D10),SUMIFS('Vehicle Type Count by Agency'!BC:BC,'Vehicle Type Count by Agency'!$H:$H,\">=\"&$B10))/IF($A10=\"Between\",SUMIFS('Vehicle Type Count by Agency'!BB:BB,'Vehicle Type Count by Agency'!$H:$H,\">=\"&$B10,'Vehicle Type Count by Agency'!$H:$H,\"<\"&$D10),SUMIFS('Vehicle Type Count by Agency'!BB:BB,'Vehicle Type Count by Agency'!$H:$H,\">=\"&$B10)),\"\")","v":0},{"$f":"IFERROR(IF($A10=\"Between\",SUMIFS('Vehicle Type Count by Agency'!BE:BE,'Vehicle Type Count by Agency'!$H:$H,\">=\"&$B10,'Vehicle Type Count by Agency'!$H:$H,\"<\"&$D10),SUMIFS('Vehicle Type Count by Agency'!BE:BE,'Vehicle Type Count by Agency'!$H:$H,\">=\"&$B10))/IF($A10=\"Between\",SUMIFS('Vehicle Type Count by Agency'!BD:BD,'Vehicle Type Count by Agency'!$H:$H,\">=\"&$B10,'Vehicle Type Count by Agency'!$H:$H,\"<\"&$D10),SUMIFS('Vehicle Type Count by Agency'!BD:BD,'Vehicle Type Count by Agency'!$H:$H,\">=\"&$B10)),\"\")","v":9.6774193548387094E-2},{"$f":"IFERROR(IF($A10=\"Between\",SUMIFS('Vehicle Type Count by Agency'!BG:BG,'Vehicle Type Count by Agency'!$H:$H,\">=\"&$B10,'Vehicle Type Count by Agency'!$H:$H,\"<\"&$D10),SUMIFS('Vehicle Type Count by Agency'!BG:BG,'Vehicle Type Count by Agency'!$H:$H,\">=\"&$B10))/IF($A10=\"Between\",SUMIFS('Vehicle Type Count by Agency'!BF:BF,'Vehicle Type Count by Agency'!$H:$H,\">=\"&$B10,'Vehicle Type Count by Agency'!$H:$H,\"<\"&$D10),SUMIFS('Vehicle Type Count by Agency'!BF:BF,'Vehicle Type Count by Agency'!$H:$H,\">=\"&$B10)),\"\")","v":0},{"$f":"IFERROR(IF($A10=\"Between\",SUMIFS('Vehicle Type Count by Agency'!BI:BI,'Vehicle Type Count by Agency'!$H:$H,\">=\"&$B10,'Vehicle Type Count by Agency'!$H:$H,\"<\"&$D10),SUMIFS('Vehicle Type Count by Agency'!BI:BI,'Vehicle Type Count by Agency'!$H:$H,\">=\"&$B10))/IF($A10=\"Between\",SUMIFS('Vehicle Type Count by Agency'!BH:BH,'Vehicle Type Count by Agency'!$H:$H,\">=\"&$B10,'Vehicle Type Count by Agency'!$H:$H,\"<\"&$D10),SUMIFS('Vehicle Type Count by Agency'!BH:BH,'Vehicle Type Count by Agency'!$H:$H,\">=\"&$B10)),\"\")","v":0.17161132853595926}]
[{"$f":"IF(OR(A10=\"Over\",A10=\"\"),\"\",IF(D11=\"\",\"Over\",\"Between\"))","v":"Over"},{"$f":"IF(D10=\"\",\"\",D10)","v":1000000},{"$f":"IF(D11<>\"\",\"and\",\"\")","v":""},null,"Over 1,000,000",{"$f":"IFERROR(IF($A11=\"\",\"\",(IF($A11=\"Between\",SUMIFS('Vehicle Type Count by Agency'!K:K,'Vehicle Type Count by Agency'!$H:$H,\">=\"&$B11,'Vehicle Type Count by Agency'!$H:$H,\"<\"&$D11),SUMIFS('Vehicle Type Count by Agency'!K:K,'Vehicle Type Count by Agency'!$H:$H,\">=\"&$B11)))/IF($A11=\"Between\",SUMIFS('Vehicle Type Count by Agency'!J:J,'Vehicle Type Count by Agency'!$H:$H,\">=\"&$B11,'Vehicle Type Count by Agency'!$H:$H,\"<\"&$D11),SUMIFS('Vehicle Type Count by Agency'!J:J,'Vehicle Type Count by Agency'!$H:$H,\">=\"&$B11))),\"\")","v":0.15121619785296916},{"$f":"IFERROR(IF($A11=\"\",\"\",(IF($A11=\"Between\",SUMIFS('Vehicle Type Count by Agency'!M:M,'Vehicle Type Count by Agency'!$H:$H,\">=\"&$B11,'Vehicle Type Count by Agency'!$H:$H,\"<\"&$D11),SUMIFS('Vehicle Type Count by Agency'!M:M,'Vehicle Type Count by Agency'!$H:$H,\">=\"&$B11)))/IF($A11=\"Between\",SUMIFS('Vehicle Type Count by Agency'!L:L,'Vehicle Type Count by Agency'!$H:$H,\">=\"&$B11,'Vehicle Type Count by Agency'!$H:$H,\"<\"&$D11),SUMIFS('Vehicle Type Count by Agency'!L:L,'Vehicle Type Count by Agency'!$H:$H,\">=\"&$B11))),\"\")","v":0.18619892058596763},{"$f":"IFERROR(IF($A11=\"\",\"\",(IF($A11=\"Between\",SUMIFS('Vehicle Type Count by Agency'!O:O,'Vehicle Type Count by Agency'!$H:$H,\">=\"&$B11,'Vehicle Type Count by Agency'!$H:$H,\"<\"&$D11),SUMIFS('Vehicle Type Count by Agency'!O:O,'Vehicle Type Count by Agency'!$H:$H,\">=\"&$B11)))/IF($A11=\"Between\",SUMIFS('Vehicle Type Count by Agency'!N:N,'Vehicle Type Count by Agency'!$H:$H,\">=\"&$B11,'Vehicle Type Count by Agency'!$H:$H,\"<\"&$D11),SUMIFS('Vehicle Type Count by Agency'!N:N,'Vehicle Type Count by Agency'!$H:$H,\">=\"&$B11))),\"\")","v":0.29135479041916168},{"$f":"IFERROR(IF($A11=\"\",\"\",(IF($A11=\"Between\",SUMIFS('Vehicle Type Count by Agency'!Q:Q,'Vehicle Type Count by Agency'!$H:$H,\">=\"&$B11,'Vehicle Type Count by Agency'!$H:$H,\"<\"&$D11),SUMIFS('Vehicle Type Count by Agency'!Q:Q,'Vehicle Type Count by Agency'!$H:$H,\">=\"&$B11)))/IF($A11=\"Between\",SUMIFS('Vehicle Type Count by Agency'!P:P,'Vehicle Type Count by Agency'!$H:$H,\">=\"&$B11,'Vehicle Type Count by Agency'!$H:$H,\"<\"&$D11),SUMIFS('Vehicle Type Count by Agency'!P:P,'Vehicle Type Count by Agency'!$H:$H,\">=\"&$B11))),\"\")","v":0},{"$f":"IFERROR(IF($A11=\"\",\"\",(IF($A11=\"Between\",SUMIFS('Vehicle Type Count by Agency'!S:S,'Vehicle Type Count by Agency'!$H:$H,\">=\"&$B11,'Vehicle Type Count by Agency'!$H:$H,\"<\"&$D11),SUMIFS('Vehicle Type Count by Agency'!S:S,'Vehicle Type Count by Agency'!$H:$H,\">=\"&$B11)))/IF($A11=\"Between\",SUMIFS('Vehicle Type Count by Agency'!R:R,'Vehicle Type Count by Agency'!$H:$H,\">=\"&$B11,'Vehicle Type Count by Agency'!$H:$H,\"<\"&$D11),SUMIFS('Vehicle Type Count by Agency'!R:R,'Vehicle Type Count by Agency'!$H:$H,\">=\"&$B11))),\"\")","v":0},{"$f":"IFERROR(IF($A11=\"\",\"\",(IF($A11=\"Between\",SUMIFS('Vehicle Type Count by Agency'!U:U,'Vehicle Type Count by Agency'!$H:$H,\">=\"&$B11,'Vehicle Type Count by Agency'!$H:$H,\"<\"&$D11),SUMIFS('Vehicle Type Count by Agency'!U:U,'Vehicle Type Count by Agency'!$H:$H,\">=\"&$B11)))/IF($A11=\"Between\",SUMIFS('Vehicle Type Count by Agency'!T:T,'Vehicle Type Count by Agency'!$H:$H,\">=\"&$B11,'Vehicle Type Count by Agency'!$H:$H,\"<\"&$D11),SUMIFS('Vehicle Type Count by Agency'!T:T,'Vehicle Type Count by Agency'!$H:$H,\">=\"&$B11))),\"\")","v":7.2963592053762641E-2},{"$f":"IFERROR(IF($A11=\"\",\"\",(IF($A11=\"Between\",SUMIFS('Vehicle Type Count by Agency'!W:W,'Vehicle Type Count by Agency'!$H:$H,\">=\"&$B11,'Vehicle Type Count by Agency'!$H:$H,\"<\"&$D11),SUMIFS('Vehicle Type Count by Agency'!W:W,'Vehicle Type Count by Agency'!$H:$H,\">=\"&$B11)))/IF($A11=\"Between\",SUMIFS('Vehicle Type Count by Agency'!V:V,'Vehicle Type Count by Agency'!$H:$H,\">=\"&$B11,'Vehicle Type Count by Agency'!$H:$H,\"<\"&$D11),SUMIFS('Vehicle Type Count by Agency'!V:V,'Vehicle Type Count by Agency'!$H:$H,\">=\"&$B11))),\"\")","v":0.17685937856111827},{"$f":"IFERROR(IF($A11=\"\",\"\",(IF($A11=\"Between\",SUMIFS('Vehicle Type Count by Agency'!Y:Y,'Vehicle Type Count by Agency'!$H:$H,\">=\"&$B11,'Vehicle Type Count by Agency'!$H:$H,\"<\"&$D11),SUMIFS('Vehicle Type Count by Agency'!Y:Y,'Vehicle Type Count by Agency'!$H:$H,\">=\"&$B11)))/IF($A11=\"Between\",SUMIFS('Vehicle Type Count by Agency'!X:X,'Vehicle Type Count by Agency'!$H:$H,\">=\"&$B11,'Vehicle Type Count by Agency'!$H:$H,\"<\"&$D11),SUMIFS('Vehicle Type Count by Agency'!X:X,'Vehicle Type Count by Agency'!$H:$H,\">=\"&$B11))),\"\")","v":3.0621172353455819E-2},{"$f":"IFERROR(IF($A11=\"\",\"\",(IF($A11=\"Between\",SUMIFS('Vehicle Type Count by Agency'!AA:AA,'Vehicle Type Count by Agency'!$H:$H,\">=\"&$B11,'Vehicle Type Count by Agency'!$H:$H,\"<\"&$D11),SUMIFS('Vehicle Type Count by Agency'!AA:AA,'Vehicle Type Count by Agency'!$H:$H,\">=\"&$B11)))/IF($A11=\"Between\",SUMIFS('Vehicle Type Count by Agency'!Z:Z,'Vehicle Type Count by Agency'!$H:$H,\">=\"&$B11,'Vehicle Type Count by Agency'!$H:$H,\"<\"&$D11),SUMIFS('Vehicle Type Count by Agency'!Z:Z,'Vehicle Type Count by Agency'!$H:$H,\">=\"&$B11))),\"\")","v":3.8392050587172537E-2},{"$f":"IFERROR(IF($A11=\"\",\"\",(IF($A11=\"Between\",SUMIFS('Vehicle Type Count by Agency'!AC:AC,'Vehicle Type Count by Agency'!$H:$H,\">=\"&$B11,'Vehicle Type Count by Agency'!$H:$H,\"<\"&$D11),SUMIFS('Vehicle Type Count by Agency'!AC:AC,'Vehicle Type Count by Agency'!$H:$H,\">=\"&$B11)))/IF($A11=\"Between\",SUMIFS('Vehicle Type Count by Agency'!AB:AB,'Vehicle Type Count by Agency'!$H:$H,\">=\"&$B11,'Vehicle Type Count by Agency'!$H:$H,\"<\"&$D11),SUMIFS('Vehicle Type Count by Agency'!AB:AB,'Vehicle Type Count by Agency'!$H:$H,\">=\"&$B11))),\"\")","v":3.269069572506287E-2},{"$f":"IFERROR(IF($A11=\"\",\"\",(IF($A11=\"Between\",SUMIFS('Vehicle Type Count by Agency'!AE:AE,'Vehicle Type Count by Agency'!$H:$H,\">=\"&$B11,'Vehicle Type Count by Agency'!$H:$H,\"<\"&$D11),SUMIFS('Vehicle Type Count by Agency'!AE:AE,'Vehicle Type Count by Agency'!$H:$H,\">=\"&$B11)))/IF($A11=\"Between\",SUMIFS('Vehicle Type Count by Agency'!AD:AD,'Vehicle Type Count by Agency'!$H:$H,\">=\"&$B11,'Vehicle Type Count by Agency'!$H:$H,\"<\"&$D11),SUMIFS('Vehicle Type Count by Agency'!AD:AD,'Vehicle Type Count by Agency'!$H:$H,\">=\"&$B11))),\"\")","v":0.40966010733452596},{"$f":"IFERROR(IF($A11=\"\",\"\",(IF($A11=\"Between\",SUMIFS('Vehicle Type Count by Agency'!AG:AG,'Vehicle Type Count by Agency'!$H:$H,\">=\"&$B11,'Vehicle Type Count by Agency'!$H:$H,\"<\"&$D11),SUMIFS('Vehicle Type Count by Agency'!AG:AG,'Vehicle Type Count by Agency'!$H:$H,\">=\"&$B11)))/IF($A11=\"Between\",SUMIFS('Vehicle Type Count by Agency'!AF:AF,'Vehicle Type Count by Agency'!$H:$H,\">=\"&$B11,'Vehicle Type Count by Agency'!$H:$H,\"<\"&$D11),SUMIFS('Vehicle Type Count by Agency'!AF:AF,'Vehicle Type Count by Agency'!$H:$H,\">=\"&$B11))),\"\")","v":0.12672384796501851},{"$f":"IFERROR(IF($A11=\"\",\"\",(IF($A11=\"Between\",SUMIFS('Vehicle Type Count by Agency'!AI:AI,'Vehicle Type Count by Agency'!$H:$H,\">=\"&$B11,'Vehicle Type Count by Agency'!$H:$H,\"<\"&$D11),SUMIFS('Vehicle Type Count by Agency'!AI:AI,'Vehicle Type Count by Agency'!$H:$H,\">=\"&$B11)))/IF($A11=\"Between\",SUMIFS('Vehicle Type Count by Agency'!AH:AH,'Vehicle Type Count by Agency'!$H:$H,\">=\"&$B11,'Vehicle Type Count by Agency'!$H:$H,\"<\"&$D11),SUMIFS('Vehicle Type Count by Agency'!AH:AH,'Vehicle Type Count by Agency'!$H:$H,\">=\"&$B11))),\"\")","v":7.8661451542807473E-2},{"$f":"IFERROR(IF($A11=\"\",\"\",(IF($A11=\"Between\",SUMIFS('Vehicle Type Count by Agency'!AK:AK,'Vehicle Type Count by Agency'!$H:$H,\">=\"&$B11,'Vehicle Type Count by Agency'!$H:$H,\"<\"&$D11),SUMIFS('Vehicle Type Count by Agency'!AK:AK,'Vehicle Type Count by Agency'!$H:$H,\">=\"&$B11)))/IF($A11=\"Between\",SUMIFS('Vehicle Type Count by Agency'!AJ:AJ,'Vehicle Type Count by Agency'!$H:$H,\">=\"&$B11,'Vehicle Type Count by Agency'!$H:$H,\"<\"&$D11),SUMIFS('Vehicle Type Count by Agency'!AJ:AJ,'Vehicle Type Count by Agency'!$H:$H,\">=\"&$B11))),\"\")","v":0.21012226329257891},{"$f":"IFERROR(IF($A11=\"\",\"\",(IF($A11=\"Between\",SUMIFS('Vehicle Type Count by Agency'!AM:AM,'Vehicle Type Count by Agency'!$H:$H,\">=\"&$B11,'Vehicle Type Count by Agency'!$H:$H,\"<\"&$D11),SUMIFS('Vehicle Type Count by Agency'!AM:AM,'Vehicle Type Count by Agency'!$H:$H,\">=\"&$B11)))/IF($A11=\"Between\",SUMIFS('Vehicle Type Count by Agency'!AL:AL,'Vehicle Type Count by Agency'!$H:$H,\">=\"&$B11,'Vehicle Type Count by Agency'!$H:$H,\"<\"&$D11),SUMIFS('Vehicle Type Count by Agency'!AL:AL,'Vehicle Type Count by Agency'!$H:$H,\">=\"&$B11))),\"\")","v":0.19296960820212378},{"$f":"IFERROR(IF($A11=\"\",\"\",(IF($A11=\"Between\",SUMIFS('Vehicle Type Count by Agency'!AO:AO,'Vehicle Type Count by Agency'!$H:$H,\">=\"&$B11,'Vehicle Type Count by Agency'!$H:$H,\"<\"&$D11),SUMIFS('Vehicle Type Count by Agency'!AO:AO,'Vehicle Type Count by Agency'!$H:$H,\">=\"&$B11)))/IF($A11=\"Between\",SUMIFS('Vehicle Type Count by Agency'!AN:AN,'Vehicle Type Count by Agency'!$H:$H,\">=\"&$B11,'Vehicle Type Count by Agency'!$H:$H,\"<\"&$D11),SUMIFS('Vehicle Type Count by Agency'!AN:AN,'Vehicle Type Count by Agency'!$H:$H,\">=\"&$B11))),\"\")","v":0.18875502008032127},{"$f":"IFERROR(IF($A11=\"\",\"\",(IF($A11=\"Between\",SUMIFS('Vehicle Type Count by Agency'!AQ:AQ,'Vehicle Type Count by Agency'!$H:$H,\">=\"&$B11,'Vehicle Type Count by Agency'!$H:$H,\"<\"&$D11),SUMIFS('Vehicle Type Count by Agency'!AQ:AQ,'Vehicle Type Count by Agency'!$H:$H,\">=\"&$B11)))/IF($A11=\"Between\",SUMIFS('Vehicle Type Count by Agency'!AP:AP,'Vehicle Type Count by Agency'!$H:$H,\">=\"&$B11,'Vehicle Type Count by Agency'!$H:$H,\"<\"&$D11),SUMIFS('Vehicle Type Count by Agency'!AP:AP,'Vehicle Type Count by Agency'!$H:$H,\">=\"&$B11))),\"\")","v":0},{"$f":"IFERROR(IF($A11=\"\",\"\",(IF($A11=\"Between\",SUMIFS('Vehicle Type Count by Agency'!AS:AS,'Vehicle Type Count by Agency'!$H:$H,\">=\"&$B11,'Vehicle Type Count by Agency'!$H:$H,\"<\"&$D11),SUMIFS('Vehicle Type Count by Agency'!AS:AS,'Vehicle Type Count by Agency'!$H:$H,\">=\"&$B11)))/IF($A11=\"Between\",SUMIFS('Vehicle Type Count by Agency'!AR:AR,'Vehicle Type Count by Agency'!$H:$H,\">=\"&$B11,'Vehicle Type Count by Agency'!$H:$H,\"<\"&$D11),SUMIFS('Vehicle Type Count by Agency'!AR:AR,'Vehicle Type Count by Agency'!$H:$H,\">=\"&$B11))),\"\")","v":1},{"$f":"IFERROR(IF($A11=\"\",\"\",(IF($A11=\"Between\",SUMIFS('Vehicle Type Count by Agency'!AU:AU,'Vehicle Type Count by Agency'!$H:$H,\">=\"&$B11,'Vehicle Type Count by Agency'!$H:$H,\"<\"&$D11),SUMIFS('Vehicle Type Count by Agency'!AU:AU,'Vehicle Type Count by Agency'!$H:$H,\">=\"&$B11)))/IF($A11=\"Between\",SUMIFS('Vehicle Type Count by Agency'!AT:AT,'Vehicle Type Count by Agency'!$H:$H,\">=\"&$B11,'Vehicle Type Count by Agency'!$H:$H,\"<\"&$D11),SUMIFS('Vehicle Type Count by Agency'!AT:AT,'Vehicle Type Count by Agency'!$H:$H,\">=\"&$B11))),\"\")","v":0.73809523809523814},{"$f":"IFERROR(IF($A11=\"\",\"\",(IF($A11=\"Between\",SUMIFS('Vehicle Type Count by Agency'!AW:AW,'Vehicle Type Count by Agency'!$H:$H,\">=\"&$B11,'Vehicle Type Count by Agency'!$H:$H,\"<\"&$D11),SUMIFS('Vehicle Type Count by Agency'!AW:AW,'Vehicle Type Count by Agency'!$H:$H,\">=\"&$B11)))/IF($A11=\"Between\",SUMIFS('Vehicle Type Count by Agency'!AV:AV,'Vehicle Type Count by Agency'!$H:$H,\">=\"&$B11,'Vehicle Type Count by Agency'!$H:$H,\"<\"&$D11),SUMIFS('Vehicle Type Count by Agency'!AV:AV,'Vehicle Type Count by Agency'!$H:$H,\">=\"&$B11))),\"\")","v":0},{"$f":"IFERROR(IF($A11=\"\",\"\",(IF($A11=\"Between\",SUMIFS('Vehicle Type Count by Agency'!AY:AY,'Vehicle Type Count by Agency'!$H:$H,\">=\"&$B11,'Vehicle Type Count by Agency'!$H:$H,\"<\"&$D11),SUMIFS('Vehicle Type Count by Agency'!AY:AY,'Vehicle Type Count by Agency'!$H:$H,\">=\"&$B11)))/IF($A11=\"Between\",SUMIFS('Vehicle Type Count by Agency'!AX:AX,'Vehicle Type Count by Agency'!$H:$H,\">=\"&$B11,'Vehicle Type Count by Agency'!$H:$H,\"<\"&$D11),SUMIFS('Vehicle Type Count by Agency'!AX:AX,'Vehicle Type Count by Agency'!$H:$H,\">=\"&$B11))),\"\")","v":0},{"$f":"IFERROR(IF($A11=\"\",\"\",(IF($A11=\"Between\",SUMIFS('Vehicle Type Count by Agency'!BA:BA,'Vehicle Type Count by Agency'!$H:$H,\">=\"&$B11,'Vehicle Type Count by Agency'!$H:$H,\"<\"&$D11),SUMIFS('Vehicle Type Count by Agency'!BA:BA,'Vehicle Type Count by Agency'!$H:$H,\">=\"&$B11)))/IF($A11=\"Between\",SUMIFS('Vehicle Type Count by Agency'!AZ:AZ,'Vehicle Type Count by Agency'!$H:$H,\">=\"&$B11,'Vehicle Type Count by Agency'!$H:$H,\"<\"&$D11),SUMIFS('Vehicle Type Count by Agency'!AZ:AZ,'Vehicle Type Count by Agency'!$H:$H,\">=\"&$B11))),\"\")","v":0.61111111111111116},{"$f":"IFERROR(IF($A11=\"\",\"\",(IF($A11=\"Between\",SUMIFS('Vehicle Type Count by Agency'!BC:BC,'Vehicle Type Count by Agency'!$H:$H,\">=\"&$B11,'Vehicle Type Count by Agency'!$H:$H,\"<\"&$D11),SUMIFS('Vehicle Type Count by Agency'!BC:BC,'Vehicle Type Count by Agency'!$H:$H,\">=\"&$B11)))/IF($A11=\"Between\",SUMIFS('Vehicle Type Count by Agency'!BB:BB,'Vehicle Type Count by Agency'!$H:$H,\">=\"&$B11,'Vehicle Type Count by Agency'!$H:$H,\"<\"&$D11),SUMIFS('Vehicle Type Count by Agency'!BB:BB,'Vehicle Type Count by Agency'!$H:$H,\">=\"&$B11))),\"\")","v":1},{"$f":"IFERROR(IF($A11=\"\",\"\",(IF($A11=\"Between\",SUMIFS('Vehicle Type Count by Agency'!BE:BE,'Vehicle Type Count by Agency'!$H:$H,\">=\"&$B11,'Vehicle Type Count by Agency'!$H:$H,\"<\"&$D11),SUMIFS('Vehicle Type Count by Agency'!BE:BE,'Vehicle Type Count by Agency'!$H:$H,\">=\"&$B11)))/IF($A11=\"Between\",SUMIFS('Vehicle Type Count by Agency'!BD:BD,'Vehicle Type Count by Agency'!$H:$H,\">=\"&$B11,'Vehicle Type Count by Agency'!$H:$H,\"<\"&$D11),SUMIFS('Vehicle Type Count by Agency'!BD:BD,'Vehicle Type Count by Agency'!$H:$H,\">=\"&$B11))),\"\")","v":7.8014184397163122E-2},{"$f":"IFERROR(IF($A11=\"\",\"\",(IF($A11=\"Between\",SUMIFS('Vehicle Type Count by Agency'!BG:BG,'Vehicle Type Count by Agency'!$H:$H,\">=\"&$B11,'Vehicle Type Count by Agency'!$H:$H,\"<\"&$D11),SUMIFS('Vehicle Type Count by Agency'!BG:BG,'Vehicle Type Count by Agency'!$H:$H,\">=\"&$B11)))/IF($A11=\"Between\",SUMIFS('Vehicle Type Count by Agency'!BF:BF,'Vehicle Type Count by Agency'!$H:$H,\">=\"&$B11,'Vehicle Type Count by Agency'!$H:$H,\"<\"&$D11),SUMIFS('Vehicle Type Count by Agency'!BF:BF,'Vehicle Type Count by Agency'!$H:$H,\">=\"&$B11))),\"\")","v":1},{"$f":"IFERROR(IF($A11=\"\",\"\",(IF($A11=\"Between\",SUMIFS('Vehicle Type Count by Agency'!BI:BI,'Vehicle Type Count by Agency'!$H:$H,\">=\"&$B11,'Vehicle Type Count by Agency'!$H:$H,\"<\"&$D11),SUMIFS('Vehicle Type Count by Agency'!BI:BI,'Vehicle Type Count by Agency'!$H:$H,\">=\"&$B11)))/IF($A11=\"Between\",SUMIFS('Vehicle Type Count by Agency'!BH:BH,'Vehicle Type Count by Agency'!$H:$H,\">=\"&$B11,'Vehicle Type Count by Agency'!$H:$H,\"<\"&$D11),SUMIFS('Vehicle Type Count by Agency'!BH:BH,'Vehicle Type Count by Agency'!$H:$H,\">=\"&$B11))),\"\")","v":0.14242002781641169}]
["","",{"$f":"IF(D12<>\"\",\"and\",\"\")","v":""},null,"invalid bin",{"$f":"IFERROR(IF($A12=\"\",\"\",(IF($A12=\"Between\",SUMIFS('Vehicle Type Count by Agency'!K:K,'Vehicle Type Count by Agency'!$H:$H,\">=\"&$B12,'Vehicle Type Count by Agency'!$H:$H,\"<\"&$D12),SUMIFS('Vehicle Type Count by Agency'!K:K,'Vehicle Type Count by Agency'!$H:$H,\">=\"&$B12)))/IF($A12=\"Between\",SUMIFS('Vehicle Type Count by Agency'!J:J,'Vehicle Type Count by Agency'!$H:$H,\">=\"&$B12,'Vehicle Type Count by Agency'!$H:$H,\"<\"&$D12),SUMIFS('Vehicle Type Count by Agency'!J:J,'Vehicle Type Count by Agency'!$H:$H,\">=\"&$B12))),\"\")","v":""},{"$f":"IFERROR(IF($A12=\"\",\"\",(IF($A12=\"Between\",SUMIFS('Vehicle Type Count by Agency'!M:M,'Vehicle Type Count by Agency'!$H:$H,\">=\"&$B12,'Vehicle Type Count by Agency'!$H:$H,\"<\"&$D12),SUMIFS('Vehicle Type Count by Agency'!M:M,'Vehicle Type Count by Agency'!$H:$H,\">=\"&$B12)))/IF($A12=\"Between\",SUMIFS('Vehicle Type Count by Agency'!L:L,'Vehicle Type Count by Agency'!$H:$H,\">=\"&$B12,'Vehicle Type Count by Agency'!$H:$H,\"<\"&$D12),SUMIFS('Vehicle Type Count by Agency'!L:L,'Vehicle Type Count by Agency'!$H:$H,\">=\"&$B12))),\"\")","v":""},{"$f":"IFERROR(IF($A12=\"\",\"\",(IF($A12=\"Between\",SUMIFS('Vehicle Type Count by Agency'!O:O,'Vehicle Type Count by Agency'!$H:$H,\">=\"&$B12,'Vehicle Type Count by Agency'!$H:$H,\"<\"&$D12),SUMIFS('Vehicle Type Count by Agency'!O:O,'Vehicle Type Count by Agency'!$H:$H,\">=\"&$B12)))/IF($A12=\"Between\",SUMIFS('Vehicle Type Count by Agency'!N:N,'Vehicle Type Count by Agency'!$H:$H,\">=\"&$B12,'Vehicle Type Count by Agency'!$H:$H,\"<\"&$D12),SUMIFS('Vehicle Type Count by Agency'!N:N,'Vehicle Type Count by Agency'!$H:$H,\">=\"&$B12))),\"\")","v":""},{"$f":"IFERROR(IF($A12=\"\",\"\",(IF($A12=\"Between\",SUMIFS('Vehicle Type Count by Agency'!Q:Q,'Vehicle Type Count by Agency'!$H:$H,\">=\"&$B12,'Vehicle Type Count by Agency'!$H:$H,\"<\"&$D12),SUMIFS('Vehicle Type Count by Agency'!Q:Q,'Vehicle Type Count by Agency'!$H:$H,\">=\"&$B12)))/IF($A12=\"Between\",SUMIFS('Vehicle Type Count by Agency'!P:P,'Vehicle Type Count by Agency'!$H:$H,\">=\"&$B12,'Vehicle Type Count by Agency'!$H:$H,\"<\"&$D12),SUMIFS('Vehicle Type Count by Agency'!P:P,'Vehicle Type Count by Agency'!$H:$H,\">=\"&$B12))),\"\")","v":""},{"$f":"IFERROR(IF($A12=\"\",\"\",(IF($A12=\"Between\",SUMIFS('Vehicle Type Count by Agency'!S:S,'Vehicle Type Count by Agency'!$H:$H,\">=\"&$B12,'Vehicle Type Count by Agency'!$H:$H,\"<\"&$D12),SUMIFS('Vehicle Type Count by Agency'!S:S,'Vehicle Type Count by Agency'!$H:$H,\">=\"&$B12)))/IF($A12=\"Between\",SUMIFS('Vehicle Type Count by Agency'!R:R,'Vehicle Type Count by Agency'!$H:$H,\">=\"&$B12,'Vehicle Type Count by Agency'!$H:$H,\"<\"&$D12),SUMIFS('Vehicle Type Count by Agency'!R:R,'Vehicle Type Count by Agency'!$H:$H,\">=\"&$B12))),\"\")","v":""},{"$f":"IFERROR(IF($A12=\"\",\"\",(IF($A12=\"Between\",SUMIFS('Vehicle Type Count by Agency'!U:U,'Vehicle Type Count by Agency'!$H:$H,\">=\"&$B12,'Vehicle Type Count by Agency'!$H:$H,\"<\"&$D12),SUMIFS('Vehicle Type Count by Agency'!U:U,'Vehicle Type Count by Agency'!$H:$H,\">=\"&$B12)))/IF($A12=\"Between\",SUMIFS('Vehicle Type Count by Agency'!T:T,'Vehicle Type Count by Agency'!$H:$H,\">=\"&$B12,'Vehicle Type Count by Agency'!$H:$H,\"<\"&$D12),SUMIFS('Vehicle Type Count by Agency'!T:T,'Vehicle Type Count by Agency'!$H:$H,\">=\"&$B12))),\"\")","v":""},{"$f":"IFERROR(IF($A12=\"\",\"\",(IF($A12=\"Between\",SUMIFS('Vehicle Type Count by Agency'!W:W,'Vehicle Type Count by Agency'!$H:$H,\">=\"&$B12,'Vehicle Type Count by Agency'!$H:$H,\"<\"&$D12),SUMIFS('Vehicle Type Count by Agency'!W:W,'Vehicle Type Count by Agency'!$H:$H,\">=\"&$B12)))/IF($A12=\"Between\",SUMIFS('Vehicle Type Count by Agency'!V:V,'Vehicle Type Count by Agency'!$H:$H,\">=\"&$B12,'Vehicle Type Count by Agency'!$H:$H,\"<\"&$D12),SUMIFS('Vehicle Type Count by Agency'!V:V,'Vehicle Type Count by Agency'!$H:$H,\">=\"&$B12))),\"\")","v":""},{"$f":"IFERROR(IF($A12=\"\",\"\",(IF($A12=\"Between\",SUMIFS('Vehicle Type Count by Agency'!Y:Y,'Vehicle Type Count by Agency'!$H:$H,\">=\"&$B12,'Vehicle Type Count by Agency'!$H:$H,\"<\"&$D12),SUMIFS('Vehicle Type Count by Agency'!Y:Y,'Vehicle Type Count by Agency'!$H:$H,\">=\"&$B12)))/IF($A12=\"Between\",SUMIFS('Vehicle Type Count by Agency'!X:X,'Vehicle Type Count by Agency'!$H:$H,\">=\"&$B12,'Vehicle Type Count by Agency'!$H:$H,\"<\"&$D12),SUMIFS('Vehicle Type Count by Agency'!X:X,'Vehicle Type Count by Agency'!$H:$H,\">=\"&$B12))),\"\")","v":""},{"$f":"IFERROR(IF($A12=\"\",\"\",(IF($A12=\"Between\",SUMIFS('Vehicle Type Count by Agency'!AA:AA,'Vehicle Type Count by Agency'!$H:$H,\">=\"&$B12,'Vehicle Type Count by Agency'!$H:$H,\"<\"&$D12),SUMIFS('Vehicle Type Count by Agency'!AA:AA,'Vehicle Type Count by Agency'!$H:$H,\">=\"&$B12)))/IF($A12=\"Between\",SUMIFS('Vehicle Type Count by Agency'!Z:Z,'Vehicle Type Count by Agency'!$H:$H,\">=\"&$B12,'Vehicle Type Count by Agency'!$H:$H,\"<\"&$D12),SUMIFS('Vehicle Type Count by Agency'!Z:Z,'Vehicle Type Count by Agency'!$H:$H,\">=\"&$B12))),\"\")","v":""},{"$f":"IFERROR(IF($A12=\"\",\"\",(IF($A12=\"Between\",SUMIFS('Vehicle Type Count by Agency'!AC:AC,'Vehicle Type Count by Agency'!$H:$H,\">=\"&$B12,'Vehicle Type Count by Agency'!$H:$H,\"<\"&$D12),SUMIFS('Vehicle Type Count by Agency'!AC:AC,'Vehicle Type Count by Agency'!$H:$H,\">=\"&$B12)))/IF($A12=\"Between\",SUMIFS('Vehicle Type Count by Agency'!AB:AB,'Vehicle Type Count by Agency'!$H:$H,\">=\"&$B12,'Vehicle Type Count by Agency'!$H:$H,\"<\"&$D12),SUMIFS('Vehicle Type Count by Agency'!AB:AB,'Vehicle Type Count by Agency'!$H:$H,\">=\"&$B12))),\"\")","v":""},{"$f":"IFERROR(IF($A12=\"\",\"\",(IF($A12=\"Between\",SUMIFS('Vehicle Type Count by Agency'!AE:AE,'Vehicle Type Count by Agency'!$H:$H,\">=\"&$B12,'Vehicle Type Count by Agency'!$H:$H,\"<\"&$D12),SUMIFS('Vehicle Type Count by Agency'!AE:AE,'Vehicle Type Count by Agency'!$H:$H,\">=\"&$B12)))/IF($A12=\"Between\",SUMIFS('Vehicle Type Count by Agency'!AD:AD,'Vehicle Type Count by Agency'!$H:$H,\">=\"&$B12,'Vehicle Type Count by Agency'!$H:$H,\"<\"&$D12),SUMIFS('Vehicle Type Count by Agency'!AD:AD,'Vehicle Type Count by Agency'!$H:$H,\">=\"&$B12))),\"\")","v":""},{"$f":"IFERROR(IF($A12=\"\",\"\",(IF($A12=\"Between\",SUMIFS('Vehicle Type Count by Agency'!AG:AG,'Vehicle Type Count by Agency'!$H:$H,\">=\"&$B12,'Vehicle Type Count by Agency'!$H:$H,\"<\"&$D12),SUMIFS('Vehicle Type Count by Agency'!AG:AG,'Vehicle Type Count by Agency'!$H:$H,\">=\"&$B12)))/IF($A12=\"Between\",SUMIFS('Vehicle Type Count by Agency'!AF:AF,'Vehicle Type Count by Agency'!$H:$H,\">=\"&$B12,'Vehicle Type Count by Agency'!$H:$H,\"<\"&$D12),SUMIFS('Vehicle Type Count by Agency'!AF:AF,'Vehicle Type Count by Agency'!$H:$H,\">=\"&$B12))),\"\")","v":""},{"$f":"IFERROR(IF($A12=\"\",\"\",(IF($A12=\"Between\",SUMIFS('Vehicle Type Count by Agency'!AI:AI,'Vehicle Type Count by Agency'!$H:$H,\">=\"&$B12,'Vehicle Type Count by Agency'!$H:$H,\"<\"&$D12),SUMIFS('Vehicle Type Count by Agency'!AI:AI,'Vehicle Type Count by Agency'!$H:$H,\">=\"&$B12)))/IF($A12=\"Between\",SUMIFS('Vehicle Type Count by Agency'!AH:AH,'Vehicle Type Count by Agency'!$H:$H,\">=\"&$B12,'Vehicle Type Count by Agency'!$H:$H,\"<\"&$D12),SUMIFS('Vehicle Type Count by Agency'!AH:AH,'Vehicle Type Count by Agency'!$H:$H,\">=\"&$B12))),\"\")","v":""},{"$f":"IFERROR(IF($A12=\"\",\"\",(IF($A12=\"Between\",SUMIFS('Vehicle Type Count by Agency'!AK:AK,'Vehicle Type Count by Agency'!$H:$H,\">=\"&$B12,'Vehicle Type Count by Agency'!$H:$H,\"<\"&$D12),SUMIFS('Vehicle Type Count by Agency'!AK:AK,'Vehicle Type Count by Agency'!$H:$H,\">=\"&$B12)))/IF($A12=\"Between\",SUMIFS('Vehicle Type Count by Agency'!AJ:AJ,'Vehicle Type Count by Agency'!$H:$H,\">=\"&$B12,'Vehicle Type Count by Agency'!$H:$H,\"<\"&$D12),SUMIFS('Vehicle Type Count by Agency'!AJ:AJ,'Vehicle Type Count by Agency'!$H:$H,\">=\"&$B12))),\"\")","v":""},{"$f":"IFERROR(IF($A12=\"\",\"\",(IF($A12=\"Between\",SUMIFS('Vehicle Type Count by Agency'!AM:AM,'Vehicle Type Count by Agency'!$H:$H,\">=\"&$B12,'Vehicle Type Count by Agency'!$H:$H,\"<\"&$D12),SUMIFS('Vehicle Type Count by Agency'!AM:AM,'Vehicle Type Count by Agency'!$H:$H,\">=\"&$B12)))/IF($A12=\"Between\",SUMIFS('Vehicle Type Count by Agency'!AL:AL,'Vehicle Type Count by Agency'!$H:$H,\">=\"&$B12,'Vehicle Type Count by Agency'!$H:$H,\"<\"&$D12),SUMIFS('Vehicle Type Count by Agency'!AL:AL,'Vehicle Type Count by Agency'!$H:$H,\">=\"&$B12))),\"\")","v":""},{"$f":"IFERROR(IF($A12=\"\",\"\",(IF($A12=\"Between\",SUMIFS('Vehicle Type Count by Agency'!AO:AO,'Vehicle Type Count by Agency'!$H:$H,\">=\"&$B12,'Vehicle Type Count by Agency'!$H:$H,\"<\"&$D12),SUMIFS('Vehicle Type Count by Agency'!AO:AO,'Vehicle Type Count by Agency'!$H:$H,\">=\"&$B12)))/IF($A12=\"Between\",SUMIFS('Vehicle Type Count by Agency'!AN:AN,'Vehicle Type Count by Agency'!$H:$H,\">=\"&$B12,'Vehicle Type Count by Agency'!$H:$H,\"<\"&$D12),SUMIFS('Vehicle Type Count by Agency'!AN:AN,'Vehicle Type Count by Agency'!$H:$H,\">=\"&$B12))),\"\")","v":""},{"$f":"IFERROR(IF($A12=\"\",\"\",(IF($A12=\"Between\",SUMIFS('Vehicle Type Count by Agency'!AQ:AQ,'Vehicle Type Count by Agency'!$H:$H,\">=\"&$B12,'Vehicle Type Count by Agency'!$H:$H,\"<\"&$D12),SUMIFS('Vehicle Type Count by Agency'!AQ:AQ,'Vehicle Type Count by Agency'!$H:$H,\">=\"&$B12)))/IF($A12=\"Between\",SUMIFS('Vehicle Type Count by Agency'!AP:AP,'Vehicle Type Count by Agency'!$H:$H,\">=\"&$B12,'Vehicle Type Count by Agency'!$H:$H,\"<\"&$D12),SUMIFS('Vehicle Type Count by Agency'!AP:AP,'Vehicle Type Count by Agency'!$H:$H,\">=\"&$B12))),\"\")","v":""},{"$f":"IFERROR(IF($A12=\"\",\"\",(IF($A12=\"Between\",SUMIFS('Vehicle Type Count by Agency'!AS:AS,'Vehicle Type Count by Agency'!$H:$H,\">=\"&$B12,'Vehicle Type Count by Agency'!$H:$H,\"<\"&$D12),SUMIFS('Vehicle Type Count by Agency'!AS:AS,'Vehicle Type Count by Agency'!$H:$H,\">=\"&$B12)))/IF($A12=\"Between\",SUMIFS('Vehicle Type Count by Agency'!AR:AR,'Vehicle Type Count by Agency'!$H:$H,\">=\"&$B12,'Vehicle Type Count by Agency'!$H:$H,\"<\"&$D12),SUMIFS('Vehicle Type Count by Agency'!AR:AR,'Vehicle Type Count by Agency'!$H:$H,\">=\"&$B12))),\"\")","v":""},{"$f":"IFERROR(IF($A12=\"\",\"\",(IF($A12=\"Between\",SUMIFS('Vehicle Type Count by Agency'!AU:AU,'Vehicle Type Count by Agency'!$H:$H,\">=\"&$B12,'Vehicle Type Count by Agency'!$H:$H,\"<\"&$D12),SUMIFS('Vehicle Type Count by Agency'!AU:AU,'Vehicle Type Count by Agency'!$H:$H,\">=\"&$B12)))/IF($A12=\"Between\",SUMIFS('Vehicle Type Count by Agency'!AT:AT,'Vehicle Type Count by Agency'!$H:$H,\">=\"&$B12,'Vehicle Type Count by Agency'!$H:$H,\"<\"&$D12),SUMIFS('Vehicle Type Count by Agency'!AT:AT,'Vehicle Type Count by Agency'!$H:$H,\">=\"&$B12))),\"\")","v":""},{"$f":"IFERROR(IF($A12=\"\",\"\",(IF($A12=\"Between\",SUMIFS('Vehicle Type Count by Agency'!AW:AW,'Vehicle Type Count by Agency'!$H:$H,\">=\"&$B12,'Vehicle Type Count by Agency'!$H:$H,\"<\"&$D12),SUMIFS('Vehicle Type Count by Agency'!AW:AW,'Vehicle Type Count by Agency'!$H:$H,\">=\"&$B12)))/IF($A12=\"Between\",SUMIFS('Vehicle Type Count by Agency'!AV:AV,'Vehicle Type Count by Agency'!$H:$H,\">=\"&$B12,'Vehicle Type Count by Agency'!$H:$H,\"<\"&$D12),SUMIFS('Vehicle Type Count by Agency'!AV:AV,'Vehicle Type Count by Agency'!$H:$H,\">=\"&$B12))),\"\")","v":""},{"$f":"IFERROR(IF($A12=\"\",\"\",(IF($A12=\"Between\",SUMIFS('Vehicle Type Count by Agency'!AY:AY,'Vehicle Type Count by Agency'!$H:$H,\">=\"&$B12,'Vehicle Type Count by Agency'!$H:$H,\"<\"&$D12),SUMIFS('Vehicle Type Count by Agency'!AY:AY,'Vehicle Type Count by Agency'!$H:$H,\">=\"&$B12)))/IF($A12=\"Between\",SUMIFS('Vehicle Type Count by Agency'!AX:AX,'Vehicle Type Count by Agency'!$H:$H,\">=\"&$B12,'Vehicle Type Count by Agency'!$H:$H,\"<\"&$D12),SUMIFS('Vehicle Type Count by Agency'!AX:AX,'Vehicle Type Count by Agency'!$H:$H,\">=\"&$B12))),\"\")","v":""},{"$f":"IFERROR(IF($A12=\"\",\"\",(IF($A12=\"Between\",SUMIFS('Vehicle Type Count by Agency'!BA:BA,'Vehicle Type Count by Agency'!$H:$H,\">=\"&$B12,'Vehicle Type Count by Agency'!$H:$H,\"<\"&$D12),SUMIFS('Vehicle Type Count by Agency'!BA:BA,'Vehicle Type Count by Agency'!$H:$H,\">=\"&$B12)))/IF($A12=\"Between\",SUMIFS('Vehicle Type Count by Agency'!AZ:AZ,'Vehicle Type Count by Agency'!$H:$H,\">=\"&$B12,'Vehicle Type Count by Agency'!$H:$H,\"<\"&$D12),SUMIFS('Vehicle Type Count by Agency'!AZ:AZ,'Vehicle Type Count by Agency'!$H:$H,\">=\"&$B12))),\"\")","v":""},{"$f":"IFERROR(IF($A12=\"\",\"\",(IF($A12=\"Between\",SUMIFS('Vehicle Type Count by Agency'!BC:BC,'Vehicle Type Count by Agency'!$H:$H,\">=\"&$B12,'Vehicle Type Count by Agency'!$H:$H,\"<\"&$D12),SUMIFS('Vehicle Type Count by Agency'!BC:BC,'Vehicle Type Count by Agency'!$H:$H,\">=\"&$B12)))/IF($A12=\"Between\",SUMIFS('Vehicle Type Count by Agency'!BB:BB,'Vehicle Type Count by Agency'!$H:$H,\">=\"&$B12,'Vehicle Type Count by Agency'!$H:$H,\"<\"&$D12),SUMIFS('Vehicle Type Count by Agency'!BB:BB,'Vehicle Type Count by Agency'!$H:$H,\">=\"&$B12))),\"\")","v":""},{"$f":"IFERROR(IF($A12=\"\",\"\",(IF($A12=\"Between\",SUMIFS('Vehicle Type Count by Agency'!BE:BE,'Vehicle Type Count by Agency'!$H:$H,\">=\"&$B12,'Vehicle Type Count by Agency'!$H:$H,\"<\"&$D12),SUMIFS('Vehicle Type Count by Agency'!BE:BE,'Vehicle Type Count by Agency'!$H:$H,\">=\"&$B12)))/IF($A12=\"Between\",SUMIFS('Vehicle Type Count by Agency'!BD:BD,'Vehicle Type Count by Agency'!$H:$H,\">=\"&$B12,'Vehicle Type Count by Agency'!$H:$H,\"<\"&$D12),SUMIFS('Vehicle Type Count by Agency'!BD:BD,'Vehicle Type Count by Agency'!$H:$H,\">=\"&$B12))),\"\")","v":""},{"$f":"IFERROR(IF($A12=\"\",\"\",(IF($A12=\"Between\",SUMIFS('Vehicle Type Count by Agency'!BG:BG,'Vehicle Type Count by Agency'!$H:$H,\">=\"&$B12,'Vehicle Type Count by Agency'!$H:$H,\"<\"&$D12),SUMIFS('Vehicle Type Count by Agency'!BG:BG,'Vehicle Type Count by Agency'!$H:$H,\">=\"&$B12)))/IF($A12=\"Between\",SUMIFS('Vehicle Type Count by Agency'!BF:BF,'Vehicle Type Count by Agency'!$H:$H,\">=\"&$B12,'Vehicle Type Count by Agency'!$H:$H,\"<\"&$D12),SUMIFS('Vehicle Type Count by Agency'!BF:BF,'Vehicle Type Count by Agency'!$H:$H,\">=\"&$B12))),\"\")","v":""},{"$f":"IFERROR(IF($A12=\"\",\"\",(IF($A12=\"Between\",SUMIFS('Vehicle Type Count by Agency'!BI:BI,'Vehicle Type Count by Agency'!$H:$H,\">=\"&$B12,'Vehicle Type Count by Agency'!$H:$H,\"<\"&$D12),SUMIFS('Vehicle Type Count by Agency'!BI:BI,'Vehicle Type Count by Agency'!$H:$H,\">=\"&$B12)))/IF($A12=\"Between\",SUMIFS('Vehicle Type Count by Agency'!BH:BH,'Vehicle Type Count by Agency'!$H:$H,\">=\"&$B12,'Vehicle Type Count by Agency'!$H:$H,\"<\"&$D12),SUMIFS('Vehicle Type Count by Agency'!BH:BH,'Vehicle Type Count by Agency'!$H:$H,\">=\"&$B12))),\"\")","v":""}]
["","","",null,"invalid bin",{"$f":"IFERROR(IF($A13=\"\",\"\",(IF($A13=\"Between\",SUMIFS('Vehicle Type Count by Agency'!K:K,'Vehicle Type Count by Agency'!$H:$H,\">=\"&$B13,'Vehicle Type Count by Agency'!$H:$H,\"<\"&$D13),SUMIFS('Vehicle Type Count by Agency'!K:K,'Vehicle Type Count by Agency'!$H:$H,\">=\"&$B13)))/IF($A13=\"Between\",SUMIFS('Vehicle Type Count by Agency'!J:J,'Vehicle Type Count by Agency'!$H:$H,\">=\"&$B13,'Vehicle Type Count by Agency'!$H:$H,\"<\"&$D13),SUMIFS('Vehicle Type Count by Agency'!J:J,'Vehicle Type Count by Agency'!$H:$H,\">=\"&$B13))),\"\")","v":""},{"$f":"IFERROR(IF($A13=\"\",\"\",(IF($A13=\"Between\",SUMIFS('Vehicle Type Count by Agency'!M:M,'Vehicle Type Count by Agency'!$H:$H,\">=\"&$B13,'Vehicle Type Count by Agency'!$H:$H,\"<\"&$D13),SUMIFS('Vehicle Type Count by Agency'!M:M,'Vehicle Type Count by Agency'!$H:$H,\">=\"&$B13)))/IF($A13=\"Between\",SUMIFS('Vehicle Type Count by Agency'!L:L,'Vehicle Type Count by Agency'!$H:$H,\">=\"&$B13,'Vehicle Type Count by Agency'!$H:$H,\"<\"&$D13),SUMIFS('Vehicle Type Count by Agency'!L:L,'Vehicle Type Count by Agency'!$H:$H,\">=\"&$B13))),\"\")","v":""},{"$f":"IFERROR(IF($A13=\"\",\"\",(IF($A13=\"Between\",SUMIFS('Vehicle Type Count by Agency'!O:O,'Vehicle Type Count by Agency'!$H:$H,\">=\"&$B13,'Vehicle Type Count by Agency'!$H:$H,\"<\"&$D13),SUMIFS('Vehicle Type Count by Agency'!O:O,'Vehicle Type Count by Agency'!$H:$H,\">=\"&$B13)))/IF($A13=\"Between\",SUMIFS('Vehicle Type Count by Agency'!N:N,'Vehicle Type Count by Agency'!$H:$H,\">=\"&$B13,'Vehicle Type Count by Agency'!$H:$H,\"<\"&$D13),SUMIFS('Vehicle Type Count by Agency'!N:N,'Vehicle Type Count by Agency'!$H:$H,\">=\"&$B13))),\"\")","v":""},{"$f":"IFERROR(IF($A13=\"\",\"\",(IF($A13=\"Between\",SUMIFS('Vehicle Type Count by Agency'!Q:Q,'Vehicle Type Count by Agency'!$H:$H,\">=\"&$B13,'Vehicle Type Count by Agency'!$H:$H,\"<\"&$D13),SUMIFS('Vehicle Type Count by Agency'!Q:Q,'Vehicle Type Count by Agency'!$H:$H,\">=\"&$B13)))/IF($A13=\"Between\",SUMIFS('Vehicle Type Count by Agency'!P:P,'Vehicle Type Count by Agency'!$H:$H,\">=\"&$B13,'Vehicle Type Count by Agency'!$H:$H,\"<\"&$D13),SUMIFS('Vehicle Type Count by Agency'!P:P,'Vehicle Type Count by Agency'!$H:$H,\">=\"&$B13))),\"\")","v":""},{"$f":"IFERROR(IF($A13=\"\",\"\",(IF($A13=\"Between\",SUMIFS('Vehicle Type Count by Agency'!S:S,'Vehicle Type Count by Agency'!$H:$H,\">=\"&$B13,'Vehicle Type Count by Agency'!$H:$H,\"<\"&$D13),SUMIFS('Vehicle Type Count by Agency'!S:S,'Vehicle Type Count by Agency'!$H:$H,\">=\"&$B13)))/IF($A13=\"Between\",SUMIFS('Vehicle Type Count by Agency'!R:R,'Vehicle Type Count by Agency'!$H:$H,\">=\"&$B13,'Vehicle Type Count by Agency'!$H:$H,\"<\"&$D13),SUMIFS('Vehicle Type Count by Agency'!R:R,'Vehicle Type Count by Agency'!$H:$H,\">=\"&$B13))),\"\")","v":""},{"$f":"IFERROR(IF($A13=\"\",\"\",(IF($A13=\"Between\",SUMIFS('Vehicle Type Count by Agency'!U:U,'Vehicle Type Count by Agency'!$H:$H,\">=\"&$B13,'Vehicle Type Count by Agency'!$H:$H,\"<\"&$D13),SUMIFS('Vehicle Type Count by Agency'!U:U,'Vehicle Type Count by Agency'!$H:$H,\">=\"&$B13)))/IF($A13=\"Between\",SUMIFS('Vehicle Type Count by Agency'!T:T,'Vehicle Type Count by Agency'!$H:$H,\">=\"&$B13,'Vehicle Type Count by Agency'!$H:$H,\"<\"&$D13),SUMIFS('Vehicle Type Count by Agency'!T:T,'Vehicle Type Count by Agency'!$H:$H,\">=\"&$B13))),\"\")","v":""},{"$f":"IFERROR(IF($A13=\"\",\"\",(IF($A13=\"Between\",SUMIFS('Vehicle Type Count by Agency'!W:W,'Vehicle Type Count by Agency'!$H:$H,\">=\"&$B13,'Vehicle Type Count by Agency'!$H:$H,\"<\"&$D13),SUMIFS('Vehicle Type Count by Agency'!W:W,'Vehicle Type Count by Agency'!$H:$H,\">=\"&$B13)))/IF($A13=\"Between\",SUMIFS('Vehicle Type Count by Agency'!V:V,'Vehicle Type Count by Agency'!$H:$H,\">=\"&$B13,'Vehicle Type Count by Agency'!$H:$H,\"<\"&$D13),SUMIFS('Vehicle Type Count by Agency'!V:V,'Vehicle Type Count by Agency'!$H:$H,\">=\"&$B13))),\"\")","v":""},{"$f":"IFERROR(IF($A13=\"\",\"\",(IF($A13=\"Between\",SUMIFS('Vehicle Type Count by Agency'!Y:Y,'Vehicle Type Count by Agency'!$H:$H,\">=\"&$B13,'Vehicle Type Count by Agency'!$H:$H,\"<\"&$D13),SUMIFS('Vehicle Type Count by Agency'!Y:Y,'Vehicle Type Count by Agency'!$H:$H,\">=\"&$B13)))/IF($A13=\"Between\",SUMIFS('Vehicle Type Count by Agency'!X:X,'Vehicle Type Count by Agency'!$H:$H,\">=\"&$B13,'Vehicle Type Count by Agency'!$H:$H,\"<\"&$D13),SUMIFS('Vehicle Type Count by Agency'!X:X,'Vehicle Type Count by Agency'!$H:$H,\">=\"&$B13))),\"\")","v":""},{"$f":"IFERROR(IF($A13=\"\",\"\",(IF($A13=\"Between\",SUMIFS('Vehicle Type Count by Agency'!AA:AA,'Vehicle Type Count by Agency'!$H:$H,\">=\"&$B13,'Vehicle Type Count by Agency'!$H:$H,\"<\"&$D13),SUMIFS('Vehicle Type Count by Agency'!AA:AA,'Vehicle Type Count by Agency'!$H:$H,\">=\"&$B13)))/IF($A13=\"Between\",SUMIFS('Vehicle Type Count by Agency'!Z:Z,'Vehicle Type Count by Agency'!$H:$H,\">=\"&$B13,'Vehicle Type Count by Agency'!$H:$H,\"<\"&$D13),SUMIFS('Vehicle Type Count by Agency'!Z:Z,'Vehicle Type Count by Agency'!$H:$H,\">=\"&$B13))),\"\")","v":""},{"$f":"IFERROR(IF($A13=\"\",\"\",(IF($A13=\"Between\",SUMIFS('Vehicle Type Count by Agency'!AC:AC,'Vehicle Type Count by Agency'!$H:$H,\">=\"&$B13,'Vehicle Type Count by Agency'!$H:$H,\"<\"&$D13),SUMIFS('Vehicle Type Count by Agency'!AC:AC,'Vehicle Type Count by Agency'!$H:$H,\">=\"&$B13)))/IF($A13=\"Between\",SUMIFS('Vehicle Type Count by Agency'!AB:AB,'Vehicle Type Count by Agency'!$H:$H,\">=\"&$B13,'Vehicle Type Count by Agency'!$H:$H,\"<\"&$D13),SUMIFS('Vehicle Type Count by Agency'!AB:AB,'Vehicle Type Count by Agency'!$H:$H,\">=\"&$B13))),\"\")","v":""},{"$f":"IFERROR(IF($A13=\"\",\"\",(IF($A13=\"Between\",SUMIFS('Vehicle Type Count by Agency'!AE:AE,'Vehicle Type Count by Agency'!$H:$H,\">=\"&$B13,'Vehicle Type Count by Agency'!$H:$H,\"<\"&$D13),SUMIFS('Vehicle Type Count by Agency'!AE:AE,'Vehicle Type Count by Agency'!$H:$H,\">=\"&$B13)))/IF($A13=\"Between\",SUMIFS('Vehicle Type Count by Agency'!AD:AD,'Vehicle Type Count by Agency'!$H:$H,\">=\"&$B13,'Vehicle Type Count by Agency'!$H:$H,\"<\"&$D13),SUMIFS('Vehicle Type Count by Agency'!AD:AD,'Vehicle Type Count by Agency'!$H:$H,\">=\"&$B13))),\"\")","v":""},{"$f":"IFERROR(IF($A13=\"\",\"\",(IF($A13=\"Between\",SUMIFS('Vehicle Type Count by Agency'!AG:AG,'Vehicle Type Count by Agency'!$H:$H,\">=\"&$B13,'Vehicle Type Count by Agency'!$H:$H,\"<\"&$D13),SUMIFS('Vehicle Type Count by Agency'!AG:AG,'Vehicle Type Count by Agency'!$H:$H,\">=\"&$B13)))/IF($A13=\"Between\",SUMIFS('Vehicle Type Count by Agency'!AF:AF,'Vehicle Type Count by Agency'!$H:$H,\">=\"&$B13,'Vehicle Type Count by Agency'!$H:$H,\"<\"&$D13),SUMIFS('Vehicle Type Count by Agency'!AF:AF,'Vehicle Type Count by Agency'!$H:$H,\">=\"&$B13))),\"\")","v":""},{"$f":"IFERROR(IF($A13=\"\",\"\",(IF($A13=\"Between\",SUMIFS('Vehicle Type Count by Agency'!AI:AI,'Vehicle Type Count by Agency'!$H:$H,\">=\"&$B13,'Vehicle Type Count by Agency'!$H:$H,\"<\"&$D13),SUMIFS('Vehicle Type Count by Agency'!AI:AI,'Vehicle Type Count by Agency'!$H:$H,\">=\"&$B13)))/IF($A13=\"Between\",SUMIFS('Vehicle Type Count by Agency'!AH:AH,'Vehicle Type Count by Agency'!$H:$H,\">=\"&$B13,'Vehicle Type Count by Agency'!$H:$H,\"<\"&$D13),SUMIFS('Vehicle Type Count by Agency'!AH:AH,'Vehicle Type Count by Agency'!$H:$H,\">=\"&$B13))),\"\")","v":""},{"$f":"IFERROR(IF($A13=\"\",\"\",(IF($A13=\"Between\",SUMIFS('Vehicle Type Count by Agency'!AK:AK,'Vehicle Type Count by Agency'!$H:$H,\">=\"&$B13,'Vehicle Type Count by Agency'!$H:$H,\"<\"&$D13),SUMIFS('Vehicle Type Count by Agency'!AK:AK,'Vehicle Type Count by Agency'!$H:$H,\">=\"&$B13)))/IF($A13=\"Between\",SUMIFS('Vehicle Type Count by Agency'!AJ:AJ,'Vehicle Type Count by Agency'!$H:$H,\">=\"&$B13,'Vehicle Type Count by Agency'!$H:$H,\"<\"&$D13),SUMIFS('Vehicle Type Count by Agency'!AJ:AJ,'Vehicle Type Count by Agency'!$H:$H,\">=\"&$B13))),\"\")","v":""},{"$f":"IFERROR(IF($A13=\"\",\"\",(IF($A13=\"Between\",SUMIFS('Vehicle Type Count by Agency'!AM:AM,'Vehicle Type Count by Agency'!$H:$H,\">=\"&$B13,'Vehicle Type Count by Agency'!$H:$H,\"<\"&$D13),SUMIFS('Vehicle Type Count by Agency'!AM:AM,'Vehicle Type Count by Agency'!$H:$H,\">=\"&$B13)))/IF($A13=\"Between\",SUMIFS('Vehicle Type Count by Agency'!AL:AL,'Vehicle Type Count by Agency'!$H:$H,\">=\"&$B13,'Vehicle Type Count by Agency'!$H:$H,\"<\"&$D13),SUMIFS('Vehicle Type Count by Agency'!AL:AL,'Vehicle Type Count by Agency'!$H:$H,\">=\"&$B13))),\"\")","v":""},{"$f":"IFERROR(IF($A13=\"\",\"\",(IF($A13=\"Between\",SUMIFS('Vehicle Type Count by Agency'!AO:AO,'Vehicle Type Count by Agency'!$H:$H,\">=\"&$B13,'Vehicle Type Count by Agency'!$H:$H,\"<\"&$D13),SUMIFS('Vehicle Type Count by Agency'!AO:AO,'Vehicle Type Count by Agency'!$H:$H,\">=\"&$B13)))/IF($A13=\"Between\",SUMIFS('Vehicle Type Count by Agency'!AN:AN,'Vehicle Type Count by Agency'!$H:$H,\">=\"&$B13,'Vehicle Type Count by Agency'!$H:$H,\"<\"&$D13),SUMIFS('Vehicle Type Count by Agency'!AN:AN,'Vehicle Type Count by Agency'!$H:$H,\">=\"&$B13))),\"\")","v":""},{"$f":"IFERROR(IF($A13=\"\",\"\",(IF($A13=\"Between\",SUMIFS('Vehicle Type Count by Agency'!AQ:AQ,'Vehicle Type Count by Agency'!$H:$H,\">=\"&$B13,'Vehicle Type Count by Agency'!$H:$H,\"<\"&$D13),SUMIFS('Vehicle Type Count by Agency'!AQ:AQ,'Vehicle Type Count by Agency'!$H:$H,\">=\"&$B13)))/IF($A13=\"Between\",SUMIFS('Vehicle Type Count by Agency'!AP:AP,'Vehicle Type Count by Agency'!$H:$H,\">=\"&$B13,'Vehicle Type Count by Agency'!$H:$H,\"<\"&$D13),SUMIFS('Vehicle Type Count by Agency'!AP:AP,'Vehicle Type Count by Agency'!$H:$H,\">=\"&$B13))),\"\")","v":""},{"$f":"IFERROR(IF($A13=\"\",\"\",(IF($A13=\"Between\",SUMIFS('Vehicle Type Count by Agency'!AS:AS,'Vehicle Type Count by Agency'!$H:$H,\">=\"&$B13,'Vehicle Type Count by Agency'!$H:$H,\"<\"&$D13),SUMIFS('Vehicle Type Count by Agency'!AS:AS,'Vehicle Type Count by Agency'!$H:$H,\">=\"&$B13)))/IF($A13=\"Between\",SUMIFS('Vehicle Type Count by Agency'!AR:AR,'Vehicle Type Count by Agency'!$H:$H,\">=\"&$B13,'Vehicle Type Count by Agency'!$H:$H,\"<\"&$D13),SUMIFS('Vehicle Type Count by Agency'!AR:AR,'Vehicle Type Count by Agency'!$H:$H,\">=\"&$B13))),\"\")","v":""},{"$f":"IFERROR(IF($A13=\"\",\"\",(IF($A13=\"Between\",SUMIFS('Vehicle Type Count by Agency'!AU:AU,'Vehicle Type Count by Agency'!$H:$H,\">=\"&$B13,'Vehicle Type Count by Agency'!$H:$H,\"<\"&$D13),SUMIFS('Vehicle Type Count by Agency'!AU:AU,'Vehicle Type Count by Agency'!$H:$H,\">=\"&$B13)))/IF($A13=\"Between\",SUMIFS('Vehicle Type Count by Agency'!AT:AT,'Vehicle Type Count by Agency'!$H:$H,\">=\"&$B13,'Vehicle Type Count by Agency'!$H:$H,\"<\"&$D13),SUMIFS('Vehicle Type Count by Agency'!AT:AT,'Vehicle Type Count by Agency'!$H:$H,\">=\"&$B13))),\"\")","v":""},{"$f":"IFERROR(IF($A13=\"\",\"\",(IF($A13=\"Between\",SUMIFS('Vehicle Type Count by Agency'!AW:AW,'Vehicle Type Count by Agency'!$H:$H,\">=\"&$B13,'Vehicle Type Count by Agency'!$H:$H,\"<\"&$D13),SUMIFS('Vehicle Type Count by Agency'!AW:AW,'Vehicle Type Count by Agency'!$H:$H,\">=\"&$B13)))/IF($A13=\"Between\",SUMIFS('Vehicle Type Count by Agency'!AV:AV,'Vehicle Type Count by Agency'!$H:$H,\">=\"&$B13,'Vehicle Type Count by Agency'!$H:$H,\"<\"&$D13),SUMIFS('Vehicle Type Count by Agency'!AV:AV,'Vehicle Type Count by Agency'!$H:$H,\">=\"&$B13))),\"\")","v":""},{"$f":"IFERROR(IF($A13=\"\",\"\",(IF($A13=\"Between\",SUMIFS('Vehicle Type Count by Agency'!AY:AY,'Vehicle Type Count by Agency'!$H:$H,\">=\"&$B13,'Vehicle Type Count by Agency'!$H:$H,\"<\"&$D13),SUMIFS('Vehicle Type Count by Agency'!AY:AY,'Vehicle Type Count by Agency'!$H:$H,\">=\"&$B13)))/IF($A13=\"Between\",SUMIFS('Vehicle Type Count by Agency'!AX:AX,'Vehicle Type Count by Agency'!$H:$H,\">=\"&$B13,'Vehicle Type Count by Agency'!$H:$H,\"<\"&$D13),SUMIFS('Vehicle Type Count by Agency'!AX:AX,'Vehicle Type Count by Agency'!$H:$H,\">=\"&$B13))),\"\")","v":""},{"$f":"IFERROR(IF($A13=\"\",\"\",(IF($A13=\"Between\",SUMIFS('Vehicle Type Count by Agency'!BA:BA,'Vehicle Type Count by Agency'!$H:$H,\">=\"&$B13,'Vehicle Type Count by Agency'!$H:$H,\"<\"&$D13),SUMIFS('Vehicle Type Count by Agency'!BA:BA,'Vehicle Type Count by Agency'!$H:$H,\">=\"&$B13)))/IF($A13=\"Between\",SUMIFS('Vehicle Type Count by Agency'!AZ:AZ,'Vehicle Type Count by Agency'!$H:$H,\">=\"&$B13,'Vehicle Type Count by Agency'!$H:$H,\"<\"&$D13),SUMIFS('Vehicle Type Count by Agency'!AZ:AZ,'Vehicle Type Count by Agency'!$H:$H,\">=\"&$B13))),\"\")","v":""},{"$f":"IFERROR(IF($A13=\"\",\"\",(IF($A13=\"Between\",SUMIFS('Vehicle Type Count by Agency'!BC:BC,'Vehicle Type Count by Agency'!$H:$H,\">=\"&$B13,'Vehicle Type Count by Agency'!$H:$H,\"<\"&$D13),SUMIFS('Vehicle Type Count by Agency'!BC:BC,'Vehicle Type Count by Agency'!$H:$H,\">=\"&$B13)))/IF($A13=\"Between\",SUMIFS('Vehicle Type Count by Agency'!BB:BB,'Vehicle Type Count by Agency'!$H:$H,\">=\"&$B13,'Vehicle Type Count by Agency'!$H:$H,\"<\"&$D13),SUMIFS('Vehicle Type Count by Agency'!BB:BB,'Vehicle Type Count by Agency'!$H:$H,\">=\"&$B13))),\"\")","v":""},{"$f":"IFERROR(IF($A13=\"\",\"\",(IF($A13=\"Between\",SUMIFS('Vehicle Type Count by Agency'!BE:BE,'Vehicle Type Count by Agency'!$H:$H,\">=\"&$B13,'Vehicle Type Count by Agency'!$H:$H,\"<\"&$D13),SUMIFS('Vehicle Type Count by Agency'!BE:BE,'Vehicle Type Count by Agency'!$H:$H,\">=\"&$B13)))/IF($A13=\"Between\",SUMIFS('Vehicle Type Count by Agency'!BD:BD,'Vehicle Type Count by Agency'!$H:$H,\">=\"&$B13,'Vehicle Type Count by Agency'!$H:$H,\"<\"&$D13),SUMIFS('Vehicle Type Count by Agency'!BD:BD,'Vehicle Type Count by Agency'!$H:$H,\">=\"&$B13))),\"\")","v":""},{"$f":"IFERROR(IF($A13=\"\",\"\",(IF($A13=\"Between\",SUMIFS('Vehicle Type Count by Agency'!BG:BG,'Vehicle Type Count by Agency'!$H:$H,\">=\"&$B13,'Vehicle Type Count by Agency'!$H:$H,\"<\"&$D13),SUMIFS('Vehicle Type Count by Agency'!BG:BG,'Vehicle Type Count by Agency'!$H:$H,\">=\"&$B13)))/IF($A13=\"Between\",SUMIFS('Vehicle Type Count by Agency'!BF:BF,'Vehicle Type Count by Agency'!$H:$H,\">=\"&$B13,'Vehicle Type Count by Agency'!$H:$H,\"<\"&$D13),SUMIFS('Vehicle Type Count by Agency'!BF:BF,'Vehicle Type Count by Agency'!$H:$H,\">=\"&$B13))),\"\")","v":""},{"$f":"IFERROR(IF($A13=\"\",\"\",(IF($A13=\"Between\",SUMIFS('Vehicle Type Count by Agency'!BI:BI,'Vehicle Type Count by Agency'!$H:$H,\">=\"&$B13,'Vehicle Type Count by Agency'!$H:$H,\"<\"&$D13),SUMIFS('Vehicle Type Count by Agency'!BI:BI,'Vehicle Type Count by Agency'!$H:$H,\">=\"&$B13)))/IF($A13=\"Between\",SUMIFS('Vehicle Type Count by Agency'!BH:BH,'Vehicle Type Count by Agency'!$H:$H,\">=\"&$B13,'Vehicle Type Count by Agency'!$H:$H,\"<\"&$D13),SUMIFS('Vehicle Type Count by Agency'!BH:BH,'Vehicle Type Count by Agency'!$H:$H,\">=\"&$B13))),\"\")","v":""}]
["","","",null,"invalid bin",{"$f":"IFERROR(IF($A14=\"\",\"\",(IF($A14=\"Between\",SUMIFS('Vehicle Type Count by Agency'!K:K,'Vehicle Type Count by Agency'!$H:$H,\">=\"&$B14,'Vehicle Type Count by Agency'!$H:$H,\"<\"&$D14),SUMIFS('Vehicle Type Count by Agency'!K:K,'Vehicle Type Count by Agency'!$H:$H,\">=\"&$B14)))/IF($A14=\"Between\",SUMIFS('Vehicle Type Count by Agency'!J:J,'Vehicle Type Count by Agency'!$H:$H,\">=\"&$B14,'Vehicle Type Count by Agency'!$H:$H,\"<\"&$D14),SUMIFS('Vehicle Type Count by Agency'!J:J,'Vehicle Type Count by Agency'!$H:$H,\">=\"&$B14))),\"\")","v":""},{"$f":"IFERROR(IF($A14=\"\",\"\",(IF($A14=\"Between\",SUMIFS('Vehicle Type Count by Agency'!M:M,'Vehicle Type Count by Agency'!$H:$H,\">=\"&$B14,'Vehicle Type Count by Agency'!$H:$H,\"<\"&$D14),SUMIFS('Vehicle Type Count by Agency'!M:M,'Vehicle Type Count by Agency'!$H:$H,\">=\"&$B14)))/IF($A14=\"Between\",SUMIFS('Vehicle Type Count by Agency'!L:L,'Vehicle Type Count by Agency'!$H:$H,\">=\"&$B14,'Vehicle Type Count by Agency'!$H:$H,\"<\"&$D14),SUMIFS('Vehicle Type Count by Agency'!L:L,'Vehicle Type Count by Agency'!$H:$H,\">=\"&$B14))),\"\")","v":""},{"$f":"IFERROR(IF($A14=\"\",\"\",(IF($A14=\"Between\",SUMIFS('Vehicle Type Count by Agency'!O:O,'Vehicle Type Count by Agency'!$H:$H,\">=\"&$B14,'Vehicle Type Count by Agency'!$H:$H,\"<\"&$D14),SUMIFS('Vehicle Type Count by Agency'!O:O,'Vehicle Type Count by Agency'!$H:$H,\">=\"&$B14)))/IF($A14=\"Between\",SUMIFS('Vehicle Type Count by Agency'!N:N,'Vehicle Type Count by Agency'!$H:$H,\">=\"&$B14,'Vehicle Type Count by Agency'!$H:$H,\"<\"&$D14),SUMIFS('Vehicle Type Count by Agency'!N:N,'Vehicle Type Count by Agency'!$H:$H,\">=\"&$B14))),\"\")","v":""},{"$f":"IFERROR(IF($A14=\"\",\"\",(IF($A14=\"Between\",SUMIFS('Vehicle Type Count by Agency'!Q:Q,'Vehicle Type Count by Agency'!$H:$H,\">=\"&$B14,'Vehicle Type Count by Agency'!$H:$H,\"<\"&$D14),SUMIFS('Vehicle Type Count by Agency'!Q:Q,'Vehicle Type Count by Agency'!$H:$H,\">=\"&$B14)))/IF($A14=\"Between\",SUMIFS('Vehicle Type Count by Agency'!P:P,'Vehicle Type Count by Agency'!$H:$H,\">=\"&$B14,'Vehicle Type Count by Agency'!$H:$H,\"<\"&$D14),SUMIFS('Vehicle Type Count by Agency'!P:P,'Vehicle Type Count by Agency'!$H:$H,\">=\"&$B14))),\"\")","v":""},{"$f":"IFERROR(IF($A14=\"\",\"\",(IF($A14=\"Between\",SUMIFS('Vehicle Type Count by Agency'!S:S,'Vehicle Type Count by Agency'!$H:$H,\">=\"&$B14,'Vehicle Type Count by Agency'!$H:$H,\"<\"&$D14),SUMIFS('Vehicle Type Count by Agency'!S:S,'Vehicle Type Count by Agency'!$H:$H,\">=\"&$B14)))/IF($A14=\"Between\",SUMIFS('Vehicle Type Count by Agency'!R:R,'Vehicle Type Count by Agency'!$H:$H,\">=\"&$B14,'Vehicle Type Count by Agency'!$H:$H,\"<\"&$D14),SUMIFS('Vehicle Type Count by Agency'!R:R,'Vehicle Type Count by Agency'!$H:$H,\">=\"&$B14))),\"\")","v":""},{"$f":"IFERROR(IF($A14=\"\",\"\",(IF($A14=\"Between\",SUMIFS('Vehicle Type Count by Agency'!U:U,'Vehicle Type Count by Agency'!$H:$H,\">=\"&$B14,'Vehicle Type Count by Agency'!$H:$H,\"<\"&$D14),SUMIFS('Vehicle Type Count by Agency'!U:U,'Vehicle Type Count by Agency'!$H:$H,\">=\"&$B14)))/IF($A14=\"Between\",SUMIFS('Vehicle Type Count by Agency'!T:T,'Vehicle Type Count by Agency'!$H:$H,\">=\"&$B14,'Vehicle Type Count by Agency'!$H:$H,\"<\"&$D14),SUMIFS('Vehicle Type Count by Agency'!T:T,'Vehicle Type Count by Agency'!$H:$H,\">=\"&$B14))),\"\")","v":""},{"$f":"IFERROR(IF($A14=\"\",\"\",(IF($A14=\"Between\",SUMIFS('Vehicle Type Count by Agency'!W:W,'Vehicle Type Count by Agency'!$H:$H,\">=\"&$B14,'Vehicle Type Count by Agency'!$H:$H,\"<\"&$D14),SUMIFS('Vehicle Type Count by Agency'!W:W,'Vehicle Type Count by Agency'!$H:$H,\">=\"&$B14)))/IF($A14=\"Between\",SUMIFS('Vehicle Type Count by Agency'!V:V,'Vehicle Type Count by Agency'!$H:$H,\">=\"&$B14,'Vehicle Type Count by Agency'!$H:$H,\"<\"&$D14),SUMIFS('Vehicle Type Count by Agency'!V:V,'Vehicle Type Count by Agency'!$H:$H,\">=\"&$B14))),\"\")","v":""},{"$f":"IFERROR(IF($A14=\"\",\"\",(IF($A14=\"Between\",SUMIFS('Vehicle Type Count by Agency'!Y:Y,'Vehicle Type Count by Agency'!$H:$H,\">=\"&$B14,'Vehicle Type Count by Agency'!$H:$H,\"<\"&$D14),SUMIFS('Vehicle Type Count by Agency'!Y:Y,'Vehicle Type Count by Agency'!$H:$H,\">=\"&$B14)))/IF($A14=\"Between\",SUMIFS('Vehicle Type Count by Agency'!X:X,'Vehicle Type Count by Agency'!$H:$H,\">=\"&$B14,'Vehicle Type Count by Agency'!$H:$H,\"<\"&$D14),SUMIFS('Vehicle Type Count by Agency'!X:X,'Vehicle Type Count by Agency'!$H:$H,\">=\"&$B14))),\"\")","v":""},{"$f":"IFERROR(IF($A14=\"\",\"\",(IF($A14=\"Between\",SUMIFS('Vehicle Type Count by Agency'!AA:AA,'Vehicle Type Count by Agency'!$H:$H,\">=\"&$B14,'Vehicle Type Count by Agency'!$H:$H,\"<\"&$D14),SUMIFS('Vehicle Type Count by Agency'!AA:AA,'Vehicle Type Count by Agency'!$H:$H,\">=\"&$B14)))/IF($A14=\"Between\",SUMIFS('Vehicle Type Count by Agency'!Z:Z,'Vehicle Type Count by Agency'!$H:$H,\">=\"&$B14,'Vehicle Type Count by Agency'!$H:$H,\"<\"&$D14),SUMIFS('Vehicle Type Count by Agency'!Z:Z,'Vehicle Type Count by Agency'!$H:$H,\">=\"&$B14))),\"\")","v":""},{"$f":"IFERROR(IF($A14=\"\",\"\",(IF($A14=\"Between\",SUMIFS('Vehicle Type Count by Agency'!AC:AC,'Vehicle Type Count by Agency'!$H:$H,\">=\"&$B14,'Vehicle Type Count by Agency'!$H:$H,\"<\"&$D14),SUMIFS('Vehicle Type Count by Agency'!AC:AC,'Vehicle Type Count by Agency'!$H:$H,\">=\"&$B14)))/IF($A14=\"Between\",SUMIFS('Vehicle Type Count by Agency'!AB:AB,'Vehicle Type Count by Agency'!$H:$H,\">=\"&$B14,'Vehicle Type Count by Agency'!$H:$H,\"<\"&$D14),SUMIFS('Vehicle Type Count by Agency'!AB:AB,'Vehicle Type Count by Agency'!$H:$H,\">=\"&$B14))),\"\")","v":""},{"$f":"IFERROR(IF($A14=\"\",\"\",(IF($A14=\"Between\",SUMIFS('Vehicle Type Count by Agency'!AE:AE,'Vehicle Type Count by Agency'!$H:$H,\">=\"&$B14,'Vehicle Type Count by Agency'!$H:$H,\"<\"&$D14),SUMIFS('Vehicle Type Count by Agency'!AE:AE,'Vehicle Type Count by Agency'!$H:$H,\">=\"&$B14)))/IF($A14=\"Between\",SUMIFS('Vehicle Type Count by Agency'!AD:AD,'Vehicle Type Count by Agency'!$H:$H,\">=\"&$B14,'Vehicle Type Count by Agency'!$H:$H,\"<\"&$D14),SUMIFS('Vehicle Type Count by Agency'!AD:AD,'Vehicle Type Count by Agency'!$H:$H,\">=\"&$B14))),\"\")","v":""},{"$f":"IFERROR(IF($A14=\"\",\"\",(IF($A14=\"Between\",SUMIFS('Vehicle Type Count by Agency'!AG:AG,'Vehicle Type Count by Agency'!$H:$H,\">=\"&$B14,'Vehicle Type Count by Agency'!$H:$H,\"<\"&$D14),SUMIFS('Vehicle Type Count by Agency'!AG:AG,'Vehicle Type Count by Agency'!$H:$H,\">=\"&$B14)))/IF($A14=\"Between\",SUMIFS('Vehicle Type Count by Agency'!AF:AF,'Vehicle Type Count by Agency'!$H:$H,\">=\"&$B14,'Vehicle Type Count by Agency'!$H:$H,\"<\"&$D14),SUMIFS('Vehicle Type Count by Agency'!AF:AF,'Vehicle Type Count by Agency'!$H:$H,\">=\"&$B14))),\"\")","v":""},{"$f":"IFERROR(IF($A14=\"\",\"\",(IF($A14=\"Between\",SUMIFS('Vehicle Type Count by Agency'!AI:AI,'Vehicle Type Count by Agency'!$H:$H,\">=\"&$B14,'Vehicle Type Count by Agency'!$H:$H,\"<\"&$D14),SUMIFS('Vehicle Type Count by Agency'!AI:AI,'Vehicle Type Count by Agency'!$H:$H,\">=\"&$B14)))/IF($A14=\"Between\",SUMIFS('Vehicle Type Count by Agency'!AH:AH,'Vehicle Type Count by Agency'!$H:$H,\">=\"&$B14,'Vehicle Type Count by Agency'!$H:$H,\"<\"&$D14),SUMIFS('Vehicle Type Count by Agency'!AH:AH,'Vehicle Type Count by Agency'!$H:$H,\">=\"&$B14))),\"\")","v":""},{"$f":"IFERROR(IF($A14=\"\",\"\",(IF($A14=\"Between\",SUMIFS('Vehicle Type Count by Agency'!AK:AK,'Vehicle Type Count by Agency'!$H:$H,\">=\"&$B14,'Vehicle Type Count by Agency'!$H:$H,\"<\"&$D14),SUMIFS('Vehicle Type Count by Agency'!AK:AK,'Vehicle Type Count by Agency'!$H:$H,\">=\"&$B14)))/IF($A14=\"Between\",SUMIFS('Vehicle Type Count by Agency'!AJ:AJ,'Vehicle Type Count by Agency'!$H:$H,\">=\"&$B14,'Vehicle Type Count by Agency'!$H:$H,\"<\"&$D14),SUMIFS('Vehicle Type Count by Agency'!AJ:AJ,'Vehicle Type Count by Agency'!$H:$H,\">=\"&$B14))),\"\")","v":""},{"$f":"IFERROR(IF($A14=\"\",\"\",(IF($A14=\"Between\",SUMIFS('Vehicle Type Count by Agency'!AM:AM,'Vehicle Type Count by Agency'!$H:$H,\">=\"&$B14,'Vehicle Type Count by Agency'!$H:$H,\"<\"&$D14),SUMIFS('Vehicle Type Count by Agency'!AM:AM,'Vehicle Type Count by Agency'!$H:$H,\">=\"&$B14)))/IF($A14=\"Between\",SUMIFS('Vehicle Type Count by Agency'!AL:AL,'Vehicle Type Count by Agency'!$H:$H,\">=\"&$B14,'Vehicle Type Count by Agency'!$H:$H,\"<\"&$D14),SUMIFS('Vehicle Type Count by Agency'!AL:AL,'Vehicle Type Count by Agency'!$H:$H,\">=\"&$B14))),\"\")","v":""},{"$f":"IFERROR(IF($A14=\"\",\"\",(IF($A14=\"Between\",SUMIFS('Vehicle Type Count by Agency'!AO:AO,'Vehicle Type Count by Agency'!$H:$H,\">=\"&$B14,'Vehicle Type Count by Agency'!$H:$H,\"<\"&$D14),SUMIFS('Vehicle Type Count by Agency'!AO:AO,'Vehicle Type Count by Agency'!$H:$H,\">=\"&$B14)))/IF($A14=\"Between\",SUMIFS('Vehicle Type Count by Agency'!AN:AN,'Vehicle Type Count by Agency'!$H:$H,\">=\"&$B14,'Vehicle Type Count by Agency'!$H:$H,\"<\"&$D14),SUMIFS('Vehicle Type Count by Agency'!AN:AN,'Vehicle Type Count by Agency'!$H:$H,\">=\"&$B14))),\"\")","v":""},{"$f":"IFERROR(IF($A14=\"\",\"\",(IF($A14=\"Between\",SUMIFS('Vehicle Type Count by Agency'!AQ:AQ,'Vehicle Type Count by Agency'!$H:$H,\">=\"&$B14,'Vehicle Type Count by Agency'!$H:$H,\"<\"&$D14),SUMIFS('Vehicle Type Count by Agency'!AQ:AQ,'Vehicle Type Count by Agency'!$H:$H,\">=\"&$B14)))/IF($A14=\"Between\",SUMIFS('Vehicle Type Count by Agency'!AP:AP,'Vehicle Type Count by Agency'!$H:$H,\">=\"&$B14,'Vehicle Type Count by Agency'!$H:$H,\"<\"&$D14),SUMIFS('Vehicle Type Count by Agency'!AP:AP,'Vehicle Type Count by Agency'!$H:$H,\">=\"&$B14))),\"\")","v":""},{"$f":"IFERROR(IF($A14=\"\",\"\",(IF($A14=\"Between\",SUMIFS('Vehicle Type Count by Agency'!AS:AS,'Vehicle Type Count by Agency'!$H:$H,\">=\"&$B14,'Vehicle Type Count by Agency'!$H:$H,\"<\"&$D14),SUMIFS('Vehicle Type Count by Agency'!AS:AS,'Vehicle Type Count by Agency'!$H:$H,\">=\"&$B14)))/IF($A14=\"Between\",SUMIFS('Vehicle Type Count by Agency'!AR:AR,'Vehicle Type Count by Agency'!$H:$H,\">=\"&$B14,'Vehicle Type Count by Agency'!$H:$H,\"<\"&$D14),SUMIFS('Vehicle Type Count by Agency'!AR:AR,'Vehicle Type Count by Agency'!$H:$H,\">=\"&$B14))),\"\")","v":""},{"$f":"IFERROR(IF($A14=\"\",\"\",(IF($A14=\"Between\",SUMIFS('Vehicle Type Count by Agency'!AU:AU,'Vehicle Type Count by Agency'!$H:$H,\">=\"&$B14,'Vehicle Type Count by Agency'!$H:$H,\"<\"&$D14),SUMIFS('Vehicle Type Count by Agency'!AU:AU,'Vehicle Type Count by Agency'!$H:$H,\">=\"&$B14)))/IF($A14=\"Between\",SUMIFS('Vehicle Type Count by Agency'!AT:AT,'Vehicle Type Count by Agency'!$H:$H,\">=\"&$B14,'Vehicle Type Count by Agency'!$H:$H,\"<\"&$D14),SUMIFS('Vehicle Type Count by Agency'!AT:AT,'Vehicle Type Count by Agency'!$H:$H,\">=\"&$B14))),\"\")","v":""},{"$f":"IFERROR(IF($A14=\"\",\"\",(IF($A14=\"Between\",SUMIFS('Vehicle Type Count by Agency'!AW:AW,'Vehicle Type Count by Agency'!$H:$H,\">=\"&$B14,'Vehicle Type Count by Agency'!$H:$H,\"<\"&$D14),SUMIFS('Vehicle Type Count by Agency'!AW:AW,'Vehicle Type Count by Agency'!$H:$H,\">=\"&$B14)))/IF($A14=\"Between\",SUMIFS('Vehicle Type Count by Agency'!AV:AV,'Vehicle Type Count by Agency'!$H:$H,\">=\"&$B14,'Vehicle Type Count by Agency'!$H:$H,\"<\"&$D14),SUMIFS('Vehicle Type Count by Agency'!AV:AV,'Vehicle Type Count by Agency'!$H:$H,\">=\"&$B14))),\"\")","v":""},{"$f":"IFERROR(IF($A14=\"\",\"\",(IF($A14=\"Between\",SUMIFS('Vehicle Type Count by Agency'!AY:AY,'Vehicle Type Count by Agency'!$H:$H,\">=\"&$B14,'Vehicle Type Count by Agency'!$H:$H,\"<\"&$D14),SUMIFS('Vehicle Type Count by Agency'!AY:AY,'Vehicle Type Count by Agency'!$H:$H,\">=\"&$B14)))/IF($A14=\"Between\",SUMIFS('Vehicle Type Count by Agency'!AX:AX,'Vehicle Type Count by Agency'!$H:$H,\">=\"&$B14,'Vehicle Type Count by Agency'!$H:$H,\"<\"&$D14),SUMIFS('Vehicle Type Count by Agency'!AX:AX,'Vehicle Type Count by Agency'!$H:$H,\">=\"&$B14))),\"\")","v":""},{"$f":"IFERROR(IF($A14=\"\",\"\",(IF($A14=\"Between\",SUMIFS('Vehicle Type Count by Agency'!BA:BA,'Vehicle Type Count by Agency'!$H:$H,\">=\"&$B14,'Vehicle Type Count by Agency'!$H:$H,\"<\"&$D14),SUMIFS('Vehicle Type Count by Agency'!BA:BA,'Vehicle Type Count by Agency'!$H:$H,\">=\"&$B14)))/IF($A14=\"Between\",SUMIFS('Vehicle Type Count by Agency'!AZ:AZ,'Vehicle Type Count by Agency'!$H:$H,\">=\"&$B14,'Vehicle Type Count by Agency'!$H:$H,\"<\"&$D14),SUMIFS('Vehicle Type Count by Agency'!AZ:AZ,'Vehicle Type Count by Agency'!$H:$H,\">=\"&$B14))),\"\")","v":""},{"$f":"IFERROR(IF($A14=\"\",\"\",(IF($A14=\"Between\",SUMIFS('Vehicle Type Count by Agency'!BC:BC,'Vehicle Type Count by Agency'!$H:$H,\">=\"&$B14,'Vehicle Type Count by Agency'!$H:$H,\"<\"&$D14),SUMIFS('Vehicle Type Count by Agency'!BC:BC,'Vehicle Type Count by Agency'!$H:$H,\">=\"&$B14)))/IF($A14=\"Between\",SUMIFS('Vehicle Type Count by Agency'!BB:BB,'Vehicle Type Count by Agency'!$H:$H,\">=\"&$B14,'Vehicle Type Count by Agency'!$H:$H,\"<\"&$D14),SUMIFS('Vehicle Type Count by Agency'!BB:BB,'Vehicle Type Count by Agency'!$H:$H,\">=\"&$B14))),\"\")","v":""},{"$f":"IFERROR(IF($A14=\"\",\"\",(IF($A14=\"Between\",SUMIFS('Vehicle Type Count by Agency'!BE:BE,'Vehicle Type Count by Agency'!$H:$H,\">=\"&$B14,'Vehicle Type Count by Agency'!$H:$H,\"<\"&$D14),SUMIFS('Vehicle Type Count by Agency'!BE:BE,'Vehicle Type Count by Agency'!$H:$H,\">=\"&$B14)))/IF($A14=\"Between\",SUMIFS('Vehicle Type Count by Agency'!BD:BD,'Vehicle Type Count by Agency'!$H:$H,\">=\"&$B14,'Vehicle Type Count by Agency'!$H:$H,\"<\"&$D14),SUMIFS('Vehicle Type Count by Agency'!BD:BD,'Vehicle Type Count by Agency'!$H:$H,\">=\"&$B14))),\"\")","v":""},{"$f":"IFERROR(IF($A14=\"\",\"\",(IF($A14=\"Between\",SUMIFS('Vehicle Type Count by Agency'!BG:BG,'Vehicle Type Count by Agency'!$H:$H,\">=\"&$B14,'Vehicle Type Count by Agency'!$H:$H,\"<\"&$D14),SUMIFS('Vehicle Type Count by Agency'!BG:BG,'Vehicle Type Count by Agency'!$H:$H,\">=\"&$B14)))/IF($A14=\"Between\",SUMIFS('Vehicle Type Count by Agency'!BF:BF,'Vehicle Type Count by Agency'!$H:$H,\">=\"&$B14,'Vehicle Type Count by Agency'!$H:$H,\"<\"&$D14),SUMIFS('Vehicle Type Count by Agency'!BF:BF,'Vehicle Type Count by Agency'!$H:$H,\">=\"&$B14))),\"\")","v":""},{"$f":"IFERROR(IF($A14=\"\",\"\",(IF($A14=\"Between\",SUMIFS('Vehicle Type Count by Agency'!BI:BI,'Vehicle Type Count by Agency'!$H:$H,\">=\"&$B14,'Vehicle Type Count by Agency'!$H:$H,\"<\"&$D14),SUMIFS('Vehicle Type Count by Agency'!BI:BI,'Vehicle Type Count by Agency'!$H:$H,\">=\"&$B14)))/IF($A14=\"Between\",SUMIFS('Vehicle Type Count by Agency'!BH:BH,'Vehicle Type Count by Agency'!$H:$H,\">=\"&$B14,'Vehicle Type Count by Agency'!$H:$H,\"<\"&$D14),SUMIFS('Vehicle Type Count by Agency'!BH:BH,'Vehicle Type Count by Agency'!$H:$H,\">=\"&$B14))),\"\")","v":""}]
["","","",null,"invalid bin",{"$f":"IFERROR(IF($A15=\"\",\"\",(IF($A15=\"Between\",SUMIFS('Vehicle Type Count by Agency'!K:K,'Vehicle Type Count by Agency'!$H:$H,\">=\"&$B15,'Vehicle Type Count by Agency'!$H:$H,\"<\"&$D15),SUMIFS('Vehicle Type Count by Agency'!K:K,'Vehicle Type Count by Agency'!$H:$H,\">=\"&$B15)))/IF($A15=\"Between\",SUMIFS('Vehicle Type Count by Agency'!J:J,'Vehicle Type Count by Agency'!$H:$H,\">=\"&$B15,'Vehicle Type Count by Agency'!$H:$H,\"<\"&$D15),SUMIFS('Vehicle Type Count by Agency'!J:J,'Vehicle Type Count by Agency'!$H:$H,\">=\"&$B15))),\"\")","v":""},{"$f":"IFERROR(IF($A15=\"\",\"\",(IF($A15=\"Between\",SUMIFS('Vehicle Type Count by Agency'!M:M,'Vehicle Type Count by Agency'!$H:$H,\">=\"&$B15,'Vehicle Type Count by Agency'!$H:$H,\"<\"&$D15),SUMIFS('Vehicle Type Count by Agency'!M:M,'Vehicle Type Count by Agency'!$H:$H,\">=\"&$B15)))/IF($A15=\"Between\",SUMIFS('Vehicle Type Count by Agency'!L:L,'Vehicle Type Count by Agency'!$H:$H,\">=\"&$B15,'Vehicle Type Count by Agency'!$H:$H,\"<\"&$D15),SUMIFS('Vehicle Type Count by Agency'!L:L,'Vehicle Type Count by Agency'!$H:$H,\">=\"&$B15))),\"\")","v":""},{"$f":"IFERROR(IF($A15=\"\",\"\",(IF($A15=\"Between\",SUMIFS('Vehicle Type Count by Agency'!O:O,'Vehicle Type Count by Agency'!$H:$H,\">=\"&$B15,'Vehicle Type Count by Agency'!$H:$H,\"<\"&$D15),SUMIFS('Vehicle Type Count by Agency'!O:O,'Vehicle Type Count by Agency'!$H:$H,\">=\"&$B15)))/IF($A15=\"Between\",SUMIFS('Vehicle Type Count by Agency'!N:N,'Vehicle Type Count by Agency'!$H:$H,\">=\"&$B15,'Vehicle Type Count by Agency'!$H:$H,\"<\"&$D15),SUMIFS('Vehicle Type Count by Agency'!N:N,'Vehicle Type Count by Agency'!$H:$H,\">=\"&$B15))),\"\")","v":""},{"$f":"IFERROR(IF($A15=\"\",\"\",(IF($A15=\"Between\",SUMIFS('Vehicle Type Count by Agency'!Q:Q,'Vehicle Type Count by Agency'!$H:$H,\">=\"&$B15,'Vehicle Type Count by Agency'!$H:$H,\"<\"&$D15),SUMIFS('Vehicle Type Count by Agency'!Q:Q,'Vehicle Type Count by Agency'!$H:$H,\">=\"&$B15)))/IF($A15=\"Between\",SUMIFS('Vehicle Type Count by Agency'!P:P,'Vehicle Type Count by Agency'!$H:$H,\">=\"&$B15,'Vehicle Type Count by Agency'!$H:$H,\"<\"&$D15),SUMIFS('Vehicle Type Count by Agency'!P:P,'Vehicle Type Count by Agency'!$H:$H,\">=\"&$B15))),\"\")","v":""},{"$f":"IFERROR(IF($A15=\"\",\"\",(IF($A15=\"Between\",SUMIFS('Vehicle Type Count by Agency'!S:S,'Vehicle Type Count by Agency'!$H:$H,\">=\"&$B15,'Vehicle Type Count by Agency'!$H:$H,\"<\"&$D15),SUMIFS('Vehicle Type Count by Agency'!S:S,'Vehicle Type Count by Agency'!$H:$H,\">=\"&$B15)))/IF($A15=\"Between\",SUMIFS('Vehicle Type Count by Agency'!R:R,'Vehicle Type Count by Agency'!$H:$H,\">=\"&$B15,'Vehicle Type Count by Agency'!$H:$H,\"<\"&$D15),SUMIFS('Vehicle Type Count by Agency'!R:R,'Vehicle Type Count by Agency'!$H:$H,\">=\"&$B15))),\"\")","v":""},{"$f":"IFERROR(IF($A15=\"\",\"\",(IF($A15=\"Between\",SUMIFS('Vehicle Type Count by Agency'!U:U,'Vehicle Type Count by Agency'!$H:$H,\">=\"&$B15,'Vehicle Type Count by Agency'!$H:$H,\"<\"&$D15),SUMIFS('Vehicle Type Count by Agency'!U:U,'Vehicle Type Count by Agency'!$H:$H,\">=\"&$B15)))/IF($A15=\"Between\",SUMIFS('Vehicle Type Count by Agency'!T:T,'Vehicle Type Count by Agency'!$H:$H,\">=\"&$B15,'Vehicle Type Count by Agency'!$H:$H,\"<\"&$D15),SUMIFS('Vehicle Type Count by Agency'!T:T,'Vehicle Type Count by Agency'!$H:$H,\">=\"&$B15))),\"\")","v":""},{"$f":"IFERROR(IF($A15=\"\",\"\",(IF($A15=\"Between\",SUMIFS('Vehicle Type Count by Agency'!W:W,'Vehicle Type Count by Agency'!$H:$H,\">=\"&$B15,'Vehicle Type Count by Agency'!$H:$H,\"<\"&$D15),SUMIFS('Vehicle Type Count by Agency'!W:W,'Vehicle Type Count by Agency'!$H:$H,\">=\"&$B15)))/IF($A15=\"Between\",SUMIFS('Vehicle Type Count by Agency'!V:V,'Vehicle Type Count by Agency'!$H:$H,\">=\"&$B15,'Vehicle Type Count by Agency'!$H:$H,\"<\"&$D15),SUMIFS('Vehicle Type Count by Agency'!V:V,'Vehicle Type Count by Agency'!$H:$H,\">=\"&$B15))),\"\")","v":""},{"$f":"IFERROR(IF($A15=\"\",\"\",(IF($A15=\"Between\",SUMIFS('Vehicle Type Count by Agency'!Y:Y,'Vehicle Type Count by Agency'!$H:$H,\">=\"&$B15,'Vehicle Type Count by Agency'!$H:$H,\"<\"&$D15),SUMIFS('Vehicle Type Count by Agency'!Y:Y,'Vehicle Type Count by Agency'!$H:$H,\">=\"&$B15)))/IF($A15=\"Between\",SUMIFS('Vehicle Type Count by Agency'!X:X,'Vehicle Type Count by Agency'!$H:$H,\">=\"&$B15,'Vehicle Type Count by Agency'!$H:$H,\"<\"&$D15),SUMIFS('Vehicle Type Count by Agency'!X:X,'Vehicle Type Count by Agency'!$H:$H,\">=\"&$B15))),\"\")","v":""},{"$f":"IFERROR(IF($A15=\"\",\"\",(IF($A15=\"Between\",SUMIFS('Vehicle Type Count by Agency'!AA:AA,'Vehicle Type Count by Agency'!$H:$H,\">=\"&$B15,'Vehicle Type Count by Agency'!$H:$H,\"<\"&$D15),SUMIFS('Vehicle Type Count by Agency'!AA:AA,'Vehicle Type Count by Agency'!$H:$H,\">=\"&$B15)))/IF($A15=\"Between\",SUMIFS('Vehicle Type Count by Agency'!Z:Z,'Vehicle Type Count by Agency'!$H:$H,\">=\"&$B15,'Vehicle Type Count by Agency'!$H:$H,\"<\"&$D15),SUMIFS('Vehicle Type Count by Agency'!Z:Z,'Vehicle Type Count by Agency'!$H:$H,\">=\"&$B15))),\"\")","v":""},{"$f":"IFERROR(IF($A15=\"\",\"\",(IF($A15=\"Between\",SUMIFS('Vehicle Type Count by Agency'!AC:AC,'Vehicle Type Count by Agency'!$H:$H,\">=\"&$B15,'Vehicle Type Count by Agency'!$H:$H,\"<\"&$D15),SUMIFS('Vehicle Type Count by Agency'!AC:AC,'Vehicle Type Count by Agency'!$H:$H,\">=\"&$B15)))/IF($A15=\"Between\",SUMIFS('Vehicle Type Count by Agency'!AB:AB,'Vehicle Type Count by Agency'!$H:$H,\">=\"&$B15,'Vehicle Type Count by Agency'!$H:$H,\"<\"&$D15),SUMIFS('Vehicle Type Count by Agency'!AB:AB,'Vehicle Type Count by Agency'!$H:$H,\">=\"&$B15))),\"\")","v":""},{"$f":"IFERROR(IF($A15=\"\",\"\",(IF($A15=\"Between\",SUMIFS('Vehicle Type Count by Agency'!AE:AE,'Vehicle Type Count by Agency'!$H:$H,\">=\"&$B15,'Vehicle Type Count by Agency'!$H:$H,\"<\"&$D15),SUMIFS('Vehicle Type Count by Agency'!AE:AE,'Vehicle Type Count by Agency'!$H:$H,\">=\"&$B15)))/IF($A15=\"Between\",SUMIFS('Vehicle Type Count by Agency'!AD:AD,'Vehicle Type Count by Agency'!$H:$H,\">=\"&$B15,'Vehicle Type Count by Agency'!$H:$H,\"<\"&$D15),SUMIFS('Vehicle Type Count by Agency'!AD:AD,'Vehicle Type Count by Agency'!$H:$H,\">=\"&$B15))),\"\")","v":""},{"$f":"IFERROR(IF($A15=\"\",\"\",(IF($A15=\"Between\",SUMIFS('Vehicle Type Count by Agency'!AG:AG,'Vehicle Type Count by Agency'!$H:$H,\">=\"&$B15,'Vehicle Type Count by Agency'!$H:$H,\"<\"&$D15),SUMIFS('Vehicle Type Count by Agency'!AG:AG,'Vehicle Type Count by Agency'!$H:$H,\">=\"&$B15)))/IF($A15=\"Between\",SUMIFS('Vehicle Type Count by Agency'!AF:AF,'Vehicle Type Count by Agency'!$H:$H,\">=\"&$B15,'Vehicle Type Count by Agency'!$H:$H,\"<\"&$D15),SUMIFS('Vehicle Type Count by Agency'!AF:AF,'Vehicle Type Count by Agency'!$H:$H,\">=\"&$B15))),\"\")","v":""},{"$f":"IFERROR(IF($A15=\"\",\"\",(IF($A15=\"Between\",SUMIFS('Vehicle Type Count by Agency'!AI:AI,'Vehicle Type Count by Agency'!$H:$H,\">=\"&$B15,'Vehicle Type Count by Agency'!$H:$H,\"<\"&$D15),SUMIFS('Vehicle Type Count by Agency'!AI:AI,'Vehicle Type Count by Agency'!$H:$H,\">=\"&$B15)))/IF($A15=\"Between\",SUMIFS('Vehicle Type Count by Agency'!AH:AH,'Vehicle Type Count by Agency'!$H:$H,\">=\"&$B15,'Vehicle Type Count by Agency'!$H:$H,\"<\"&$D15),SUMIFS('Vehicle Type Count by Agency'!AH:AH,'Vehicle Type Count by Agency'!$H:$H,\">=\"&$B15))),\"\")","v":""},{"$f":"IFERROR(IF($A15=\"\",\"\",(IF($A15=\"Between\",SUMIFS('Vehicle Type Count by Agency'!AK:AK,'Vehicle Type Count by Agency'!$H:$H,\">=\"&$B15,'Vehicle Type Count by Agency'!$H:$H,\"<\"&$D15),SUMIFS('Vehicle Type Count by Agency'!AK:AK,'Vehicle Type Count by Agency'!$H:$H,\">=\"&$B15)))/IF($A15=\"Between\",SUMIFS('Vehicle Type Count by Agency'!AJ:AJ,'Vehicle Type Count by Agency'!$H:$H,\">=\"&$B15,'Vehicle Type Count by Agency'!$H:$H,\"<\"&$D15),SUMIFS('Vehicle Type Count by Agency'!AJ:AJ,'Vehicle Type Count by Agency'!$H:$H,\">=\"&$B15))),\"\")","v":""},{"$f":"IFERROR(IF($A15=\"\",\"\",(IF($A15=\"Between\",SUMIFS('Vehicle Type Count by Agency'!AM:AM,'Vehicle Type Count by Agency'!$H:$H,\">=\"&$B15,'Vehicle Type Count by Agency'!$H:$H,\"<\"&$D15),SUMIFS('Vehicle Type Count by Agency'!AM:AM,'Vehicle Type Count by Agency'!$H:$H,\">=\"&$B15)))/IF($A15=\"Between\",SUMIFS('Vehicle Type Count by Agency'!AL:AL,'Vehicle Type Count by Agency'!$H:$H,\">=\"&$B15,'Vehicle Type Count by Agency'!$H:$H,\"<\"&$D15),SUMIFS('Vehicle Type Count by Agency'!AL:AL,'Vehicle Type Count by Agency'!$H:$H,\">=\"&$B15))),\"\")","v":""},{"$f":"IFERROR(IF($A15=\"\",\"\",(IF($A15=\"Between\",SUMIFS('Vehicle Type Count by Agency'!AO:AO,'Vehicle Type Count by Agency'!$H:$H,\">=\"&$B15,'Vehicle Type Count by Agency'!$H:$H,\"<\"&$D15),SUMIFS('Vehicle Type Count by Agency'!AO:AO,'Vehicle Type Count by Agency'!$H:$H,\">=\"&$B15)))/IF($A15=\"Between\",SUMIFS('Vehicle Type Count by Agency'!AN:AN,'Vehicle Type Count by Agency'!$H:$H,\">=\"&$B15,'Vehicle Type Count by Agency'!$H:$H,\"<\"&$D15),SUMIFS('Vehicle Type Count by Agency'!AN:AN,'Vehicle Type Count by Agency'!$H:$H,\">=\"&$B15))),\"\")","v":""},{"$f":"IFERROR(IF($A15=\"\",\"\",(IF($A15=\"Between\",SUMIFS('Vehicle Type Count by Agency'!AQ:AQ,'Vehicle Type Count by Agency'!$H:$H,\">=\"&$B15,'Vehicle Type Count by Agency'!$H:$H,\"<\"&$D15),SUMIFS('Vehicle Type Count by Agency'!AQ:AQ,'Vehicle Type Count by Agency'!$H:$H,\">=\"&$B15)))/IF($A15=\"Between\",SUMIFS('Vehicle Type Count by Agency'!AP:AP,'Vehicle Type Count by Agency'!$H:$H,\">=\"&$B15,'Vehicle Type Count by Agency'!$H:$H,\"<\"&$D15),SUMIFS('Vehicle Type Count by Agency'!AP:AP,'Vehicle Type Count by Agency'!$H:$H,\">=\"&$B15))),\"\")","v":""},{"$f":"IFERROR(IF($A15=\"\",\"\",(IF($A15=\"Between\",SUMIFS('Vehicle Type Count by Agency'!AS:AS,'Vehicle Type Count by Agency'!$H:$H,\">=\"&$B15,'Vehicle Type Count by Agency'!$H:$H,\"<\"&$D15),SUMIFS('Vehicle Type Count by Agency'!AS:AS,'Vehicle Type Count by Agency'!$H:$H,\">=\"&$B15)))/IF($A15=\"Between\",SUMIFS('Vehicle Type Count by Agency'!AR:AR,'Vehicle Type Count by Agency'!$H:$H,\">=\"&$B15,'Vehicle Type Count by Agency'!$H:$H,\"<\"&$D15),SUMIFS('Vehicle Type Count by Agency'!AR:AR,'Vehicle Type Count by Agency'!$H:$H,\">=\"&$B15))),\"\")","v":""},{"$f":"IFERROR(IF($A15=\"\",\"\",(IF($A15=\"Between\",SUMIFS('Vehicle Type Count by Agency'!AU:AU,'Vehicle Type Count by Agency'!$H:$H,\">=\"&$B15,'Vehicle Type Count by Agency'!$H:$H,\"<\"&$D15),SUMIFS('Vehicle Type Count by Agency'!AU:AU,'Vehicle Type Count by Agency'!$H:$H,\">=\"&$B15)))/IF($A15=\"Between\",SUMIFS('Vehicle Type Count by Agency'!AT:AT,'Vehicle Type Count by Agency'!$H:$H,\">=\"&$B15,'Vehicle Type Count by Agency'!$H:$H,\"<\"&$D15),SUMIFS('Vehicle Type Count by Agency'!AT:AT,'Vehicle Type Count by Agency'!$H:$H,\">=\"&$B15))),\"\")","v":""},{"$f":"IFERROR(IF($A15=\"\",\"\",(IF($A15=\"Between\",SUMIFS('Vehicle Type Count by Agency'!AW:AW,'Vehicle Type Count by Agency'!$H:$H,\">=\"&$B15,'Vehicle Type Count by Agency'!$H:$H,\"<\"&$D15),SUMIFS('Vehicle Type Count by Agency'!AW:AW,'Vehicle Type Count by Agency'!$H:$H,\">=\"&$B15)))/IF($A15=\"Between\",SUMIFS('Vehicle Type Count by Agency'!AV:AV,'Vehicle Type Count by Agency'!$H:$H,\">=\"&$B15,'Vehicle Type Count by Agency'!$H:$H,\"<\"&$D15),SUMIFS('Vehicle Type Count by Agency'!AV:AV,'Vehicle Type Count by Agency'!$H:$H,\">=\"&$B15))),\"\")","v":""},{"$f":"IFERROR(IF($A15=\"\",\"\",(IF($A15=\"Between\",SUMIFS('Vehicle Type Count by Agency'!AY:AY,'Vehicle Type Count by Agency'!$H:$H,\">=\"&$B15,'Vehicle Type Count by Agency'!$H:$H,\"<\"&$D15),SUMIFS('Vehicle Type Count by Agency'!AY:AY,'Vehicle Type Count by Agency'!$H:$H,\">=\"&$B15)))/IF($A15=\"Between\",SUMIFS('Vehicle Type Count by Agency'!AX:AX,'Vehicle Type Count by Agency'!$H:$H,\">=\"&$B15,'Vehicle Type Count by Agency'!$H:$H,\"<\"&$D15),SUMIFS('Vehicle Type Count by Agency'!AX:AX,'Vehicle Type Count by Agency'!$H:$H,\">=\"&$B15))),\"\")","v":""},{"$f":"IFERROR(IF($A15=\"\",\"\",(IF($A15=\"Between\",SUMIFS('Vehicle Type Count by Agency'!BA:BA,'Vehicle Type Count by Agency'!$H:$H,\">=\"&$B15,'Vehicle Type Count by Agency'!$H:$H,\"<\"&$D15),SUMIFS('Vehicle Type Count by Agency'!BA:BA,'Vehicle Type Count by Agency'!$H:$H,\">=\"&$B15)))/IF($A15=\"Between\",SUMIFS('Vehicle Type Count by Agency'!AZ:AZ,'Vehicle Type Count by Agency'!$H:$H,\">=\"&$B15,'Vehicle Type Count by Agency'!$H:$H,\"<\"&$D15),SUMIFS('Vehicle Type Count by Agency'!AZ:AZ,'Vehicle Type Count by Agency'!$H:$H,\">=\"&$B15))),\"\")","v":""},{"$f":"IFERROR(IF($A15=\"\",\"\",(IF($A15=\"Between\",SUMIFS('Vehicle Type Count by Agency'!BC:BC,'Vehicle Type Count by Agency'!$H:$H,\">=\"&$B15,'Vehicle Type Count by Agency'!$H:$H,\"<\"&$D15),SUMIFS('Vehicle Type Count by Agency'!BC:BC,'Vehicle Type Count by Agency'!$H:$H,\">=\"&$B15)))/IF($A15=\"Between\",SUMIFS('Vehicle Type Count by Agency'!BB:BB,'Vehicle Type Count by Agency'!$H:$H,\">=\"&$B15,'Vehicle Type Count by Agency'!$H:$H,\"<\"&$D15),SUMIFS('Vehicle Type Count by Agency'!BB:BB,'Vehicle Type Count by Agency'!$H:$H,\">=\"&$B15))),\"\")","v":""},{"$f":"IFERROR(IF($A15=\"\",\"\",(IF($A15=\"Between\",SUMIFS('Vehicle Type Count by Agency'!BE:BE,'Vehicle Type Count by Agency'!$H:$H,\">=\"&$B15,'Vehicle Type Count by Agency'!$H:$H,\"<\"&$D15),SUMIFS('Vehicle Type Count by Agency'!BE:BE,'Vehicle Type Count by Agency'!$H:$H,\">=\"&$B15)))/IF($A15=\"Between\",SUMIFS('Vehicle Type Count by Agency'!BD:BD,'Vehicle Type Count by Agency'!$H:$H,\">=\"&$B15,'Vehicle Type Count by Agency'!$H:$H,\"<\"&$D15),SUMIFS('Vehicle Type Count by Agency'!BD:BD,'Vehicle Type Count by Agency'!$H:$H,\">=\"&$B15))),\"\")","v":""},{"$f":"IFERROR(IF($A15=\"\",\"\",(IF($A15=\"Between\",SUMIFS('Vehicle Type Count by Agency'!BG:BG,'Vehicle Type Count by Agency'!$H:$H,\">=\"&$B15,'Vehicle Type Count by Agency'!$H:$H,\"<\"&$D15),SUMIFS('Vehicle Type Count by Agency'!BG:BG,'Vehicle Type Count by Agency'!$H:$H,\">=\"&$B15)))/IF($A15=\"Between\",SUMIFS('Vehicle Type Count by Agency'!BF:BF,'Vehicle Type Count by Agency'!$H:$H,\">=\"&$B15,'Vehicle Type Count by Agency'!$H:$H,\"<\"&$D15),SUMIFS('Vehicle Type Count by Agency'!BF:BF,'Vehicle Type Count by Agency'!$H:$H,\">=\"&$B15))),\"\")","v":""},{"$f":"IFERROR(IF($A15=\"\",\"\",(IF($A15=\"Between\",SUMIFS('Vehicle Type Count by Agency'!BI:BI,'Vehicle Type Count by Agency'!$H:$H,\">=\"&$B15,'Vehicle Type Count by Agency'!$H:$H,\"<\"&$D15),SUMIFS('Vehicle Type Count by Agency'!BI:BI,'Vehicle Type Count by Agency'!$H:$H,\">=\"&$B15)))/IF($A15=\"Between\",SUMIFS('Vehicle Type Count by Agency'!BH:BH,'Vehicle Type Count by Agency'!$H:$H,\">=\"&$B15,'Vehicle Type Count by Agency'!$H:$H,\"<\"&$D15),SUMIFS('Vehicle Type Count by Agency'!BH:BH,'Vehicle Type Count by Agency'!$H:$H,\">=\"&$B15))),\"\")","v":""}]
["","","",null,"invalid bin",{"$f":"IFERROR(IF($A16=\"\",\"\",(IF($A16=\"Between\",SUMIFS('Vehicle Type Count by Agency'!K:K,'Vehicle Type Count by Agency'!$H:$H,\">=\"&$B16,'Vehicle Type Count by Agency'!$H:$H,\"<\"&$D16),SUMIFS('Vehicle Type Count by Agency'!K:K,'Vehicle Type Count by Agency'!$H:$H,\">=\"&$B16)))/IF($A16=\"Between\",SUMIFS('Vehicle Type Count by Agency'!J:J,'Vehicle Type Count by Agency'!$H:$H,\">=\"&$B16,'Vehicle Type Count by Agency'!$H:$H,\"<\"&$D16),SUMIFS('Vehicle Type Count by Agency'!J:J,'Vehicle Type Count by Agency'!$H:$H,\">=\"&$B16))),\"\")","v":""},{"$f":"IFERROR(IF($A16=\"\",\"\",(IF($A16=\"Between\",SUMIFS('Vehicle Type Count by Agency'!M:M,'Vehicle Type Count by Agency'!$H:$H,\">=\"&$B16,'Vehicle Type Count by Agency'!$H:$H,\"<\"&$D16),SUMIFS('Vehicle Type Count by Agency'!M:M,'Vehicle Type Count by Agency'!$H:$H,\">=\"&$B16)))/IF($A16=\"Between\",SUMIFS('Vehicle Type Count by Agency'!L:L,'Vehicle Type Count by Agency'!$H:$H,\">=\"&$B16,'Vehicle Type Count by Agency'!$H:$H,\"<\"&$D16),SUMIFS('Vehicle Type Count by Agency'!L:L,'Vehicle Type Count by Agency'!$H:$H,\">=\"&$B16))),\"\")","v":""},{"$f":"IFERROR(IF($A16=\"\",\"\",(IF($A16=\"Between\",SUMIFS('Vehicle Type Count by Agency'!O:O,'Vehicle Type Count by Agency'!$H:$H,\">=\"&$B16,'Vehicle Type Count by Agency'!$H:$H,\"<\"&$D16),SUMIFS('Vehicle Type Count by Agency'!O:O,'Vehicle Type Count by Agency'!$H:$H,\">=\"&$B16)))/IF($A16=\"Between\",SUMIFS('Vehicle Type Count by Agency'!N:N,'Vehicle Type Count by Agency'!$H:$H,\">=\"&$B16,'Vehicle Type Count by Agency'!$H:$H,\"<\"&$D16),SUMIFS('Vehicle Type Count by Agency'!N:N,'Vehicle Type Count by Agency'!$H:$H,\">=\"&$B16))),\"\")","v":""},{"$f":"IFERROR(IF($A16=\"\",\"\",(IF($A16=\"Between\",SUMIFS('Vehicle Type Count by Agency'!Q:Q,'Vehicle Type Count by Agency'!$H:$H,\">=\"&$B16,'Vehicle Type Count by Agency'!$H:$H,\"<\"&$D16),SUMIFS('Vehicle Type Count by Agency'!Q:Q,'Vehicle Type Count by Agency'!$H:$H,\">=\"&$B16)))/IF($A16=\"Between\",SUMIFS('Vehicle Type Count by Agency'!P:P,'Vehicle Type Count by Agency'!$H:$H,\">=\"&$B16,'Vehicle Type Count by Agency'!$H:$H,\"<\"&$D16),SUMIFS('Vehicle Type Count by Agency'!P:P,'Vehicle Type Count by Agency'!$H:$H,\">=\"&$B16))),\"\")","v":""},{"$f":"IFERROR(IF($A16=\"\",\"\",(IF($A16=\"Between\",SUMIFS('Vehicle Type Count by Agency'!S:S,'Vehicle Type Count by Agency'!$H:$H,\">=\"&$B16,'Vehicle Type Count by Agency'!$H:$H,\"<\"&$D16),SUMIFS('Vehicle Type Count by Agency'!S:S,'Vehicle Type Count by Agency'!$H:$H,\">=\"&$B16)))/IF($A16=\"Between\",SUMIFS('Vehicle Type Count by Agency'!R:R,'Vehicle Type Count by Agency'!$H:$H,\">=\"&$B16,'Vehicle Type Count by Agency'!$H:$H,\"<\"&$D16),SUMIFS('Vehicle Type Count by Agency'!R:R,'Vehicle Type Count by Agency'!$H:$H,\">=\"&$B16))),\"\")","v":""},{"$f":"IFERROR(IF($A16=\"\",\"\",(IF($A16=\"Between\",SUMIFS('Vehicle Type Count by Agency'!U:U,'Vehicle Type Count by Agency'!$H:$H,\">=\"&$B16,'Vehicle Type Count by Agency'!$H:$H,\"<\"&$D16),SUMIFS('Vehicle Type Count by Agency'!U:U,'Vehicle Type Count by Agency'!$H:$H,\">=\"&$B16)))/IF($A16=\"Between\",SUMIFS('Vehicle Type Count by Agency'!T:T,'Vehicle Type Count by Agency'!$H:$H,\">=\"&$B16,'Vehicle Type Count by Agency'!$H:$H,\"<\"&$D16),SUMIFS('Vehicle Type Count by Agency'!T:T,'Vehicle Type Count by Agency'!$H:$H,\">=\"&$B16))),\"\")","v":""},{"$f":"IFERROR(IF($A16=\"\",\"\",(IF($A16=\"Between\",SUMIFS('Vehicle Type Count by Agency'!W:W,'Vehicle Type Count by Agency'!$H:$H,\">=\"&$B16,'Vehicle Type Count by Agency'!$H:$H,\"<\"&$D16),SUMIFS('Vehicle Type Count by Agency'!W:W,'Vehicle Type Count by Agency'!$H:$H,\">=\"&$B16)))/IF($A16=\"Between\",SUMIFS('Vehicle Type Count by Agency'!V:V,'Vehicle Type Count by Agency'!$H:$H,\">=\"&$B16,'Vehicle Type Count by Agency'!$H:$H,\"<\"&$D16),SUMIFS('Vehicle Type Count by Agency'!V:V,'Vehicle Type Count by Agency'!$H:$H,\">=\"&$B16))),\"\")","v":""},{"$f":"IFERROR(IF($A16=\"\",\"\",(IF($A16=\"Between\",SUMIFS('Vehicle Type Count by Agency'!Y:Y,'Vehicle Type Count by Agency'!$H:$H,\">=\"&$B16,'Vehicle Type Count by Agency'!$H:$H,\"<\"&$D16),SUMIFS('Vehicle Type Count by Agency'!Y:Y,'Vehicle Type Count by Agency'!$H:$H,\">=\"&$B16)))/IF($A16=\"Between\",SUMIFS('Vehicle Type Count by Agency'!X:X,'Vehicle Type Count by Agency'!$H:$H,\">=\"&$B16,'Vehicle Type Count by Agency'!$H:$H,\"<\"&$D16),SUMIFS('Vehicle Type Count by Agency'!X:X,'Vehicle Type Count by Agency'!$H:$H,\">=\"&$B16))),\"\")","v":""},{"$f":"IFERROR(IF($A16=\"\",\"\",(IF($A16=\"Between\",SUMIFS('Vehicle Type Count by Agency'!AA:AA,'Vehicle Type Count by Agency'!$H:$H,\">=\"&$B16,'Vehicle Type Count by Agency'!$H:$H,\"<\"&$D16),SUMIFS('Vehicle Type Count by Agency'!AA:AA,'Vehicle Type Count by Agency'!$H:$H,\">=\"&$B16)))/IF($A16=\"Between\",SUMIFS('Vehicle Type Count by Agency'!Z:Z,'Vehicle Type Count by Agency'!$H:$H,\">=\"&$B16,'Vehicle Type Count by Agency'!$H:$H,\"<\"&$D16),SUMIFS('Vehicle Type Count by Agency'!Z:Z,'Vehicle Type Count by Agency'!$H:$H,\">=\"&$B16))),\"\")","v":""},{"$f":"IFERROR(IF($A16=\"\",\"\",(IF($A16=\"Between\",SUMIFS('Vehicle Type Count by Agency'!AC:AC,'Vehicle Type Count by Agency'!$H:$H,\">=\"&$B16,'Vehicle Type Count by Agency'!$H:$H,\"<\"&$D16),SUMIFS('Vehicle Type Count by Agency'!AC:AC,'Vehicle Type Count by Agency'!$H:$H,\">=\"&$B16)))/IF($A16=\"Between\",SUMIFS('Vehicle Type Count by Agency'!AB:AB,'Vehicle Type Count by Agency'!$H:$H,\">=\"&$B16,'Vehicle Type Count by Agency'!$H:$H,\"<\"&$D16),SUMIFS('Vehicle Type Count by Agency'!AB:AB,'Vehicle Type Count by Agency'!$H:$H,\">=\"&$B16))),\"\")","v":""},{"$f":"IFERROR(IF($A16=\"\",\"\",(IF($A16=\"Between\",SUMIFS('Vehicle Type Count by Agency'!AE:AE,'Vehicle Type Count by Agency'!$H:$H,\">=\"&$B16,'Vehicle Type Count by Agency'!$H:$H,\"<\"&$D16),SUMIFS('Vehicle Type Count by Agency'!AE:AE,'Vehicle Type Count by Agency'!$H:$H,\">=\"&$B16)))/IF($A16=\"Between\",SUMIFS('Vehicle Type Count by Agency'!AD:AD,'Vehicle Type Count by Agency'!$H:$H,\">=\"&$B16,'Vehicle Type Count by Agency'!$H:$H,\"<\"&$D16),SUMIFS('Vehicle Type Count by Agency'!AD:AD,'Vehicle Type Count by Agency'!$H:$H,\">=\"&$B16))),\"\")","v":""},{"$f":"IFERROR(IF($A16=\"\",\"\",(IF($A16=\"Between\",SUMIFS('Vehicle Type Count by Agency'!AG:AG,'Vehicle Type Count by Agency'!$H:$H,\">=\"&$B16,'Vehicle Type Count by Agency'!$H:$H,\"<\"&$D16),SUMIFS('Vehicle Type Count by Agency'!AG:AG,'Vehicle Type Count by Agency'!$H:$H,\">=\"&$B16)))/IF($A16=\"Between\",SUMIFS('Vehicle Type Count by Agency'!AF:AF,'Vehicle Type Count by Agency'!$H:$H,\">=\"&$B16,'Vehicle Type Count by Agency'!$H:$H,\"<\"&$D16),SUMIFS('Vehicle Type Count by Agency'!AF:AF,'Vehicle Type Count by Agency'!$H:$H,\">=\"&$B16))),\"\")","v":""},{"$f":"IFERROR(IF($A16=\"\",\"\",(IF($A16=\"Between\",SUMIFS('Vehicle Type Count by Agency'!AI:AI,'Vehicle Type Count by Agency'!$H:$H,\">=\"&$B16,'Vehicle Type Count by Agency'!$H:$H,\"<\"&$D16),SUMIFS('Vehicle Type Count by Agency'!AI:AI,'Vehicle Type Count by Agency'!$H:$H,\">=\"&$B16)))/IF($A16=\"Between\",SUMIFS('Vehicle Type Count by Agency'!AH:AH,'Vehicle Type Count by Agency'!$H:$H,\">=\"&$B16,'Vehicle Type Count by Agency'!$H:$H,\"<\"&$D16),SUMIFS('Vehicle Type Count by Agency'!AH:AH,'Vehicle Type Count by Agency'!$H:$H,\">=\"&$B16))),\"\")","v":""},{"$f":"IFERROR(IF($A16=\"\",\"\",(IF($A16=\"Between\",SUMIFS('Vehicle Type Count by Agency'!AK:AK,'Vehicle Type Count by Agency'!$H:$H,\">=\"&$B16,'Vehicle Type Count by Agency'!$H:$H,\"<\"&$D16),SUMIFS('Vehicle Type Count by Agency'!AK:AK,'Vehicle Type Count by Agency'!$H:$H,\">=\"&$B16)))/IF($A16=\"Between\",SUMIFS('Vehicle Type Count by Agency'!AJ:AJ,'Vehicle Type Count by Agency'!$H:$H,\">=\"&$B16,'Vehicle Type Count by Agency'!$H:$H,\"<\"&$D16),SUMIFS('Vehicle Type Count by Agency'!AJ:AJ,'Vehicle Type Count by Agency'!$H:$H,\">=\"&$B16))),\"\")","v":""},{"$f":"IFERROR(IF($A16=\"\",\"\",(IF($A16=\"Between\",SUMIFS('Vehicle Type Count by Agency'!AM:AM,'Vehicle Type Count by Agency'!$H:$H,\">=\"&$B16,'Vehicle Type Count by Agency'!$H:$H,\"<\"&$D16),SUMIFS('Vehicle Type Count by Agency'!AM:AM,'Vehicle Type Count by Agency'!$H:$H,\">=\"&$B16)))/IF($A16=\"Between\",SUMIFS('Vehicle Type Count by Agency'!AL:AL,'Vehicle Type Count by Agency'!$H:$H,\">=\"&$B16,'Vehicle Type Count by Agency'!$H:$H,\"<\"&$D16),SUMIFS('Vehicle Type Count by Agency'!AL:AL,'Vehicle Type Count by Agency'!$H:$H,\">=\"&$B16))),\"\")","v":""},{"$f":"IFERROR(IF($A16=\"\",\"\",(IF($A16=\"Between\",SUMIFS('Vehicle Type Count by Agency'!AO:AO,'Vehicle Type Count by Agency'!$H:$H,\">=\"&$B16,'Vehicle Type Count by Agency'!$H:$H,\"<\"&$D16),SUMIFS('Vehicle Type Count by Agency'!AO:AO,'Vehicle Type Count by Agency'!$H:$H,\">=\"&$B16)))/IF($A16=\"Between\",SUMIFS('Vehicle Type Count by Agency'!AN:AN,'Vehicle Type Count by Agency'!$H:$H,\">=\"&$B16,'Vehicle Type Count by Agency'!$H:$H,\"<\"&$D16),SUMIFS('Vehicle Type Count by Agency'!AN:AN,'Vehicle Type Count by Agency'!$H:$H,\">=\"&$B16))),\"\")","v":""},{"$f":"IFERROR(IF($A16=\"\",\"\",(IF($A16=\"Between\",SUMIFS('Vehicle Type Count by Agency'!AQ:AQ,'Vehicle Type Count by Agency'!$H:$H,\">=\"&$B16,'Vehicle Type Count by Agency'!$H:$H,\"<\"&$D16),SUMIFS('Vehicle Type Count by Agency'!AQ:AQ,'Vehicle Type Count by Agency'!$H:$H,\">=\"&$B16)))/IF($A16=\"Between\",SUMIFS('Vehicle Type Count by Agency'!AP:AP,'Vehicle Type Count by Agency'!$H:$H,\">=\"&$B16,'Vehicle Type Count by Agency'!$H:$H,\"<\"&$D16),SUMIFS('Vehicle Type Count by Agency'!AP:AP,'Vehicle Type Count by Agency'!$H:$H,\">=\"&$B16))),\"\")","v":""},{"$f":"IFERROR(IF($A16=\"\",\"\",(IF($A16=\"Between\",SUMIFS('Vehicle Type Count by Agency'!AS:AS,'Vehicle Type Count by Agency'!$H:$H,\">=\"&$B16,'Vehicle Type Count by Agency'!$H:$H,\"<\"&$D16),SUMIFS('Vehicle Type Count by Agency'!AS:AS,'Vehicle Type Count by Agency'!$H:$H,\">=\"&$B16)))/IF($A16=\"Between\",SUMIFS('Vehicle Type Count by Agency'!AR:AR,'Vehicle Type Count by Agency'!$H:$H,\">=\"&$B16,'Vehicle Type Count by Agency'!$H:$H,\"<\"&$D16),SUMIFS('Vehicle Type Count by Agency'!AR:AR,'Vehicle Type Count by Agency'!$H:$H,\">=\"&$B16))),\"\")","v":""},{"$f":"IFERROR(IF($A16=\"\",\"\",(IF($A16=\"Between\",SUMIFS('Vehicle Type Count by Agency'!AU:AU,'Vehicle Type Count by Agency'!$H:$H,\">=\"&$B16,'Vehicle Type Count by Agency'!$H:$H,\"<\"&$D16),SUMIFS('Vehicle Type Count by Agency'!AU:AU,'Vehicle Type Count by Agency'!$H:$H,\">=\"&$B16)))/IF($A16=\"Between\",SUMIFS('Vehicle Type Count by Agency'!AT:AT,'Vehicle Type Count by Agency'!$H:$H,\">=\"&$B16,'Vehicle Type Count by Agency'!$H:$H,\"<\"&$D16),SUMIFS('Vehicle Type Count by Agency'!AT:AT,'Vehicle Type Count by Agency'!$H:$H,\">=\"&$B16))),\"\")","v":""},{"$f":"IFERROR(IF($A16=\"\",\"\",(IF($A16=\"Between\",SUMIFS('Vehicle Type Count by Agency'!AW:AW,'Vehicle Type Count by Agency'!$H:$H,\">=\"&$B16,'Vehicle Type Count by Agency'!$H:$H,\"<\"&$D16),SUMIFS('Vehicle Type Count by Agency'!AW:AW,'Vehicle Type Count by Agency'!$H:$H,\">=\"&$B16)))/IF($A16=\"Between\",SUMIFS('Vehicle Type Count by Agency'!AV:AV,'Vehicle Type Count by Agency'!$H:$H,\">=\"&$B16,'Vehicle Type Count by Agency'!$H:$H,\"<\"&$D16),SUMIFS('Vehicle Type Count by Agency'!AV:AV,'Vehicle Type Count by Agency'!$H:$H,\">=\"&$B16))),\"\")","v":""},{"$f":"IFERROR(IF($A16=\"\",\"\",(IF($A16=\"Between\",SUMIFS('Vehicle Type Count by Agency'!AY:AY,'Vehicle Type Count by Agency'!$H:$H,\">=\"&$B16,'Vehicle Type Count by Agency'!$H:$H,\"<\"&$D16),SUMIFS('Vehicle Type Count by Agency'!AY:AY,'Vehicle Type Count by Agency'!$H:$H,\">=\"&$B16)))/IF($A16=\"Between\",SUMIFS('Vehicle Type Count by Agency'!AX:AX,'Vehicle Type Count by Agency'!$H:$H,\">=\"&$B16,'Vehicle Type Count by Agency'!$H:$H,\"<\"&$D16),SUMIFS('Vehicle Type Count by Agency'!AX:AX,'Vehicle Type Count by Agency'!$H:$H,\">=\"&$B16))),\"\")","v":""},{"$f":"IFERROR(IF($A16=\"\",\"\",(IF($A16=\"Between\",SUMIFS('Vehicle Type Count by Agency'!BA:BA,'Vehicle Type Count by Agency'!$H:$H,\">=\"&$B16,'Vehicle Type Count by Agency'!$H:$H,\"<\"&$D16),SUMIFS('Vehicle Type Count by Agency'!BA:BA,'Vehicle Type Count by Agency'!$H:$H,\">=\"&$B16)))/IF($A16=\"Between\",SUMIFS('Vehicle Type Count by Agency'!AZ:AZ,'Vehicle Type Count by Agency'!$H:$H,\">=\"&$B16,'Vehicle Type Count by Agency'!$H:$H,\"<\"&$D16),SUMIFS('Vehicle Type Count by Agency'!AZ:AZ,'Vehicle Type Count by Agency'!$H:$H,\">=\"&$B16))),\"\")","v":""},{"$f":"IFERROR(IF($A16=\"\",\"\",(IF($A16=\"Between\",SUMIFS('Vehicle Type Count by Agency'!BC:BC,'Vehicle Type Count by Agency'!$H:$H,\">=\"&$B16,'Vehicle Type Count by Agency'!$H:$H,\"<\"&$D16),SUMIFS('Vehicle Type Count by Agency'!BC:BC,'Vehicle Type Count by Agency'!$H:$H,\">=\"&$B16)))/IF($A16=\"Between\",SUMIFS('Vehicle Type Count by Agency'!BB:BB,'Vehicle Type Count by Agency'!$H:$H,\">=\"&$B16,'Vehicle Type Count by Agency'!$H:$H,\"<\"&$D16),SUMIFS('Vehicle Type Count by Agency'!BB:BB,'Vehicle Type Count by Agency'!$H:$H,\">=\"&$B16))),\"\")","v":""},{"$f":"IFERROR(IF($A16=\"\",\"\",(IF($A16=\"Between\",SUMIFS('Vehicle Type Count by Agency'!BE:BE,'Vehicle Type Count by Agency'!$H:$H,\">=\"&$B16,'Vehicle Type Count by Agency'!$H:$H,\"<\"&$D16),SUMIFS('Vehicle Type Count by Agency'!BE:BE,'Vehicle Type Count by Agency'!$H:$H,\">=\"&$B16)))/IF($A16=\"Between\",SUMIFS('Vehicle Type Count by Agency'!BD:BD,'Vehicle Type Count by Agency'!$H:$H,\">=\"&$B16,'Vehicle Type Count by Agency'!$H:$H,\"<\"&$D16),SUMIFS('Vehicle Type Count by Agency'!BD:BD,'Vehicle Type Count by Agency'!$H:$H,\">=\"&$B16))),\"\")","v":""},{"$f":"IFERROR(IF($A16=\"\",\"\",(IF($A16=\"Between\",SUMIFS('Vehicle Type Count by Agency'!BG:BG,'Vehicle Type Count by Agency'!$H:$H,\">=\"&$B16,'Vehicle Type Count by Agency'!$H:$H,\"<\"&$D16),SUMIFS('Vehicle Type Count by Agency'!BG:BG,'Vehicle Type Count by Agency'!$H:$H,\">=\"&$B16)))/IF($A16=\"Between\",SUMIFS('Vehicle Type Count by Agency'!BF:BF,'Vehicle Type Count by Agency'!$H:$H,\">=\"&$B16,'Vehicle Type Count by Agency'!$H:$H,\"<\"&$D16),SUMIFS('Vehicle Type Count by Agency'!BF:BF,'Vehicle Type Count by Agency'!$H:$H,\">=\"&$B16))),\"\")","v":""},{"$f":"IFERROR(IF($A16=\"\",\"\",(IF($A16=\"Between\",SUMIFS('Vehicle Type Count by Agency'!BI:BI,'Vehicle Type Count by Agency'!$H:$H,\">=\"&$B16,'Vehicle Type Count by Agency'!$H:$H,\"<\"&$D16),SUMIFS('Vehicle Type Count by Agency'!BI:BI,'Vehicle Type Count by Agency'!$H:$H,\">=\"&$B16)))/IF($A16=\"Between\",SUMIFS('Vehicle Type Count by Agency'!BH:BH,'Vehicle Type Count by Agency'!$H:$H,\">=\"&$B16,'Vehicle Type Count by Agency'!$H:$H,\"<\"&$D16),SUMIFS('Vehicle Type Count by Agency'!BH:BH,'Vehicle Type Count by Agency'!$H:$H,\">=\"&$B16))),\"\")","v":""}]
["","","",null,"invalid bin",{"$f":"IFERROR(IF($A17=\"\",\"\",(IF($A17=\"Between\",SUMIFS('Vehicle Type Count by Agency'!K:K,'Vehicle Type Count by Agency'!$H:$H,\">=\"&$B17,'Vehicle Type Count by Agency'!$H:$H,\"<\"&$D17),SUMIFS('Vehicle Type Count by Agency'!K:K,'Vehicle Type Count by Agency'!$H:$H,\">=\"&$B17)))/IF($A17=\"Between\",SUMIFS('Vehicle Type Count by Agency'!J:J,'Vehicle Type Count by Agency'!$H:$H,\">=\"&$B17,'Vehicle Type Count by Agency'!$H:$H,\"<\"&$D17),SUMIFS('Vehicle Type Count by Agency'!J:J,'Vehicle Type Count by Agency'!$H:$H,\">=\"&$B17))),\"\")","v":""},{"$f":"IFERROR(IF($A17=\"\",\"\",(IF($A17=\"Between\",SUMIFS('Vehicle Type Count by Agency'!M:M,'Vehicle Type Count by Agency'!$H:$H,\">=\"&$B17,'Vehicle Type Count by Agency'!$H:$H,\"<\"&$D17),SUMIFS('Vehicle Type Count by Agency'!M:M,'Vehicle Type Count by Agency'!$H:$H,\">=\"&$B17)))/IF($A17=\"Between\",SUMIFS('Vehicle Type Count by Agency'!L:L,'Vehicle Type Count by Agency'!$H:$H,\">=\"&$B17,'Vehicle Type Count by Agency'!$H:$H,\"<\"&$D17),SUMIFS('Vehicle Type Count by Agency'!L:L,'Vehicle Type Count by Agency'!$H:$H,\">=\"&$B17))),\"\")","v":""},{"$f":"IFERROR(IF($A17=\"\",\"\",(IF($A17=\"Between\",SUMIFS('Vehicle Type Count by Agency'!O:O,'Vehicle Type Count by Agency'!$H:$H,\">=\"&$B17,'Vehicle Type Count by Agency'!$H:$H,\"<\"&$D17),SUMIFS('Vehicle Type Count by Agency'!O:O,'Vehicle Type Count by Agency'!$H:$H,\">=\"&$B17)))/IF($A17=\"Between\",SUMIFS('Vehicle Type Count by Agency'!N:N,'Vehicle Type Count by Agency'!$H:$H,\">=\"&$B17,'Vehicle Type Count by Agency'!$H:$H,\"<\"&$D17),SUMIFS('Vehicle Type Count by Agency'!N:N,'Vehicle Type Count by Agency'!$H:$H,\">=\"&$B17))),\"\")","v":""},{"$f":"IFERROR(IF($A17=\"\",\"\",(IF($A17=\"Between\",SUMIFS('Vehicle Type Count by Agency'!Q:Q,'Vehicle Type Count by Agency'!$H:$H,\">=\"&$B17,'Vehicle Type Count by Agency'!$H:$H,\"<\"&$D17),SUMIFS('Vehicle Type Count by Agency'!Q:Q,'Vehicle Type Count by Agency'!$H:$H,\">=\"&$B17)))/IF($A17=\"Between\",SUMIFS('Vehicle Type Count by Agency'!P:P,'Vehicle Type Count by Agency'!$H:$H,\">=\"&$B17,'Vehicle Type Count by Agency'!$H:$H,\"<\"&$D17),SUMIFS('Vehicle Type Count by Agency'!P:P,'Vehicle Type Count by Agency'!$H:$H,\">=\"&$B17))),\"\")","v":""},{"$f":"IFERROR(IF($A17=\"\",\"\",(IF($A17=\"Between\",SUMIFS('Vehicle Type Count by Agency'!S:S,'Vehicle Type Count by Agency'!$H:$H,\">=\"&$B17,'Vehicle Type Count by Agency'!$H:$H,\"<\"&$D17),SUMIFS('Vehicle Type Count by Agency'!S:S,'Vehicle Type Count by Agency'!$H:$H,\">=\"&$B17)))/IF($A17=\"Between\",SUMIFS('Vehicle Type Count by Agency'!R:R,'Vehicle Type Count by Agency'!$H:$H,\">=\"&$B17,'Vehicle Type Count by Agency'!$H:$H,\"<\"&$D17),SUMIFS('Vehicle Type Count by Agency'!R:R,'Vehicle Type Count by Agency'!$H:$H,\">=\"&$B17))),\"\")","v":""},{"$f":"IFERROR(IF($A17=\"\",\"\",(IF($A17=\"Between\",SUMIFS('Vehicle Type Count by Agency'!U:U,'Vehicle Type Count by Agency'!$H:$H,\">=\"&$B17,'Vehicle Type Count by Agency'!$H:$H,\"<\"&$D17),SUMIFS('Vehicle Type Count by Agency'!U:U,'Vehicle Type Count by Agency'!$H:$H,\">=\"&$B17)))/IF($A17=\"Between\",SUMIFS('Vehicle Type Count by Agency'!T:T,'Vehicle Type Count by Agency'!$H:$H,\">=\"&$B17,'Vehicle Type Count by Agency'!$H:$H,\"<\"&$D17),SUMIFS('Vehicle Type Count by Agency'!T:T,'Vehicle Type Count by Agency'!$H:$H,\">=\"&$B17))),\"\")","v":""},{"$f":"IFERROR(IF($A17=\"\",\"\",(IF($A17=\"Between\",SUMIFS('Vehicle Type Count by Agency'!W:W,'Vehicle Type Count by Agency'!$H:$H,\">=\"&$B17,'Vehicle Type Count by Agency'!$H:$H,\"<\"&$D17),SUMIFS('Vehicle Type Count by Agency'!W:W,'Vehicle Type Count by Agency'!$H:$H,\">=\"&$B17)))/IF($A17=\"Between\",SUMIFS('Vehicle Type Count by Agency'!V:V,'Vehicle Type Count by Agency'!$H:$H,\">=\"&$B17,'Vehicle Type Count by Agency'!$H:$H,\"<\"&$D17),SUMIFS('Vehicle Type Count by Agency'!V:V,'Vehicle Type Count by Agency'!$H:$H,\">=\"&$B17))),\"\")","v":""},{"$f":"IFERROR(IF($A17=\"\",\"\",(IF($A17=\"Between\",SUMIFS('Vehicle Type Count by Agency'!Y:Y,'Vehicle Type Count by Agency'!$H:$H,\">=\"&$B17,'Vehicle Type Count by Agency'!$H:$H,\"<\"&$D17),SUMIFS('Vehicle Type Count by Agency'!Y:Y,'Vehicle Type Count by Agency'!$H:$H,\">=\"&$B17)))/IF($A17=\"Between\",SUMIFS('Vehicle Type Count by Agency'!X:X,'Vehicle Type Count by Agency'!$H:$H,\">=\"&$B17,'Vehicle Type Count by Agency'!$H:$H,\"<\"&$D17),SUMIFS('Vehicle Type Count by Agency'!X:X,'Vehicle Type Count by Agency'!$H:$H,\">=\"&$B17))),\"\")","v":""},{"$f":"IFERROR(IF($A17=\"\",\"\",(IF($A17=\"Between\",SUMIFS('Vehicle Type Count by Agency'!AA:AA,'Vehicle Type Count by Agency'!$H:$H,\">=\"&$B17,'Vehicle Type Count by Agency'!$H:$H,\"<\"&$D17),SUMIFS('Vehicle Type Count by Agency'!AA:AA,'Vehicle Type Count by Agency'!$H:$H,\">=\"&$B17)))/IF($A17=\"Between\",SUMIFS('Vehicle Type Count by Agency'!Z:Z,'Vehicle Type Count by Agency'!$H:$H,\">=\"&$B17,'Vehicle Type Count by Agency'!$H:$H,\"<\"&$D17),SUMIFS('Vehicle Type Count by Agency'!Z:Z,'Vehicle Type Count by Agency'!$H:$H,\">=\"&$B17))),\"\")","v":""},{"$f":"IFERROR(IF($A17=\"\",\"\",(IF($A17=\"Between\",SUMIFS('Vehicle Type Count by Agency'!AC:AC,'Vehicle Type Count by Agency'!$H:$H,\">=\"&$B17,'Vehicle Type Count by Agency'!$H:$H,\"<\"&$D17),SUMIFS('Vehicle Type Count by Agency'!AC:AC,'Vehicle Type Count by Agency'!$H:$H,\">=\"&$B17)))/IF($A17=\"Between\",SUMIFS('Vehicle Type Count by Agency'!AB:AB,'Vehicle Type Count by Agency'!$H:$H,\">=\"&$B17,'Vehicle Type Count by Agency'!$H:$H,\"<\"&$D17),SUMIFS('Vehicle Type Count by Agency'!AB:AB,'Vehicle Type Count by Agency'!$H:$H,\">=\"&$B17))),\"\")","v":""},{"$f":"IFERROR(IF($A17=\"\",\"\",(IF($A17=\"Between\",SUMIFS('Vehicle Type Count by Agency'!AE:AE,'Vehicle Type Count by Agency'!$H:$H,\">=\"&$B17,'Vehicle Type Count by Agency'!$H:$H,\"<\"&$D17),SUMIFS('Vehicle Type Count by Agency'!AE:AE,'Vehicle Type Count by Agency'!$H:$H,\">=\"&$B17)))/IF($A17=\"Between\",SUMIFS('Vehicle Type Count by Agency'!AD:AD,'Vehicle Type Count by Agency'!$H:$H,\">=\"&$B17,'Vehicle Type Count by Agency'!$H:$H,\"<\"&$D17),SUMIFS('Vehicle Type Count by Agency'!AD:AD,'Vehicle Type Count by Agency'!$H:$H,\">=\"&$B17))),\"\")","v":""},{"$f":"IFERROR(IF($A17=\"\",\"\",(IF($A17=\"Between\",SUMIFS('Vehicle Type Count by Agency'!AG:AG,'Vehicle Type Count by Agency'!$H:$H,\">=\"&$B17,'Vehicle Type Count by Agency'!$H:$H,\"<\"&$D17),SUMIFS('Vehicle Type Count by Agency'!AG:AG,'Vehicle Type Count by Agency'!$H:$H,\">=\"&$B17)))/IF($A17=\"Between\",SUMIFS('Vehicle Type Count by Agency'!AF:AF,'Vehicle Type Count by Agency'!$H:$H,\">=\"&$B17,'Vehicle Type Count by Agency'!$H:$H,\"<\"&$D17),SUMIFS('Vehicle Type Count by Agency'!AF:AF,'Vehicle Type Count by Agency'!$H:$H,\">=\"&$B17))),\"\")","v":""},{"$f":"IFERROR(IF($A17=\"\",\"\",(IF($A17=\"Between\",SUMIFS('Vehicle Type Count by Agency'!AI:AI,'Vehicle Type Count by Agency'!$H:$H,\">=\"&$B17,'Vehicle Type Count by Agency'!$H:$H,\"<\"&$D17),SUMIFS('Vehicle Type Count by Agency'!AI:AI,'Vehicle Type Count by Agency'!$H:$H,\">=\"&$B17)))/IF($A17=\"Between\",SUMIFS('Vehicle Type Count by Agency'!AH:AH,'Vehicle Type Count by Agency'!$H:$H,\">=\"&$B17,'Vehicle Type Count by Agency'!$H:$H,\"<\"&$D17),SUMIFS('Vehicle Type Count by Agency'!AH:AH,'Vehicle Type Count by Agency'!$H:$H,\">=\"&$B17))),\"\")","v":""},{"$f":"IFERROR(IF($A17=\"\",\"\",(IF($A17=\"Between\",SUMIFS('Vehicle Type Count by Agency'!AK:AK,'Vehicle Type Count by Agency'!$H:$H,\">=\"&$B17,'Vehicle Type Count by Agency'!$H:$H,\"<\"&$D17),SUMIFS('Vehicle Type Count by Agency'!AK:AK,'Vehicle Type Count by Agency'!$H:$H,\">=\"&$B17)))/IF($A17=\"Between\",SUMIFS('Vehicle Type Count by Agency'!AJ:AJ,'Vehicle Type Count by Agency'!$H:$H,\">=\"&$B17,'Vehicle Type Count by Agency'!$H:$H,\"<\"&$D17),SUMIFS('Vehicle Type Count by Agency'!AJ:AJ,'Vehicle Type Count by Agency'!$H:$H,\">=\"&$B17))),\"\")","v":""},{"$f":"IFERROR(IF($A17=\"\",\"\",(IF($A17=\"Between\",SUMIFS('Vehicle Type Count by Agency'!AM:AM,'Vehicle Type Count by Agency'!$H:$H,\">=\"&$B17,'Vehicle Type Count by Agency'!$H:$H,\"<\"&$D17),SUMIFS('Vehicle Type Count by Agency'!AM:AM,'Vehicle Type Count by Agency'!$H:$H,\">=\"&$B17)))/IF($A17=\"Between\",SUMIFS('Vehicle Type Count by Agency'!AL:AL,'Vehicle Type Count by Agency'!$H:$H,\">=\"&$B17,'Vehicle Type Count by Agency'!$H:$H,\"<\"&$D17),SUMIFS('Vehicle Type Count by Agency'!AL:AL,'Vehicle Type Count by Agency'!$H:$H,\">=\"&$B17))),\"\")","v":""},{"$f":"IFERROR(IF($A17=\"\",\"\",(IF($A17=\"Between\",SUMIFS('Vehicle Type Count by Agency'!AO:AO,'Vehicle Type Count by Agency'!$H:$H,\">=\"&$B17,'Vehicle Type Count by Agency'!$H:$H,\"<\"&$D17),SUMIFS('Vehicle Type Count by Agency'!AO:AO,'Vehicle Type Count by Agency'!$H:$H,\">=\"&$B17)))/IF($A17=\"Between\",SUMIFS('Vehicle Type Count by Agency'!AN:AN,'Vehicle Type Count by Agency'!$H:$H,\">=\"&$B17,'Vehicle Type Count by Agency'!$H:$H,\"<\"&$D17),SUMIFS('Vehicle Type Count by Agency'!AN:AN,'Vehicle Type Count by Agency'!$H:$H,\">=\"&$B17))),\"\")","v":""},{"$f":"IFERROR(IF($A17=\"\",\"\",(IF($A17=\"Between\",SUMIFS('Vehicle Type Count by Agency'!AQ:AQ,'Vehicle Type Count by Agency'!$H:$H,\">=\"&$B17,'Vehicle Type Count by Agency'!$H:$H,\"<\"&$D17),SUMIFS('Vehicle Type Count by Agency'!AQ:AQ,'Vehicle Type Count by Agency'!$H:$H,\">=\"&$B17)))/IF($A17=\"Between\",SUMIFS('Vehicle Type Count by Agency'!AP:AP,'Vehicle Type Count by Agency'!$H:$H,\">=\"&$B17,'Vehicle Type Count by Agency'!$H:$H,\"<\"&$D17),SUMIFS('Vehicle Type Count by Agency'!AP:AP,'Vehicle Type Count by Agency'!$H:$H,\">=\"&$B17))),\"\")","v":""},{"$f":"IFERROR(IF($A17=\"\",\"\",(IF($A17=\"Between\",SUMIFS('Vehicle Type Count by Agency'!AS:AS,'Vehicle Type Count by Agency'!$H:$H,\">=\"&$B17,'Vehicle Type Count by Agency'!$H:$H,\"<\"&$D17),SUMIFS('Vehicle Type Count by Agency'!AS:AS,'Vehicle Type Count by Agency'!$H:$H,\">=\"&$B17)))/IF($A17=\"Between\",SUMIFS('Vehicle Type Count by Agency'!AR:AR,'Vehicle Type Count by Agency'!$H:$H,\">=\"&$B17,'Vehicle Type Count by Agency'!$H:$H,\"<\"&$D17),SUMIFS('Vehicle Type Count by Agency'!AR:AR,'Vehicle Type Count by Agency'!$H:$H,\">=\"&$B17))),\"\")","v":""},{"$f":"IFERROR(IF($A17=\"\",\"\",(IF($A17=\"Between\",SUMIFS('Vehicle Type Count by Agency'!AU:AU,'Vehicle Type Count by Agency'!$H:$H,\">=\"&$B17,'Vehicle Type Count by Agency'!$H:$H,\"<\"&$D17),SUMIFS('Vehicle Type Count by Agency'!AU:AU,'Vehicle Type Count by Agency'!$H:$H,\">=\"&$B17)))/IF($A17=\"Between\",SUMIFS('Vehicle Type Count by Agency'!AT:AT,'Vehicle Type Count by Agency'!$H:$H,\">=\"&$B17,'Vehicle Type Count by Agency'!$H:$H,\"<\"&$D17),SUMIFS('Vehicle Type Count by Agency'!AT:AT,'Vehicle Type Count by Agency'!$H:$H,\">=\"&$B17))),\"\")","v":""},{"$f":"IFERROR(IF($A17=\"\",\"\",(IF($A17=\"Between\",SUMIFS('Vehicle Type Count by Agency'!AW:AW,'Vehicle Type Count by Agency'!$H:$H,\">=\"&$B17,'Vehicle Type Count by Agency'!$H:$H,\"<\"&$D17),SUMIFS('Vehicle Type Count by Agency'!AW:AW,'Vehicle Type Count by Agency'!$H:$H,\">=\"&$B17)))/IF($A17=\"Between\",SUMIFS('Vehicle Type Count by Agency'!AV:AV,'Vehicle Type Count by Agency'!$H:$H,\">=\"&$B17,'Vehicle Type Count by Agency'!$H:$H,\"<\"&$D17),SUMIFS('Vehicle Type Count by Agency'!AV:AV,'Vehicle Type Count by Agency'!$H:$H,\">=\"&$B17))),\"\")","v":""},{"$f":"IFERROR(IF($A17=\"\",\"\",(IF($A17=\"Between\",SUMIFS('Vehicle Type Count by Agency'!AY:AY,'Vehicle Type Count by Agency'!$H:$H,\">=\"&$B17,'Vehicle Type Count by Agency'!$H:$H,\"<\"&$D17),SUMIFS('Vehicle Type Count by Agency'!AY:AY,'Vehicle Type Count by Agency'!$H:$H,\">=\"&$B17)))/IF($A17=\"Between\",SUMIFS('Vehicle Type Count by Agency'!AX:AX,'Vehicle Type Count by Agency'!$H:$H,\">=\"&$B17,'Vehicle Type Count by Agency'!$H:$H,\"<\"&$D17),SUMIFS('Vehicle Type Count by Agency'!AX:AX,'Vehicle Type Count by Agency'!$H:$H,\">=\"&$B17))),\"\")","v":""},{"$f":"IFERROR(IF($A17=\"\",\"\",(IF($A17=\"Between\",SUMIFS('Vehicle Type Count by Agency'!BA:BA,'Vehicle Type Count by Agency'!$H:$H,\">=\"&$B17,'Vehicle Type Count by Agency'!$H:$H,\"<\"&$D17),SUMIFS('Vehicle Type Count by Agency'!BA:BA,'Vehicle Type Count by Agency'!$H:$H,\">=\"&$B17)))/IF($A17=\"Between\",SUMIFS('Vehicle Type Count by Agency'!AZ:AZ,'Vehicle Type Count by Agency'!$H:$H,\">=\"&$B17,'Vehicle Type Count by Agency'!$H:$H,\"<\"&$D17),SUMIFS('Vehicle Type Count by Agency'!AZ:AZ,'Vehicle Type Count by Agency'!$H:$H,\">=\"&$B17))),\"\")","v":""},{"$f":"IFERROR(IF($A17=\"\",\"\",(IF($A17=\"Between\",SUMIFS('Vehicle Type Count by Agency'!BC:BC,'Vehicle Type Count by Agency'!$H:$H,\">=\"&$B17,'Vehicle Type Count by Agency'!$H:$H,\"<\"&$D17),SUMIFS('Vehicle Type Count by Agency'!BC:BC,'Vehicle Type Count by Agency'!$H:$H,\">=\"&$B17)))/IF($A17=\"Between\",SUMIFS('Vehicle Type Count by Agency'!BB:BB,'Vehicle Type Count by Agency'!$H:$H,\">=\"&$B17,'Vehicle Type Count by Agency'!$H:$H,\"<\"&$D17),SUMIFS('Vehicle Type Count by Agency'!BB:BB,'Vehicle Type Count by Agency'!$H:$H,\">=\"&$B17))),\"\")","v":""},{"$f":"IFERROR(IF($A17=\"\",\"\",(IF($A17=\"Between\",SUMIFS('Vehicle Type Count by Agency'!BE:BE,'Vehicle Type Count by Agency'!$H:$H,\">=\"&$B17,'Vehicle Type Count by Agency'!$H:$H,\"<\"&$D17),SUMIFS('Vehicle Type Count by Agency'!BE:BE,'Vehicle Type Count by Agency'!$H:$H,\">=\"&$B17)))/IF($A17=\"Between\",SUMIFS('Vehicle Type Count by Agency'!BD:BD,'Vehicle Type Count by Agency'!$H:$H,\">=\"&$B17,'Vehicle Type Count by Agency'!$H:$H,\"<\"&$D17),SUMIFS('Vehicle Type Count by Agency'!BD:BD,'Vehicle Type Count by Agency'!$H:$H,\">=\"&$B17))),\"\")","v":""},{"$f":"IFERROR(IF($A17=\"\",\"\",(IF($A17=\"Between\",SUMIFS('Vehicle Type Count by Agency'!BG:BG,'Vehicle Type Count by Agency'!$H:$H,\">=\"&$B17,'Vehicle Type Count by Agency'!$H:$H,\"<\"&$D17),SUMIFS('Vehicle Type Count by Agency'!BG:BG,'Vehicle Type Count by Agency'!$H:$H,\">=\"&$B17)))/IF($A17=\"Between\",SUMIFS('Vehicle Type Count by Agency'!BF:BF,'Vehicle Type Count by Agency'!$H:$H,\">=\"&$B17,'Vehicle Type Count by Agency'!$H:$H,\"<\"&$D17),SUMIFS('Vehicle Type Count by Agency'!BF:BF,'Vehicle Type Count by Agency'!$H:$H,\">=\"&$B17))),\"\")","v":""},{"$f":"IFERROR(IF($A17=\"\",\"\",(IF($A17=\"Between\",SUMIFS('Vehicle Type Count by Agency'!BI:BI,'Vehicle Type Count by Agency'!$H:$H,\">=\"&$B17,'Vehicle Type Count by Agency'!$H:$H,\"<\"&$D17),SUMIFS('Vehicle Type Count by Agency'!BI:BI,'Vehicle Type Count by Agency'!$H:$H,\">=\"&$B17)))/IF($A17=\"Between\",SUMIFS('Vehicle Type Count by Agency'!BH:BH,'Vehicle Type Count by Agency'!$H:$H,\">=\"&$B17,'Vehicle Type Count by Agency'!$H:$H,\"<\"&$D17),SUMIFS('Vehicle Type Count by Agency'!BH:BH,'Vehicle Type Count by Agency'!$H:$H,\">=\"&$B17))),\"\")","v":""}]
[null,null,null,null,{"$f":"IFERROR(\"Number of Active Vehicles Beyond their Useful Life out of the Total Number of Active Vehicles\"&\":\"&CHAR(10)&$G$20&\":\"&CHAR(10)&F18&CHAR(10)&G18&CHAR(10)&H18&CHAR(10)&I18&CHAR(10)&J18&CHAR(10)&K18&CHAR(10)&L18&CHAR(10)&M18&CHAR(10)&N18&CHAR(10)&O18&CHAR(10)&P18&CHAR(10)&Q18&CHAR(10)&R18,\"\")","v":""},{"$f":"F8&\": \"&FIXED(100*F19/$AE$19,0,0)&\"%\"","v":"Bus: 5%"},{"$f":"G8&\": \"&FIXED(100*G19/$AE$19,0,0)&\"%\"","v":"Articulated Bus: 8%"},"Over-the-road Bus: 4%","Double Decker Bus: 6%","School Bus: 8%","Van: 7%","Cutaway: 5%","Automobile: 7%","Minivan: 6%","Sports Utility Vehicle: 5%",{"$error":"#VALUE!"},{"$error":"#VALUE!"},{"$error":"#VALUE!"},{"$error":"#VALUE!"},{"$error":"#VALUE!"},{"$error":"#VALUE!"},"Automated Guideway Vehicle: 0%","Vintage/ Historic Trolley: 19%",{"$error":"#VALUE!"},"Aerial Tramway: 16%",{"$error":"#VALUE!"},{"$error":"#VALUE!"},"Inclined Plane: 0%","Ferryboat: 2%","Other: 3%"]
[null,null,null,null,null,{"$f":"INDIRECT(ADDRESS(ROW('Summary Tables Useful Life'!F8)+$F$20,COLUMN('Summary Tables Useful Life'!F8)))","v":0.2412702132645887},{"$f":"INDIRECT(ADDRESS(ROW('Summary Tables Useful Life'!G8)+$F$20,COLUMN('Summary Tables Useful Life'!G8)))","v":0.40322580645161288},{"$f":"INDIRECT(ADDRESS(ROW('Summary Tables Useful Life'!H8)+$F$20,COLUMN('Summary Tables Useful Life'!H8)))","v":0.22480620155038761},{"$f":"INDIRECT(ADDRESS(ROW('Summary Tables Useful Life'!I8)+$F$20,COLUMN('Summary Tables Useful Life'!I8)))","v":0.3},{"$f":"INDIRECT(ADDRESS(ROW('Summary Tables Useful Life'!J8)+$F$20,COLUMN('Summary Tables Useful Life'!J8)))","v":0.39784946236559138},{"$f":"INDIRECT(ADDRESS(ROW('Summary Tables Useful Life'!K8)+$F$20,COLUMN('Summary Tables Useful Life'!K8)))","v":0.35547659508728563},{"$f":"INDIRECT(ADDRESS(ROW('Summary Tables Useful Life'!L8)+$F$20,COLUMN('Summary Tables Useful Life'!L8)))","v":0.24927052938724467},{"$f":"INDIRECT(ADDRESS(ROW('Summary Tables Useful Life'!M8)+$F$20,COLUMN('Summary Tables Useful Life'!M8)))","v":0.37747524752475248},{"$f":"INDIRECT(ADDRESS(ROW('Summary Tables Useful Life'!N8)+$F$20,COLUMN('Summary Tables Useful Life'!N8)))","v":0.33382473382473382},{"$f":"INDIRECT(ADDRESS(ROW('Summary Tables Useful Life'!O8)+$F$20,COLUMN('Summary Tables Useful Life'!O8)))","v":0.25340599455040874},{"$f":"INDIRECT(ADDRESS(ROW('Summary Tables Useful Life'!P8)+$F$20,COLUMN('Summary Tables Useful Life'!P8)))","v":""},{"$f":"INDIRECT(ADDRESS(ROW('Summary Tables Useful Life'!Q8)+$F$20,COLUMN('Summary Tables Useful Life'!Q8)))","v":""},{"$f":"INDIRECT(ADDRESS(ROW('Summary Tables Useful Life'!R8)+$F$20,COLUMN('Summary Tables Useful Life'!R8)))","v":""},{"$f":"INDIRECT(ADDRESS(ROW('Summary Tables Useful Life'!S8)+$F$20,COLUMN('Summary Tables Useful Life'!S8)))","v":""},{"$f":"INDIRECT(ADDRESS(ROW('Summary Tables Useful Life'!T8)+$F$20,COLUMN('Summary Tables Useful Life'!T8)))","v":""},{"$f":"INDIRECT(ADDRESS(ROW('Summary Tables Useful Life'!U8)+$F$20,COLUMN('Summary Tables Useful Life'!U8)))","v":""},{"$f":"INDIRECT(ADDRESS(ROW('Summary Tables Useful Life'!V8)+$F$20,COLUMN('Summary Tables Useful Life'!V8)))","v":0},{"$f":"INDIRECT(ADDRESS(ROW('Summary Tables Useful Life'!W8)+$F$20,COLUMN('Summary Tables Useful Life'!W8)))","v":1},{"$f":"INDIRECT(ADDRESS(ROW('Summary Tables Useful Life'!X8)+$F$20,COLUMN('Summary Tables Useful Life'!X8)))","v":""},{"$f":"INDIRECT(ADDRESS(ROW('Summary Tables Useful Life'!Y8)+$F$20,COLUMN('Summary Tables Useful Life'!Y8)))","v":0.83823529411764708},{"$f":"INDIRECT(ADDRESS(ROW('Summary Tables Useful Life'!Z8)+$F$20,COLUMN('Summary Tables Useful Life'!Z8)))","v":""},{"$f":"INDIRECT(ADDRESS(ROW('Summary Tables Useful Life'!AA8)+$F$20,COLUMN('Summary Tables Useful Life'!AA8)))","v":""},{"$f":"INDIRECT(ADDRESS(ROW('Summary Tables Useful Life'!AB8)+$F$20,COLUMN('Summary Tables Useful Life'!AB8)))","v":0},{"$f":"INDIRECT(ADDRESS(ROW('Summary Tables Useful Life'!AC8)+$F$20,COLUMN('Summary Tables Useful Life'!AC8)))","v":0.125},{"$f":"INDIRECT(ADDRESS(ROW('Summary Tables Useful Life'!AD8)+$F$20,COLUMN('Summary Tables Useful Life'!AD8)))","v":0.15151515151515152},{"$f":"SUM(F19:AD19)","v":5.2513552296394037}]
[null,null,null,null,null,1,{"$f":"IF(INDIRECT(\"A\"&(8+F20))=\"\",\"Please select a valid bin to graph.\",IF(OR(INDIRECT(\"A\"&(8+F20))=\"Under\",INDIRECT(\"A\"&(8+F20))=\"Over\"),INDIRECT(\"A\"&(8+F20))&\" \"&FIXED(INDIRECT(\"B\"&(8+F20)),0,0)&\" Population\",\"Between \"&FIXED(INDIRECT(\"B\"&(8+F20)),0,0)&\" and \"&FIXED(INDIRECT(\"D\"&(8+F20)),0,0)&\" Population\"))","v":"Under 200,000 Population"}]
[]
["By Agency Size (Vehicles)"]
[null,null,null,null,null,"Percent of Active Vehicles Beyond their Useful Life by Vehicle Type"]
[null,null,null,null,"click to graph","Bus","Articulated Bus","Over-the-road Bus","Double Decker Bus","School Bus","Van","Cutaway","Automobile","Minivan","Sports Utility Vehicle","Trolleybus","Heavy Rail Passenger Car","Light Rail Vehicle","Commuter Rail Passenger Coach","Commuter Rail Self-Propelled Passenger Car","Locomotive","Automated Guideway Vehicle","Vintage/ Historic Trolley","Streetcar","Aerial Tramway","Monorail","Cable Car","Inclined Plane","Ferryboat","Other","Total"]
["Under",{"$f":"D25","v":10},null,10,{"$f":"IFERROR(IF(A25=\"Between\",A25&\" \"&FIXED(B25,0,0)&\" \"&C25&\" \"&FIXED(D25,0,0),A25&\" \"&FIXED(B25,0,0)),\"invalid bin\")","v":"Under 10"},{"$f":"IFERROR(SUMIFS('Vehicle Type Count by Agency'!K:K,'Vehicle Type Count by Agency'!$I:$I,\"<\"&$D25)/SUMIFS('Vehicle Type Count by Agency'!J:J,'Vehicle Type Count by Agency'!$I:$I,\"<\"&$D25),\"\")","v":0.21062618595825428},{"$f":"IFERROR(SUMIFS('Vehicle Type Count by Agency'!M:M,'Vehicle Type Count by Agency'!$I:$I,\"<\"&$D25)/SUMIFS('Vehicle Type Count by Agency'!L:L,'Vehicle Type Count by Agency'!$I:$I,\"<\"&$D25),\"\")","v":0},{"$f":"IFERROR(SUMIFS('Vehicle Type Count by Agency'!O:O,'Vehicle Type Count by Agency'!$I:$I,\"<\"&$D25)/SUMIFS('Vehicle Type Count by Agency'!N:N,'Vehicle Type Count by Agency'!$I:$I,\"<\"&$D25),\"\")","v":2.5974025974025976E-2},{"$f":"IFERROR(SUMIFS('Vehicle Type Count by Agency'!Q:Q,'Vehicle Type Count by Agency'!$I:$I,\"<\"&$D25)/SUMIFS('Vehicle Type Count by Agency'!P:P,'Vehicle Type Count by Agency'!$I:$I,\"<\"&$D25),\"\")","v":""},{"$f":"IFERROR(SUMIFS('Vehicle Type Count by Agency'!S:S,'Vehicle Type Count by Agency'!$I:$I,\"<\"&$D25)/SUMIFS('Vehicle Type Count by Agency'!R:R,'Vehicle Type Count by Agency'!$I:$I,\"<\"&$D25),\"\")","v":0.4},{"$f":"IFERROR(SUMIFS('Vehicle Type Count by Agency'!U:U,'Vehicle Type Count by Agency'!$I:$I,\"<\"&$D25)/SUMIFS('Vehicle Type Count by Agency'!T:T,'Vehicle Type Count by Agency'!$I:$I,\"<\"&$D25),\"\")","v":0.38938714499252614},{"$f":"IFERROR(SUMIFS('Vehicle Type Count by Agency'!W:W,'Vehicle Type Count by Agency'!$I:$I,\"<\"&$D25)/SUMIFS('Vehicle Type Count by Agency'!V:V,'Vehicle Type Count by Agency'!$I:$I,\"<\"&$D25),\"\")","v":0.25775004874244495},{"$f":"IFERROR(SUMIFS('Vehicle Type Count by Agency'!Y:Y,'Vehicle Type Count by Agency'!$I:$I,\"<\"&$D25)/SUMIFS('Vehicle Type Count by Agency'!X:X,'Vehicle Type Count by Agency'!$I:$I,\"<\"&$D25),\"\")","v":0.32791327913279134},{"$f":"IFERROR(SUMIFS('Vehicle Type Count by Agency'!AA:AA,'Vehicle Type Count by Agency'!$I:$I,\"<\"&$D25)/SUMIFS('Vehicle Type Count by Agency'!Z:Z,'Vehicle Type Count by Agency'!$I:$I,\"<\"&$D25),\"\")","v":0.31786771964461996},{"$f":"IFERROR(SUMIFS('Vehicle Type Count by Agency'!AC:AC,'Vehicle Type Count by Agency'!$I:$I,\"<\"&$D25)/SUMIFS('Vehicle Type Count by Agency'!AB:AB,'Vehicle Type Count by Agency'!$I:$I,\"<\"&$D25),\"\")","v":0.16129032258064516},{"$f":"IFERROR(SUMIFS('Vehicle Type Count by Agency'!AE:AE,'Vehicle Type Count by Agency'!$I:$I,\"<\"&$D25)/SUMIFS('Vehicle Type Count by Agency'!AD:AD,'Vehicle Type Count by Agency'!$I:$I,\"<\"&$D25),\"\")","v":""},{"$f":"IFERROR(SUMIFS('Vehicle Type Count by Agency'!AG:AG,'Vehicle Type Count by Agency'!$I:$I,\"<\"&$D25)/SUMIFS('Vehicle Type Count by Agency'!AF:AF,'Vehicle Type Count by Agency'!$I:$I,\"<\"&$D25),\"\")","v":""},{"$f":"IFERROR(SUMIFS('Vehicle Type Count by Agency'!AI:AI,'Vehicle Type Count by Agency'!$I:$I,\"<\"&$D25)/SUMIFS('Vehicle Type Count by Agency'!AH:AH,'Vehicle Type Count by Agency'!$I:$I,\"<\"&$D25),\"\")","v":""},{"$f":"IFERROR(SUMIFS('Vehicle Type Count by Agency'!AK:AK,'Vehicle Type Count by Agency'!$I:$I,\"<\"&$D25)/SUMIFS('Vehicle Type Count by Agency'!AJ:AJ,'Vehicle Type Count by Agency'!$I:$I,\"<\"&$D25),\"\")","v":""},{"$f":"IFERROR(SUMIFS('Vehicle Type Count by Agency'!AM:AM,'Vehicle Type Count by Agency'!$I:$I,\"<\"&$D25)/SUMIFS('Vehicle Type Count by Agency'!AL:AL,'Vehicle Type Count by Agency'!$I:$I,\"<\"&$D25),\"\")","v":""},{"$f":"IFERROR(SUMIFS('Vehicle Type Count by Agency'!AO:AO,'Vehicle Type Count by Agency'!$I:$I,\"<\"&$D25)/SUMIFS('Vehicle Type Count by Agency'!AN:AN,'Vehicle Type Count by Agency'!$I:$I,\"<\"&$D25),\"\")","v":""},{"$f":"IFERROR(SUMIFS('Vehicle Type Count by Agency'!AQ:AQ,'Vehicle Type Count by Agency'!$I:$I,\"<\"&$D25)/SUMIFS('Vehicle Type Count by Agency'!AP:AP,'Vehicle Type Count by Agency'!$I:$I,\"<\"&$D25),\"\")","v":""},{"$f":"IFERROR(SUMIFS('Vehicle Type Count by Agency'!AS:AS,'Vehicle Type Count by Agency'!$I:$I,\"<\"&$D25)/SUMIFS('Vehicle Type Count by Agency'!AR:AR,'Vehicle Type Count by Agency'!$I:$I,\"<\"&$D25),\"\")","v":1},{"$f":"IFERROR(SUMIFS('Vehicle Type Count by Agency'!AU:AU,'Vehicle Type Count by Agency'!$I:$I,\"<\"&$D25)/SUMIFS('Vehicle Type Count by Agency'!AT:AT,'Vehicle Type Count by Agency'!$I:$I,\"<\"&$D25),\"\")","v":0},{"$f":"IFERROR(SUMIFS('Vehicle Type Count by Agency'!AW:AW,'Vehicle Type Count by Agency'!$I:$I,\"<\"&$D25)/SUMIFS('Vehicle Type Count by Agency'!AV:AV,'Vehicle Type Count by Agency'!$I:$I,\"<\"&$D25),\"\")","v":""},{"$f":"IFERROR(SUMIFS('Vehicle Type Count by Agency'!AY:AY,'Vehicle Type Count by Agency'!$I:$I,\"<\"&$D25)/SUMIFS('Vehicle Type Count by Agency'!AX:AX,'Vehicle Type Count by Agency'!$I:$I,\"<\"&$D25),\"\")","v":0},{"$f":"IFERROR(SUMIFS('Vehicle Type Count by Agency'!BA:BA,'Vehicle Type Count by Agency'!$I:$I,\"<\"&$D25)/SUMIFS('Vehicle Type Count by Agency'!AZ:AZ,'Vehicle Type Count by Agency'!$I:$I,\"<\"&$D25),\"\")","v":""},{"$f":"IFERROR(SUMIFS('Vehicle Type Count by Agency'!BC:BC,'Vehicle Type Count by Agency'!$I:$I,\"<\"&$D25)/SUMIFS('Vehicle Type Count by Agency'!BB:BB,'Vehicle Type Count by Agency'!$I:$I,\"<\"&$D25),\"\")","v":""},{"$f":"IFERROR(SUMIFS('Vehicle Type Count by Agency'!BE:BE,'Vehicle Type Count by Agency'!$I:$I,\"<\"&$D25)/SUMIFS('Vehicle Type Count by Agency'!BD:BD,'Vehicle Type Count by Agency'!$I:$I,\"<\"&$D25),\"\")","v":0.18604651162790697},{"$f":"IFERROR(SUMIFS('Vehicle Type Count by Agency'!BG:BG,'Vehicle Type Count by Agency'!$I:$I,\"<\"&$D25)/SUMIFS('Vehicle Type Count by Agency'!BF:BF,'Vehicle Type Count by Agency'!$I:$I,\"<\"&$D25),\"\")","v":0.2},{"$f":"IFERROR(SUMIFS('Vehicle Type Count by Agency'!BI:BI,'Vehicle Type Count by Agency'!$I:$I,\"<\"&$D25)/SUMIFS('Vehicle Type Count by Agency'!BH:BH,'Vehicle Type Count by Agency'!$I:$I,\"<\"&$D25),\"\")","v":0.28115799803729147}]
[{"$f":"IF(D27<>\"\",\"Between\",\"Over\")","v":"Between"},{"$f":"D25","v":10},{"$f":"IF(D26<>\"\",\"and\",\"\")","v":"and"},25,"Between 10 and 25",{"$f":"IFERROR(IF($A26=\"Between\",SUMIFS('Vehicle Type Count by Agency'!K:K,'Vehicle Type Count by Agency'!$I:$I,\">=\"&$B26,'Vehicle Type Count by Agency'!$I:$I,\"<\"&$D26),SUMIFS('Vehicle Type Count by Agency'!K:K,'Vehicle Type Count by Agency'!$I:$I,\">=\"&$B26))/IF($A26=\"Between\",SUMIFS('Vehicle Type Count by Agency'!J:J,'Vehicle Type Count by Agency'!$I:$I,\">=\"&$B26,'Vehicle Type Count by Agency'!$I:$I,\"<\"&$D26),SUMIFS('Vehicle Type Count by Agency'!J:J,'Vehicle Type Count by Agency'!$I:$I,\">=\"&$B26)),\"\")","v":0.2381099444101297},{"$f":"IFERROR(IF($A26=\"Between\",SUMIFS('Vehicle Type Count by Agency'!M:M,'Vehicle Type Count by Agency'!$I:$I,\">=\"&$B26,'Vehicle Type Count by Agency'!$I:$I,\"<\"&$D26),SUMIFS('Vehicle Type Count by Agency'!M:M,'Vehicle Type Count by Agency'!$I:$I,\">=\"&$B26))/IF($A26=\"Between\",SUMIFS('Vehicle Type Count by Agency'!L:L,'Vehicle Type Count by Agency'!$I:$I,\">=\"&$B26,'Vehicle Type Count by Agency'!$I:$I,\"<\"&$D26),SUMIFS('Vehicle Type Count by Agency'!L:L,'Vehicle Type Count by Agency'!$I:$I,\">=\"&$B26)),\"\")","v":0},{"$f":"IFERROR(IF($A26=\"Between\",SUMIFS('Vehicle Type Count by Agency'!O:O,'Vehicle Type Count by Agency'!$I:$I,\">=\"&$B26,'Vehicle Type Count by Agency'!$I:$I,\"<\"&$D26),SUMIFS('Vehicle Type Count by Agency'!O:O,'Vehicle Type Count by Agency'!$I:$I,\">=\"&$B26))/IF($A26=\"Between\",SUMIFS('Vehicle Type Count by Agency'!N:N,'Vehicle Type Count by Agency'!$I:$I,\">=\"&$B26,'Vehicle Type Count by Agency'!$I:$I,\"<\"&$D26),SUMIFS('Vehicle Type Count by Agency'!N:N,'Vehicle Type Count by Agency'!$I:$I,\">=\"&$B26)),\"\")","v":0.16959064327485379},{"$f":"IFERROR(IF($A26=\"Between\",SUMIFS('Vehicle Type Count by Agency'!Q:Q,'Vehicle Type Count by Agency'!$I:$I,\">=\"&$B26,'Vehicle Type Count by Agency'!$I:$I,\"<\"&$D26),SUMIFS('Vehicle Type Count by Agency'!Q:Q,'Vehicle Type Count by Agency'!$I:$I,\">=\"&$B26))/IF($A26=\"Between\",SUMIFS('Vehicle Type Count by Agency'!P:P,'Vehicle Type Count by Agency'!$I:$I,\">=\"&$B26,'Vehicle Type Count by Agency'!$I:$I,\"<\"&$D26),SUMIFS('Vehicle Type Count by Agency'!P:P,'Vehicle Type Count by Agency'!$I:$I,\">=\"&$B26)),\"\")","v":0},{"$f":"IFERROR(IF($A26=\"Between\",SUMIFS('Vehicle Type Count by Agency'!S:S,'Vehicle Type Count by Agency'!$I:$I,\">=\"&$B26,'Vehicle Type Count by Agency'!$I:$I,\"<\"&$D26),SUMIFS('Vehicle Type Count by Agency'!S:S,'Vehicle Type Count by Agency'!$I:$I,\">=\"&$B26))/IF($A26=\"Between\",SUMIFS('Vehicle Type Count by Agency'!R:R,'Vehicle Type Count by Agency'!$I:$I,\">=\"&$B26,'Vehicle Type Count by Agency'!$I:$I,\"<\"&$D26),SUMIFS('Vehicle Type Count by Agency'!R:R,'Vehicle Type Count by Agency'!$I:$I,\">=\"&$B26)),\"\")","v":0.4375},{"$f":"IFERROR(IF($A26=\"Between\",SUMIFS('Vehicle Type Count by Agency'!U:U,'Vehicle Type Count by Agency'!$I:$I,\">=\"&$B26,'Vehicle Type Count by Agency'!$I:$I,\"<\"&$D26),SUMIFS('Vehicle Type Count by Agency'!U:U,'Vehicle Type Count by Agency'!$I:$I,\">=\"&$B26))/IF($A26=\"Between\",SUMIFS('Vehicle Type Count by Agency'!T:T,'Vehicle Type Count by Agency'!$I:$I,\">=\"&$B26,'Vehicle Type Count by Agency'!$I:$I,\"<\"&$D26),SUMIFS('Vehicle Type Count by Agency'!T:T,'Vehicle Type Count by Agency'!$I:$I,\">=\"&$B26)),\"\")","v":0.30863254392666156},{"$f":"IFERROR(IF($A26=\"Between\",SUMIFS('Vehicle Type Count by Agency'!W:W,'Vehicle Type Count by Agency'!$I:$I,\">=\"&$B26,'Vehicle Type Count by Agency'!$I:$I,\"<\"&$D26),SUMIFS('Vehicle Type Count by Agency'!W:W,'Vehicle Type Count by Agency'!$I:$I,\">=\"&$B26))/IF($A26=\"Between\",SUMIFS('Vehicle Type Count by Agency'!V:V,'Vehicle Type Count by Agency'!$I:$I,\">=\"&$B26,'Vehicle Type Count by Agency'!$I:$I,\"<\"&$D26),SUMIFS('Vehicle Type Count by Agency'!V:V,'Vehicle Type Count by Agency'!$I:$I,\">=\"&$B26)),\"\")","v":0.23085963734049697},{"$f":"IFERROR(IF($A26=\"Between\",SUMIFS('Vehicle Type Count by Agency'!Y:Y,'Vehicle Type Count by Agency'!$I:$I,\">=\"&$B26,'Vehicle Type Count by Agency'!$I:$I,\"<\"&$D26),SUMIFS('Vehicle Type Count by Agency'!Y:Y,'Vehicle Type Count by Agency'!$I:$I,\">=\"&$B26))/IF($A26=\"Between\",SUMIFS('Vehicle Type Count by Agency'!X:X,'Vehicle Type Count by Agency'!$I:$I,\">=\"&$B26,'Vehicle Type Count by Agency'!$I:$I,\"<\"&$D26),SUMIFS('Vehicle Type Count by Agency'!X:X,'Vehicle Type Count by Agency'!$I:$I,\">=\"&$B26)),\"\")","v":0.49635036496350365},{"$f":"IFERROR(IF($A26=\"Between\",SUMIFS('Vehicle Type Count by Agency'!AA:AA,'Vehicle Type Count by Agency'!$I:$I,\">=\"&$B26,'Vehicle Type Count by Agency'!$I:$I,\"<\"&$D26),SUMIFS('Vehicle Type Count by Agency'!AA:AA,'Vehicle Type Count by Agency'!$I:$I,\">=\"&$B26))/IF($A26=\"Between\",SUMIFS('Vehicle Type Count by Agency'!Z:Z,'Vehicle Type Count by Agency'!$I:$I,\">=\"&$B26,'Vehicle Type Count by Agency'!$I:$I,\"<\"&$D26),SUMIFS('Vehicle Type Count by Agency'!Z:Z,'Vehicle Type Count by Agency'!$I:$I,\">=\"&$B26)),\"\")","v":0.33478576615831518},{"$f":"IFERROR(IF($A26=\"Between\",SUMIFS('Vehicle Type Count by Agency'!AC:AC,'Vehicle Type Count by Agency'!$I:$I,\">=\"&$B26,'Vehicle Type Count by Agency'!$I:$I,\"<\"&$D26),SUMIFS('Vehicle Type Count by Agency'!AC:AC,'Vehicle Type Count by Agency'!$I:$I,\">=\"&$B26))/IF($A26=\"Between\",SUMIFS('Vehicle Type Count by Agency'!AB:AB,'Vehicle Type Count by Agency'!$I:$I,\">=\"&$B26,'Vehicle Type Count by Agency'!$I:$I,\"<\"&$D26),SUMIFS('Vehicle Type Count by Agency'!AB:AB,'Vehicle Type Count by Agency'!$I:$I,\">=\"&$B26)),\"\")","v":0.16666666666666666},{"$f":"IFERROR(IF($A26=\"Between\",SUMIFS('Vehicle Type Count by Agency'!AE:AE,'Vehicle Type Count by Agency'!$I:$I,\">=\"&$B26,'Vehicle Type Count by Agency'!$I:$I,\"<\"&$D26),SUMIFS('Vehicle Type Count by Agency'!AE:AE,'Vehicle Type Count by Agency'!$I:$I,\">=\"&$B26))/IF($A26=\"Between\",SUMIFS('Vehicle Type Count by Agency'!AD:AD,'Vehicle Type Count by Agency'!$I:$I,\">=\"&$B26,'Vehicle Type Count by Agency'!$I:$I,\"<\"&$D26),SUMIFS('Vehicle Type Count by Agency'!AD:AD,'Vehicle Type Count by Agency'!$I:$I,\">=\"&$B26)),\"\")","v":""},{"$f":"IFERROR(IF($A26=\"Between\",SUMIFS('Vehicle Type Count by Agency'!AG:AG,'Vehicle Type Count by Agency'!$I:$I,\">=\"&$B26,'Vehicle Type Count by Agency'!$I:$I,\"<\"&$D26),SUMIFS('Vehicle Type Count by Agency'!AG:AG,'Vehicle Type Count by Agency'!$I:$I,\">=\"&$B26))/IF($A26=\"Between\",SUMIFS('Vehicle Type Count by Agency'!AF:AF,'Vehicle Type Count by Agency'!$I:$I,\">=\"&$B26,'Vehicle Type Count by Agency'!$I:$I,\"<\"&$D26),SUMIFS('Vehicle Type Count by Agency'!AF:AF,'Vehicle Type Count by Agency'!$I:$I,\">=\"&$B26)),\"\")","v":""},{"$f":"IFERROR(IF($A26=\"Between\",SUMIFS('Vehicle Type Count by Agency'!AI:AI,'Vehicle Type Count by Agency'!$I:$I,\">=\"&$B26,'Vehicle Type Count by Agency'!$I:$I,\"<\"&$D26),SUMIFS('Vehicle Type Count by Agency'!AI:AI,'Vehicle Type Count by Agency'!$I:$I,\">=\"&$B26))/IF($A26=\"Between\",SUMIFS('Vehicle Type Count by Agency'!AH:AH,'Vehicle Type Count by Agency'!$I:$I,\">=\"&$B26,'Vehicle Type Count by Agency'!$I:$I,\"<\"&$D26),SUMIFS('Vehicle Type Count by Agency'!AH:AH,'Vehicle Type Count by Agency'!$I:$I,\">=\"&$B26)),\"\")","v":""},{"$f":"IFERROR(IF($A26=\"Between\",SUMIFS('Vehicle Type Count by Agency'!AK:AK,'Vehicle Type Count by Agency'!$I:$I,\">=\"&$B26,'Vehicle Type Count by Agency'!$I:$I,\"<\"&$D26),SUMIFS('Vehicle Type Count by Agency'!AK:AK,'Vehicle Type Count by Agency'!$I:$I,\">=\"&$B26))/IF($A26=\"Between\",SUMIFS('Vehicle Type Count by Agency'!AJ:AJ,'Vehicle Type Count by Agency'!$I:$I,\">=\"&$B26,'Vehicle Type Count by Agency'!$I:$I,\"<\"&$D26),SUMIFS('Vehicle Type Count by Agency'!AJ:AJ,'Vehicle Type Count by Agency'!$I:$I,\">=\"&$B26)),\"\")","v":0},{"$f":"IFERROR(IF($A26=\"Between\",SUMIFS('Vehicle Type Count by Agency'!AM:AM,'Vehicle Type Count by Agency'!$I:$I,\">=\"&$B26,'Vehicle Type Count by Agency'!$I:$I,\"<\"&$D26),SUMIFS('Vehicle Type Count by Agency'!AM:AM,'Vehicle Type Count by Agency'!$I:$I,\">=\"&$B26))/IF($A26=\"Between\",SUMIFS('Vehicle Type Count by Agency'!AL:AL,'Vehicle Type Count by Agency'!$I:$I,\">=\"&$B26,'Vehicle Type Count by Agency'!$I:$I,\"<\"&$D26),SUMIFS('Vehicle Type Count by Agency'!AL:AL,'Vehicle Type Count by Agency'!$I:$I,\">=\"&$B26)),\"\")","v":0},{"$f":"IFERROR(IF($A26=\"Between\",SUMIFS('Vehicle Type Count by Agency'!AO:AO,'Vehicle Type Count by Agency'!$I:$I,\">=\"&$B26,'Vehicle Type Count by Agency'!$I:$I,\"<\"&$D26),SUMIFS('Vehicle Type Count by Agency'!AO:AO,'Vehicle Type Count by Agency'!$I:$I,\">=\"&$B26))/IF($A26=\"Between\",SUMIFS('Vehicle Type Count by Agency'!AN:AN,'Vehicle Type Count by Agency'!$I:$I,\">=\"&$B26,'Vehicle Type Count by Agency'!$I:$I,\"<\"&$D26),SUMIFS('Vehicle Type Count by Agency'!AN:AN,'Vehicle Type Count by Agency'!$I:$I,\">=\"&$B26)),\"\")","v":0},{"$f":"IFERROR(IF($A26=\"Between\",SUMIFS('Vehicle Type Count by Agency'!AQ:AQ,'Vehicle Type Count by Agency'!$I:$I,\">=\"&$B26,'Vehicle Type Count by Agency'!$I:$I,\"<\"&$D26),SUMIFS('Vehicle Type Count by Agency'!AQ:AQ,'Vehicle Type Count by Agency'!$I:$I,\">=\"&$B26))/IF($A26=\"Between\",SUMIFS('Vehicle Type Count by Agency'!AP:AP,'Vehicle Type Count by Agency'!$I:$I,\">=\"&$B26,'Vehicle Type Count by Agency'!$I:$I,\"<\"&$D26),SUMIFS('Vehicle Type Count by Agency'!AP:AP,'Vehicle Type Count by Agency'!$I:$I,\">=\"&$B26)),\"\")","v":0},{"$f":"IFERROR(IF($A26=\"Between\",SUMIFS('Vehicle Type Count by Agency'!AS:AS,'Vehicle Type Count by Agency'!$I:$I,\">=\"&$B26,'Vehicle Type Count by Agency'!$I:$I,\"<\"&$D26),SUMIFS('Vehicle Type Count by Agency'!AS:AS,'Vehicle Type Count by Agency'!$I:$I,\">=\"&$B26))/IF($A26=\"Between\",SUMIFS('Vehicle Type Count by Agency'!AR:AR,'Vehicle Type Count by Agency'!$I:$I,\">=\"&$B26,'Vehicle Type Count by Agency'!$I:$I,\"<\"&$D26),SUMIFS('Vehicle Type Count by Agency'!AR:AR,'Vehicle Type Count by Agency'!$I:$I,\">=\"&$B26)),\"\")","v":""},{"$f":"IFERROR(IF($A26=\"Between\",SUMIFS('Vehicle Type Count by Agency'!AU:AU,'Vehicle Type Count by Agency'!$I:$I,\">=\"&$B26,'Vehicle Type Count by Agency'!$I:$I,\"<\"&$D26),SUMIFS('Vehicle Type Count by Agency'!AU:AU,'Vehicle Type Count by Agency'!$I:$I,\">=\"&$B26))/IF($A26=\"Between\",SUMIFS('Vehicle Type Count by Agency'!AT:AT,'Vehicle Type Count by Agency'!$I:$I,\">=\"&$B26,'Vehicle Type Count by Agency'!$I:$I,\"<\"&$D26),SUMIFS('Vehicle Type Count by Agency'!AT:AT,'Vehicle Type Count by Agency'!$I:$I,\">=\"&$B26)),\"\")","v":0},{"$f":"IFERROR(IF($A26=\"Between\",SUMIFS('Vehicle Type Count by Agency'!AW:AW,'Vehicle Type Count by Agency'!$I:$I,\">=\"&$B26,'Vehicle Type Count by Agency'!$I:$I,\"<\"&$D26),SUMIFS('Vehicle Type Count by Agency'!AW:AW,'Vehicle Type Count by Agency'!$I:$I,\">=\"&$B26))/IF($A26=\"Between\",SUMIFS('Vehicle Type Count by Agency'!AV:AV,'Vehicle Type Count by Agency'!$I:$I,\">=\"&$B26,'Vehicle Type Count by Agency'!$I:$I,\"<\"&$D26),SUMIFS('Vehicle Type Count by Agency'!AV:AV,'Vehicle Type Count by Agency'!$I:$I,\">=\"&$B26)),\"\")","v":0},{"$f":"IFERROR(IF($A26=\"Between\",SUMIFS('Vehicle Type Count by Agency'!AY:AY,'Vehicle Type Count by Agency'!$I:$I,\">=\"&$B26,'Vehicle Type Count by Agency'!$I:$I,\"<\"&$D26),SUMIFS('Vehicle Type Count by Agency'!AY:AY,'Vehicle Type Count by Agency'!$I:$I,\">=\"&$B26))/IF($A26=\"Between\",SUMIFS('Vehicle Type Count by Agency'!AX:AX,'Vehicle Type Count by Agency'!$I:$I,\">=\"&$B26,'Vehicle Type Count by Agency'!$I:$I,\"<\"&$D26),SUMIFS('Vehicle Type Count by Agency'!AX:AX,'Vehicle Type Count by Agency'!$I:$I,\">=\"&$B26)),\"\")","v":""},{"$f":"IFERROR(IF($A26=\"Between\",SUMIFS('Vehicle Type Count by Agency'!BA:BA,'Vehicle Type Count by Agency'!$I:$I,\">=\"&$B26,'Vehicle Type Count by Agency'!$I:$I,\"<\"&$D26),SUMIFS('Vehicle Type Count by Agency'!BA:BA,'Vehicle Type Count by Agency'!$I:$I,\">=\"&$B26))/IF($A26=\"Between\",SUMIFS('Vehicle Type Count by Agency'!AZ:AZ,'Vehicle Type Count by Agency'!$I:$I,\">=\"&$B26,'Vehicle Type Count by Agency'!$I:$I,\"<\"&$D26),SUMIFS('Vehicle Type Count by Agency'!AZ:AZ,'Vehicle Type Count by Agency'!$I:$I,\">=\"&$B26)),\"\")","v":""},{"$f":"IFERROR(IF($A26=\"Between\",SUMIFS('Vehicle Type Count by Agency'!BC:BC,'Vehicle Type Count by Agency'!$I:$I,\">=\"&$B26,'Vehicle Type Count by Agency'!$I:$I,\"<\"&$D26),SUMIFS('Vehicle Type Count by Agency'!BC:BC,'Vehicle Type Count by Agency'!$I:$I,\">=\"&$B26))/IF($A26=\"Between\",SUMIFS('Vehicle Type Count by Agency'!BB:BB,'Vehicle Type Count by Agency'!$I:$I,\">=\"&$B26,'Vehicle Type Count by Agency'!$I:$I,\"<\"&$D26),SUMIFS('Vehicle Type Count by Agency'!BB:BB,'Vehicle Type Count by Agency'!$I:$I,\">=\"&$B26)),\"\")","v":""},{"$f":"IFERROR(IF($A26=\"Between\",SUMIFS('Vehicle Type Count by Agency'!BE:BE,'Vehicle Type Count by Agency'!$I:$I,\">=\"&$B26,'Vehicle Type Count by Agency'!$I:$I,\"<\"&$D26),SUMIFS('Vehicle Type Count by Agency'!BE:BE,'Vehicle Type Count by Agency'!$I:$I,\">=\"&$B26))/IF($A26=\"Between\",SUMIFS('Vehicle Type Count by Agency'!BD:BD,'Vehicle Type Count by Agency'!$I:$I,\">=\"&$B26,'Vehicle Type Count by Agency'!$I:$I,\"<\"&$D26),SUMIFS('Vehicle Type Count by Agency'!BD:BD,'Vehicle Type Count by Agency'!$I:$I,\">=\"&$B26)),\"\")","v":4.6875E-2},{"$f":"IFERROR(IF($A26=\"Between\",SUMIFS('Vehicle Type Count by Agency'!BG:BG,'Vehicle Type Count by Agency'!$I:$I,\">=\"&$B26,'Vehicle Type Count by Agency'!$I:$I,\"<\"&$D26),SUMIFS('Vehicle Type Count by Agency'!BG:BG,'Vehicle Type Count by Agency'!$I:$I,\">=\"&$B26))/IF($A26=\"Between\",SUMIFS('Vehicle Type Count by Agency'!BF:BF,'Vehicle Type Count by Agency'!$I:$I,\">=\"&$B26,'Vehicle Type Count by Agency'!$I:$I,\"<\"&$D26),SUMIFS('Vehicle Type Count by Agency'!BF:BF,'Vehicle Type Count by Agency'!$I:$I,\">=\"&$B26)),\"\")","v":""},{"$f":"IFERROR(IF($A26=\"Between\",SUMIFS('Vehicle Type Count by Agency'!BI:BI,'Vehicle Type Count by Agency'!$I:$I,\">=\"&$B26,'Vehicle Type Count by Agency'!$I:$I,\"<\"&$D26),SUMIFS('Vehicle Type Count by Agency'!BI:BI,'Vehicle Type Count by Agency'!$I:$I,\">=\"&$B26))/IF($A26=\"Between\",SUMIFS('Vehicle Type Count by Agency'!BH:BH,'Vehicle Type Count by Agency'!$I:$I,\">=\"&$B26,'Vehicle Type Count by Agency'!$I:$I,\"<\"&$D26),SUMIFS('Vehicle Type Count by Agency'!BH:BH,'Vehicle Type Count by Agency'!$I:$I,\">=\"&$B26)),\"\")","v":0.25192802056555269}]
[{"$f":"IF(OR(A26=\"Over\",A26=\"\"),\"\",IF(D27=\"\",\"Over\",\"Between\"))","v":"Between"},{"$f":"IF(D26=\"\",\"\",D26)","v":25},{"$f":"IF(D27<>\"\",\"and\",\"\")","v":"and"},50,"Between 25 and 50",{"$f":"IFERROR(IF($A27=\"\",\"\",(IF($A27=\"Between\",SUMIFS('Vehicle Type Count by Agency'!K:K,'Vehicle Type Count by Agency'!$I:$I,\">=\"&$B27,'Vehicle Type Count by Agency'!$I:$I,\"<\"&$D27),SUMIFS('Vehicle Type Count by Agency'!K:K,'Vehicle Type Count by Agency'!$I:$I,\">=\"&$B27))/IF($A27=\"Between\",SUMIFS('Vehicle Type Count by Agency'!J:J,'Vehicle Type Count by Agency'!$I:$I,\">=\"&$B27,'Vehicle Type Count by Agency'!$I:$I,\"<\"&$D27),SUMIFS('Vehicle Type Count by Agency'!J:J,'Vehicle Type Count by Agency'!$I:$I,\">=\"&$B27)))),\"\")","v":0.21544904606793858},{"$f":"IFERROR(IF($A27=\"\",\"\",(IF($A27=\"Between\",SUMIFS('Vehicle Type Count by Agency'!M:M,'Vehicle Type Count by Agency'!$I:$I,\">=\"&$B27,'Vehicle Type Count by Agency'!$I:$I,\"<\"&$D27),SUMIFS('Vehicle Type Count by Agency'!M:M,'Vehicle Type Count by Agency'!$I:$I,\">=\"&$B27))/IF($A27=\"Between\",SUMIFS('Vehicle Type Count by Agency'!L:L,'Vehicle Type Count by Agency'!$I:$I,\">=\"&$B27,'Vehicle Type Count by Agency'!$I:$I,\"<\"&$D27),SUMIFS('Vehicle Type Count by Agency'!L:L,'Vehicle Type Count by Agency'!$I:$I,\">=\"&$B27)))),\"\")","v":5.8823529411764705E-2},{"$f":"IFERROR(IF($A27=\"\",\"\",(IF($A27=\"Between\",SUMIFS('Vehicle Type Count by Agency'!O:O,'Vehicle Type Count by Agency'!$I:$I,\">=\"&$B27,'Vehicle Type Count by Agency'!$I:$I,\"<\"&$D27),SUMIFS('Vehicle Type Count by Agency'!O:O,'Vehicle Type Count by Agency'!$I:$I,\">=\"&$B27))/IF($A27=\"Between\",SUMIFS('Vehicle Type Count by Agency'!N:N,'Vehicle Type Count by Agency'!$I:$I,\">=\"&$B27,'Vehicle Type Count by Agency'!$I:$I,\"<\"&$D27),SUMIFS('Vehicle Type Count by Agency'!N:N,'Vehicle Type Count by Agency'!$I:$I,\">=\"&$B27)))),\"\")","v":0.15094339622641509},{"$f":"IFERROR(IF($A27=\"\",\"\",(IF($A27=\"Between\",SUMIFS('Vehicle Type Count by Agency'!Q:Q,'Vehicle Type Count by Agency'!$I:$I,\">=\"&$B27,'Vehicle Type Count by Agency'!$I:$I,\"<\"&$D27),SUMIFS('Vehicle Type Count by Agency'!Q:Q,'Vehicle Type Count by Agency'!$I:$I,\">=\"&$B27))/IF($A27=\"Between\",SUMIFS('Vehicle Type Count by Agency'!P:P,'Vehicle Type Count by Agency'!$I:$I,\">=\"&$B27,'Vehicle Type Count by Agency'!$I:$I,\"<\"&$D27),SUMIFS('Vehicle Type Count by Agency'!P:P,'Vehicle Type Count by Agency'!$I:$I,\">=\"&$B27)))),\"\")","v":0.33333333333333331},{"$f":"IFERROR(IF($A27=\"\",\"\",(IF($A27=\"Between\",SUMIFS('Vehicle Type Count by Agency'!S:S,'Vehicle Type Count by Agency'!$I:$I,\">=\"&$B27,'Vehicle Type Count by Agency'!$I:$I,\"<\"&$D27),SUMIFS('Vehicle Type Count by Agency'!S:S,'Vehicle Type Count by Agency'!$I:$I,\">=\"&$B27))/IF($A27=\"Between\",SUMIFS('Vehicle Type Count by Agency'!R:R,'Vehicle Type Count by Agency'!$I:$I,\">=\"&$B27,'Vehicle Type Count by Agency'!$I:$I,\"<\"&$D27),SUMIFS('Vehicle Type Count by Agency'!R:R,'Vehicle Type Count by Agency'!$I:$I,\">=\"&$B27)))),\"\")","v":0.8},{"$f":"IFERROR(IF($A27=\"\",\"\",(IF($A27=\"Between\",SUMIFS('Vehicle Type Count by Agency'!U:U,'Vehicle Type Count by Agency'!$I:$I,\">=\"&$B27,'Vehicle Type Count by Agency'!$I:$I,\"<\"&$D27),SUMIFS('Vehicle Type Count by Agency'!U:U,'Vehicle Type Count by Agency'!$I:$I,\">=\"&$B27))/IF($A27=\"Between\",SUMIFS('Vehicle Type Count by Agency'!T:T,'Vehicle Type Count by Agency'!$I:$I,\">=\"&$B27,'Vehicle Type Count by Agency'!$I:$I,\"<\"&$D27),SUMIFS('Vehicle Type Count by Agency'!T:T,'Vehicle Type Count by Agency'!$I:$I,\">=\"&$B27)))),\"\")","v":0.2898341744772891},{"$f":"IFERROR(IF($A27=\"\",\"\",(IF($A27=\"Between\",SUMIFS('Vehicle Type Count by Agency'!W:W,'Vehicle Type Count by Agency'!$I:$I,\">=\"&$B27,'Vehicle Type Count by Agency'!$I:$I,\"<\"&$D27),SUMIFS('Vehicle Type Count by Agency'!W:W,'Vehicle Type Count by Agency'!$I:$I,\">=\"&$B27))/IF($A27=\"Between\",SUMIFS('Vehicle Type Count by Agency'!V:V,'Vehicle Type Count by Agency'!$I:$I,\">=\"&$B27,'Vehicle Type Count by Agency'!$I:$I,\"<\"&$D27),SUMIFS('Vehicle Type Count by Agency'!V:V,'Vehicle Type Count by Agency'!$I:$I,\">=\"&$B27)))),\"\")","v":0.24382367188761506},{"$f":"IFERROR(IF($A27=\"\",\"\",(IF($A27=\"Between\",SUMIFS('Vehicle Type Count by Agency'!Y:Y,'Vehicle Type Count by Agency'!$I:$I,\">=\"&$B27,'Vehicle Type Count by Agency'!$I:$I,\"<\"&$D27),SUMIFS('Vehicle Type Count by Agency'!Y:Y,'Vehicle Type Count by Agency'!$I:$I,\">=\"&$B27))/IF($A27=\"Between\",SUMIFS('Vehicle Type Count by Agency'!X:X,'Vehicle Type Count by Agency'!$I:$I,\">=\"&$B27,'Vehicle Type Count by Agency'!$I:$I,\"<\"&$D27),SUMIFS('Vehicle Type Count by Agency'!X:X,'Vehicle Type Count by Agency'!$I:$I,\">=\"&$B27)))),\"\")","v":0.23076923076923078},{"$f":"IFERROR(IF($A27=\"\",\"\",(IF($A27=\"Between\",SUMIFS('Vehicle Type Count by Agency'!AA:AA,'Vehicle Type Count by Agency'!$I:$I,\">=\"&$B27,'Vehicle Type Count by Agency'!$I:$I,\"<\"&$D27),SUMIFS('Vehicle Type Count by Agency'!AA:AA,'Vehicle Type Count by Agency'!$I:$I,\">=\"&$B27))/IF($A27=\"Between\",SUMIFS('Vehicle Type Count by Agency'!Z:Z,'Vehicle Type Count by Agency'!$I:$I,\">=\"&$B27,'Vehicle Type Count by Agency'!$I:$I,\"<\"&$D27),SUMIFS('Vehicle Type Count by Agency'!Z:Z,'Vehicle Type Count by Agency'!$I:$I,\">=\"&$B27)))),\"\")","v":0.27421555252387447},{"$f":"IFERROR(IF($A27=\"\",\"\",(IF($A27=\"Between\",SUMIFS('Vehicle Type Count by Agency'!AC:AC,'Vehicle Type Count by Agency'!$I:$I,\">=\"&$B27,'Vehicle Type Count by Agency'!$I:$I,\"<\"&$D27),SUMIFS('Vehicle Type Count by Agency'!AC:AC,'Vehicle Type Count by Agency'!$I:$I,\">=\"&$B27))/IF($A27=\"Between\",SUMIFS('Vehicle Type Count by Agency'!AB:AB,'Vehicle Type Count by Agency'!$I:$I,\">=\"&$B27,'Vehicle Type Count by Agency'!$I:$I,\"<\"&$D27),SUMIFS('Vehicle Type Count by Agency'!AB:AB,'Vehicle Type Count by Agency'!$I:$I,\">=\"&$B27)))),\"\")","v":0.25},{"$f":"IFERROR(IF($A27=\"\",\"\",(IF($A27=\"Between\",SUMIFS('Vehicle Type Count by Agency'!AE:AE,'Vehicle Type Count by Agency'!$I:$I,\">=\"&$B27,'Vehicle Type Count by Agency'!$I:$I,\"<\"&$D27),SUMIFS('Vehicle Type Count by Agency'!AE:AE,'Vehicle Type Count by Agency'!$I:$I,\">=\"&$B27))/IF($A27=\"Between\",SUMIFS('Vehicle Type Count by Agency'!AD:AD,'Vehicle Type Count by Agency'!$I:$I,\">=\"&$B27,'Vehicle Type Count by Agency'!$I:$I,\"<\"&$D27),SUMIFS('Vehicle Type Count by Agency'!AD:AD,'Vehicle Type Count by Agency'!$I:$I,\">=\"&$B27)))),\"\")","v":""},{"$f":"IFERROR(IF($A27=\"\",\"\",(IF($A27=\"Between\",SUMIFS('Vehicle Type Count by Agency'!AG:AG,'Vehicle Type Count by Agency'!$I:$I,\">=\"&$B27,'Vehicle Type Count by Agency'!$I:$I,\"<\"&$D27),SUMIFS('Vehicle Type Count by Agency'!AG:AG,'Vehicle Type Count by Agency'!$I:$I,\">=\"&$B27))/IF($A27=\"Between\",SUMIFS('Vehicle Type Count by Agency'!AF:AF,'Vehicle Type Count by Agency'!$I:$I,\">=\"&$B27,'Vehicle Type Count by Agency'!$I:$I,\"<\"&$D27),SUMIFS('Vehicle Type Count by Agency'!AF:AF,'Vehicle Type Count by Agency'!$I:$I,\">=\"&$B27)))),\"\")","v":1},{"$f":"IFERROR(IF($A27=\"\",\"\",(IF($A27=\"Between\",SUMIFS('Vehicle Type Count by Agency'!AI:AI,'Vehicle Type Count by Agency'!$I:$I,\">=\"&$B27,'Vehicle Type Count by Agency'!$I:$I,\"<\"&$D27),SUMIFS('Vehicle Type Count by Agency'!AI:AI,'Vehicle Type Count by Agency'!$I:$I,\">=\"&$B27))/IF($A27=\"Between\",SUMIFS('Vehicle Type Count by Agency'!AH:AH,'Vehicle Type Count by Agency'!$I:$I,\">=\"&$B27,'Vehicle Type Count by Agency'!$I:$I,\"<\"&$D27),SUMIFS('Vehicle Type Count by Agency'!AH:AH,'Vehicle Type Count by Agency'!$I:$I,\">=\"&$B27)))),\"\")","v":0},{"$f":"IFERROR(IF($A27=\"\",\"\",(IF($A27=\"Between\",SUMIFS('Vehicle Type Count by Agency'!AK:AK,'Vehicle Type Count by Agency'!$I:$I,\">=\"&$B27,'Vehicle Type Count by Agency'!$I:$I,\"<\"&$D27),SUMIFS('Vehicle Type Count by Agency'!AK:AK,'Vehicle Type Count by Agency'!$I:$I,\">=\"&$B27))/IF($A27=\"Between\",SUMIFS('Vehicle Type Count by Agency'!AJ:AJ,'Vehicle Type Count by Agency'!$I:$I,\">=\"&$B27,'Vehicle Type Count by Agency'!$I:$I,\"<\"&$D27),SUMIFS('Vehicle Type Count by Agency'!AJ:AJ,'Vehicle Type Count by Agency'!$I:$I,\">=\"&$B27)))),\"\")","v":0.25},{"$f":"IFERROR(IF($A27=\"\",\"\",(IF($A27=\"Between\",SUMIFS('Vehicle Type Count by Agency'!AM:AM,'Vehicle Type Count by Agency'!$I:$I,\">=\"&$B27,'Vehicle Type Count by Agency'!$I:$I,\"<\"&$D27),SUMIFS('Vehicle Type Count by Agency'!AM:AM,'Vehicle Type Count by Agency'!$I:$I,\">=\"&$B27))/IF($A27=\"Between\",SUMIFS('Vehicle Type Count by Agency'!AL:AL,'Vehicle Type Count by Agency'!$I:$I,\">=\"&$B27,'Vehicle Type Count by Agency'!$I:$I,\"<\"&$D27),SUMIFS('Vehicle Type Count by Agency'!AL:AL,'Vehicle Type Count by Agency'!$I:$I,\">=\"&$B27)))),\"\")","v":0},{"$f":"IFERROR(IF($A27=\"\",\"\",(IF($A27=\"Between\",SUMIFS('Vehicle Type Count by Agency'!AO:AO,'Vehicle Type Count by Agency'!$I:$I,\">=\"&$B27,'Vehicle Type Count by Agency'!$I:$I,\"<\"&$D27),SUMIFS('Vehicle Type Count by Agency'!AO:AO,'Vehicle Type Count by Agency'!$I:$I,\">=\"&$B27))/IF($A27=\"Between\",SUMIFS('Vehicle Type Count by Agency'!AN:AN,'Vehicle Type Count by Agency'!$I:$I,\">=\"&$B27,'Vehicle Type Count by Agency'!$I:$I,\"<\"&$D27),SUMIFS('Vehicle Type Count by Agency'!AN:AN,'Vehicle Type Count by Agency'!$I:$I,\">=\"&$B27)))),\"\")","v":0.1728395061728395},{"$f":"IFERROR(IF($A27=\"\",\"\",(IF($A27=\"Between\",SUMIFS('Vehicle Type Count by Agency'!AQ:AQ,'Vehicle Type Count by Agency'!$I:$I,\">=\"&$B27,'Vehicle Type Count by Agency'!$I:$I,\"<\"&$D27),SUMIFS('Vehicle Type Count by Agency'!AQ:AQ,'Vehicle Type Count by Agency'!$I:$I,\">=\"&$B27))/IF($A27=\"Between\",SUMIFS('Vehicle Type Count by Agency'!AP:AP,'Vehicle Type Count by Agency'!$I:$I,\">=\"&$B27,'Vehicle Type Count by Agency'!$I:$I,\"<\"&$D27),SUMIFS('Vehicle Type Count by Agency'!AP:AP,'Vehicle Type Count by Agency'!$I:$I,\">=\"&$B27)))),\"\")","v":0},{"$f":"IFERROR(IF($A27=\"\",\"\",(IF($A27=\"Between\",SUMIFS('Vehicle Type Count by Agency'!AS:AS,'Vehicle Type Count by Agency'!$I:$I,\">=\"&$B27,'Vehicle Type Count by Agency'!$I:$I,\"<\"&$D27),SUMIFS('Vehicle Type Count by Agency'!AS:AS,'Vehicle Type Count by Agency'!$I:$I,\">=\"&$B27))/IF($A27=\"Between\",SUMIFS('Vehicle Type Count by Agency'!AR:AR,'Vehicle Type Count by Agency'!$I:$I,\">=\"&$B27,'Vehicle Type Count by Agency'!$I:$I,\"<\"&$D27),SUMIFS('Vehicle Type Count by Agency'!AR:AR,'Vehicle Type Count by Agency'!$I:$I,\">=\"&$B27)))),\"\")","v":""},{"$f":"IFERROR(IF($A27=\"\",\"\",(IF($A27=\"Between\",SUMIFS('Vehicle Type Count by Agency'!AU:AU,'Vehicle Type Count by Agency'!$I:$I,\">=\"&$B27,'Vehicle Type Count by Agency'!$I:$I,\"<\"&$D27),SUMIFS('Vehicle Type Count by Agency'!AU:AU,'Vehicle Type Count by Agency'!$I:$I,\">=\"&$B27))/IF($A27=\"Between\",SUMIFS('Vehicle Type Count by Agency'!AT:AT,'Vehicle Type Count by Agency'!$I:$I,\">=\"&$B27,'Vehicle Type Count by Agency'!$I:$I,\"<\"&$D27),SUMIFS('Vehicle Type Count by Agency'!AT:AT,'Vehicle Type Count by Agency'!$I:$I,\">=\"&$B27)))),\"\")","v":""},{"$f":"IFERROR(IF($A27=\"\",\"\",(IF($A27=\"Between\",SUMIFS('Vehicle Type Count by Agency'!AW:AW,'Vehicle Type Count by Agency'!$I:$I,\">=\"&$B27,'Vehicle Type Count by Agency'!$I:$I,\"<\"&$D27),SUMIFS('Vehicle Type Count by Agency'!AW:AW,'Vehicle Type Count by Agency'!$I:$I,\">=\"&$B27))/IF($A27=\"Between\",SUMIFS('Vehicle Type Count by Agency'!AV:AV,'Vehicle Type Count by Agency'!$I:$I,\">=\"&$B27,'Vehicle Type Count by Agency'!$I:$I,\"<\"&$D27),SUMIFS('Vehicle Type Count by Agency'!AV:AV,'Vehicle Type Count by Agency'!$I:$I,\">=\"&$B27)))),\"\")","v":""},{"$f":"IFERROR(IF($A27=\"\",\"\",(IF($A27=\"Between\",SUMIFS('Vehicle Type Count by Agency'!AY:AY,'Vehicle Type Count by Agency'!$I:$I,\">=\"&$B27,'Vehicle Type Count by Agency'!$I:$I,\"<\"&$D27),SUMIFS('Vehicle Type Count by Agency'!AY:AY,'Vehicle Type Count by Agency'!$I:$I,\">=\"&$B27))/IF($A27=\"Between\",SUMIFS('Vehicle Type Count by Agency'!AX:AX,'Vehicle Type Count by Agency'!$I:$I,\">=\"&$B27,'Vehicle Type Count by Agency'!$I:$I,\"<\"&$D27),SUMIFS('Vehicle Type Count by Agency'!AX:AX,'Vehicle Type Count by Agency'!$I:$I,\">=\"&$B27)))),\"\")","v":""},{"$f":"IFERROR(IF($A27=\"\",\"\",(IF($A27=\"Between\",SUMIFS('Vehicle Type Count by Agency'!BA:BA,'Vehicle Type Count by Agency'!$I:$I,\">=\"&$B27,'Vehicle Type Count by Agency'!$I:$I,\"<\"&$D27),SUMIFS('Vehicle Type Count by Agency'!BA:BA,'Vehicle Type Count by Agency'!$I:$I,\">=\"&$B27))/IF($A27=\"Between\",SUMIFS('Vehicle Type Count by Agency'!AZ:AZ,'Vehicle Type Count by Agency'!$I:$I,\">=\"&$B27,'Vehicle Type Count by Agency'!$I:$I,\"<\"&$D27),SUMIFS('Vehicle Type Count by Agency'!AZ:AZ,'Vehicle Type Count by Agency'!$I:$I,\">=\"&$B27)))),\"\")","v":""},{"$f":"IFERROR(IF($A27=\"\",\"\",(IF($A27=\"Between\",SUMIFS('Vehicle Type Count by Agency'!BC:BC,'Vehicle Type Count by Agency'!$I:$I,\">=\"&$B27,'Vehicle Type Count by Agency'!$I:$I,\"<\"&$D27),SUMIFS('Vehicle Type Count by Agency'!BC:BC,'Vehicle Type Count by Agency'!$I:$I,\">=\"&$B27))/IF($A27=\"Between\",SUMIFS('Vehicle Type Count by Agency'!BB:BB,'Vehicle Type Count by Agency'!$I:$I,\">=\"&$B27,'Vehicle Type Count by Agency'!$I:$I,\"<\"&$D27),SUMIFS('Vehicle Type Count by Agency'!BB:BB,'Vehicle Type Count by Agency'!$I:$I,\">=\"&$B27)))),\"\")","v":""},{"$f":"IFERROR(IF($A27=\"\",\"\",(IF($A27=\"Between\",SUMIFS('Vehicle Type Count by Agency'!BE:BE,'Vehicle Type Count by Agency'!$I:$I,\">=\"&$B27,'Vehicle Type Count by Agency'!$I:$I,\"<\"&$D27),SUMIFS('Vehicle Type Count by Agency'!BE:BE,'Vehicle Type Count by Agency'!$I:$I,\">=\"&$B27))/IF($A27=\"Between\",SUMIFS('Vehicle Type Count by Agency'!BD:BD,'Vehicle Type Count by Agency'!$I:$I,\">=\"&$B27,'Vehicle Type Count by Agency'!$I:$I,\"<\"&$D27),SUMIFS('Vehicle Type Count by Agency'!BD:BD,'Vehicle Type Count by Agency'!$I:$I,\">=\"&$B27)))),\"\")","v":5.5555555555555552E-2},{"$f":"IFERROR(IF($A27=\"\",\"\",(IF($A27=\"Between\",SUMIFS('Vehicle Type Count by Agency'!BG:BG,'Vehicle Type Count by Agency'!$I:$I,\">=\"&$B27,'Vehicle Type Count by Agency'!$I:$I,\"<\"&$D27),SUMIFS('Vehicle Type Count by Agency'!BG:BG,'Vehicle Type Count by Agency'!$I:$I,\">=\"&$B27))/IF($A27=\"Between\",SUMIFS('Vehicle Type Count by Agency'!BF:BF,'Vehicle Type Count by Agency'!$I:$I,\">=\"&$B27,'Vehicle Type Count by Agency'!$I:$I,\"<\"&$D27),SUMIFS('Vehicle Type Count by Agency'!BF:BF,'Vehicle Type Count by Agency'!$I:$I,\">=\"&$B27)))),\"\")","v":0.2},{"$f":"IFERROR(IF($A27=\"\",\"\",(IF($A27=\"Between\",SUMIFS('Vehicle Type Count by Agency'!BI:BI,'Vehicle Type Count by Agency'!$I:$I,\">=\"&$B27,'Vehicle Type Count by Agency'!$I:$I,\"<\"&$D27),SUMIFS('Vehicle Type Count by Agency'!BI:BI,'Vehicle Type Count by Agency'!$I:$I,\">=\"&$B27))/IF($A27=\"Between\",SUMIFS('Vehicle Type Count by Agency'!BH:BH,'Vehicle Type Count by Agency'!$I:$I,\">=\"&$B27,'Vehicle Type Count by Agency'!$I:$I,\"<\"&$D27),SUMIFS('Vehicle Type Count by Agency'!BH:BH,'Vehicle Type Count by Agency'!$I:$I,\">=\"&$B27)))),\"\")","v":0.2407826982492276}]
[{"$f":"IF(OR(A27=\"Over\",A27=\"\"),\"\",IF(D28=\"\",\"Over\",\"Between\"))","v":"Between"},{"$f":"IF(D27=\"\",\"\",D27)","v":50},"and",100,"Between 50 and 100",{"$f":"IFERROR(IF($A28=\"\",\"\",(IF($A28=\"Between\",SUMIFS('Vehicle Type Count by Agency'!K:K,'Vehicle Type Count by Agency'!$I:$I,\">=\"&$B28,'Vehicle Type Count by Agency'!$I:$I,\"<\"&$D28),SUMIFS('Vehicle Type Count by Agency'!K:K,'Vehicle Type Count by Agency'!$I:$I,\">=\"&$B28))/IF($A28=\"Between\",SUMIFS('Vehicle Type Count by Agency'!J:J,'Vehicle Type Count by Agency'!$I:$I,\">=\"&$B28,'Vehicle Type Count by Agency'!$I:$I,\"<\"&$D28),SUMIFS('Vehicle Type Count by Agency'!J:J,'Vehicle Type Count by Agency'!$I:$I,\">=\"&$B28)))),\"\")","v":0.23462414578587698},{"$f":"IFERROR(IF($A28=\"\",\"\",(IF($A28=\"Between\",SUMIFS('Vehicle Type Count by Agency'!M:M,'Vehicle Type Count by Agency'!$I:$I,\">=\"&$B28,'Vehicle Type Count by Agency'!$I:$I,\"<\"&$D28),SUMIFS('Vehicle Type Count by Agency'!M:M,'Vehicle Type Count by Agency'!$I:$I,\">=\"&$B28))/IF($A28=\"Between\",SUMIFS('Vehicle Type Count by Agency'!L:L,'Vehicle Type Count by Agency'!$I:$I,\">=\"&$B28,'Vehicle Type Count by Agency'!$I:$I,\"<\"&$D28),SUMIFS('Vehicle Type Count by Agency'!L:L,'Vehicle Type Count by Agency'!$I:$I,\">=\"&$B28)))),\"\")","v":0.1},{"$f":"IFERROR(IF($A28=\"\",\"\",(IF($A28=\"Between\",SUMIFS('Vehicle Type Count by Agency'!O:O,'Vehicle Type Count by Agency'!$I:$I,\">=\"&$B28,'Vehicle Type Count by Agency'!$I:$I,\"<\"&$D28),SUMIFS('Vehicle Type Count by Agency'!O:O,'Vehicle Type Count by Agency'!$I:$I,\">=\"&$B28))/IF($A28=\"Between\",SUMIFS('Vehicle Type Count by Agency'!N:N,'Vehicle Type Count by Agency'!$I:$I,\">=\"&$B28,'Vehicle Type Count by Agency'!$I:$I,\"<\"&$D28),SUMIFS('Vehicle Type Count by Agency'!N:N,'Vehicle Type Count by Agency'!$I:$I,\">=\"&$B28)))),\"\")","v":0.23109243697478993},{"$f":"IFERROR(IF($A28=\"\",\"\",(IF($A28=\"Between\",SUMIFS('Vehicle Type Count by Agency'!Q:Q,'Vehicle Type Count by Agency'!$I:$I,\">=\"&$B28,'Vehicle Type Count by Agency'!$I:$I,\"<\"&$D28),SUMIFS('Vehicle Type Count by Agency'!Q:Q,'Vehicle Type Count by Agency'!$I:$I,\">=\"&$B28))/IF($A28=\"Between\",SUMIFS('Vehicle Type Count by Agency'!P:P,'Vehicle Type Count by Agency'!$I:$I,\">=\"&$B28,'Vehicle Type Count by Agency'!$I:$I,\"<\"&$D28),SUMIFS('Vehicle Type Count by Agency'!P:P,'Vehicle Type Count by Agency'!$I:$I,\">=\"&$B28)))),\"\")","v":""},{"$f":"IFERROR(IF($A28=\"\",\"\",(IF($A28=\"Between\",SUMIFS('Vehicle Type Count by Agency'!S:S,'Vehicle Type Count by Agency'!$I:$I,\">=\"&$B28,'Vehicle Type Count by Agency'!$I:$I,\"<\"&$D28),SUMIFS('Vehicle Type Count by Agency'!S:S,'Vehicle Type Count by Agency'!$I:$I,\">=\"&$B28))/IF($A28=\"Between\",SUMIFS('Vehicle Type Count by Agency'!R:R,'Vehicle Type Count by Agency'!$I:$I,\">=\"&$B28,'Vehicle Type Count by Agency'!$I:$I,\"<\"&$D28),SUMIFS('Vehicle Type Count by Agency'!R:R,'Vehicle Type Count by Agency'!$I:$I,\">=\"&$B28)))),\"\")","v":0.26190476190476192},{"$f":"IFERROR(IF($A28=\"\",\"\",(IF($A28=\"Between\",SUMIFS('Vehicle Type Count by Agency'!U:U,'Vehicle Type Count by Agency'!$I:$I,\">=\"&$B28,'Vehicle Type Count by Agency'!$I:$I,\"<\"&$D28),SUMIFS('Vehicle Type Count by Agency'!U:U,'Vehicle Type Count by Agency'!$I:$I,\">=\"&$B28))/IF($A28=\"Between\",SUMIFS('Vehicle Type Count by Agency'!T:T,'Vehicle Type Count by Agency'!$I:$I,\">=\"&$B28,'Vehicle Type Count by Agency'!$I:$I,\"<\"&$D28),SUMIFS('Vehicle Type Count by Agency'!T:T,'Vehicle Type Count by Agency'!$I:$I,\">=\"&$B28)))),\"\")","v":0.25179249261914805},{"$f":"IFERROR(IF($A28=\"\",\"\",(IF($A28=\"Between\",SUMIFS('Vehicle Type Count by Agency'!W:W,'Vehicle Type Count by Agency'!$I:$I,\">=\"&$B28,'Vehicle Type Count by Agency'!$I:$I,\"<\"&$D28),SUMIFS('Vehicle Type Count by Agency'!W:W,'Vehicle Type Count by Agency'!$I:$I,\">=\"&$B28))/IF($A28=\"Between\",SUMIFS('Vehicle Type Count by Agency'!V:V,'Vehicle Type Count by Agency'!$I:$I,\">=\"&$B28,'Vehicle Type Count by Agency'!$I:$I,\"<\"&$D28),SUMIFS('Vehicle Type Count by Agency'!V:V,'Vehicle Type Count by Agency'!$I:$I,\">=\"&$B28)))),\"\")","v":0.22271550129485757},{"$f":"IFERROR(IF($A28=\"\",\"\",(IF($A28=\"Between\",SUMIFS('Vehicle Type Count by Agency'!Y:Y,'Vehicle Type Count by Agency'!$I:$I,\">=\"&$B28,'Vehicle Type Count by Agency'!$I:$I,\"<\"&$D28),SUMIFS('Vehicle Type Count by Agency'!Y:Y,'Vehicle Type Count by Agency'!$I:$I,\">=\"&$B28))/IF($A28=\"Between\",SUMIFS('Vehicle Type Count by Agency'!X:X,'Vehicle Type Count by Agency'!$I:$I,\">=\"&$B28,'Vehicle Type Count by Agency'!$I:$I,\"<\"&$D28),SUMIFS('Vehicle Type Count by Agency'!X:X,'Vehicle Type Count by Agency'!$I:$I,\">=\"&$B28)))),\"\")","v":0.1291759465478842},{"$f":"IFERROR(IF($A28=\"\",\"\",(IF($A28=\"Between\",SUMIFS('Vehicle Type Count by Agency'!AA:AA,'Vehicle Type Count by Agency'!$I:$I,\">=\"&$B28,'Vehicle Type Count by Agency'!$I:$I,\"<\"&$D28),SUMIFS('Vehicle Type Count by Agency'!AA:AA,'Vehicle Type Count by Agency'!$I:$I,\">=\"&$B28))/IF($A28=\"Between\",SUMIFS('Vehicle Type Count by Agency'!Z:Z,'Vehicle Type Count by Agency'!$I:$I,\">=\"&$B28,'Vehicle Type Count by Agency'!$I:$I,\"<\"&$D28),SUMIFS('Vehicle Type Count by Agency'!Z:Z,'Vehicle Type Count by Agency'!$I:$I,\">=\"&$B28)))),\"\")","v":0.26341866226259292},{"$f":"IFERROR(IF($A28=\"\",\"\",(IF($A28=\"Between\",SUMIFS('Vehicle Type Count by Agency'!AC:AC,'Vehicle Type Count by Agency'!$I:$I,\">=\"&$B28,'Vehicle Type Count by Agency'!$I:$I,\"<\"&$D28),SUMIFS('Vehicle Type Count by Agency'!AC:AC,'Vehicle Type Count by Agency'!$I:$I,\">=\"&$B28))/IF($A28=\"Between\",SUMIFS('Vehicle Type Count by Agency'!AB:AB,'Vehicle Type Count by Agency'!$I:$I,\">=\"&$B28,'Vehicle Type Count by Agency'!$I:$I,\"<\"&$D28),SUMIFS('Vehicle Type Count by Agency'!AB:AB,'Vehicle Type Count by Agency'!$I:$I,\">=\"&$B28)))),\"\")","v":0.21138211382113822},{"$f":"IFERROR(IF($A28=\"\",\"\",(IF($A28=\"Between\",SUMIFS('Vehicle Type Count by Agency'!AE:AE,'Vehicle Type Count by Agency'!$I:$I,\">=\"&$B28,'Vehicle Type Count by Agency'!$I:$I,\"<\"&$D28),SUMIFS('Vehicle Type Count by Agency'!AE:AE,'Vehicle Type Count by Agency'!$I:$I,\">=\"&$B28))/IF($A28=\"Between\",SUMIFS('Vehicle Type Count by Agency'!AD:AD,'Vehicle Type Count by Agency'!$I:$I,\">=\"&$B28,'Vehicle Type Count by Agency'!$I:$I,\"<\"&$D28),SUMIFS('Vehicle Type Count by Agency'!AD:AD,'Vehicle Type Count by Agency'!$I:$I,\">=\"&$B28)))),\"\")","v":""},{"$f":"IFERROR(IF($A28=\"\",\"\",(IF($A28=\"Between\",SUMIFS('Vehicle Type Count by Agency'!AG:AG,'Vehicle Type Count by Agency'!$I:$I,\">=\"&$B28,'Vehicle Type Count by Agency'!$I:$I,\"<\"&$D28),SUMIFS('Vehicle Type Count by Agency'!AG:AG,'Vehicle Type Count by Agency'!$I:$I,\">=\"&$B28))/IF($A28=\"Between\",SUMIFS('Vehicle Type Count by Agency'!AF:AF,'Vehicle Type Count by Agency'!$I:$I,\">=\"&$B28,'Vehicle Type Count by Agency'!$I:$I,\"<\"&$D28),SUMIFS('Vehicle Type Count by Agency'!AF:AF,'Vehicle Type Count by Agency'!$I:$I,\">=\"&$B28)))),\"\")","v":0},{"$f":"IFERROR(IF($A28=\"\",\"\",(IF($A28=\"Between\",SUMIFS('Vehicle Type Count by Agency'!AI:AI,'Vehicle Type Count by Agency'!$I:$I,\">=\"&$B28,'Vehicle Type Count by Agency'!$I:$I,\"<\"&$D28),SUMIFS('Vehicle Type Count by Agency'!AI:AI,'Vehicle Type Count by Agency'!$I:$I,\">=\"&$B28))/IF($A28=\"Between\",SUMIFS('Vehicle Type Count by Agency'!AH:AH,'Vehicle Type Count by Agency'!$I:$I,\">=\"&$B28,'Vehicle Type Count by Agency'!$I:$I,\"<\"&$D28),SUMIFS('Vehicle Type Count by Agency'!AH:AH,'Vehicle Type Count by Agency'!$I:$I,\">=\"&$B28)))),\"\")","v":""},{"$f":"IFERROR(IF($A28=\"\",\"\",(IF($A28=\"Between\",SUMIFS('Vehicle Type Count by Agency'!AK:AK,'Vehicle Type Count by Agency'!$I:$I,\">=\"&$B28,'Vehicle Type Count by Agency'!$I:$I,\"<\"&$D28),SUMIFS('Vehicle Type Count by Agency'!AK:AK,'Vehicle Type Count by Agency'!$I:$I,\">=\"&$B28))/IF($A28=\"Between\",SUMIFS('Vehicle Type Count by Agency'!AJ:AJ,'Vehicle Type Count by Agency'!$I:$I,\">=\"&$B28,'Vehicle Type Count by Agency'!$I:$I,\"<\"&$D28),SUMIFS('Vehicle Type Count by Agency'!AJ:AJ,'Vehicle Type Count by Agency'!$I:$I,\">=\"&$B28)))),\"\")","v":4.3010752688172046E-2},{"$f":"IFERROR(IF($A28=\"\",\"\",(IF($A28=\"Between\",SUMIFS('Vehicle Type Count by Agency'!AM:AM,'Vehicle Type Count by Agency'!$I:$I,\">=\"&$B28,'Vehicle Type Count by Agency'!$I:$I,\"<\"&$D28),SUMIFS('Vehicle Type Count by Agency'!AM:AM,'Vehicle Type Count by Agency'!$I:$I,\">=\"&$B28))/IF($A28=\"Between\",SUMIFS('Vehicle Type Count by Agency'!AL:AL,'Vehicle Type Count by Agency'!$I:$I,\">=\"&$B28,'Vehicle Type Count by Agency'!$I:$I,\"<\"&$D28),SUMIFS('Vehicle Type Count by Agency'!AL:AL,'Vehicle Type Count by Agency'!$I:$I,\">=\"&$B28)))),\"\")","v":0},{"$f":"IFERROR(IF($A28=\"\",\"\",(IF($A28=\"Between\",SUMIFS('Vehicle Type Count by Agency'!AO:AO,'Vehicle Type Count by Agency'!$I:$I,\">=\"&$B28,'Vehicle Type Count by Agency'!$I:$I,\"<\"&$D28),SUMIFS('Vehicle Type Count by Agency'!AO:AO,'Vehicle Type Count by Agency'!$I:$I,\">=\"&$B28))/IF($A28=\"Between\",SUMIFS('Vehicle Type Count by Agency'!AN:AN,'Vehicle Type Count by Agency'!$I:$I,\">=\"&$B28,'Vehicle Type Count by Agency'!$I:$I,\"<\"&$D28),SUMIFS('Vehicle Type Count by Agency'!AN:AN,'Vehicle Type Count by Agency'!$I:$I,\">=\"&$B28)))),\"\")","v":0},{"$f":"IFERROR(IF($A28=\"\",\"\",(IF($A28=\"Between\",SUMIFS('Vehicle Type Count by Agency'!AQ:AQ,'Vehicle Type Count by Agency'!$I:$I,\">=\"&$B28,'Vehicle Type Count by Agency'!$I:$I,\"<\"&$D28),SUMIFS('Vehicle Type Count by Agency'!AQ:AQ,'Vehicle Type Count by Agency'!$I:$I,\">=\"&$B28))/IF($A28=\"Between\",SUMIFS('Vehicle Type Count by Agency'!AP:AP,'Vehicle Type Count by Agency'!$I:$I,\">=\"&$B28,'Vehicle Type Count by Agency'!$I:$I,\"<\"&$D28),SUMIFS('Vehicle Type Count by Agency'!AP:AP,'Vehicle Type Count by Agency'!$I:$I,\">=\"&$B28)))),\"\")","v":""},{"$f":"IFERROR(IF($A28=\"\",\"\",(IF($A28=\"Between\",SUMIFS('Vehicle Type Count by Agency'!AS:AS,'Vehicle Type Count by Agency'!$I:$I,\">=\"&$B28,'Vehicle Type Count by Agency'!$I:$I,\"<\"&$D28),SUMIFS('Vehicle Type Count by Agency'!AS:AS,'Vehicle Type Count by Agency'!$I:$I,\">=\"&$B28))/IF($A28=\"Between\",SUMIFS('Vehicle Type Count by Agency'!AR:AR,'Vehicle Type Count by Agency'!$I:$I,\">=\"&$B28,'Vehicle Type Count by Agency'!$I:$I,\"<\"&$D28),SUMIFS('Vehicle Type Count by Agency'!AR:AR,'Vehicle Type Count by Agency'!$I:$I,\">=\"&$B28)))),\"\")","v":0.58333333333333337},{"$f":"IFERROR(IF($A28=\"\",\"\",(IF($A28=\"Between\",SUMIFS('Vehicle Type Count by Agency'!AU:AU,'Vehicle Type Count by Agency'!$I:$I,\">=\"&$B28,'Vehicle Type Count by Agency'!$I:$I,\"<\"&$D28),SUMIFS('Vehicle Type Count by Agency'!AU:AU,'Vehicle Type Count by Agency'!$I:$I,\">=\"&$B28))/IF($A28=\"Between\",SUMIFS('Vehicle Type Count by Agency'!AT:AT,'Vehicle Type Count by Agency'!$I:$I,\">=\"&$B28,'Vehicle Type Count by Agency'!$I:$I,\"<\"&$D28),SUMIFS('Vehicle Type Count by Agency'!AT:AT,'Vehicle Type Count by Agency'!$I:$I,\">=\"&$B28)))),\"\")","v":0},{"$f":"IFERROR(IF($A28=\"\",\"\",(IF($A28=\"Between\",SUMIFS('Vehicle Type Count by Agency'!AW:AW,'Vehicle Type Count by Agency'!$I:$I,\">=\"&$B28,'Vehicle Type Count by Agency'!$I:$I,\"<\"&$D28),SUMIFS('Vehicle Type Count by Agency'!AW:AW,'Vehicle Type Count by Agency'!$I:$I,\">=\"&$B28))/IF($A28=\"Between\",SUMIFS('Vehicle Type Count by Agency'!AV:AV,'Vehicle Type Count by Agency'!$I:$I,\">=\"&$B28,'Vehicle Type Count by Agency'!$I:$I,\"<\"&$D28),SUMIFS('Vehicle Type Count by Agency'!AV:AV,'Vehicle Type Count by Agency'!$I:$I,\">=\"&$B28)))),\"\")","v":0.83823529411764708},{"$f":"IFERROR(IF($A28=\"\",\"\",(IF($A28=\"Between\",SUMIFS('Vehicle Type Count by Agency'!AY:AY,'Vehicle Type Count by Agency'!$I:$I,\">=\"&$B28,'Vehicle Type Count by Agency'!$I:$I,\"<\"&$D28),SUMIFS('Vehicle Type Count by Agency'!AY:AY,'Vehicle Type Count by Agency'!$I:$I,\">=\"&$B28))/IF($A28=\"Between\",SUMIFS('Vehicle Type Count by Agency'!AX:AX,'Vehicle Type Count by Agency'!$I:$I,\">=\"&$B28,'Vehicle Type Count by Agency'!$I:$I,\"<\"&$D28),SUMIFS('Vehicle Type Count by Agency'!AX:AX,'Vehicle Type Count by Agency'!$I:$I,\">=\"&$B28)))),\"\")","v":""},{"$f":"IFERROR(IF($A28=\"\",\"\",(IF($A28=\"Between\",SUMIFS('Vehicle Type Count by Agency'!BA:BA,'Vehicle Type Count by Agency'!$I:$I,\">=\"&$B28,'Vehicle Type Count by Agency'!$I:$I,\"<\"&$D28),SUMIFS('Vehicle Type Count by Agency'!BA:BA,'Vehicle Type Count by Agency'!$I:$I,\">=\"&$B28))/IF($A28=\"Between\",SUMIFS('Vehicle Type Count by Agency'!AZ:AZ,'Vehicle Type Count by Agency'!$I:$I,\">=\"&$B28,'Vehicle Type Count by Agency'!$I:$I,\"<\"&$D28),SUMIFS('Vehicle Type Count by Agency'!AZ:AZ,'Vehicle Type Count by Agency'!$I:$I,\">=\"&$B28)))),\"\")","v":""},{"$f":"IFERROR(IF($A28=\"\",\"\",(IF($A28=\"Between\",SUMIFS('Vehicle Type Count by Agency'!BC:BC,'Vehicle Type Count by Agency'!$I:$I,\">=\"&$B28,'Vehicle Type Count by Agency'!$I:$I,\"<\"&$D28),SUMIFS('Vehicle Type Count by Agency'!BC:BC,'Vehicle Type Count by Agency'!$I:$I,\">=\"&$B28))/IF($A28=\"Between\",SUMIFS('Vehicle Type Count by Agency'!BB:BB,'Vehicle Type Count by Agency'!$I:$I,\">=\"&$B28,'Vehicle Type Count by Agency'!$I:$I,\"<\"&$D28),SUMIFS('Vehicle Type Count by Agency'!BB:BB,'Vehicle Type Count by Agency'!$I:$I,\">=\"&$B28)))),\"\")","v":0},{"$f":"IFERROR(IF($A28=\"\",\"\",(IF($A28=\"Between\",SUMIFS('Vehicle Type Count by Agency'!BE:BE,'Vehicle Type Count by Agency'!$I:$I,\">=\"&$B28,'Vehicle Type Count by Agency'!$I:$I,\"<\"&$D28),SUMIFS('Vehicle Type Count by Agency'!BE:BE,'Vehicle Type Count by Agency'!$I:$I,\">=\"&$B28))/IF($A28=\"Between\",SUMIFS('Vehicle Type Count by Agency'!BD:BD,'Vehicle Type Count by Agency'!$I:$I,\">=\"&$B28,'Vehicle Type Count by Agency'!$I:$I,\"<\"&$D28),SUMIFS('Vehicle Type Count by Agency'!BD:BD,'Vehicle Type Count by Agency'!$I:$I,\">=\"&$B28)))),\"\")","v":0},{"$f":"IFERROR(IF($A28=\"\",\"\",(IF($A28=\"Between\",SUMIFS('Vehicle Type Count by Agency'!BG:BG,'Vehicle Type Count by Agency'!$I:$I,\">=\"&$B28,'Vehicle Type Count by Agency'!$I:$I,\"<\"&$D28),SUMIFS('Vehicle Type Count by Agency'!BG:BG,'Vehicle Type Count by Agency'!$I:$I,\">=\"&$B28))/IF($A28=\"Between\",SUMIFS('Vehicle Type Count by Agency'!BF:BF,'Vehicle Type Count by Agency'!$I:$I,\">=\"&$B28,'Vehicle Type Count by Agency'!$I:$I,\"<\"&$D28),SUMIFS('Vehicle Type Count by Agency'!BF:BF,'Vehicle Type Count by Agency'!$I:$I,\">=\"&$B28)))),\"\")","v":0.13043478260869565},{"$f":"IFERROR(IF($A28=\"\",\"\",(IF($A28=\"Between\",SUMIFS('Vehicle Type Count by Agency'!BI:BI,'Vehicle Type Count by Agency'!$I:$I,\">=\"&$B28,'Vehicle Type Count by Agency'!$I:$I,\"<\"&$D28),SUMIFS('Vehicle Type Count by Agency'!BI:BI,'Vehicle Type Count by Agency'!$I:$I,\">=\"&$B28))/IF($A28=\"Between\",SUMIFS('Vehicle Type Count by Agency'!BH:BH,'Vehicle Type Count by Agency'!$I:$I,\">=\"&$B28,'Vehicle Type Count by Agency'!$I:$I,\"<\"&$D28),SUMIFS('Vehicle Type Count by Agency'!BH:BH,'Vehicle Type Count by Agency'!$I:$I,\">=\"&$B28)))),\"\")","v":0.22706935123042504}]
["Between",100,"and",250,"Between 100 and 250",{"$f":"IFERROR(IF($A29=\"\",\"\",(IF($A29=\"Between\",SUMIFS('Vehicle Type Count by Agency'!K:K,'Vehicle Type Count by Agency'!$I:$I,\">=\"&$B29,'Vehicle Type Count by Agency'!$I:$I,\"<\"&$D29),SUMIFS('Vehicle Type Count by Agency'!K:K,'Vehicle Type Count by Agency'!$I:$I,\">=\"&$B29))/IF($A29=\"Between\",SUMIFS('Vehicle Type Count by Agency'!J:J,'Vehicle Type Count by Agency'!$I:$I,\">=\"&$B29,'Vehicle Type Count by Agency'!$I:$I,\"<\"&$D29),SUMIFS('Vehicle Type Count by Agency'!J:J,'Vehicle Type Count by Agency'!$I:$I,\">=\"&$B29)))),\"\")","v":0.17184508908849949},{"$f":"IFERROR(IF($A29=\"\",\"\",(IF($A29=\"Between\",SUMIFS('Vehicle Type Count by Agency'!M:M,'Vehicle Type Count by Agency'!$I:$I,\">=\"&$B29,'Vehicle Type Count by Agency'!$I:$I,\"<\"&$D29),SUMIFS('Vehicle Type Count by Agency'!M:M,'Vehicle Type Count by Agency'!$I:$I,\">=\"&$B29))/IF($A29=\"Between\",SUMIFS('Vehicle Type Count by Agency'!L:L,'Vehicle Type Count by Agency'!$I:$I,\">=\"&$B29,'Vehicle Type Count by Agency'!$I:$I,\"<\"&$D29),SUMIFS('Vehicle Type Count by Agency'!L:L,'Vehicle Type Count by Agency'!$I:$I,\">=\"&$B29)))),\"\")","v":0.16595744680851063},{"$f":"IFERROR(IF($A29=\"\",\"\",(IF($A29=\"Between\",SUMIFS('Vehicle Type Count by Agency'!O:O,'Vehicle Type Count by Agency'!$I:$I,\">=\"&$B29,'Vehicle Type Count by Agency'!$I:$I,\"<\"&$D29),SUMIFS('Vehicle Type Count by Agency'!O:O,'Vehicle Type Count by Agency'!$I:$I,\">=\"&$B29))/IF($A29=\"Between\",SUMIFS('Vehicle Type Count by Agency'!N:N,'Vehicle Type Count by Agency'!$I:$I,\">=\"&$B29,'Vehicle Type Count by Agency'!$I:$I,\"<\"&$D29),SUMIFS('Vehicle Type Count by Agency'!N:N,'Vehicle Type Count by Agency'!$I:$I,\">=\"&$B29)))),\"\")","v":0.24811083123425692},{"$f":"IFERROR(IF($A29=\"\",\"\",(IF($A29=\"Between\",SUMIFS('Vehicle Type Count by Agency'!Q:Q,'Vehicle Type Count by Agency'!$I:$I,\">=\"&$B29,'Vehicle Type Count by Agency'!$I:$I,\"<\"&$D29),SUMIFS('Vehicle Type Count by Agency'!Q:Q,'Vehicle Type Count by Agency'!$I:$I,\">=\"&$B29))/IF($A29=\"Between\",SUMIFS('Vehicle Type Count by Agency'!P:P,'Vehicle Type Count by Agency'!$I:$I,\">=\"&$B29,'Vehicle Type Count by Agency'!$I:$I,\"<\"&$D29),SUMIFS('Vehicle Type Count by Agency'!P:P,'Vehicle Type Count by Agency'!$I:$I,\">=\"&$B29)))),\"\")","v":""},{"$f":"IFERROR(IF($A29=\"\",\"\",(IF($A29=\"Between\",SUMIFS('Vehicle Type Count by Agency'!S:S,'Vehicle Type Count by Agency'!$I:$I,\">=\"&$B29,'Vehicle Type Count by Agency'!$I:$I,\"<\"&$D29),SUMIFS('Vehicle Type Count by Agency'!S:S,'Vehicle Type Count by Agency'!$I:$I,\">=\"&$B29))/IF($A29=\"Between\",SUMIFS('Vehicle Type Count by Agency'!R:R,'Vehicle Type Count by Agency'!$I:$I,\">=\"&$B29,'Vehicle Type Count by Agency'!$I:$I,\"<\"&$D29),SUMIFS('Vehicle Type Count by Agency'!R:R,'Vehicle Type Count by Agency'!$I:$I,\">=\"&$B29)))),\"\")","v":0.4},{"$f":"IFERROR(IF($A29=\"\",\"\",(IF($A29=\"Between\",SUMIFS('Vehicle Type Count by Agency'!U:U,'Vehicle Type Count by Agency'!$I:$I,\">=\"&$B29,'Vehicle Type Count by Agency'!$I:$I,\"<\"&$D29),SUMIFS('Vehicle Type Count by Agency'!U:U,'Vehicle Type Count by Agency'!$I:$I,\">=\"&$B29))/IF($A29=\"Between\",SUMIFS('Vehicle Type Count by Agency'!T:T,'Vehicle Type Count by Agency'!$I:$I,\">=\"&$B29,'Vehicle Type Count by Agency'!$I:$I,\"<\"&$D29),SUMIFS('Vehicle Type Count by Agency'!T:T,'Vehicle Type Count by Agency'!$I:$I,\">=\"&$B29)))),\"\")","v":0.19977103606182026},{"$f":"IFERROR(IF($A29=\"\",\"\",(IF($A29=\"Between\",SUMIFS('Vehicle Type Count by Agency'!W:W,'Vehicle Type Count by Agency'!$I:$I,\">=\"&$B29,'Vehicle Type Count by Agency'!$I:$I,\"<\"&$D29),SUMIFS('Vehicle Type Count by Agency'!W:W,'Vehicle Type Count by Agency'!$I:$I,\">=\"&$B29))/IF($A29=\"Between\",SUMIFS('Vehicle Type Count by Agency'!V:V,'Vehicle Type Count by Agency'!$I:$I,\">=\"&$B29,'Vehicle Type Count by Agency'!$I:$I,\"<\"&$D29),SUMIFS('Vehicle Type Count by Agency'!V:V,'Vehicle Type Count by Agency'!$I:$I,\">=\"&$B29)))),\"\")","v":0.15890542486797887},{"$f":"IFERROR(IF($A29=\"\",\"\",(IF($A29=\"Between\",SUMIFS('Vehicle Type Count by Agency'!Y:Y,'Vehicle Type Count by Agency'!$I:$I,\">=\"&$B29,'Vehicle Type Count by Agency'!$I:$I,\"<\"&$D29),SUMIFS('Vehicle Type Count by Agency'!Y:Y,'Vehicle Type Count by Agency'!$I:$I,\">=\"&$B29))/IF($A29=\"Between\",SUMIFS('Vehicle Type Count by Agency'!X:X,'Vehicle Type Count by Agency'!$I:$I,\">=\"&$B29,'Vehicle Type Count by Agency'!$I:$I,\"<\"&$D29),SUMIFS('Vehicle Type Count by Agency'!X:X,'Vehicle Type Count by Agency'!$I:$I,\">=\"&$B29)))),\"\")","v":1.0416666666666666E-2},{"$f":"IFERROR(IF($A29=\"\",\"\",(IF($A29=\"Between\",SUMIFS('Vehicle Type Count by Agency'!AA:AA,'Vehicle Type Count by Agency'!$I:$I,\">=\"&$B29,'Vehicle Type Count by Agency'!$I:$I,\"<\"&$D29),SUMIFS('Vehicle Type Count by Agency'!AA:AA,'Vehicle Type Count by Agency'!$I:$I,\">=\"&$B29))/IF($A29=\"Between\",SUMIFS('Vehicle Type Count by Agency'!Z:Z,'Vehicle Type Count by Agency'!$I:$I,\">=\"&$B29,'Vehicle Type Count by Agency'!$I:$I,\"<\"&$D29),SUMIFS('Vehicle Type Count by Agency'!Z:Z,'Vehicle Type Count by Agency'!$I:$I,\">=\"&$B29)))),\"\")","v":0.31666666666666665},{"$f":"IFERROR(IF($A29=\"\",\"\",(IF($A29=\"Between\",SUMIFS('Vehicle Type Count by Agency'!AC:AC,'Vehicle Type Count by Agency'!$I:$I,\">=\"&$B29,'Vehicle Type Count by Agency'!$I:$I,\"<\"&$D29),SUMIFS('Vehicle Type Count by Agency'!AC:AC,'Vehicle Type Count by Agency'!$I:$I,\">=\"&$B29))/IF($A29=\"Between\",SUMIFS('Vehicle Type Count by Agency'!AB:AB,'Vehicle Type Count by Agency'!$I:$I,\">=\"&$B29,'Vehicle Type Count by Agency'!$I:$I,\"<\"&$D29),SUMIFS('Vehicle Type Count by Agency'!AB:AB,'Vehicle Type Count by Agency'!$I:$I,\">=\"&$B29)))),\"\")","v":0.13541666666666666},{"$f":"IFERROR(IF($A29=\"\",\"\",(IF($A29=\"Between\",SUMIFS('Vehicle Type Count by Agency'!AE:AE,'Vehicle Type Count by Agency'!$I:$I,\">=\"&$B29,'Vehicle Type Count by Agency'!$I:$I,\"<\"&$D29),SUMIFS('Vehicle Type Count by Agency'!AE:AE,'Vehicle Type Count by Agency'!$I:$I,\">=\"&$B29))/IF($A29=\"Between\",SUMIFS('Vehicle Type Count by Agency'!AD:AD,'Vehicle Type Count by Agency'!$I:$I,\">=\"&$B29,'Vehicle Type Count by Agency'!$I:$I,\"<\"&$D29),SUMIFS('Vehicle Type Count by Agency'!AD:AD,'Vehicle Type Count by Agency'!$I:$I,\">=\"&$B29)))),\"\")","v":0.89189189189189189},{"$f":"IFERROR(IF($A29=\"\",\"\",(IF($A29=\"Between\",SUMIFS('Vehicle Type Count by Agency'!AG:AG,'Vehicle Type Count by Agency'!$I:$I,\">=\"&$B29,'Vehicle Type Count by Agency'!$I:$I,\"<\"&$D29),SUMIFS('Vehicle Type Count by Agency'!AG:AG,'Vehicle Type Count by Agency'!$I:$I,\">=\"&$B29))/IF($A29=\"Between\",SUMIFS('Vehicle Type Count by Agency'!AF:AF,'Vehicle Type Count by Agency'!$I:$I,\">=\"&$B29,'Vehicle Type Count by Agency'!$I:$I,\"<\"&$D29),SUMIFS('Vehicle Type Count by Agency'!AF:AF,'Vehicle Type Count by Agency'!$I:$I,\">=\"&$B29)))),\"\")","v":""},{"$f":"IFERROR(IF($A29=\"\",\"\",(IF($A29=\"Between\",SUMIFS('Vehicle Type Count by Agency'!AI:AI,'Vehicle Type Count by Agency'!$I:$I,\">=\"&$B29,'Vehicle Type Count by Agency'!$I:$I,\"<\"&$D29),SUMIFS('Vehicle Type Count by Agency'!AI:AI,'Vehicle Type Count by Agency'!$I:$I,\">=\"&$B29))/IF($A29=\"Between\",SUMIFS('Vehicle Type Count by Agency'!AH:AH,'Vehicle Type Count by Agency'!$I:$I,\">=\"&$B29,'Vehicle Type Count by Agency'!$I:$I,\"<\"&$D29),SUMIFS('Vehicle Type Count by Agency'!AH:AH,'Vehicle Type Count by Agency'!$I:$I,\">=\"&$B29)))),\"\")","v":0.48760330578512395},{"$f":"IFERROR(IF($A29=\"\",\"\",(IF($A29=\"Between\",SUMIFS('Vehicle Type Count by Agency'!AK:AK,'Vehicle Type Count by Agency'!$I:$I,\">=\"&$B29,'Vehicle Type Count by Agency'!$I:$I,\"<\"&$D29),SUMIFS('Vehicle Type Count by Agency'!AK:AK,'Vehicle Type Count by Agency'!$I:$I,\">=\"&$B29))/IF($A29=\"Between\",SUMIFS('Vehicle Type Count by Agency'!AJ:AJ,'Vehicle Type Count by Agency'!$I:$I,\">=\"&$B29,'Vehicle Type Count by Agency'!$I:$I,\"<\"&$D29),SUMIFS('Vehicle Type Count by Agency'!AJ:AJ,'Vehicle Type Count by Agency'!$I:$I,\">=\"&$B29)))),\"\")","v":0.18387909319899245},{"$f":"IFERROR(IF($A29=\"\",\"\",(IF($A29=\"Between\",SUMIFS('Vehicle Type Count by Agency'!AM:AM,'Vehicle Type Count by Agency'!$I:$I,\">=\"&$B29,'Vehicle Type Count by Agency'!$I:$I,\"<\"&$D29),SUMIFS('Vehicle Type Count by Agency'!AM:AM,'Vehicle Type Count by Agency'!$I:$I,\">=\"&$B29))/IF($A29=\"Between\",SUMIFS('Vehicle Type Count by Agency'!AL:AL,'Vehicle Type Count by Agency'!$I:$I,\">=\"&$B29,'Vehicle Type Count by Agency'!$I:$I,\"<\"&$D29),SUMIFS('Vehicle Type Count by Agency'!AL:AL,'Vehicle Type Count by Agency'!$I:$I,\">=\"&$B29)))),\"\")","v":0},{"$f":"IFERROR(IF($A29=\"\",\"\",(IF($A29=\"Between\",SUMIFS('Vehicle Type Count by Agency'!AO:AO,'Vehicle Type Count by Agency'!$I:$I,\">=\"&$B29,'Vehicle Type Count by Agency'!$I:$I,\"<\"&$D29),SUMIFS('Vehicle Type Count by Agency'!AO:AO,'Vehicle Type Count by Agency'!$I:$I,\">=\"&$B29))/IF($A29=\"Between\",SUMIFS('Vehicle Type Count by Agency'!AN:AN,'Vehicle Type Count by Agency'!$I:$I,\">=\"&$B29,'Vehicle Type Count by Agency'!$I:$I,\"<\"&$D29),SUMIFS('Vehicle Type Count by Agency'!AN:AN,'Vehicle Type Count by Agency'!$I:$I,\">=\"&$B29)))),\"\")","v":0.23076923076923078},{"$f":"IFERROR(IF($A29=\"\",\"\",(IF($A29=\"Between\",SUMIFS('Vehicle Type Count by Agency'!AQ:AQ,'Vehicle Type Count by Agency'!$I:$I,\">=\"&$B29,'Vehicle Type Count by Agency'!$I:$I,\"<\"&$D29),SUMIFS('Vehicle Type Count by Agency'!AQ:AQ,'Vehicle Type Count by Agency'!$I:$I,\">=\"&$B29))/IF($A29=\"Between\",SUMIFS('Vehicle Type Count by Agency'!AP:AP,'Vehicle Type Count by Agency'!$I:$I,\">=\"&$B29,'Vehicle Type Count by Agency'!$I:$I,\"<\"&$D29),SUMIFS('Vehicle Type Count by Agency'!AP:AP,'Vehicle Type Count by Agency'!$I:$I,\">=\"&$B29)))),\"\")","v":""},{"$f":"IFERROR(IF($A29=\"\",\"\",(IF($A29=\"Between\",SUMIFS('Vehicle Type Count by Agency'!AS:AS,'Vehicle Type Count by Agency'!$I:$I,\">=\"&$B29,'Vehicle Type Count by Agency'!$I:$I,\"<\"&$D29),SUMIFS('Vehicle Type Count by Agency'!AS:AS,'Vehicle Type Count by Agency'!$I:$I,\">=\"&$B29))/IF($A29=\"Between\",SUMIFS('Vehicle Type Count by Agency'!AR:AR,'Vehicle Type Count by Agency'!$I:$I,\">=\"&$B29,'Vehicle Type Count by Agency'!$I:$I,\"<\"&$D29),SUMIFS('Vehicle Type Count by Agency'!AR:AR,'Vehicle Type Count by Agency'!$I:$I,\">=\"&$B29)))),\"\")","v":1},{"$f":"IFERROR(IF($A29=\"\",\"\",(IF($A29=\"Between\",SUMIFS('Vehicle Type Count by Agency'!AU:AU,'Vehicle Type Count by Agency'!$I:$I,\">=\"&$B29,'Vehicle Type Count by Agency'!$I:$I,\"<\"&$D29),SUMIFS('Vehicle Type Count by Agency'!AU:AU,'Vehicle Type Count by Agency'!$I:$I,\">=\"&$B29))/IF($A29=\"Between\",SUMIFS('Vehicle Type Count by Agency'!AT:AT,'Vehicle Type Count by Agency'!$I:$I,\">=\"&$B29,'Vehicle Type Count by Agency'!$I:$I,\"<\"&$D29),SUMIFS('Vehicle Type Count by Agency'!AT:AT,'Vehicle Type Count by Agency'!$I:$I,\">=\"&$B29)))),\"\")","v":0},{"$f":"IFERROR(IF($A29=\"\",\"\",(IF($A29=\"Between\",SUMIFS('Vehicle Type Count by Agency'!AW:AW,'Vehicle Type Count by Agency'!$I:$I,\">=\"&$B29,'Vehicle Type Count by Agency'!$I:$I,\"<\"&$D29),SUMIFS('Vehicle Type Count by Agency'!AW:AW,'Vehicle Type Count by Agency'!$I:$I,\">=\"&$B29))/IF($A29=\"Between\",SUMIFS('Vehicle Type Count by Agency'!AV:AV,'Vehicle Type Count by Agency'!$I:$I,\">=\"&$B29,'Vehicle Type Count by Agency'!$I:$I,\"<\"&$D29),SUMIFS('Vehicle Type Count by Agency'!AV:AV,'Vehicle Type Count by Agency'!$I:$I,\">=\"&$B29)))),\"\")","v":""},{"$f":"IFERROR(IF($A29=\"\",\"\",(IF($A29=\"Between\",SUMIFS('Vehicle Type Count by Agency'!AY:AY,'Vehicle Type Count by Agency'!$I:$I,\">=\"&$B29,'Vehicle Type Count by Agency'!$I:$I,\"<\"&$D29),SUMIFS('Vehicle Type Count by Agency'!AY:AY,'Vehicle Type Count by Agency'!$I:$I,\">=\"&$B29))/IF($A29=\"Between\",SUMIFS('Vehicle Type Count by Agency'!AX:AX,'Vehicle Type Count by Agency'!$I:$I,\">=\"&$B29,'Vehicle Type Count by Agency'!$I:$I,\"<\"&$D29),SUMIFS('Vehicle Type Count by Agency'!AX:AX,'Vehicle Type Count by Agency'!$I:$I,\">=\"&$B29)))),\"\")","v":""},{"$f":"IFERROR(IF($A29=\"\",\"\",(IF($A29=\"Between\",SUMIFS('Vehicle Type Count by Agency'!BA:BA,'Vehicle Type Count by Agency'!$I:$I,\">=\"&$B29,'Vehicle Type Count by Agency'!$I:$I,\"<\"&$D29),SUMIFS('Vehicle Type Count by Agency'!BA:BA,'Vehicle Type Count by Agency'!$I:$I,\">=\"&$B29))/IF($A29=\"Between\",SUMIFS('Vehicle Type Count by Agency'!AZ:AZ,'Vehicle Type Count by Agency'!$I:$I,\">=\"&$B29,'Vehicle Type Count by Agency'!$I:$I,\"<\"&$D29),SUMIFS('Vehicle Type Count by Agency'!AZ:AZ,'Vehicle Type Count by Agency'!$I:$I,\">=\"&$B29)))),\"\")","v":""},{"$f":"IFERROR(IF($A29=\"\",\"\",(IF($A29=\"Between\",SUMIFS('Vehicle Type Count by Agency'!BC:BC,'Vehicle Type Count by Agency'!$I:$I,\">=\"&$B29,'Vehicle Type Count by Agency'!$I:$I,\"<\"&$D29),SUMIFS('Vehicle Type Count by Agency'!BC:BC,'Vehicle Type Count by Agency'!$I:$I,\">=\"&$B29))/IF($A29=\"Between\",SUMIFS('Vehicle Type Count by Agency'!BB:BB,'Vehicle Type Count by Agency'!$I:$I,\">=\"&$B29,'Vehicle Type Count by Agency'!$I:$I,\"<\"&$D29),SUMIFS('Vehicle Type Count by Agency'!BB:BB,'Vehicle Type Count by Agency'!$I:$I,\">=\"&$B29)))),\"\")","v":""},{"$f":"IFERROR(IF($A29=\"\",\"\",(IF($A29=\"Between\",SUMIFS('Vehicle Type Count by Agency'!BE:BE,'Vehicle Type Count by Agency'!$I:$I,\">=\"&$B29,'Vehicle Type Count by Agency'!$I:$I,\"<\"&$D29),SUMIFS('Vehicle Type Count by Agency'!BE:BE,'Vehicle Type Count by Agency'!$I:$I,\">=\"&$B29))/IF($A29=\"Between\",SUMIFS('Vehicle Type Count by Agency'!BD:BD,'Vehicle Type Count by Agency'!$I:$I,\">=\"&$B29,'Vehicle Type Count by Agency'!$I:$I,\"<\"&$D29),SUMIFS('Vehicle Type Count by Agency'!BD:BD,'Vehicle Type Count by Agency'!$I:$I,\">=\"&$B29)))),\"\")","v":0.3},{"$f":"IFERROR(IF($A29=\"\",\"\",(IF($A29=\"Between\",SUMIFS('Vehicle Type Count by Agency'!BG:BG,'Vehicle Type Count by Agency'!$I:$I,\">=\"&$B29,'Vehicle Type Count by Agency'!$I:$I,\"<\"&$D29),SUMIFS('Vehicle Type Count by Agency'!BG:BG,'Vehicle Type Count by Agency'!$I:$I,\">=\"&$B29))/IF($A29=\"Between\",SUMIFS('Vehicle Type Count by Agency'!BF:BF,'Vehicle Type Count by Agency'!$I:$I,\">=\"&$B29,'Vehicle Type Count by Agency'!$I:$I,\"<\"&$D29),SUMIFS('Vehicle Type Count by Agency'!BF:BF,'Vehicle Type Count by Agency'!$I:$I,\">=\"&$B29)))),\"\")","v":0},{"$f":"IFERROR(IF($A29=\"\",\"\",(IF($A29=\"Between\",SUMIFS('Vehicle Type Count by Agency'!BI:BI,'Vehicle Type Count by Agency'!$I:$I,\">=\"&$B29,'Vehicle Type Count by Agency'!$I:$I,\"<\"&$D29),SUMIFS('Vehicle Type Count by Agency'!BI:BI,'Vehicle Type Count by Agency'!$I:$I,\">=\"&$B29))/IF($A29=\"Between\",SUMIFS('Vehicle Type Count by Agency'!BH:BH,'Vehicle Type Count by Agency'!$I:$I,\">=\"&$B29,'Vehicle Type Count by Agency'!$I:$I,\"<\"&$D29),SUMIFS('Vehicle Type Count by Agency'!BH:BH,'Vehicle Type Count by Agency'!$I:$I,\">=\"&$B29)))),\"\")","v":0.1821983646464016}]
["Between",250,"and",500,"Between 250 and 500",{"$f":"IFERROR(IF($A30=\"\",\"\",(IF($A30=\"Between\",SUMIFS('Vehicle Type Count by Agency'!K:K,'Vehicle Type Count by Agency'!$I:$I,\">=\"&$B30,'Vehicle Type Count by Agency'!$I:$I,\"<\"&$D30),SUMIFS('Vehicle Type Count by Agency'!K:K,'Vehicle Type Count by Agency'!$I:$I,\">=\"&$B30))/IF($A30=\"Between\",SUMIFS('Vehicle Type Count by Agency'!J:J,'Vehicle Type Count by Agency'!$I:$I,\">=\"&$B30,'Vehicle Type Count by Agency'!$I:$I,\"<\"&$D30),SUMIFS('Vehicle Type Count by Agency'!J:J,'Vehicle Type Count by Agency'!$I:$I,\">=\"&$B30)))),\"\")","v":0.16186107470511141},{"$f":"IFERROR(IF($A30=\"\",\"\",(IF($A30=\"Between\",SUMIFS('Vehicle Type Count by Agency'!M:M,'Vehicle Type Count by Agency'!$I:$I,\">=\"&$B30,'Vehicle Type Count by Agency'!$I:$I,\"<\"&$D30),SUMIFS('Vehicle Type Count by Agency'!M:M,'Vehicle Type Count by Agency'!$I:$I,\">=\"&$B30))/IF($A30=\"Between\",SUMIFS('Vehicle Type Count by Agency'!L:L,'Vehicle Type Count by Agency'!$I:$I,\">=\"&$B30,'Vehicle Type Count by Agency'!$I:$I,\"<\"&$D30),SUMIFS('Vehicle Type Count by Agency'!L:L,'Vehicle Type Count by Agency'!$I:$I,\">=\"&$B30)))),\"\")","v":0.30111524163568776},{"$f":"IFERROR(IF($A30=\"\",\"\",(IF($A30=\"Between\",SUMIFS('Vehicle Type Count by Agency'!O:O,'Vehicle Type Count by Agency'!$I:$I,\">=\"&$B30,'Vehicle Type Count by Agency'!$I:$I,\"<\"&$D30),SUMIFS('Vehicle Type Count by Agency'!O:O,'Vehicle Type Count by Agency'!$I:$I,\">=\"&$B30))/IF($A30=\"Between\",SUMIFS('Vehicle Type Count by Agency'!N:N,'Vehicle Type Count by Agency'!$I:$I,\">=\"&$B30,'Vehicle Type Count by Agency'!$I:$I,\"<\"&$D30),SUMIFS('Vehicle Type Count by Agency'!N:N,'Vehicle Type Count by Agency'!$I:$I,\">=\"&$B30)))),\"\")","v":0.10139860139860139},{"$f":"IFERROR(IF($A30=\"\",\"\",(IF($A30=\"Between\",SUMIFS('Vehicle Type Count by Agency'!Q:Q,'Vehicle Type Count by Agency'!$I:$I,\">=\"&$B30,'Vehicle Type Count by Agency'!$I:$I,\"<\"&$D30),SUMIFS('Vehicle Type Count by Agency'!Q:Q,'Vehicle Type Count by Agency'!$I:$I,\">=\"&$B30))/IF($A30=\"Between\",SUMIFS('Vehicle Type Count by Agency'!P:P,'Vehicle Type Count by Agency'!$I:$I,\">=\"&$B30,'Vehicle Type Count by Agency'!$I:$I,\"<\"&$D30),SUMIFS('Vehicle Type Count by Agency'!P:P,'Vehicle Type Count by Agency'!$I:$I,\">=\"&$B30)))),\"\")","v":0},{"$f":"IFERROR(IF($A30=\"\",\"\",(IF($A30=\"Between\",SUMIFS('Vehicle Type Count by Agency'!S:S,'Vehicle Type Count by Agency'!$I:$I,\">=\"&$B30,'Vehicle Type Count by Agency'!$I:$I,\"<\"&$D30),SUMIFS('Vehicle Type Count by Agency'!S:S,'Vehicle Type Count by Agency'!$I:$I,\">=\"&$B30))/IF($A30=\"Between\",SUMIFS('Vehicle Type Count by Agency'!R:R,'Vehicle Type Count by Agency'!$I:$I,\">=\"&$B30,'Vehicle Type Count by Agency'!$I:$I,\"<\"&$D30),SUMIFS('Vehicle Type Count by Agency'!R:R,'Vehicle Type Count by Agency'!$I:$I,\">=\"&$B30)))),\"\")","v":""},{"$f":"IFERROR(IF($A30=\"\",\"\",(IF($A30=\"Between\",SUMIFS('Vehicle Type Count by Agency'!U:U,'Vehicle Type Count by Agency'!$I:$I,\">=\"&$B30,'Vehicle Type Count by Agency'!$I:$I,\"<\"&$D30),SUMIFS('Vehicle Type Count by Agency'!U:U,'Vehicle Type Count by Agency'!$I:$I,\">=\"&$B30))/IF($A30=\"Between\",SUMIFS('Vehicle Type Count by Agency'!T:T,'Vehicle Type Count by Agency'!$I:$I,\">=\"&$B30,'Vehicle Type Count by Agency'!$I:$I,\"<\"&$D30),SUMIFS('Vehicle Type Count by Agency'!T:T,'Vehicle Type Count by Agency'!$I:$I,\">=\"&$B30)))),\"\")","v":0.18318770714070504},{"$f":"IFERROR(IF($A30=\"\",\"\",(IF($A30=\"Between\",SUMIFS('Vehicle Type Count by Agency'!W:W,'Vehicle Type Count by Agency'!$I:$I,\">=\"&$B30,'Vehicle Type Count by Agency'!$I:$I,\"<\"&$D30),SUMIFS('Vehicle Type Count by Agency'!W:W,'Vehicle Type Count by Agency'!$I:$I,\">=\"&$B30))/IF($A30=\"Between\",SUMIFS('Vehicle Type Count by Agency'!V:V,'Vehicle Type Count by Agency'!$I:$I,\">=\"&$B30,'Vehicle Type Count by Agency'!$I:$I,\"<\"&$D30),SUMIFS('Vehicle Type Count by Agency'!V:V,'Vehicle Type Count by Agency'!$I:$I,\">=\"&$B30)))),\"\")","v":0.16277472527472528},{"$f":"IFERROR(IF($A30=\"\",\"\",(IF($A30=\"Between\",SUMIFS('Vehicle Type Count by Agency'!Y:Y,'Vehicle Type Count by Agency'!$I:$I,\">=\"&$B30,'Vehicle Type Count by Agency'!$I:$I,\"<\"&$D30),SUMIFS('Vehicle Type Count by Agency'!Y:Y,'Vehicle Type Count by Agency'!$I:$I,\">=\"&$B30))/IF($A30=\"Between\",SUMIFS('Vehicle Type Count by Agency'!X:X,'Vehicle Type Count by Agency'!$I:$I,\">=\"&$B30,'Vehicle Type Count by Agency'!$I:$I,\"<\"&$D30),SUMIFS('Vehicle Type Count by Agency'!X:X,'Vehicle Type Count by Agency'!$I:$I,\">=\"&$B30)))),\"\")","v":1.2834224598930482E-2},{"$f":"IFERROR(IF($A30=\"\",\"\",(IF($A30=\"Between\",SUMIFS('Vehicle Type Count by Agency'!AA:AA,'Vehicle Type Count by Agency'!$I:$I,\">=\"&$B30,'Vehicle Type Count by Agency'!$I:$I,\"<\"&$D30),SUMIFS('Vehicle Type Count by Agency'!AA:AA,'Vehicle Type Count by Agency'!$I:$I,\">=\"&$B30))/IF($A30=\"Between\",SUMIFS('Vehicle Type Count by Agency'!Z:Z,'Vehicle Type Count by Agency'!$I:$I,\">=\"&$B30,'Vehicle Type Count by Agency'!$I:$I,\"<\"&$D30),SUMIFS('Vehicle Type Count by Agency'!Z:Z,'Vehicle Type Count by Agency'!$I:$I,\">=\"&$B30)))),\"\")","v":9.0666666666666673E-2},{"$f":"IFERROR(IF($A30=\"\",\"\",(IF($A30=\"Between\",SUMIFS('Vehicle Type Count by Agency'!AC:AC,'Vehicle Type Count by Agency'!$I:$I,\">=\"&$B30,'Vehicle Type Count by Agency'!$I:$I,\"<\"&$D30),SUMIFS('Vehicle Type Count by Agency'!AC:AC,'Vehicle Type Count by Agency'!$I:$I,\">=\"&$B30))/IF($A30=\"Between\",SUMIFS('Vehicle Type Count by Agency'!AB:AB,'Vehicle Type Count by Agency'!$I:$I,\">=\"&$B30,'Vehicle Type Count by Agency'!$I:$I,\"<\"&$D30),SUMIFS('Vehicle Type Count by Agency'!AB:AB,'Vehicle Type Count by Agency'!$I:$I,\">=\"&$B30)))),\"\")","v":0},{"$f":"IFERROR(IF($A30=\"\",\"\",(IF($A30=\"Between\",SUMIFS('Vehicle Type Count by Agency'!AE:AE,'Vehicle Type Count by Agency'!$I:$I,\">=\"&$B30,'Vehicle Type Count by Agency'!$I:$I,\"<\"&$D30),SUMIFS('Vehicle Type Count by Agency'!AE:AE,'Vehicle Type Count by Agency'!$I:$I,\">=\"&$B30))/IF($A30=\"Between\",SUMIFS('Vehicle Type Count by Agency'!AD:AD,'Vehicle Type Count by Agency'!$I:$I,\">=\"&$B30,'Vehicle Type Count by Agency'!$I:$I,\"<\"&$D30),SUMIFS('Vehicle Type Count by Agency'!AD:AD,'Vehicle Type Count by Agency'!$I:$I,\">=\"&$B30)))),\"\")","v":""},{"$f":"IFERROR(IF($A30=\"\",\"\",(IF($A30=\"Between\",SUMIFS('Vehicle Type Count by Agency'!AG:AG,'Vehicle Type Count by Agency'!$I:$I,\">=\"&$B30,'Vehicle Type Count by Agency'!$I:$I,\"<\"&$D30),SUMIFS('Vehicle Type Count by Agency'!AG:AG,'Vehicle Type Count by Agency'!$I:$I,\">=\"&$B30))/IF($A30=\"Between\",SUMIFS('Vehicle Type Count by Agency'!AF:AF,'Vehicle Type Count by Agency'!$I:$I,\">=\"&$B30,'Vehicle Type Count by Agency'!$I:$I,\"<\"&$D30),SUMIFS('Vehicle Type Count by Agency'!AF:AF,'Vehicle Type Count by Agency'!$I:$I,\">=\"&$B30)))),\"\")","v":0.10256410256410256},{"$f":"IFERROR(IF($A30=\"\",\"\",(IF($A30=\"Between\",SUMIFS('Vehicle Type Count by Agency'!AI:AI,'Vehicle Type Count by Agency'!$I:$I,\">=\"&$B30,'Vehicle Type Count by Agency'!$I:$I,\"<\"&$D30),SUMIFS('Vehicle Type Count by Agency'!AI:AI,'Vehicle Type Count by Agency'!$I:$I,\">=\"&$B30))/IF($A30=\"Between\",SUMIFS('Vehicle Type Count by Agency'!AH:AH,'Vehicle Type Count by Agency'!$I:$I,\">=\"&$B30,'Vehicle Type Count by Agency'!$I:$I,\"<\"&$D30),SUMIFS('Vehicle Type Count by Agency'!AH:AH,'Vehicle Type Count by Agency'!$I:$I,\">=\"&$B30)))),\"\")","v":0.35114503816793891},{"$f":"IFERROR(IF($A30=\"\",\"\",(IF($A30=\"Between\",SUMIFS('Vehicle Type Count by Agency'!AK:AK,'Vehicle Type Count by Agency'!$I:$I,\">=\"&$B30,'Vehicle Type Count by Agency'!$I:$I,\"<\"&$D30),SUMIFS('Vehicle Type Count by Agency'!AK:AK,'Vehicle Type Count by Agency'!$I:$I,\">=\"&$B30))/IF($A30=\"Between\",SUMIFS('Vehicle Type Count by Agency'!AJ:AJ,'Vehicle Type Count by Agency'!$I:$I,\">=\"&$B30,'Vehicle Type Count by Agency'!$I:$I,\"<\"&$D30),SUMIFS('Vehicle Type Count by Agency'!AJ:AJ,'Vehicle Type Count by Agency'!$I:$I,\">=\"&$B30)))),\"\")","v":0},{"$f":"IFERROR(IF($A30=\"\",\"\",(IF($A30=\"Between\",SUMIFS('Vehicle Type Count by Agency'!AM:AM,'Vehicle Type Count by Agency'!$I:$I,\">=\"&$B30,'Vehicle Type Count by Agency'!$I:$I,\"<\"&$D30),SUMIFS('Vehicle Type Count by Agency'!AM:AM,'Vehicle Type Count by Agency'!$I:$I,\">=\"&$B30))/IF($A30=\"Between\",SUMIFS('Vehicle Type Count by Agency'!AL:AL,'Vehicle Type Count by Agency'!$I:$I,\">=\"&$B30,'Vehicle Type Count by Agency'!$I:$I,\"<\"&$D30),SUMIFS('Vehicle Type Count by Agency'!AL:AL,'Vehicle Type Count by Agency'!$I:$I,\">=\"&$B30)))),\"\")","v":""},{"$f":"IFERROR(IF($A30=\"\",\"\",(IF($A30=\"Between\",SUMIFS('Vehicle Type Count by Agency'!AO:AO,'Vehicle Type Count by Agency'!$I:$I,\">=\"&$B30,'Vehicle Type Count by Agency'!$I:$I,\"<\"&$D30),SUMIFS('Vehicle Type Count by Agency'!AO:AO,'Vehicle Type Count by Agency'!$I:$I,\">=\"&$B30))/IF($A30=\"Between\",SUMIFS('Vehicle Type Count by Agency'!AN:AN,'Vehicle Type Count by Agency'!$I:$I,\">=\"&$B30,'Vehicle Type Count by Agency'!$I:$I,\"<\"&$D30),SUMIFS('Vehicle Type Count by Agency'!AN:AN,'Vehicle Type Count by Agency'!$I:$I,\">=\"&$B30)))),\"\")","v":0},{"$f":"IFERROR(IF($A30=\"\",\"\",(IF($A30=\"Between\",SUMIFS('Vehicle Type Count by Agency'!AQ:AQ,'Vehicle Type Count by Agency'!$I:$I,\">=\"&$B30,'Vehicle Type Count by Agency'!$I:$I,\"<\"&$D30),SUMIFS('Vehicle Type Count by Agency'!AQ:AQ,'Vehicle Type Count by Agency'!$I:$I,\">=\"&$B30))/IF($A30=\"Between\",SUMIFS('Vehicle Type Count by Agency'!AP:AP,'Vehicle Type Count by Agency'!$I:$I,\">=\"&$B30,'Vehicle Type Count by Agency'!$I:$I,\"<\"&$D30),SUMIFS('Vehicle Type Count by Agency'!AP:AP,'Vehicle Type Count by Agency'!$I:$I,\">=\"&$B30)))),\"\")","v":0},{"$f":"IFERROR(IF($A30=\"\",\"\",(IF($A30=\"Between\",SUMIFS('Vehicle Type Count by Agency'!AS:AS,'Vehicle Type Count by Agency'!$I:$I,\">=\"&$B30,'Vehicle Type Count by Agency'!$I:$I,\"<\"&$D30),SUMIFS('Vehicle Type Count by Agency'!AS:AS,'Vehicle Type Count by Agency'!$I:$I,\">=\"&$B30))/IF($A30=\"Between\",SUMIFS('Vehicle Type Count by Agency'!AR:AR,'Vehicle Type Count by Agency'!$I:$I,\">=\"&$B30,'Vehicle Type Count by Agency'!$I:$I,\"<\"&$D30),SUMIFS('Vehicle Type Count by Agency'!AR:AR,'Vehicle Type Count by Agency'!$I:$I,\">=\"&$B30)))),\"\")","v":""},{"$f":"IFERROR(IF($A30=\"\",\"\",(IF($A30=\"Between\",SUMIFS('Vehicle Type Count by Agency'!AU:AU,'Vehicle Type Count by Agency'!$I:$I,\">=\"&$B30,'Vehicle Type Count by Agency'!$I:$I,\"<\"&$D30),SUMIFS('Vehicle Type Count by Agency'!AU:AU,'Vehicle Type Count by Agency'!$I:$I,\">=\"&$B30))/IF($A30=\"Between\",SUMIFS('Vehicle Type Count by Agency'!AT:AT,'Vehicle Type Count by Agency'!$I:$I,\">=\"&$B30,'Vehicle Type Count by Agency'!$I:$I,\"<\"&$D30),SUMIFS('Vehicle Type Count by Agency'!AT:AT,'Vehicle Type Count by Agency'!$I:$I,\">=\"&$B30)))),\"\")","v":0},{"$f":"IFERROR(IF($A30=\"\",\"\",(IF($A30=\"Between\",SUMIFS('Vehicle Type Count by Agency'!AW:AW,'Vehicle Type Count by Agency'!$I:$I,\">=\"&$B30,'Vehicle Type Count by Agency'!$I:$I,\"<\"&$D30),SUMIFS('Vehicle Type Count by Agency'!AW:AW,'Vehicle Type Count by Agency'!$I:$I,\">=\"&$B30))/IF($A30=\"Between\",SUMIFS('Vehicle Type Count by Agency'!AV:AV,'Vehicle Type Count by Agency'!$I:$I,\">=\"&$B30,'Vehicle Type Count by Agency'!$I:$I,\"<\"&$D30),SUMIFS('Vehicle Type Count by Agency'!AV:AV,'Vehicle Type Count by Agency'!$I:$I,\">=\"&$B30)))),\"\")","v":""},{"$f":"IFERROR(IF($A30=\"\",\"\",(IF($A30=\"Between\",SUMIFS('Vehicle Type Count by Agency'!AY:AY,'Vehicle Type Count by Agency'!$I:$I,\">=\"&$B30,'Vehicle Type Count by Agency'!$I:$I,\"<\"&$D30),SUMIFS('Vehicle Type Count by Agency'!AY:AY,'Vehicle Type Count by Agency'!$I:$I,\">=\"&$B30))/IF($A30=\"Between\",SUMIFS('Vehicle Type Count by Agency'!AX:AX,'Vehicle Type Count by Agency'!$I:$I,\">=\"&$B30,'Vehicle Type Count by Agency'!$I:$I,\"<\"&$D30),SUMIFS('Vehicle Type Count by Agency'!AX:AX,'Vehicle Type Count by Agency'!$I:$I,\">=\"&$B30)))),\"\")","v":""},{"$f":"IFERROR(IF($A30=\"\",\"\",(IF($A30=\"Between\",SUMIFS('Vehicle Type Count by Agency'!BA:BA,'Vehicle Type Count by Agency'!$I:$I,\">=\"&$B30,'Vehicle Type Count by Agency'!$I:$I,\"<\"&$D30),SUMIFS('Vehicle Type Count by Agency'!BA:BA,'Vehicle Type Count by Agency'!$I:$I,\">=\"&$B30))/IF($A30=\"Between\",SUMIFS('Vehicle Type Count by Agency'!AZ:AZ,'Vehicle Type Count by Agency'!$I:$I,\">=\"&$B30,'Vehicle Type Count by Agency'!$I:$I,\"<\"&$D30),SUMIFS('Vehicle Type Count by Agency'!AZ:AZ,'Vehicle Type Count by Agency'!$I:$I,\">=\"&$B30)))),\"\")","v":""},{"$f":"IFERROR(IF($A30=\"\",\"\",(IF($A30=\"Between\",SUMIFS('Vehicle Type Count by Agency'!BC:BC,'Vehicle Type Count by Agency'!$I:$I,\">=\"&$B30,'Vehicle Type Count by Agency'!$I:$I,\"<\"&$D30),SUMIFS('Vehicle Type Count by Agency'!BC:BC,'Vehicle Type Count by Agency'!$I:$I,\">=\"&$B30))/IF($A30=\"Between\",SUMIFS('Vehicle Type Count by Agency'!BB:BB,'Vehicle Type Count by Agency'!$I:$I,\">=\"&$B30,'Vehicle Type Count by Agency'!$I:$I,\"<\"&$D30),SUMIFS('Vehicle Type Count by Agency'!BB:BB,'Vehicle Type Count by Agency'!$I:$I,\">=\"&$B30)))),\"\")","v":""},{"$f":"IFERROR(IF($A30=\"\",\"\",(IF($A30=\"Between\",SUMIFS('Vehicle Type Count by Agency'!BE:BE,'Vehicle Type Count by Agency'!$I:$I,\">=\"&$B30,'Vehicle Type Count by Agency'!$I:$I,\"<\"&$D30),SUMIFS('Vehicle Type Count by Agency'!BE:BE,'Vehicle Type Count by Agency'!$I:$I,\">=\"&$B30))/IF($A30=\"Between\",SUMIFS('Vehicle Type Count by Agency'!BD:BD,'Vehicle Type Count by Agency'!$I:$I,\">=\"&$B30,'Vehicle Type Count by Agency'!$I:$I,\"<\"&$D30),SUMIFS('Vehicle Type Count by Agency'!BD:BD,'Vehicle Type Count by Agency'!$I:$I,\">=\"&$B30)))),\"\")","v":0.11764705882352941},{"$f":"IFERROR(IF($A30=\"\",\"\",(IF($A30=\"Between\",SUMIFS('Vehicle Type Count by Agency'!BG:BG,'Vehicle Type Count by Agency'!$I:$I,\">=\"&$B30,'Vehicle Type Count by Agency'!$I:$I,\"<\"&$D30),SUMIFS('Vehicle Type Count by Agency'!BG:BG,'Vehicle Type Count by Agency'!$I:$I,\">=\"&$B30))/IF($A30=\"Between\",SUMIFS('Vehicle Type Count by Agency'!BF:BF,'Vehicle Type Count by Agency'!$I:$I,\">=\"&$B30,'Vehicle Type Count by Agency'!$I:$I,\"<\"&$D30),SUMIFS('Vehicle Type Count by Agency'!BF:BF,'Vehicle Type Count by Agency'!$I:$I,\">=\"&$B30)))),\"\")","v":""},{"$f":"IFERROR(IF($A30=\"\",\"\",(IF($A30=\"Between\",SUMIFS('Vehicle Type Count by Agency'!BI:BI,'Vehicle Type Count by Agency'!$I:$I,\">=\"&$B30,'Vehicle Type Count by Agency'!$I:$I,\"<\"&$D30),SUMIFS('Vehicle Type Count by Agency'!BI:BI,'Vehicle Type Count by Agency'!$I:$I,\">=\"&$B30))/IF($A30=\"Between\",SUMIFS('Vehicle Type Count by Agency'!BH:BH,'Vehicle Type Count by Agency'!$I:$I,\">=\"&$B30,'Vehicle Type Count by Agency'!$I:$I,\"<\"&$D30),SUMIFS('Vehicle Type Count by Agency'!BH:BH,'Vehicle Type Count by Agency'!$I:$I,\">=\"&$B30)))),\"\")","v":0.15799106421919579}]
["Between",500,"and",1000,"Between 500 and 1,000",{"$f":"IFERROR(IF($A31=\"\",\"\",(IF($A31=\"Between\",SUMIFS('Vehicle Type Count by Agency'!K:K,'Vehicle Type Count by Agency'!$I:$I,\">=\"&$B31,'Vehicle Type Count by Agency'!$I:$I,\"<\"&$D31),SUMIFS('Vehicle Type Count by Agency'!K:K,'Vehicle Type Count by Agency'!$I:$I,\">=\"&$B31))/IF($A31=\"Between\",SUMIFS('Vehicle Type Count by Agency'!J:J,'Vehicle Type Count by Agency'!$I:$I,\">=\"&$B31,'Vehicle Type Count by Agency'!$I:$I,\"<\"&$D31),SUMIFS('Vehicle Type Count by Agency'!J:J,'Vehicle Type Count by Agency'!$I:$I,\">=\"&$B31)))),\"\")","v":0.14568499003133009},{"$f":"IFERROR(IF($A31=\"\",\"\",(IF($A31=\"Between\",SUMIFS('Vehicle Type Count by Agency'!M:M,'Vehicle Type Count by Agency'!$I:$I,\">=\"&$B31,'Vehicle Type Count by Agency'!$I:$I,\"<\"&$D31),SUMIFS('Vehicle Type Count by Agency'!M:M,'Vehicle Type Count by Agency'!$I:$I,\">=\"&$B31))/IF($A31=\"Between\",SUMIFS('Vehicle Type Count by Agency'!L:L,'Vehicle Type Count by Agency'!$I:$I,\">=\"&$B31,'Vehicle Type Count by Agency'!$I:$I,\"<\"&$D31),SUMIFS('Vehicle Type Count by Agency'!L:L,'Vehicle Type Count by Agency'!$I:$I,\">=\"&$B31)))),\"\")","v":0.11993243243243243},{"$f":"IFERROR(IF($A31=\"\",\"\",(IF($A31=\"Between\",SUMIFS('Vehicle Type Count by Agency'!O:O,'Vehicle Type Count by Agency'!$I:$I,\">=\"&$B31,'Vehicle Type Count by Agency'!$I:$I,\"<\"&$D31),SUMIFS('Vehicle Type Count by Agency'!O:O,'Vehicle Type Count by Agency'!$I:$I,\">=\"&$B31))/IF($A31=\"Between\",SUMIFS('Vehicle Type Count by Agency'!N:N,'Vehicle Type Count by Agency'!$I:$I,\">=\"&$B31,'Vehicle Type Count by Agency'!$I:$I,\"<\"&$D31),SUMIFS('Vehicle Type Count by Agency'!N:N,'Vehicle Type Count by Agency'!$I:$I,\">=\"&$B31)))),\"\")","v":0.18241042345276873},{"$f":"IFERROR(IF($A31=\"\",\"\",(IF($A31=\"Between\",SUMIFS('Vehicle Type Count by Agency'!Q:Q,'Vehicle Type Count by Agency'!$I:$I,\">=\"&$B31,'Vehicle Type Count by Agency'!$I:$I,\"<\"&$D31),SUMIFS('Vehicle Type Count by Agency'!Q:Q,'Vehicle Type Count by Agency'!$I:$I,\">=\"&$B31))/IF($A31=\"Between\",SUMIFS('Vehicle Type Count by Agency'!P:P,'Vehicle Type Count by Agency'!$I:$I,\">=\"&$B31,'Vehicle Type Count by Agency'!$I:$I,\"<\"&$D31),SUMIFS('Vehicle Type Count by Agency'!P:P,'Vehicle Type Count by Agency'!$I:$I,\">=\"&$B31)))),\"\")","v":0},{"$f":"IFERROR(IF($A31=\"\",\"\",(IF($A31=\"Between\",SUMIFS('Vehicle Type Count by Agency'!S:S,'Vehicle Type Count by Agency'!$I:$I,\">=\"&$B31,'Vehicle Type Count by Agency'!$I:$I,\"<\"&$D31),SUMIFS('Vehicle Type Count by Agency'!S:S,'Vehicle Type Count by Agency'!$I:$I,\">=\"&$B31))/IF($A31=\"Between\",SUMIFS('Vehicle Type Count by Agency'!R:R,'Vehicle Type Count by Agency'!$I:$I,\">=\"&$B31,'Vehicle Type Count by Agency'!$I:$I,\"<\"&$D31),SUMIFS('Vehicle Type Count by Agency'!R:R,'Vehicle Type Count by Agency'!$I:$I,\">=\"&$B31)))),\"\")","v":""},{"$f":"IFERROR(IF($A31=\"\",\"\",(IF($A31=\"Between\",SUMIFS('Vehicle Type Count by Agency'!U:U,'Vehicle Type Count by Agency'!$I:$I,\">=\"&$B31,'Vehicle Type Count by Agency'!$I:$I,\"<\"&$D31),SUMIFS('Vehicle Type Count by Agency'!U:U,'Vehicle Type Count by Agency'!$I:$I,\">=\"&$B31))/IF($A31=\"Between\",SUMIFS('Vehicle Type Count by Agency'!T:T,'Vehicle Type Count by Agency'!$I:$I,\">=\"&$B31,'Vehicle Type Count by Agency'!$I:$I,\"<\"&$D31),SUMIFS('Vehicle Type Count by Agency'!T:T,'Vehicle Type Count by Agency'!$I:$I,\">=\"&$B31)))),\"\")","v":9.5461658841940536E-2},{"$f":"IFERROR(IF($A31=\"\",\"\",(IF($A31=\"Between\",SUMIFS('Vehicle Type Count by Agency'!W:W,'Vehicle Type Count by Agency'!$I:$I,\">=\"&$B31,'Vehicle Type Count by Agency'!$I:$I,\"<\"&$D31),SUMIFS('Vehicle Type Count by Agency'!W:W,'Vehicle Type Count by Agency'!$I:$I,\">=\"&$B31))/IF($A31=\"Between\",SUMIFS('Vehicle Type Count by Agency'!V:V,'Vehicle Type Count by Agency'!$I:$I,\">=\"&$B31,'Vehicle Type Count by Agency'!$I:$I,\"<\"&$D31),SUMIFS('Vehicle Type Count by Agency'!V:V,'Vehicle Type Count by Agency'!$I:$I,\">=\"&$B31)))),\"\")","v":0.13112617309697602},{"$f":"IFERROR(IF($A31=\"\",\"\",(IF($A31=\"Between\",SUMIFS('Vehicle Type Count by Agency'!Y:Y,'Vehicle Type Count by Agency'!$I:$I,\">=\"&$B31,'Vehicle Type Count by Agency'!$I:$I,\"<\"&$D31),SUMIFS('Vehicle Type Count by Agency'!Y:Y,'Vehicle Type Count by Agency'!$I:$I,\">=\"&$B31))/IF($A31=\"Between\",SUMIFS('Vehicle Type Count by Agency'!X:X,'Vehicle Type Count by Agency'!$I:$I,\">=\"&$B31,'Vehicle Type Count by Agency'!$I:$I,\"<\"&$D31),SUMIFS('Vehicle Type Count by Agency'!X:X,'Vehicle Type Count by Agency'!$I:$I,\">=\"&$B31)))),\"\")","v":9.2348284960422161E-2},{"$f":"IFERROR(IF($A31=\"\",\"\",(IF($A31=\"Between\",SUMIFS('Vehicle Type Count by Agency'!AA:AA,'Vehicle Type Count by Agency'!$I:$I,\">=\"&$B31,'Vehicle Type Count by Agency'!$I:$I,\"<\"&$D31),SUMIFS('Vehicle Type Count by Agency'!AA:AA,'Vehicle Type Count by Agency'!$I:$I,\">=\"&$B31))/IF($A31=\"Between\",SUMIFS('Vehicle Type Count by Agency'!Z:Z,'Vehicle Type Count by Agency'!$I:$I,\">=\"&$B31,'Vehicle Type Count by Agency'!$I:$I,\"<\"&$D31),SUMIFS('Vehicle Type Count by Agency'!Z:Z,'Vehicle Type Count by Agency'!$I:$I,\">=\"&$B31)))),\"\")","v":0.17841409691629956},{"$f":"IFERROR(IF($A31=\"\",\"\",(IF($A31=\"Between\",SUMIFS('Vehicle Type Count by Agency'!AC:AC,'Vehicle Type Count by Agency'!$I:$I,\">=\"&$B31,'Vehicle Type Count by Agency'!$I:$I,\"<\"&$D31),SUMIFS('Vehicle Type Count by Agency'!AC:AC,'Vehicle Type Count by Agency'!$I:$I,\">=\"&$B31))/IF($A31=\"Between\",SUMIFS('Vehicle Type Count by Agency'!AB:AB,'Vehicle Type Count by Agency'!$I:$I,\">=\"&$B31,'Vehicle Type Count by Agency'!$I:$I,\"<\"&$D31),SUMIFS('Vehicle Type Count by Agency'!AB:AB,'Vehicle Type Count by Agency'!$I:$I,\">=\"&$B31)))),\"\")","v":0.145985401459854},{"$f":"IFERROR(IF($A31=\"\",\"\",(IF($A31=\"Between\",SUMIFS('Vehicle Type Count by Agency'!AE:AE,'Vehicle Type Count by Agency'!$I:$I,\">=\"&$B31,'Vehicle Type Count by Agency'!$I:$I,\"<\"&$D31),SUMIFS('Vehicle Type Count by Agency'!AE:AE,'Vehicle Type Count by Agency'!$I:$I,\">=\"&$B31))/IF($A31=\"Between\",SUMIFS('Vehicle Type Count by Agency'!AD:AD,'Vehicle Type Count by Agency'!$I:$I,\">=\"&$B31,'Vehicle Type Count by Agency'!$I:$I,\"<\"&$D31),SUMIFS('Vehicle Type Count by Agency'!AD:AD,'Vehicle Type Count by Agency'!$I:$I,\">=\"&$B31)))),\"\")","v":""},{"$f":"IFERROR(IF($A31=\"\",\"\",(IF($A31=\"Between\",SUMIFS('Vehicle Type Count by Agency'!AG:AG,'Vehicle Type Count by Agency'!$I:$I,\">=\"&$B31,'Vehicle Type Count by Agency'!$I:$I,\"<\"&$D31),SUMIFS('Vehicle Type Count by Agency'!AG:AG,'Vehicle Type Count by Agency'!$I:$I,\">=\"&$B31))/IF($A31=\"Between\",SUMIFS('Vehicle Type Count by Agency'!AF:AF,'Vehicle Type Count by Agency'!$I:$I,\">=\"&$B31,'Vehicle Type Count by Agency'!$I:$I,\"<\"&$D31),SUMIFS('Vehicle Type Count by Agency'!AF:AF,'Vehicle Type Count by Agency'!$I:$I,\">=\"&$B31)))),\"\")","v":0.59136546184738958},{"$f":"IFERROR(IF($A31=\"\",\"\",(IF($A31=\"Between\",SUMIFS('Vehicle Type Count by Agency'!AI:AI,'Vehicle Type Count by Agency'!$I:$I,\">=\"&$B31,'Vehicle Type Count by Agency'!$I:$I,\"<\"&$D31),SUMIFS('Vehicle Type Count by Agency'!AI:AI,'Vehicle Type Count by Agency'!$I:$I,\">=\"&$B31))/IF($A31=\"Between\",SUMIFS('Vehicle Type Count by Agency'!AH:AH,'Vehicle Type Count by Agency'!$I:$I,\">=\"&$B31,'Vehicle Type Count by Agency'!$I:$I,\"<\"&$D31),SUMIFS('Vehicle Type Count by Agency'!AH:AH,'Vehicle Type Count by Agency'!$I:$I,\">=\"&$B31)))),\"\")","v":0},{"$f":"IFERROR(IF($A31=\"\",\"\",(IF($A31=\"Between\",SUMIFS('Vehicle Type Count by Agency'!AK:AK,'Vehicle Type Count by Agency'!$I:$I,\">=\"&$B31,'Vehicle Type Count by Agency'!$I:$I,\"<\"&$D31),SUMIFS('Vehicle Type Count by Agency'!AK:AK,'Vehicle Type Count by Agency'!$I:$I,\">=\"&$B31))/IF($A31=\"Between\",SUMIFS('Vehicle Type Count by Agency'!AJ:AJ,'Vehicle Type Count by Agency'!$I:$I,\">=\"&$B31,'Vehicle Type Count by Agency'!$I:$I,\"<\"&$D31),SUMIFS('Vehicle Type Count by Agency'!AJ:AJ,'Vehicle Type Count by Agency'!$I:$I,\">=\"&$B31)))),\"\")","v":0},{"$f":"IFERROR(IF($A31=\"\",\"\",(IF($A31=\"Between\",SUMIFS('Vehicle Type Count by Agency'!AM:AM,'Vehicle Type Count by Agency'!$I:$I,\">=\"&$B31,'Vehicle Type Count by Agency'!$I:$I,\"<\"&$D31),SUMIFS('Vehicle Type Count by Agency'!AM:AM,'Vehicle Type Count by Agency'!$I:$I,\">=\"&$B31))/IF($A31=\"Between\",SUMIFS('Vehicle Type Count by Agency'!AL:AL,'Vehicle Type Count by Agency'!$I:$I,\">=\"&$B31,'Vehicle Type Count by Agency'!$I:$I,\"<\"&$D31),SUMIFS('Vehicle Type Count by Agency'!AL:AL,'Vehicle Type Count by Agency'!$I:$I,\">=\"&$B31)))),\"\")","v":8.6956521739130432E-2},{"$f":"IFERROR(IF($A31=\"\",\"\",(IF($A31=\"Between\",SUMIFS('Vehicle Type Count by Agency'!AO:AO,'Vehicle Type Count by Agency'!$I:$I,\">=\"&$B31,'Vehicle Type Count by Agency'!$I:$I,\"<\"&$D31),SUMIFS('Vehicle Type Count by Agency'!AO:AO,'Vehicle Type Count by Agency'!$I:$I,\">=\"&$B31))/IF($A31=\"Between\",SUMIFS('Vehicle Type Count by Agency'!AN:AN,'Vehicle Type Count by Agency'!$I:$I,\">=\"&$B31,'Vehicle Type Count by Agency'!$I:$I,\"<\"&$D31),SUMIFS('Vehicle Type Count by Agency'!AN:AN,'Vehicle Type Count by Agency'!$I:$I,\">=\"&$B31)))),\"\")","v":0},{"$f":"IFERROR(IF($A31=\"\",\"\",(IF($A31=\"Between\",SUMIFS('Vehicle Type Count by Agency'!AQ:AQ,'Vehicle Type Count by Agency'!$I:$I,\">=\"&$B31,'Vehicle Type Count by Agency'!$I:$I,\"<\"&$D31),SUMIFS('Vehicle Type Count by Agency'!AQ:AQ,'Vehicle Type Count by Agency'!$I:$I,\">=\"&$B31))/IF($A31=\"Between\",SUMIFS('Vehicle Type Count by Agency'!AP:AP,'Vehicle Type Count by Agency'!$I:$I,\">=\"&$B31,'Vehicle Type Count by Agency'!$I:$I,\"<\"&$D31),SUMIFS('Vehicle Type Count by Agency'!AP:AP,'Vehicle Type Count by Agency'!$I:$I,\">=\"&$B31)))),\"\")","v":0},{"$f":"IFERROR(IF($A31=\"\",\"\",(IF($A31=\"Between\",SUMIFS('Vehicle Type Count by Agency'!AS:AS,'Vehicle Type Count by Agency'!$I:$I,\">=\"&$B31,'Vehicle Type Count by Agency'!$I:$I,\"<\"&$D31),SUMIFS('Vehicle Type Count by Agency'!AS:AS,'Vehicle Type Count by Agency'!$I:$I,\">=\"&$B31))/IF($A31=\"Between\",SUMIFS('Vehicle Type Count by Agency'!AR:AR,'Vehicle Type Count by Agency'!$I:$I,\">=\"&$B31,'Vehicle Type Count by Agency'!$I:$I,\"<\"&$D31),SUMIFS('Vehicle Type Count by Agency'!AR:AR,'Vehicle Type Count by Agency'!$I:$I,\">=\"&$B31)))),\"\")","v":1},{"$f":"IFERROR(IF($A31=\"\",\"\",(IF($A31=\"Between\",SUMIFS('Vehicle Type Count by Agency'!AU:AU,'Vehicle Type Count by Agency'!$I:$I,\">=\"&$B31,'Vehicle Type Count by Agency'!$I:$I,\"<\"&$D31),SUMIFS('Vehicle Type Count by Agency'!AU:AU,'Vehicle Type Count by Agency'!$I:$I,\">=\"&$B31))/IF($A31=\"Between\",SUMIFS('Vehicle Type Count by Agency'!AT:AT,'Vehicle Type Count by Agency'!$I:$I,\">=\"&$B31,'Vehicle Type Count by Agency'!$I:$I,\"<\"&$D31),SUMIFS('Vehicle Type Count by Agency'!AT:AT,'Vehicle Type Count by Agency'!$I:$I,\">=\"&$B31)))),\"\")","v":""},{"$f":"IFERROR(IF($A31=\"\",\"\",(IF($A31=\"Between\",SUMIFS('Vehicle Type Count by Agency'!AW:AW,'Vehicle Type Count by Agency'!$I:$I,\">=\"&$B31,'Vehicle Type Count by Agency'!$I:$I,\"<\"&$D31),SUMIFS('Vehicle Type Count by Agency'!AW:AW,'Vehicle Type Count by Agency'!$I:$I,\">=\"&$B31))/IF($A31=\"Between\",SUMIFS('Vehicle Type Count by Agency'!AV:AV,'Vehicle Type Count by Agency'!$I:$I,\">=\"&$B31,'Vehicle Type Count by Agency'!$I:$I,\"<\"&$D31),SUMIFS('Vehicle Type Count by Agency'!AV:AV,'Vehicle Type Count by Agency'!$I:$I,\">=\"&$B31)))),\"\")","v":""},{"$f":"IFERROR(IF($A31=\"\",\"\",(IF($A31=\"Between\",SUMIFS('Vehicle Type Count by Agency'!AY:AY,'Vehicle Type Count by Agency'!$I:$I,\">=\"&$B31,'Vehicle Type Count by Agency'!$I:$I,\"<\"&$D31),SUMIFS('Vehicle Type Count by Agency'!AY:AY,'Vehicle Type Count by Agency'!$I:$I,\">=\"&$B31))/IF($A31=\"Between\",SUMIFS('Vehicle Type Count by Agency'!AX:AX,'Vehicle Type Count by Agency'!$I:$I,\">=\"&$B31,'Vehicle Type Count by Agency'!$I:$I,\"<\"&$D31),SUMIFS('Vehicle Type Count by Agency'!AX:AX,'Vehicle Type Count by Agency'!$I:$I,\">=\"&$B31)))),\"\")","v":""},{"$f":"IFERROR(IF($A31=\"\",\"\",(IF($A31=\"Between\",SUMIFS('Vehicle Type Count by Agency'!BA:BA,'Vehicle Type Count by Agency'!$I:$I,\">=\"&$B31,'Vehicle Type Count by Agency'!$I:$I,\"<\"&$D31),SUMIFS('Vehicle Type Count by Agency'!BA:BA,'Vehicle Type Count by Agency'!$I:$I,\">=\"&$B31))/IF($A31=\"Between\",SUMIFS('Vehicle Type Count by Agency'!AZ:AZ,'Vehicle Type Count by Agency'!$I:$I,\">=\"&$B31,'Vehicle Type Count by Agency'!$I:$I,\"<\"&$D31),SUMIFS('Vehicle Type Count by Agency'!AZ:AZ,'Vehicle Type Count by Agency'!$I:$I,\">=\"&$B31)))),\"\")","v":""},{"$f":"IFERROR(IF($A31=\"\",\"\",(IF($A31=\"Between\",SUMIFS('Vehicle Type Count by Agency'!BC:BC,'Vehicle Type Count by Agency'!$I:$I,\">=\"&$B31,'Vehicle Type Count by Agency'!$I:$I,\"<\"&$D31),SUMIFS('Vehicle Type Count by Agency'!BC:BC,'Vehicle Type Count by Agency'!$I:$I,\">=\"&$B31))/IF($A31=\"Between\",SUMIFS('Vehicle Type Count by Agency'!BB:BB,'Vehicle Type Count by Agency'!$I:$I,\">=\"&$B31,'Vehicle Type Count by Agency'!$I:$I,\"<\"&$D31),SUMIFS('Vehicle Type Count by Agency'!BB:BB,'Vehicle Type Count by Agency'!$I:$I,\">=\"&$B31)))),\"\")","v":1},{"$f":"IFERROR(IF($A31=\"\",\"\",(IF($A31=\"Between\",SUMIFS('Vehicle Type Count by Agency'!BE:BE,'Vehicle Type Count by Agency'!$I:$I,\">=\"&$B31,'Vehicle Type Count by Agency'!$I:$I,\"<\"&$D31),SUMIFS('Vehicle Type Count by Agency'!BE:BE,'Vehicle Type Count by Agency'!$I:$I,\">=\"&$B31))/IF($A31=\"Between\",SUMIFS('Vehicle Type Count by Agency'!BD:BD,'Vehicle Type Count by Agency'!$I:$I,\">=\"&$B31,'Vehicle Type Count by Agency'!$I:$I,\"<\"&$D31),SUMIFS('Vehicle Type Count by Agency'!BD:BD,'Vehicle Type Count by Agency'!$I:$I,\">=\"&$B31)))),\"\")","v":""},{"$f":"IFERROR(IF($A31=\"\",\"\",(IF($A31=\"Between\",SUMIFS('Vehicle Type Count by Agency'!BG:BG,'Vehicle Type Count by Agency'!$I:$I,\">=\"&$B31,'Vehicle Type Count by Agency'!$I:$I,\"<\"&$D31),SUMIFS('Vehicle Type Count by Agency'!BG:BG,'Vehicle Type Count by Agency'!$I:$I,\">=\"&$B31))/IF($A31=\"Between\",SUMIFS('Vehicle Type Count by Agency'!BF:BF,'Vehicle Type Count by Agency'!$I:$I,\">=\"&$B31,'Vehicle Type Count by Agency'!$I:$I,\"<\"&$D31),SUMIFS('Vehicle Type Count by Agency'!BF:BF,'Vehicle Type Count by Agency'!$I:$I,\">=\"&$B31)))),\"\")","v":1},{"$f":"IFERROR(IF($A31=\"\",\"\",(IF($A31=\"Between\",SUMIFS('Vehicle Type Count by Agency'!BI:BI,'Vehicle Type Count by Agency'!$I:$I,\">=\"&$B31,'Vehicle Type Count by Agency'!$I:$I,\"<\"&$D31),SUMIFS('Vehicle Type Count by Agency'!BI:BI,'Vehicle Type Count by Agency'!$I:$I,\">=\"&$B31))/IF($A31=\"Between\",SUMIFS('Vehicle Type Count by Agency'!BH:BH,'Vehicle Type Count by Agency'!$I:$I,\">=\"&$B31,'Vehicle Type Count by Agency'!$I:$I,\"<\"&$D31),SUMIFS('Vehicle Type Count by Agency'!BH:BH,'Vehicle Type Count by Agency'!$I:$I,\">=\"&$B31)))),\"\")","v":0.14738186462324393}]
["Between",1000,"and",2000,"Between 1,000 and 2,000",{"$f":"IFERROR(IF($A32=\"\",\"\",(IF($A32=\"Between\",SUMIFS('Vehicle Type Count by Agency'!K:K,'Vehicle Type Count by Agency'!$I:$I,\">=\"&$B32,'Vehicle Type Count by Agency'!$I:$I,\"<\"&$D32),SUMIFS('Vehicle Type Count by Agency'!K:K,'Vehicle Type Count by Agency'!$I:$I,\">=\"&$B32))/IF($A32=\"Between\",SUMIFS('Vehicle Type Count by Agency'!J:J,'Vehicle Type Count by Agency'!$I:$I,\">=\"&$B32,'Vehicle Type Count by Agency'!$I:$I,\"<\"&$D32),SUMIFS('Vehicle Type Count by Agency'!J:J,'Vehicle Type Count by Agency'!$I:$I,\">=\"&$B32)))),\"\")","v":0.12343722486353231},{"$f":"IFERROR(IF($A32=\"\",\"\",(IF($A32=\"Between\",SUMIFS('Vehicle Type Count by Agency'!M:M,'Vehicle Type Count by Agency'!$I:$I,\">=\"&$B32,'Vehicle Type Count by Agency'!$I:$I,\"<\"&$D32),SUMIFS('Vehicle Type Count by Agency'!M:M,'Vehicle Type Count by Agency'!$I:$I,\">=\"&$B32))/IF($A32=\"Between\",SUMIFS('Vehicle Type Count by Agency'!L:L,'Vehicle Type Count by Agency'!$I:$I,\">=\"&$B32,'Vehicle Type Count by Agency'!$I:$I,\"<\"&$D32),SUMIFS('Vehicle Type Count by Agency'!L:L,'Vehicle Type Count by Agency'!$I:$I,\">=\"&$B32)))),\"\")","v":5.1912568306010931E-2},{"$f":"IFERROR(IF($A32=\"\",\"\",(IF($A32=\"Between\",SUMIFS('Vehicle Type Count by Agency'!O:O,'Vehicle Type Count by Agency'!$I:$I,\">=\"&$B32,'Vehicle Type Count by Agency'!$I:$I,\"<\"&$D32),SUMIFS('Vehicle Type Count by Agency'!O:O,'Vehicle Type Count by Agency'!$I:$I,\">=\"&$B32))/IF($A32=\"Between\",SUMIFS('Vehicle Type Count by Agency'!N:N,'Vehicle Type Count by Agency'!$I:$I,\">=\"&$B32,'Vehicle Type Count by Agency'!$I:$I,\"<\"&$D32),SUMIFS('Vehicle Type Count by Agency'!N:N,'Vehicle Type Count by Agency'!$I:$I,\">=\"&$B32)))),\"\")","v":0.32235084594835262},{"$f":"IFERROR(IF($A32=\"\",\"\",(IF($A32=\"Between\",SUMIFS('Vehicle Type Count by Agency'!Q:Q,'Vehicle Type Count by Agency'!$I:$I,\">=\"&$B32,'Vehicle Type Count by Agency'!$I:$I,\"<\"&$D32),SUMIFS('Vehicle Type Count by Agency'!Q:Q,'Vehicle Type Count by Agency'!$I:$I,\">=\"&$B32))/IF($A32=\"Between\",SUMIFS('Vehicle Type Count by Agency'!P:P,'Vehicle Type Count by Agency'!$I:$I,\">=\"&$B32,'Vehicle Type Count by Agency'!$I:$I,\"<\"&$D32),SUMIFS('Vehicle Type Count by Agency'!P:P,'Vehicle Type Count by Agency'!$I:$I,\">=\"&$B32)))),\"\")","v":""},{"$f":"IFERROR(IF($A32=\"\",\"\",(IF($A32=\"Between\",SUMIFS('Vehicle Type Count by Agency'!S:S,'Vehicle Type Count by Agency'!$I:$I,\">=\"&$B32,'Vehicle Type Count by Agency'!$I:$I,\"<\"&$D32),SUMIFS('Vehicle Type Count by Agency'!S:S,'Vehicle Type Count by Agency'!$I:$I,\">=\"&$B32))/IF($A32=\"Between\",SUMIFS('Vehicle Type Count by Agency'!R:R,'Vehicle Type Count by Agency'!$I:$I,\">=\"&$B32,'Vehicle Type Count by Agency'!$I:$I,\"<\"&$D32),SUMIFS('Vehicle Type Count by Agency'!R:R,'Vehicle Type Count by Agency'!$I:$I,\">=\"&$B32)))),\"\")","v":""},{"$f":"IFERROR(IF($A32=\"\",\"\",(IF($A32=\"Between\",SUMIFS('Vehicle Type Count by Agency'!U:U,'Vehicle Type Count by Agency'!$I:$I,\">=\"&$B32,'Vehicle Type Count by Agency'!$I:$I,\"<\"&$D32),SUMIFS('Vehicle Type Count by Agency'!U:U,'Vehicle Type Count by Agency'!$I:$I,\">=\"&$B32))/IF($A32=\"Between\",SUMIFS('Vehicle Type Count by Agency'!T:T,'Vehicle Type Count by Agency'!$I:$I,\">=\"&$B32,'Vehicle Type Count by Agency'!$I:$I,\"<\"&$D32),SUMIFS('Vehicle Type Count by Agency'!T:T,'Vehicle Type Count by Agency'!$I:$I,\">=\"&$B32)))),\"\")","v":7.5286415711947621E-2},{"$f":"IFERROR(IF($A32=\"\",\"\",(IF($A32=\"Between\",SUMIFS('Vehicle Type Count by Agency'!W:W,'Vehicle Type Count by Agency'!$I:$I,\">=\"&$B32,'Vehicle Type Count by Agency'!$I:$I,\"<\"&$D32),SUMIFS('Vehicle Type Count by Agency'!W:W,'Vehicle Type Count by Agency'!$I:$I,\">=\"&$B32))/IF($A32=\"Between\",SUMIFS('Vehicle Type Count by Agency'!V:V,'Vehicle Type Count by Agency'!$I:$I,\">=\"&$B32,'Vehicle Type Count by Agency'!$I:$I,\"<\"&$D32),SUMIFS('Vehicle Type Count by Agency'!V:V,'Vehicle Type Count by Agency'!$I:$I,\">=\"&$B32)))),\"\")","v":0.18184851518184852},{"$f":"IFERROR(IF($A32=\"\",\"\",(IF($A32=\"Between\",SUMIFS('Vehicle Type Count by Agency'!Y:Y,'Vehicle Type Count by Agency'!$I:$I,\">=\"&$B32,'Vehicle Type Count by Agency'!$I:$I,\"<\"&$D32),SUMIFS('Vehicle Type Count by Agency'!Y:Y,'Vehicle Type Count by Agency'!$I:$I,\">=\"&$B32))/IF($A32=\"Between\",SUMIFS('Vehicle Type Count by Agency'!X:X,'Vehicle Type Count by Agency'!$I:$I,\">=\"&$B32,'Vehicle Type Count by Agency'!$I:$I,\"<\"&$D32),SUMIFS('Vehicle Type Count by Agency'!X:X,'Vehicle Type Count by Agency'!$I:$I,\">=\"&$B32)))),\"\")","v":1.7743080198722497E-3},{"$f":"IFERROR(IF($A32=\"\",\"\",(IF($A32=\"Between\",SUMIFS('Vehicle Type Count by Agency'!AA:AA,'Vehicle Type Count by Agency'!$I:$I,\">=\"&$B32,'Vehicle Type Count by Agency'!$I:$I,\"<\"&$D32),SUMIFS('Vehicle Type Count by Agency'!AA:AA,'Vehicle Type Count by Agency'!$I:$I,\">=\"&$B32))/IF($A32=\"Between\",SUMIFS('Vehicle Type Count by Agency'!Z:Z,'Vehicle Type Count by Agency'!$I:$I,\">=\"&$B32,'Vehicle Type Count by Agency'!$I:$I,\"<\"&$D32),SUMIFS('Vehicle Type Count by Agency'!Z:Z,'Vehicle Type Count by Agency'!$I:$I,\">=\"&$B32)))),\"\")","v":6.3492063492063489E-2},{"$f":"IFERROR(IF($A32=\"\",\"\",(IF($A32=\"Between\",SUMIFS('Vehicle Type Count by Agency'!AC:AC,'Vehicle Type Count by Agency'!$I:$I,\">=\"&$B32,'Vehicle Type Count by Agency'!$I:$I,\"<\"&$D32),SUMIFS('Vehicle Type Count by Agency'!AC:AC,'Vehicle Type Count by Agency'!$I:$I,\">=\"&$B32))/IF($A32=\"Between\",SUMIFS('Vehicle Type Count by Agency'!AB:AB,'Vehicle Type Count by Agency'!$I:$I,\">=\"&$B32,'Vehicle Type Count by Agency'!$I:$I,\"<\"&$D32),SUMIFS('Vehicle Type Count by Agency'!AB:AB,'Vehicle Type Count by Agency'!$I:$I,\">=\"&$B32)))),\"\")","v":0},{"$f":"IFERROR(IF($A32=\"\",\"\",(IF($A32=\"Between\",SUMIFS('Vehicle Type Count by Agency'!AE:AE,'Vehicle Type Count by Agency'!$I:$I,\">=\"&$B32,'Vehicle Type Count by Agency'!$I:$I,\"<\"&$D32),SUMIFS('Vehicle Type Count by Agency'!AE:AE,'Vehicle Type Count by Agency'!$I:$I,\">=\"&$B32))/IF($A32=\"Between\",SUMIFS('Vehicle Type Count by Agency'!AD:AD,'Vehicle Type Count by Agency'!$I:$I,\">=\"&$B32,'Vehicle Type Count by Agency'!$I:$I,\"<\"&$D32),SUMIFS('Vehicle Type Count by Agency'!AD:AD,'Vehicle Type Count by Agency'!$I:$I,\">=\"&$B32)))),\"\")","v":0.63009404388714729},{"$f":"IFERROR(IF($A32=\"\",\"\",(IF($A32=\"Between\",SUMIFS('Vehicle Type Count by Agency'!AG:AG,'Vehicle Type Count by Agency'!$I:$I,\">=\"&$B32,'Vehicle Type Count by Agency'!$I:$I,\"<\"&$D32),SUMIFS('Vehicle Type Count by Agency'!AG:AG,'Vehicle Type Count by Agency'!$I:$I,\">=\"&$B32))/IF($A32=\"Between\",SUMIFS('Vehicle Type Count by Agency'!AF:AF,'Vehicle Type Count by Agency'!$I:$I,\">=\"&$B32,'Vehicle Type Count by Agency'!$I:$I,\"<\"&$D32),SUMIFS('Vehicle Type Count by Agency'!AF:AF,'Vehicle Type Count by Agency'!$I:$I,\">=\"&$B32)))),\"\")","v":0.84955752212389379},{"$f":"IFERROR(IF($A32=\"\",\"\",(IF($A32=\"Between\",SUMIFS('Vehicle Type Count by Agency'!AI:AI,'Vehicle Type Count by Agency'!$I:$I,\">=\"&$B32,'Vehicle Type Count by Agency'!$I:$I,\"<\"&$D32),SUMIFS('Vehicle Type Count by Agency'!AI:AI,'Vehicle Type Count by Agency'!$I:$I,\">=\"&$B32))/IF($A32=\"Between\",SUMIFS('Vehicle Type Count by Agency'!AH:AH,'Vehicle Type Count by Agency'!$I:$I,\">=\"&$B32,'Vehicle Type Count by Agency'!$I:$I,\"<\"&$D32),SUMIFS('Vehicle Type Count by Agency'!AH:AH,'Vehicle Type Count by Agency'!$I:$I,\">=\"&$B32)))),\"\")","v":0},{"$f":"IFERROR(IF($A32=\"\",\"\",(IF($A32=\"Between\",SUMIFS('Vehicle Type Count by Agency'!AK:AK,'Vehicle Type Count by Agency'!$I:$I,\">=\"&$B32,'Vehicle Type Count by Agency'!$I:$I,\"<\"&$D32),SUMIFS('Vehicle Type Count by Agency'!AK:AK,'Vehicle Type Count by Agency'!$I:$I,\">=\"&$B32))/IF($A32=\"Between\",SUMIFS('Vehicle Type Count by Agency'!AJ:AJ,'Vehicle Type Count by Agency'!$I:$I,\">=\"&$B32,'Vehicle Type Count by Agency'!$I:$I,\"<\"&$D32),SUMIFS('Vehicle Type Count by Agency'!AJ:AJ,'Vehicle Type Count by Agency'!$I:$I,\">=\"&$B32)))),\"\")","v":0.31710709318497915},{"$f":"IFERROR(IF($A32=\"\",\"\",(IF($A32=\"Between\",SUMIFS('Vehicle Type Count by Agency'!AM:AM,'Vehicle Type Count by Agency'!$I:$I,\">=\"&$B32,'Vehicle Type Count by Agency'!$I:$I,\"<\"&$D32),SUMIFS('Vehicle Type Count by Agency'!AM:AM,'Vehicle Type Count by Agency'!$I:$I,\">=\"&$B32))/IF($A32=\"Between\",SUMIFS('Vehicle Type Count by Agency'!AL:AL,'Vehicle Type Count by Agency'!$I:$I,\">=\"&$B32,'Vehicle Type Count by Agency'!$I:$I,\"<\"&$D32),SUMIFS('Vehicle Type Count by Agency'!AL:AL,'Vehicle Type Count by Agency'!$I:$I,\">=\"&$B32)))),\"\")","v":6.5032987747408108E-2},{"$f":"IFERROR(IF($A32=\"\",\"\",(IF($A32=\"Between\",SUMIFS('Vehicle Type Count by Agency'!AO:AO,'Vehicle Type Count by Agency'!$I:$I,\">=\"&$B32,'Vehicle Type Count by Agency'!$I:$I,\"<\"&$D32),SUMIFS('Vehicle Type Count by Agency'!AO:AO,'Vehicle Type Count by Agency'!$I:$I,\">=\"&$B32))/IF($A32=\"Between\",SUMIFS('Vehicle Type Count by Agency'!AN:AN,'Vehicle Type Count by Agency'!$I:$I,\">=\"&$B32,'Vehicle Type Count by Agency'!$I:$I,\"<\"&$D32),SUMIFS('Vehicle Type Count by Agency'!AN:AN,'Vehicle Type Count by Agency'!$I:$I,\">=\"&$B32)))),\"\")","v":0.28064516129032258},{"$f":"IFERROR(IF($A32=\"\",\"\",(IF($A32=\"Between\",SUMIFS('Vehicle Type Count by Agency'!AQ:AQ,'Vehicle Type Count by Agency'!$I:$I,\">=\"&$B32,'Vehicle Type Count by Agency'!$I:$I,\"<\"&$D32),SUMIFS('Vehicle Type Count by Agency'!AQ:AQ,'Vehicle Type Count by Agency'!$I:$I,\">=\"&$B32))/IF($A32=\"Between\",SUMIFS('Vehicle Type Count by Agency'!AP:AP,'Vehicle Type Count by Agency'!$I:$I,\">=\"&$B32,'Vehicle Type Count by Agency'!$I:$I,\"<\"&$D32),SUMIFS('Vehicle Type Count by Agency'!AP:AP,'Vehicle Type Count by Agency'!$I:$I,\">=\"&$B32)))),\"\")","v":0},{"$f":"IFERROR(IF($A32=\"\",\"\",(IF($A32=\"Between\",SUMIFS('Vehicle Type Count by Agency'!AS:AS,'Vehicle Type Count by Agency'!$I:$I,\">=\"&$B32,'Vehicle Type Count by Agency'!$I:$I,\"<\"&$D32),SUMIFS('Vehicle Type Count by Agency'!AS:AS,'Vehicle Type Count by Agency'!$I:$I,\">=\"&$B32))/IF($A32=\"Between\",SUMIFS('Vehicle Type Count by Agency'!AR:AR,'Vehicle Type Count by Agency'!$I:$I,\">=\"&$B32,'Vehicle Type Count by Agency'!$I:$I,\"<\"&$D32),SUMIFS('Vehicle Type Count by Agency'!AR:AR,'Vehicle Type Count by Agency'!$I:$I,\">=\"&$B32)))),\"\")","v":""},{"$f":"IFERROR(IF($A32=\"\",\"\",(IF($A32=\"Between\",SUMIFS('Vehicle Type Count by Agency'!AU:AU,'Vehicle Type Count by Agency'!$I:$I,\">=\"&$B32,'Vehicle Type Count by Agency'!$I:$I,\"<\"&$D32),SUMIFS('Vehicle Type Count by Agency'!AU:AU,'Vehicle Type Count by Agency'!$I:$I,\">=\"&$B32))/IF($A32=\"Between\",SUMIFS('Vehicle Type Count by Agency'!AT:AT,'Vehicle Type Count by Agency'!$I:$I,\">=\"&$B32,'Vehicle Type Count by Agency'!$I:$I,\"<\"&$D32),SUMIFS('Vehicle Type Count by Agency'!AT:AT,'Vehicle Type Count by Agency'!$I:$I,\">=\"&$B32)))),\"\")","v":0.91836734693877553},{"$f":"IFERROR(IF($A32=\"\",\"\",(IF($A32=\"Between\",SUMIFS('Vehicle Type Count by Agency'!AW:AW,'Vehicle Type Count by Agency'!$I:$I,\">=\"&$B32,'Vehicle Type Count by Agency'!$I:$I,\"<\"&$D32),SUMIFS('Vehicle Type Count by Agency'!AW:AW,'Vehicle Type Count by Agency'!$I:$I,\">=\"&$B32))/IF($A32=\"Between\",SUMIFS('Vehicle Type Count by Agency'!AV:AV,'Vehicle Type Count by Agency'!$I:$I,\">=\"&$B32,'Vehicle Type Count by Agency'!$I:$I,\"<\"&$D32),SUMIFS('Vehicle Type Count by Agency'!AV:AV,'Vehicle Type Count by Agency'!$I:$I,\">=\"&$B32)))),\"\")","v":""},{"$f":"IFERROR(IF($A32=\"\",\"\",(IF($A32=\"Between\",SUMIFS('Vehicle Type Count by Agency'!AY:AY,'Vehicle Type Count by Agency'!$I:$I,\">=\"&$B32,'Vehicle Type Count by Agency'!$I:$I,\"<\"&$D32),SUMIFS('Vehicle Type Count by Agency'!AY:AY,'Vehicle Type Count by Agency'!$I:$I,\">=\"&$B32))/IF($A32=\"Between\",SUMIFS('Vehicle Type Count by Agency'!AX:AX,'Vehicle Type Count by Agency'!$I:$I,\">=\"&$B32,'Vehicle Type Count by Agency'!$I:$I,\"<\"&$D32),SUMIFS('Vehicle Type Count by Agency'!AX:AX,'Vehicle Type Count by Agency'!$I:$I,\">=\"&$B32)))),\"\")","v":""},{"$f":"IFERROR(IF($A32=\"\",\"\",(IF($A32=\"Between\",SUMIFS('Vehicle Type Count by Agency'!BA:BA,'Vehicle Type Count by Agency'!$I:$I,\">=\"&$B32,'Vehicle Type Count by Agency'!$I:$I,\"<\"&$D32),SUMIFS('Vehicle Type Count by Agency'!BA:BA,'Vehicle Type Count by Agency'!$I:$I,\">=\"&$B32))/IF($A32=\"Between\",SUMIFS('Vehicle Type Count by Agency'!AZ:AZ,'Vehicle Type Count by Agency'!$I:$I,\">=\"&$B32,'Vehicle Type Count by Agency'!$I:$I,\"<\"&$D32),SUMIFS('Vehicle Type Count by Agency'!AZ:AZ,'Vehicle Type Count by Agency'!$I:$I,\">=\"&$B32)))),\"\")","v":0.61111111111111116},{"$f":"IFERROR(IF($A32=\"\",\"\",(IF($A32=\"Between\",SUMIFS('Vehicle Type Count by Agency'!BC:BC,'Vehicle Type Count by Agency'!$I:$I,\">=\"&$B32,'Vehicle Type Count by Agency'!$I:$I,\"<\"&$D32),SUMIFS('Vehicle Type Count by Agency'!BC:BC,'Vehicle Type Count by Agency'!$I:$I,\">=\"&$B32))/IF($A32=\"Between\",SUMIFS('Vehicle Type Count by Agency'!BB:BB,'Vehicle Type Count by Agency'!$I:$I,\">=\"&$B32,'Vehicle Type Count by Agency'!$I:$I,\"<\"&$D32),SUMIFS('Vehicle Type Count by Agency'!BB:BB,'Vehicle Type Count by Agency'!$I:$I,\">=\"&$B32)))),\"\")","v":""},{"$f":"IFERROR(IF($A32=\"\",\"\",(IF($A32=\"Between\",SUMIFS('Vehicle Type Count by Agency'!BE:BE,'Vehicle Type Count by Agency'!$I:$I,\">=\"&$B32,'Vehicle Type Count by Agency'!$I:$I,\"<\"&$D32),SUMIFS('Vehicle Type Count by Agency'!BE:BE,'Vehicle Type Count by Agency'!$I:$I,\">=\"&$B32))/IF($A32=\"Between\",SUMIFS('Vehicle Type Count by Agency'!BD:BD,'Vehicle Type Count by Agency'!$I:$I,\">=\"&$B32,'Vehicle Type Count by Agency'!$I:$I,\"<\"&$D32),SUMIFS('Vehicle Type Count by Agency'!BD:BD,'Vehicle Type Count by Agency'!$I:$I,\">=\"&$B32)))),\"\")","v":0},{"$f":"IFERROR(IF($A32=\"\",\"\",(IF($A32=\"Between\",SUMIFS('Vehicle Type Count by Agency'!BG:BG,'Vehicle Type Count by Agency'!$I:$I,\">=\"&$B32,'Vehicle Type Count by Agency'!$I:$I,\"<\"&$D32),SUMIFS('Vehicle Type Count by Agency'!BG:BG,'Vehicle Type Count by Agency'!$I:$I,\">=\"&$B32))/IF($A32=\"Between\",SUMIFS('Vehicle Type Count by Agency'!BF:BF,'Vehicle Type Count by Agency'!$I:$I,\">=\"&$B32,'Vehicle Type Count by Agency'!$I:$I,\"<\"&$D32),SUMIFS('Vehicle Type Count by Agency'!BF:BF,'Vehicle Type Count by Agency'!$I:$I,\">=\"&$B32)))),\"\")","v":""},{"$f":"IFERROR(IF($A32=\"\",\"\",(IF($A32=\"Between\",SUMIFS('Vehicle Type Count by Agency'!BI:BI,'Vehicle Type Count by Agency'!$I:$I,\">=\"&$B32,'Vehicle Type Count by Agency'!$I:$I,\"<\"&$D32),SUMIFS('Vehicle Type Count by Agency'!BI:BI,'Vehicle Type Count by Agency'!$I:$I,\">=\"&$B32))/IF($A32=\"Between\",SUMIFS('Vehicle Type Count by Agency'!BH:BH,'Vehicle Type Count by Agency'!$I:$I,\">=\"&$B32,'Vehicle Type Count by Agency'!$I:$I,\"<\"&$D32),SUMIFS('Vehicle Type Count by Agency'!BH:BH,'Vehicle Type Count by Agency'!$I:$I,\">=\"&$B32)))),\"\")","v":0.13057804173615914}]
["Over",2000,"",null,{"$f":"IFERROR(IF(A33=\"Between\",A33&\" \"&FIXED(B33,0,0)&\" \"&C33&\" \"&FIXED(D33,0,0),A33&\" \"&FIXED(B33,0,0)),\"invalid bin\")","v":"Over 2,000"},{"$f":"IFERROR(IF($A33=\"\",\"\",(IF($A33=\"Between\",SUMIFS('Vehicle Type Count by Agency'!K:K,'Vehicle Type Count by Agency'!$I:$I,\">=\"&$B33,'Vehicle Type Count by Agency'!$I:$I,\"<\"&$D33),SUMIFS('Vehicle Type Count by Agency'!K:K,'Vehicle Type Count by Agency'!$I:$I,\">=\"&$B33))/IF($A33=\"Between\",SUMIFS('Vehicle Type Count by Agency'!J:J,'Vehicle Type Count by Agency'!$I:$I,\">=\"&$B33,'Vehicle Type Count by Agency'!$I:$I,\"<\"&$D33),SUMIFS('Vehicle Type Count by Agency'!J:J,'Vehicle Type Count by Agency'!$I:$I,\">=\"&$B33)))),\"\")","v":0.15303450400492916},{"$f":"IFERROR(IF($A33=\"\",\"\",(IF($A33=\"Between\",SUMIFS('Vehicle Type Count by Agency'!M:M,'Vehicle Type Count by Agency'!$I:$I,\">=\"&$B33,'Vehicle Type Count by Agency'!$I:$I,\"<\"&$D33),SUMIFS('Vehicle Type Count by Agency'!M:M,'Vehicle Type Count by Agency'!$I:$I,\">=\"&$B33))/IF($A33=\"Between\",SUMIFS('Vehicle Type Count by Agency'!L:L,'Vehicle Type Count by Agency'!$I:$I,\">=\"&$B33,'Vehicle Type Count by Agency'!$I:$I,\"<\"&$D33),SUMIFS('Vehicle Type Count by Agency'!L:L,'Vehicle Type Count by Agency'!$I:$I,\">=\"&$B33)))),\"\")","v":0.23168594461969858},{"$f":"IFERROR(IF($A33=\"\",\"\",(IF($A33=\"Between\",SUMIFS('Vehicle Type Count by Agency'!O:O,'Vehicle Type Count by Agency'!$I:$I,\">=\"&$B33,'Vehicle Type Count by Agency'!$I:$I,\"<\"&$D33),SUMIFS('Vehicle Type Count by Agency'!O:O,'Vehicle Type Count by Agency'!$I:$I,\">=\"&$B33))/IF($A33=\"Between\",SUMIFS('Vehicle Type Count by Agency'!N:N,'Vehicle Type Count by Agency'!$I:$I,\">=\"&$B33,'Vehicle Type Count by Agency'!$I:$I,\"<\"&$D33),SUMIFS('Vehicle Type Count by Agency'!N:N,'Vehicle Type Count by Agency'!$I:$I,\">=\"&$B33)))),\"\")","v":0.39276066990815778},{"$f":"IFERROR(IF($A33=\"\",\"\",(IF($A33=\"Between\",SUMIFS('Vehicle Type Count by Agency'!Q:Q,'Vehicle Type Count by Agency'!$I:$I,\">=\"&$B33,'Vehicle Type Count by Agency'!$I:$I,\"<\"&$D33),SUMIFS('Vehicle Type Count by Agency'!Q:Q,'Vehicle Type Count by Agency'!$I:$I,\">=\"&$B33))/IF($A33=\"Between\",SUMIFS('Vehicle Type Count by Agency'!P:P,'Vehicle Type Count by Agency'!$I:$I,\">=\"&$B33,'Vehicle Type Count by Agency'!$I:$I,\"<\"&$D33),SUMIFS('Vehicle Type Count by Agency'!P:P,'Vehicle Type Count by Agency'!$I:$I,\">=\"&$B33)))),\"\")","v":""},{"$f":"IFERROR(IF($A33=\"\",\"\",(IF($A33=\"Between\",SUMIFS('Vehicle Type Count by Agency'!S:S,'Vehicle Type Count by Agency'!$I:$I,\">=\"&$B33,'Vehicle Type Count by Agency'!$I:$I,\"<\"&$D33),SUMIFS('Vehicle Type Count by Agency'!S:S,'Vehicle Type Count by Agency'!$I:$I,\">=\"&$B33))/IF($A33=\"Between\",SUMIFS('Vehicle Type Count by Agency'!R:R,'Vehicle Type Count by Agency'!$I:$I,\">=\"&$B33,'Vehicle Type Count by Agency'!$I:$I,\"<\"&$D33),SUMIFS('Vehicle Type Count by Agency'!R:R,'Vehicle Type Count by Agency'!$I:$I,\">=\"&$B33)))),\"\")","v":""},{"$f":"IFERROR(IF($A33=\"\",\"\",(IF($A33=\"Between\",SUMIFS('Vehicle Type Count by Agency'!U:U,'Vehicle Type Count by Agency'!$I:$I,\">=\"&$B33,'Vehicle Type Count by Agency'!$I:$I,\"<\"&$D33),SUMIFS('Vehicle Type Count by Agency'!U:U,'Vehicle Type Count by Agency'!$I:$I,\">=\"&$B33))/IF($A33=\"Between\",SUMIFS('Vehicle Type Count by Agency'!T:T,'Vehicle Type Count by Agency'!$I:$I,\">=\"&$B33,'Vehicle Type Count by Agency'!$I:$I,\"<\"&$D33),SUMIFS('Vehicle Type Count by Agency'!T:T,'Vehicle Type Count by Agency'!$I:$I,\">=\"&$B33)))),\"\")","v":5.7659208261617897E-2},{"$f":"IFERROR(IF($A33=\"\",\"\",(IF($A33=\"Between\",SUMIFS('Vehicle Type Count by Agency'!W:W,'Vehicle Type Count by Agency'!$I:$I,\">=\"&$B33,'Vehicle Type Count by Agency'!$I:$I,\"<\"&$D33),SUMIFS('Vehicle Type Count by Agency'!W:W,'Vehicle Type Count by Agency'!$I:$I,\">=\"&$B33))/IF($A33=\"Between\",SUMIFS('Vehicle Type Count by Agency'!V:V,'Vehicle Type Count by Agency'!$I:$I,\">=\"&$B33,'Vehicle Type Count by Agency'!$I:$I,\"<\"&$D33),SUMIFS('Vehicle Type Count by Agency'!V:V,'Vehicle Type Count by Agency'!$I:$I,\">=\"&$B33)))),\"\")","v":0.30346947738252084},{"$f":"IFERROR(IF($A33=\"\",\"\",(IF($A33=\"Between\",SUMIFS('Vehicle Type Count by Agency'!Y:Y,'Vehicle Type Count by Agency'!$I:$I,\">=\"&$B33,'Vehicle Type Count by Agency'!$I:$I,\"<\"&$D33),SUMIFS('Vehicle Type Count by Agency'!Y:Y,'Vehicle Type Count by Agency'!$I:$I,\">=\"&$B33))/IF($A33=\"Between\",SUMIFS('Vehicle Type Count by Agency'!X:X,'Vehicle Type Count by Agency'!$I:$I,\">=\"&$B33,'Vehicle Type Count by Agency'!$I:$I,\"<\"&$D33),SUMIFS('Vehicle Type Count by Agency'!X:X,'Vehicle Type Count by Agency'!$I:$I,\">=\"&$B33)))),\"\")","v":7.2590738423028781E-2},{"$f":"IFERROR(IF($A33=\"\",\"\",(IF($A33=\"Between\",SUMIFS('Vehicle Type Count by Agency'!AA:AA,'Vehicle Type Count by Agency'!$I:$I,\">=\"&$B33,'Vehicle Type Count by Agency'!$I:$I,\"<\"&$D33),SUMIFS('Vehicle Type Count by Agency'!AA:AA,'Vehicle Type Count by Agency'!$I:$I,\">=\"&$B33))/IF($A33=\"Between\",SUMIFS('Vehicle Type Count by Agency'!Z:Z,'Vehicle Type Count by Agency'!$I:$I,\">=\"&$B33,'Vehicle Type Count by Agency'!$I:$I,\"<\"&$D33),SUMIFS('Vehicle Type Count by Agency'!Z:Z,'Vehicle Type Count by Agency'!$I:$I,\">=\"&$B33)))),\"\")","v":1.525940996948118E-3},{"$f":"IFERROR(IF($A33=\"\",\"\",(IF($A33=\"Between\",SUMIFS('Vehicle Type Count by Agency'!AC:AC,'Vehicle Type Count by Agency'!$I:$I,\">=\"&$B33,'Vehicle Type Count by Agency'!$I:$I,\"<\"&$D33),SUMIFS('Vehicle Type Count by Agency'!AC:AC,'Vehicle Type Count by Agency'!$I:$I,\">=\"&$B33))/IF($A33=\"Between\",SUMIFS('Vehicle Type Count by Agency'!AB:AB,'Vehicle Type Count by Agency'!$I:$I,\">=\"&$B33,'Vehicle Type Count by Agency'!$I:$I,\"<\"&$D33),SUMIFS('Vehicle Type Count by Agency'!AB:AB,'Vehicle Type Count by Agency'!$I:$I,\">=\"&$B33)))),\"\")","v":3.0634573304157548E-2},{"$f":"IFERROR(IF($A33=\"\",\"\",(IF($A33=\"Between\",SUMIFS('Vehicle Type Count by Agency'!AE:AE,'Vehicle Type Count by Agency'!$I:$I,\">=\"&$B33,'Vehicle Type Count by Agency'!$I:$I,\"<\"&$D33),SUMIFS('Vehicle Type Count by Agency'!AE:AE,'Vehicle Type Count by Agency'!$I:$I,\">=\"&$B33))/IF($A33=\"Between\",SUMIFS('Vehicle Type Count by Agency'!AD:AD,'Vehicle Type Count by Agency'!$I:$I,\">=\"&$B33,'Vehicle Type Count by Agency'!$I:$I,\"<\"&$D33),SUMIFS('Vehicle Type Count by Agency'!AD:AD,'Vehicle Type Count by Agency'!$I:$I,\">=\"&$B33)))),\"\")","v":0.11666666666666667},{"$f":"IFERROR(IF($A33=\"\",\"\",(IF($A33=\"Between\",SUMIFS('Vehicle Type Count by Agency'!AG:AG,'Vehicle Type Count by Agency'!$I:$I,\">=\"&$B33,'Vehicle Type Count by Agency'!$I:$I,\"<\"&$D33),SUMIFS('Vehicle Type Count by Agency'!AG:AG,'Vehicle Type Count by Agency'!$I:$I,\">=\"&$B33))/IF($A33=\"Between\",SUMIFS('Vehicle Type Count by Agency'!AF:AF,'Vehicle Type Count by Agency'!$I:$I,\">=\"&$B33,'Vehicle Type Count by Agency'!$I:$I,\"<\"&$D33),SUMIFS('Vehicle Type Count by Agency'!AF:AF,'Vehicle Type Count by Agency'!$I:$I,\">=\"&$B33)))),\"\")","v":6.2381475197125461E-2},{"$f":"IFERROR(IF($A33=\"\",\"\",(IF($A33=\"Between\",SUMIFS('Vehicle Type Count by Agency'!AI:AI,'Vehicle Type Count by Agency'!$I:$I,\">=\"&$B33,'Vehicle Type Count by Agency'!$I:$I,\"<\"&$D33),SUMIFS('Vehicle Type Count by Agency'!AI:AI,'Vehicle Type Count by Agency'!$I:$I,\">=\"&$B33))/IF($A33=\"Between\",SUMIFS('Vehicle Type Count by Agency'!AH:AH,'Vehicle Type Count by Agency'!$I:$I,\">=\"&$B33,'Vehicle Type Count by Agency'!$I:$I,\"<\"&$D33),SUMIFS('Vehicle Type Count by Agency'!AH:AH,'Vehicle Type Count by Agency'!$I:$I,\">=\"&$B33)))),\"\")","v":8.3211678832116789E-2},{"$f":"IFERROR(IF($A33=\"\",\"\",(IF($A33=\"Between\",SUMIFS('Vehicle Type Count by Agency'!AK:AK,'Vehicle Type Count by Agency'!$I:$I,\">=\"&$B33,'Vehicle Type Count by Agency'!$I:$I,\"<\"&$D33),SUMIFS('Vehicle Type Count by Agency'!AK:AK,'Vehicle Type Count by Agency'!$I:$I,\">=\"&$B33))/IF($A33=\"Between\",SUMIFS('Vehicle Type Count by Agency'!AJ:AJ,'Vehicle Type Count by Agency'!$I:$I,\">=\"&$B33,'Vehicle Type Count by Agency'!$I:$I,\"<\"&$D33),SUMIFS('Vehicle Type Count by Agency'!AJ:AJ,'Vehicle Type Count by Agency'!$I:$I,\">=\"&$B33)))),\"\")","v":0.15086206896551724},{"$f":"IFERROR(IF($A33=\"\",\"\",(IF($A33=\"Between\",SUMIFS('Vehicle Type Count by Agency'!AM:AM,'Vehicle Type Count by Agency'!$I:$I,\">=\"&$B33,'Vehicle Type Count by Agency'!$I:$I,\"<\"&$D33),SUMIFS('Vehicle Type Count by Agency'!AM:AM,'Vehicle Type Count by Agency'!$I:$I,\">=\"&$B33))/IF($A33=\"Between\",SUMIFS('Vehicle Type Count by Agency'!AL:AL,'Vehicle Type Count by Agency'!$I:$I,\">=\"&$B33,'Vehicle Type Count by Agency'!$I:$I,\"<\"&$D33),SUMIFS('Vehicle Type Count by Agency'!AL:AL,'Vehicle Type Count by Agency'!$I:$I,\">=\"&$B33)))),\"\")","v":0.76331360946745563},{"$f":"IFERROR(IF($A33=\"\",\"\",(IF($A33=\"Between\",SUMIFS('Vehicle Type Count by Agency'!AO:AO,'Vehicle Type Count by Agency'!$I:$I,\">=\"&$B33,'Vehicle Type Count by Agency'!$I:$I,\"<\"&$D33),SUMIFS('Vehicle Type Count by Agency'!AO:AO,'Vehicle Type Count by Agency'!$I:$I,\">=\"&$B33))/IF($A33=\"Between\",SUMIFS('Vehicle Type Count by Agency'!AN:AN,'Vehicle Type Count by Agency'!$I:$I,\">=\"&$B33,'Vehicle Type Count by Agency'!$I:$I,\"<\"&$D33),SUMIFS('Vehicle Type Count by Agency'!AN:AN,'Vehicle Type Count by Agency'!$I:$I,\">=\"&$B33)))),\"\")","v":0.12132352941176471},{"$f":"IFERROR(IF($A33=\"\",\"\",(IF($A33=\"Between\",SUMIFS('Vehicle Type Count by Agency'!AQ:AQ,'Vehicle Type Count by Agency'!$I:$I,\">=\"&$B33,'Vehicle Type Count by Agency'!$I:$I,\"<\"&$D33),SUMIFS('Vehicle Type Count by Agency'!AQ:AQ,'Vehicle Type Count by Agency'!$I:$I,\">=\"&$B33))/IF($A33=\"Between\",SUMIFS('Vehicle Type Count by Agency'!AP:AP,'Vehicle Type Count by Agency'!$I:$I,\">=\"&$B33,'Vehicle Type Count by Agency'!$I:$I,\"<\"&$D33),SUMIFS('Vehicle Type Count by Agency'!AP:AP,'Vehicle Type Count by Agency'!$I:$I,\">=\"&$B33)))),\"\")","v":""},{"$f":"IFERROR(IF($A33=\"\",\"\",(IF($A33=\"Between\",SUMIFS('Vehicle Type Count by Agency'!AS:AS,'Vehicle Type Count by Agency'!$I:$I,\">=\"&$B33,'Vehicle Type Count by Agency'!$I:$I,\"<\"&$D33),SUMIFS('Vehicle Type Count by Agency'!AS:AS,'Vehicle Type Count by Agency'!$I:$I,\">=\"&$B33))/IF($A33=\"Between\",SUMIFS('Vehicle Type Count by Agency'!AR:AR,'Vehicle Type Count by Agency'!$I:$I,\">=\"&$B33,'Vehicle Type Count by Agency'!$I:$I,\"<\"&$D33),SUMIFS('Vehicle Type Count by Agency'!AR:AR,'Vehicle Type Count by Agency'!$I:$I,\">=\"&$B33)))),\"\")","v":1},{"$f":"IFERROR(IF($A33=\"\",\"\",(IF($A33=\"Between\",SUMIFS('Vehicle Type Count by Agency'!AU:AU,'Vehicle Type Count by Agency'!$I:$I,\">=\"&$B33,'Vehicle Type Count by Agency'!$I:$I,\"<\"&$D33),SUMIFS('Vehicle Type Count by Agency'!AU:AU,'Vehicle Type Count by Agency'!$I:$I,\">=\"&$B33))/IF($A33=\"Between\",SUMIFS('Vehicle Type Count by Agency'!AT:AT,'Vehicle Type Count by Agency'!$I:$I,\">=\"&$B33,'Vehicle Type Count by Agency'!$I:$I,\"<\"&$D33),SUMIFS('Vehicle Type Count by Agency'!AT:AT,'Vehicle Type Count by Agency'!$I:$I,\">=\"&$B33)))),\"\")","v":0.93377483443708609},{"$f":"IFERROR(IF($A33=\"\",\"\",(IF($A33=\"Between\",SUMIFS('Vehicle Type Count by Agency'!AW:AW,'Vehicle Type Count by Agency'!$I:$I,\">=\"&$B33,'Vehicle Type Count by Agency'!$I:$I,\"<\"&$D33),SUMIFS('Vehicle Type Count by Agency'!AW:AW,'Vehicle Type Count by Agency'!$I:$I,\">=\"&$B33))/IF($A33=\"Between\",SUMIFS('Vehicle Type Count by Agency'!AV:AV,'Vehicle Type Count by Agency'!$I:$I,\">=\"&$B33,'Vehicle Type Count by Agency'!$I:$I,\"<\"&$D33),SUMIFS('Vehicle Type Count by Agency'!AV:AV,'Vehicle Type Count by Agency'!$I:$I,\">=\"&$B33)))),\"\")","v":""},{"$f":"IFERROR(IF($A33=\"\",\"\",(IF($A33=\"Between\",SUMIFS('Vehicle Type Count by Agency'!AY:AY,'Vehicle Type Count by Agency'!$I:$I,\">=\"&$B33,'Vehicle Type Count by Agency'!$I:$I,\"<\"&$D33),SUMIFS('Vehicle Type Count by Agency'!AY:AY,'Vehicle Type Count by Agency'!$I:$I,\">=\"&$B33))/IF($A33=\"Between\",SUMIFS('Vehicle Type Count by Agency'!AX:AX,'Vehicle Type Count by Agency'!$I:$I,\">=\"&$B33,'Vehicle Type Count by Agency'!$I:$I,\"<\"&$D33),SUMIFS('Vehicle Type Count by Agency'!AX:AX,'Vehicle Type Count by Agency'!$I:$I,\">=\"&$B33)))),\"\")","v":""},{"$f":"IFERROR(IF($A33=\"\",\"\",(IF($A33=\"Between\",SUMIFS('Vehicle Type Count by Agency'!BA:BA,'Vehicle Type Count by Agency'!$I:$I,\">=\"&$B33,'Vehicle Type Count by Agency'!$I:$I,\"<\"&$D33),SUMIFS('Vehicle Type Count by Agency'!BA:BA,'Vehicle Type Count by Agency'!$I:$I,\">=\"&$B33))/IF($A33=\"Between\",SUMIFS('Vehicle Type Count by Agency'!AZ:AZ,'Vehicle Type Count by Agency'!$I:$I,\">=\"&$B33,'Vehicle Type Count by Agency'!$I:$I,\"<\"&$D33),SUMIFS('Vehicle Type Count by Agency'!AZ:AZ,'Vehicle Type Count by Agency'!$I:$I,\">=\"&$B33)))),\"\")","v":""},{"$f":"IFERROR(IF($A33=\"\",\"\",(IF($A33=\"Between\",SUMIFS('Vehicle Type Count by Agency'!BC:BC,'Vehicle Type Count by Agency'!$I:$I,\">=\"&$B33,'Vehicle Type Count by Agency'!$I:$I,\"<\"&$D33),SUMIFS('Vehicle Type Count by Agency'!BC:BC,'Vehicle Type Count by Agency'!$I:$I,\">=\"&$B33))/IF($A33=\"Between\",SUMIFS('Vehicle Type Count by Agency'!BB:BB,'Vehicle Type Count by Agency'!$I:$I,\">=\"&$B33,'Vehicle Type Count by Agency'!$I:$I,\"<\"&$D33),SUMIFS('Vehicle Type Count by Agency'!BB:BB,'Vehicle Type Count by Agency'!$I:$I,\">=\"&$B33)))),\"\")","v":""},{"$f":"IFERROR(IF($A33=\"\",\"\",(IF($A33=\"Between\",SUMIFS('Vehicle Type Count by Agency'!BE:BE,'Vehicle Type Count by Agency'!$I:$I,\">=\"&$B33,'Vehicle Type Count by Agency'!$I:$I,\"<\"&$D33),SUMIFS('Vehicle Type Count by Agency'!BE:BE,'Vehicle Type Count by Agency'!$I:$I,\">=\"&$B33))/IF($A33=\"Between\",SUMIFS('Vehicle Type Count by Agency'!BD:BD,'Vehicle Type Count by Agency'!$I:$I,\">=\"&$B33,'Vehicle Type Count by Agency'!$I:$I,\"<\"&$D33),SUMIFS('Vehicle Type Count by Agency'!BD:BD,'Vehicle Type Count by Agency'!$I:$I,\">=\"&$B33)))),\"\")","v":0},{"$f":"IFERROR(IF($A33=\"\",\"\",(IF($A33=\"Between\",SUMIFS('Vehicle Type Count by Agency'!BG:BG,'Vehicle Type Count by Agency'!$I:$I,\">=\"&$B33,'Vehicle Type Count by Agency'!$I:$I,\"<\"&$D33),SUMIFS('Vehicle Type Count by Agency'!BG:BG,'Vehicle Type Count by Agency'!$I:$I,\">=\"&$B33))/IF($A33=\"Between\",SUMIFS('Vehicle Type Count by Agency'!BF:BF,'Vehicle Type Count by Agency'!$I:$I,\">=\"&$B33,'Vehicle Type Count by Agency'!$I:$I,\"<\"&$D33),SUMIFS('Vehicle Type Count by Agency'!BF:BF,'Vehicle Type Count by Agency'!$I:$I,\">=\"&$B33)))),\"\")","v":""},{"$f":"IFERROR(IF($A33=\"\",\"\",(IF($A33=\"Between\",SUMIFS('Vehicle Type Count by Agency'!BI:BI,'Vehicle Type Count by Agency'!$I:$I,\">=\"&$B33,'Vehicle Type Count by Agency'!$I:$I,\"<\"&$D33),SUMIFS('Vehicle Type Count by Agency'!BI:BI,'Vehicle Type Count by Agency'!$I:$I,\">=\"&$B33))/IF($A33=\"Between\",SUMIFS('Vehicle Type Count by Agency'!BH:BH,'Vehicle Type Count by Agency'!$I:$I,\">=\"&$B33,'Vehicle Type Count by Agency'!$I:$I,\"<\"&$D33),SUMIFS('Vehicle Type Count by Agency'!BH:BH,'Vehicle Type Count by Agency'!$I:$I,\">=\"&$B33)))),\"\")","v":0.14467907684006573}]
[null,null,null,null,{"$f":"IFERROR($F$2&\":\"&CHAR(10)&G36&\":\"&CHAR(10)&F34&CHAR(10)&G34&CHAR(10)&H34&CHAR(10)&I34&CHAR(10)&J34&CHAR(10)&K34&CHAR(10)&L34&CHAR(10)&M34&CHAR(10)&N34&CHAR(10)&O34&CHAR(10)&P34&CHAR(10)&Q34&CHAR(10)&R34,\"\")","v":""},{"$f":"F24&\": \"&FIXED(100*F35/$AE$35,0,0)&\"%\"","v":"Bus: 3%"},{"$f":"G24&\": \"&FIXED(100*G35/$AE$35,0,0)&\"%\"","v":"Articulated Bus: 1%"},"Over-the-road Bus: 7%",{"$error":"#VALUE!"},{"$error":"#VALUE!"},"Van: 2%","Cutaway: 4%","Automobile: 0%","Minivan: 1%","Sports Utility Vehicle: 0%","Trolleybus: 14%","Heavy Rail Passenger Car: 19%","Light Rail Vehicle: 0%","Commuter Rail Passenger Coach: 7%","Commuter Rail Self-Propelled Passenger Car: 1%","Locomotive: 6%","Automated Guideway Vehicle: 0%",{"$error":"#VALUE!"},"Streetcar: 20%",{"$error":"#VALUE!"},{"$error":"#VALUE!"},"Cable Car: 14%",{"$error":"#VALUE!"},"Ferryboat: 0%",{"$error":"#VALUE!"}]
[null,null,null,null,null,{"$f":"INDIRECT(ADDRESS(ROW('Summary Tables Useful Life'!F24)+$F$36,COLUMN('Summary Tables Useful Life'!F24)))","v":0.12343722486353231},{"$f":"INDIRECT(ADDRESS(ROW('Summary Tables Useful Life'!G24)+$F$36,COLUMN('Summary Tables Useful Life'!G24)))","v":5.1912568306010931E-2},{"$f":"INDIRECT(ADDRESS(ROW('Summary Tables Useful Life'!H24)+$F$36,COLUMN('Summary Tables Useful Life'!H24)))","v":0.32235084594835262},{"$f":"INDIRECT(ADDRESS(ROW('Summary Tables Useful Life'!I24)+$F$36,COLUMN('Summary Tables Useful Life'!I24)))","v":""},{"$f":"INDIRECT(ADDRESS(ROW('Summary Tables Useful Life'!J24)+$F$36,COLUMN('Summary Tables Useful Life'!J24)))","v":""},{"$f":"INDIRECT(ADDRESS(ROW('Summary Tables Useful Life'!K24)+$F$36,COLUMN('Summary Tables Useful Life'!K24)))","v":7.5286415711947621E-2},{"$f":"INDIRECT(ADDRESS(ROW('Summary Tables Useful Life'!L24)+$F$36,COLUMN('Summary Tables Useful Life'!L24)))","v":0.18184851518184852},{"$f":"INDIRECT(ADDRESS(ROW('Summary Tables Useful Life'!M24)+$F$36,COLUMN('Summary Tables Useful Life'!M24)))","v":1.7743080198722497E-3},{"$f":"INDIRECT(ADDRESS(ROW('Summary Tables Useful Life'!N24)+$F$36,COLUMN('Summary Tables Useful Life'!N24)))","v":6.3492063492063489E-2},{"$f":"INDIRECT(ADDRESS(ROW('Summary Tables Useful Life'!O24)+$F$36,COLUMN('Summary Tables Useful Life'!O24)))","v":0},{"$f":"INDIRECT(ADDRESS(ROW('Summary Tables Useful Life'!P24)+$F$36,COLUMN('Summary Tables Useful Life'!P24)))","v":0.63009404388714729},{"$f":"INDIRECT(ADDRESS(ROW('Summary Tables Useful Life'!Q24)+$F$36,COLUMN('Summary Tables Useful Life'!Q24)))","v":0.84955752212389379},{"$f":"INDIRECT(ADDRESS(ROW('Summary Tables Useful Life'!R24)+$F$36,COLUMN('Summary Tables Useful Life'!R24)))","v":0},{"$f":"INDIRECT(ADDRESS(ROW('Summary Tables Useful Life'!S24)+$F$36,COLUMN('Summary Tables Useful Life'!S24)))","v":0.31710709318497915},{"$f":"INDIRECT(ADDRESS(ROW('Summary Tables Useful Life'!T24)+$F$36,COLUMN('Summary Tables Useful Life'!T24)))","v":6.5032987747408108E-2},{"$f":"INDIRECT(ADDRESS(ROW('Summary Tables Useful Life'!U24)+$F$36,COLUMN('Summary Tables Useful Life'!U24)))","v":0.28064516129032258},{"$f":"INDIRECT(ADDRESS(ROW('Summary Tables Useful Life'!V24)+$F$36,COLUMN('Summary Tables Useful Life'!V24)))","v":0},{"$f":"INDIRECT(ADDRESS(ROW('Summary Tables Useful Life'!W24)+$F$36,COLUMN('Summary Tables Useful Life'!W24)))","v":""},{"$f":"INDIRECT(ADDRESS(ROW('Summary Tables Useful Life'!X24)+$F$36,COLUMN('Summary Tables Useful Life'!X24)))","v":0.91836734693877553},{"$f":"INDIRECT(ADDRESS(ROW('Summary Tables Useful Life'!Y24)+$F$36,COLUMN('Summary Tables Useful Life'!Y24)))","v":""},{"$f":"INDIRECT(ADDRESS(ROW('Summary Tables Useful Life'!Z24)+$F$36,COLUMN('Summary Tables Useful Life'!Z24)))","v":""},{"$f":"INDIRECT(ADDRESS(ROW('Summary Tables Useful Life'!AA24)+$F$36,COLUMN('Summary Tables Useful Life'!AA24)))","v":0.61111111111111116},{"$f":"INDIRECT(ADDRESS(ROW('Summary Tables Useful Life'!AB24)+$F$36,COLUMN('Summary Tables Useful Life'!AB24)))","v":""},{"$f":"INDIRECT(ADDRESS(ROW('Summary Tables Useful Life'!AC24)+$F$36,COLUMN('Summary Tables Useful Life'!AC24)))","v":0},{"$f":"INDIRECT(ADDRESS(ROW('Summary Tables Useful Life'!AD24)+$F$36,COLUMN('Summary Tables Useful Life'!AD24)))","v":""},{"$f":"SUM(F35:AD35)","v":4.4920172078072653}]
[null,null,null,null,null,8,{"$f":"IF(INDIRECT(\"A\"&(24+F36))=\"\",\"Please select a valid bin to graph.\",IF(OR(INDIRECT(\"A\"&(24+F36))=\"Under\",INDIRECT(\"A\"&(24+F36))=\"Over\"),\"Agency Size \"&INDIRECT(\"A\"&(24+F36))&\" \"&FIXED(INDIRECT(\"B\"&(24+F36)),0,0)&\" Vehicles\",\"Agency Size \"&\"Between \"&FIXED(INDIRECT(\"B\"&(24+F36)),0,0)&\" and \"&FIXED(INDIRECT(\"D\"&(24+F36)),0,0)&\" Vehicles\"))","v":"Agency Size Between 1,000 and 2,000 Vehicles"}]
[]
["By State"]
[null,null,null,null,null,"Percent of Active Vehicles Beyond their Useful Life by Vehicle Type"]
[null,null,"Abbreviation","State","Column1","Bus","Articulated Bus","Over-the-road Bus","Double Decker Bus","School Bus","Van","Cutaway","Automobile","Minivan","Sports Utility Vehicle","Trolleybus","Heavy Rail Passenger Car","Light Rail Vehicle","Commuter Rail Passenger Coach","Commuter Rail Self-Propelled Passenger Car","Locomotive","Automated Guideway Vehicle","Vintage/ Historic Trolley","Streetcar","Aerial Tramway","Monorail","Cable Car","Inclined Plane","Ferryboat","Other","Total"]
[null,null,"AK","Alaska",null,{"$f":"IFERROR(SUMIFS('Vehicle Type Count by Agency'!K:K,'Vehicle Type Count by Agency'!$C:$C,\"=\"&$C41)/SUMIFS('Vehicle Type Count by Agency'!J:J,'Vehicle Type Count by Agency'!$C:$C,\"=\"&$C41),\"\")","v":0.23893805309734514},{"$f":"IFERROR(SUMIFS('Vehicle Type Count by Agency'!M:M,'Vehicle Type Count by Agency'!$C:$C,\"=\"&$C41)/SUMIFS('Vehicle Type Count by Agency'!L:L,'Vehicle Type Count by Agency'!$C:$C,\"=\"&$C41),\"\")","v":""},{"$f":"IFERROR(SUMIFS('Vehicle Type Count by Agency'!O:O,'Vehicle Type Count by Agency'!$C:$C,\"=\"&$C41)/SUMIFS('Vehicle Type Count by Agency'!N:N,'Vehicle Type Count by Agency'!$C:$C,\"=\"&$C41),\"\")","v":""},{"$f":"IFERROR(SUMIFS('Vehicle Type Count by Agency'!Q:Q,'Vehicle Type Count by Agency'!$C:$C,\"=\"&$C41)/SUMIFS('Vehicle Type Count by Agency'!P:P,'Vehicle Type Count by Agency'!$C:$C,\"=\"&$C41),\"\")","v":""},{"$f":"IFERROR(SUMIFS('Vehicle Type Count by Agency'!S:S,'Vehicle Type Count by Agency'!$C:$C,\"=\"&$C41)/SUMIFS('Vehicle Type Count by Agency'!R:R,'Vehicle Type Count by Agency'!$C:$C,\"=\"&$C41),\"\")","v":0.5},{"$f":"IFERROR(SUMIFS('Vehicle Type Count by Agency'!U:U,'Vehicle Type Count by Agency'!$C:$C,\"=\"&$C41)/SUMIFS('Vehicle Type Count by Agency'!T:T,'Vehicle Type Count by Agency'!$C:$C,\"=\"&$C41),\"\")","v":9.5238095238095233E-2},{"$f":"IFERROR(SUMIFS('Vehicle Type Count by Agency'!W:W,'Vehicle Type Count by Agency'!$C:$C,\"=\"&$C41)/SUMIFS('Vehicle Type Count by Agency'!V:V,'Vehicle Type Count by Agency'!$C:$C,\"=\"&$C41),\"\")","v":0.24347826086956523},{"$f":"IFERROR(SUMIFS('Vehicle Type Count by Agency'!Y:Y,'Vehicle Type Count by Agency'!$C:$C,\"=\"&$C41)/SUMIFS('Vehicle Type Count by Agency'!X:X,'Vehicle Type Count by Agency'!$C:$C,\"=\"&$C41),\"\")","v":0},{"$f":"IFERROR(SUMIFS('Vehicle Type Count by Agency'!AA:AA,'Vehicle Type Count by Agency'!$C:$C,\"=\"&$C41)/SUMIFS('Vehicle Type Count by Agency'!Z:Z,'Vehicle Type Count by Agency'!$C:$C,\"=\"&$C41),\"\")","v":0.10526315789473684},{"$f":"IFERROR(SUMIFS('Vehicle Type Count by Agency'!AC:AC,'Vehicle Type Count by Agency'!$C:$C,\"=\"&$C41)/SUMIFS('Vehicle Type Count by Agency'!AB:AB,'Vehicle Type Count by Agency'!$C:$C,\"=\"&$C41),\"\")","v":2.4390243902439025E-2},{"$f":"IFERROR(SUMIFS('Vehicle Type Count by Agency'!AE:AE,'Vehicle Type Count by Agency'!$C:$C,\"=\"&$C41)/SUMIFS('Vehicle Type Count by Agency'!AD:AD,'Vehicle Type Count by Agency'!$C:$C,\"=\"&$C41),\"\")","v":""},{"$f":"IFERROR(SUMIFS('Vehicle Type Count by Agency'!AG:AG,'Vehicle Type Count by Agency'!$C:$C,\"=\"&$C41)/SUMIFS('Vehicle Type Count by Agency'!AF:AF,'Vehicle Type Count by Agency'!$C:$C,\"=\"&$C41),\"\")","v":""},{"$f":"IFERROR(SUMIFS('Vehicle Type Count by Agency'!AI:AI,'Vehicle Type Count by Agency'!$C:$C,\"=\"&$C41)/SUMIFS('Vehicle Type Count by Agency'!AH:AH,'Vehicle Type Count by Agency'!$C:$C,\"=\"&$C41),\"\")","v":""},{"$f":"IFERROR(SUMIFS('Vehicle Type Count by Agency'!AK:AK,'Vehicle Type Count by Agency'!$C:$C,\"=\"&$C41)/SUMIFS('Vehicle Type Count by Agency'!AJ:AJ,'Vehicle Type Count by Agency'!$C:$C,\"=\"&$C41),\"\")","v":0},{"$f":"IFERROR(SUMIFS('Vehicle Type Count by Agency'!AM:AM,'Vehicle Type Count by Agency'!$C:$C,\"=\"&$C41)/SUMIFS('Vehicle Type Count by Agency'!AL:AL,'Vehicle Type Count by Agency'!$C:$C,\"=\"&$C41),\"\")","v":""},{"$f":"IFERROR(SUMIFS('Vehicle Type Count by Agency'!AO:AO,'Vehicle Type Count by Agency'!$C:$C,\"=\"&$C41)/SUMIFS('Vehicle Type Count by Agency'!AN:AN,'Vehicle Type Count by Agency'!$C:$C,\"=\"&$C41),\"\")","v":0},{"$f":"IFERROR(SUMIFS('Vehicle Type Count by Agency'!AQ:AQ,'Vehicle Type Count by Agency'!$C:$C,\"=\"&$C41)/SUMIFS('Vehicle Type Count by Agency'!AP:AP,'Vehicle Type Count by Agency'!$C:$C,\"=\"&$C41),\"\")","v":""},{"$f":"IFERROR(SUMIFS('Vehicle Type Count by Agency'!AS:AS,'Vehicle Type Count by Agency'!$C:$C,\"=\"&$C41)/SUMIFS('Vehicle Type Count by Agency'!AR:AR,'Vehicle Type Count by Agency'!$C:$C,\"=\"&$C41),\"\")","v":""},{"$f":"IFERROR(SUMIFS('Vehicle Type Count by Agency'!AU:AU,'Vehicle Type Count by Agency'!$C:$C,\"=\"&$C41)/SUMIFS('Vehicle Type Count by Agency'!AT:AT,'Vehicle Type Count by Agency'!$C:$C,\"=\"&$C41),\"\")","v":""},{"$f":"IFERROR(SUMIFS('Vehicle Type Count by Agency'!AW:AW,'Vehicle Type Count by Agency'!$C:$C,\"=\"&$C41)/SUMIFS('Vehicle Type Count by Agency'!AV:AV,'Vehicle Type Count by Agency'!$C:$C,\"=\"&$C41),\"\")","v":""},{"$f":"IFERROR(SUMIFS('Vehicle Type Count by Agency'!AY:AY,'Vehicle Type Count by Agency'!$C:$C,\"=\"&$C41)/SUMIFS('Vehicle Type Count by Agency'!AX:AX,'Vehicle Type Count by Agency'!$C:$C,\"=\"&$C41),\"\")","v":""},{"$f":"IFERROR(SUMIFS('Vehicle Type Count by Agency'!BA:BA,'Vehicle Type Count by Agency'!$C:$C,\"=\"&$C41)/SUMIFS('Vehicle Type Count by Agency'!AZ:AZ,'Vehicle Type Count by Agency'!$C:$C,\"=\"&$C41),\"\")","v":""},{"$f":"IFERROR(SUMIFS('Vehicle Type Count by Agency'!BC:BC,'Vehicle Type Count by Agency'!$C:$C,\"=\"&$C41)/SUMIFS('Vehicle Type Count by Agency'!BB:BB,'Vehicle Type Count by Agency'!$C:$C,\"=\"&$C41),\"\")","v":""},{"$f":"IFERROR(SUMIFS('Vehicle Type Count by Agency'!BE:BE,'Vehicle Type Count by Agency'!$C:$C,\"=\"&$C41)/SUMIFS('Vehicle Type Count by Agency'!BD:BD,'Vehicle Type Count by Agency'!$C:$C,\"=\"&$C41),\"\")","v":0},{"$f":"IFERROR(SUMIFS('Vehicle Type Count by Agency'!BG:BG,'Vehicle Type Count by Agency'!$C:$C,\"=\"&$C41)/SUMIFS('Vehicle Type Count by Agency'!BF:BF,'Vehicle Type Count by Agency'!$C:$C,\"=\"&$C41),\"\")","v":0},{"$f":"IFERROR(SUMIFS('Vehicle Type Count by Agency'!BI:BI,'Vehicle Type Count by Agency'!$C:$C,\"=\"&$C41)/SUMIFS('Vehicle Type Count by Agency'!BH:BH,'Vehicle Type Count by Agency'!$C:$C,\"=\"&$C41),\"\")","v":0.13535353535353536}]
[null,null,"AL","Alabama",null,{"$f":"IFERROR(SUMIFS('Vehicle Type Count by Agency'!K:K,'Vehicle Type Count by Agency'!$C:$C,\"=\"&$C42)/SUMIFS('Vehicle Type Count by Agency'!J:J,'Vehicle Type Count by Agency'!$C:$C,\"=\"&$C42),\"\")","v":0.1875},{"$f":"IFERROR(SUMIFS('Vehicle Type Count by Agency'!M:M,'Vehicle Type Count by Agency'!$C:$C,\"=\"&$C42)/SUMIFS('Vehicle Type Count by Agency'!L:L,'Vehicle Type Count by Agency'!$C:$C,\"=\"&$C42),\"\")","v":""},{"$f":"IFERROR(SUMIFS('Vehicle Type Count by Agency'!O:O,'Vehicle Type Count by Agency'!$C:$C,\"=\"&$C42)/SUMIFS('Vehicle Type Count by Agency'!N:N,'Vehicle Type Count by Agency'!$C:$C,\"=\"&$C42),\"\")","v":""},{"$f":"IFERROR(SUMIFS('Vehicle Type Count by Agency'!Q:Q,'Vehicle Type Count by Agency'!$C:$C,\"=\"&$C42)/SUMIFS('Vehicle Type Count by Agency'!P:P,'Vehicle Type Count by Agency'!$C:$C,\"=\"&$C42),\"\")","v":""},{"$f":"IFERROR(SUMIFS('Vehicle Type Count by Agency'!S:S,'Vehicle Type Count by Agency'!$C:$C,\"=\"&$C42)/SUMIFS('Vehicle Type Count by Agency'!R:R,'Vehicle Type Count by Agency'!$C:$C,\"=\"&$C42),\"\")","v":0},{"$f":"IFERROR(SUMIFS('Vehicle Type Count by Agency'!U:U,'Vehicle Type Count by Agency'!$C:$C,\"=\"&$C42)/SUMIFS('Vehicle Type Count by Agency'!T:T,'Vehicle Type Count by Agency'!$C:$C,\"=\"&$C42),\"\")","v":0.28813559322033899},{"$f":"IFERROR(SUMIFS('Vehicle Type Count by Agency'!W:W,'Vehicle Type Count by Agency'!$C:$C,\"=\"&$C42)/SUMIFS('Vehicle Type Count by Agency'!V:V,'Vehicle Type Count by Agency'!$C:$C,\"=\"&$C42),\"\")","v":0.29242819843342038},{"$f":"IFERROR(SUMIFS('Vehicle Type Count by Agency'!Y:Y,'Vehicle Type Count by Agency'!$C:$C,\"=\"&$C42)/SUMIFS('Vehicle Type Count by Agency'!X:X,'Vehicle Type Count by Agency'!$C:$C,\"=\"&$C42),\"\")","v":0},{"$f":"IFERROR(SUMIFS('Vehicle Type Count by Agency'!AA:AA,'Vehicle Type Count by Agency'!$C:$C,\"=\"&$C42)/SUMIFS('Vehicle Type Count by Agency'!Z:Z,'Vehicle Type Count by Agency'!$C:$C,\"=\"&$C42),\"\")","v":0.1891891891891892},{"$f":"IFERROR(SUMIFS('Vehicle Type Count by Agency'!AC:AC,'Vehicle Type Count by Agency'!$C:$C,\"=\"&$C42)/SUMIFS('Vehicle Type Count by Agency'!AB:AB,'Vehicle Type Count by Agency'!$C:$C,\"=\"&$C42),\"\")","v":""},{"$f":"IFERROR(SUMIFS('Vehicle Type Count by Agency'!AE:AE,'Vehicle Type Count by Agency'!$C:$C,\"=\"&$C42)/SUMIFS('Vehicle Type Count by Agency'!AD:AD,'Vehicle Type Count by Agency'!$C:$C,\"=\"&$C42),\"\")","v":""},{"$f":"IFERROR(SUMIFS('Vehicle Type Count by Agency'!AG:AG,'Vehicle Type Count by Agency'!$C:$C,\"=\"&$C42)/SUMIFS('Vehicle Type Count by Agency'!AF:AF,'Vehicle Type Count by Agency'!$C:$C,\"=\"&$C42),\"\")","v":""},{"$f":"IFERROR(SUMIFS('Vehicle Type Count by Agency'!AI:AI,'Vehicle Type Count by Agency'!$C:$C,\"=\"&$C42)/SUMIFS('Vehicle Type Count by Agency'!AH:AH,'Vehicle Type Count by Agency'!$C:$C,\"=\"&$C42),\"\")","v":""},{"$f":"IFERROR(SUMIFS('Vehicle Type Count by Agency'!AK:AK,'Vehicle Type Count by Agency'!$C:$C,\"=\"&$C42)/SUMIFS('Vehicle Type Count by Agency'!AJ:AJ,'Vehicle Type Count by Agency'!$C:$C,\"=\"&$C42),\"\")","v":""},{"$f":"IFERROR(SUMIFS('Vehicle Type Count by Agency'!AM:AM,'Vehicle Type Count by Agency'!$C:$C,\"=\"&$C42)/SUMIFS('Vehicle Type Count by Agency'!AL:AL,'Vehicle Type Count by Agency'!$C:$C,\"=\"&$C42),\"\")","v":""},{"$f":"IFERROR(SUMIFS('Vehicle Type Count by Agency'!AO:AO,'Vehicle Type Count by Agency'!$C:$C,\"=\"&$C42)/SUMIFS('Vehicle Type Count by Agency'!AN:AN,'Vehicle Type Count by Agency'!$C:$C,\"=\"&$C42),\"\")","v":""},{"$f":"IFERROR(SUMIFS('Vehicle Type Count by Agency'!AQ:AQ,'Vehicle Type Count by Agency'!$C:$C,\"=\"&$C42)/SUMIFS('Vehicle Type Count by Agency'!AP:AP,'Vehicle Type Count by Agency'!$C:$C,\"=\"&$C42),\"\")","v":""},{"$f":"IFERROR(SUMIFS('Vehicle Type Count by Agency'!AS:AS,'Vehicle Type Count by Agency'!$C:$C,\"=\"&$C42)/SUMIFS('Vehicle Type Count by Agency'!AR:AR,'Vehicle Type Count by Agency'!$C:$C,\"=\"&$C42),\"\")","v":""},{"$f":"IFERROR(SUMIFS('Vehicle Type Count by Agency'!AU:AU,'Vehicle Type Count by Agency'!$C:$C,\"=\"&$C42)/SUMIFS('Vehicle Type Count by Agency'!AT:AT,'Vehicle Type Count by Agency'!$C:$C,\"=\"&$C42),\"\")","v":""},{"$f":"IFERROR(SUMIFS('Vehicle Type Count by Agency'!AW:AW,'Vehicle Type Count by Agency'!$C:$C,\"=\"&$C42)/SUMIFS('Vehicle Type Count by Agency'!AV:AV,'Vehicle Type Count by Agency'!$C:$C,\"=\"&$C42),\"\")","v":""},{"$f":"IFERROR(SUMIFS('Vehicle Type Count by Agency'!AY:AY,'Vehicle Type Count by Agency'!$C:$C,\"=\"&$C42)/SUMIFS('Vehicle Type Count by Agency'!AX:AX,'Vehicle Type Count by Agency'!$C:$C,\"=\"&$C42),\"\")","v":""},{"$f":"IFERROR(SUMIFS('Vehicle Type Count by Agency'!BA:BA,'Vehicle Type Count by Agency'!$C:$C,\"=\"&$C42)/SUMIFS('Vehicle Type Count by Agency'!AZ:AZ,'Vehicle Type Count by Agency'!$C:$C,\"=\"&$C42),\"\")","v":""},{"$f":"IFERROR(SUMIFS('Vehicle Type Count by Agency'!BC:BC,'Vehicle Type Count by Agency'!$C:$C,\"=\"&$C42)/SUMIFS('Vehicle Type Count by Agency'!BB:BB,'Vehicle Type Count by Agency'!$C:$C,\"=\"&$C42),\"\")","v":""},{"$f":"IFERROR(SUMIFS('Vehicle Type Count by Agency'!BE:BE,'Vehicle Type Count by Agency'!$C:$C,\"=\"&$C42)/SUMIFS('Vehicle Type Count by Agency'!BD:BD,'Vehicle Type Count by Agency'!$C:$C,\"=\"&$C42),\"\")","v":""},{"$f":"IFERROR(SUMIFS('Vehicle Type Count by Agency'!BG:BG,'Vehicle Type Count by Agency'!$C:$C,\"=\"&$C42)/SUMIFS('Vehicle Type Count by Agency'!BF:BF,'Vehicle Type Count by Agency'!$C:$C,\"=\"&$C42),\"\")","v":""},{"$f":"IFERROR(SUMIFS('Vehicle Type Count by Agency'!BI:BI,'Vehicle Type Count by Agency'!$C:$C,\"=\"&$C42)/SUMIFS('Vehicle Type Count by Agency'!BH:BH,'Vehicle Type Count by Agency'!$C:$C,\"=\"&$C42),\"\")","v":0.25623582766439912}]
[null,null,"AR","Arkansas",null,{"$f":"IFERROR(SUMIFS('Vehicle Type Count by Agency'!K:K,'Vehicle Type Count by Agency'!$C:$C,\"=\"&$C43)/SUMIFS('Vehicle Type Count by Agency'!J:J,'Vehicle Type Count by Agency'!$C:$C,\"=\"&$C43),\"\")","v":0.14814814814814814},{"$f":"IFERROR(SUMIFS('Vehicle Type Count by Agency'!M:M,'Vehicle Type Count by Agency'!$C:$C,\"=\"&$C43)/SUMIFS('Vehicle Type Count by Agency'!L:L,'Vehicle Type Count by Agency'!$C:$C,\"=\"&$C43),\"\")","v":""},{"$f":"IFERROR(SUMIFS('Vehicle Type Count by Agency'!O:O,'Vehicle Type Count by Agency'!$C:$C,\"=\"&$C43)/SUMIFS('Vehicle Type Count by Agency'!N:N,'Vehicle Type Count by Agency'!$C:$C,\"=\"&$C43),\"\")","v":""},{"$f":"IFERROR(SUMIFS('Vehicle Type Count by Agency'!Q:Q,'Vehicle Type Count by Agency'!$C:$C,\"=\"&$C43)/SUMIFS('Vehicle Type Count by Agency'!P:P,'Vehicle Type Count by Agency'!$C:$C,\"=\"&$C43),\"\")","v":""},{"$f":"IFERROR(SUMIFS('Vehicle Type Count by Agency'!S:S,'Vehicle Type Count by Agency'!$C:$C,\"=\"&$C43)/SUMIFS('Vehicle Type Count by Agency'!R:R,'Vehicle Type Count by Agency'!$C:$C,\"=\"&$C43),\"\")","v":""},{"$f":"IFERROR(SUMIFS('Vehicle Type Count by Agency'!U:U,'Vehicle Type Count by Agency'!$C:$C,\"=\"&$C43)/SUMIFS('Vehicle Type Count by Agency'!T:T,'Vehicle Type Count by Agency'!$C:$C,\"=\"&$C43),\"\")","v":0.61403508771929827},{"$f":"IFERROR(SUMIFS('Vehicle Type Count by Agency'!W:W,'Vehicle Type Count by Agency'!$C:$C,\"=\"&$C43)/SUMIFS('Vehicle Type Count by Agency'!V:V,'Vehicle Type Count by Agency'!$C:$C,\"=\"&$C43),\"\")","v":0.2153846153846154},{"$f":"IFERROR(SUMIFS('Vehicle Type Count by Agency'!Y:Y,'Vehicle Type Count by Agency'!$C:$C,\"=\"&$C43)/SUMIFS('Vehicle Type Count by Agency'!X:X,'Vehicle Type Count by Agency'!$C:$C,\"=\"&$C43),\"\")","v":1},{"$f":"IFERROR(SUMIFS('Vehicle Type Count by Agency'!AA:AA,'Vehicle Type Count by Agency'!$C:$C,\"=\"&$C43)/SUMIFS('Vehicle Type Count by Agency'!Z:Z,'Vehicle Type Count by Agency'!$C:$C,\"=\"&$C43),\"\")","v":0.29473684210526313},{"$f":"IFERROR(SUMIFS('Vehicle Type Count by Agency'!AC:AC,'Vehicle Type Count by Agency'!$C:$C,\"=\"&$C43)/SUMIFS('Vehicle Type Count by Agency'!AB:AB,'Vehicle Type Count by Agency'!$C:$C,\"=\"&$C43),\"\")","v":""},{"$f":"IFERROR(SUMIFS('Vehicle Type Count by Agency'!AE:AE,'Vehicle Type Count by Agency'!$C:$C,\"=\"&$C43)/SUMIFS('Vehicle Type Count by Agency'!AD:AD,'Vehicle Type Count by Agency'!$C:$C,\"=\"&$C43),\"\")","v":""},{"$f":"IFERROR(SUMIFS('Vehicle Type Count by Agency'!AG:AG,'Vehicle Type Count by Agency'!$C:$C,\"=\"&$C43)/SUMIFS('Vehicle Type Count by Agency'!AF:AF,'Vehicle Type Count by Agency'!$C:$C,\"=\"&$C43),\"\")","v":""},{"$f":"IFERROR(SUMIFS('Vehicle Type Count by Agency'!AI:AI,'Vehicle Type Count by Agency'!$C:$C,\"=\"&$C43)/SUMIFS('Vehicle Type Count by Agency'!AH:AH,'Vehicle Type Count by Agency'!$C:$C,\"=\"&$C43),\"\")","v":""},{"$f":"IFERROR(SUMIFS('Vehicle Type Count by Agency'!AK:AK,'Vehicle Type Count by Agency'!$C:$C,\"=\"&$C43)/SUMIFS('Vehicle Type Count by Agency'!AJ:AJ,'Vehicle Type Count by Agency'!$C:$C,\"=\"&$C43),\"\")","v":""},{"$f":"IFERROR(SUMIFS('Vehicle Type Count by Agency'!AM:AM,'Vehicle Type Count by Agency'!$C:$C,\"=\"&$C43)/SUMIFS('Vehicle Type Count by Agency'!AL:AL,'Vehicle Type Count by Agency'!$C:$C,\"=\"&$C43),\"\")","v":""},{"$f":"IFERROR(SUMIFS('Vehicle Type Count by Agency'!AO:AO,'Vehicle Type Count by Agency'!$C:$C,\"=\"&$C43)/SUMIFS('Vehicle Type Count by Agency'!AN:AN,'Vehicle Type Count by Agency'!$C:$C,\"=\"&$C43),\"\")","v":""},{"$f":"IFERROR(SUMIFS('Vehicle Type Count by Agency'!AQ:AQ,'Vehicle Type Count by Agency'!$C:$C,\"=\"&$C43)/SUMIFS('Vehicle Type Count by Agency'!AP:AP,'Vehicle Type Count by Agency'!$C:$C,\"=\"&$C43),\"\")","v":""},{"$f":"IFERROR(SUMIFS('Vehicle Type Count by Agency'!AS:AS,'Vehicle Type Count by Agency'!$C:$C,\"=\"&$C43)/SUMIFS('Vehicle Type Count by Agency'!AR:AR,'Vehicle Type Count by Agency'!$C:$C,\"=\"&$C43),\"\")","v":0},{"$f":"IFERROR(SUMIFS('Vehicle Type Count by Agency'!AU:AU,'Vehicle Type Count by Agency'!$C:$C,\"=\"&$C43)/SUMIFS('Vehicle Type Count by Agency'!AT:AT,'Vehicle Type Count by Agency'!$C:$C,\"=\"&$C43),\"\")","v":""},{"$f":"IFERROR(SUMIFS('Vehicle Type Count by Agency'!AW:AW,'Vehicle Type Count by Agency'!$C:$C,\"=\"&$C43)/SUMIFS('Vehicle Type Count by Agency'!AV:AV,'Vehicle Type Count by Agency'!$C:$C,\"=\"&$C43),\"\")","v":""},{"$f":"IFERROR(SUMIFS('Vehicle Type Count by Agency'!AY:AY,'Vehicle Type Count by Agency'!$C:$C,\"=\"&$C43)/SUMIFS('Vehicle Type Count by Agency'!AX:AX,'Vehicle Type Count by Agency'!$C:$C,\"=\"&$C43),\"\")","v":""},{"$f":"IFERROR(SUMIFS('Vehicle Type Count by Agency'!BA:BA,'Vehicle Type Count by Agency'!$C:$C,\"=\"&$C43)/SUMIFS('Vehicle Type Count by Agency'!AZ:AZ,'Vehicle Type Count by Agency'!$C:$C,\"=\"&$C43),\"\")","v":""},{"$f":"IFERROR(SUMIFS('Vehicle Type Count by Agency'!BC:BC,'Vehicle Type Count by Agency'!$C:$C,\"=\"&$C43)/SUMIFS('Vehicle Type Count by Agency'!BB:BB,'Vehicle Type Count by Agency'!$C:$C,\"=\"&$C43),\"\")","v":""},{"$f":"IFERROR(SUMIFS('Vehicle Type Count by Agency'!BE:BE,'Vehicle Type Count by Agency'!$C:$C,\"=\"&$C43)/SUMIFS('Vehicle Type Count by Agency'!BD:BD,'Vehicle Type Count by Agency'!$C:$C,\"=\"&$C43),\"\")","v":""},{"$f":"IFERROR(SUMIFS('Vehicle Type Count by Agency'!BG:BG,'Vehicle Type Count by Agency'!$C:$C,\"=\"&$C43)/SUMIFS('Vehicle Type Count by Agency'!BF:BF,'Vehicle Type Count by Agency'!$C:$C,\"=\"&$C43),\"\")","v":""},{"$f":"IFERROR(SUMIFS('Vehicle Type Count by Agency'!BI:BI,'Vehicle Type Count by Agency'!$C:$C,\"=\"&$C43)/SUMIFS('Vehicle Type Count by Agency'!BH:BH,'Vehicle Type Count by Agency'!$C:$C,\"=\"&$C43),\"\")","v":0.31497175141242939}]
[null,null,"AS","American Samoa",null,{"$f":"IFERROR(SUMIFS('Vehicle Type Count by Agency'!K:K,'Vehicle Type Count by Agency'!$C:$C,\"=\"&$C44)/SUMIFS('Vehicle Type Count by Agency'!J:J,'Vehicle Type Count by Agency'!$C:$C,\"=\"&$C44),\"\")","v":0},{"$f":"IFERROR(SUMIFS('Vehicle Type Count by Agency'!M:M,'Vehicle Type Count by Agency'!$C:$C,\"=\"&$C44)/SUMIFS('Vehicle Type Count by Agency'!L:L,'Vehicle Type Count by Agency'!$C:$C,\"=\"&$C44),\"\")","v":""},{"$f":"IFERROR(SUMIFS('Vehicle Type Count by Agency'!O:O,'Vehicle Type Count by Agency'!$C:$C,\"=\"&$C44)/SUMIFS('Vehicle Type Count by Agency'!N:N,'Vehicle Type Count by Agency'!$C:$C,\"=\"&$C44),\"\")","v":""},{"$f":"IFERROR(SUMIFS('Vehicle Type Count by Agency'!Q:Q,'Vehicle Type Count by Agency'!$C:$C,\"=\"&$C44)/SUMIFS('Vehicle Type Count by Agency'!P:P,'Vehicle Type Count by Agency'!$C:$C,\"=\"&$C44),\"\")","v":""},{"$f":"IFERROR(SUMIFS('Vehicle Type Count by Agency'!S:S,'Vehicle Type Count by Agency'!$C:$C,\"=\"&$C44)/SUMIFS('Vehicle Type Count by Agency'!R:R,'Vehicle Type Count by Agency'!$C:$C,\"=\"&$C44),\"\")","v":""},{"$f":"IFERROR(SUMIFS('Vehicle Type Count by Agency'!U:U,'Vehicle Type Count by Agency'!$C:$C,\"=\"&$C44)/SUMIFS('Vehicle Type Count by Agency'!T:T,'Vehicle Type Count by Agency'!$C:$C,\"=\"&$C44),\"\")","v":0},{"$f":"IFERROR(SUMIFS('Vehicle Type Count by Agency'!W:W,'Vehicle Type Count by Agency'!$C:$C,\"=\"&$C44)/SUMIFS('Vehicle Type Count by Agency'!V:V,'Vehicle Type Count by Agency'!$C:$C,\"=\"&$C44),\"\")","v":""},{"$f":"IFERROR(SUMIFS('Vehicle Type Count by Agency'!Y:Y,'Vehicle Type Count by Agency'!$C:$C,\"=\"&$C44)/SUMIFS('Vehicle Type Count by Agency'!X:X,'Vehicle Type Count by Agency'!$C:$C,\"=\"&$C44),\"\")","v":""},{"$f":"IFERROR(SUMIFS('Vehicle Type Count by Agency'!AA:AA,'Vehicle Type Count by Agency'!$C:$C,\"=\"&$C44)/SUMIFS('Vehicle Type Count by Agency'!Z:Z,'Vehicle Type Count by Agency'!$C:$C,\"=\"&$C44),\"\")","v":""},{"$f":"IFERROR(SUMIFS('Vehicle Type Count by Agency'!AC:AC,'Vehicle Type Count by Agency'!$C:$C,\"=\"&$C44)/SUMIFS('Vehicle Type Count by Agency'!AB:AB,'Vehicle Type Count by Agency'!$C:$C,\"=\"&$C44),\"\")","v":""},{"$f":"IFERROR(SUMIFS('Vehicle Type Count by Agency'!AE:AE,'Vehicle Type Count by Agency'!$C:$C,\"=\"&$C44)/SUMIFS('Vehicle Type Count by Agency'!AD:AD,'Vehicle Type Count by Agency'!$C:$C,\"=\"&$C44),\"\")","v":""},{"$f":"IFERROR(SUMIFS('Vehicle Type Count by Agency'!AG:AG,'Vehicle Type Count by Agency'!$C:$C,\"=\"&$C44)/SUMIFS('Vehicle Type Count by Agency'!AF:AF,'Vehicle Type Count by Agency'!$C:$C,\"=\"&$C44),\"\")","v":""},{"$f":"IFERROR(SUMIFS('Vehicle Type Count by Agency'!AI:AI,'Vehicle Type Count by Agency'!$C:$C,\"=\"&$C44)/SUMIFS('Vehicle Type Count by Agency'!AH:AH,'Vehicle Type Count by Agency'!$C:$C,\"=\"&$C44),\"\")","v":""},{"$f":"IFERROR(SUMIFS('Vehicle Type Count by Agency'!AK:AK,'Vehicle Type Count by Agency'!$C:$C,\"=\"&$C44)/SUMIFS('Vehicle Type Count by Agency'!AJ:AJ,'Vehicle Type Count by Agency'!$C:$C,\"=\"&$C44),\"\")","v":""},{"$f":"IFERROR(SUMIFS('Vehicle Type Count by Agency'!AM:AM,'Vehicle Type Count by Agency'!$C:$C,\"=\"&$C44)/SUMIFS('Vehicle Type Count by Agency'!AL:AL,'Vehicle Type Count by Agency'!$C:$C,\"=\"&$C44),\"\")","v":""},{"$f":"IFERROR(SUMIFS('Vehicle Type Count by Agency'!AO:AO,'Vehicle Type Count by Agency'!$C:$C,\"=\"&$C44)/SUMIFS('Vehicle Type Count by Agency'!AN:AN,'Vehicle Type Count by Agency'!$C:$C,\"=\"&$C44),\"\")","v":""},{"$f":"IFERROR(SUMIFS('Vehicle Type Count by Agency'!AQ:AQ,'Vehicle Type Count by Agency'!$C:$C,\"=\"&$C44)/SUMIFS('Vehicle Type Count by Agency'!AP:AP,'Vehicle Type Count by Agency'!$C:$C,\"=\"&$C44),\"\")","v":""},{"$f":"IFERROR(SUMIFS('Vehicle Type Count by Agency'!AS:AS,'Vehicle Type Count by Agency'!$C:$C,\"=\"&$C44)/SUMIFS('Vehicle Type Count by Agency'!AR:AR,'Vehicle Type Count by Agency'!$C:$C,\"=\"&$C44),\"\")","v":""},{"$f":"IFERROR(SUMIFS('Vehicle Type Count by Agency'!AU:AU,'Vehicle Type Count by Agency'!$C:$C,\"=\"&$C44)/SUMIFS('Vehicle Type Count by Agency'!AT:AT,'Vehicle Type Count by Agency'!$C:$C,\"=\"&$C44),\"\")","v":""},{"$f":"IFERROR(SUMIFS('Vehicle Type Count by Agency'!AW:AW,'Vehicle Type Count by Agency'!$C:$C,\"=\"&$C44)/SUMIFS('Vehicle Type Count by Agency'!AV:AV,'Vehicle Type Count by Agency'!$C:$C,\"=\"&$C44),\"\")","v":""},{"$f":"IFERROR(SUMIFS('Vehicle Type Count by Agency'!AY:AY,'Vehicle Type Count by Agency'!$C:$C,\"=\"&$C44)/SUMIFS('Vehicle Type Count by Agency'!AX:AX,'Vehicle Type Count by Agency'!$C:$C,\"=\"&$C44),\"\")","v":""},{"$f":"IFERROR(SUMIFS('Vehicle Type Count by Agency'!BA:BA,'Vehicle Type Count by Agency'!$C:$C,\"=\"&$C44)/SUMIFS('Vehicle Type Count by Agency'!AZ:AZ,'Vehicle Type Count by Agency'!$C:$C,\"=\"&$C44),\"\")","v":""},{"$f":"IFERROR(SUMIFS('Vehicle Type Count by Agency'!BC:BC,'Vehicle Type Count by Agency'!$C:$C,\"=\"&$C44)/SUMIFS('Vehicle Type Count by Agency'!BB:BB,'Vehicle Type Count by Agency'!$C:$C,\"=\"&$C44),\"\")","v":""},{"$f":"IFERROR(SUMIFS('Vehicle Type Count by Agency'!BE:BE,'Vehicle Type Count by Agency'!$C:$C,\"=\"&$C44)/SUMIFS('Vehicle Type Count by Agency'!BD:BD,'Vehicle Type Count by Agency'!$C:$C,\"=\"&$C44),\"\")","v":0},{"$f":"IFERROR(SUMIFS('Vehicle Type Count by Agency'!BG:BG,'Vehicle Type Count by Agency'!$C:$C,\"=\"&$C44)/SUMIFS('Vehicle Type Count by Agency'!BF:BF,'Vehicle Type Count by Agency'!$C:$C,\"=\"&$C44),\"\")","v":""},{"$f":"IFERROR(SUMIFS('Vehicle Type Count by Agency'!BI:BI,'Vehicle Type Count by Agency'!$C:$C,\"=\"&$C44)/SUMIFS('Vehicle Type Count by Agency'!BH:BH,'Vehicle Type Count by Agency'!$C:$C,\"=\"&$C44),\"\")","v":0}]
[null,null,"AZ","Arizona",null,{"$f":"IFERROR(SUMIFS('Vehicle Type Count by Agency'!K:K,'Vehicle Type Count by Agency'!$C:$C,\"=\"&$C45)/SUMIFS('Vehicle Type Count by Agency'!J:J,'Vehicle Type Count by Agency'!$C:$C,\"=\"&$C45),\"\")","v":4.2759961127308066E-2},{"$f":"IFERROR(SUMIFS('Vehicle Type Count by Agency'!M:M,'Vehicle Type Count by Agency'!$C:$C,\"=\"&$C45)/SUMIFS('Vehicle Type Count by Agency'!L:L,'Vehicle Type Count by Agency'!$C:$C,\"=\"&$C45),\"\")","v":0},{"$f":"IFERROR(SUMIFS('Vehicle Type Count by Agency'!O:O,'Vehicle Type Count by Agency'!$C:$C,\"=\"&$C45)/SUMIFS('Vehicle Type Count by Agency'!N:N,'Vehicle Type Count by Agency'!$C:$C,\"=\"&$C45),\"\")","v":0},{"$f":"IFERROR(SUMIFS('Vehicle Type Count by Agency'!Q:Q,'Vehicle Type Count by Agency'!$C:$C,\"=\"&$C45)/SUMIFS('Vehicle Type Count by Agency'!P:P,'Vehicle Type Count by Agency'!$C:$C,\"=\"&$C45),\"\")","v":""},{"$f":"IFERROR(SUMIFS('Vehicle Type Count by Agency'!S:S,'Vehicle Type Count by Agency'!$C:$C,\"=\"&$C45)/SUMIFS('Vehicle Type Count by Agency'!R:R,'Vehicle Type Count by Agency'!$C:$C,\"=\"&$C45),\"\")","v":""},{"$f":"IFERROR(SUMIFS('Vehicle Type Count by Agency'!U:U,'Vehicle Type Count by Agency'!$C:$C,\"=\"&$C45)/SUMIFS('Vehicle Type Count by Agency'!T:T,'Vehicle Type Count by Agency'!$C:$C,\"=\"&$C45),\"\")","v":7.724425887265135E-2},{"$f":"IFERROR(SUMIFS('Vehicle Type Count by Agency'!W:W,'Vehicle Type Count by Agency'!$C:$C,\"=\"&$C45)/SUMIFS('Vehicle Type Count by Agency'!V:V,'Vehicle Type Count by Agency'!$C:$C,\"=\"&$C45),\"\")","v":4.006677796327212E-2},{"$f":"IFERROR(SUMIFS('Vehicle Type Count by Agency'!Y:Y,'Vehicle Type Count by Agency'!$C:$C,\"=\"&$C45)/SUMIFS('Vehicle Type Count by Agency'!X:X,'Vehicle Type Count by Agency'!$C:$C,\"=\"&$C45),\"\")","v":6.920415224913495E-3},{"$f":"IFERROR(SUMIFS('Vehicle Type Count by Agency'!AA:AA,'Vehicle Type Count by Agency'!$C:$C,\"=\"&$C45)/SUMIFS('Vehicle Type Count by Agency'!Z:Z,'Vehicle Type Count by Agency'!$C:$C,\"=\"&$C45),\"\")","v":4.2372881355932202E-2},{"$f":"IFERROR(SUMIFS('Vehicle Type Count by Agency'!AC:AC,'Vehicle Type Count by Agency'!$C:$C,\"=\"&$C45)/SUMIFS('Vehicle Type Count by Agency'!AB:AB,'Vehicle Type Count by Agency'!$C:$C,\"=\"&$C45),\"\")","v":0},{"$f":"IFERROR(SUMIFS('Vehicle Type Count by Agency'!AE:AE,'Vehicle Type Count by Agency'!$C:$C,\"=\"&$C45)/SUMIFS('Vehicle Type Count by Agency'!AD:AD,'Vehicle Type Count by Agency'!$C:$C,\"=\"&$C45),\"\")","v":""},{"$f":"IFERROR(SUMIFS('Vehicle Type Count by Agency'!AG:AG,'Vehicle Type Count by Agency'!$C:$C,\"=\"&$C45)/SUMIFS('Vehicle Type Count by Agency'!AF:AF,'Vehicle Type Count by Agency'!$C:$C,\"=\"&$C45),\"\")","v":""},{"$f":"IFERROR(SUMIFS('Vehicle Type Count by Agency'!AI:AI,'Vehicle Type Count by Agency'!$C:$C,\"=\"&$C45)/SUMIFS('Vehicle Type Count by Agency'!AH:AH,'Vehicle Type Count by Agency'!$C:$C,\"=\"&$C45),\"\")","v":0},{"$f":"IFERROR(SUMIFS('Vehicle Type Count by Agency'!AK:AK,'Vehicle Type Count by Agency'!$C:$C,\"=\"&$C45)/SUMIFS('Vehicle Type Count by Agency'!AJ:AJ,'Vehicle Type Count by Agency'!$C:$C,\"=\"&$C45),\"\")","v":""},{"$f":"IFERROR(SUMIFS('Vehicle Type Count by Agency'!AM:AM,'Vehicle Type Count by Agency'!$C:$C,\"=\"&$C45)/SUMIFS('Vehicle Type Count by Agency'!AL:AL,'Vehicle Type Count by Agency'!$C:$C,\"=\"&$C45),\"\")","v":""},{"$f":"IFERROR(SUMIFS('Vehicle Type Count by Agency'!AO:AO,'Vehicle Type Count by Agency'!$C:$C,\"=\"&$C45)/SUMIFS('Vehicle Type Count by Agency'!AN:AN,'Vehicle Type Count by Agency'!$C:$C,\"=\"&$C45),\"\")","v":""},{"$f":"IFERROR(SUMIFS('Vehicle Type Count by Agency'!AQ:AQ,'Vehicle Type Count by Agency'!$C:$C,\"=\"&$C45)/SUMIFS('Vehicle Type Count by Agency'!AP:AP,'Vehicle Type Count by Agency'!$C:$C,\"=\"&$C45),\"\")","v":""},{"$f":"IFERROR(SUMIFS('Vehicle Type Count by Agency'!AS:AS,'Vehicle Type Count by Agency'!$C:$C,\"=\"&$C45)/SUMIFS('Vehicle Type Count by Agency'!AR:AR,'Vehicle Type Count by Agency'!$C:$C,\"=\"&$C45),\"\")","v":""},{"$f":"IFERROR(SUMIFS('Vehicle Type Count by Agency'!AU:AU,'Vehicle Type Count by Agency'!$C:$C,\"=\"&$C45)/SUMIFS('Vehicle Type Count by Agency'!AT:AT,'Vehicle Type Count by Agency'!$C:$C,\"=\"&$C45),\"\")","v":0},{"$f":"IFERROR(SUMIFS('Vehicle Type Count by Agency'!AW:AW,'Vehicle Type Count by Agency'!$C:$C,\"=\"&$C45)/SUMIFS('Vehicle Type Count by Agency'!AV:AV,'Vehicle Type Count by Agency'!$C:$C,\"=\"&$C45),\"\")","v":""},{"$f":"IFERROR(SUMIFS('Vehicle Type Count by Agency'!AY:AY,'Vehicle Type Count by Agency'!$C:$C,\"=\"&$C45)/SUMIFS('Vehicle Type Count by Agency'!AX:AX,'Vehicle Type Count by Agency'!$C:$C,\"=\"&$C45),\"\")","v":""},{"$f":"IFERROR(SUMIFS('Vehicle Type Count by Agency'!BA:BA,'Vehicle Type Count by Agency'!$C:$C,\"=\"&$C45)/SUMIFS('Vehicle Type Count by Agency'!AZ:AZ,'Vehicle Type Count by Agency'!$C:$C,\"=\"&$C45),\"\")","v":""},{"$f":"IFERROR(SUMIFS('Vehicle Type Count by Agency'!BC:BC,'Vehicle Type Count by Agency'!$C:$C,\"=\"&$C45)/SUMIFS('Vehicle Type Count by Agency'!BB:BB,'Vehicle Type Count by Agency'!$C:$C,\"=\"&$C45),\"\")","v":""},{"$f":"IFERROR(SUMIFS('Vehicle Type Count by Agency'!BE:BE,'Vehicle Type Count by Agency'!$C:$C,\"=\"&$C45)/SUMIFS('Vehicle Type Count by Agency'!BD:BD,'Vehicle Type Count by Agency'!$C:$C,\"=\"&$C45),\"\")","v":""},{"$f":"IFERROR(SUMIFS('Vehicle Type Count by Agency'!BG:BG,'Vehicle Type Count by Agency'!$C:$C,\"=\"&$C45)/SUMIFS('Vehicle Type Count by Agency'!BF:BF,'Vehicle Type Count by Agency'!$C:$C,\"=\"&$C45),\"\")","v":0.33333333333333331},{"$f":"IFERROR(SUMIFS('Vehicle Type Count by Agency'!BI:BI,'Vehicle Type Count by Agency'!$C:$C,\"=\"&$C45)/SUMIFS('Vehicle Type Count by Agency'!BH:BH,'Vehicle Type Count by Agency'!$C:$C,\"=\"&$C45),\"\")","v":4.1165755919854281E-2}]
[null,null,"CA","California",null,{"$f":"IFERROR(SUMIFS('Vehicle Type Count by Agency'!K:K,'Vehicle Type Count by Agency'!$C:$C,\"=\"&$C46)/SUMIFS('Vehicle Type Count by Agency'!J:J,'Vehicle Type Count by Agency'!$C:$C,\"=\"&$C46),\"\")","v":0.186448087431694},{"$f":"IFERROR(SUMIFS('Vehicle Type Count by Agency'!M:M,'Vehicle Type Count by Agency'!$C:$C,\"=\"&$C46)/SUMIFS('Vehicle Type Count by Agency'!L:L,'Vehicle Type Count by Agency'!$C:$C,\"=\"&$C46),\"\")","v":0.39015817223198596},{"$f":"IFERROR(SUMIFS('Vehicle Type Count by Agency'!O:O,'Vehicle Type Count by Agency'!$C:$C,\"=\"&$C46)/SUMIFS('Vehicle Type Count by Agency'!N:N,'Vehicle Type Count by Agency'!$C:$C,\"=\"&$C46),\"\")","v":0.1728395061728395},{"$f":"IFERROR(SUMIFS('Vehicle Type Count by Agency'!Q:Q,'Vehicle Type Count by Agency'!$C:$C,\"=\"&$C46)/SUMIFS('Vehicle Type Count by Agency'!P:P,'Vehicle Type Count by Agency'!$C:$C,\"=\"&$C46),\"\")","v":0.5},{"$f":"IFERROR(SUMIFS('Vehicle Type Count by Agency'!S:S,'Vehicle Type Count by Agency'!$C:$C,\"=\"&$C46)/SUMIFS('Vehicle Type Count by Agency'!R:R,'Vehicle Type Count by Agency'!$C:$C,\"=\"&$C46),\"\")","v":""},{"$f":"IFERROR(SUMIFS('Vehicle Type Count by Agency'!U:U,'Vehicle Type Count by Agency'!$C:$C,\"=\"&$C46)/SUMIFS('Vehicle Type Count by Agency'!T:T,'Vehicle Type Count by Agency'!$C:$C,\"=\"&$C46),\"\")","v":8.4800741427247445E-2},{"$f":"IFERROR(SUMIFS('Vehicle Type Count by Agency'!W:W,'Vehicle Type Count by Agency'!$C:$C,\"=\"&$C46)/SUMIFS('Vehicle Type Count by Agency'!V:V,'Vehicle Type Count by Agency'!$C:$C,\"=\"&$C46),\"\")","v":0.18929921488804885},{"$f":"IFERROR(SUMIFS('Vehicle Type Count by Agency'!Y:Y,'Vehicle Type Count by Agency'!$C:$C,\"=\"&$C46)/SUMIFS('Vehicle Type Count by Agency'!X:X,'Vehicle Type Count by Agency'!$C:$C,\"=\"&$C46),\"\")","v":2.5338833235120803E-2},{"$f":"IFERROR(SUMIFS('Vehicle Type Count by Agency'!AA:AA,'Vehicle Type Count by Agency'!$C:$C,\"=\"&$C46)/SUMIFS('Vehicle Type Count by Agency'!Z:Z,'Vehicle Type Count by Agency'!$C:$C,\"=\"&$C46),\"\")","v":6.3802083333333329E-2},{"$f":"IFERROR(SUMIFS('Vehicle Type Count by Agency'!AC:AC,'Vehicle Type Count by Agency'!$C:$C,\"=\"&$C46)/SUMIFS('Vehicle Type Count by Agency'!AB:AB,'Vehicle Type Count by Agency'!$C:$C,\"=\"&$C46),\"\")","v":3.9840637450199202E-3},{"$f":"IFERROR(SUMIFS('Vehicle Type Count by Agency'!AE:AE,'Vehicle Type Count by Agency'!$C:$C,\"=\"&$C46)/SUMIFS('Vehicle Type Count by Agency'!AD:AD,'Vehicle Type Count by Agency'!$C:$C,\"=\"&$C46),\"\")","v":0.63009404388714729},{"$f":"IFERROR(SUMIFS('Vehicle Type Count by Agency'!AG:AG,'Vehicle Type Count by Agency'!$C:$C,\"=\"&$C46)/SUMIFS('Vehicle Type Count by Agency'!AF:AF,'Vehicle Type Count by Agency'!$C:$C,\"=\"&$C46),\"\")","v":0.74181360201511337},{"$f":"IFERROR(SUMIFS('Vehicle Type Count by Agency'!AI:AI,'Vehicle Type Count by Agency'!$C:$C,\"=\"&$C46)/SUMIFS('Vehicle Type Count by Agency'!AH:AH,'Vehicle Type Count by Agency'!$C:$C,\"=\"&$C46),\"\")","v":6.8836045056320405E-2},{"$f":"IFERROR(SUMIFS('Vehicle Type Count by Agency'!AK:AK,'Vehicle Type Count by Agency'!$C:$C,\"=\"&$C46)/SUMIFS('Vehicle Type Count by Agency'!AJ:AJ,'Vehicle Type Count by Agency'!$C:$C,\"=\"&$C46),\"\")","v":0.17136150234741784},{"$f":"IFERROR(SUMIFS('Vehicle Type Count by Agency'!AM:AM,'Vehicle Type Count by Agency'!$C:$C,\"=\"&$C46)/SUMIFS('Vehicle Type Count by Agency'!AL:AL,'Vehicle Type Count by Agency'!$C:$C,\"=\"&$C46),\"\")","v":0},{"$f":"IFERROR(SUMIFS('Vehicle Type Count by Agency'!AO:AO,'Vehicle Type Count by Agency'!$C:$C,\"=\"&$C46)/SUMIFS('Vehicle Type Count by Agency'!AN:AN,'Vehicle Type Count by Agency'!$C:$C,\"=\"&$C46),\"\")","v":0.21649484536082475},{"$f":"IFERROR(SUMIFS('Vehicle Type Count by Agency'!AQ:AQ,'Vehicle Type Count by Agency'!$C:$C,\"=\"&$C46)/SUMIFS('Vehicle Type Count by Agency'!AP:AP,'Vehicle Type Count by Agency'!$C:$C,\"=\"&$C46),\"\")","v":0},{"$f":"IFERROR(SUMIFS('Vehicle Type Count by Agency'!AS:AS,'Vehicle Type Count by Agency'!$C:$C,\"=\"&$C46)/SUMIFS('Vehicle Type Count by Agency'!AR:AR,'Vehicle Type Count by Agency'!$C:$C,\"=\"&$C46),\"\")","v":1},{"$f":"IFERROR(SUMIFS('Vehicle Type Count by Agency'!AU:AU,'Vehicle Type Count by Agency'!$C:$C,\"=\"&$C46)/SUMIFS('Vehicle Type Count by Agency'!AT:AT,'Vehicle Type Count by Agency'!$C:$C,\"=\"&$C46),\"\")","v":1},{"$f":"IFERROR(SUMIFS('Vehicle Type Count by Agency'!AW:AW,'Vehicle Type Count by Agency'!$C:$C,\"=\"&$C46)/SUMIFS('Vehicle Type Count by Agency'!AV:AV,'Vehicle Type Count by Agency'!$C:$C,\"=\"&$C46),\"\")","v":""},{"$f":"IFERROR(SUMIFS('Vehicle Type Count by Agency'!AY:AY,'Vehicle Type Count by Agency'!$C:$C,\"=\"&$C46)/SUMIFS('Vehicle Type Count by Agency'!AX:AX,'Vehicle Type Count by Agency'!$C:$C,\"=\"&$C46),\"\")","v":""},{"$f":"IFERROR(SUMIFS('Vehicle Type Count by Agency'!BA:BA,'Vehicle Type Count by Agency'!$C:$C,\"=\"&$C46)/SUMIFS('Vehicle Type Count by Agency'!AZ:AZ,'Vehicle Type Count by Agency'!$C:$C,\"=\"&$C46),\"\")","v":0.61111111111111116},{"$f":"IFERROR(SUMIFS('Vehicle Type Count by Agency'!BC:BC,'Vehicle Type Count by Agency'!$C:$C,\"=\"&$C46)/SUMIFS('Vehicle Type Count by Agency'!BB:BB,'Vehicle Type Count by Agency'!$C:$C,\"=\"&$C46),\"\")","v":""},{"$f":"IFERROR(SUMIFS('Vehicle Type Count by Agency'!BE:BE,'Vehicle Type Count by Agency'!$C:$C,\"=\"&$C46)/SUMIFS('Vehicle Type Count by Agency'!BD:BD,'Vehicle Type Count by Agency'!$C:$C,\"=\"&$C46),\"\")","v":0.16666666666666666},{"$f":"IFERROR(SUMIFS('Vehicle Type Count by Agency'!BG:BG,'Vehicle Type Count by Agency'!$C:$C,\"=\"&$C46)/SUMIFS('Vehicle Type Count by Agency'!BF:BF,'Vehicle Type Count by Agency'!$C:$C,\"=\"&$C46),\"\")","v":""},{"$f":"IFERROR(SUMIFS('Vehicle Type Count by Agency'!BI:BI,'Vehicle Type Count by Agency'!$C:$C,\"=\"&$C46)/SUMIFS('Vehicle Type Count by Agency'!BH:BH,'Vehicle Type Count by Agency'!$C:$C,\"=\"&$C46),\"\")","v":0.18303946263643997}]
[null,null,"CO","Colorado",null,{"$f":"IFERROR(SUMIFS('Vehicle Type Count by Agency'!K:K,'Vehicle Type Count by Agency'!$C:$C,\"=\"&$C47)/SUMIFS('Vehicle Type Count by Agency'!J:J,'Vehicle Type Count by Agency'!$C:$C,\"=\"&$C47),\"\")","v":6.8720379146919433E-2},{"$f":"IFERROR(SUMIFS('Vehicle Type Count by Agency'!M:M,'Vehicle Type Count by Agency'!$C:$C,\"=\"&$C47)/SUMIFS('Vehicle Type Count by Agency'!L:L,'Vehicle Type Count by Agency'!$C:$C,\"=\"&$C47),\"\")","v":1.5748031496062992E-2},{"$f":"IFERROR(SUMIFS('Vehicle Type Count by Agency'!O:O,'Vehicle Type Count by Agency'!$C:$C,\"=\"&$C47)/SUMIFS('Vehicle Type Count by Agency'!N:N,'Vehicle Type Count by Agency'!$C:$C,\"=\"&$C47),\"\")","v":3.0303030303030304E-2},{"$f":"IFERROR(SUMIFS('Vehicle Type Count by Agency'!Q:Q,'Vehicle Type Count by Agency'!$C:$C,\"=\"&$C47)/SUMIFS('Vehicle Type Count by Agency'!P:P,'Vehicle Type Count by Agency'!$C:$C,\"=\"&$C47),\"\")","v":""},{"$f":"IFERROR(SUMIFS('Vehicle Type Count by Agency'!S:S,'Vehicle Type Count by Agency'!$C:$C,\"=\"&$C47)/SUMIFS('Vehicle Type Count by Agency'!R:R,'Vehicle Type Count by Agency'!$C:$C,\"=\"&$C47),\"\")","v":1},{"$f":"IFERROR(SUMIFS('Vehicle Type Count by Agency'!U:U,'Vehicle Type Count by Agency'!$C:$C,\"=\"&$C47)/SUMIFS('Vehicle Type Count by Agency'!T:T,'Vehicle Type Count by Agency'!$C:$C,\"=\"&$C47),\"\")","v":7.8947368421052627E-2},{"$f":"IFERROR(SUMIFS('Vehicle Type Count by Agency'!W:W,'Vehicle Type Count by Agency'!$C:$C,\"=\"&$C47)/SUMIFS('Vehicle Type Count by Agency'!V:V,'Vehicle Type Count by Agency'!$C:$C,\"=\"&$C47),\"\")","v":0.11473429951690821},{"$f":"IFERROR(SUMIFS('Vehicle Type Count by Agency'!Y:Y,'Vehicle Type Count by Agency'!$C:$C,\"=\"&$C47)/SUMIFS('Vehicle Type Count by Agency'!X:X,'Vehicle Type Count by Agency'!$C:$C,\"=\"&$C47),\"\")","v":0.11594202898550725},{"$f":"IFERROR(SUMIFS('Vehicle Type Count by Agency'!AA:AA,'Vehicle Type Count by Agency'!$C:$C,\"=\"&$C47)/SUMIFS('Vehicle Type Count by Agency'!Z:Z,'Vehicle Type Count by Agency'!$C:$C,\"=\"&$C47),\"\")","v":0.18483412322274881},{"$f":"IFERROR(SUMIFS('Vehicle Type Count by Agency'!AC:AC,'Vehicle Type Count by Agency'!$C:$C,\"=\"&$C47)/SUMIFS('Vehicle Type Count by Agency'!AB:AB,'Vehicle Type Count by Agency'!$C:$C,\"=\"&$C47),\"\")","v":0.2},{"$f":"IFERROR(SUMIFS('Vehicle Type Count by Agency'!AE:AE,'Vehicle Type Count by Agency'!$C:$C,\"=\"&$C47)/SUMIFS('Vehicle Type Count by Agency'!AD:AD,'Vehicle Type Count by Agency'!$C:$C,\"=\"&$C47),\"\")","v":""},{"$f":"IFERROR(SUMIFS('Vehicle Type Count by Agency'!AG:AG,'Vehicle Type Count by Agency'!$C:$C,\"=\"&$C47)/SUMIFS('Vehicle Type Count by Agency'!AF:AF,'Vehicle Type Count by Agency'!$C:$C,\"=\"&$C47),\"\")","v":""},{"$f":"IFERROR(SUMIFS('Vehicle Type Count by Agency'!AI:AI,'Vehicle Type Count by Agency'!$C:$C,\"=\"&$C47)/SUMIFS('Vehicle Type Count by Agency'!AH:AH,'Vehicle Type Count by Agency'!$C:$C,\"=\"&$C47),\"\")","v":0},{"$f":"IFERROR(SUMIFS('Vehicle Type Count by Agency'!AK:AK,'Vehicle Type Count by Agency'!$C:$C,\"=\"&$C47)/SUMIFS('Vehicle Type Count by Agency'!AJ:AJ,'Vehicle Type Count by Agency'!$C:$C,\"=\"&$C47),\"\")","v":""},{"$f":"IFERROR(SUMIFS('Vehicle Type Count by Agency'!AM:AM,'Vehicle Type Count by Agency'!$C:$C,\"=\"&$C47)/SUMIFS('Vehicle Type Count by Agency'!AL:AL,'Vehicle Type Count by Agency'!$C:$C,\"=\"&$C47),\"\")","v":0},{"$f":"IFERROR(SUMIFS('Vehicle Type Count by Agency'!AO:AO,'Vehicle Type Count by Agency'!$C:$C,\"=\"&$C47)/SUMIFS('Vehicle Type Count by Agency'!AN:AN,'Vehicle Type Count by Agency'!$C:$C,\"=\"&$C47),\"\")","v":""},{"$f":"IFERROR(SUMIFS('Vehicle Type Count by Agency'!AQ:AQ,'Vehicle Type Count by Agency'!$C:$C,\"=\"&$C47)/SUMIFS('Vehicle Type Count by Agency'!AP:AP,'Vehicle Type Count by Agency'!$C:$C,\"=\"&$C47),\"\")","v":""},{"$f":"IFERROR(SUMIFS('Vehicle Type Count by Agency'!AS:AS,'Vehicle Type Count by Agency'!$C:$C,\"=\"&$C47)/SUMIFS('Vehicle Type Count by Agency'!AR:AR,'Vehicle Type Count by Agency'!$C:$C,\"=\"&$C47),\"\")","v":""},{"$f":"IFERROR(SUMIFS('Vehicle Type Count by Agency'!AU:AU,'Vehicle Type Count by Agency'!$C:$C,\"=\"&$C47)/SUMIFS('Vehicle Type Count by Agency'!AT:AT,'Vehicle Type Count by Agency'!$C:$C,\"=\"&$C47),\"\")","v":""},{"$f":"IFERROR(SUMIFS('Vehicle Type Count by Agency'!AW:AW,'Vehicle Type Count by Agency'!$C:$C,\"=\"&$C47)/SUMIFS('Vehicle Type Count by Agency'!AV:AV,'Vehicle Type Count by Agency'!$C:$C,\"=\"&$C47),\"\")","v":0.83823529411764708},{"$f":"IFERROR(SUMIFS('Vehicle Type Count by Agency'!AY:AY,'Vehicle Type Count by Agency'!$C:$C,\"=\"&$C47)/SUMIFS('Vehicle Type Count by Agency'!AX:AX,'Vehicle Type Count by Agency'!$C:$C,\"=\"&$C47),\"\")","v":""},{"$f":"IFERROR(SUMIFS('Vehicle Type Count by Agency'!BA:BA,'Vehicle Type Count by Agency'!$C:$C,\"=\"&$C47)/SUMIFS('Vehicle Type Count by Agency'!AZ:AZ,'Vehicle Type Count by Agency'!$C:$C,\"=\"&$C47),\"\")","v":""},{"$f":"IFERROR(SUMIFS('Vehicle Type Count by Agency'!BC:BC,'Vehicle Type Count by Agency'!$C:$C,\"=\"&$C47)/SUMIFS('Vehicle Type Count by Agency'!BB:BB,'Vehicle Type Count by Agency'!$C:$C,\"=\"&$C47),\"\")","v":""},{"$f":"IFERROR(SUMIFS('Vehicle Type Count by Agency'!BE:BE,'Vehicle Type Count by Agency'!$C:$C,\"=\"&$C47)/SUMIFS('Vehicle Type Count by Agency'!BD:BD,'Vehicle Type Count by Agency'!$C:$C,\"=\"&$C47),\"\")","v":""},{"$f":"IFERROR(SUMIFS('Vehicle Type Count by Agency'!BG:BG,'Vehicle Type Count by Agency'!$C:$C,\"=\"&$C47)/SUMIFS('Vehicle Type Count by Agency'!BF:BF,'Vehicle Type Count by Agency'!$C:$C,\"=\"&$C47),\"\")","v":0.13043478260869565},{"$f":"IFERROR(SUMIFS('Vehicle Type Count by Agency'!BI:BI,'Vehicle Type Count by Agency'!$C:$C,\"=\"&$C47)/SUMIFS('Vehicle Type Count by Agency'!BH:BH,'Vehicle Type Count by Agency'!$C:$C,\"=\"&$C47),\"\")","v":9.8116646415552858E-2}]
[null,null,"CT","Connecticut",null,{"$f":"IFERROR(SUMIFS('Vehicle Type Count by Agency'!K:K,'Vehicle Type Count by Agency'!$C:$C,\"=\"&$C48)/SUMIFS('Vehicle Type Count by Agency'!J:J,'Vehicle Type Count by Agency'!$C:$C,\"=\"&$C48),\"\")","v":0.11544011544011544},{"$f":"IFERROR(SUMIFS('Vehicle Type Count by Agency'!M:M,'Vehicle Type Count by Agency'!$C:$C,\"=\"&$C48)/SUMIFS('Vehicle Type Count by Agency'!L:L,'Vehicle Type Count by Agency'!$C:$C,\"=\"&$C48),\"\")","v":0},{"$f":"IFERROR(SUMIFS('Vehicle Type Count by Agency'!O:O,'Vehicle Type Count by Agency'!$C:$C,\"=\"&$C48)/SUMIFS('Vehicle Type Count by Agency'!N:N,'Vehicle Type Count by Agency'!$C:$C,\"=\"&$C48),\"\")","v":9.3023255813953487E-2},{"$f":"IFERROR(SUMIFS('Vehicle Type Count by Agency'!Q:Q,'Vehicle Type Count by Agency'!$C:$C,\"=\"&$C48)/SUMIFS('Vehicle Type Count by Agency'!P:P,'Vehicle Type Count by Agency'!$C:$C,\"=\"&$C48),\"\")","v":""},{"$f":"IFERROR(SUMIFS('Vehicle Type Count by Agency'!S:S,'Vehicle Type Count by Agency'!$C:$C,\"=\"&$C48)/SUMIFS('Vehicle Type Count by Agency'!R:R,'Vehicle Type Count by Agency'!$C:$C,\"=\"&$C48),\"\")","v":""},{"$f":"IFERROR(SUMIFS('Vehicle Type Count by Agency'!U:U,'Vehicle Type Count by Agency'!$C:$C,\"=\"&$C48)/SUMIFS('Vehicle Type Count by Agency'!T:T,'Vehicle Type Count by Agency'!$C:$C,\"=\"&$C48),\"\")","v":0.2},{"$f":"IFERROR(SUMIFS('Vehicle Type Count by Agency'!W:W,'Vehicle Type Count by Agency'!$C:$C,\"=\"&$C48)/SUMIFS('Vehicle Type Count by Agency'!V:V,'Vehicle Type Count by Agency'!$C:$C,\"=\"&$C48),\"\")","v":0.26740506329113922},{"$f":"IFERROR(SUMIFS('Vehicle Type Count by Agency'!Y:Y,'Vehicle Type Count by Agency'!$C:$C,\"=\"&$C48)/SUMIFS('Vehicle Type Count by Agency'!X:X,'Vehicle Type Count by Agency'!$C:$C,\"=\"&$C48),\"\")","v":""},{"$f":"IFERROR(SUMIFS('Vehicle Type Count by Agency'!AA:AA,'Vehicle Type Count by Agency'!$C:$C,\"=\"&$C48)/SUMIFS('Vehicle Type Count by Agency'!Z:Z,'Vehicle Type Count by Agency'!$C:$C,\"=\"&$C48),\"\")","v":0},{"$f":"IFERROR(SUMIFS('Vehicle Type Count by Agency'!AC:AC,'Vehicle Type Count by Agency'!$C:$C,\"=\"&$C48)/SUMIFS('Vehicle Type Count by Agency'!AB:AB,'Vehicle Type Count by Agency'!$C:$C,\"=\"&$C48),\"\")","v":0},{"$f":"IFERROR(SUMIFS('Vehicle Type Count by Agency'!AE:AE,'Vehicle Type Count by Agency'!$C:$C,\"=\"&$C48)/SUMIFS('Vehicle Type Count by Agency'!AD:AD,'Vehicle Type Count by Agency'!$C:$C,\"=\"&$C48),\"\")","v":""},{"$f":"IFERROR(SUMIFS('Vehicle Type Count by Agency'!AG:AG,'Vehicle Type Count by Agency'!$C:$C,\"=\"&$C48)/SUMIFS('Vehicle Type Count by Agency'!AF:AF,'Vehicle Type Count by Agency'!$C:$C,\"=\"&$C48),\"\")","v":""},{"$f":"IFERROR(SUMIFS('Vehicle Type Count by Agency'!AI:AI,'Vehicle Type Count by Agency'!$C:$C,\"=\"&$C48)/SUMIFS('Vehicle Type Count by Agency'!AH:AH,'Vehicle Type Count by Agency'!$C:$C,\"=\"&$C48),\"\")","v":""},{"$f":"IFERROR(SUMIFS('Vehicle Type Count by Agency'!AK:AK,'Vehicle Type Count by Agency'!$C:$C,\"=\"&$C48)/SUMIFS('Vehicle Type Count by Agency'!AJ:AJ,'Vehicle Type Count by Agency'!$C:$C,\"=\"&$C48),\"\")","v":1},{"$f":"IFERROR(SUMIFS('Vehicle Type Count by Agency'!AM:AM,'Vehicle Type Count by Agency'!$C:$C,\"=\"&$C48)/SUMIFS('Vehicle Type Count by Agency'!AL:AL,'Vehicle Type Count by Agency'!$C:$C,\"=\"&$C48),\"\")","v":""},{"$f":"IFERROR(SUMIFS('Vehicle Type Count by Agency'!AO:AO,'Vehicle Type Count by Agency'!$C:$C,\"=\"&$C48)/SUMIFS('Vehicle Type Count by Agency'!AN:AN,'Vehicle Type Count by Agency'!$C:$C,\"=\"&$C48),\"\")","v":1},{"$f":"IFERROR(SUMIFS('Vehicle Type Count by Agency'!AQ:AQ,'Vehicle Type Count by Agency'!$C:$C,\"=\"&$C48)/SUMIFS('Vehicle Type Count by Agency'!AP:AP,'Vehicle Type Count by Agency'!$C:$C,\"=\"&$C48),\"\")","v":""},{"$f":"IFERROR(SUMIFS('Vehicle Type Count by Agency'!AS:AS,'Vehicle Type Count by Agency'!$C:$C,\"=\"&$C48)/SUMIFS('Vehicle Type Count by Agency'!AR:AR,'Vehicle Type Count by Agency'!$C:$C,\"=\"&$C48),\"\")","v":""},{"$f":"IFERROR(SUMIFS('Vehicle Type Count by Agency'!AU:AU,'Vehicle Type Count by Agency'!$C:$C,\"=\"&$C48)/SUMIFS('Vehicle Type Count by Agency'!AT:AT,'Vehicle Type Count by Agency'!$C:$C,\"=\"&$C48),\"\")","v":""},{"$f":"IFERROR(SUMIFS('Vehicle Type Count by Agency'!AW:AW,'Vehicle Type Count by Agency'!$C:$C,\"=\"&$C48)/SUMIFS('Vehicle Type Count by Agency'!AV:AV,'Vehicle Type Count by Agency'!$C:$C,\"=\"&$C48),\"\")","v":""},{"$f":"IFERROR(SUMIFS('Vehicle Type Count by Agency'!AY:AY,'Vehicle Type Count by Agency'!$C:$C,\"=\"&$C48)/SUMIFS('Vehicle Type Count by Agency'!AX:AX,'Vehicle Type Count by Agency'!$C:$C,\"=\"&$C48),\"\")","v":""},{"$f":"IFERROR(SUMIFS('Vehicle Type Count by Agency'!BA:BA,'Vehicle Type Count by Agency'!$C:$C,\"=\"&$C48)/SUMIFS('Vehicle Type Count by Agency'!AZ:AZ,'Vehicle Type Count by Agency'!$C:$C,\"=\"&$C48),\"\")","v":""},{"$f":"IFERROR(SUMIFS('Vehicle Type Count by Agency'!BC:BC,'Vehicle Type Count by Agency'!$C:$C,\"=\"&$C48)/SUMIFS('Vehicle Type Count by Agency'!BB:BB,'Vehicle Type Count by Agency'!$C:$C,\"=\"&$C48),\"\")","v":""},{"$f":"IFERROR(SUMIFS('Vehicle Type Count by Agency'!BE:BE,'Vehicle Type Count by Agency'!$C:$C,\"=\"&$C48)/SUMIFS('Vehicle Type Count by Agency'!BD:BD,'Vehicle Type Count by Agency'!$C:$C,\"=\"&$C48),\"\")","v":""},{"$f":"IFERROR(SUMIFS('Vehicle Type Count by Agency'!BG:BG,'Vehicle Type Count by Agency'!$C:$C,\"=\"&$C48)/SUMIFS('Vehicle Type Count by Agency'!BF:BF,'Vehicle Type Count by Agency'!$C:$C,\"=\"&$C48),\"\")","v":""},{"$f":"IFERROR(SUMIFS('Vehicle Type Count by Agency'!BI:BI,'Vehicle Type Count by Agency'!$C:$C,\"=\"&$C48)/SUMIFS('Vehicle Type Count by Agency'!BH:BH,'Vehicle Type Count by Agency'!$C:$C,\"=\"&$C48),\"\")","v":0.20319786808794138}]
[null,null,"DC","District of Columbia",null,{"$f":"IFERROR(SUMIFS('Vehicle Type Count by Agency'!K:K,'Vehicle Type Count by Agency'!$C:$C,\"=\"&$C49)/SUMIFS('Vehicle Type Count by Agency'!J:J,'Vehicle Type Count by Agency'!$C:$C,\"=\"&$C49),\"\")","v":2.9886431560071727E-2},{"$f":"IFERROR(SUMIFS('Vehicle Type Count by Agency'!M:M,'Vehicle Type Count by Agency'!$C:$C,\"=\"&$C49)/SUMIFS('Vehicle Type Count by Agency'!L:L,'Vehicle Type Count by Agency'!$C:$C,\"=\"&$C49),\"\")","v":0},{"$f":"IFERROR(SUMIFS('Vehicle Type Count by Agency'!O:O,'Vehicle Type Count by Agency'!$C:$C,\"=\"&$C49)/SUMIFS('Vehicle Type Count by Agency'!N:N,'Vehicle Type Count by Agency'!$C:$C,\"=\"&$C49),\"\")","v":""},{"$f":"IFERROR(SUMIFS('Vehicle Type Count by Agency'!Q:Q,'Vehicle Type Count by Agency'!$C:$C,\"=\"&$C49)/SUMIFS('Vehicle Type Count by Agency'!P:P,'Vehicle Type Count by Agency'!$C:$C,\"=\"&$C49),\"\")","v":""},{"$f":"IFERROR(SUMIFS('Vehicle Type Count by Agency'!S:S,'Vehicle Type Count by Agency'!$C:$C,\"=\"&$C49)/SUMIFS('Vehicle Type Count by Agency'!R:R,'Vehicle Type Count by Agency'!$C:$C,\"=\"&$C49),\"\")","v":""},{"$f":"IFERROR(SUMIFS('Vehicle Type Count by Agency'!U:U,'Vehicle Type Count by Agency'!$C:$C,\"=\"&$C49)/SUMIFS('Vehicle Type Count by Agency'!T:T,'Vehicle Type Count by Agency'!$C:$C,\"=\"&$C49),\"\")","v":0},{"$f":"IFERROR(SUMIFS('Vehicle Type Count by Agency'!W:W,'Vehicle Type Count by Agency'!$C:$C,\"=\"&$C49)/SUMIFS('Vehicle Type Count by Agency'!V:V,'Vehicle Type Count by Agency'!$C:$C,\"=\"&$C49),\"\")","v":""},{"$f":"IFERROR(SUMIFS('Vehicle Type Count by Agency'!Y:Y,'Vehicle Type Count by Agency'!$C:$C,\"=\"&$C49)/SUMIFS('Vehicle Type Count by Agency'!X:X,'Vehicle Type Count by Agency'!$C:$C,\"=\"&$C49),\"\")","v":0},{"$f":"IFERROR(SUMIFS('Vehicle Type Count by Agency'!AA:AA,'Vehicle Type Count by Agency'!$C:$C,\"=\"&$C49)/SUMIFS('Vehicle Type Count by Agency'!Z:Z,'Vehicle Type Count by Agency'!$C:$C,\"=\"&$C49),\"\")","v":""},{"$f":"IFERROR(SUMIFS('Vehicle Type Count by Agency'!AC:AC,'Vehicle Type Count by Agency'!$C:$C,\"=\"&$C49)/SUMIFS('Vehicle Type Count by Agency'!AB:AB,'Vehicle Type Count by Agency'!$C:$C,\"=\"&$C49),\"\")","v":""},{"$f":"IFERROR(SUMIFS('Vehicle Type Count by Agency'!AE:AE,'Vehicle Type Count by Agency'!$C:$C,\"=\"&$C49)/SUMIFS('Vehicle Type Count by Agency'!AD:AD,'Vehicle Type Count by Agency'!$C:$C,\"=\"&$C49),\"\")","v":""},{"$f":"IFERROR(SUMIFS('Vehicle Type Count by Agency'!AG:AG,'Vehicle Type Count by Agency'!$C:$C,\"=\"&$C49)/SUMIFS('Vehicle Type Count by Agency'!AF:AF,'Vehicle Type Count by Agency'!$C:$C,\"=\"&$C49),\"\")","v":0},{"$f":"IFERROR(SUMIFS('Vehicle Type Count by Agency'!AI:AI,'Vehicle Type Count by Agency'!$C:$C,\"=\"&$C49)/SUMIFS('Vehicle Type Count by Agency'!AH:AH,'Vehicle Type Count by Agency'!$C:$C,\"=\"&$C49),\"\")","v":""},{"$f":"IFERROR(SUMIFS('Vehicle Type Count by Agency'!AK:AK,'Vehicle Type Count by Agency'!$C:$C,\"=\"&$C49)/SUMIFS('Vehicle Type Count by Agency'!AJ:AJ,'Vehicle Type Count by Agency'!$C:$C,\"=\"&$C49),\"\")","v":""},{"$f":"IFERROR(SUMIFS('Vehicle Type Count by Agency'!AM:AM,'Vehicle Type Count by Agency'!$C:$C,\"=\"&$C49)/SUMIFS('Vehicle Type Count by Agency'!AL:AL,'Vehicle Type Count by Agency'!$C:$C,\"=\"&$C49),\"\")","v":""},{"$f":"IFERROR(SUMIFS('Vehicle Type Count by Agency'!AO:AO,'Vehicle Type Count by Agency'!$C:$C,\"=\"&$C49)/SUMIFS('Vehicle Type Count by Agency'!AN:AN,'Vehicle Type Count by Agency'!$C:$C,\"=\"&$C49),\"\")","v":""},{"$f":"IFERROR(SUMIFS('Vehicle Type Count by Agency'!AQ:AQ,'Vehicle Type Count by Agency'!$C:$C,\"=\"&$C49)/SUMIFS('Vehicle Type Count by Agency'!AP:AP,'Vehicle Type Count by Agency'!$C:$C,\"=\"&$C49),\"\")","v":""},{"$f":"IFERROR(SUMIFS('Vehicle Type Count by Agency'!AS:AS,'Vehicle Type Count by Agency'!$C:$C,\"=\"&$C49)/SUMIFS('Vehicle Type Count by Agency'!AR:AR,'Vehicle Type Count by Agency'!$C:$C,\"=\"&$C49),\"\")","v":""},{"$f":"IFERROR(SUMIFS('Vehicle Type Count by Agency'!AU:AU,'Vehicle Type Count by Agency'!$C:$C,\"=\"&$C49)/SUMIFS('Vehicle Type Count by Agency'!AT:AT,'Vehicle Type Count by Agency'!$C:$C,\"=\"&$C49),\"\")","v":0},{"$f":"IFERROR(SUMIFS('Vehicle Type Count by Agency'!AW:AW,'Vehicle Type Count by Agency'!$C:$C,\"=\"&$C49)/SUMIFS('Vehicle Type Count by Agency'!AV:AV,'Vehicle Type Count by Agency'!$C:$C,\"=\"&$C49),\"\")","v":""},{"$f":"IFERROR(SUMIFS('Vehicle Type Count by Agency'!AY:AY,'Vehicle Type Count by Agency'!$C:$C,\"=\"&$C49)/SUMIFS('Vehicle Type Count by Agency'!AX:AX,'Vehicle Type Count by Agency'!$C:$C,\"=\"&$C49),\"\")","v":""},{"$f":"IFERROR(SUMIFS('Vehicle Type Count by Agency'!BA:BA,'Vehicle Type Count by Agency'!$C:$C,\"=\"&$C49)/SUMIFS('Vehicle Type Count by Agency'!AZ:AZ,'Vehicle Type Count by Agency'!$C:$C,\"=\"&$C49),\"\")","v":""},{"$f":"IFERROR(SUMIFS('Vehicle Type Count by Agency'!BC:BC,'Vehicle Type Count by Agency'!$C:$C,\"=\"&$C49)/SUMIFS('Vehicle Type Count by Agency'!BB:BB,'Vehicle Type Count by Agency'!$C:$C,\"=\"&$C49),\"\")","v":""},{"$f":"IFERROR(SUMIFS('Vehicle Type Count by Agency'!BE:BE,'Vehicle Type Count by Agency'!$C:$C,\"=\"&$C49)/SUMIFS('Vehicle Type Count by Agency'!BD:BD,'Vehicle Type Count by Agency'!$C:$C,\"=\"&$C49),\"\")","v":""},{"$f":"IFERROR(SUMIFS('Vehicle Type Count by Agency'!BG:BG,'Vehicle Type Count by Agency'!$C:$C,\"=\"&$C49)/SUMIFS('Vehicle Type Count by Agency'!BF:BF,'Vehicle Type Count by Agency'!$C:$C,\"=\"&$C49),\"\")","v":""},{"$f":"IFERROR(SUMIFS('Vehicle Type Count by Agency'!BI:BI,'Vehicle Type Count by Agency'!$C:$C,\"=\"&$C49)/SUMIFS('Vehicle Type Count by Agency'!BH:BH,'Vehicle Type Count by Agency'!$C:$C,\"=\"&$C49),\"\")","v":1.332267519317879E-2}]
[null,null,"DE","Delaware",null,{"$f":"IFERROR(SUMIFS('Vehicle Type Count by Agency'!K:K,'Vehicle Type Count by Agency'!$C:$C,\"=\"&$C50)/SUMIFS('Vehicle Type Count by Agency'!J:J,'Vehicle Type Count by Agency'!$C:$C,\"=\"&$C50),\"\")","v":4.4354838709677422E-2},{"$f":"IFERROR(SUMIFS('Vehicle Type Count by Agency'!M:M,'Vehicle Type Count by Agency'!$C:$C,\"=\"&$C50)/SUMIFS('Vehicle Type Count by Agency'!L:L,'Vehicle Type Count by Agency'!$C:$C,\"=\"&$C50),\"\")","v":""},{"$f":"IFERROR(SUMIFS('Vehicle Type Count by Agency'!O:O,'Vehicle Type Count by Agency'!$C:$C,\"=\"&$C50)/SUMIFS('Vehicle Type Count by Agency'!N:N,'Vehicle Type Count by Agency'!$C:$C,\"=\"&$C50),\"\")","v":0.35294117647058826},{"$f":"IFERROR(SUMIFS('Vehicle Type Count by Agency'!Q:Q,'Vehicle Type Count by Agency'!$C:$C,\"=\"&$C50)/SUMIFS('Vehicle Type Count by Agency'!P:P,'Vehicle Type Count by Agency'!$C:$C,\"=\"&$C50),\"\")","v":""},{"$f":"IFERROR(SUMIFS('Vehicle Type Count by Agency'!S:S,'Vehicle Type Count by Agency'!$C:$C,\"=\"&$C50)/SUMIFS('Vehicle Type Count by Agency'!R:R,'Vehicle Type Count by Agency'!$C:$C,\"=\"&$C50),\"\")","v":""},{"$f":"IFERROR(SUMIFS('Vehicle Type Count by Agency'!U:U,'Vehicle Type Count by Agency'!$C:$C,\"=\"&$C50)/SUMIFS('Vehicle Type Count by Agency'!T:T,'Vehicle Type Count by Agency'!$C:$C,\"=\"&$C50),\"\")","v":""},{"$f":"IFERROR(SUMIFS('Vehicle Type Count by Agency'!W:W,'Vehicle Type Count by Agency'!$C:$C,\"=\"&$C50)/SUMIFS('Vehicle Type Count by Agency'!V:V,'Vehicle Type Count by Agency'!$C:$C,\"=\"&$C50),\"\")","v":0.28125},{"$f":"IFERROR(SUMIFS('Vehicle Type Count by Agency'!Y:Y,'Vehicle Type Count by Agency'!$C:$C,\"=\"&$C50)/SUMIFS('Vehicle Type Count by Agency'!X:X,'Vehicle Type Count by Agency'!$C:$C,\"=\"&$C50),\"\")","v":""},{"$f":"IFERROR(SUMIFS('Vehicle Type Count by Agency'!AA:AA,'Vehicle Type Count by Agency'!$C:$C,\"=\"&$C50)/SUMIFS('Vehicle Type Count by Agency'!Z:Z,'Vehicle Type Count by Agency'!$C:$C,\"=\"&$C50),\"\")","v":""},{"$f":"IFERROR(SUMIFS('Vehicle Type Count by Agency'!AC:AC,'Vehicle Type Count by Agency'!$C:$C,\"=\"&$C50)/SUMIFS('Vehicle Type Count by Agency'!AB:AB,'Vehicle Type Count by Agency'!$C:$C,\"=\"&$C50),\"\")","v":""},{"$f":"IFERROR(SUMIFS('Vehicle Type Count by Agency'!AE:AE,'Vehicle Type Count by Agency'!$C:$C,\"=\"&$C50)/SUMIFS('Vehicle Type Count by Agency'!AD:AD,'Vehicle Type Count by Agency'!$C:$C,\"=\"&$C50),\"\")","v":""},{"$f":"IFERROR(SUMIFS('Vehicle Type Count by Agency'!AG:AG,'Vehicle Type Count by Agency'!$C:$C,\"=\"&$C50)/SUMIFS('Vehicle Type Count by Agency'!AF:AF,'Vehicle Type Count by Agency'!$C:$C,\"=\"&$C50),\"\")","v":""},{"$f":"IFERROR(SUMIFS('Vehicle Type Count by Agency'!AI:AI,'Vehicle Type Count by Agency'!$C:$C,\"=\"&$C50)/SUMIFS('Vehicle Type Count by Agency'!AH:AH,'Vehicle Type Count by Agency'!$C:$C,\"=\"&$C50),\"\")","v":""},{"$f":"IFERROR(SUMIFS('Vehicle Type Count by Agency'!AK:AK,'Vehicle Type Count by Agency'!$C:$C,\"=\"&$C50)/SUMIFS('Vehicle Type Count by Agency'!AJ:AJ,'Vehicle Type Count by Agency'!$C:$C,\"=\"&$C50),\"\")","v":""},{"$f":"IFERROR(SUMIFS('Vehicle Type Count by Agency'!AM:AM,'Vehicle Type Count by Agency'!$C:$C,\"=\"&$C50)/SUMIFS('Vehicle Type Count by Agency'!AL:AL,'Vehicle Type Count by Agency'!$C:$C,\"=\"&$C50),\"\")","v":""},{"$f":"IFERROR(SUMIFS('Vehicle Type Count by Agency'!AO:AO,'Vehicle Type Count by Agency'!$C:$C,\"=\"&$C50)/SUMIFS('Vehicle Type Count by Agency'!AN:AN,'Vehicle Type Count by Agency'!$C:$C,\"=\"&$C50),\"\")","v":""},{"$f":"IFERROR(SUMIFS('Vehicle Type Count by Agency'!AQ:AQ,'Vehicle Type Count by Agency'!$C:$C,\"=\"&$C50)/SUMIFS('Vehicle Type Count by Agency'!AP:AP,'Vehicle Type Count by Agency'!$C:$C,\"=\"&$C50),\"\")","v":""},{"$f":"IFERROR(SUMIFS('Vehicle Type Count by Agency'!AS:AS,'Vehicle Type Count by Agency'!$C:$C,\"=\"&$C50)/SUMIFS('Vehicle Type Count by Agency'!AR:AR,'Vehicle Type Count by Agency'!$C:$C,\"=\"&$C50),\"\")","v":""},{"$f":"IFERROR(SUMIFS('Vehicle Type Count by Agency'!AU:AU,'Vehicle Type Count by Agency'!$C:$C,\"=\"&$C50)/SUMIFS('Vehicle Type Count by Agency'!AT:AT,'Vehicle Type Count by Agency'!$C:$C,\"=\"&$C50),\"\")","v":""},{"$f":"IFERROR(SUMIFS('Vehicle Type Count by Agency'!AW:AW,'Vehicle Type Count by Agency'!$C:$C,\"=\"&$C50)/SUMIFS('Vehicle Type Count by Agency'!AV:AV,'Vehicle Type Count by Agency'!$C:$C,\"=\"&$C50),\"\")","v":""},{"$f":"IFERROR(SUMIFS('Vehicle Type Count by Agency'!AY:AY,'Vehicle Type Count by Agency'!$C:$C,\"=\"&$C50)/SUMIFS('Vehicle Type Count by Agency'!AX:AX,'Vehicle Type Count by Agency'!$C:$C,\"=\"&$C50),\"\")","v":""},{"$f":"IFERROR(SUMIFS('Vehicle Type Count by Agency'!BA:BA,'Vehicle Type Count by Agency'!$C:$C,\"=\"&$C50)/SUMIFS('Vehicle Type Count by Agency'!AZ:AZ,'Vehicle Type Count by Agency'!$C:$C,\"=\"&$C50),\"\")","v":""},{"$f":"IFERROR(SUMIFS('Vehicle Type Count by Agency'!BC:BC,'Vehicle Type Count by Agency'!$C:$C,\"=\"&$C50)/SUMIFS('Vehicle Type Count by Agency'!BB:BB,'Vehicle Type Count by Agency'!$C:$C,\"=\"&$C50),\"\")","v":""},{"$f":"IFERROR(SUMIFS('Vehicle Type Count by Agency'!BE:BE,'Vehicle Type Count by Agency'!$C:$C,\"=\"&$C50)/SUMIFS('Vehicle Type Count by Agency'!BD:BD,'Vehicle Type Count by Agency'!$C:$C,\"=\"&$C50),\"\")","v":""},{"$f":"IFERROR(SUMIFS('Vehicle Type Count by Agency'!BG:BG,'Vehicle Type Count by Agency'!$C:$C,\"=\"&$C50)/SUMIFS('Vehicle Type Count by Agency'!BF:BF,'Vehicle Type Count by Agency'!$C:$C,\"=\"&$C50),\"\")","v":""},{"$f":"IFERROR(SUMIFS('Vehicle Type Count by Agency'!BI:BI,'Vehicle Type Count by Agency'!$C:$C,\"=\"&$C50)/SUMIFS('Vehicle Type Count by Agency'!BH:BH,'Vehicle Type Count by Agency'!$C:$C,\"=\"&$C50),\"\")","v":0.19260400616332821}]
[null,null,"FL","Florida",null,{"$f":"IFERROR(SUMIFS('Vehicle Type Count by Agency'!K:K,'Vehicle Type Count by Agency'!$C:$C,\"=\"&$C51)/SUMIFS('Vehicle Type Count by Agency'!J:J,'Vehicle Type Count by Agency'!$C:$C,\"=\"&$C51),\"\")","v":0.19065613191343181},{"$f":"IFERROR(SUMIFS('Vehicle Type Count by Agency'!M:M,'Vehicle Type Count by Agency'!$C:$C,\"=\"&$C51)/SUMIFS('Vehicle Type Count by Agency'!L:L,'Vehicle Type Count by Agency'!$C:$C,\"=\"&$C51),\"\")","v":0},{"$f":"IFERROR(SUMIFS('Vehicle Type Count by Agency'!O:O,'Vehicle Type Count by Agency'!$C:$C,\"=\"&$C51)/SUMIFS('Vehicle Type Count by Agency'!N:N,'Vehicle Type Count by Agency'!$C:$C,\"=\"&$C51),\"\")","v":4.5454545454545456E-2},{"$f":"IFERROR(SUMIFS('Vehicle Type Count by Agency'!Q:Q,'Vehicle Type Count by Agency'!$C:$C,\"=\"&$C51)/SUMIFS('Vehicle Type Count by Agency'!P:P,'Vehicle Type Count by Agency'!$C:$C,\"=\"&$C51),\"\")","v":""},{"$f":"IFERROR(SUMIFS('Vehicle Type Count by Agency'!S:S,'Vehicle Type Count by Agency'!$C:$C,\"=\"&$C51)/SUMIFS('Vehicle Type Count by Agency'!R:R,'Vehicle Type Count by Agency'!$C:$C,\"=\"&$C51),\"\")","v":0.125},{"$f":"IFERROR(SUMIFS('Vehicle Type Count by Agency'!U:U,'Vehicle Type Count by Agency'!$C:$C,\"=\"&$C51)/SUMIFS('Vehicle Type Count by Agency'!T:T,'Vehicle Type Count by Agency'!$C:$C,\"=\"&$C51),\"\")","v":0.11232876712328767},{"$f":"IFERROR(SUMIFS('Vehicle Type Count by Agency'!W:W,'Vehicle Type Count by Agency'!$C:$C,\"=\"&$C51)/SUMIFS('Vehicle Type Count by Agency'!V:V,'Vehicle Type Count by Agency'!$C:$C,\"=\"&$C51),\"\")","v":0.11329479768786127},{"$f":"IFERROR(SUMIFS('Vehicle Type Count by Agency'!Y:Y,'Vehicle Type Count by Agency'!$C:$C,\"=\"&$C51)/SUMIFS('Vehicle Type Count by Agency'!X:X,'Vehicle Type Count by Agency'!$C:$C,\"=\"&$C51),\"\")","v":3.7777777777777778E-2},{"$f":"IFERROR(SUMIFS('Vehicle Type Count by Agency'!AA:AA,'Vehicle Type Count by Agency'!$C:$C,\"=\"&$C51)/SUMIFS('Vehicle Type Count by Agency'!Z:Z,'Vehicle Type Count by Agency'!$C:$C,\"=\"&$C51),\"\")","v":8.9285714285714288E-2},{"$f":"IFERROR(SUMIFS('Vehicle Type Count by Agency'!AC:AC,'Vehicle Type Count by Agency'!$C:$C,\"=\"&$C51)/SUMIFS('Vehicle Type Count by Agency'!AB:AB,'Vehicle Type Count by Agency'!$C:$C,\"=\"&$C51),\"\")","v":0.11299435028248588},{"$f":"IFERROR(SUMIFS('Vehicle Type Count by Agency'!AE:AE,'Vehicle Type Count by Agency'!$C:$C,\"=\"&$C51)/SUMIFS('Vehicle Type Count by Agency'!AD:AD,'Vehicle Type Count by Agency'!$C:$C,\"=\"&$C51),\"\")","v":""},{"$f":"IFERROR(SUMIFS('Vehicle Type Count by Agency'!AG:AG,'Vehicle Type Count by Agency'!$C:$C,\"=\"&$C51)/SUMIFS('Vehicle Type Count by Agency'!AF:AF,'Vehicle Type Count by Agency'!$C:$C,\"=\"&$C51),\"\")","v":0.7384615384615385},{"$f":"IFERROR(SUMIFS('Vehicle Type Count by Agency'!AI:AI,'Vehicle Type Count by Agency'!$C:$C,\"=\"&$C51)/SUMIFS('Vehicle Type Count by Agency'!AH:AH,'Vehicle Type Count by Agency'!$C:$C,\"=\"&$C51),\"\")","v":0.1},{"$f":"IFERROR(SUMIFS('Vehicle Type Count by Agency'!AK:AK,'Vehicle Type Count by Agency'!$C:$C,\"=\"&$C51)/SUMIFS('Vehicle Type Count by Agency'!AJ:AJ,'Vehicle Type Count by Agency'!$C:$C,\"=\"&$C51),\"\")","v":0},{"$f":"IFERROR(SUMIFS('Vehicle Type Count by Agency'!AM:AM,'Vehicle Type Count by Agency'!$C:$C,\"=\"&$C51)/SUMIFS('Vehicle Type Count by Agency'!AL:AL,'Vehicle Type Count by Agency'!$C:$C,\"=\"&$C51),\"\")","v":""},{"$f":"IFERROR(SUMIFS('Vehicle Type Count by Agency'!AO:AO,'Vehicle Type Count by Agency'!$C:$C,\"=\"&$C51)/SUMIFS('Vehicle Type Count by Agency'!AN:AN,'Vehicle Type Count by Agency'!$C:$C,\"=\"&$C51),\"\")","v":0},{"$f":"IFERROR(SUMIFS('Vehicle Type Count by Agency'!AQ:AQ,'Vehicle Type Count by Agency'!$C:$C,\"=\"&$C51)/SUMIFS('Vehicle Type Count by Agency'!AP:AP,'Vehicle Type Count by Agency'!$C:$C,\"=\"&$C51),\"\")","v":0},{"$f":"IFERROR(SUMIFS('Vehicle Type Count by Agency'!AS:AS,'Vehicle Type Count by Agency'!$C:$C,\"=\"&$C51)/SUMIFS('Vehicle Type Count by Agency'!AR:AR,'Vehicle Type Count by Agency'!$C:$C,\"=\"&$C51),\"\")","v":""},{"$f":"IFERROR(SUMIFS('Vehicle Type Count by Agency'!AU:AU,'Vehicle Type Count by Agency'!$C:$C,\"=\"&$C51)/SUMIFS('Vehicle Type Count by Agency'!AT:AT,'Vehicle Type Count by Agency'!$C:$C,\"=\"&$C51),\"\")","v":""},{"$f":"IFERROR(SUMIFS('Vehicle Type Count by Agency'!AW:AW,'Vehicle Type Count by Agency'!$C:$C,\"=\"&$C51)/SUMIFS('Vehicle Type Count by Agency'!AV:AV,'Vehicle Type Count by Agency'!$C:$C,\"=\"&$C51),\"\")","v":""},{"$f":"IFERROR(SUMIFS('Vehicle Type Count by Agency'!AY:AY,'Vehicle Type Count by Agency'!$C:$C,\"=\"&$C51)/SUMIFS('Vehicle Type Count by Agency'!AX:AX,'Vehicle Type Count by Agency'!$C:$C,\"=\"&$C51),\"\")","v":""},{"$f":"IFERROR(SUMIFS('Vehicle Type Count by Agency'!BA:BA,'Vehicle Type Count by Agency'!$C:$C,\"=\"&$C51)/SUMIFS('Vehicle Type Count by Agency'!AZ:AZ,'Vehicle Type Count by Agency'!$C:$C,\"=\"&$C51),\"\")","v":""},{"$f":"IFERROR(SUMIFS('Vehicle Type Count by Agency'!BC:BC,'Vehicle Type Count by Agency'!$C:$C,\"=\"&$C51)/SUMIFS('Vehicle Type Count by Agency'!BB:BB,'Vehicle Type Count by Agency'!$C:$C,\"=\"&$C51),\"\")","v":""},{"$f":"IFERROR(SUMIFS('Vehicle Type Count by Agency'!BE:BE,'Vehicle Type Count by Agency'!$C:$C,\"=\"&$C51)/SUMIFS('Vehicle Type Count by Agency'!BD:BD,'Vehicle Type Count by Agency'!$C:$C,\"=\"&$C51),\"\")","v":0},{"$f":"IFERROR(SUMIFS('Vehicle Type Count by Agency'!BG:BG,'Vehicle Type Count by Agency'!$C:$C,\"=\"&$C51)/SUMIFS('Vehicle Type Count by Agency'!BF:BF,'Vehicle Type Count by Agency'!$C:$C,\"=\"&$C51),\"\")","v":0},{"$f":"IFERROR(SUMIFS('Vehicle Type Count by Agency'!BI:BI,'Vehicle Type Count by Agency'!$C:$C,\"=\"&$C51)/SUMIFS('Vehicle Type Count by Agency'!BH:BH,'Vehicle Type Count by Agency'!$C:$C,\"=\"&$C51),\"\")","v":0.14472222222222222}]
[null,null,"GA","Georgia",null,{"$f":"IFERROR(SUMIFS('Vehicle Type Count by Agency'!K:K,'Vehicle Type Count by Agency'!$C:$C,\"=\"&$C52)/SUMIFS('Vehicle Type Count by Agency'!J:J,'Vehicle Type Count by Agency'!$C:$C,\"=\"&$C52),\"\")","v":0.20582329317269077},{"$f":"IFERROR(SUMIFS('Vehicle Type Count by Agency'!M:M,'Vehicle Type Count by Agency'!$C:$C,\"=\"&$C52)/SUMIFS('Vehicle Type Count by Agency'!L:L,'Vehicle Type Count by Agency'!$C:$C,\"=\"&$C52),\"\")","v":0},{"$f":"IFERROR(SUMIFS('Vehicle Type Count by Agency'!O:O,'Vehicle Type Count by Agency'!$C:$C,\"=\"&$C52)/SUMIFS('Vehicle Type Count by Agency'!N:N,'Vehicle Type Count by Agency'!$C:$C,\"=\"&$C52),\"\")","v":0.21145374449339208},{"$f":"IFERROR(SUMIFS('Vehicle Type Count by Agency'!Q:Q,'Vehicle Type Count by Agency'!$C:$C,\"=\"&$C52)/SUMIFS('Vehicle Type Count by Agency'!P:P,'Vehicle Type Count by Agency'!$C:$C,\"=\"&$C52),\"\")","v":""},{"$f":"IFERROR(SUMIFS('Vehicle Type Count by Agency'!S:S,'Vehicle Type Count by Agency'!$C:$C,\"=\"&$C52)/SUMIFS('Vehicle Type Count by Agency'!R:R,'Vehicle Type Count by Agency'!$C:$C,\"=\"&$C52),\"\")","v":""},{"$f":"IFERROR(SUMIFS('Vehicle Type Count by Agency'!U:U,'Vehicle Type Count by Agency'!$C:$C,\"=\"&$C52)/SUMIFS('Vehicle Type Count by Agency'!T:T,'Vehicle Type Count by Agency'!$C:$C,\"=\"&$C52),\"\")","v":6.1728395061728392E-2},{"$f":"IFERROR(SUMIFS('Vehicle Type Count by Agency'!W:W,'Vehicle Type Count by Agency'!$C:$C,\"=\"&$C52)/SUMIFS('Vehicle Type Count by Agency'!V:V,'Vehicle Type Count by Agency'!$C:$C,\"=\"&$C52),\"\")","v":0.11248454882571075},{"$f":"IFERROR(SUMIFS('Vehicle Type Count by Agency'!Y:Y,'Vehicle Type Count by Agency'!$C:$C,\"=\"&$C52)/SUMIFS('Vehicle Type Count by Agency'!X:X,'Vehicle Type Count by Agency'!$C:$C,\"=\"&$C52),\"\")","v":0.22222222222222221},{"$f":"IFERROR(SUMIFS('Vehicle Type Count by Agency'!AA:AA,'Vehicle Type Count by Agency'!$C:$C,\"=\"&$C52)/SUMIFS('Vehicle Type Count by Agency'!Z:Z,'Vehicle Type Count by Agency'!$C:$C,\"=\"&$C52),\"\")","v":6.25E-2},{"$f":"IFERROR(SUMIFS('Vehicle Type Count by Agency'!AC:AC,'Vehicle Type Count by Agency'!$C:$C,\"=\"&$C52)/SUMIFS('Vehicle Type Count by Agency'!AB:AB,'Vehicle Type Count by Agency'!$C:$C,\"=\"&$C52),\"\")","v":0},{"$f":"IFERROR(SUMIFS('Vehicle Type Count by Agency'!AE:AE,'Vehicle Type Count by Agency'!$C:$C,\"=\"&$C52)/SUMIFS('Vehicle Type Count by Agency'!AD:AD,'Vehicle Type Count by Agency'!$C:$C,\"=\"&$C52),\"\")","v":""},{"$f":"IFERROR(SUMIFS('Vehicle Type Count by Agency'!AG:AG,'Vehicle Type Count by Agency'!$C:$C,\"=\"&$C52)/SUMIFS('Vehicle Type Count by Agency'!AF:AF,'Vehicle Type Count by Agency'!$C:$C,\"=\"&$C52),\"\")","v":0},{"$f":"IFERROR(SUMIFS('Vehicle Type Count by Agency'!AI:AI,'Vehicle Type Count by Agency'!$C:$C,\"=\"&$C52)/SUMIFS('Vehicle Type Count by Agency'!AH:AH,'Vehicle Type Count by Agency'!$C:$C,\"=\"&$C52),\"\")","v":""},{"$f":"IFERROR(SUMIFS('Vehicle Type Count by Agency'!AK:AK,'Vehicle Type Count by Agency'!$C:$C,\"=\"&$C52)/SUMIFS('Vehicle Type Count by Agency'!AJ:AJ,'Vehicle Type Count by Agency'!$C:$C,\"=\"&$C52),\"\")","v":""},{"$f":"IFERROR(SUMIFS('Vehicle Type Count by Agency'!AM:AM,'Vehicle Type Count by Agency'!$C:$C,\"=\"&$C52)/SUMIFS('Vehicle Type Count by Agency'!AL:AL,'Vehicle Type Count by Agency'!$C:$C,\"=\"&$C52),\"\")","v":""},{"$f":"IFERROR(SUMIFS('Vehicle Type Count by Agency'!AO:AO,'Vehicle Type Count by Agency'!$C:$C,\"=\"&$C52)/SUMIFS('Vehicle Type Count by Agency'!AN:AN,'Vehicle Type Count by Agency'!$C:$C,\"=\"&$C52),\"\")","v":""},{"$f":"IFERROR(SUMIFS('Vehicle Type Count by Agency'!AQ:AQ,'Vehicle Type Count by Agency'!$C:$C,\"=\"&$C52)/SUMIFS('Vehicle Type Count by Agency'!AP:AP,'Vehicle Type Count by Agency'!$C:$C,\"=\"&$C52),\"\")","v":""},{"$f":"IFERROR(SUMIFS('Vehicle Type Count by Agency'!AS:AS,'Vehicle Type Count by Agency'!$C:$C,\"=\"&$C52)/SUMIFS('Vehicle Type Count by Agency'!AR:AR,'Vehicle Type Count by Agency'!$C:$C,\"=\"&$C52),\"\")","v":""},{"$f":"IFERROR(SUMIFS('Vehicle Type Count by Agency'!AU:AU,'Vehicle Type Count by Agency'!$C:$C,\"=\"&$C52)/SUMIFS('Vehicle Type Count by Agency'!AT:AT,'Vehicle Type Count by Agency'!$C:$C,\"=\"&$C52),\"\")","v":0},{"$f":"IFERROR(SUMIFS('Vehicle Type Count by Agency'!AW:AW,'Vehicle Type Count by Agency'!$C:$C,\"=\"&$C52)/SUMIFS('Vehicle Type Count by Agency'!AV:AV,'Vehicle Type Count by Agency'!$C:$C,\"=\"&$C52),\"\")","v":""},{"$f":"IFERROR(SUMIFS('Vehicle Type Count by Agency'!AY:AY,'Vehicle Type Count by Agency'!$C:$C,\"=\"&$C52)/SUMIFS('Vehicle Type Count by Agency'!AX:AX,'Vehicle Type Count by Agency'!$C:$C,\"=\"&$C52),\"\")","v":""},{"$f":"IFERROR(SUMIFS('Vehicle Type Count by Agency'!BA:BA,'Vehicle Type Count by Agency'!$C:$C,\"=\"&$C52)/SUMIFS('Vehicle Type Count by Agency'!AZ:AZ,'Vehicle Type Count by Agency'!$C:$C,\"=\"&$C52),\"\")","v":""},{"$f":"IFERROR(SUMIFS('Vehicle Type Count by Agency'!BC:BC,'Vehicle Type Count by Agency'!$C:$C,\"=\"&$C52)/SUMIFS('Vehicle Type Count by Agency'!BB:BB,'Vehicle Type Count by Agency'!$C:$C,\"=\"&$C52),\"\")","v":""},{"$f":"IFERROR(SUMIFS('Vehicle Type Count by Agency'!BE:BE,'Vehicle Type Count by Agency'!$C:$C,\"=\"&$C52)/SUMIFS('Vehicle Type Count by Agency'!BD:BD,'Vehicle Type Count by Agency'!$C:$C,\"=\"&$C52),\"\")","v":0},{"$f":"IFERROR(SUMIFS('Vehicle Type Count by Agency'!BG:BG,'Vehicle Type Count by Agency'!$C:$C,\"=\"&$C52)/SUMIFS('Vehicle Type Count by Agency'!BF:BF,'Vehicle Type Count by Agency'!$C:$C,\"=\"&$C52),\"\")","v":""},{"$f":"IFERROR(SUMIFS('Vehicle Type Count by Agency'!BI:BI,'Vehicle Type Count by Agency'!$C:$C,\"=\"&$C52)/SUMIFS('Vehicle Type Count by Agency'!BH:BH,'Vehicle Type Count by Agency'!$C:$C,\"=\"&$C52),\"\")","v":0.13340603416939295}]
[null,null,"GU","Guam",null,{"$f":"IFERROR(SUMIFS('Vehicle Type Count by Agency'!K:K,'Vehicle Type Count by Agency'!$C:$C,\"=\"&$C53)/SUMIFS('Vehicle Type Count by Agency'!J:J,'Vehicle Type Count by Agency'!$C:$C,\"=\"&$C53),\"\")","v":1},{"$f":"IFERROR(SUMIFS('Vehicle Type Count by Agency'!M:M,'Vehicle Type Count by Agency'!$C:$C,\"=\"&$C53)/SUMIFS('Vehicle Type Count by Agency'!L:L,'Vehicle Type Count by Agency'!$C:$C,\"=\"&$C53),\"\")","v":""},{"$f":"IFERROR(SUMIFS('Vehicle Type Count by Agency'!O:O,'Vehicle Type Count by Agency'!$C:$C,\"=\"&$C53)/SUMIFS('Vehicle Type Count by Agency'!N:N,'Vehicle Type Count by Agency'!$C:$C,\"=\"&$C53),\"\")","v":""},{"$f":"IFERROR(SUMIFS('Vehicle Type Count by Agency'!Q:Q,'Vehicle Type Count by Agency'!$C:$C,\"=\"&$C53)/SUMIFS('Vehicle Type Count by Agency'!P:P,'Vehicle Type Count by Agency'!$C:$C,\"=\"&$C53),\"\")","v":""},{"$f":"IFERROR(SUMIFS('Vehicle Type Count by Agency'!S:S,'Vehicle Type Count by Agency'!$C:$C,\"=\"&$C53)/SUMIFS('Vehicle Type Count by Agency'!R:R,'Vehicle Type Count by Agency'!$C:$C,\"=\"&$C53),\"\")","v":""},{"$f":"IFERROR(SUMIFS('Vehicle Type Count by Agency'!U:U,'Vehicle Type Count by Agency'!$C:$C,\"=\"&$C53)/SUMIFS('Vehicle Type Count by Agency'!T:T,'Vehicle Type Count by Agency'!$C:$C,\"=\"&$C53),\"\")","v":1},{"$f":"IFERROR(SUMIFS('Vehicle Type Count by Agency'!W:W,'Vehicle Type Count by Agency'!$C:$C,\"=\"&$C53)/SUMIFS('Vehicle Type Count by Agency'!V:V,'Vehicle Type Count by Agency'!$C:$C,\"=\"&$C53),\"\")","v":0.35294117647058826},{"$f":"IFERROR(SUMIFS('Vehicle Type Count by Agency'!Y:Y,'Vehicle Type Count by Agency'!$C:$C,\"=\"&$C53)/SUMIFS('Vehicle Type Count by Agency'!X:X,'Vehicle Type Count by Agency'!$C:$C,\"=\"&$C53),\"\")","v":""},{"$f":"IFERROR(SUMIFS('Vehicle Type Count by Agency'!AA:AA,'Vehicle Type Count by Agency'!$C:$C,\"=\"&$C53)/SUMIFS('Vehicle Type Count by Agency'!Z:Z,'Vehicle Type Count by Agency'!$C:$C,\"=\"&$C53),\"\")","v":0},{"$f":"IFERROR(SUMIFS('Vehicle Type Count by Agency'!AC:AC,'Vehicle Type Count by Agency'!$C:$C,\"=\"&$C53)/SUMIFS('Vehicle Type Count by Agency'!AB:AB,'Vehicle Type Count by Agency'!$C:$C,\"=\"&$C53),\"\")","v":""},{"$f":"IFERROR(SUMIFS('Vehicle Type Count by Agency'!AE:AE,'Vehicle Type Count by Agency'!$C:$C,\"=\"&$C53)/SUMIFS('Vehicle Type Count by Agency'!AD:AD,'Vehicle Type Count by Agency'!$C:$C,\"=\"&$C53),\"\")","v":""},{"$f":"IFERROR(SUMIFS('Vehicle Type Count by Agency'!AG:AG,'Vehicle Type Count by Agency'!$C:$C,\"=\"&$C53)/SUMIFS('Vehicle Type Count by Agency'!AF:AF,'Vehicle Type Count by Agency'!$C:$C,\"=\"&$C53),\"\")","v":""},{"$f":"IFERROR(SUMIFS('Vehicle Type Count by Agency'!AI:AI,'Vehicle Type Count by Agency'!$C:$C,\"=\"&$C53)/SUMIFS('Vehicle Type Count by Agency'!AH:AH,'Vehicle Type Count by Agency'!$C:$C,\"=\"&$C53),\"\")","v":""},{"$f":"IFERROR(SUMIFS('Vehicle Type Count by Agency'!AK:AK,'Vehicle Type Count by Agency'!$C:$C,\"=\"&$C53)/SUMIFS('Vehicle Type Count by Agency'!AJ:AJ,'Vehicle Type Count by Agency'!$C:$C,\"=\"&$C53),\"\")","v":""},{"$f":"IFERROR(SUMIFS('Vehicle Type Count by Agency'!AM:AM,'Vehicle Type Count by Agency'!$C:$C,\"=\"&$C53)/SUMIFS('Vehicle Type Count by Agency'!AL:AL,'Vehicle Type Count by Agency'!$C:$C,\"=\"&$C53),\"\")","v":""},{"$f":"IFERROR(SUMIFS('Vehicle Type Count by Agency'!AO:AO,'Vehicle Type Count by Agency'!$C:$C,\"=\"&$C53)/SUMIFS('Vehicle Type Count by Agency'!AN:AN,'Vehicle Type Count by Agency'!$C:$C,\"=\"&$C53),\"\")","v":""},{"$f":"IFERROR(SUMIFS('Vehicle Type Count by Agency'!AQ:AQ,'Vehicle Type Count by Agency'!$C:$C,\"=\"&$C53)/SUMIFS('Vehicle Type Count by Agency'!AP:AP,'Vehicle Type Count by Agency'!$C:$C,\"=\"&$C53),\"\")","v":""},{"$f":"IFERROR(SUMIFS('Vehicle Type Count by Agency'!AS:AS,'Vehicle Type Count by Agency'!$C:$C,\"=\"&$C53)/SUMIFS('Vehicle Type Count by Agency'!AR:AR,'Vehicle Type Count by Agency'!$C:$C,\"=\"&$C53),\"\")","v":""},{"$f":"IFERROR(SUMIFS('Vehicle Type Count by Agency'!AU:AU,'Vehicle Type Count by Agency'!$C:$C,\"=\"&$C53)/SUMIFS('Vehicle Type Count by Agency'!AT:AT,'Vehicle Type Count by Agency'!$C:$C,\"=\"&$C53),\"\")","v":""},{"$f":"IFERROR(SUMIFS('Vehicle Type Count by Agency'!AW:AW,'Vehicle Type Count by Agency'!$C:$C,\"=\"&$C53)/SUMIFS('Vehicle Type Count by Agency'!AV:AV,'Vehicle Type Count by Agency'!$C:$C,\"=\"&$C53),\"\")","v":""},{"$f":"IFERROR(SUMIFS('Vehicle Type Count by Agency'!AY:AY,'Vehicle Type Count by Agency'!$C:$C,\"=\"&$C53)/SUMIFS('Vehicle Type Count by Agency'!AX:AX,'Vehicle Type Count by Agency'!$C:$C,\"=\"&$C53),\"\")","v":""},{"$f":"IFERROR(SUMIFS('Vehicle Type Count by Agency'!BA:BA,'Vehicle Type Count by Agency'!$C:$C,\"=\"&$C53)/SUMIFS('Vehicle Type Count by Agency'!AZ:AZ,'Vehicle Type Count by Agency'!$C:$C,\"=\"&$C53),\"\")","v":""},{"$f":"IFERROR(SUMIFS('Vehicle Type Count by Agency'!BC:BC,'Vehicle Type Count by Agency'!$C:$C,\"=\"&$C53)/SUMIFS('Vehicle Type Count by Agency'!BB:BB,'Vehicle Type Count by Agency'!$C:$C,\"=\"&$C53),\"\")","v":""},{"$f":"IFERROR(SUMIFS('Vehicle Type Count by Agency'!BE:BE,'Vehicle Type Count by Agency'!$C:$C,\"=\"&$C53)/SUMIFS('Vehicle Type Count by Agency'!BD:BD,'Vehicle Type Count by Agency'!$C:$C,\"=\"&$C53),\"\")","v":""},{"$f":"IFERROR(SUMIFS('Vehicle Type Count by Agency'!BG:BG,'Vehicle Type Count by Agency'!$C:$C,\"=\"&$C53)/SUMIFS('Vehicle Type Count by Agency'!BF:BF,'Vehicle Type Count by Agency'!$C:$C,\"=\"&$C53),\"\")","v":""},{"$f":"IFERROR(SUMIFS('Vehicle Type Count by Agency'!BI:BI,'Vehicle Type Count by Agency'!$C:$C,\"=\"&$C53)/SUMIFS('Vehicle Type Count by Agency'!BH:BH,'Vehicle Type Count by Agency'!$C:$C,\"=\"&$C53),\"\")","v":0.4358974358974359}]
[null,null,"HI","Hawaii",null,{"$f":"IFERROR(SUMIFS('Vehicle Type Count by Agency'!K:K,'Vehicle Type Count by Agency'!$C:$C,\"=\"&$C54)/SUMIFS('Vehicle Type Count by Agency'!J:J,'Vehicle Type Count by Agency'!$C:$C,\"=\"&$C54),\"\")","v":0.38900634249471461},{"$f":"IFERROR(SUMIFS('Vehicle Type Count by Agency'!M:M,'Vehicle Type Count by Agency'!$C:$C,\"=\"&$C54)/SUMIFS('Vehicle Type Count by Agency'!L:L,'Vehicle Type Count by Agency'!$C:$C,\"=\"&$C54),\"\")","v":0.36521739130434783},{"$f":"IFERROR(SUMIFS('Vehicle Type Count by Agency'!O:O,'Vehicle Type Count by Agency'!$C:$C,\"=\"&$C54)/SUMIFS('Vehicle Type Count by Agency'!N:N,'Vehicle Type Count by Agency'!$C:$C,\"=\"&$C54),\"\")","v":0},{"$f":"IFERROR(SUMIFS('Vehicle Type Count by Agency'!Q:Q,'Vehicle Type Count by Agency'!$C:$C,\"=\"&$C54)/SUMIFS('Vehicle Type Count by Agency'!P:P,'Vehicle Type Count by Agency'!$C:$C,\"=\"&$C54),\"\")","v":""},{"$f":"IFERROR(SUMIFS('Vehicle Type Count by Agency'!S:S,'Vehicle Type Count by Agency'!$C:$C,\"=\"&$C54)/SUMIFS('Vehicle Type Count by Agency'!R:R,'Vehicle Type Count by Agency'!$C:$C,\"=\"&$C54),\"\")","v":0},{"$f":"IFERROR(SUMIFS('Vehicle Type Count by Agency'!U:U,'Vehicle Type Count by Agency'!$C:$C,\"=\"&$C54)/SUMIFS('Vehicle Type Count by Agency'!T:T,'Vehicle Type Count by Agency'!$C:$C,\"=\"&$C54),\"\")","v":0},{"$f":"IFERROR(SUMIFS('Vehicle Type Count by Agency'!W:W,'Vehicle Type Count by Agency'!$C:$C,\"=\"&$C54)/SUMIFS('Vehicle Type Count by Agency'!V:V,'Vehicle Type Count by Agency'!$C:$C,\"=\"&$C54),\"\")","v":0.14939024390243902},{"$f":"IFERROR(SUMIFS('Vehicle Type Count by Agency'!Y:Y,'Vehicle Type Count by Agency'!$C:$C,\"=\"&$C54)/SUMIFS('Vehicle Type Count by Agency'!X:X,'Vehicle Type Count by Agency'!$C:$C,\"=\"&$C54),\"\")","v":0},{"$f":"IFERROR(SUMIFS('Vehicle Type Count by Agency'!AA:AA,'Vehicle Type Count by Agency'!$C:$C,\"=\"&$C54)/SUMIFS('Vehicle Type Count by Agency'!Z:Z,'Vehicle Type Count by Agency'!$C:$C,\"=\"&$C54),\"\")","v":0},{"$f":"IFERROR(SUMIFS('Vehicle Type Count by Agency'!AC:AC,'Vehicle Type Count by Agency'!$C:$C,\"=\"&$C54)/SUMIFS('Vehicle Type Count by Agency'!AB:AB,'Vehicle Type Count by Agency'!$C:$C,\"=\"&$C54),\"\")","v":0},{"$f":"IFERROR(SUMIFS('Vehicle Type Count by Agency'!AE:AE,'Vehicle Type Count by Agency'!$C:$C,\"=\"&$C54)/SUMIFS('Vehicle Type Count by Agency'!AD:AD,'Vehicle Type Count by Agency'!$C:$C,\"=\"&$C54),\"\")","v":""},{"$f":"IFERROR(SUMIFS('Vehicle Type Count by Agency'!AG:AG,'Vehicle Type Count by Agency'!$C:$C,\"=\"&$C54)/SUMIFS('Vehicle Type Count by Agency'!AF:AF,'Vehicle Type Count by Agency'!$C:$C,\"=\"&$C54),\"\")","v":""},{"$f":"IFERROR(SUMIFS('Vehicle Type Count by Agency'!AI:AI,'Vehicle Type Count by Agency'!$C:$C,\"=\"&$C54)/SUMIFS('Vehicle Type Count by Agency'!AH:AH,'Vehicle Type Count by Agency'!$C:$C,\"=\"&$C54),\"\")","v":""},{"$f":"IFERROR(SUMIFS('Vehicle Type Count by Agency'!AK:AK,'Vehicle Type Count by Agency'!$C:$C,\"=\"&$C54)/SUMIFS('Vehicle Type Count by Agency'!AJ:AJ,'Vehicle Type Count by Agency'!$C:$C,\"=\"&$C54),\"\")","v":""},{"$f":"IFERROR(SUMIFS('Vehicle Type Count by Agency'!AM:AM,'Vehicle Type Count by Agency'!$C:$C,\"=\"&$C54)/SUMIFS('Vehicle Type Count by Agency'!AL:AL,'Vehicle Type Count by Agency'!$C:$C,\"=\"&$C54),\"\")","v":""},{"$f":"IFERROR(SUMIFS('Vehicle Type Count by Agency'!AO:AO,'Vehicle Type Count by Agency'!$C:$C,\"=\"&$C54)/SUMIFS('Vehicle Type Count by Agency'!AN:AN,'Vehicle Type Count by Agency'!$C:$C,\"=\"&$C54),\"\")","v":""},{"$f":"IFERROR(SUMIFS('Vehicle Type Count by Agency'!AQ:AQ,'Vehicle Type Count by Agency'!$C:$C,\"=\"&$C54)/SUMIFS('Vehicle Type Count by Agency'!AP:AP,'Vehicle Type Count by Agency'!$C:$C,\"=\"&$C54),\"\")","v":""},{"$f":"IFERROR(SUMIFS('Vehicle Type Count by Agency'!AS:AS,'Vehicle Type Count by Agency'!$C:$C,\"=\"&$C54)/SUMIFS('Vehicle Type Count by Agency'!AR:AR,'Vehicle Type Count by Agency'!$C:$C,\"=\"&$C54),\"\")","v":""},{"$f":"IFERROR(SUMIFS('Vehicle Type Count by Agency'!AU:AU,'Vehicle Type Count by Agency'!$C:$C,\"=\"&$C54)/SUMIFS('Vehicle Type Count by Agency'!AT:AT,'Vehicle Type Count by Agency'!$C:$C,\"=\"&$C54),\"\")","v":""},{"$f":"IFERROR(SUMIFS('Vehicle Type Count by Agency'!AW:AW,'Vehicle Type Count by Agency'!$C:$C,\"=\"&$C54)/SUMIFS('Vehicle Type Count by Agency'!AV:AV,'Vehicle Type Count by Agency'!$C:$C,\"=\"&$C54),\"\")","v":""},{"$f":"IFERROR(SUMIFS('Vehicle Type Count by Agency'!AY:AY,'Vehicle Type Count by Agency'!$C:$C,\"=\"&$C54)/SUMIFS('Vehicle Type Count by Agency'!AX:AX,'Vehicle Type Count by Agency'!$C:$C,\"=\"&$C54),\"\")","v":""},{"$f":"IFERROR(SUMIFS('Vehicle Type Count by Agency'!BA:BA,'Vehicle Type Count by Agency'!$C:$C,\"=\"&$C54)/SUMIFS('Vehicle Type Count by Agency'!AZ:AZ,'Vehicle Type Count by Agency'!$C:$C,\"=\"&$C54),\"\")","v":""},{"$f":"IFERROR(SUMIFS('Vehicle Type Count by Agency'!BC:BC,'Vehicle Type Count by Agency'!$C:$C,\"=\"&$C54)/SUMIFS('Vehicle Type Count by Agency'!BB:BB,'Vehicle Type Count by Agency'!$C:$C,\"=\"&$C54),\"\")","v":""},{"$f":"IFERROR(SUMIFS('Vehicle Type Count by Agency'!BE:BE,'Vehicle Type Count by Agency'!$C:$C,\"=\"&$C54)/SUMIFS('Vehicle Type Count by Agency'!BD:BD,'Vehicle Type Count by Agency'!$C:$C,\"=\"&$C54),\"\")","v":""},{"$f":"IFERROR(SUMIFS('Vehicle Type Count by Agency'!BG:BG,'Vehicle Type Count by Agency'!$C:$C,\"=\"&$C54)/SUMIFS('Vehicle Type Count by Agency'!BF:BF,'Vehicle Type Count by Agency'!$C:$C,\"=\"&$C54),\"\")","v":""},{"$f":"IFERROR(SUMIFS('Vehicle Type Count by Agency'!BI:BI,'Vehicle Type Count by Agency'!$C:$C,\"=\"&$C54)/SUMIFS('Vehicle Type Count by Agency'!BH:BH,'Vehicle Type Count by Agency'!$C:$C,\"=\"&$C54),\"\")","v":0.22070626003210272}]
[null,null,"IA","Iowa",null,{"$f":"IFERROR(SUMIFS('Vehicle Type Count by Agency'!K:K,'Vehicle Type Count by Agency'!$C:$C,\"=\"&$C55)/SUMIFS('Vehicle Type Count by Agency'!J:J,'Vehicle Type Count by Agency'!$C:$C,\"=\"&$C55),\"\")","v":0.27447216890595011},{"$f":"IFERROR(SUMIFS('Vehicle Type Count by Agency'!M:M,'Vehicle Type Count by Agency'!$C:$C,\"=\"&$C55)/SUMIFS('Vehicle Type Count by Agency'!L:L,'Vehicle Type Count by Agency'!$C:$C,\"=\"&$C55),\"\")","v":0},{"$f":"IFERROR(SUMIFS('Vehicle Type Count by Agency'!O:O,'Vehicle Type Count by Agency'!$C:$C,\"=\"&$C55)/SUMIFS('Vehicle Type Count by Agency'!N:N,'Vehicle Type Count by Agency'!$C:$C,\"=\"&$C55),\"\")","v":""},{"$f":"IFERROR(SUMIFS('Vehicle Type Count by Agency'!Q:Q,'Vehicle Type Count by Agency'!$C:$C,\"=\"&$C55)/SUMIFS('Vehicle Type Count by Agency'!P:P,'Vehicle Type Count by Agency'!$C:$C,\"=\"&$C55),\"\")","v":""},{"$f":"IFERROR(SUMIFS('Vehicle Type Count by Agency'!S:S,'Vehicle Type Count by Agency'!$C:$C,\"=\"&$C55)/SUMIFS('Vehicle Type Count by Agency'!R:R,'Vehicle Type Count by Agency'!$C:$C,\"=\"&$C55),\"\")","v":""},{"$f":"IFERROR(SUMIFS('Vehicle Type Count by Agency'!U:U,'Vehicle Type Count by Agency'!$C:$C,\"=\"&$C55)/SUMIFS('Vehicle Type Count by Agency'!T:T,'Vehicle Type Count by Agency'!$C:$C,\"=\"&$C55),\"\")","v":0.24},{"$f":"IFERROR(SUMIFS('Vehicle Type Count by Agency'!W:W,'Vehicle Type Count by Agency'!$C:$C,\"=\"&$C55)/SUMIFS('Vehicle Type Count by Agency'!V:V,'Vehicle Type Count by Agency'!$C:$C,\"=\"&$C55),\"\")","v":0.5010799136069114},{"$f":"IFERROR(SUMIFS('Vehicle Type Count by Agency'!Y:Y,'Vehicle Type Count by Agency'!$C:$C,\"=\"&$C55)/SUMIFS('Vehicle Type Count by Agency'!X:X,'Vehicle Type Count by Agency'!$C:$C,\"=\"&$C55),\"\")","v":0.63157894736842102},{"$f":"IFERROR(SUMIFS('Vehicle Type Count by Agency'!AA:AA,'Vehicle Type Count by Agency'!$C:$C,\"=\"&$C55)/SUMIFS('Vehicle Type Count by Agency'!Z:Z,'Vehicle Type Count by Agency'!$C:$C,\"=\"&$C55),\"\")","v":0.36683417085427134},{"$f":"IFERROR(SUMIFS('Vehicle Type Count by Agency'!AC:AC,'Vehicle Type Count by Agency'!$C:$C,\"=\"&$C55)/SUMIFS('Vehicle Type Count by Agency'!AB:AB,'Vehicle Type Count by Agency'!$C:$C,\"=\"&$C55),\"\")","v":""},{"$f":"IFERROR(SUMIFS('Vehicle Type Count by Agency'!AE:AE,'Vehicle Type Count by Agency'!$C:$C,\"=\"&$C55)/SUMIFS('Vehicle Type Count by Agency'!AD:AD,'Vehicle Type Count by Agency'!$C:$C,\"=\"&$C55),\"\")","v":""},{"$f":"IFERROR(SUMIFS('Vehicle Type Count by Agency'!AG:AG,'Vehicle Type Count by Agency'!$C:$C,\"=\"&$C55)/SUMIFS('Vehicle Type Count by Agency'!AF:AF,'Vehicle Type Count by Agency'!$C:$C,\"=\"&$C55),\"\")","v":""},{"$f":"IFERROR(SUMIFS('Vehicle Type Count by Agency'!AI:AI,'Vehicle Type Count by Agency'!$C:$C,\"=\"&$C55)/SUMIFS('Vehicle Type Count by Agency'!AH:AH,'Vehicle Type Count by Agency'!$C:$C,\"=\"&$C55),\"\")","v":""},{"$f":"IFERROR(SUMIFS('Vehicle Type Count by Agency'!AK:AK,'Vehicle Type Count by Agency'!$C:$C,\"=\"&$C55)/SUMIFS('Vehicle Type Count by Agency'!AJ:AJ,'Vehicle Type Count by Agency'!$C:$C,\"=\"&$C55),\"\")","v":""},{"$f":"IFERROR(SUMIFS('Vehicle Type Count by Agency'!AM:AM,'Vehicle Type Count by Agency'!$C:$C,\"=\"&$C55)/SUMIFS('Vehicle Type Count by Agency'!AL:AL,'Vehicle Type Count by Agency'!$C:$C,\"=\"&$C55),\"\")","v":""},{"$f":"IFERROR(SUMIFS('Vehicle Type Count by Agency'!AO:AO,'Vehicle Type Count by Agency'!$C:$C,\"=\"&$C55)/SUMIFS('Vehicle Type Count by Agency'!AN:AN,'Vehicle Type Count by Agency'!$C:$C,\"=\"&$C55),\"\")","v":""},{"$f":"IFERROR(SUMIFS('Vehicle Type Count by Agency'!AQ:AQ,'Vehicle Type Count by Agency'!$C:$C,\"=\"&$C55)/SUMIFS('Vehicle Type Count by Agency'!AP:AP,'Vehicle Type Count by Agency'!$C:$C,\"=\"&$C55),\"\")","v":""},{"$f":"IFERROR(SUMIFS('Vehicle Type Count by Agency'!AS:AS,'Vehicle Type Count by Agency'!$C:$C,\"=\"&$C55)/SUMIFS('Vehicle Type Count by Agency'!AR:AR,'Vehicle Type Count by Agency'!$C:$C,\"=\"&$C55),\"\")","v":""},{"$f":"IFERROR(SUMIFS('Vehicle Type Count by Agency'!AU:AU,'Vehicle Type Count by Agency'!$C:$C,\"=\"&$C55)/SUMIFS('Vehicle Type Count by Agency'!AT:AT,'Vehicle Type Count by Agency'!$C:$C,\"=\"&$C55),\"\")","v":""},{"$f":"IFERROR(SUMIFS('Vehicle Type Count by Agency'!AW:AW,'Vehicle Type Count by Agency'!$C:$C,\"=\"&$C55)/SUMIFS('Vehicle Type Count by Agency'!AV:AV,'Vehicle Type Count by Agency'!$C:$C,\"=\"&$C55),\"\")","v":""},{"$f":"IFERROR(SUMIFS('Vehicle Type Count by Agency'!AY:AY,'Vehicle Type Count by Agency'!$C:$C,\"=\"&$C55)/SUMIFS('Vehicle Type Count by Agency'!AX:AX,'Vehicle Type Count by Agency'!$C:$C,\"=\"&$C55),\"\")","v":""},{"$f":"IFERROR(SUMIFS('Vehicle Type Count by Agency'!BA:BA,'Vehicle Type Count by Agency'!$C:$C,\"=\"&$C55)/SUMIFS('Vehicle Type Count by Agency'!AZ:AZ,'Vehicle Type Count by Agency'!$C:$C,\"=\"&$C55),\"\")","v":""},{"$f":"IFERROR(SUMIFS('Vehicle Type Count by Agency'!BC:BC,'Vehicle Type Count by Agency'!$C:$C,\"=\"&$C55)/SUMIFS('Vehicle Type Count by Agency'!BB:BB,'Vehicle Type Count by Agency'!$C:$C,\"=\"&$C55),\"\")","v":""},{"$f":"IFERROR(SUMIFS('Vehicle Type Count by Agency'!BE:BE,'Vehicle Type Count by Agency'!$C:$C,\"=\"&$C55)/SUMIFS('Vehicle Type Count by Agency'!BD:BD,'Vehicle Type Count by Agency'!$C:$C,\"=\"&$C55),\"\")","v":""},{"$f":"IFERROR(SUMIFS('Vehicle Type Count by Agency'!BG:BG,'Vehicle Type Count by Agency'!$C:$C,\"=\"&$C55)/SUMIFS('Vehicle Type Count by Agency'!BF:BF,'Vehicle Type Count by Agency'!$C:$C,\"=\"&$C55),\"\")","v":""},{"$f":"IFERROR(SUMIFS('Vehicle Type Count by Agency'!BI:BI,'Vehicle Type Count by Agency'!$C:$C,\"=\"&$C55)/SUMIFS('Vehicle Type Count by Agency'!BH:BH,'Vehicle Type Count by Agency'!$C:$C,\"=\"&$C55),\"\")","v":0.40292628024760835}]
[null,null,"ID","Idaho",null,{"$f":"IFERROR(SUMIFS('Vehicle Type Count by Agency'!K:K,'Vehicle Type Count by Agency'!$C:$C,\"=\"&$C56)/SUMIFS('Vehicle Type Count by Agency'!J:J,'Vehicle Type Count by Agency'!$C:$C,\"=\"&$C56),\"\")","v":0.35227272727272729},{"$f":"IFERROR(SUMIFS('Vehicle Type Count by Agency'!M:M,'Vehicle Type Count by Agency'!$C:$C,\"=\"&$C56)/SUMIFS('Vehicle Type Count by Agency'!L:L,'Vehicle Type Count by Agency'!$C:$C,\"=\"&$C56),\"\")","v":""},{"$f":"IFERROR(SUMIFS('Vehicle Type Count by Agency'!O:O,'Vehicle Type Count by Agency'!$C:$C,\"=\"&$C56)/SUMIFS('Vehicle Type Count by Agency'!N:N,'Vehicle Type Count by Agency'!$C:$C,\"=\"&$C56),\"\")","v":""},{"$f":"IFERROR(SUMIFS('Vehicle Type Count by Agency'!Q:Q,'Vehicle Type Count by Agency'!$C:$C,\"=\"&$C56)/SUMIFS('Vehicle Type Count by Agency'!P:P,'Vehicle Type Count by Agency'!$C:$C,\"=\"&$C56),\"\")","v":""},{"$f":"IFERROR(SUMIFS('Vehicle Type Count by Agency'!S:S,'Vehicle Type Count by Agency'!$C:$C,\"=\"&$C56)/SUMIFS('Vehicle Type Count by Agency'!R:R,'Vehicle Type Count by Agency'!$C:$C,\"=\"&$C56),\"\")","v":1},{"$f":"IFERROR(SUMIFS('Vehicle Type Count by Agency'!U:U,'Vehicle Type Count by Agency'!$C:$C,\"=\"&$C56)/SUMIFS('Vehicle Type Count by Agency'!T:T,'Vehicle Type Count by Agency'!$C:$C,\"=\"&$C56),\"\")","v":0.18620689655172415},{"$f":"IFERROR(SUMIFS('Vehicle Type Count by Agency'!W:W,'Vehicle Type Count by Agency'!$C:$C,\"=\"&$C56)/SUMIFS('Vehicle Type Count by Agency'!V:V,'Vehicle Type Count by Agency'!$C:$C,\"=\"&$C56),\"\")","v":0.51807228915662651},{"$f":"IFERROR(SUMIFS('Vehicle Type Count by Agency'!Y:Y,'Vehicle Type Count by Agency'!$C:$C,\"=\"&$C56)/SUMIFS('Vehicle Type Count by Agency'!X:X,'Vehicle Type Count by Agency'!$C:$C,\"=\"&$C56),\"\")","v":0.86363636363636365},{"$f":"IFERROR(SUMIFS('Vehicle Type Count by Agency'!AA:AA,'Vehicle Type Count by Agency'!$C:$C,\"=\"&$C56)/SUMIFS('Vehicle Type Count by Agency'!Z:Z,'Vehicle Type Count by Agency'!$C:$C,\"=\"&$C56),\"\")","v":0.52777777777777779},{"$f":"IFERROR(SUMIFS('Vehicle Type Count by Agency'!AC:AC,'Vehicle Type Count by Agency'!$C:$C,\"=\"&$C56)/SUMIFS('Vehicle Type Count by Agency'!AB:AB,'Vehicle Type Count by Agency'!$C:$C,\"=\"&$C56),\"\")","v":0.2},{"$f":"IFERROR(SUMIFS('Vehicle Type Count by Agency'!AE:AE,'Vehicle Type Count by Agency'!$C:$C,\"=\"&$C56)/SUMIFS('Vehicle Type Count by Agency'!AD:AD,'Vehicle Type Count by Agency'!$C:$C,\"=\"&$C56),\"\")","v":""},{"$f":"IFERROR(SUMIFS('Vehicle Type Count by Agency'!AG:AG,'Vehicle Type Count by Agency'!$C:$C,\"=\"&$C56)/SUMIFS('Vehicle Type Count by Agency'!AF:AF,'Vehicle Type Count by Agency'!$C:$C,\"=\"&$C56),\"\")","v":""},{"$f":"IFERROR(SUMIFS('Vehicle Type Count by Agency'!AI:AI,'Vehicle Type Count by Agency'!$C:$C,\"=\"&$C56)/SUMIFS('Vehicle Type Count by Agency'!AH:AH,'Vehicle Type Count by Agency'!$C:$C,\"=\"&$C56),\"\")","v":""},{"$f":"IFERROR(SUMIFS('Vehicle Type Count by Agency'!AK:AK,'Vehicle Type Count by Agency'!$C:$C,\"=\"&$C56)/SUMIFS('Vehicle Type Count by Agency'!AJ:AJ,'Vehicle Type Count by Agency'!$C:$C,\"=\"&$C56),\"\")","v":""},{"$f":"IFERROR(SUMIFS('Vehicle Type Count by Agency'!AM:AM,'Vehicle Type Count by Agency'!$C:$C,\"=\"&$C56)/SUMIFS('Vehicle Type Count by Agency'!AL:AL,'Vehicle Type Count by Agency'!$C:$C,\"=\"&$C56),\"\")","v":""},{"$f":"IFERROR(SUMIFS('Vehicle Type Count by Agency'!AO:AO,'Vehicle Type Count by Agency'!$C:$C,\"=\"&$C56)/SUMIFS('Vehicle Type Count by Agency'!AN:AN,'Vehicle Type Count by Agency'!$C:$C,\"=\"&$C56),\"\")","v":""},{"$f":"IFERROR(SUMIFS('Vehicle Type Count by Agency'!AQ:AQ,'Vehicle Type Count by Agency'!$C:$C,\"=\"&$C56)/SUMIFS('Vehicle Type Count by Agency'!AP:AP,'Vehicle Type Count by Agency'!$C:$C,\"=\"&$C56),\"\")","v":""},{"$f":"IFERROR(SUMIFS('Vehicle Type Count by Agency'!AS:AS,'Vehicle Type Count by Agency'!$C:$C,\"=\"&$C56)/SUMIFS('Vehicle Type Count by Agency'!AR:AR,'Vehicle Type Count by Agency'!$C:$C,\"=\"&$C56),\"\")","v":""},{"$f":"IFERROR(SUMIFS('Vehicle Type Count by Agency'!AU:AU,'Vehicle Type Count by Agency'!$C:$C,\"=\"&$C56)/SUMIFS('Vehicle Type Count by Agency'!AT:AT,'Vehicle Type Count by Agency'!$C:$C,\"=\"&$C56),\"\")","v":""},{"$f":"IFERROR(SUMIFS('Vehicle Type Count by Agency'!AW:AW,'Vehicle Type Count by Agency'!$C:$C,\"=\"&$C56)/SUMIFS('Vehicle Type Count by Agency'!AV:AV,'Vehicle Type Count by Agency'!$C:$C,\"=\"&$C56),\"\")","v":""},{"$f":"IFERROR(SUMIFS('Vehicle Type Count by Agency'!AY:AY,'Vehicle Type Count by Agency'!$C:$C,\"=\"&$C56)/SUMIFS('Vehicle Type Count by Agency'!AX:AX,'Vehicle Type Count by Agency'!$C:$C,\"=\"&$C56),\"\")","v":""},{"$f":"IFERROR(SUMIFS('Vehicle Type Count by Agency'!BA:BA,'Vehicle Type Count by Agency'!$C:$C,\"=\"&$C56)/SUMIFS('Vehicle Type Count by Agency'!AZ:AZ,'Vehicle Type Count by Agency'!$C:$C,\"=\"&$C56),\"\")","v":""},{"$f":"IFERROR(SUMIFS('Vehicle Type Count by Agency'!BC:BC,'Vehicle Type Count by Agency'!$C:$C,\"=\"&$C56)/SUMIFS('Vehicle Type Count by Agency'!BB:BB,'Vehicle Type Count by Agency'!$C:$C,\"=\"&$C56),\"\")","v":""},{"$f":"IFERROR(SUMIFS('Vehicle Type Count by Agency'!BE:BE,'Vehicle Type Count by Agency'!$C:$C,\"=\"&$C56)/SUMIFS('Vehicle Type Count by Agency'!BD:BD,'Vehicle Type Count by Agency'!$C:$C,\"=\"&$C56),\"\")","v":""},{"$f":"IFERROR(SUMIFS('Vehicle Type Count by Agency'!BG:BG,'Vehicle Type Count by Agency'!$C:$C,\"=\"&$C56)/SUMIFS('Vehicle Type Count by Agency'!BF:BF,'Vehicle Type Count by Agency'!$C:$C,\"=\"&$C56),\"\")","v":""},{"$f":"IFERROR(SUMIFS('Vehicle Type Count by Agency'!BI:BI,'Vehicle Type Count by Agency'!$C:$C,\"=\"&$C56)/SUMIFS('Vehicle Type Count by Agency'!BH:BH,'Vehicle Type Count by Agency'!$C:$C,\"=\"&$C56),\"\")","v":0.41894353369763204}]
[null,null,"IL","Illinois",null,{"$f":"IFERROR(SUMIFS('Vehicle Type Count by Agency'!K:K,'Vehicle Type Count by Agency'!$C:$C,\"=\"&$C57)/SUMIFS('Vehicle Type Count by Agency'!J:J,'Vehicle Type Count by Agency'!$C:$C,\"=\"&$C57),\"\")","v":0.10125260960334029},{"$f":"IFERROR(SUMIFS('Vehicle Type Count by Agency'!M:M,'Vehicle Type Count by Agency'!$C:$C,\"=\"&$C57)/SUMIFS('Vehicle Type Count by Agency'!L:L,'Vehicle Type Count by Agency'!$C:$C,\"=\"&$C57),\"\")","v":3.7499999999999999E-2},{"$f":"IFERROR(SUMIFS('Vehicle Type Count by Agency'!O:O,'Vehicle Type Count by Agency'!$C:$C,\"=\"&$C57)/SUMIFS('Vehicle Type Count by Agency'!N:N,'Vehicle Type Count by Agency'!$C:$C,\"=\"&$C57),\"\")","v":0},{"$f":"IFERROR(SUMIFS('Vehicle Type Count by Agency'!Q:Q,'Vehicle Type Count by Agency'!$C:$C,\"=\"&$C57)/SUMIFS('Vehicle Type Count by Agency'!P:P,'Vehicle Type Count by Agency'!$C:$C,\"=\"&$C57),\"\")","v":""},{"$f":"IFERROR(SUMIFS('Vehicle Type Count by Agency'!S:S,'Vehicle Type Count by Agency'!$C:$C,\"=\"&$C57)/SUMIFS('Vehicle Type Count by Agency'!R:R,'Vehicle Type Count by Agency'!$C:$C,\"=\"&$C57),\"\")","v":""},{"$f":"IFERROR(SUMIFS('Vehicle Type Count by Agency'!U:U,'Vehicle Type Count by Agency'!$C:$C,\"=\"&$C57)/SUMIFS('Vehicle Type Count by Agency'!T:T,'Vehicle Type Count by Agency'!$C:$C,\"=\"&$C57),\"\")","v":0.39398734177215189},{"$f":"IFERROR(SUMIFS('Vehicle Type Count by Agency'!W:W,'Vehicle Type Count by Agency'!$C:$C,\"=\"&$C57)/SUMIFS('Vehicle Type Count by Agency'!V:V,'Vehicle Type Count by Agency'!$C:$C,\"=\"&$C57),\"\")","v":0.26796204247627653},{"$f":"IFERROR(SUMIFS('Vehicle Type Count by Agency'!Y:Y,'Vehicle Type Count by Agency'!$C:$C,\"=\"&$C57)/SUMIFS('Vehicle Type Count by Agency'!X:X,'Vehicle Type Count by Agency'!$C:$C,\"=\"&$C57),\"\")","v":0.69230769230769229},{"$f":"IFERROR(SUMIFS('Vehicle Type Count by Agency'!AA:AA,'Vehicle Type Count by Agency'!$C:$C,\"=\"&$C57)/SUMIFS('Vehicle Type Count by Agency'!Z:Z,'Vehicle Type Count by Agency'!$C:$C,\"=\"&$C57),\"\")","v":0.15517241379310345},{"$f":"IFERROR(SUMIFS('Vehicle Type Count by Agency'!AC:AC,'Vehicle Type Count by Agency'!$C:$C,\"=\"&$C57)/SUMIFS('Vehicle Type Count by Agency'!AB:AB,'Vehicle Type Count by Agency'!$C:$C,\"=\"&$C57),\"\")","v":""},{"$f":"IFERROR(SUMIFS('Vehicle Type Count by Agency'!AE:AE,'Vehicle Type Count by Agency'!$C:$C,\"=\"&$C57)/SUMIFS('Vehicle Type Count by Agency'!AD:AD,'Vehicle Type Count by Agency'!$C:$C,\"=\"&$C57),\"\")","v":""},{"$f":"IFERROR(SUMIFS('Vehicle Type Count by Agency'!AG:AG,'Vehicle Type Count by Agency'!$C:$C,\"=\"&$C57)/SUMIFS('Vehicle Type Count by Agency'!AF:AF,'Vehicle Type Count by Agency'!$C:$C,\"=\"&$C57),\"\")","v":0.17246175243393602},{"$f":"IFERROR(SUMIFS('Vehicle Type Count by Agency'!AI:AI,'Vehicle Type Count by Agency'!$C:$C,\"=\"&$C57)/SUMIFS('Vehicle Type Count by Agency'!AH:AH,'Vehicle Type Count by Agency'!$C:$C,\"=\"&$C57),\"\")","v":""},{"$f":"IFERROR(SUMIFS('Vehicle Type Count by Agency'!AK:AK,'Vehicle Type Count by Agency'!$C:$C,\"=\"&$C57)/SUMIFS('Vehicle Type Count by Agency'!AJ:AJ,'Vehicle Type Count by Agency'!$C:$C,\"=\"&$C57),\"\")","v":0.43683589138134593},{"$f":"IFERROR(SUMIFS('Vehicle Type Count by Agency'!AM:AM,'Vehicle Type Count by Agency'!$C:$C,\"=\"&$C57)/SUMIFS('Vehicle Type Count by Agency'!AL:AL,'Vehicle Type Count by Agency'!$C:$C,\"=\"&$C57),\"\")","v":0},{"$f":"IFERROR(SUMIFS('Vehicle Type Count by Agency'!AO:AO,'Vehicle Type Count by Agency'!$C:$C,\"=\"&$C57)/SUMIFS('Vehicle Type Count by Agency'!AN:AN,'Vehicle Type Count by Agency'!$C:$C,\"=\"&$C57),\"\")","v":0.5436241610738255},{"$f":"IFERROR(SUMIFS('Vehicle Type Count by Agency'!AQ:AQ,'Vehicle Type Count by Agency'!$C:$C,\"=\"&$C57)/SUMIFS('Vehicle Type Count by Agency'!AP:AP,'Vehicle Type Count by Agency'!$C:$C,\"=\"&$C57),\"\")","v":""},{"$f":"IFERROR(SUMIFS('Vehicle Type Count by Agency'!AS:AS,'Vehicle Type Count by Agency'!$C:$C,\"=\"&$C57)/SUMIFS('Vehicle Type Count by Agency'!AR:AR,'Vehicle Type Count by Agency'!$C:$C,\"=\"&$C57),\"\")","v":""},{"$f":"IFERROR(SUMIFS('Vehicle Type Count by Agency'!AU:AU,'Vehicle Type Count by Agency'!$C:$C,\"=\"&$C57)/SUMIFS('Vehicle Type Count by Agency'!AT:AT,'Vehicle Type Count by Agency'!$C:$C,\"=\"&$C57),\"\")","v":""},{"$f":"IFERROR(SUMIFS('Vehicle Type Count by Agency'!AW:AW,'Vehicle Type Count by Agency'!$C:$C,\"=\"&$C57)/SUMIFS('Vehicle Type Count by Agency'!AV:AV,'Vehicle Type Count by Agency'!$C:$C,\"=\"&$C57),\"\")","v":""},{"$f":"IFERROR(SUMIFS('Vehicle Type Count by Agency'!AY:AY,'Vehicle Type Count by Agency'!$C:$C,\"=\"&$C57)/SUMIFS('Vehicle Type Count by Agency'!AX:AX,'Vehicle Type Count by Agency'!$C:$C,\"=\"&$C57),\"\")","v":""},{"$f":"IFERROR(SUMIFS('Vehicle Type Count by Agency'!BA:BA,'Vehicle Type Count by Agency'!$C:$C,\"=\"&$C57)/SUMIFS('Vehicle Type Count by Agency'!AZ:AZ,'Vehicle Type Count by Agency'!$C:$C,\"=\"&$C57),\"\")","v":""},{"$f":"IFERROR(SUMIFS('Vehicle Type Count by Agency'!BC:BC,'Vehicle Type Count by Agency'!$C:$C,\"=\"&$C57)/SUMIFS('Vehicle Type Count by Agency'!BB:BB,'Vehicle Type Count by Agency'!$C:$C,\"=\"&$C57),\"\")","v":""},{"$f":"IFERROR(SUMIFS('Vehicle Type Count by Agency'!BE:BE,'Vehicle Type Count by Agency'!$C:$C,\"=\"&$C57)/SUMIFS('Vehicle Type Count by Agency'!BD:BD,'Vehicle Type Count by Agency'!$C:$C,\"=\"&$C57),\"\")","v":0.14285714285714285},{"$f":"IFERROR(SUMIFS('Vehicle Type Count by Agency'!BG:BG,'Vehicle Type Count by Agency'!$C:$C,\"=\"&$C57)/SUMIFS('Vehicle Type Count by Agency'!BF:BF,'Vehicle Type Count by Agency'!$C:$C,\"=\"&$C57),\"\")","v":""},{"$f":"IFERROR(SUMIFS('Vehicle Type Count by Agency'!BI:BI,'Vehicle Type Count by Agency'!$C:$C,\"=\"&$C57)/SUMIFS('Vehicle Type Count by Agency'!BH:BH,'Vehicle Type Count by Agency'!$C:$C,\"=\"&$C57),\"\")","v":0.20580235720761558}]
[null,null,"IN","Indiana",null,{"$f":"IFERROR(SUMIFS('Vehicle Type Count by Agency'!K:K,'Vehicle Type Count by Agency'!$C:$C,\"=\"&$C58)/SUMIFS('Vehicle Type Count by Agency'!J:J,'Vehicle Type Count by Agency'!$C:$C,\"=\"&$C58),\"\")","v":0.26680244399185338},{"$f":"IFERROR(SUMIFS('Vehicle Type Count by Agency'!M:M,'Vehicle Type Count by Agency'!$C:$C,\"=\"&$C58)/SUMIFS('Vehicle Type Count by Agency'!L:L,'Vehicle Type Count by Agency'!$C:$C,\"=\"&$C58),\"\")","v":0.6470588235294118},{"$f":"IFERROR(SUMIFS('Vehicle Type Count by Agency'!O:O,'Vehicle Type Count by Agency'!$C:$C,\"=\"&$C58)/SUMIFS('Vehicle Type Count by Agency'!N:N,'Vehicle Type Count by Agency'!$C:$C,\"=\"&$C58),\"\")","v":0},{"$f":"IFERROR(SUMIFS('Vehicle Type Count by Agency'!Q:Q,'Vehicle Type Count by Agency'!$C:$C,\"=\"&$C58)/SUMIFS('Vehicle Type Count by Agency'!P:P,'Vehicle Type Count by Agency'!$C:$C,\"=\"&$C58),\"\")","v":""},{"$f":"IFERROR(SUMIFS('Vehicle Type Count by Agency'!S:S,'Vehicle Type Count by Agency'!$C:$C,\"=\"&$C58)/SUMIFS('Vehicle Type Count by Agency'!R:R,'Vehicle Type Count by Agency'!$C:$C,\"=\"&$C58),\"\")","v":""},{"$f":"IFERROR(SUMIFS('Vehicle Type Count by Agency'!U:U,'Vehicle Type Count by Agency'!$C:$C,\"=\"&$C58)/SUMIFS('Vehicle Type Count by Agency'!T:T,'Vehicle Type Count by Agency'!$C:$C,\"=\"&$C58),\"\")","v":0.35238095238095241},{"$f":"IFERROR(SUMIFS('Vehicle Type Count by Agency'!W:W,'Vehicle Type Count by Agency'!$C:$C,\"=\"&$C58)/SUMIFS('Vehicle Type Count by Agency'!V:V,'Vehicle Type Count by Agency'!$C:$C,\"=\"&$C58),\"\")","v":0.38140161725067384},{"$f":"IFERROR(SUMIFS('Vehicle Type Count by Agency'!Y:Y,'Vehicle Type Count by Agency'!$C:$C,\"=\"&$C58)/SUMIFS('Vehicle Type Count by Agency'!X:X,'Vehicle Type Count by Agency'!$C:$C,\"=\"&$C58),\"\")","v":0.66666666666666663},{"$f":"IFERROR(SUMIFS('Vehicle Type Count by Agency'!AA:AA,'Vehicle Type Count by Agency'!$C:$C,\"=\"&$C58)/SUMIFS('Vehicle Type Count by Agency'!Z:Z,'Vehicle Type Count by Agency'!$C:$C,\"=\"&$C58),\"\")","v":0.55623100303951367},{"$f":"IFERROR(SUMIFS('Vehicle Type Count by Agency'!AC:AC,'Vehicle Type Count by Agency'!$C:$C,\"=\"&$C58)/SUMIFS('Vehicle Type Count by Agency'!AB:AB,'Vehicle Type Count by Agency'!$C:$C,\"=\"&$C58),\"\")","v":""},{"$f":"IFERROR(SUMIFS('Vehicle Type Count by Agency'!AE:AE,'Vehicle Type Count by Agency'!$C:$C,\"=\"&$C58)/SUMIFS('Vehicle Type Count by Agency'!AD:AD,'Vehicle Type Count by Agency'!$C:$C,\"=\"&$C58),\"\")","v":""},{"$f":"IFERROR(SUMIFS('Vehicle Type Count by Agency'!AG:AG,'Vehicle Type Count by Agency'!$C:$C,\"=\"&$C58)/SUMIFS('Vehicle Type Count by Agency'!AF:AF,'Vehicle Type Count by Agency'!$C:$C,\"=\"&$C58),\"\")","v":""},{"$f":"IFERROR(SUMIFS('Vehicle Type Count by Agency'!AI:AI,'Vehicle Type Count by Agency'!$C:$C,\"=\"&$C58)/SUMIFS('Vehicle Type Count by Agency'!AH:AH,'Vehicle Type Count by Agency'!$C:$C,\"=\"&$C58),\"\")","v":""},{"$f":"IFERROR(SUMIFS('Vehicle Type Count by Agency'!AK:AK,'Vehicle Type Count by Agency'!$C:$C,\"=\"&$C58)/SUMIFS('Vehicle Type Count by Agency'!AJ:AJ,'Vehicle Type Count by Agency'!$C:$C,\"=\"&$C58),\"\")","v":0},{"$f":"IFERROR(SUMIFS('Vehicle Type Count by Agency'!AM:AM,'Vehicle Type Count by Agency'!$C:$C,\"=\"&$C58)/SUMIFS('Vehicle Type Count by Agency'!AL:AL,'Vehicle Type Count by Agency'!$C:$C,\"=\"&$C58),\"\")","v":0},{"$f":"IFERROR(SUMIFS('Vehicle Type Count by Agency'!AO:AO,'Vehicle Type Count by Agency'!$C:$C,\"=\"&$C58)/SUMIFS('Vehicle Type Count by Agency'!AN:AN,'Vehicle Type Count by Agency'!$C:$C,\"=\"&$C58),\"\")","v":""},{"$f":"IFERROR(SUMIFS('Vehicle Type Count by Agency'!AQ:AQ,'Vehicle Type Count by Agency'!$C:$C,\"=\"&$C58)/SUMIFS('Vehicle Type Count by Agency'!AP:AP,'Vehicle Type Count by Agency'!$C:$C,\"=\"&$C58),\"\")","v":""},{"$f":"IFERROR(SUMIFS('Vehicle Type Count by Agency'!AS:AS,'Vehicle Type Count by Agency'!$C:$C,\"=\"&$C58)/SUMIFS('Vehicle Type Count by Agency'!AR:AR,'Vehicle Type Count by Agency'!$C:$C,\"=\"&$C58),\"\")","v":""},{"$f":"IFERROR(SUMIFS('Vehicle Type Count by Agency'!AU:AU,'Vehicle Type Count by Agency'!$C:$C,\"=\"&$C58)/SUMIFS('Vehicle Type Count by Agency'!AT:AT,'Vehicle Type Count by Agency'!$C:$C,\"=\"&$C58),\"\")","v":""},{"$f":"IFERROR(SUMIFS('Vehicle Type Count by Agency'!AW:AW,'Vehicle Type Count by Agency'!$C:$C,\"=\"&$C58)/SUMIFS('Vehicle Type Count by Agency'!AV:AV,'Vehicle Type Count by Agency'!$C:$C,\"=\"&$C58),\"\")","v":""},{"$f":"IFERROR(SUMIFS('Vehicle Type Count by Agency'!AY:AY,'Vehicle Type Count by Agency'!$C:$C,\"=\"&$C58)/SUMIFS('Vehicle Type Count by Agency'!AX:AX,'Vehicle Type Count by Agency'!$C:$C,\"=\"&$C58),\"\")","v":""},{"$f":"IFERROR(SUMIFS('Vehicle Type Count by Agency'!BA:BA,'Vehicle Type Count by Agency'!$C:$C,\"=\"&$C58)/SUMIFS('Vehicle Type Count by Agency'!AZ:AZ,'Vehicle Type Count by Agency'!$C:$C,\"=\"&$C58),\"\")","v":""},{"$f":"IFERROR(SUMIFS('Vehicle Type Count by Agency'!BC:BC,'Vehicle Type Count by Agency'!$C:$C,\"=\"&$C58)/SUMIFS('Vehicle Type Count by Agency'!BB:BB,'Vehicle Type Count by Agency'!$C:$C,\"=\"&$C58),\"\")","v":""},{"$f":"IFERROR(SUMIFS('Vehicle Type Count by Agency'!BE:BE,'Vehicle Type Count by Agency'!$C:$C,\"=\"&$C58)/SUMIFS('Vehicle Type Count by Agency'!BD:BD,'Vehicle Type Count by Agency'!$C:$C,\"=\"&$C58),\"\")","v":""},{"$f":"IFERROR(SUMIFS('Vehicle Type Count by Agency'!BG:BG,'Vehicle Type Count by Agency'!$C:$C,\"=\"&$C58)/SUMIFS('Vehicle Type Count by Agency'!BF:BF,'Vehicle Type Count by Agency'!$C:$C,\"=\"&$C58),\"\")","v":""},{"$f":"IFERROR(SUMIFS('Vehicle Type Count by Agency'!BI:BI,'Vehicle Type Count by Agency'!$C:$C,\"=\"&$C58)/SUMIFS('Vehicle Type Count by Agency'!BH:BH,'Vehicle Type Count by Agency'!$C:$C,\"=\"&$C58),\"\")","v":0.37022689540675152}]
[null,null,"KS","Kansas",null,{"$f":"IFERROR(SUMIFS('Vehicle Type Count by Agency'!K:K,'Vehicle Type Count by Agency'!$C:$C,\"=\"&$C59)/SUMIFS('Vehicle Type Count by Agency'!J:J,'Vehicle Type Count by Agency'!$C:$C,\"=\"&$C59),\"\")","v":0.12182741116751269},{"$f":"IFERROR(SUMIFS('Vehicle Type Count by Agency'!M:M,'Vehicle Type Count by Agency'!$C:$C,\"=\"&$C59)/SUMIFS('Vehicle Type Count by Agency'!L:L,'Vehicle Type Count by Agency'!$C:$C,\"=\"&$C59),\"\")","v":""},{"$f":"IFERROR(SUMIFS('Vehicle Type Count by Agency'!O:O,'Vehicle Type Count by Agency'!$C:$C,\"=\"&$C59)/SUMIFS('Vehicle Type Count by Agency'!N:N,'Vehicle Type Count by Agency'!$C:$C,\"=\"&$C59),\"\")","v":0},{"$f":"IFERROR(SUMIFS('Vehicle Type Count by Agency'!Q:Q,'Vehicle Type Count by Agency'!$C:$C,\"=\"&$C59)/SUMIFS('Vehicle Type Count by Agency'!P:P,'Vehicle Type Count by Agency'!$C:$C,\"=\"&$C59),\"\")","v":""},{"$f":"IFERROR(SUMIFS('Vehicle Type Count by Agency'!S:S,'Vehicle Type Count by Agency'!$C:$C,\"=\"&$C59)/SUMIFS('Vehicle Type Count by Agency'!R:R,'Vehicle Type Count by Agency'!$C:$C,\"=\"&$C59),\"\")","v":""},{"$f":"IFERROR(SUMIFS('Vehicle Type Count by Agency'!U:U,'Vehicle Type Count by Agency'!$C:$C,\"=\"&$C59)/SUMIFS('Vehicle Type Count by Agency'!T:T,'Vehicle Type Count by Agency'!$C:$C,\"=\"&$C59),\"\")","v":0.17948717948717949},{"$f":"IFERROR(SUMIFS('Vehicle Type Count by Agency'!W:W,'Vehicle Type Count by Agency'!$C:$C,\"=\"&$C59)/SUMIFS('Vehicle Type Count by Agency'!V:V,'Vehicle Type Count by Agency'!$C:$C,\"=\"&$C59),\"\")","v":0.12041884816753927},{"$f":"IFERROR(SUMIFS('Vehicle Type Count by Agency'!Y:Y,'Vehicle Type Count by Agency'!$C:$C,\"=\"&$C59)/SUMIFS('Vehicle Type Count by Agency'!X:X,'Vehicle Type Count by Agency'!$C:$C,\"=\"&$C59),\"\")","v":2.3255813953488372E-2},{"$f":"IFERROR(SUMIFS('Vehicle Type Count by Agency'!AA:AA,'Vehicle Type Count by Agency'!$C:$C,\"=\"&$C59)/SUMIFS('Vehicle Type Count by Agency'!Z:Z,'Vehicle Type Count by Agency'!$C:$C,\"=\"&$C59),\"\")","v":0.24324324324324326},{"$f":"IFERROR(SUMIFS('Vehicle Type Count by Agency'!AC:AC,'Vehicle Type Count by Agency'!$C:$C,\"=\"&$C59)/SUMIFS('Vehicle Type Count by Agency'!AB:AB,'Vehicle Type Count by Agency'!$C:$C,\"=\"&$C59),\"\")","v":""},{"$f":"IFERROR(SUMIFS('Vehicle Type Count by Agency'!AE:AE,'Vehicle Type Count by Agency'!$C:$C,\"=\"&$C59)/SUMIFS('Vehicle Type Count by Agency'!AD:AD,'Vehicle Type Count by Agency'!$C:$C,\"=\"&$C59),\"\")","v":""},{"$f":"IFERROR(SUMIFS('Vehicle Type Count by Agency'!AG:AG,'Vehicle Type Count by Agency'!$C:$C,\"=\"&$C59)/SUMIFS('Vehicle Type Count by Agency'!AF:AF,'Vehicle Type Count by Agency'!$C:$C,\"=\"&$C59),\"\")","v":""},{"$f":"IFERROR(SUMIFS('Vehicle Type Count by Agency'!AI:AI,'Vehicle Type Count by Agency'!$C:$C,\"=\"&$C59)/SUMIFS('Vehicle Type Count by Agency'!AH:AH,'Vehicle Type Count by Agency'!$C:$C,\"=\"&$C59),\"\")","v":""},{"$f":"IFERROR(SUMIFS('Vehicle Type Count by Agency'!AK:AK,'Vehicle Type Count by Agency'!$C:$C,\"=\"&$C59)/SUMIFS('Vehicle Type Count by Agency'!AJ:AJ,'Vehicle Type Count by Agency'!$C:$C,\"=\"&$C59),\"\")","v":""},{"$f":"IFERROR(SUMIFS('Vehicle Type Count by Agency'!AM:AM,'Vehicle Type Count by Agency'!$C:$C,\"=\"&$C59)/SUMIFS('Vehicle Type Count by Agency'!AL:AL,'Vehicle Type Count by Agency'!$C:$C,\"=\"&$C59),\"\")","v":""},{"$f":"IFERROR(SUMIFS('Vehicle Type Count by Agency'!AO:AO,'Vehicle Type Count by Agency'!$C:$C,\"=\"&$C59)/SUMIFS('Vehicle Type Count by Agency'!AN:AN,'Vehicle Type Count by Agency'!$C:$C,\"=\"&$C59),\"\")","v":""},{"$f":"IFERROR(SUMIFS('Vehicle Type Count by Agency'!AQ:AQ,'Vehicle Type Count by Agency'!$C:$C,\"=\"&$C59)/SUMIFS('Vehicle Type Count by Agency'!AP:AP,'Vehicle Type Count by Agency'!$C:$C,\"=\"&$C59),\"\")","v":""},{"$f":"IFERROR(SUMIFS('Vehicle Type Count by Agency'!AS:AS,'Vehicle Type Count by Agency'!$C:$C,\"=\"&$C59)/SUMIFS('Vehicle Type Count by Agency'!AR:AR,'Vehicle Type Count by Agency'!$C:$C,\"=\"&$C59),\"\")","v":""},{"$f":"IFERROR(SUMIFS('Vehicle Type Count by Agency'!AU:AU,'Vehicle Type Count by Agency'!$C:$C,\"=\"&$C59)/SUMIFS('Vehicle Type Count by Agency'!AT:AT,'Vehicle Type Count by Agency'!$C:$C,\"=\"&$C59),\"\")","v":""},{"$f":"IFERROR(SUMIFS('Vehicle Type Count by Agency'!AW:AW,'Vehicle Type Count by Agency'!$C:$C,\"=\"&$C59)/SUMIFS('Vehicle Type Count by Agency'!AV:AV,'Vehicle Type Count by Agency'!$C:$C,\"=\"&$C59),\"\")","v":""},{"$f":"IFERROR(SUMIFS('Vehicle Type Count by Agency'!AY:AY,'Vehicle Type Count by Agency'!$C:$C,\"=\"&$C59)/SUMIFS('Vehicle Type Count by Agency'!AX:AX,'Vehicle Type Count by Agency'!$C:$C,\"=\"&$C59),\"\")","v":""},{"$f":"IFERROR(SUMIFS('Vehicle Type Count by Agency'!BA:BA,'Vehicle Type Count by Agency'!$C:$C,\"=\"&$C59)/SUMIFS('Vehicle Type Count by Agency'!AZ:AZ,'Vehicle Type Count by Agency'!$C:$C,\"=\"&$C59),\"\")","v":""},{"$f":"IFERROR(SUMIFS('Vehicle Type Count by Agency'!BC:BC,'Vehicle Type Count by Agency'!$C:$C,\"=\"&$C59)/SUMIFS('Vehicle Type Count by Agency'!BB:BB,'Vehicle Type Count by Agency'!$C:$C,\"=\"&$C59),\"\")","v":""},{"$f":"IFERROR(SUMIFS('Vehicle Type Count by Agency'!BE:BE,'Vehicle Type Count by Agency'!$C:$C,\"=\"&$C59)/SUMIFS('Vehicle Type Count by Agency'!BD:BD,'Vehicle Type Count by Agency'!$C:$C,\"=\"&$C59),\"\")","v":""},{"$f":"IFERROR(SUMIFS('Vehicle Type Count by Agency'!BG:BG,'Vehicle Type Count by Agency'!$C:$C,\"=\"&$C59)/SUMIFS('Vehicle Type Count by Agency'!BF:BF,'Vehicle Type Count by Agency'!$C:$C,\"=\"&$C59),\"\")","v":""},{"$f":"IFERROR(SUMIFS('Vehicle Type Count by Agency'!BI:BI,'Vehicle Type Count by Agency'!$C:$C,\"=\"&$C59)/SUMIFS('Vehicle Type Count by Agency'!BH:BH,'Vehicle Type Count by Agency'!$C:$C,\"=\"&$C59),\"\")","v":0.1445358401880141}]
[null,null,"KY","Kentucky",null,{"$f":"IFERROR(SUMIFS('Vehicle Type Count by Agency'!K:K,'Vehicle Type Count by Agency'!$C:$C,\"=\"&$C60)/SUMIFS('Vehicle Type Count by Agency'!J:J,'Vehicle Type Count by Agency'!$C:$C,\"=\"&$C60),\"\")","v":0.22633744855967078},{"$f":"IFERROR(SUMIFS('Vehicle Type Count by Agency'!M:M,'Vehicle Type Count by Agency'!$C:$C,\"=\"&$C60)/SUMIFS('Vehicle Type Count by Agency'!L:L,'Vehicle Type Count by Agency'!$C:$C,\"=\"&$C60),\"\")","v":""},{"$f":"IFERROR(SUMIFS('Vehicle Type Count by Agency'!O:O,'Vehicle Type Count by Agency'!$C:$C,\"=\"&$C60)/SUMIFS('Vehicle Type Count by Agency'!N:N,'Vehicle Type Count by Agency'!$C:$C,\"=\"&$C60),\"\")","v":""},{"$f":"IFERROR(SUMIFS('Vehicle Type Count by Agency'!Q:Q,'Vehicle Type Count by Agency'!$C:$C,\"=\"&$C60)/SUMIFS('Vehicle Type Count by Agency'!P:P,'Vehicle Type Count by Agency'!$C:$C,\"=\"&$C60),\"\")","v":""},{"$f":"IFERROR(SUMIFS('Vehicle Type Count by Agency'!S:S,'Vehicle Type Count by Agency'!$C:$C,\"=\"&$C60)/SUMIFS('Vehicle Type Count by Agency'!R:R,'Vehicle Type Count by Agency'!$C:$C,\"=\"&$C60),\"\")","v":""},{"$f":"IFERROR(SUMIFS('Vehicle Type Count by Agency'!U:U,'Vehicle Type Count by Agency'!$C:$C,\"=\"&$C60)/SUMIFS('Vehicle Type Count by Agency'!T:T,'Vehicle Type Count by Agency'!$C:$C,\"=\"&$C60),\"\")","v":0.30729166666666669},{"$f":"IFERROR(SUMIFS('Vehicle Type Count by Agency'!W:W,'Vehicle Type Count by Agency'!$C:$C,\"=\"&$C60)/SUMIFS('Vehicle Type Count by Agency'!V:V,'Vehicle Type Count by Agency'!$C:$C,\"=\"&$C60),\"\")","v":0.10989010989010989},{"$f":"IFERROR(SUMIFS('Vehicle Type Count by Agency'!Y:Y,'Vehicle Type Count by Agency'!$C:$C,\"=\"&$C60)/SUMIFS('Vehicle Type Count by Agency'!X:X,'Vehicle Type Count by Agency'!$C:$C,\"=\"&$C60),\"\")","v":6.2992125984251968E-2},{"$f":"IFERROR(SUMIFS('Vehicle Type Count by Agency'!AA:AA,'Vehicle Type Count by Agency'!$C:$C,\"=\"&$C60)/SUMIFS('Vehicle Type Count by Agency'!Z:Z,'Vehicle Type Count by Agency'!$C:$C,\"=\"&$C60),\"\")","v":0.22222222222222221},{"$f":"IFERROR(SUMIFS('Vehicle Type Count by Agency'!AC:AC,'Vehicle Type Count by Agency'!$C:$C,\"=\"&$C60)/SUMIFS('Vehicle Type Count by Agency'!AB:AB,'Vehicle Type Count by Agency'!$C:$C,\"=\"&$C60),\"\")","v":0.43089430894308944},{"$f":"IFERROR(SUMIFS('Vehicle Type Count by Agency'!AE:AE,'Vehicle Type Count by Agency'!$C:$C,\"=\"&$C60)/SUMIFS('Vehicle Type Count by Agency'!AD:AD,'Vehicle Type Count by Agency'!$C:$C,\"=\"&$C60),\"\")","v":""},{"$f":"IFERROR(SUMIFS('Vehicle Type Count by Agency'!AG:AG,'Vehicle Type Count by Agency'!$C:$C,\"=\"&$C60)/SUMIFS('Vehicle Type Count by Agency'!AF:AF,'Vehicle Type Count by Agency'!$C:$C,\"=\"&$C60),\"\")","v":""},{"$f":"IFERROR(SUMIFS('Vehicle Type Count by Agency'!AI:AI,'Vehicle Type Count by Agency'!$C:$C,\"=\"&$C60)/SUMIFS('Vehicle Type Count by Agency'!AH:AH,'Vehicle Type Count by Agency'!$C:$C,\"=\"&$C60),\"\")","v":""},{"$f":"IFERROR(SUMIFS('Vehicle Type Count by Agency'!AK:AK,'Vehicle Type Count by Agency'!$C:$C,\"=\"&$C60)/SUMIFS('Vehicle Type Count by Agency'!AJ:AJ,'Vehicle Type Count by Agency'!$C:$C,\"=\"&$C60),\"\")","v":""},{"$f":"IFERROR(SUMIFS('Vehicle Type Count by Agency'!AM:AM,'Vehicle Type Count by Agency'!$C:$C,\"=\"&$C60)/SUMIFS('Vehicle Type Count by Agency'!AL:AL,'Vehicle Type Count by Agency'!$C:$C,\"=\"&$C60),\"\")","v":""},{"$f":"IFERROR(SUMIFS('Vehicle Type Count by Agency'!AO:AO,'Vehicle Type Count by Agency'!$C:$C,\"=\"&$C60)/SUMIFS('Vehicle Type Count by Agency'!AN:AN,'Vehicle Type Count by Agency'!$C:$C,\"=\"&$C60),\"\")","v":""},{"$f":"IFERROR(SUMIFS('Vehicle Type Count by Agency'!AQ:AQ,'Vehicle Type Count by Agency'!$C:$C,\"=\"&$C60)/SUMIFS('Vehicle Type Count by Agency'!AP:AP,'Vehicle Type Count by Agency'!$C:$C,\"=\"&$C60),\"\")","v":""},{"$f":"IFERROR(SUMIFS('Vehicle Type Count by Agency'!AS:AS,'Vehicle Type Count by Agency'!$C:$C,\"=\"&$C60)/SUMIFS('Vehicle Type Count by Agency'!AR:AR,'Vehicle Type Count by Agency'!$C:$C,\"=\"&$C60),\"\")","v":""},{"$f":"IFERROR(SUMIFS('Vehicle Type Count by Agency'!AU:AU,'Vehicle Type Count by Agency'!$C:$C,\"=\"&$C60)/SUMIFS('Vehicle Type Count by Agency'!AT:AT,'Vehicle Type Count by Agency'!$C:$C,\"=\"&$C60),\"\")","v":""},{"$f":"IFERROR(SUMIFS('Vehicle Type Count by Agency'!AW:AW,'Vehicle Type Count by Agency'!$C:$C,\"=\"&$C60)/SUMIFS('Vehicle Type Count by Agency'!AV:AV,'Vehicle Type Count by Agency'!$C:$C,\"=\"&$C60),\"\")","v":""},{"$f":"IFERROR(SUMIFS('Vehicle Type Count by Agency'!AY:AY,'Vehicle Type Count by Agency'!$C:$C,\"=\"&$C60)/SUMIFS('Vehicle Type Count by Agency'!AX:AX,'Vehicle Type Count by Agency'!$C:$C,\"=\"&$C60),\"\")","v":""},{"$f":"IFERROR(SUMIFS('Vehicle Type Count by Agency'!BA:BA,'Vehicle Type Count by Agency'!$C:$C,\"=\"&$C60)/SUMIFS('Vehicle Type Count by Agency'!AZ:AZ,'Vehicle Type Count by Agency'!$C:$C,\"=\"&$C60),\"\")","v":""},{"$f":"IFERROR(SUMIFS('Vehicle Type Count by Agency'!BC:BC,'Vehicle Type Count by Agency'!$C:$C,\"=\"&$C60)/SUMIFS('Vehicle Type Count by Agency'!BB:BB,'Vehicle Type Count by Agency'!$C:$C,\"=\"&$C60),\"\")","v":""},{"$f":"IFERROR(SUMIFS('Vehicle Type Count by Agency'!BE:BE,'Vehicle Type Count by Agency'!$C:$C,\"=\"&$C60)/SUMIFS('Vehicle Type Count by Agency'!BD:BD,'Vehicle Type Count by Agency'!$C:$C,\"=\"&$C60),\"\")","v":""},{"$f":"IFERROR(SUMIFS('Vehicle Type Count by Agency'!BG:BG,'Vehicle Type Count by Agency'!$C:$C,\"=\"&$C60)/SUMIFS('Vehicle Type Count by Agency'!BF:BF,'Vehicle Type Count by Agency'!$C:$C,\"=\"&$C60),\"\")","v":""},{"$f":"IFERROR(SUMIFS('Vehicle Type Count by Agency'!BI:BI,'Vehicle Type Count by Agency'!$C:$C,\"=\"&$C60)/SUMIFS('Vehicle Type Count by Agency'!BH:BH,'Vehicle Type Count by Agency'!$C:$C,\"=\"&$C60),\"\")","v":0.20066472787702536}]
[null,null,"LA","Lousiana",null,{"$f":"IFERROR(SUMIFS('Vehicle Type Count by Agency'!K:K,'Vehicle Type Count by Agency'!$C:$C,\"=\"&$C61)/SUMIFS('Vehicle Type Count by Agency'!J:J,'Vehicle Type Count by Agency'!$C:$C,\"=\"&$C61),\"\")","v":8.882521489971347E-2},{"$f":"IFERROR(SUMIFS('Vehicle Type Count by Agency'!M:M,'Vehicle Type Count by Agency'!$C:$C,\"=\"&$C61)/SUMIFS('Vehicle Type Count by Agency'!L:L,'Vehicle Type Count by Agency'!$C:$C,\"=\"&$C61),\"\")","v":0},{"$f":"IFERROR(SUMIFS('Vehicle Type Count by Agency'!O:O,'Vehicle Type Count by Agency'!$C:$C,\"=\"&$C61)/SUMIFS('Vehicle Type Count by Agency'!N:N,'Vehicle Type Count by Agency'!$C:$C,\"=\"&$C61),\"\")","v":1},{"$f":"IFERROR(SUMIFS('Vehicle Type Count by Agency'!Q:Q,'Vehicle Type Count by Agency'!$C:$C,\"=\"&$C61)/SUMIFS('Vehicle Type Count by Agency'!P:P,'Vehicle Type Count by Agency'!$C:$C,\"=\"&$C61),\"\")","v":""},{"$f":"IFERROR(SUMIFS('Vehicle Type Count by Agency'!S:S,'Vehicle Type Count by Agency'!$C:$C,\"=\"&$C61)/SUMIFS('Vehicle Type Count by Agency'!R:R,'Vehicle Type Count by Agency'!$C:$C,\"=\"&$C61),\"\")","v":""},{"$f":"IFERROR(SUMIFS('Vehicle Type Count by Agency'!U:U,'Vehicle Type Count by Agency'!$C:$C,\"=\"&$C61)/SUMIFS('Vehicle Type Count by Agency'!T:T,'Vehicle Type Count by Agency'!$C:$C,\"=\"&$C61),\"\")","v":0.53608247422680411},{"$f":"IFERROR(SUMIFS('Vehicle Type Count by Agency'!W:W,'Vehicle Type Count by Agency'!$C:$C,\"=\"&$C61)/SUMIFS('Vehicle Type Count by Agency'!V:V,'Vehicle Type Count by Agency'!$C:$C,\"=\"&$C61),\"\")","v":0.29629629629629628},{"$f":"IFERROR(SUMIFS('Vehicle Type Count by Agency'!Y:Y,'Vehicle Type Count by Agency'!$C:$C,\"=\"&$C61)/SUMIFS('Vehicle Type Count by Agency'!X:X,'Vehicle Type Count by Agency'!$C:$C,\"=\"&$C61),\"\")","v":0.75},{"$f":"IFERROR(SUMIFS('Vehicle Type Count by Agency'!AA:AA,'Vehicle Type Count by Agency'!$C:$C,\"=\"&$C61)/SUMIFS('Vehicle Type Count by Agency'!Z:Z,'Vehicle Type Count by Agency'!$C:$C,\"=\"&$C61),\"\")","v":0.42105263157894735},{"$f":"IFERROR(SUMIFS('Vehicle Type Count by Agency'!AC:AC,'Vehicle Type Count by Agency'!$C:$C,\"=\"&$C61)/SUMIFS('Vehicle Type Count by Agency'!AB:AB,'Vehicle Type Count by Agency'!$C:$C,\"=\"&$C61),\"\")","v":0},{"$f":"IFERROR(SUMIFS('Vehicle Type Count by Agency'!AE:AE,'Vehicle Type Count by Agency'!$C:$C,\"=\"&$C61)/SUMIFS('Vehicle Type Count by Agency'!AD:AD,'Vehicle Type Count by Agency'!$C:$C,\"=\"&$C61),\"\")","v":""},{"$f":"IFERROR(SUMIFS('Vehicle Type Count by Agency'!AG:AG,'Vehicle Type Count by Agency'!$C:$C,\"=\"&$C61)/SUMIFS('Vehicle Type Count by Agency'!AF:AF,'Vehicle Type Count by Agency'!$C:$C,\"=\"&$C61),\"\")","v":""},{"$f":"IFERROR(SUMIFS('Vehicle Type Count by Agency'!AI:AI,'Vehicle Type Count by Agency'!$C:$C,\"=\"&$C61)/SUMIFS('Vehicle Type Count by Agency'!AH:AH,'Vehicle Type Count by Agency'!$C:$C,\"=\"&$C61),\"\")","v":""},{"$f":"IFERROR(SUMIFS('Vehicle Type Count by Agency'!AK:AK,'Vehicle Type Count by Agency'!$C:$C,\"=\"&$C61)/SUMIFS('Vehicle Type Count by Agency'!AJ:AJ,'Vehicle Type Count by Agency'!$C:$C,\"=\"&$C61),\"\")","v":""},{"$f":"IFERROR(SUMIFS('Vehicle Type Count by Agency'!AM:AM,'Vehicle Type Count by Agency'!$C:$C,\"=\"&$C61)/SUMIFS('Vehicle Type Count by Agency'!AL:AL,'Vehicle Type Count by Agency'!$C:$C,\"=\"&$C61),\"\")","v":""},{"$f":"IFERROR(SUMIFS('Vehicle Type Count by Agency'!AO:AO,'Vehicle Type Count by Agency'!$C:$C,\"=\"&$C61)/SUMIFS('Vehicle Type Count by Agency'!AN:AN,'Vehicle Type Count by Agency'!$C:$C,\"=\"&$C61),\"\")","v":""},{"$f":"IFERROR(SUMIFS('Vehicle Type Count by Agency'!AQ:AQ,'Vehicle Type Count by Agency'!$C:$C,\"=\"&$C61)/SUMIFS('Vehicle Type Count by Agency'!AP:AP,'Vehicle Type Count by Agency'!$C:$C,\"=\"&$C61),\"\")","v":""},{"$f":"IFERROR(SUMIFS('Vehicle Type Count by Agency'!AS:AS,'Vehicle Type Count by Agency'!$C:$C,\"=\"&$C61)/SUMIFS('Vehicle Type Count by Agency'!AR:AR,'Vehicle Type Count by Agency'!$C:$C,\"=\"&$C61),\"\")","v":1},{"$f":"IFERROR(SUMIFS('Vehicle Type Count by Agency'!AU:AU,'Vehicle Type Count by Agency'!$C:$C,\"=\"&$C61)/SUMIFS('Vehicle Type Count by Agency'!AT:AT,'Vehicle Type Count by Agency'!$C:$C,\"=\"&$C61),\"\")","v":0},{"$f":"IFERROR(SUMIFS('Vehicle Type Count by Agency'!AW:AW,'Vehicle Type Count by Agency'!$C:$C,\"=\"&$C61)/SUMIFS('Vehicle Type Count by Agency'!AV:AV,'Vehicle Type Count by Agency'!$C:$C,\"=\"&$C61),\"\")","v":""},{"$f":"IFERROR(SUMIFS('Vehicle Type Count by Agency'!AY:AY,'Vehicle Type Count by Agency'!$C:$C,\"=\"&$C61)/SUMIFS('Vehicle Type Count by Agency'!AX:AX,'Vehicle Type Count by Agency'!$C:$C,\"=\"&$C61),\"\")","v":""},{"$f":"IFERROR(SUMIFS('Vehicle Type Count by Agency'!BA:BA,'Vehicle Type Count by Agency'!$C:$C,\"=\"&$C61)/SUMIFS('Vehicle Type Count by Agency'!AZ:AZ,'Vehicle Type Count by Agency'!$C:$C,\"=\"&$C61),\"\")","v":""},{"$f":"IFERROR(SUMIFS('Vehicle Type Count by Agency'!BC:BC,'Vehicle Type Count by Agency'!$C:$C,\"=\"&$C61)/SUMIFS('Vehicle Type Count by Agency'!BB:BB,'Vehicle Type Count by Agency'!$C:$C,\"=\"&$C61),\"\")","v":""},{"$f":"IFERROR(SUMIFS('Vehicle Type Count by Agency'!BE:BE,'Vehicle Type Count by Agency'!$C:$C,\"=\"&$C61)/SUMIFS('Vehicle Type Count by Agency'!BD:BD,'Vehicle Type Count by Agency'!$C:$C,\"=\"&$C61),\"\")","v":0.16666666666666666},{"$f":"IFERROR(SUMIFS('Vehicle Type Count by Agency'!BG:BG,'Vehicle Type Count by Agency'!$C:$C,\"=\"&$C61)/SUMIFS('Vehicle Type Count by Agency'!BF:BF,'Vehicle Type Count by Agency'!$C:$C,\"=\"&$C61),\"\")","v":""},{"$f":"IFERROR(SUMIFS('Vehicle Type Count by Agency'!BI:BI,'Vehicle Type Count by Agency'!$C:$C,\"=\"&$C61)/SUMIFS('Vehicle Type Count by Agency'!BH:BH,'Vehicle Type Count by Agency'!$C:$C,\"=\"&$C61),\"\")","v":0.27632850241545892}]
[null,null,"MA","Massachusetts",null,{"$f":"IFERROR(SUMIFS('Vehicle Type Count by Agency'!K:K,'Vehicle Type Count by Agency'!$C:$C,\"=\"&$C62)/SUMIFS('Vehicle Type Count by Agency'!J:J,'Vehicle Type Count by Agency'!$C:$C,\"=\"&$C62),\"\")","v":0.18915429309231763},{"$f":"IFERROR(SUMIFS('Vehicle Type Count by Agency'!M:M,'Vehicle Type Count by Agency'!$C:$C,\"=\"&$C62)/SUMIFS('Vehicle Type Count by Agency'!L:L,'Vehicle Type Count by Agency'!$C:$C,\"=\"&$C62),\"\")","v":0.50961538461538458},{"$f":"IFERROR(SUMIFS('Vehicle Type Count by Agency'!O:O,'Vehicle Type Count by Agency'!$C:$C,\"=\"&$C62)/SUMIFS('Vehicle Type Count by Agency'!N:N,'Vehicle Type Count by Agency'!$C:$C,\"=\"&$C62),\"\")","v":6.1224489795918366E-2},{"$f":"IFERROR(SUMIFS('Vehicle Type Count by Agency'!Q:Q,'Vehicle Type Count by Agency'!$C:$C,\"=\"&$C62)/SUMIFS('Vehicle Type Count by Agency'!P:P,'Vehicle Type Count by Agency'!$C:$C,\"=\"&$C62),\"\")","v":""},{"$f":"IFERROR(SUMIFS('Vehicle Type Count by Agency'!S:S,'Vehicle Type Count by Agency'!$C:$C,\"=\"&$C62)/SUMIFS('Vehicle Type Count by Agency'!R:R,'Vehicle Type Count by Agency'!$C:$C,\"=\"&$C62),\"\")","v":""},{"$f":"IFERROR(SUMIFS('Vehicle Type Count by Agency'!U:U,'Vehicle Type Count by Agency'!$C:$C,\"=\"&$C62)/SUMIFS('Vehicle Type Count by Agency'!T:T,'Vehicle Type Count by Agency'!$C:$C,\"=\"&$C62),\"\")","v":0.21506682867557717},{"$f":"IFERROR(SUMIFS('Vehicle Type Count by Agency'!W:W,'Vehicle Type Count by Agency'!$C:$C,\"=\"&$C62)/SUMIFS('Vehicle Type Count by Agency'!V:V,'Vehicle Type Count by Agency'!$C:$C,\"=\"&$C62),\"\")","v":0.18286445012787725},{"$f":"IFERROR(SUMIFS('Vehicle Type Count by Agency'!Y:Y,'Vehicle Type Count by Agency'!$C:$C,\"=\"&$C62)/SUMIFS('Vehicle Type Count by Agency'!X:X,'Vehicle Type Count by Agency'!$C:$C,\"=\"&$C62),\"\")","v":0.37337662337662336},{"$f":"IFERROR(SUMIFS('Vehicle Type Count by Agency'!AA:AA,'Vehicle Type Count by Agency'!$C:$C,\"=\"&$C62)/SUMIFS('Vehicle Type Count by Agency'!Z:Z,'Vehicle Type Count by Agency'!$C:$C,\"=\"&$C62),\"\")","v":0},{"$f":"IFERROR(SUMIFS('Vehicle Type Count by Agency'!AC:AC,'Vehicle Type Count by Agency'!$C:$C,\"=\"&$C62)/SUMIFS('Vehicle Type Count by Agency'!AB:AB,'Vehicle Type Count by Agency'!$C:$C,\"=\"&$C62),\"\")","v":""},{"$f":"IFERROR(SUMIFS('Vehicle Type Count by Agency'!AE:AE,'Vehicle Type Count by Agency'!$C:$C,\"=\"&$C62)/SUMIFS('Vehicle Type Count by Agency'!AD:AD,'Vehicle Type Count by Agency'!$C:$C,\"=\"&$C62),\"\")","v":1},{"$f":"IFERROR(SUMIFS('Vehicle Type Count by Agency'!AG:AG,'Vehicle Type Count by Agency'!$C:$C,\"=\"&$C62)/SUMIFS('Vehicle Type Count by Agency'!AF:AF,'Vehicle Type Count by Agency'!$C:$C,\"=\"&$C62),\"\")","v":0.58333333333333337},{"$f":"IFERROR(SUMIFS('Vehicle Type Count by Agency'!AI:AI,'Vehicle Type Count by Agency'!$C:$C,\"=\"&$C62)/SUMIFS('Vehicle Type Count by Agency'!AH:AH,'Vehicle Type Count by Agency'!$C:$C,\"=\"&$C62),\"\")","v":0.26027397260273971},{"$f":"IFERROR(SUMIFS('Vehicle Type Count by Agency'!AK:AK,'Vehicle Type Count by Agency'!$C:$C,\"=\"&$C62)/SUMIFS('Vehicle Type Count by Agency'!AJ:AJ,'Vehicle Type Count by Agency'!$C:$C,\"=\"&$C62),\"\")","v":0.12559241706161137},{"$f":"IFERROR(SUMIFS('Vehicle Type Count by Agency'!AM:AM,'Vehicle Type Count by Agency'!$C:$C,\"=\"&$C62)/SUMIFS('Vehicle Type Count by Agency'!AL:AL,'Vehicle Type Count by Agency'!$C:$C,\"=\"&$C62),\"\")","v":""},{"$f":"IFERROR(SUMIFS('Vehicle Type Count by Agency'!AO:AO,'Vehicle Type Count by Agency'!$C:$C,\"=\"&$C62)/SUMIFS('Vehicle Type Count by Agency'!AN:AN,'Vehicle Type Count by Agency'!$C:$C,\"=\"&$C62),\"\")","v":0.24731182795698925},{"$f":"IFERROR(SUMIFS('Vehicle Type Count by Agency'!AQ:AQ,'Vehicle Type Count by Agency'!$C:$C,\"=\"&$C62)/SUMIFS('Vehicle Type Count by Agency'!AP:AP,'Vehicle Type Count by Agency'!$C:$C,\"=\"&$C62),\"\")","v":""},{"$f":"IFERROR(SUMIFS('Vehicle Type Count by Agency'!AS:AS,'Vehicle Type Count by Agency'!$C:$C,\"=\"&$C62)/SUMIFS('Vehicle Type Count by Agency'!AR:AR,'Vehicle Type Count by Agency'!$C:$C,\"=\"&$C62),\"\")","v":""},{"$f":"IFERROR(SUMIFS('Vehicle Type Count by Agency'!AU:AU,'Vehicle Type Count by Agency'!$C:$C,\"=\"&$C62)/SUMIFS('Vehicle Type Count by Agency'!AT:AT,'Vehicle Type Count by Agency'!$C:$C,\"=\"&$C62),\"\")","v":""},{"$f":"IFERROR(SUMIFS('Vehicle Type Count by Agency'!AW:AW,'Vehicle Type Count by Agency'!$C:$C,\"=\"&$C62)/SUMIFS('Vehicle Type Count by Agency'!AV:AV,'Vehicle Type Count by Agency'!$C:$C,\"=\"&$C62),\"\")","v":""},{"$f":"IFERROR(SUMIFS('Vehicle Type Count by Agency'!AY:AY,'Vehicle Type Count by Agency'!$C:$C,\"=\"&$C62)/SUMIFS('Vehicle Type Count by Agency'!AX:AX,'Vehicle Type Count by Agency'!$C:$C,\"=\"&$C62),\"\")","v":""},{"$f":"IFERROR(SUMIFS('Vehicle Type Count by Agency'!BA:BA,'Vehicle Type Count by Agency'!$C:$C,\"=\"&$C62)/SUMIFS('Vehicle Type Count by Agency'!AZ:AZ,'Vehicle Type Count by Agency'!$C:$C,\"=\"&$C62),\"\")","v":""},{"$f":"IFERROR(SUMIFS('Vehicle Type Count by Agency'!BC:BC,'Vehicle Type Count by Agency'!$C:$C,\"=\"&$C62)/SUMIFS('Vehicle Type Count by Agency'!BB:BB,'Vehicle Type Count by Agency'!$C:$C,\"=\"&$C62),\"\")","v":""},{"$f":"IFERROR(SUMIFS('Vehicle Type Count by Agency'!BE:BE,'Vehicle Type Count by Agency'!$C:$C,\"=\"&$C62)/SUMIFS('Vehicle Type Count by Agency'!BD:BD,'Vehicle Type Count by Agency'!$C:$C,\"=\"&$C62),\"\")","v":0},{"$f":"IFERROR(SUMIFS('Vehicle Type Count by Agency'!BG:BG,'Vehicle Type Count by Agency'!$C:$C,\"=\"&$C62)/SUMIFS('Vehicle Type Count by Agency'!BF:BF,'Vehicle Type Count by Agency'!$C:$C,\"=\"&$C62),\"\")","v":""},{"$f":"IFERROR(SUMIFS('Vehicle Type Count by Agency'!BI:BI,'Vehicle Type Count by Agency'!$C:$C,\"=\"&$C62)/SUMIFS('Vehicle Type Count by Agency'!BH:BH,'Vehicle Type Count by Agency'!$C:$C,\"=\"&$C62),\"\")","v":0.24660074165636589}]
[null,null,"MD","Maryland",null,{"$f":"IFERROR(SUMIFS('Vehicle Type Count by Agency'!K:K,'Vehicle Type Count by Agency'!$C:$C,\"=\"&$C63)/SUMIFS('Vehicle Type Count by Agency'!J:J,'Vehicle Type Count by Agency'!$C:$C,\"=\"&$C63),\"\")","v":9.1648189209164815E-2},{"$f":"IFERROR(SUMIFS('Vehicle Type Count by Agency'!M:M,'Vehicle Type Count by Agency'!$C:$C,\"=\"&$C63)/SUMIFS('Vehicle Type Count by Agency'!L:L,'Vehicle Type Count by Agency'!$C:$C,\"=\"&$C63),\"\")","v":0},{"$f":"IFERROR(SUMIFS('Vehicle Type Count by Agency'!O:O,'Vehicle Type Count by Agency'!$C:$C,\"=\"&$C63)/SUMIFS('Vehicle Type Count by Agency'!N:N,'Vehicle Type Count by Agency'!$C:$C,\"=\"&$C63),\"\")","v":0},{"$f":"IFERROR(SUMIFS('Vehicle Type Count by Agency'!Q:Q,'Vehicle Type Count by Agency'!$C:$C,\"=\"&$C63)/SUMIFS('Vehicle Type Count by Agency'!P:P,'Vehicle Type Count by Agency'!$C:$C,\"=\"&$C63),\"\")","v":""},{"$f":"IFERROR(SUMIFS('Vehicle Type Count by Agency'!S:S,'Vehicle Type Count by Agency'!$C:$C,\"=\"&$C63)/SUMIFS('Vehicle Type Count by Agency'!R:R,'Vehicle Type Count by Agency'!$C:$C,\"=\"&$C63),\"\")","v":""},{"$f":"IFERROR(SUMIFS('Vehicle Type Count by Agency'!U:U,'Vehicle Type Count by Agency'!$C:$C,\"=\"&$C63)/SUMIFS('Vehicle Type Count by Agency'!T:T,'Vehicle Type Count by Agency'!$C:$C,\"=\"&$C63),\"\")","v":0.22},{"$f":"IFERROR(SUMIFS('Vehicle Type Count by Agency'!W:W,'Vehicle Type Count by Agency'!$C:$C,\"=\"&$C63)/SUMIFS('Vehicle Type Count by Agency'!V:V,'Vehicle Type Count by Agency'!$C:$C,\"=\"&$C63),\"\")","v":0.28672150411280845},{"$f":"IFERROR(SUMIFS('Vehicle Type Count by Agency'!Y:Y,'Vehicle Type Count by Agency'!$C:$C,\"=\"&$C63)/SUMIFS('Vehicle Type Count by Agency'!X:X,'Vehicle Type Count by Agency'!$C:$C,\"=\"&$C63),\"\")","v":5.3097345132743362E-2},{"$f":"IFERROR(SUMIFS('Vehicle Type Count by Agency'!AA:AA,'Vehicle Type Count by Agency'!$C:$C,\"=\"&$C63)/SUMIFS('Vehicle Type Count by Agency'!Z:Z,'Vehicle Type Count by Agency'!$C:$C,\"=\"&$C63),\"\")","v":7.407407407407407E-2},{"$f":"IFERROR(SUMIFS('Vehicle Type Count by Agency'!AC:AC,'Vehicle Type Count by Agency'!$C:$C,\"=\"&$C63)/SUMIFS('Vehicle Type Count by Agency'!AB:AB,'Vehicle Type Count by Agency'!$C:$C,\"=\"&$C63),\"\")","v":0},{"$f":"IFERROR(SUMIFS('Vehicle Type Count by Agency'!AE:AE,'Vehicle Type Count by Agency'!$C:$C,\"=\"&$C63)/SUMIFS('Vehicle Type Count by Agency'!AD:AD,'Vehicle Type Count by Agency'!$C:$C,\"=\"&$C63),\"\")","v":""},{"$f":"IFERROR(SUMIFS('Vehicle Type Count by Agency'!AG:AG,'Vehicle Type Count by Agency'!$C:$C,\"=\"&$C63)/SUMIFS('Vehicle Type Count by Agency'!AF:AF,'Vehicle Type Count by Agency'!$C:$C,\"=\"&$C63),\"\")","v":1},{"$f":"IFERROR(SUMIFS('Vehicle Type Count by Agency'!AI:AI,'Vehicle Type Count by Agency'!$C:$C,\"=\"&$C63)/SUMIFS('Vehicle Type Count by Agency'!AH:AH,'Vehicle Type Count by Agency'!$C:$C,\"=\"&$C63),\"\")","v":0},{"$f":"IFERROR(SUMIFS('Vehicle Type Count by Agency'!AK:AK,'Vehicle Type Count by Agency'!$C:$C,\"=\"&$C63)/SUMIFS('Vehicle Type Count by Agency'!AJ:AJ,'Vehicle Type Count by Agency'!$C:$C,\"=\"&$C63),\"\")","v":0},{"$f":"IFERROR(SUMIFS('Vehicle Type Count by Agency'!AM:AM,'Vehicle Type Count by Agency'!$C:$C,\"=\"&$C63)/SUMIFS('Vehicle Type Count by Agency'!AL:AL,'Vehicle Type Count by Agency'!$C:$C,\"=\"&$C63),\"\")","v":""},{"$f":"IFERROR(SUMIFS('Vehicle Type Count by Agency'!AO:AO,'Vehicle Type Count by Agency'!$C:$C,\"=\"&$C63)/SUMIFS('Vehicle Type Count by Agency'!AN:AN,'Vehicle Type Count by Agency'!$C:$C,\"=\"&$C63),\"\")","v":0.13043478260869565},{"$f":"IFERROR(SUMIFS('Vehicle Type Count by Agency'!AQ:AQ,'Vehicle Type Count by Agency'!$C:$C,\"=\"&$C63)/SUMIFS('Vehicle Type Count by Agency'!AP:AP,'Vehicle Type Count by Agency'!$C:$C,\"=\"&$C63),\"\")","v":""},{"$f":"IFERROR(SUMIFS('Vehicle Type Count by Agency'!AS:AS,'Vehicle Type Count by Agency'!$C:$C,\"=\"&$C63)/SUMIFS('Vehicle Type Count by Agency'!AR:AR,'Vehicle Type Count by Agency'!$C:$C,\"=\"&$C63),\"\")","v":""},{"$f":"IFERROR(SUMIFS('Vehicle Type Count by Agency'!AU:AU,'Vehicle Type Count by Agency'!$C:$C,\"=\"&$C63)/SUMIFS('Vehicle Type Count by Agency'!AT:AT,'Vehicle Type Count by Agency'!$C:$C,\"=\"&$C63),\"\")","v":""},{"$f":"IFERROR(SUMIFS('Vehicle Type Count by Agency'!AW:AW,'Vehicle Type Count by Agency'!$C:$C,\"=\"&$C63)/SUMIFS('Vehicle Type Count by Agency'!AV:AV,'Vehicle Type Count by Agency'!$C:$C,\"=\"&$C63),\"\")","v":""},{"$f":"IFERROR(SUMIFS('Vehicle Type Count by Agency'!AY:AY,'Vehicle Type Count by Agency'!$C:$C,\"=\"&$C63)/SUMIFS('Vehicle Type Count by Agency'!AX:AX,'Vehicle Type Count by Agency'!$C:$C,\"=\"&$C63),\"\")","v":""},{"$f":"IFERROR(SUMIFS('Vehicle Type Count by Agency'!BA:BA,'Vehicle Type Count by Agency'!$C:$C,\"=\"&$C63)/SUMIFS('Vehicle Type Count by Agency'!AZ:AZ,'Vehicle Type Count by Agency'!$C:$C,\"=\"&$C63),\"\")","v":""},{"$f":"IFERROR(SUMIFS('Vehicle Type Count by Agency'!BC:BC,'Vehicle Type Count by Agency'!$C:$C,\"=\"&$C63)/SUMIFS('Vehicle Type Count by Agency'!BB:BB,'Vehicle Type Count by Agency'!$C:$C,\"=\"&$C63),\"\")","v":""},{"$f":"IFERROR(SUMIFS('Vehicle Type Count by Agency'!BE:BE,'Vehicle Type Count by Agency'!$C:$C,\"=\"&$C63)/SUMIFS('Vehicle Type Count by Agency'!BD:BD,'Vehicle Type Count by Agency'!$C:$C,\"=\"&$C63),\"\")","v":0},{"$f":"IFERROR(SUMIFS('Vehicle Type Count by Agency'!BG:BG,'Vehicle Type Count by Agency'!$C:$C,\"=\"&$C63)/SUMIFS('Vehicle Type Count by Agency'!BF:BF,'Vehicle Type Count by Agency'!$C:$C,\"=\"&$C63),\"\")","v":""},{"$f":"IFERROR(SUMIFS('Vehicle Type Count by Agency'!BI:BI,'Vehicle Type Count by Agency'!$C:$C,\"=\"&$C63)/SUMIFS('Vehicle Type Count by Agency'!BH:BH,'Vehicle Type Count by Agency'!$C:$C,\"=\"&$C63),\"\")","v":0.15033272837265577}]
[null,null,"ME","Maine",null,{"$f":"IFERROR(SUMIFS('Vehicle Type Count by Agency'!K:K,'Vehicle Type Count by Agency'!$C:$C,\"=\"&$C64)/SUMIFS('Vehicle Type Count by Agency'!J:J,'Vehicle Type Count by Agency'!$C:$C,\"=\"&$C64),\"\")","v":0.48947368421052634},{"$f":"IFERROR(SUMIFS('Vehicle Type Count by Agency'!M:M,'Vehicle Type Count by Agency'!$C:$C,\"=\"&$C64)/SUMIFS('Vehicle Type Count by Agency'!L:L,'Vehicle Type Count by Agency'!$C:$C,\"=\"&$C64),\"\")","v":""},{"$f":"IFERROR(SUMIFS('Vehicle Type Count by Agency'!O:O,'Vehicle Type Count by Agency'!$C:$C,\"=\"&$C64)/SUMIFS('Vehicle Type Count by Agency'!N:N,'Vehicle Type Count by Agency'!$C:$C,\"=\"&$C64),\"\")","v":1},{"$f":"IFERROR(SUMIFS('Vehicle Type Count by Agency'!Q:Q,'Vehicle Type Count by Agency'!$C:$C,\"=\"&$C64)/SUMIFS('Vehicle Type Count by Agency'!P:P,'Vehicle Type Count by Agency'!$C:$C,\"=\"&$C64),\"\")","v":""},{"$f":"IFERROR(SUMIFS('Vehicle Type Count by Agency'!S:S,'Vehicle Type Count by Agency'!$C:$C,\"=\"&$C64)/SUMIFS('Vehicle Type Count by Agency'!R:R,'Vehicle Type Count by Agency'!$C:$C,\"=\"&$C64),\"\")","v":0.33333333333333331},{"$f":"IFERROR(SUMIFS('Vehicle Type Count by Agency'!U:U,'Vehicle Type Count by Agency'!$C:$C,\"=\"&$C64)/SUMIFS('Vehicle Type Count by Agency'!T:T,'Vehicle Type Count by Agency'!$C:$C,\"=\"&$C64),\"\")","v":0.31067961165048541},{"$f":"IFERROR(SUMIFS('Vehicle Type Count by Agency'!W:W,'Vehicle Type Count by Agency'!$C:$C,\"=\"&$C64)/SUMIFS('Vehicle Type Count by Agency'!V:V,'Vehicle Type Count by Agency'!$C:$C,\"=\"&$C64),\"\")","v":0.68992248062015504},{"$f":"IFERROR(SUMIFS('Vehicle Type Count by Agency'!Y:Y,'Vehicle Type Count by Agency'!$C:$C,\"=\"&$C64)/SUMIFS('Vehicle Type Count by Agency'!X:X,'Vehicle Type Count by Agency'!$C:$C,\"=\"&$C64),\"\")","v":1.8867924528301886E-2},{"$f":"IFERROR(SUMIFS('Vehicle Type Count by Agency'!AA:AA,'Vehicle Type Count by Agency'!$C:$C,\"=\"&$C64)/SUMIFS('Vehicle Type Count by Agency'!Z:Z,'Vehicle Type Count by Agency'!$C:$C,\"=\"&$C64),\"\")","v":0.64556962025316456},{"$f":"IFERROR(SUMIFS('Vehicle Type Count by Agency'!AC:AC,'Vehicle Type Count by Agency'!$C:$C,\"=\"&$C64)/SUMIFS('Vehicle Type Count by Agency'!AB:AB,'Vehicle Type Count by Agency'!$C:$C,\"=\"&$C64),\"\")","v":0},{"$f":"IFERROR(SUMIFS('Vehicle Type Count by Agency'!AE:AE,'Vehicle Type Count by Agency'!$C:$C,\"=\"&$C64)/SUMIFS('Vehicle Type Count by Agency'!AD:AD,'Vehicle Type Count by Agency'!$C:$C,\"=\"&$C64),\"\")","v":""},{"$f":"IFERROR(SUMIFS('Vehicle Type Count by Agency'!AG:AG,'Vehicle Type Count by Agency'!$C:$C,\"=\"&$C64)/SUMIFS('Vehicle Type Count by Agency'!AF:AF,'Vehicle Type Count by Agency'!$C:$C,\"=\"&$C64),\"\")","v":""},{"$f":"IFERROR(SUMIFS('Vehicle Type Count by Agency'!AI:AI,'Vehicle Type Count by Agency'!$C:$C,\"=\"&$C64)/SUMIFS('Vehicle Type Count by Agency'!AH:AH,'Vehicle Type Count by Agency'!$C:$C,\"=\"&$C64),\"\")","v":""},{"$f":"IFERROR(SUMIFS('Vehicle Type Count by Agency'!AK:AK,'Vehicle Type Count by Agency'!$C:$C,\"=\"&$C64)/SUMIFS('Vehicle Type Count by Agency'!AJ:AJ,'Vehicle Type Count by Agency'!$C:$C,\"=\"&$C64),\"\")","v":0},{"$f":"IFERROR(SUMIFS('Vehicle Type Count by Agency'!AM:AM,'Vehicle Type Count by Agency'!$C:$C,\"=\"&$C64)/SUMIFS('Vehicle Type Count by Agency'!AL:AL,'Vehicle Type Count by Agency'!$C:$C,\"=\"&$C64),\"\")","v":""},{"$f":"IFERROR(SUMIFS('Vehicle Type Count by Agency'!AO:AO,'Vehicle Type Count by Agency'!$C:$C,\"=\"&$C64)/SUMIFS('Vehicle Type Count by Agency'!AN:AN,'Vehicle Type Count by Agency'!$C:$C,\"=\"&$C64),\"\")","v":0},{"$f":"IFERROR(SUMIFS('Vehicle Type Count by Agency'!AQ:AQ,'Vehicle Type Count by Agency'!$C:$C,\"=\"&$C64)/SUMIFS('Vehicle Type Count by Agency'!AP:AP,'Vehicle Type Count by Agency'!$C:$C,\"=\"&$C64),\"\")","v":""},{"$f":"IFERROR(SUMIFS('Vehicle Type Count by Agency'!AS:AS,'Vehicle Type Count by Agency'!$C:$C,\"=\"&$C64)/SUMIFS('Vehicle Type Count by Agency'!AR:AR,'Vehicle Type Count by Agency'!$C:$C,\"=\"&$C64),\"\")","v":""},{"$f":"IFERROR(SUMIFS('Vehicle Type Count by Agency'!AU:AU,'Vehicle Type Count by Agency'!$C:$C,\"=\"&$C64)/SUMIFS('Vehicle Type Count by Agency'!AT:AT,'Vehicle Type Count by Agency'!$C:$C,\"=\"&$C64),\"\")","v":""},{"$f":"IFERROR(SUMIFS('Vehicle Type Count by Agency'!AW:AW,'Vehicle Type Count by Agency'!$C:$C,\"=\"&$C64)/SUMIFS('Vehicle Type Count by Agency'!AV:AV,'Vehicle Type Count by Agency'!$C:$C,\"=\"&$C64),\"\")","v":""},{"$f":"IFERROR(SUMIFS('Vehicle Type Count by Agency'!AY:AY,'Vehicle Type Count by Agency'!$C:$C,\"=\"&$C64)/SUMIFS('Vehicle Type Count by Agency'!AX:AX,'Vehicle Type Count by Agency'!$C:$C,\"=\"&$C64),\"\")","v":""},{"$f":"IFERROR(SUMIFS('Vehicle Type Count by Agency'!BA:BA,'Vehicle Type Count by Agency'!$C:$C,\"=\"&$C64)/SUMIFS('Vehicle Type Count by Agency'!AZ:AZ,'Vehicle Type Count by Agency'!$C:$C,\"=\"&$C64),\"\")","v":""},{"$f":"IFERROR(SUMIFS('Vehicle Type Count by Agency'!BC:BC,'Vehicle Type Count by Agency'!$C:$C,\"=\"&$C64)/SUMIFS('Vehicle Type Count by Agency'!BB:BB,'Vehicle Type Count by Agency'!$C:$C,\"=\"&$C64),\"\")","v":""},{"$f":"IFERROR(SUMIFS('Vehicle Type Count by Agency'!BE:BE,'Vehicle Type Count by Agency'!$C:$C,\"=\"&$C64)/SUMIFS('Vehicle Type Count by Agency'!BD:BD,'Vehicle Type Count by Agency'!$C:$C,\"=\"&$C64),\"\")","v":0.4},{"$f":"IFERROR(SUMIFS('Vehicle Type Count by Agency'!BG:BG,'Vehicle Type Count by Agency'!$C:$C,\"=\"&$C64)/SUMIFS('Vehicle Type Count by Agency'!BF:BF,'Vehicle Type Count by Agency'!$C:$C,\"=\"&$C64),\"\")","v":""},{"$f":"IFERROR(SUMIFS('Vehicle Type Count by Agency'!BI:BI,'Vehicle Type Count by Agency'!$C:$C,\"=\"&$C64)/SUMIFS('Vehicle Type Count by Agency'!BH:BH,'Vehicle Type Count by Agency'!$C:$C,\"=\"&$C64),\"\")","v":0.45868465430016864}]
[null,null,"MI","Michigan",null,{"$f":"IFERROR(SUMIFS('Vehicle Type Count by Agency'!K:K,'Vehicle Type Count by Agency'!$C:$C,\"=\"&$C65)/SUMIFS('Vehicle Type Count by Agency'!J:J,'Vehicle Type Count by Agency'!$C:$C,\"=\"&$C65),\"\")","v":0.24962330487192366},{"$f":"IFERROR(SUMIFS('Vehicle Type Count by Agency'!M:M,'Vehicle Type Count by Agency'!$C:$C,\"=\"&$C65)/SUMIFS('Vehicle Type Count by Agency'!L:L,'Vehicle Type Count by Agency'!$C:$C,\"=\"&$C65),\"\")","v":0.29166666666666669},{"$f":"IFERROR(SUMIFS('Vehicle Type Count by Agency'!O:O,'Vehicle Type Count by Agency'!$C:$C,\"=\"&$C65)/SUMIFS('Vehicle Type Count by Agency'!N:N,'Vehicle Type Count by Agency'!$C:$C,\"=\"&$C65),\"\")","v":0.11538461538461539},{"$f":"IFERROR(SUMIFS('Vehicle Type Count by Agency'!Q:Q,'Vehicle Type Count by Agency'!$C:$C,\"=\"&$C65)/SUMIFS('Vehicle Type Count by Agency'!P:P,'Vehicle Type Count by Agency'!$C:$C,\"=\"&$C65),\"\")","v":""},{"$f":"IFERROR(SUMIFS('Vehicle Type Count by Agency'!S:S,'Vehicle Type Count by Agency'!$C:$C,\"=\"&$C65)/SUMIFS('Vehicle Type Count by Agency'!R:R,'Vehicle Type Count by Agency'!$C:$C,\"=\"&$C65),\"\")","v":0.5625},{"$f":"IFERROR(SUMIFS('Vehicle Type Count by Agency'!U:U,'Vehicle Type Count by Agency'!$C:$C,\"=\"&$C65)/SUMIFS('Vehicle Type Count by Agency'!T:T,'Vehicle Type Count by Agency'!$C:$C,\"=\"&$C65),\"\")","v":0.15031315240083507},{"$f":"IFERROR(SUMIFS('Vehicle Type Count by Agency'!W:W,'Vehicle Type Count by Agency'!$C:$C,\"=\"&$C65)/SUMIFS('Vehicle Type Count by Agency'!V:V,'Vehicle Type Count by Agency'!$C:$C,\"=\"&$C65),\"\")","v":9.9532398129592525E-2},{"$f":"IFERROR(SUMIFS('Vehicle Type Count by Agency'!Y:Y,'Vehicle Type Count by Agency'!$C:$C,\"=\"&$C65)/SUMIFS('Vehicle Type Count by Agency'!X:X,'Vehicle Type Count by Agency'!$C:$C,\"=\"&$C65),\"\")","v":4.3956043956043959E-2},{"$f":"IFERROR(SUMIFS('Vehicle Type Count by Agency'!AA:AA,'Vehicle Type Count by Agency'!$C:$C,\"=\"&$C65)/SUMIFS('Vehicle Type Count by Agency'!Z:Z,'Vehicle Type Count by Agency'!$C:$C,\"=\"&$C65),\"\")","v":0.20689655172413793},{"$f":"IFERROR(SUMIFS('Vehicle Type Count by Agency'!AC:AC,'Vehicle Type Count by Agency'!$C:$C,\"=\"&$C65)/SUMIFS('Vehicle Type Count by Agency'!AB:AB,'Vehicle Type Count by Agency'!$C:$C,\"=\"&$C65),\"\")","v":4.9019607843137254E-3},{"$f":"IFERROR(SUMIFS('Vehicle Type Count by Agency'!AE:AE,'Vehicle Type Count by Agency'!$C:$C,\"=\"&$C65)/SUMIFS('Vehicle Type Count by Agency'!AD:AD,'Vehicle Type Count by Agency'!$C:$C,\"=\"&$C65),\"\")","v":""},{"$f":"IFERROR(SUMIFS('Vehicle Type Count by Agency'!AG:AG,'Vehicle Type Count by Agency'!$C:$C,\"=\"&$C65)/SUMIFS('Vehicle Type Count by Agency'!AF:AF,'Vehicle Type Count by Agency'!$C:$C,\"=\"&$C65),\"\")","v":""},{"$f":"IFERROR(SUMIFS('Vehicle Type Count by Agency'!AI:AI,'Vehicle Type Count by Agency'!$C:$C,\"=\"&$C65)/SUMIFS('Vehicle Type Count by Agency'!AH:AH,'Vehicle Type Count by Agency'!$C:$C,\"=\"&$C65),\"\")","v":""},{"$f":"IFERROR(SUMIFS('Vehicle Type Count by Agency'!AK:AK,'Vehicle Type Count by Agency'!$C:$C,\"=\"&$C65)/SUMIFS('Vehicle Type Count by Agency'!AJ:AJ,'Vehicle Type Count by Agency'!$C:$C,\"=\"&$C65),\"\")","v":""},{"$f":"IFERROR(SUMIFS('Vehicle Type Count by Agency'!AM:AM,'Vehicle Type Count by Agency'!$C:$C,\"=\"&$C65)/SUMIFS('Vehicle Type Count by Agency'!AL:AL,'Vehicle Type Count by Agency'!$C:$C,\"=\"&$C65),\"\")","v":""},{"$f":"IFERROR(SUMIFS('Vehicle Type Count by Agency'!AO:AO,'Vehicle Type Count by Agency'!$C:$C,\"=\"&$C65)/SUMIFS('Vehicle Type Count by Agency'!AN:AN,'Vehicle Type Count by Agency'!$C:$C,\"=\"&$C65),\"\")","v":""},{"$f":"IFERROR(SUMIFS('Vehicle Type Count by Agency'!AQ:AQ,'Vehicle Type Count by Agency'!$C:$C,\"=\"&$C65)/SUMIFS('Vehicle Type Count by Agency'!AP:AP,'Vehicle Type Count by Agency'!$C:$C,\"=\"&$C65),\"\")","v":0},{"$f":"IFERROR(SUMIFS('Vehicle Type Count by Agency'!AS:AS,'Vehicle Type Count by Agency'!$C:$C,\"=\"&$C65)/SUMIFS('Vehicle Type Count by Agency'!AR:AR,'Vehicle Type Count by Agency'!$C:$C,\"=\"&$C65),\"\")","v":""},{"$f":"IFERROR(SUMIFS('Vehicle Type Count by Agency'!AU:AU,'Vehicle Type Count by Agency'!$C:$C,\"=\"&$C65)/SUMIFS('Vehicle Type Count by Agency'!AT:AT,'Vehicle Type Count by Agency'!$C:$C,\"=\"&$C65),\"\")","v":0},{"$f":"IFERROR(SUMIFS('Vehicle Type Count by Agency'!AW:AW,'Vehicle Type Count by Agency'!$C:$C,\"=\"&$C65)/SUMIFS('Vehicle Type Count by Agency'!AV:AV,'Vehicle Type Count by Agency'!$C:$C,\"=\"&$C65),\"\")","v":""},{"$f":"IFERROR(SUMIFS('Vehicle Type Count by Agency'!AY:AY,'Vehicle Type Count by Agency'!$C:$C,\"=\"&$C65)/SUMIFS('Vehicle Type Count by Agency'!AX:AX,'Vehicle Type Count by Agency'!$C:$C,\"=\"&$C65),\"\")","v":""},{"$f":"IFERROR(SUMIFS('Vehicle Type Count by Agency'!BA:BA,'Vehicle Type Count by Agency'!$C:$C,\"=\"&$C65)/SUMIFS('Vehicle Type Count by Agency'!AZ:AZ,'Vehicle Type Count by Agency'!$C:$C,\"=\"&$C65),\"\")","v":""},{"$f":"IFERROR(SUMIFS('Vehicle Type Count by Agency'!BC:BC,'Vehicle Type Count by Agency'!$C:$C,\"=\"&$C65)/SUMIFS('Vehicle Type Count by Agency'!BB:BB,'Vehicle Type Count by Agency'!$C:$C,\"=\"&$C65),\"\")","v":""},{"$f":"IFERROR(SUMIFS('Vehicle Type Count by Agency'!BE:BE,'Vehicle Type Count by Agency'!$C:$C,\"=\"&$C65)/SUMIFS('Vehicle Type Count by Agency'!BD:BD,'Vehicle Type Count by Agency'!$C:$C,\"=\"&$C65),\"\")","v":0.25},{"$f":"IFERROR(SUMIFS('Vehicle Type Count by Agency'!BG:BG,'Vehicle Type Count by Agency'!$C:$C,\"=\"&$C65)/SUMIFS('Vehicle Type Count by Agency'!BF:BF,'Vehicle Type Count by Agency'!$C:$C,\"=\"&$C65),\"\")","v":""},{"$f":"IFERROR(SUMIFS('Vehicle Type Count by Agency'!BI:BI,'Vehicle Type Count by Agency'!$C:$C,\"=\"&$C65)/SUMIFS('Vehicle Type Count by Agency'!BH:BH,'Vehicle Type Count by Agency'!$C:$C,\"=\"&$C65),\"\")","v":0.1681312243702402}]
[null,null,"MN","Minnesota",null,{"$f":"IFERROR(SUMIFS('Vehicle Type Count by Agency'!K:K,'Vehicle Type Count by Agency'!$C:$C,\"=\"&$C66)/SUMIFS('Vehicle Type Count by Agency'!J:J,'Vehicle Type Count by Agency'!$C:$C,\"=\"&$C66),\"\")","v":6.8221070811744389E-2},{"$f":"IFERROR(SUMIFS('Vehicle Type Count by Agency'!M:M,'Vehicle Type Count by Agency'!$C:$C,\"=\"&$C66)/SUMIFS('Vehicle Type Count by Agency'!L:L,'Vehicle Type Count by Agency'!$C:$C,\"=\"&$C66),\"\")","v":2.7027027027027029E-2},{"$f":"IFERROR(SUMIFS('Vehicle Type Count by Agency'!O:O,'Vehicle Type Count by Agency'!$C:$C,\"=\"&$C66)/SUMIFS('Vehicle Type Count by Agency'!N:N,'Vehicle Type Count by Agency'!$C:$C,\"=\"&$C66),\"\")","v":9.852216748768473E-3},{"$f":"IFERROR(SUMIFS('Vehicle Type Count by Agency'!Q:Q,'Vehicle Type Count by Agency'!$C:$C,\"=\"&$C66)/SUMIFS('Vehicle Type Count by Agency'!P:P,'Vehicle Type Count by Agency'!$C:$C,\"=\"&$C66),\"\")","v":""},{"$f":"IFERROR(SUMIFS('Vehicle Type Count by Agency'!S:S,'Vehicle Type Count by Agency'!$C:$C,\"=\"&$C66)/SUMIFS('Vehicle Type Count by Agency'!R:R,'Vehicle Type Count by Agency'!$C:$C,\"=\"&$C66),\"\")","v":""},{"$f":"IFERROR(SUMIFS('Vehicle Type Count by Agency'!U:U,'Vehicle Type Count by Agency'!$C:$C,\"=\"&$C66)/SUMIFS('Vehicle Type Count by Agency'!T:T,'Vehicle Type Count by Agency'!$C:$C,\"=\"&$C66),\"\")","v":0.1744186046511628},{"$f":"IFERROR(SUMIFS('Vehicle Type Count by Agency'!W:W,'Vehicle Type Count by Agency'!$C:$C,\"=\"&$C66)/SUMIFS('Vehicle Type Count by Agency'!V:V,'Vehicle Type Count by Agency'!$C:$C,\"=\"&$C66),\"\")","v":0.13669590643274854},{"$f":"IFERROR(SUMIFS('Vehicle Type Count by Agency'!Y:Y,'Vehicle Type Count by Agency'!$C:$C,\"=\"&$C66)/SUMIFS('Vehicle Type Count by Agency'!X:X,'Vehicle Type Count by Agency'!$C:$C,\"=\"&$C66),\"\")","v":0.5},{"$f":"IFERROR(SUMIFS('Vehicle Type Count by Agency'!AA:AA,'Vehicle Type Count by Agency'!$C:$C,\"=\"&$C66)/SUMIFS('Vehicle Type Count by Agency'!Z:Z,'Vehicle Type Count by Agency'!$C:$C,\"=\"&$C66),\"\")","v":0.11764705882352941},{"$f":"IFERROR(SUMIFS('Vehicle Type Count by Agency'!AC:AC,'Vehicle Type Count by Agency'!$C:$C,\"=\"&$C66)/SUMIFS('Vehicle Type Count by Agency'!AB:AB,'Vehicle Type Count by Agency'!$C:$C,\"=\"&$C66),\"\")","v":2.5000000000000001E-2},{"$f":"IFERROR(SUMIFS('Vehicle Type Count by Agency'!AE:AE,'Vehicle Type Count by Agency'!$C:$C,\"=\"&$C66)/SUMIFS('Vehicle Type Count by Agency'!AD:AD,'Vehicle Type Count by Agency'!$C:$C,\"=\"&$C66),\"\")","v":""},{"$f":"IFERROR(SUMIFS('Vehicle Type Count by Agency'!AG:AG,'Vehicle Type Count by Agency'!$C:$C,\"=\"&$C66)/SUMIFS('Vehicle Type Count by Agency'!AF:AF,'Vehicle Type Count by Agency'!$C:$C,\"=\"&$C66),\"\")","v":""},{"$f":"IFERROR(SUMIFS('Vehicle Type Count by Agency'!AI:AI,'Vehicle Type Count by Agency'!$C:$C,\"=\"&$C66)/SUMIFS('Vehicle Type Count by Agency'!AH:AH,'Vehicle Type Count by Agency'!$C:$C,\"=\"&$C66),\"\")","v":0},{"$f":"IFERROR(SUMIFS('Vehicle Type Count by Agency'!AK:AK,'Vehicle Type Count by Agency'!$C:$C,\"=\"&$C66)/SUMIFS('Vehicle Type Count by Agency'!AJ:AJ,'Vehicle Type Count by Agency'!$C:$C,\"=\"&$C66),\"\")","v":0},{"$f":"IFERROR(SUMIFS('Vehicle Type Count by Agency'!AM:AM,'Vehicle Type Count by Agency'!$C:$C,\"=\"&$C66)/SUMIFS('Vehicle Type Count by Agency'!AL:AL,'Vehicle Type Count by Agency'!$C:$C,\"=\"&$C66),\"\")","v":""},{"$f":"IFERROR(SUMIFS('Vehicle Type Count by Agency'!AO:AO,'Vehicle Type Count by Agency'!$C:$C,\"=\"&$C66)/SUMIFS('Vehicle Type Count by Agency'!AN:AN,'Vehicle Type Count by Agency'!$C:$C,\"=\"&$C66),\"\")","v":0},{"$f":"IFERROR(SUMIFS('Vehicle Type Count by Agency'!AQ:AQ,'Vehicle Type Count by Agency'!$C:$C,\"=\"&$C66)/SUMIFS('Vehicle Type Count by Agency'!AP:AP,'Vehicle Type Count by Agency'!$C:$C,\"=\"&$C66),\"\")","v":""},{"$f":"IFERROR(SUMIFS('Vehicle Type Count by Agency'!AS:AS,'Vehicle Type Count by Agency'!$C:$C,\"=\"&$C66)/SUMIFS('Vehicle Type Count by Agency'!AR:AR,'Vehicle Type Count by Agency'!$C:$C,\"=\"&$C66),\"\")","v":""},{"$f":"IFERROR(SUMIFS('Vehicle Type Count by Agency'!AU:AU,'Vehicle Type Count by Agency'!$C:$C,\"=\"&$C66)/SUMIFS('Vehicle Type Count by Agency'!AT:AT,'Vehicle Type Count by Agency'!$C:$C,\"=\"&$C66),\"\")","v":""},{"$f":"IFERROR(SUMIFS('Vehicle Type Count by Agency'!AW:AW,'Vehicle Type Count by Agency'!$C:$C,\"=\"&$C66)/SUMIFS('Vehicle Type Count by Agency'!AV:AV,'Vehicle Type Count by Agency'!$C:$C,\"=\"&$C66),\"\")","v":""},{"$f":"IFERROR(SUMIFS('Vehicle Type Count by Agency'!AY:AY,'Vehicle Type Count by Agency'!$C:$C,\"=\"&$C66)/SUMIFS('Vehicle Type Count by Agency'!AX:AX,'Vehicle Type Count by Agency'!$C:$C,\"=\"&$C66),\"\")","v":""},{"$f":"IFERROR(SUMIFS('Vehicle Type Count by Agency'!BA:BA,'Vehicle Type Count by Agency'!$C:$C,\"=\"&$C66)/SUMIFS('Vehicle Type Count by Agency'!AZ:AZ,'Vehicle Type Count by Agency'!$C:$C,\"=\"&$C66),\"\")","v":""},{"$f":"IFERROR(SUMIFS('Vehicle Type Count by Agency'!BC:BC,'Vehicle Type Count by Agency'!$C:$C,\"=\"&$C66)/SUMIFS('Vehicle Type Count by Agency'!BB:BB,'Vehicle Type Count by Agency'!$C:$C,\"=\"&$C66),\"\")","v":""},{"$f":"IFERROR(SUMIFS('Vehicle Type Count by Agency'!BE:BE,'Vehicle Type Count by Agency'!$C:$C,\"=\"&$C66)/SUMIFS('Vehicle Type Count by Agency'!BD:BD,'Vehicle Type Count by Agency'!$C:$C,\"=\"&$C66),\"\")","v":""},{"$f":"IFERROR(SUMIFS('Vehicle Type Count by Agency'!BG:BG,'Vehicle Type Count by Agency'!$C:$C,\"=\"&$C66)/SUMIFS('Vehicle Type Count by Agency'!BF:BF,'Vehicle Type Count by Agency'!$C:$C,\"=\"&$C66),\"\")","v":""},{"$f":"IFERROR(SUMIFS('Vehicle Type Count by Agency'!BI:BI,'Vehicle Type Count by Agency'!$C:$C,\"=\"&$C66)/SUMIFS('Vehicle Type Count by Agency'!BH:BH,'Vehicle Type Count by Agency'!$C:$C,\"=\"&$C66),\"\")","v":9.199747952110901E-2}]
[null,null,"MO","Missouri",null,{"$f":"IFERROR(SUMIFS('Vehicle Type Count by Agency'!K:K,'Vehicle Type Count by Agency'!$C:$C,\"=\"&$C67)/SUMIFS('Vehicle Type Count by Agency'!J:J,'Vehicle Type Count by Agency'!$C:$C,\"=\"&$C67),\"\")","v":0.22146739130434784},{"$f":"IFERROR(SUMIFS('Vehicle Type Count by Agency'!M:M,'Vehicle Type Count by Agency'!$C:$C,\"=\"&$C67)/SUMIFS('Vehicle Type Count by Agency'!L:L,'Vehicle Type Count by Agency'!$C:$C,\"=\"&$C67),\"\")","v":1},{"$f":"IFERROR(SUMIFS('Vehicle Type Count by Agency'!O:O,'Vehicle Type Count by Agency'!$C:$C,\"=\"&$C67)/SUMIFS('Vehicle Type Count by Agency'!N:N,'Vehicle Type Count by Agency'!$C:$C,\"=\"&$C67),\"\")","v":""},{"$f":"IFERROR(SUMIFS('Vehicle Type Count by Agency'!Q:Q,'Vehicle Type Count by Agency'!$C:$C,\"=\"&$C67)/SUMIFS('Vehicle Type Count by Agency'!P:P,'Vehicle Type Count by Agency'!$C:$C,\"=\"&$C67),\"\")","v":""},{"$f":"IFERROR(SUMIFS('Vehicle Type Count by Agency'!S:S,'Vehicle Type Count by Agency'!$C:$C,\"=\"&$C67)/SUMIFS('Vehicle Type Count by Agency'!R:R,'Vehicle Type Count by Agency'!$C:$C,\"=\"&$C67),\"\")","v":""},{"$f":"IFERROR(SUMIFS('Vehicle Type Count by Agency'!U:U,'Vehicle Type Count by Agency'!$C:$C,\"=\"&$C67)/SUMIFS('Vehicle Type Count by Agency'!T:T,'Vehicle Type Count by Agency'!$C:$C,\"=\"&$C67),\"\")","v":0.15789473684210525},{"$f":"IFERROR(SUMIFS('Vehicle Type Count by Agency'!W:W,'Vehicle Type Count by Agency'!$C:$C,\"=\"&$C67)/SUMIFS('Vehicle Type Count by Agency'!V:V,'Vehicle Type Count by Agency'!$C:$C,\"=\"&$C67),\"\")","v":0.25780346820809247},{"$f":"IFERROR(SUMIFS('Vehicle Type Count by Agency'!Y:Y,'Vehicle Type Count by Agency'!$C:$C,\"=\"&$C67)/SUMIFS('Vehicle Type Count by Agency'!X:X,'Vehicle Type Count by Agency'!$C:$C,\"=\"&$C67),\"\")","v":0.21249999999999999},{"$f":"IFERROR(SUMIFS('Vehicle Type Count by Agency'!AA:AA,'Vehicle Type Count by Agency'!$C:$C,\"=\"&$C67)/SUMIFS('Vehicle Type Count by Agency'!Z:Z,'Vehicle Type Count by Agency'!$C:$C,\"=\"&$C67),\"\")","v":0.31294964028776978},{"$f":"IFERROR(SUMIFS('Vehicle Type Count by Agency'!AC:AC,'Vehicle Type Count by Agency'!$C:$C,\"=\"&$C67)/SUMIFS('Vehicle Type Count by Agency'!AB:AB,'Vehicle Type Count by Agency'!$C:$C,\"=\"&$C67),\"\")","v":0},{"$f":"IFERROR(SUMIFS('Vehicle Type Count by Agency'!AE:AE,'Vehicle Type Count by Agency'!$C:$C,\"=\"&$C67)/SUMIFS('Vehicle Type Count by Agency'!AD:AD,'Vehicle Type Count by Agency'!$C:$C,\"=\"&$C67),\"\")","v":""},{"$f":"IFERROR(SUMIFS('Vehicle Type Count by Agency'!AG:AG,'Vehicle Type Count by Agency'!$C:$C,\"=\"&$C67)/SUMIFS('Vehicle Type Count by Agency'!AF:AF,'Vehicle Type Count by Agency'!$C:$C,\"=\"&$C67),\"\")","v":""},{"$f":"IFERROR(SUMIFS('Vehicle Type Count by Agency'!AI:AI,'Vehicle Type Count by Agency'!$C:$C,\"=\"&$C67)/SUMIFS('Vehicle Type Count by Agency'!AH:AH,'Vehicle Type Count by Agency'!$C:$C,\"=\"&$C67),\"\")","v":0.35632183908045978},{"$f":"IFERROR(SUMIFS('Vehicle Type Count by Agency'!AK:AK,'Vehicle Type Count by Agency'!$C:$C,\"=\"&$C67)/SUMIFS('Vehicle Type Count by Agency'!AJ:AJ,'Vehicle Type Count by Agency'!$C:$C,\"=\"&$C67),\"\")","v":""},{"$f":"IFERROR(SUMIFS('Vehicle Type Count by Agency'!AM:AM,'Vehicle Type Count by Agency'!$C:$C,\"=\"&$C67)/SUMIFS('Vehicle Type Count by Agency'!AL:AL,'Vehicle Type Count by Agency'!$C:$C,\"=\"&$C67),\"\")","v":""},{"$f":"IFERROR(SUMIFS('Vehicle Type Count by Agency'!AO:AO,'Vehicle Type Count by Agency'!$C:$C,\"=\"&$C67)/SUMIFS('Vehicle Type Count by Agency'!AN:AN,'Vehicle Type Count by Agency'!$C:$C,\"=\"&$C67),\"\")","v":""},{"$f":"IFERROR(SUMIFS('Vehicle Type Count by Agency'!AQ:AQ,'Vehicle Type Count by Agency'!$C:$C,\"=\"&$C67)/SUMIFS('Vehicle Type Count by Agency'!AP:AP,'Vehicle Type Count by Agency'!$C:$C,\"=\"&$C67),\"\")","v":""},{"$f":"IFERROR(SUMIFS('Vehicle Type Count by Agency'!AS:AS,'Vehicle Type Count by Agency'!$C:$C,\"=\"&$C67)/SUMIFS('Vehicle Type Count by Agency'!AR:AR,'Vehicle Type Count by Agency'!$C:$C,\"=\"&$C67),\"\")","v":""},{"$f":"IFERROR(SUMIFS('Vehicle Type Count by Agency'!AU:AU,'Vehicle Type Count by Agency'!$C:$C,\"=\"&$C67)/SUMIFS('Vehicle Type Count by Agency'!AT:AT,'Vehicle Type Count by Agency'!$C:$C,\"=\"&$C67),\"\")","v":0},{"$f":"IFERROR(SUMIFS('Vehicle Type Count by Agency'!AW:AW,'Vehicle Type Count by Agency'!$C:$C,\"=\"&$C67)/SUMIFS('Vehicle Type Count by Agency'!AV:AV,'Vehicle Type Count by Agency'!$C:$C,\"=\"&$C67),\"\")","v":""},{"$f":"IFERROR(SUMIFS('Vehicle Type Count by Agency'!AY:AY,'Vehicle Type Count by Agency'!$C:$C,\"=\"&$C67)/SUMIFS('Vehicle Type Count by Agency'!AX:AX,'Vehicle Type Count by Agency'!$C:$C,\"=\"&$C67),\"\")","v":""},{"$f":"IFERROR(SUMIFS('Vehicle Type Count by Agency'!BA:BA,'Vehicle Type Count by Agency'!$C:$C,\"=\"&$C67)/SUMIFS('Vehicle Type Count by Agency'!AZ:AZ,'Vehicle Type Count by Agency'!$C:$C,\"=\"&$C67),\"\")","v":""},{"$f":"IFERROR(SUMIFS('Vehicle Type Count by Agency'!BC:BC,'Vehicle Type Count by Agency'!$C:$C,\"=\"&$C67)/SUMIFS('Vehicle Type Count by Agency'!BB:BB,'Vehicle Type Count by Agency'!$C:$C,\"=\"&$C67),\"\")","v":""},{"$f":"IFERROR(SUMIFS('Vehicle Type Count by Agency'!BE:BE,'Vehicle Type Count by Agency'!$C:$C,\"=\"&$C67)/SUMIFS('Vehicle Type Count by Agency'!BD:BD,'Vehicle Type Count by Agency'!$C:$C,\"=\"&$C67),\"\")","v":""},{"$f":"IFERROR(SUMIFS('Vehicle Type Count by Agency'!BG:BG,'Vehicle Type Count by Agency'!$C:$C,\"=\"&$C67)/SUMIFS('Vehicle Type Count by Agency'!BF:BF,'Vehicle Type Count by Agency'!$C:$C,\"=\"&$C67),\"\")","v":""},{"$f":"IFERROR(SUMIFS('Vehicle Type Count by Agency'!BI:BI,'Vehicle Type Count by Agency'!$C:$C,\"=\"&$C67)/SUMIFS('Vehicle Type Count by Agency'!BH:BH,'Vehicle Type Count by Agency'!$C:$C,\"=\"&$C67),\"\")","v":0.25215029425079222}]
[null,null,"MP","Northern Marianas",null,{"$f":"IFERROR(SUMIFS('Vehicle Type Count by Agency'!K:K,'Vehicle Type Count by Agency'!$C:$C,\"=\"&$C68)/SUMIFS('Vehicle Type Count by Agency'!J:J,'Vehicle Type Count by Agency'!$C:$C,\"=\"&$C68),\"\")","v":""},{"$f":"IFERROR(SUMIFS('Vehicle Type Count by Agency'!M:M,'Vehicle Type Count by Agency'!$C:$C,\"=\"&$C68)/SUMIFS('Vehicle Type Count by Agency'!L:L,'Vehicle Type Count by Agency'!$C:$C,\"=\"&$C68),\"\")","v":""},{"$f":"IFERROR(SUMIFS('Vehicle Type Count by Agency'!O:O,'Vehicle Type Count by Agency'!$C:$C,\"=\"&$C68)/SUMIFS('Vehicle Type Count by Agency'!N:N,'Vehicle Type Count by Agency'!$C:$C,\"=\"&$C68),\"\")","v":""},{"$f":"IFERROR(SUMIFS('Vehicle Type Count by Agency'!Q:Q,'Vehicle Type Count by Agency'!$C:$C,\"=\"&$C68)/SUMIFS('Vehicle Type Count by Agency'!P:P,'Vehicle Type Count by Agency'!$C:$C,\"=\"&$C68),\"\")","v":""},{"$f":"IFERROR(SUMIFS('Vehicle Type Count by Agency'!S:S,'Vehicle Type Count by Agency'!$C:$C,\"=\"&$C68)/SUMIFS('Vehicle Type Count by Agency'!R:R,'Vehicle Type Count by Agency'!$C:$C,\"=\"&$C68),\"\")","v":""},{"$f":"IFERROR(SUMIFS('Vehicle Type Count by Agency'!U:U,'Vehicle Type Count by Agency'!$C:$C,\"=\"&$C68)/SUMIFS('Vehicle Type Count by Agency'!T:T,'Vehicle Type Count by Agency'!$C:$C,\"=\"&$C68),\"\")","v":""},{"$f":"IFERROR(SUMIFS('Vehicle Type Count by Agency'!W:W,'Vehicle Type Count by Agency'!$C:$C,\"=\"&$C68)/SUMIFS('Vehicle Type Count by Agency'!V:V,'Vehicle Type Count by Agency'!$C:$C,\"=\"&$C68),\"\")","v":""},{"$f":"IFERROR(SUMIFS('Vehicle Type Count by Agency'!Y:Y,'Vehicle Type Count by Agency'!$C:$C,\"=\"&$C68)/SUMIFS('Vehicle Type Count by Agency'!X:X,'Vehicle Type Count by Agency'!$C:$C,\"=\"&$C68),\"\")","v":""},{"$f":"IFERROR(SUMIFS('Vehicle Type Count by Agency'!AA:AA,'Vehicle Type Count by Agency'!$C:$C,\"=\"&$C68)/SUMIFS('Vehicle Type Count by Agency'!Z:Z,'Vehicle Type Count by Agency'!$C:$C,\"=\"&$C68),\"\")","v":""},{"$f":"IFERROR(SUMIFS('Vehicle Type Count by Agency'!AC:AC,'Vehicle Type Count by Agency'!$C:$C,\"=\"&$C68)/SUMIFS('Vehicle Type Count by Agency'!AB:AB,'Vehicle Type Count by Agency'!$C:$C,\"=\"&$C68),\"\")","v":""},{"$f":"IFERROR(SUMIFS('Vehicle Type Count by Agency'!AE:AE,'Vehicle Type Count by Agency'!$C:$C,\"=\"&$C68)/SUMIFS('Vehicle Type Count by Agency'!AD:AD,'Vehicle Type Count by Agency'!$C:$C,\"=\"&$C68),\"\")","v":""},{"$f":"IFERROR(SUMIFS('Vehicle Type Count by Agency'!AG:AG,'Vehicle Type Count by Agency'!$C:$C,\"=\"&$C68)/SUMIFS('Vehicle Type Count by Agency'!AF:AF,'Vehicle Type Count by Agency'!$C:$C,\"=\"&$C68),\"\")","v":""},{"$f":"IFERROR(SUMIFS('Vehicle Type Count by Agency'!AI:AI,'Vehicle Type Count by Agency'!$C:$C,\"=\"&$C68)/SUMIFS('Vehicle Type Count by Agency'!AH:AH,'Vehicle Type Count by Agency'!$C:$C,\"=\"&$C68),\"\")","v":""},{"$f":"IFERROR(SUMIFS('Vehicle Type Count by Agency'!AK:AK,'Vehicle Type Count by Agency'!$C:$C,\"=\"&$C68)/SUMIFS('Vehicle Type Count by Agency'!AJ:AJ,'Vehicle Type Count by Agency'!$C:$C,\"=\"&$C68),\"\")","v":""},{"$f":"IFERROR(SUMIFS('Vehicle Type Count by Agency'!AM:AM,'Vehicle Type Count by Agency'!$C:$C,\"=\"&$C68)/SUMIFS('Vehicle Type Count by Agency'!AL:AL,'Vehicle Type Count by Agency'!$C:$C,\"=\"&$C68),\"\")","v":""},{"$f":"IFERROR(SUMIFS('Vehicle Type Count by Agency'!AO:AO,'Vehicle Type Count by Agency'!$C:$C,\"=\"&$C68)/SUMIFS('Vehicle Type Count by Agency'!AN:AN,'Vehicle Type Count by Agency'!$C:$C,\"=\"&$C68),\"\")","v":""},{"$f":"IFERROR(SUMIFS('Vehicle Type Count by Agency'!AQ:AQ,'Vehicle Type Count by Agency'!$C:$C,\"=\"&$C68)/SUMIFS('Vehicle Type Count by Agency'!AP:AP,'Vehicle Type Count by Agency'!$C:$C,\"=\"&$C68),\"\")","v":""},{"$f":"IFERROR(SUMIFS('Vehicle Type Count by Agency'!AS:AS,'Vehicle Type Count by Agency'!$C:$C,\"=\"&$C68)/SUMIFS('Vehicle Type Count by Agency'!AR:AR,'Vehicle Type Count by Agency'!$C:$C,\"=\"&$C68),\"\")","v":""},{"$f":"IFERROR(SUMIFS('Vehicle Type Count by Agency'!AU:AU,'Vehicle Type Count by Agency'!$C:$C,\"=\"&$C68)/SUMIFS('Vehicle Type Count by Agency'!AT:AT,'Vehicle Type Count by Agency'!$C:$C,\"=\"&$C68),\"\")","v":""},{"$f":"IFERROR(SUMIFS('Vehicle Type Count by Agency'!AW:AW,'Vehicle Type Count by Agency'!$C:$C,\"=\"&$C68)/SUMIFS('Vehicle Type Count by Agency'!AV:AV,'Vehicle Type Count by Agency'!$C:$C,\"=\"&$C68),\"\")","v":""},{"$f":"IFERROR(SUMIFS('Vehicle Type Count by Agency'!AY:AY,'Vehicle Type Count by Agency'!$C:$C,\"=\"&$C68)/SUMIFS('Vehicle Type Count by Agency'!AX:AX,'Vehicle Type Count by Agency'!$C:$C,\"=\"&$C68),\"\")","v":""},{"$f":"IFERROR(SUMIFS('Vehicle Type Count by Agency'!BA:BA,'Vehicle Type Count by Agency'!$C:$C,\"=\"&$C68)/SUMIFS('Vehicle Type Count by Agency'!AZ:AZ,'Vehicle Type Count by Agency'!$C:$C,\"=\"&$C68),\"\")","v":""},{"$f":"IFERROR(SUMIFS('Vehicle Type Count by Agency'!BC:BC,'Vehicle Type Count by Agency'!$C:$C,\"=\"&$C68)/SUMIFS('Vehicle Type Count by Agency'!BB:BB,'Vehicle Type Count by Agency'!$C:$C,\"=\"&$C68),\"\")","v":""},{"$f":"IFERROR(SUMIFS('Vehicle Type Count by Agency'!BE:BE,'Vehicle Type Count by Agency'!$C:$C,\"=\"&$C68)/SUMIFS('Vehicle Type Count by Agency'!BD:BD,'Vehicle Type Count by Agency'!$C:$C,\"=\"&$C68),\"\")","v":""},{"$f":"IFERROR(SUMIFS('Vehicle Type Count by Agency'!BG:BG,'Vehicle Type Count by Agency'!$C:$C,\"=\"&$C68)/SUMIFS('Vehicle Type Count by Agency'!BF:BF,'Vehicle Type Count by Agency'!$C:$C,\"=\"&$C68),\"\")","v":""},{"$f":"IFERROR(SUMIFS('Vehicle Type Count by Agency'!BI:BI,'Vehicle Type Count by Agency'!$C:$C,\"=\"&$C68)/SUMIFS('Vehicle Type Count by Agency'!BH:BH,'Vehicle Type Count by Agency'!$C:$C,\"=\"&$C68),\"\")","v":""}]
[null,null,"MS","Mississippi",null,{"$f":"IFERROR(SUMIFS('Vehicle Type Count by Agency'!K:K,'Vehicle Type Count by Agency'!$C:$C,\"=\"&$C69)/SUMIFS('Vehicle Type Count by Agency'!J:J,'Vehicle Type Count by Agency'!$C:$C,\"=\"&$C69),\"\")","v":0.4838709677419355},{"$f":"IFERROR(SUMIFS('Vehicle Type Count by Agency'!M:M,'Vehicle Type Count by Agency'!$C:$C,\"=\"&$C69)/SUMIFS('Vehicle Type Count by Agency'!L:L,'Vehicle Type Count by Agency'!$C:$C,\"=\"&$C69),\"\")","v":""},{"$f":"IFERROR(SUMIFS('Vehicle Type Count by Agency'!O:O,'Vehicle Type Count by Agency'!$C:$C,\"=\"&$C69)/SUMIFS('Vehicle Type Count by Agency'!N:N,'Vehicle Type Count by Agency'!$C:$C,\"=\"&$C69),\"\")","v":""},{"$f":"IFERROR(SUMIFS('Vehicle Type Count by Agency'!Q:Q,'Vehicle Type Count by Agency'!$C:$C,\"=\"&$C69)/SUMIFS('Vehicle Type Count by Agency'!P:P,'Vehicle Type Count by Agency'!$C:$C,\"=\"&$C69),\"\")","v":""},{"$f":"IFERROR(SUMIFS('Vehicle Type Count by Agency'!S:S,'Vehicle Type Count by Agency'!$C:$C,\"=\"&$C69)/SUMIFS('Vehicle Type Count by Agency'!R:R,'Vehicle Type Count by Agency'!$C:$C,\"=\"&$C69),\"\")","v":""},{"$f":"IFERROR(SUMIFS('Vehicle Type Count by Agency'!U:U,'Vehicle Type Count by Agency'!$C:$C,\"=\"&$C69)/SUMIFS('Vehicle Type Count by Agency'!T:T,'Vehicle Type Count by Agency'!$C:$C,\"=\"&$C69),\"\")","v":0.33035714285714285},{"$f":"IFERROR(SUMIFS('Vehicle Type Count by Agency'!W:W,'Vehicle Type Count by Agency'!$C:$C,\"=\"&$C69)/SUMIFS('Vehicle Type Count by Agency'!V:V,'Vehicle Type Count by Agency'!$C:$C,\"=\"&$C69),\"\")","v":0.43621399176954734},{"$f":"IFERROR(SUMIFS('Vehicle Type Count by Agency'!Y:Y,'Vehicle Type Count by Agency'!$C:$C,\"=\"&$C69)/SUMIFS('Vehicle Type Count by Agency'!X:X,'Vehicle Type Count by Agency'!$C:$C,\"=\"&$C69),\"\")","v":""},{"$f":"IFERROR(SUMIFS('Vehicle Type Count by Agency'!AA:AA,'Vehicle Type Count by Agency'!$C:$C,\"=\"&$C69)/SUMIFS('Vehicle Type Count by Agency'!Z:Z,'Vehicle Type Count by Agency'!$C:$C,\"=\"&$C69),\"\")","v":0.44099378881987578},{"$f":"IFERROR(SUMIFS('Vehicle Type Count by Agency'!AC:AC,'Vehicle Type Count by Agency'!$C:$C,\"=\"&$C69)/SUMIFS('Vehicle Type Count by Agency'!AB:AB,'Vehicle Type Count by Agency'!$C:$C,\"=\"&$C69),\"\")","v":0},{"$f":"IFERROR(SUMIFS('Vehicle Type Count by Agency'!AE:AE,'Vehicle Type Count by Agency'!$C:$C,\"=\"&$C69)/SUMIFS('Vehicle Type Count by Agency'!AD:AD,'Vehicle Type Count by Agency'!$C:$C,\"=\"&$C69),\"\")","v":""},{"$f":"IFERROR(SUMIFS('Vehicle Type Count by Agency'!AG:AG,'Vehicle Type Count by Agency'!$C:$C,\"=\"&$C69)/SUMIFS('Vehicle Type Count by Agency'!AF:AF,'Vehicle Type Count by Agency'!$C:$C,\"=\"&$C69),\"\")","v":""},{"$f":"IFERROR(SUMIFS('Vehicle Type Count by Agency'!AI:AI,'Vehicle Type Count by Agency'!$C:$C,\"=\"&$C69)/SUMIFS('Vehicle Type Count by Agency'!AH:AH,'Vehicle Type Count by Agency'!$C:$C,\"=\"&$C69),\"\")","v":""},{"$f":"IFERROR(SUMIFS('Vehicle Type Count by Agency'!AK:AK,'Vehicle Type Count by Agency'!$C:$C,\"=\"&$C69)/SUMIFS('Vehicle Type Count by Agency'!AJ:AJ,'Vehicle Type Count by Agency'!$C:$C,\"=\"&$C69),\"\")","v":""},{"$f":"IFERROR(SUMIFS('Vehicle Type Count by Agency'!AM:AM,'Vehicle Type Count by Agency'!$C:$C,\"=\"&$C69)/SUMIFS('Vehicle Type Count by Agency'!AL:AL,'Vehicle Type Count by Agency'!$C:$C,\"=\"&$C69),\"\")","v":""},{"$f":"IFERROR(SUMIFS('Vehicle Type Count by Agency'!AO:AO,'Vehicle Type Count by Agency'!$C:$C,\"=\"&$C69)/SUMIFS('Vehicle Type Count by Agency'!AN:AN,'Vehicle Type Count by Agency'!$C:$C,\"=\"&$C69),\"\")","v":""},{"$f":"IFERROR(SUMIFS('Vehicle Type Count by Agency'!AQ:AQ,'Vehicle Type Count by Agency'!$C:$C,\"=\"&$C69)/SUMIFS('Vehicle Type Count by Agency'!AP:AP,'Vehicle Type Count by Agency'!$C:$C,\"=\"&$C69),\"\")","v":""},{"$f":"IFERROR(SUMIFS('Vehicle Type Count by Agency'!AS:AS,'Vehicle Type Count by Agency'!$C:$C,\"=\"&$C69)/SUMIFS('Vehicle Type Count by Agency'!AR:AR,'Vehicle Type Count by Agency'!$C:$C,\"=\"&$C69),\"\")","v":""},{"$f":"IFERROR(SUMIFS('Vehicle Type Count by Agency'!AU:AU,'Vehicle Type Count by Agency'!$C:$C,\"=\"&$C69)/SUMIFS('Vehicle Type Count by Agency'!AT:AT,'Vehicle Type Count by Agency'!$C:$C,\"=\"&$C69),\"\")","v":""},{"$f":"IFERROR(SUMIFS('Vehicle Type Count by Agency'!AW:AW,'Vehicle Type Count by Agency'!$C:$C,\"=\"&$C69)/SUMIFS('Vehicle Type Count by Agency'!AV:AV,'Vehicle Type Count by Agency'!$C:$C,\"=\"&$C69),\"\")","v":""},{"$f":"IFERROR(SUMIFS('Vehicle Type Count by Agency'!AY:AY,'Vehicle Type Count by Agency'!$C:$C,\"=\"&$C69)/SUMIFS('Vehicle Type Count by Agency'!AX:AX,'Vehicle Type Count by Agency'!$C:$C,\"=\"&$C69),\"\")","v":""},{"$f":"IFERROR(SUMIFS('Vehicle Type Count by Agency'!BA:BA,'Vehicle Type Count by Agency'!$C:$C,\"=\"&$C69)/SUMIFS('Vehicle Type Count by Agency'!AZ:AZ,'Vehicle Type Count by Agency'!$C:$C,\"=\"&$C69),\"\")","v":""},{"$f":"IFERROR(SUMIFS('Vehicle Type Count by Agency'!BC:BC,'Vehicle Type Count by Agency'!$C:$C,\"=\"&$C69)/SUMIFS('Vehicle Type Count by Agency'!BB:BB,'Vehicle Type Count by Agency'!$C:$C,\"=\"&$C69),\"\")","v":""},{"$f":"IFERROR(SUMIFS('Vehicle Type Count by Agency'!BE:BE,'Vehicle Type Count by Agency'!$C:$C,\"=\"&$C69)/SUMIFS('Vehicle Type Count by Agency'!BD:BD,'Vehicle Type Count by Agency'!$C:$C,\"=\"&$C69),\"\")","v":""},{"$f":"IFERROR(SUMIFS('Vehicle Type Count by Agency'!BG:BG,'Vehicle Type Count by Agency'!$C:$C,\"=\"&$C69)/SUMIFS('Vehicle Type Count by Agency'!BF:BF,'Vehicle Type Count by Agency'!$C:$C,\"=\"&$C69),\"\")","v":""},{"$f":"IFERROR(SUMIFS('Vehicle Type Count by Agency'!BI:BI,'Vehicle Type Count by Agency'!$C:$C,\"=\"&$C69)/SUMIFS('Vehicle Type Count by Agency'!BH:BH,'Vehicle Type Count by Agency'!$C:$C,\"=\"&$C69),\"\")","v":0.42625368731563423}]
[null,null,"MT","Montana",null,{"$f":"IFERROR(SUMIFS('Vehicle Type Count by Agency'!K:K,'Vehicle Type Count by Agency'!$C:$C,\"=\"&$C70)/SUMIFS('Vehicle Type Count by Agency'!J:J,'Vehicle Type Count by Agency'!$C:$C,\"=\"&$C70),\"\")","v":0.20645161290322581},{"$f":"IFERROR(SUMIFS('Vehicle Type Count by Agency'!M:M,'Vehicle Type Count by Agency'!$C:$C,\"=\"&$C70)/SUMIFS('Vehicle Type Count by Agency'!L:L,'Vehicle Type Count by Agency'!$C:$C,\"=\"&$C70),\"\")","v":""},{"$f":"IFERROR(SUMIFS('Vehicle Type Count by Agency'!O:O,'Vehicle Type Count by Agency'!$C:$C,\"=\"&$C70)/SUMIFS('Vehicle Type Count by Agency'!N:N,'Vehicle Type Count by Agency'!$C:$C,\"=\"&$C70),\"\")","v":""},{"$f":"IFERROR(SUMIFS('Vehicle Type Count by Agency'!Q:Q,'Vehicle Type Count by Agency'!$C:$C,\"=\"&$C70)/SUMIFS('Vehicle Type Count by Agency'!P:P,'Vehicle Type Count by Agency'!$C:$C,\"=\"&$C70),\"\")","v":""},{"$f":"IFERROR(SUMIFS('Vehicle Type Count by Agency'!S:S,'Vehicle Type Count by Agency'!$C:$C,\"=\"&$C70)/SUMIFS('Vehicle Type Count by Agency'!R:R,'Vehicle Type Count by Agency'!$C:$C,\"=\"&$C70),\"\")","v":""},{"$f":"IFERROR(SUMIFS('Vehicle Type Count by Agency'!U:U,'Vehicle Type Count by Agency'!$C:$C,\"=\"&$C70)/SUMIFS('Vehicle Type Count by Agency'!T:T,'Vehicle Type Count by Agency'!$C:$C,\"=\"&$C70),\"\")","v":0.453125},{"$f":"IFERROR(SUMIFS('Vehicle Type Count by Agency'!W:W,'Vehicle Type Count by Agency'!$C:$C,\"=\"&$C70)/SUMIFS('Vehicle Type Count by Agency'!V:V,'Vehicle Type Count by Agency'!$C:$C,\"=\"&$C70),\"\")","v":0.34355828220858897},{"$f":"IFERROR(SUMIFS('Vehicle Type Count by Agency'!Y:Y,'Vehicle Type Count by Agency'!$C:$C,\"=\"&$C70)/SUMIFS('Vehicle Type Count by Agency'!X:X,'Vehicle Type Count by Agency'!$C:$C,\"=\"&$C70),\"\")","v":""},{"$f":"IFERROR(SUMIFS('Vehicle Type Count by Agency'!AA:AA,'Vehicle Type Count by Agency'!$C:$C,\"=\"&$C70)/SUMIFS('Vehicle Type Count by Agency'!Z:Z,'Vehicle Type Count by Agency'!$C:$C,\"=\"&$C70),\"\")","v":0.37647058823529411},{"$f":"IFERROR(SUMIFS('Vehicle Type Count by Agency'!AC:AC,'Vehicle Type Count by Agency'!$C:$C,\"=\"&$C70)/SUMIFS('Vehicle Type Count by Agency'!AB:AB,'Vehicle Type Count by Agency'!$C:$C,\"=\"&$C70),\"\")","v":""},{"$f":"IFERROR(SUMIFS('Vehicle Type Count by Agency'!AE:AE,'Vehicle Type Count by Agency'!$C:$C,\"=\"&$C70)/SUMIFS('Vehicle Type Count by Agency'!AD:AD,'Vehicle Type Count by Agency'!$C:$C,\"=\"&$C70),\"\")","v":""},{"$f":"IFERROR(SUMIFS('Vehicle Type Count by Agency'!AG:AG,'Vehicle Type Count by Agency'!$C:$C,\"=\"&$C70)/SUMIFS('Vehicle Type Count by Agency'!AF:AF,'Vehicle Type Count by Agency'!$C:$C,\"=\"&$C70),\"\")","v":""},{"$f":"IFERROR(SUMIFS('Vehicle Type Count by Agency'!AI:AI,'Vehicle Type Count by Agency'!$C:$C,\"=\"&$C70)/SUMIFS('Vehicle Type Count by Agency'!AH:AH,'Vehicle Type Count by Agency'!$C:$C,\"=\"&$C70),\"\")","v":""},{"$f":"IFERROR(SUMIFS('Vehicle Type Count by Agency'!AK:AK,'Vehicle Type Count by Agency'!$C:$C,\"=\"&$C70)/SUMIFS('Vehicle Type Count by Agency'!AJ:AJ,'Vehicle Type Count by Agency'!$C:$C,\"=\"&$C70),\"\")","v":""},{"$f":"IFERROR(SUMIFS('Vehicle Type Count by Agency'!AM:AM,'Vehicle Type Count by Agency'!$C:$C,\"=\"&$C70)/SUMIFS('Vehicle Type Count by Agency'!AL:AL,'Vehicle Type Count by Agency'!$C:$C,\"=\"&$C70),\"\")","v":""},{"$f":"IFERROR(SUMIFS('Vehicle Type Count by Agency'!AO:AO,'Vehicle Type Count by Agency'!$C:$C,\"=\"&$C70)/SUMIFS('Vehicle Type Count by Agency'!AN:AN,'Vehicle Type Count by Agency'!$C:$C,\"=\"&$C70),\"\")","v":""},{"$f":"IFERROR(SUMIFS('Vehicle Type Count by Agency'!AQ:AQ,'Vehicle Type Count by Agency'!$C:$C,\"=\"&$C70)/SUMIFS('Vehicle Type Count by Agency'!AP:AP,'Vehicle Type Count by Agency'!$C:$C,\"=\"&$C70),\"\")","v":""},{"$f":"IFERROR(SUMIFS('Vehicle Type Count by Agency'!AS:AS,'Vehicle Type Count by Agency'!$C:$C,\"=\"&$C70)/SUMIFS('Vehicle Type Count by Agency'!AR:AR,'Vehicle Type Count by Agency'!$C:$C,\"=\"&$C70),\"\")","v":""},{"$f":"IFERROR(SUMIFS('Vehicle Type Count by Agency'!AU:AU,'Vehicle Type Count by Agency'!$C:$C,\"=\"&$C70)/SUMIFS('Vehicle Type Count by Agency'!AT:AT,'Vehicle Type Count by Agency'!$C:$C,\"=\"&$C70),\"\")","v":""},{"$f":"IFERROR(SUMIFS('Vehicle Type Count by Agency'!AW:AW,'Vehicle Type Count by Agency'!$C:$C,\"=\"&$C70)/SUMIFS('Vehicle Type Count by Agency'!AV:AV,'Vehicle Type Count by Agency'!$C:$C,\"=\"&$C70),\"\")","v":""},{"$f":"IFERROR(SUMIFS('Vehicle Type Count by Agency'!AY:AY,'Vehicle Type Count by Agency'!$C:$C,\"=\"&$C70)/SUMIFS('Vehicle Type Count by Agency'!AX:AX,'Vehicle Type Count by Agency'!$C:$C,\"=\"&$C70),\"\")","v":""},{"$f":"IFERROR(SUMIFS('Vehicle Type Count by Agency'!BA:BA,'Vehicle Type Count by Agency'!$C:$C,\"=\"&$C70)/SUMIFS('Vehicle Type Count by Agency'!AZ:AZ,'Vehicle Type Count by Agency'!$C:$C,\"=\"&$C70),\"\")","v":""},{"$f":"IFERROR(SUMIFS('Vehicle Type Count by Agency'!BC:BC,'Vehicle Type Count by Agency'!$C:$C,\"=\"&$C70)/SUMIFS('Vehicle Type Count by Agency'!BB:BB,'Vehicle Type Count by Agency'!$C:$C,\"=\"&$C70),\"\")","v":""},{"$f":"IFERROR(SUMIFS('Vehicle Type Count by Agency'!BE:BE,'Vehicle Type Count by Agency'!$C:$C,\"=\"&$C70)/SUMIFS('Vehicle Type Count by Agency'!BD:BD,'Vehicle Type Count by Agency'!$C:$C,\"=\"&$C70),\"\")","v":""},{"$f":"IFERROR(SUMIFS('Vehicle Type Count by Agency'!BG:BG,'Vehicle Type Count by Agency'!$C:$C,\"=\"&$C70)/SUMIFS('Vehicle Type Count by Agency'!BF:BF,'Vehicle Type Count by Agency'!$C:$C,\"=\"&$C70),\"\")","v":""},{"$f":"IFERROR(SUMIFS('Vehicle Type Count by Agency'!BI:BI,'Vehicle Type Count by Agency'!$C:$C,\"=\"&$C70)/SUMIFS('Vehicle Type Count by Agency'!BH:BH,'Vehicle Type Count by Agency'!$C:$C,\"=\"&$C70),\"\")","v":0.31905781584582443}]
[null,null,"NC","North Carolina",null,{"$f":"IFERROR(SUMIFS('Vehicle Type Count by Agency'!K:K,'Vehicle Type Count by Agency'!$C:$C,\"=\"&$C71)/SUMIFS('Vehicle Type Count by Agency'!J:J,'Vehicle Type Count by Agency'!$C:$C,\"=\"&$C71),\"\")","v":0.25019857029388404},{"$f":"IFERROR(SUMIFS('Vehicle Type Count by Agency'!M:M,'Vehicle Type Count by Agency'!$C:$C,\"=\"&$C71)/SUMIFS('Vehicle Type Count by Agency'!L:L,'Vehicle Type Count by Agency'!$C:$C,\"=\"&$C71),\"\")","v":0},{"$f":"IFERROR(SUMIFS('Vehicle Type Count by Agency'!O:O,'Vehicle Type Count by Agency'!$C:$C,\"=\"&$C71)/SUMIFS('Vehicle Type Count by Agency'!N:N,'Vehicle Type Count by Agency'!$C:$C,\"=\"&$C71),\"\")","v":0.45},{"$f":"IFERROR(SUMIFS('Vehicle Type Count by Agency'!Q:Q,'Vehicle Type Count by Agency'!$C:$C,\"=\"&$C71)/SUMIFS('Vehicle Type Count by Agency'!P:P,'Vehicle Type Count by Agency'!$C:$C,\"=\"&$C71),\"\")","v":""},{"$f":"IFERROR(SUMIFS('Vehicle Type Count by Agency'!S:S,'Vehicle Type Count by Agency'!$C:$C,\"=\"&$C71)/SUMIFS('Vehicle Type Count by Agency'!R:R,'Vehicle Type Count by Agency'!$C:$C,\"=\"&$C71),\"\")","v":1},{"$f":"IFERROR(SUMIFS('Vehicle Type Count by Agency'!U:U,'Vehicle Type Count by Agency'!$C:$C,\"=\"&$C71)/SUMIFS('Vehicle Type Count by Agency'!T:T,'Vehicle Type Count by Agency'!$C:$C,\"=\"&$C71),\"\")","v":0.19900497512437812},{"$f":"IFERROR(SUMIFS('Vehicle Type Count by Agency'!W:W,'Vehicle Type Count by Agency'!$C:$C,\"=\"&$C71)/SUMIFS('Vehicle Type Count by Agency'!V:V,'Vehicle Type Count by Agency'!$C:$C,\"=\"&$C71),\"\")","v":0.18312387791741472},{"$f":"IFERROR(SUMIFS('Vehicle Type Count by Agency'!Y:Y,'Vehicle Type Count by Agency'!$C:$C,\"=\"&$C71)/SUMIFS('Vehicle Type Count by Agency'!X:X,'Vehicle Type Count by Agency'!$C:$C,\"=\"&$C71),\"\")","v":8.23045267489712E-3},{"$f":"IFERROR(SUMIFS('Vehicle Type Count by Agency'!AA:AA,'Vehicle Type Count by Agency'!$C:$C,\"=\"&$C71)/SUMIFS('Vehicle Type Count by Agency'!Z:Z,'Vehicle Type Count by Agency'!$C:$C,\"=\"&$C71),\"\")","v":0.30603448275862066},{"$f":"IFERROR(SUMIFS('Vehicle Type Count by Agency'!AC:AC,'Vehicle Type Count by Agency'!$C:$C,\"=\"&$C71)/SUMIFS('Vehicle Type Count by Agency'!AB:AB,'Vehicle Type Count by Agency'!$C:$C,\"=\"&$C71),\"\")","v":0.05},{"$f":"IFERROR(SUMIFS('Vehicle Type Count by Agency'!AE:AE,'Vehicle Type Count by Agency'!$C:$C,\"=\"&$C71)/SUMIFS('Vehicle Type Count by Agency'!AD:AD,'Vehicle Type Count by Agency'!$C:$C,\"=\"&$C71),\"\")","v":""},{"$f":"IFERROR(SUMIFS('Vehicle Type Count by Agency'!AG:AG,'Vehicle Type Count by Agency'!$C:$C,\"=\"&$C71)/SUMIFS('Vehicle Type Count by Agency'!AF:AF,'Vehicle Type Count by Agency'!$C:$C,\"=\"&$C71),\"\")","v":""},{"$f":"IFERROR(SUMIFS('Vehicle Type Count by Agency'!AI:AI,'Vehicle Type Count by Agency'!$C:$C,\"=\"&$C71)/SUMIFS('Vehicle Type Count by Agency'!AH:AH,'Vehicle Type Count by Agency'!$C:$C,\"=\"&$C71),\"\")","v":0},{"$f":"IFERROR(SUMIFS('Vehicle Type Count by Agency'!AK:AK,'Vehicle Type Count by Agency'!$C:$C,\"=\"&$C71)/SUMIFS('Vehicle Type Count by Agency'!AJ:AJ,'Vehicle Type Count by Agency'!$C:$C,\"=\"&$C71),\"\")","v":""},{"$f":"IFERROR(SUMIFS('Vehicle Type Count by Agency'!AM:AM,'Vehicle Type Count by Agency'!$C:$C,\"=\"&$C71)/SUMIFS('Vehicle Type Count by Agency'!AL:AL,'Vehicle Type Count by Agency'!$C:$C,\"=\"&$C71),\"\")","v":""},{"$f":"IFERROR(SUMIFS('Vehicle Type Count by Agency'!AO:AO,'Vehicle Type Count by Agency'!$C:$C,\"=\"&$C71)/SUMIFS('Vehicle Type Count by Agency'!AN:AN,'Vehicle Type Count by Agency'!$C:$C,\"=\"&$C71),\"\")","v":""},{"$f":"IFERROR(SUMIFS('Vehicle Type Count by Agency'!AQ:AQ,'Vehicle Type Count by Agency'!$C:$C,\"=\"&$C71)/SUMIFS('Vehicle Type Count by Agency'!AP:AP,'Vehicle Type Count by Agency'!$C:$C,\"=\"&$C71),\"\")","v":""},{"$f":"IFERROR(SUMIFS('Vehicle Type Count by Agency'!AS:AS,'Vehicle Type Count by Agency'!$C:$C,\"=\"&$C71)/SUMIFS('Vehicle Type Count by Agency'!AR:AR,'Vehicle Type Count by Agency'!$C:$C,\"=\"&$C71),\"\")","v":""},{"$f":"IFERROR(SUMIFS('Vehicle Type Count by Agency'!AU:AU,'Vehicle Type Count by Agency'!$C:$C,\"=\"&$C71)/SUMIFS('Vehicle Type Count by Agency'!AT:AT,'Vehicle Type Count by Agency'!$C:$C,\"=\"&$C71),\"\")","v":0},{"$f":"IFERROR(SUMIFS('Vehicle Type Count by Agency'!AW:AW,'Vehicle Type Count by Agency'!$C:$C,\"=\"&$C71)/SUMIFS('Vehicle Type Count by Agency'!AV:AV,'Vehicle Type Count by Agency'!$C:$C,\"=\"&$C71),\"\")","v":""},{"$f":"IFERROR(SUMIFS('Vehicle Type Count by Agency'!AY:AY,'Vehicle Type Count by Agency'!$C:$C,\"=\"&$C71)/SUMIFS('Vehicle Type Count by Agency'!AX:AX,'Vehicle Type Count by Agency'!$C:$C,\"=\"&$C71),\"\")","v":""},{"$f":"IFERROR(SUMIFS('Vehicle Type Count by Agency'!BA:BA,'Vehicle Type Count by Agency'!$C:$C,\"=\"&$C71)/SUMIFS('Vehicle Type Count by Agency'!AZ:AZ,'Vehicle Type Count by Agency'!$C:$C,\"=\"&$C71),\"\")","v":""},{"$f":"IFERROR(SUMIFS('Vehicle Type Count by Agency'!BC:BC,'Vehicle Type Count by Agency'!$C:$C,\"=\"&$C71)/SUMIFS('Vehicle Type Count by Agency'!BB:BB,'Vehicle Type Count by Agency'!$C:$C,\"=\"&$C71),\"\")","v":""},{"$f":"IFERROR(SUMIFS('Vehicle Type Count by Agency'!BE:BE,'Vehicle Type Count by Agency'!$C:$C,\"=\"&$C71)/SUMIFS('Vehicle Type Count by Agency'!BD:BD,'Vehicle Type Count by Agency'!$C:$C,\"=\"&$C71),\"\")","v":""},{"$f":"IFERROR(SUMIFS('Vehicle Type Count by Agency'!BG:BG,'Vehicle Type Count by Agency'!$C:$C,\"=\"&$C71)/SUMIFS('Vehicle Type Count by Agency'!BF:BF,'Vehicle Type Count by Agency'!$C:$C,\"=\"&$C71),\"\")","v":""},{"$f":"IFERROR(SUMIFS('Vehicle Type Count by Agency'!BI:BI,'Vehicle Type Count by Agency'!$C:$C,\"=\"&$C71)/SUMIFS('Vehicle Type Count by Agency'!BH:BH,'Vehicle Type Count by Agency'!$C:$C,\"=\"&$C71),\"\")","v":0.20494699646643111}]
[null,null,"ND","North Dakota",null,{"$f":"IFERROR(SUMIFS('Vehicle Type Count by Agency'!K:K,'Vehicle Type Count by Agency'!$C:$C,\"=\"&$C72)/SUMIFS('Vehicle Type Count by Agency'!J:J,'Vehicle Type Count by Agency'!$C:$C,\"=\"&$C72),\"\")","v":0.28169014084507044},{"$f":"IFERROR(SUMIFS('Vehicle Type Count by Agency'!M:M,'Vehicle Type Count by Agency'!$C:$C,\"=\"&$C72)/SUMIFS('Vehicle Type Count by Agency'!L:L,'Vehicle Type Count by Agency'!$C:$C,\"=\"&$C72),\"\")","v":""},{"$f":"IFERROR(SUMIFS('Vehicle Type Count by Agency'!O:O,'Vehicle Type Count by Agency'!$C:$C,\"=\"&$C72)/SUMIFS('Vehicle Type Count by Agency'!N:N,'Vehicle Type Count by Agency'!$C:$C,\"=\"&$C72),\"\")","v":""},{"$f":"IFERROR(SUMIFS('Vehicle Type Count by Agency'!Q:Q,'Vehicle Type Count by Agency'!$C:$C,\"=\"&$C72)/SUMIFS('Vehicle Type Count by Agency'!P:P,'Vehicle Type Count by Agency'!$C:$C,\"=\"&$C72),\"\")","v":""},{"$f":"IFERROR(SUMIFS('Vehicle Type Count by Agency'!S:S,'Vehicle Type Count by Agency'!$C:$C,\"=\"&$C72)/SUMIFS('Vehicle Type Count by Agency'!R:R,'Vehicle Type Count by Agency'!$C:$C,\"=\"&$C72),\"\")","v":""},{"$f":"IFERROR(SUMIFS('Vehicle Type Count by Agency'!U:U,'Vehicle Type Count by Agency'!$C:$C,\"=\"&$C72)/SUMIFS('Vehicle Type Count by Agency'!T:T,'Vehicle Type Count by Agency'!$C:$C,\"=\"&$C72),\"\")","v":0.35714285714285715},{"$f":"IFERROR(SUMIFS('Vehicle Type Count by Agency'!W:W,'Vehicle Type Count by Agency'!$C:$C,\"=\"&$C72)/SUMIFS('Vehicle Type Count by Agency'!V:V,'Vehicle Type Count by Agency'!$C:$C,\"=\"&$C72),\"\")","v":0.17777777777777778},{"$f":"IFERROR(SUMIFS('Vehicle Type Count by Agency'!Y:Y,'Vehicle Type Count by Agency'!$C:$C,\"=\"&$C72)/SUMIFS('Vehicle Type Count by Agency'!X:X,'Vehicle Type Count by Agency'!$C:$C,\"=\"&$C72),\"\")","v":0},{"$f":"IFERROR(SUMIFS('Vehicle Type Count by Agency'!AA:AA,'Vehicle Type Count by Agency'!$C:$C,\"=\"&$C72)/SUMIFS('Vehicle Type Count by Agency'!Z:Z,'Vehicle Type Count by Agency'!$C:$C,\"=\"&$C72),\"\")","v":0.19491525423728814},{"$f":"IFERROR(SUMIFS('Vehicle Type Count by Agency'!AC:AC,'Vehicle Type Count by Agency'!$C:$C,\"=\"&$C72)/SUMIFS('Vehicle Type Count by Agency'!AB:AB,'Vehicle Type Count by Agency'!$C:$C,\"=\"&$C72),\"\")","v":0.5},{"$f":"IFERROR(SUMIFS('Vehicle Type Count by Agency'!AE:AE,'Vehicle Type Count by Agency'!$C:$C,\"=\"&$C72)/SUMIFS('Vehicle Type Count by Agency'!AD:AD,'Vehicle Type Count by Agency'!$C:$C,\"=\"&$C72),\"\")","v":""},{"$f":"IFERROR(SUMIFS('Vehicle Type Count by Agency'!AG:AG,'Vehicle Type Count by Agency'!$C:$C,\"=\"&$C72)/SUMIFS('Vehicle Type Count by Agency'!AF:AF,'Vehicle Type Count by Agency'!$C:$C,\"=\"&$C72),\"\")","v":""},{"$f":"IFERROR(SUMIFS('Vehicle Type Count by Agency'!AI:AI,'Vehicle Type Count by Agency'!$C:$C,\"=\"&$C72)/SUMIFS('Vehicle Type Count by Agency'!AH:AH,'Vehicle Type Count by Agency'!$C:$C,\"=\"&$C72),\"\")","v":""},{"$f":"IFERROR(SUMIFS('Vehicle Type Count by Agency'!AK:AK,'Vehicle Type Count by Agency'!$C:$C,\"=\"&$C72)/SUMIFS('Vehicle Type Count by Agency'!AJ:AJ,'Vehicle Type Count by Agency'!$C:$C,\"=\"&$C72),\"\")","v":""},{"$f":"IFERROR(SUMIFS('Vehicle Type Count by Agency'!AM:AM,'Vehicle Type Count by Agency'!$C:$C,\"=\"&$C72)/SUMIFS('Vehicle Type Count by Agency'!AL:AL,'Vehicle Type Count by Agency'!$C:$C,\"=\"&$C72),\"\")","v":""},{"$f":"IFERROR(SUMIFS('Vehicle Type Count by Agency'!AO:AO,'Vehicle Type Count by Agency'!$C:$C,\"=\"&$C72)/SUMIFS('Vehicle Type Count by Agency'!AN:AN,'Vehicle Type Count by Agency'!$C:$C,\"=\"&$C72),\"\")","v":""},{"$f":"IFERROR(SUMIFS('Vehicle Type Count by Agency'!AQ:AQ,'Vehicle Type Count by Agency'!$C:$C,\"=\"&$C72)/SUMIFS('Vehicle Type Count by Agency'!AP:AP,'Vehicle Type Count by Agency'!$C:$C,\"=\"&$C72),\"\")","v":""},{"$f":"IFERROR(SUMIFS('Vehicle Type Count by Agency'!AS:AS,'Vehicle Type Count by Agency'!$C:$C,\"=\"&$C72)/SUMIFS('Vehicle Type Count by Agency'!AR:AR,'Vehicle Type Count by Agency'!$C:$C,\"=\"&$C72),\"\")","v":""},{"$f":"IFERROR(SUMIFS('Vehicle Type Count by Agency'!AU:AU,'Vehicle Type Count by Agency'!$C:$C,\"=\"&$C72)/SUMIFS('Vehicle Type Count by Agency'!AT:AT,'Vehicle Type Count by Agency'!$C:$C,\"=\"&$C72),\"\")","v":""},{"$f":"IFERROR(SUMIFS('Vehicle Type Count by Agency'!AW:AW,'Vehicle Type Count by Agency'!$C:$C,\"=\"&$C72)/SUMIFS('Vehicle Type Count by Agency'!AV:AV,'Vehicle Type Count by Agency'!$C:$C,\"=\"&$C72),\"\")","v":""},{"$f":"IFERROR(SUMIFS('Vehicle Type Count by Agency'!AY:AY,'Vehicle Type Count by Agency'!$C:$C,\"=\"&$C72)/SUMIFS('Vehicle Type Count by Agency'!AX:AX,'Vehicle Type Count by Agency'!$C:$C,\"=\"&$C72),\"\")","v":""},{"$f":"IFERROR(SUMIFS('Vehicle Type Count by Agency'!BA:BA,'Vehicle Type Count by Agency'!$C:$C,\"=\"&$C72)/SUMIFS('Vehicle Type Count by Agency'!AZ:AZ,'Vehicle Type Count by Agency'!$C:$C,\"=\"&$C72),\"\")","v":""},{"$f":"IFERROR(SUMIFS('Vehicle Type Count by Agency'!BC:BC,'Vehicle Type Count by Agency'!$C:$C,\"=\"&$C72)/SUMIFS('Vehicle Type Count by Agency'!BB:BB,'Vehicle Type Count by Agency'!$C:$C,\"=\"&$C72),\"\")","v":""},{"$f":"IFERROR(SUMIFS('Vehicle Type Count by Agency'!BE:BE,'Vehicle Type Count by Agency'!$C:$C,\"=\"&$C72)/SUMIFS('Vehicle Type Count by Agency'!BD:BD,'Vehicle Type Count by Agency'!$C:$C,\"=\"&$C72),\"\")","v":""},{"$f":"IFERROR(SUMIFS('Vehicle Type Count by Agency'!BG:BG,'Vehicle Type Count by Agency'!$C:$C,\"=\"&$C72)/SUMIFS('Vehicle Type Count by Agency'!BF:BF,'Vehicle Type Count by Agency'!$C:$C,\"=\"&$C72),\"\")","v":""},{"$f":"IFERROR(SUMIFS('Vehicle Type Count by Agency'!BI:BI,'Vehicle Type Count by Agency'!$C:$C,\"=\"&$C72)/SUMIFS('Vehicle Type Count by Agency'!BH:BH,'Vehicle Type Count by Agency'!$C:$C,\"=\"&$C72),\"\")","v":0.21787709497206703}]
[null,null,"NE","Nebraska",null,{"$f":"IFERROR(SUMIFS('Vehicle Type Count by Agency'!K:K,'Vehicle Type Count by Agency'!$C:$C,\"=\"&$C73)/SUMIFS('Vehicle Type Count by Agency'!J:J,'Vehicle Type Count by Agency'!$C:$C,\"=\"&$C73),\"\")","v":0.36150234741784038},{"$f":"IFERROR(SUMIFS('Vehicle Type Count by Agency'!M:M,'Vehicle Type Count by Agency'!$C:$C,\"=\"&$C73)/SUMIFS('Vehicle Type Count by Agency'!L:L,'Vehicle Type Count by Agency'!$C:$C,\"=\"&$C73),\"\")","v":""},{"$f":"IFERROR(SUMIFS('Vehicle Type Count by Agency'!O:O,'Vehicle Type Count by Agency'!$C:$C,\"=\"&$C73)/SUMIFS('Vehicle Type Count by Agency'!N:N,'Vehicle Type Count by Agency'!$C:$C,\"=\"&$C73),\"\")","v":""},{"$f":"IFERROR(SUMIFS('Vehicle Type Count by Agency'!Q:Q,'Vehicle Type Count by Agency'!$C:$C,\"=\"&$C73)/SUMIFS('Vehicle Type Count by Agency'!P:P,'Vehicle Type Count by Agency'!$C:$C,\"=\"&$C73),\"\")","v":""},{"$f":"IFERROR(SUMIFS('Vehicle Type Count by Agency'!S:S,'Vehicle Type Count by Agency'!$C:$C,\"=\"&$C73)/SUMIFS('Vehicle Type Count by Agency'!R:R,'Vehicle Type Count by Agency'!$C:$C,\"=\"&$C73),\"\")","v":""},{"$f":"IFERROR(SUMIFS('Vehicle Type Count by Agency'!U:U,'Vehicle Type Count by Agency'!$C:$C,\"=\"&$C73)/SUMIFS('Vehicle Type Count by Agency'!T:T,'Vehicle Type Count by Agency'!$C:$C,\"=\"&$C73),\"\")","v":0.51851851851851849},{"$f":"IFERROR(SUMIFS('Vehicle Type Count by Agency'!W:W,'Vehicle Type Count by Agency'!$C:$C,\"=\"&$C73)/SUMIFS('Vehicle Type Count by Agency'!V:V,'Vehicle Type Count by Agency'!$C:$C,\"=\"&$C73),\"\")","v":0.20526315789473684},{"$f":"IFERROR(SUMIFS('Vehicle Type Count by Agency'!Y:Y,'Vehicle Type Count by Agency'!$C:$C,\"=\"&$C73)/SUMIFS('Vehicle Type Count by Agency'!X:X,'Vehicle Type Count by Agency'!$C:$C,\"=\"&$C73),\"\")","v":0.44444444444444442},{"$f":"IFERROR(SUMIFS('Vehicle Type Count by Agency'!AA:AA,'Vehicle Type Count by Agency'!$C:$C,\"=\"&$C73)/SUMIFS('Vehicle Type Count by Agency'!Z:Z,'Vehicle Type Count by Agency'!$C:$C,\"=\"&$C73),\"\")","v":0.2318840579710145},{"$f":"IFERROR(SUMIFS('Vehicle Type Count by Agency'!AC:AC,'Vehicle Type Count by Agency'!$C:$C,\"=\"&$C73)/SUMIFS('Vehicle Type Count by Agency'!AB:AB,'Vehicle Type Count by Agency'!$C:$C,\"=\"&$C73),\"\")","v":0.33333333333333331},{"$f":"IFERROR(SUMIFS('Vehicle Type Count by Agency'!AE:AE,'Vehicle Type Count by Agency'!$C:$C,\"=\"&$C73)/SUMIFS('Vehicle Type Count by Agency'!AD:AD,'Vehicle Type Count by Agency'!$C:$C,\"=\"&$C73),\"\")","v":""},{"$f":"IFERROR(SUMIFS('Vehicle Type Count by Agency'!AG:AG,'Vehicle Type Count by Agency'!$C:$C,\"=\"&$C73)/SUMIFS('Vehicle Type Count by Agency'!AF:AF,'Vehicle Type Count by Agency'!$C:$C,\"=\"&$C73),\"\")","v":""},{"$f":"IFERROR(SUMIFS('Vehicle Type Count by Agency'!AI:AI,'Vehicle Type Count by Agency'!$C:$C,\"=\"&$C73)/SUMIFS('Vehicle Type Count by Agency'!AH:AH,'Vehicle Type Count by Agency'!$C:$C,\"=\"&$C73),\"\")","v":""},{"$f":"IFERROR(SUMIFS('Vehicle Type Count by Agency'!AK:AK,'Vehicle Type Count by Agency'!$C:$C,\"=\"&$C73)/SUMIFS('Vehicle Type Count by Agency'!AJ:AJ,'Vehicle Type Count by Agency'!$C:$C,\"=\"&$C73),\"\")","v":""},{"$f":"IFERROR(SUMIFS('Vehicle Type Count by Agency'!AM:AM,'Vehicle Type Count by Agency'!$C:$C,\"=\"&$C73)/SUMIFS('Vehicle Type Count by Agency'!AL:AL,'Vehicle Type Count by Agency'!$C:$C,\"=\"&$C73),\"\")","v":""},{"$f":"IFERROR(SUMIFS('Vehicle Type Count by Agency'!AO:AO,'Vehicle Type Count by Agency'!$C:$C,\"=\"&$C73)/SUMIFS('Vehicle Type Count by Agency'!AN:AN,'Vehicle Type Count by Agency'!$C:$C,\"=\"&$C73),\"\")","v":""},{"$f":"IFERROR(SUMIFS('Vehicle Type Count by Agency'!AQ:AQ,'Vehicle Type Count by Agency'!$C:$C,\"=\"&$C73)/SUMIFS('Vehicle Type Count by Agency'!AP:AP,'Vehicle Type Count by Agency'!$C:$C,\"=\"&$C73),\"\")","v":""},{"$f":"IFERROR(SUMIFS('Vehicle Type Count by Agency'!AS:AS,'Vehicle Type Count by Agency'!$C:$C,\"=\"&$C73)/SUMIFS('Vehicle Type Count by Agency'!AR:AR,'Vehicle Type Count by Agency'!$C:$C,\"=\"&$C73),\"\")","v":""},{"$f":"IFERROR(SUMIFS('Vehicle Type Count by Agency'!AU:AU,'Vehicle Type Count by Agency'!$C:$C,\"=\"&$C73)/SUMIFS('Vehicle Type Count by Agency'!AT:AT,'Vehicle Type Count by Agency'!$C:$C,\"=\"&$C73),\"\")","v":""},{"$f":"IFERROR(SUMIFS('Vehicle Type Count by Agency'!AW:AW,'Vehicle Type Count by Agency'!$C:$C,\"=\"&$C73)/SUMIFS('Vehicle Type Count by Agency'!AV:AV,'Vehicle Type Count by Agency'!$C:$C,\"=\"&$C73),\"\")","v":""},{"$f":"IFERROR(SUMIFS('Vehicle Type Count by Agency'!AY:AY,'Vehicle Type Count by Agency'!$C:$C,\"=\"&$C73)/SUMIFS('Vehicle Type Count by Agency'!AX:AX,'Vehicle Type Count by Agency'!$C:$C,\"=\"&$C73),\"\")","v":""},{"$f":"IFERROR(SUMIFS('Vehicle Type Count by Agency'!BA:BA,'Vehicle Type Count by Agency'!$C:$C,\"=\"&$C73)/SUMIFS('Vehicle Type Count by Agency'!AZ:AZ,'Vehicle Type Count by Agency'!$C:$C,\"=\"&$C73),\"\")","v":""},{"$f":"IFERROR(SUMIFS('Vehicle Type Count by Agency'!BC:BC,'Vehicle Type Count by Agency'!$C:$C,\"=\"&$C73)/SUMIFS('Vehicle Type Count by Agency'!BB:BB,'Vehicle Type Count by Agency'!$C:$C,\"=\"&$C73),\"\")","v":""},{"$f":"IFERROR(SUMIFS('Vehicle Type Count by Agency'!BE:BE,'Vehicle Type Count by Agency'!$C:$C,\"=\"&$C73)/SUMIFS('Vehicle Type Count by Agency'!BD:BD,'Vehicle Type Count by Agency'!$C:$C,\"=\"&$C73),\"\")","v":""},{"$f":"IFERROR(SUMIFS('Vehicle Type Count by Agency'!BG:BG,'Vehicle Type Count by Agency'!$C:$C,\"=\"&$C73)/SUMIFS('Vehicle Type Count by Agency'!BF:BF,'Vehicle Type Count by Agency'!$C:$C,\"=\"&$C73),\"\")","v":""},{"$f":"IFERROR(SUMIFS('Vehicle Type Count by Agency'!BI:BI,'Vehicle Type Count by Agency'!$C:$C,\"=\"&$C73)/SUMIFS('Vehicle Type Count by Agency'!BH:BH,'Vehicle Type Count by Agency'!$C:$C,\"=\"&$C73),\"\")","v":0.29818780889621088}]
[null,null,"NH","New Hampshire",null,{"$f":"IFERROR(SUMIFS('Vehicle Type Count by Agency'!K:K,'Vehicle Type Count by Agency'!$C:$C,\"=\"&$C74)/SUMIFS('Vehicle Type Count by Agency'!J:J,'Vehicle Type Count by Agency'!$C:$C,\"=\"&$C74),\"\")","v":0.39080459770114945},{"$f":"IFERROR(SUMIFS('Vehicle Type Count by Agency'!M:M,'Vehicle Type Count by Agency'!$C:$C,\"=\"&$C74)/SUMIFS('Vehicle Type Count by Agency'!L:L,'Vehicle Type Count by Agency'!$C:$C,\"=\"&$C74),\"\")","v":""},{"$f":"IFERROR(SUMIFS('Vehicle Type Count by Agency'!O:O,'Vehicle Type Count by Agency'!$C:$C,\"=\"&$C74)/SUMIFS('Vehicle Type Count by Agency'!N:N,'Vehicle Type Count by Agency'!$C:$C,\"=\"&$C74),\"\")","v":6.4516129032258063E-2},{"$f":"IFERROR(SUMIFS('Vehicle Type Count by Agency'!Q:Q,'Vehicle Type Count by Agency'!$C:$C,\"=\"&$C74)/SUMIFS('Vehicle Type Count by Agency'!P:P,'Vehicle Type Count by Agency'!$C:$C,\"=\"&$C74),\"\")","v":0},{"$f":"IFERROR(SUMIFS('Vehicle Type Count by Agency'!S:S,'Vehicle Type Count by Agency'!$C:$C,\"=\"&$C74)/SUMIFS('Vehicle Type Count by Agency'!R:R,'Vehicle Type Count by Agency'!$C:$C,\"=\"&$C74),\"\")","v":""},{"$f":"IFERROR(SUMIFS('Vehicle Type Count by Agency'!U:U,'Vehicle Type Count by Agency'!$C:$C,\"=\"&$C74)/SUMIFS('Vehicle Type Count by Agency'!T:T,'Vehicle Type Count by Agency'!$C:$C,\"=\"&$C74),\"\")","v":0.76923076923076927},{"$f":"IFERROR(SUMIFS('Vehicle Type Count by Agency'!W:W,'Vehicle Type Count by Agency'!$C:$C,\"=\"&$C74)/SUMIFS('Vehicle Type Count by Agency'!V:V,'Vehicle Type Count by Agency'!$C:$C,\"=\"&$C74),\"\")","v":0.37383177570093457},{"$f":"IFERROR(SUMIFS('Vehicle Type Count by Agency'!Y:Y,'Vehicle Type Count by Agency'!$C:$C,\"=\"&$C74)/SUMIFS('Vehicle Type Count by Agency'!X:X,'Vehicle Type Count by Agency'!$C:$C,\"=\"&$C74),\"\")","v":""},{"$f":"IFERROR(SUMIFS('Vehicle Type Count by Agency'!AA:AA,'Vehicle Type Count by Agency'!$C:$C,\"=\"&$C74)/SUMIFS('Vehicle Type Count by Agency'!Z:Z,'Vehicle Type Count by Agency'!$C:$C,\"=\"&$C74),\"\")","v":0},{"$f":"IFERROR(SUMIFS('Vehicle Type Count by Agency'!AC:AC,'Vehicle Type Count by Agency'!$C:$C,\"=\"&$C74)/SUMIFS('Vehicle Type Count by Agency'!AB:AB,'Vehicle Type Count by Agency'!$C:$C,\"=\"&$C74),\"\")","v":""},{"$f":"IFERROR(SUMIFS('Vehicle Type Count by Agency'!AE:AE,'Vehicle Type Count by Agency'!$C:$C,\"=\"&$C74)/SUMIFS('Vehicle Type Count by Agency'!AD:AD,'Vehicle Type Count by Agency'!$C:$C,\"=\"&$C74),\"\")","v":""},{"$f":"IFERROR(SUMIFS('Vehicle Type Count by Agency'!AG:AG,'Vehicle Type Count by Agency'!$C:$C,\"=\"&$C74)/SUMIFS('Vehicle Type Count by Agency'!AF:AF,'Vehicle Type Count by Agency'!$C:$C,\"=\"&$C74),\"\")","v":""},{"$f":"IFERROR(SUMIFS('Vehicle Type Count by Agency'!AI:AI,'Vehicle Type Count by Agency'!$C:$C,\"=\"&$C74)/SUMIFS('Vehicle Type Count by Agency'!AH:AH,'Vehicle Type Count by Agency'!$C:$C,\"=\"&$C74),\"\")","v":""},{"$f":"IFERROR(SUMIFS('Vehicle Type Count by Agency'!AK:AK,'Vehicle Type Count by Agency'!$C:$C,\"=\"&$C74)/SUMIFS('Vehicle Type Count by Agency'!AJ:AJ,'Vehicle Type Count by Agency'!$C:$C,\"=\"&$C74),\"\")","v":""},{"$f":"IFERROR(SUMIFS('Vehicle Type Count by Agency'!AM:AM,'Vehicle Type Count by Agency'!$C:$C,\"=\"&$C74)/SUMIFS('Vehicle Type Count by Agency'!AL:AL,'Vehicle Type Count by Agency'!$C:$C,\"=\"&$C74),\"\")","v":""},{"$f":"IFERROR(SUMIFS('Vehicle Type Count by Agency'!AO:AO,'Vehicle Type Count by Agency'!$C:$C,\"=\"&$C74)/SUMIFS('Vehicle Type Count by Agency'!AN:AN,'Vehicle Type Count by Agency'!$C:$C,\"=\"&$C74),\"\")","v":""},{"$f":"IFERROR(SUMIFS('Vehicle Type Count by Agency'!AQ:AQ,'Vehicle Type Count by Agency'!$C:$C,\"=\"&$C74)/SUMIFS('Vehicle Type Count by Agency'!AP:AP,'Vehicle Type Count by Agency'!$C:$C,\"=\"&$C74),\"\")","v":""},{"$f":"IFERROR(SUMIFS('Vehicle Type Count by Agency'!AS:AS,'Vehicle Type Count by Agency'!$C:$C,\"=\"&$C74)/SUMIFS('Vehicle Type Count by Agency'!AR:AR,'Vehicle Type Count by Agency'!$C:$C,\"=\"&$C74),\"\")","v":""},{"$f":"IFERROR(SUMIFS('Vehicle Type Count by Agency'!AU:AU,'Vehicle Type Count by Agency'!$C:$C,\"=\"&$C74)/SUMIFS('Vehicle Type Count by Agency'!AT:AT,'Vehicle Type Count by Agency'!$C:$C,\"=\"&$C74),\"\")","v":""},{"$f":"IFERROR(SUMIFS('Vehicle Type Count by Agency'!AW:AW,'Vehicle Type Count by Agency'!$C:$C,\"=\"&$C74)/SUMIFS('Vehicle Type Count by Agency'!AV:AV,'Vehicle Type Count by Agency'!$C:$C,\"=\"&$C74),\"\")","v":""},{"$f":"IFERROR(SUMIFS('Vehicle Type Count by Agency'!AY:AY,'Vehicle Type Count by Agency'!$C:$C,\"=\"&$C74)/SUMIFS('Vehicle Type Count by Agency'!AX:AX,'Vehicle Type Count by Agency'!$C:$C,\"=\"&$C74),\"\")","v":""},{"$f":"IFERROR(SUMIFS('Vehicle Type Count by Agency'!BA:BA,'Vehicle Type Count by Agency'!$C:$C,\"=\"&$C74)/SUMIFS('Vehicle Type Count by Agency'!AZ:AZ,'Vehicle Type Count by Agency'!$C:$C,\"=\"&$C74),\"\")","v":""},{"$f":"IFERROR(SUMIFS('Vehicle Type Count by Agency'!BC:BC,'Vehicle Type Count by Agency'!$C:$C,\"=\"&$C74)/SUMIFS('Vehicle Type Count by Agency'!BB:BB,'Vehicle Type Count by Agency'!$C:$C,\"=\"&$C74),\"\")","v":""},{"$f":"IFERROR(SUMIFS('Vehicle Type Count by Agency'!BE:BE,'Vehicle Type Count by Agency'!$C:$C,\"=\"&$C74)/SUMIFS('Vehicle Type Count by Agency'!BD:BD,'Vehicle Type Count by Agency'!$C:$C,\"=\"&$C74),\"\")","v":""},{"$f":"IFERROR(SUMIFS('Vehicle Type Count by Agency'!BG:BG,'Vehicle Type Count by Agency'!$C:$C,\"=\"&$C74)/SUMIFS('Vehicle Type Count by Agency'!BF:BF,'Vehicle Type Count by Agency'!$C:$C,\"=\"&$C74),\"\")","v":""},{"$f":"IFERROR(SUMIFS('Vehicle Type Count by Agency'!BI:BI,'Vehicle Type Count by Agency'!$C:$C,\"=\"&$C74)/SUMIFS('Vehicle Type Count by Agency'!BH:BH,'Vehicle Type Count by Agency'!$C:$C,\"=\"&$C74),\"\")","v":0.33676975945017185}]
[null,null,"NJ","New Jersey",null,{"$f":"IFERROR(SUMIFS('Vehicle Type Count by Agency'!K:K,'Vehicle Type Count by Agency'!$C:$C,\"=\"&$C75)/SUMIFS('Vehicle Type Count by Agency'!J:J,'Vehicle Type Count by Agency'!$C:$C,\"=\"&$C75),\"\")","v":3.1018206338503034E-2},{"$f":"IFERROR(SUMIFS('Vehicle Type Count by Agency'!M:M,'Vehicle Type Count by Agency'!$C:$C,\"=\"&$C75)/SUMIFS('Vehicle Type Count by Agency'!L:L,'Vehicle Type Count by Agency'!$C:$C,\"=\"&$C75),\"\")","v":1},{"$f":"IFERROR(SUMIFS('Vehicle Type Count by Agency'!O:O,'Vehicle Type Count by Agency'!$C:$C,\"=\"&$C75)/SUMIFS('Vehicle Type Count by Agency'!N:N,'Vehicle Type Count by Agency'!$C:$C,\"=\"&$C75),\"\")","v":0.48733535967578523},{"$f":"IFERROR(SUMIFS('Vehicle Type Count by Agency'!Q:Q,'Vehicle Type Count by Agency'!$C:$C,\"=\"&$C75)/SUMIFS('Vehicle Type Count by Agency'!P:P,'Vehicle Type Count by Agency'!$C:$C,\"=\"&$C75),\"\")","v":""},{"$f":"IFERROR(SUMIFS('Vehicle Type Count by Agency'!S:S,'Vehicle Type Count by Agency'!$C:$C,\"=\"&$C75)/SUMIFS('Vehicle Type Count by Agency'!R:R,'Vehicle Type Count by Agency'!$C:$C,\"=\"&$C75),\"\")","v":""},{"$f":"IFERROR(SUMIFS('Vehicle Type Count by Agency'!U:U,'Vehicle Type Count by Agency'!$C:$C,\"=\"&$C75)/SUMIFS('Vehicle Type Count by Agency'!T:T,'Vehicle Type Count by Agency'!$C:$C,\"=\"&$C75),\"\")","v":0.11483253588516747},{"$f":"IFERROR(SUMIFS('Vehicle Type Count by Agency'!W:W,'Vehicle Type Count by Agency'!$C:$C,\"=\"&$C75)/SUMIFS('Vehicle Type Count by Agency'!V:V,'Vehicle Type Count by Agency'!$C:$C,\"=\"&$C75),\"\")","v":0.13507290867229471},{"$f":"IFERROR(SUMIFS('Vehicle Type Count by Agency'!Y:Y,'Vehicle Type Count by Agency'!$C:$C,\"=\"&$C75)/SUMIFS('Vehicle Type Count by Agency'!X:X,'Vehicle Type Count by Agency'!$C:$C,\"=\"&$C75),\"\")","v":0.18300653594771241},{"$f":"IFERROR(SUMIFS('Vehicle Type Count by Agency'!AA:AA,'Vehicle Type Count by Agency'!$C:$C,\"=\"&$C75)/SUMIFS('Vehicle Type Count by Agency'!Z:Z,'Vehicle Type Count by Agency'!$C:$C,\"=\"&$C75),\"\")","v":9.2592592592592587E-2},{"$f":"IFERROR(SUMIFS('Vehicle Type Count by Agency'!AC:AC,'Vehicle Type Count by Agency'!$C:$C,\"=\"&$C75)/SUMIFS('Vehicle Type Count by Agency'!AB:AB,'Vehicle Type Count by Agency'!$C:$C,\"=\"&$C75),\"\")","v":0.33333333333333331},{"$f":"IFERROR(SUMIFS('Vehicle Type Count by Agency'!AE:AE,'Vehicle Type Count by Agency'!$C:$C,\"=\"&$C75)/SUMIFS('Vehicle Type Count by Agency'!AD:AD,'Vehicle Type Count by Agency'!$C:$C,\"=\"&$C75),\"\")","v":""},{"$f":"IFERROR(SUMIFS('Vehicle Type Count by Agency'!AG:AG,'Vehicle Type Count by Agency'!$C:$C,\"=\"&$C75)/SUMIFS('Vehicle Type Count by Agency'!AF:AF,'Vehicle Type Count by Agency'!$C:$C,\"=\"&$C75),\"\")","v":0},{"$f":"IFERROR(SUMIFS('Vehicle Type Count by Agency'!AI:AI,'Vehicle Type Count by Agency'!$C:$C,\"=\"&$C75)/SUMIFS('Vehicle Type Count by Agency'!AH:AH,'Vehicle Type Count by Agency'!$C:$C,\"=\"&$C75),\"\")","v":0},{"$f":"IFERROR(SUMIFS('Vehicle Type Count by Agency'!AK:AK,'Vehicle Type Count by Agency'!$C:$C,\"=\"&$C75)/SUMIFS('Vehicle Type Count by Agency'!AJ:AJ,'Vehicle Type Count by Agency'!$C:$C,\"=\"&$C75),\"\")","v":0.16972972972972972},{"$f":"IFERROR(SUMIFS('Vehicle Type Count by Agency'!AM:AM,'Vehicle Type Count by Agency'!$C:$C,\"=\"&$C75)/SUMIFS('Vehicle Type Count by Agency'!AL:AL,'Vehicle Type Count by Agency'!$C:$C,\"=\"&$C75),\"\")","v":1},{"$f":"IFERROR(SUMIFS('Vehicle Type Count by Agency'!AO:AO,'Vehicle Type Count by Agency'!$C:$C,\"=\"&$C75)/SUMIFS('Vehicle Type Count by Agency'!AN:AN,'Vehicle Type Count by Agency'!$C:$C,\"=\"&$C75),\"\")","v":5.8479532163742687E-2},{"$f":"IFERROR(SUMIFS('Vehicle Type Count by Agency'!AQ:AQ,'Vehicle Type Count by Agency'!$C:$C,\"=\"&$C75)/SUMIFS('Vehicle Type Count by Agency'!AP:AP,'Vehicle Type Count by Agency'!$C:$C,\"=\"&$C75),\"\")","v":""},{"$f":"IFERROR(SUMIFS('Vehicle Type Count by Agency'!AS:AS,'Vehicle Type Count by Agency'!$C:$C,\"=\"&$C75)/SUMIFS('Vehicle Type Count by Agency'!AR:AR,'Vehicle Type Count by Agency'!$C:$C,\"=\"&$C75),\"\")","v":""},{"$f":"IFERROR(SUMIFS('Vehicle Type Count by Agency'!AU:AU,'Vehicle Type Count by Agency'!$C:$C,\"=\"&$C75)/SUMIFS('Vehicle Type Count by Agency'!AT:AT,'Vehicle Type Count by Agency'!$C:$C,\"=\"&$C75),\"\")","v":""},{"$f":"IFERROR(SUMIFS('Vehicle Type Count by Agency'!AW:AW,'Vehicle Type Count by Agency'!$C:$C,\"=\"&$C75)/SUMIFS('Vehicle Type Count by Agency'!AV:AV,'Vehicle Type Count by Agency'!$C:$C,\"=\"&$C75),\"\")","v":""},{"$f":"IFERROR(SUMIFS('Vehicle Type Count by Agency'!AY:AY,'Vehicle Type Count by Agency'!$C:$C,\"=\"&$C75)/SUMIFS('Vehicle Type Count by Agency'!AX:AX,'Vehicle Type Count by Agency'!$C:$C,\"=\"&$C75),\"\")","v":""},{"$f":"IFERROR(SUMIFS('Vehicle Type Count by Agency'!BA:BA,'Vehicle Type Count by Agency'!$C:$C,\"=\"&$C75)/SUMIFS('Vehicle Type Count by Agency'!AZ:AZ,'Vehicle Type Count by Agency'!$C:$C,\"=\"&$C75),\"\")","v":""},{"$f":"IFERROR(SUMIFS('Vehicle Type Count by Agency'!BC:BC,'Vehicle Type Count by Agency'!$C:$C,\"=\"&$C75)/SUMIFS('Vehicle Type Count by Agency'!BB:BB,'Vehicle Type Count by Agency'!$C:$C,\"=\"&$C75),\"\")","v":""},{"$f":"IFERROR(SUMIFS('Vehicle Type Count by Agency'!BE:BE,'Vehicle Type Count by Agency'!$C:$C,\"=\"&$C75)/SUMIFS('Vehicle Type Count by Agency'!BD:BD,'Vehicle Type Count by Agency'!$C:$C,\"=\"&$C75),\"\")","v":0},{"$f":"IFERROR(SUMIFS('Vehicle Type Count by Agency'!BG:BG,'Vehicle Type Count by Agency'!$C:$C,\"=\"&$C75)/SUMIFS('Vehicle Type Count by Agency'!BF:BF,'Vehicle Type Count by Agency'!$C:$C,\"=\"&$C75),\"\")","v":""},{"$f":"IFERROR(SUMIFS('Vehicle Type Count by Agency'!BI:BI,'Vehicle Type Count by Agency'!$C:$C,\"=\"&$C75)/SUMIFS('Vehicle Type Count by Agency'!BH:BH,'Vehicle Type Count by Agency'!$C:$C,\"=\"&$C75),\"\")","v":0.23088727678571427}]
[null,null,"NM","New Mexico",null,{"$f":"IFERROR(SUMIFS('Vehicle Type Count by Agency'!K:K,'Vehicle Type Count by Agency'!$C:$C,\"=\"&$C76)/SUMIFS('Vehicle Type Count by Agency'!J:J,'Vehicle Type Count by Agency'!$C:$C,\"=\"&$C76),\"\")","v":4.8245614035087717E-2},{"$f":"IFERROR(SUMIFS('Vehicle Type Count by Agency'!M:M,'Vehicle Type Count by Agency'!$C:$C,\"=\"&$C76)/SUMIFS('Vehicle Type Count by Agency'!L:L,'Vehicle Type Count by Agency'!$C:$C,\"=\"&$C76),\"\")","v":0.47826086956521741},{"$f":"IFERROR(SUMIFS('Vehicle Type Count by Agency'!O:O,'Vehicle Type Count by Agency'!$C:$C,\"=\"&$C76)/SUMIFS('Vehicle Type Count by Agency'!N:N,'Vehicle Type Count by Agency'!$C:$C,\"=\"&$C76),\"\")","v":""},{"$f":"IFERROR(SUMIFS('Vehicle Type Count by Agency'!Q:Q,'Vehicle Type Count by Agency'!$C:$C,\"=\"&$C76)/SUMIFS('Vehicle Type Count by Agency'!P:P,'Vehicle Type Count by Agency'!$C:$C,\"=\"&$C76),\"\")","v":""},{"$f":"IFERROR(SUMIFS('Vehicle Type Count by Agency'!S:S,'Vehicle Type Count by Agency'!$C:$C,\"=\"&$C76)/SUMIFS('Vehicle Type Count by Agency'!R:R,'Vehicle Type Count by Agency'!$C:$C,\"=\"&$C76),\"\")","v":1},{"$f":"IFERROR(SUMIFS('Vehicle Type Count by Agency'!U:U,'Vehicle Type Count by Agency'!$C:$C,\"=\"&$C76)/SUMIFS('Vehicle Type Count by Agency'!T:T,'Vehicle Type Count by Agency'!$C:$C,\"=\"&$C76),\"\")","v":0.42105263157894735},{"$f":"IFERROR(SUMIFS('Vehicle Type Count by Agency'!W:W,'Vehicle Type Count by Agency'!$C:$C,\"=\"&$C76)/SUMIFS('Vehicle Type Count by Agency'!V:V,'Vehicle Type Count by Agency'!$C:$C,\"=\"&$C76),\"\")","v":0.10236220472440945},{"$f":"IFERROR(SUMIFS('Vehicle Type Count by Agency'!Y:Y,'Vehicle Type Count by Agency'!$C:$C,\"=\"&$C76)/SUMIFS('Vehicle Type Count by Agency'!X:X,'Vehicle Type Count by Agency'!$C:$C,\"=\"&$C76),\"\")","v":9.0909090909090912E-2},{"$f":"IFERROR(SUMIFS('Vehicle Type Count by Agency'!AA:AA,'Vehicle Type Count by Agency'!$C:$C,\"=\"&$C76)/SUMIFS('Vehicle Type Count by Agency'!Z:Z,'Vehicle Type Count by Agency'!$C:$C,\"=\"&$C76),\"\")","v":0.4},{"$f":"IFERROR(SUMIFS('Vehicle Type Count by Agency'!AC:AC,'Vehicle Type Count by Agency'!$C:$C,\"=\"&$C76)/SUMIFS('Vehicle Type Count by Agency'!AB:AB,'Vehicle Type Count by Agency'!$C:$C,\"=\"&$C76),\"\")","v":""},{"$f":"IFERROR(SUMIFS('Vehicle Type Count by Agency'!AE:AE,'Vehicle Type Count by Agency'!$C:$C,\"=\"&$C76)/SUMIFS('Vehicle Type Count by Agency'!AD:AD,'Vehicle Type Count by Agency'!$C:$C,\"=\"&$C76),\"\")","v":""},{"$f":"IFERROR(SUMIFS('Vehicle Type Count by Agency'!AG:AG,'Vehicle Type Count by Agency'!$C:$C,\"=\"&$C76)/SUMIFS('Vehicle Type Count by Agency'!AF:AF,'Vehicle Type Count by Agency'!$C:$C,\"=\"&$C76),\"\")","v":""},{"$f":"IFERROR(SUMIFS('Vehicle Type Count by Agency'!AI:AI,'Vehicle Type Count by Agency'!$C:$C,\"=\"&$C76)/SUMIFS('Vehicle Type Count by Agency'!AH:AH,'Vehicle Type Count by Agency'!$C:$C,\"=\"&$C76),\"\")","v":""},{"$f":"IFERROR(SUMIFS('Vehicle Type Count by Agency'!AK:AK,'Vehicle Type Count by Agency'!$C:$C,\"=\"&$C76)/SUMIFS('Vehicle Type Count by Agency'!AJ:AJ,'Vehicle Type Count by Agency'!$C:$C,\"=\"&$C76),\"\")","v":0},{"$f":"IFERROR(SUMIFS('Vehicle Type Count by Agency'!AM:AM,'Vehicle Type Count by Agency'!$C:$C,\"=\"&$C76)/SUMIFS('Vehicle Type Count by Agency'!AL:AL,'Vehicle Type Count by Agency'!$C:$C,\"=\"&$C76),\"\")","v":""},{"$f":"IFERROR(SUMIFS('Vehicle Type Count by Agency'!AO:AO,'Vehicle Type Count by Agency'!$C:$C,\"=\"&$C76)/SUMIFS('Vehicle Type Count by Agency'!AN:AN,'Vehicle Type Count by Agency'!$C:$C,\"=\"&$C76),\"\")","v":0},{"$f":"IFERROR(SUMIFS('Vehicle Type Count by Agency'!AQ:AQ,'Vehicle Type Count by Agency'!$C:$C,\"=\"&$C76)/SUMIFS('Vehicle Type Count by Agency'!AP:AP,'Vehicle Type Count by Agency'!$C:$C,\"=\"&$C76),\"\")","v":""},{"$f":"IFERROR(SUMIFS('Vehicle Type Count by Agency'!AS:AS,'Vehicle Type Count by Agency'!$C:$C,\"=\"&$C76)/SUMIFS('Vehicle Type Count by Agency'!AR:AR,'Vehicle Type Count by Agency'!$C:$C,\"=\"&$C76),\"\")","v":""},{"$f":"IFERROR(SUMIFS('Vehicle Type Count by Agency'!AU:AU,'Vehicle Type Count by Agency'!$C:$C,\"=\"&$C76)/SUMIFS('Vehicle Type Count by Agency'!AT:AT,'Vehicle Type Count by Agency'!$C:$C,\"=\"&$C76),\"\")","v":""},{"$f":"IFERROR(SUMIFS('Vehicle Type Count by Agency'!AW:AW,'Vehicle Type Count by Agency'!$C:$C,\"=\"&$C76)/SUMIFS('Vehicle Type Count by Agency'!AV:AV,'Vehicle Type Count by Agency'!$C:$C,\"=\"&$C76),\"\")","v":""},{"$f":"IFERROR(SUMIFS('Vehicle Type Count by Agency'!AY:AY,'Vehicle Type Count by Agency'!$C:$C,\"=\"&$C76)/SUMIFS('Vehicle Type Count by Agency'!AX:AX,'Vehicle Type Count by Agency'!$C:$C,\"=\"&$C76),\"\")","v":""},{"$f":"IFERROR(SUMIFS('Vehicle Type Count by Agency'!BA:BA,'Vehicle Type Count by Agency'!$C:$C,\"=\"&$C76)/SUMIFS('Vehicle Type Count by Agency'!AZ:AZ,'Vehicle Type Count by Agency'!$C:$C,\"=\"&$C76),\"\")","v":""},{"$f":"IFERROR(SUMIFS('Vehicle Type Count by Agency'!BC:BC,'Vehicle Type Count by Agency'!$C:$C,\"=\"&$C76)/SUMIFS('Vehicle Type Count by Agency'!BB:BB,'Vehicle Type Count by Agency'!$C:$C,\"=\"&$C76),\"\")","v":""},{"$f":"IFERROR(SUMIFS('Vehicle Type Count by Agency'!BE:BE,'Vehicle Type Count by Agency'!$C:$C,\"=\"&$C76)/SUMIFS('Vehicle Type Count by Agency'!BD:BD,'Vehicle Type Count by Agency'!$C:$C,\"=\"&$C76),\"\")","v":""},{"$f":"IFERROR(SUMIFS('Vehicle Type Count by Agency'!BG:BG,'Vehicle Type Count by Agency'!$C:$C,\"=\"&$C76)/SUMIFS('Vehicle Type Count by Agency'!BF:BF,'Vehicle Type Count by Agency'!$C:$C,\"=\"&$C76),\"\")","v":""},{"$f":"IFERROR(SUMIFS('Vehicle Type Count by Agency'!BI:BI,'Vehicle Type Count by Agency'!$C:$C,\"=\"&$C76)/SUMIFS('Vehicle Type Count by Agency'!BH:BH,'Vehicle Type Count by Agency'!$C:$C,\"=\"&$C76),\"\")","v":0.12250332889480692}]
[null,null,"NV","Nevada",null,{"$f":"IFERROR(SUMIFS('Vehicle Type Count by Agency'!K:K,'Vehicle Type Count by Agency'!$C:$C,\"=\"&$C77)/SUMIFS('Vehicle Type Count by Agency'!J:J,'Vehicle Type Count by Agency'!$C:$C,\"=\"&$C77),\"\")","v":6.637168141592921E-2},{"$f":"IFERROR(SUMIFS('Vehicle Type Count by Agency'!M:M,'Vehicle Type Count by Agency'!$C:$C,\"=\"&$C77)/SUMIFS('Vehicle Type Count by Agency'!L:L,'Vehicle Type Count by Agency'!$C:$C,\"=\"&$C77),\"\")","v":0},{"$f":"IFERROR(SUMIFS('Vehicle Type Count by Agency'!O:O,'Vehicle Type Count by Agency'!$C:$C,\"=\"&$C77)/SUMIFS('Vehicle Type Count by Agency'!N:N,'Vehicle Type Count by Agency'!$C:$C,\"=\"&$C77),\"\")","v":""},{"$f":"IFERROR(SUMIFS('Vehicle Type Count by Agency'!Q:Q,'Vehicle Type Count by Agency'!$C:$C,\"=\"&$C77)/SUMIFS('Vehicle Type Count by Agency'!P:P,'Vehicle Type Count by Agency'!$C:$C,\"=\"&$C77),\"\")","v":0},{"$f":"IFERROR(SUMIFS('Vehicle Type Count by Agency'!S:S,'Vehicle Type Count by Agency'!$C:$C,\"=\"&$C77)/SUMIFS('Vehicle Type Count by Agency'!R:R,'Vehicle Type Count by Agency'!$C:$C,\"=\"&$C77),\"\")","v":""},{"$f":"IFERROR(SUMIFS('Vehicle Type Count by Agency'!U:U,'Vehicle Type Count by Agency'!$C:$C,\"=\"&$C77)/SUMIFS('Vehicle Type Count by Agency'!T:T,'Vehicle Type Count by Agency'!$C:$C,\"=\"&$C77),\"\")","v":4.4871794871794872E-2},{"$f":"IFERROR(SUMIFS('Vehicle Type Count by Agency'!W:W,'Vehicle Type Count by Agency'!$C:$C,\"=\"&$C77)/SUMIFS('Vehicle Type Count by Agency'!V:V,'Vehicle Type Count by Agency'!$C:$C,\"=\"&$C77),\"\")","v":6.0109289617486336E-2},{"$f":"IFERROR(SUMIFS('Vehicle Type Count by Agency'!Y:Y,'Vehicle Type Count by Agency'!$C:$C,\"=\"&$C77)/SUMIFS('Vehicle Type Count by Agency'!X:X,'Vehicle Type Count by Agency'!$C:$C,\"=\"&$C77),\"\")","v":7.6923076923076927E-2},{"$f":"IFERROR(SUMIFS('Vehicle Type Count by Agency'!AA:AA,'Vehicle Type Count by Agency'!$C:$C,\"=\"&$C77)/SUMIFS('Vehicle Type Count by Agency'!Z:Z,'Vehicle Type Count by Agency'!$C:$C,\"=\"&$C77),\"\")","v":0.33333333333333331},{"$f":"IFERROR(SUMIFS('Vehicle Type Count by Agency'!AC:AC,'Vehicle Type Count by Agency'!$C:$C,\"=\"&$C77)/SUMIFS('Vehicle Type Count by Agency'!AB:AB,'Vehicle Type Count by Agency'!$C:$C,\"=\"&$C77),\"\")","v":""},{"$f":"IFERROR(SUMIFS('Vehicle Type Count by Agency'!AE:AE,'Vehicle Type Count by Agency'!$C:$C,\"=\"&$C77)/SUMIFS('Vehicle Type Count by Agency'!AD:AD,'Vehicle Type Count by Agency'!$C:$C,\"=\"&$C77),\"\")","v":""},{"$f":"IFERROR(SUMIFS('Vehicle Type Count by Agency'!AG:AG,'Vehicle Type Count by Agency'!$C:$C,\"=\"&$C77)/SUMIFS('Vehicle Type Count by Agency'!AF:AF,'Vehicle Type Count by Agency'!$C:$C,\"=\"&$C77),\"\")","v":""},{"$f":"IFERROR(SUMIFS('Vehicle Type Count by Agency'!AI:AI,'Vehicle Type Count by Agency'!$C:$C,\"=\"&$C77)/SUMIFS('Vehicle Type Count by Agency'!AH:AH,'Vehicle Type Count by Agency'!$C:$C,\"=\"&$C77),\"\")","v":""},{"$f":"IFERROR(SUMIFS('Vehicle Type Count by Agency'!AK:AK,'Vehicle Type Count by Agency'!$C:$C,\"=\"&$C77)/SUMIFS('Vehicle Type Count by Agency'!AJ:AJ,'Vehicle Type Count by Agency'!$C:$C,\"=\"&$C77),\"\")","v":""},{"$f":"IFERROR(SUMIFS('Vehicle Type Count by Agency'!AM:AM,'Vehicle Type Count by Agency'!$C:$C,\"=\"&$C77)/SUMIFS('Vehicle Type Count by Agency'!AL:AL,'Vehicle Type Count by Agency'!$C:$C,\"=\"&$C77),\"\")","v":""},{"$f":"IFERROR(SUMIFS('Vehicle Type Count by Agency'!AO:AO,'Vehicle Type Count by Agency'!$C:$C,\"=\"&$C77)/SUMIFS('Vehicle Type Count by Agency'!AN:AN,'Vehicle Type Count by Agency'!$C:$C,\"=\"&$C77),\"\")","v":""},{"$f":"IFERROR(SUMIFS('Vehicle Type Count by Agency'!AQ:AQ,'Vehicle Type Count by Agency'!$C:$C,\"=\"&$C77)/SUMIFS('Vehicle Type Count by Agency'!AP:AP,'Vehicle Type Count by Agency'!$C:$C,\"=\"&$C77),\"\")","v":""},{"$f":"IFERROR(SUMIFS('Vehicle Type Count by Agency'!AS:AS,'Vehicle Type Count by Agency'!$C:$C,\"=\"&$C77)/SUMIFS('Vehicle Type Count by Agency'!AR:AR,'Vehicle Type Count by Agency'!$C:$C,\"=\"&$C77),\"\")","v":""},{"$f":"IFERROR(SUMIFS('Vehicle Type Count by Agency'!AU:AU,'Vehicle Type Count by Agency'!$C:$C,\"=\"&$C77)/SUMIFS('Vehicle Type Count by Agency'!AT:AT,'Vehicle Type Count by Agency'!$C:$C,\"=\"&$C77),\"\")","v":""},{"$f":"IFERROR(SUMIFS('Vehicle Type Count by Agency'!AW:AW,'Vehicle Type Count by Agency'!$C:$C,\"=\"&$C77)/SUMIFS('Vehicle Type Count by Agency'!AV:AV,'Vehicle Type Count by Agency'!$C:$C,\"=\"&$C77),\"\")","v":""},{"$f":"IFERROR(SUMIFS('Vehicle Type Count by Agency'!AY:AY,'Vehicle Type Count by Agency'!$C:$C,\"=\"&$C77)/SUMIFS('Vehicle Type Count by Agency'!AX:AX,'Vehicle Type Count by Agency'!$C:$C,\"=\"&$C77),\"\")","v":""},{"$f":"IFERROR(SUMIFS('Vehicle Type Count by Agency'!BA:BA,'Vehicle Type Count by Agency'!$C:$C,\"=\"&$C77)/SUMIFS('Vehicle Type Count by Agency'!AZ:AZ,'Vehicle Type Count by Agency'!$C:$C,\"=\"&$C77),\"\")","v":""},{"$f":"IFERROR(SUMIFS('Vehicle Type Count by Agency'!BC:BC,'Vehicle Type Count by Agency'!$C:$C,\"=\"&$C77)/SUMIFS('Vehicle Type Count by Agency'!BB:BB,'Vehicle Type Count by Agency'!$C:$C,\"=\"&$C77),\"\")","v":""},{"$f":"IFERROR(SUMIFS('Vehicle Type Count by Agency'!BE:BE,'Vehicle Type Count by Agency'!$C:$C,\"=\"&$C77)/SUMIFS('Vehicle Type Count by Agency'!BD:BD,'Vehicle Type Count by Agency'!$C:$C,\"=\"&$C77),\"\")","v":""},{"$f":"IFERROR(SUMIFS('Vehicle Type Count by Agency'!BG:BG,'Vehicle Type Count by Agency'!$C:$C,\"=\"&$C77)/SUMIFS('Vehicle Type Count by Agency'!BF:BF,'Vehicle Type Count by Agency'!$C:$C,\"=\"&$C77),\"\")","v":""},{"$f":"IFERROR(SUMIFS('Vehicle Type Count by Agency'!BI:BI,'Vehicle Type Count by Agency'!$C:$C,\"=\"&$C77)/SUMIFS('Vehicle Type Count by Agency'!BH:BH,'Vehicle Type Count by Agency'!$C:$C,\"=\"&$C77),\"\")","v":5.3343949044585989E-2}]
[null,null,"NY","New York",null,{"$f":"IFERROR(SUMIFS('Vehicle Type Count by Agency'!K:K,'Vehicle Type Count by Agency'!$C:$C,\"=\"&$C78)/SUMIFS('Vehicle Type Count by Agency'!J:J,'Vehicle Type Count by Agency'!$C:$C,\"=\"&$C78),\"\")","v":0.14307078763708872},{"$f":"IFERROR(SUMIFS('Vehicle Type Count by Agency'!M:M,'Vehicle Type Count by Agency'!$C:$C,\"=\"&$C78)/SUMIFS('Vehicle Type Count by Agency'!L:L,'Vehicle Type Count by Agency'!$C:$C,\"=\"&$C78),\"\")","v":9.4094094094094097E-2},{"$f":"IFERROR(SUMIFS('Vehicle Type Count by Agency'!O:O,'Vehicle Type Count by Agency'!$C:$C,\"=\"&$C78)/SUMIFS('Vehicle Type Count by Agency'!N:N,'Vehicle Type Count by Agency'!$C:$C,\"=\"&$C78),\"\")","v":0.31390831390831392},{"$f":"IFERROR(SUMIFS('Vehicle Type Count by Agency'!Q:Q,'Vehicle Type Count by Agency'!$C:$C,\"=\"&$C78)/SUMIFS('Vehicle Type Count by Agency'!P:P,'Vehicle Type Count by Agency'!$C:$C,\"=\"&$C78),\"\")","v":""},{"$f":"IFERROR(SUMIFS('Vehicle Type Count by Agency'!S:S,'Vehicle Type Count by Agency'!$C:$C,\"=\"&$C78)/SUMIFS('Vehicle Type Count by Agency'!R:R,'Vehicle Type Count by Agency'!$C:$C,\"=\"&$C78),\"\")","v":""},{"$f":"IFERROR(SUMIFS('Vehicle Type Count by Agency'!U:U,'Vehicle Type Count by Agency'!$C:$C,\"=\"&$C78)/SUMIFS('Vehicle Type Count by Agency'!T:T,'Vehicle Type Count by Agency'!$C:$C,\"=\"&$C78),\"\")","v":2.9197080291970802E-2},{"$f":"IFERROR(SUMIFS('Vehicle Type Count by Agency'!W:W,'Vehicle Type Count by Agency'!$C:$C,\"=\"&$C78)/SUMIFS('Vehicle Type Count by Agency'!V:V,'Vehicle Type Count by Agency'!$C:$C,\"=\"&$C78),\"\")","v":0.34562211981566821},{"$f":"IFERROR(SUMIFS('Vehicle Type Count by Agency'!Y:Y,'Vehicle Type Count by Agency'!$C:$C,\"=\"&$C78)/SUMIFS('Vehicle Type Count by Agency'!X:X,'Vehicle Type Count by Agency'!$C:$C,\"=\"&$C78),\"\")","v":0},{"$f":"IFERROR(SUMIFS('Vehicle Type Count by Agency'!AA:AA,'Vehicle Type Count by Agency'!$C:$C,\"=\"&$C78)/SUMIFS('Vehicle Type Count by Agency'!Z:Z,'Vehicle Type Count by Agency'!$C:$C,\"=\"&$C78),\"\")","v":0.1111111111111111},{"$f":"IFERROR(SUMIFS('Vehicle Type Count by Agency'!AC:AC,'Vehicle Type Count by Agency'!$C:$C,\"=\"&$C78)/SUMIFS('Vehicle Type Count by Agency'!AB:AB,'Vehicle Type Count by Agency'!$C:$C,\"=\"&$C78),\"\")","v":4.194260485651214E-2},{"$f":"IFERROR(SUMIFS('Vehicle Type Count by Agency'!AE:AE,'Vehicle Type Count by Agency'!$C:$C,\"=\"&$C78)/SUMIFS('Vehicle Type Count by Agency'!AD:AD,'Vehicle Type Count by Agency'!$C:$C,\"=\"&$C78),\"\")","v":""},{"$f":"IFERROR(SUMIFS('Vehicle Type Count by Agency'!AG:AG,'Vehicle Type Count by Agency'!$C:$C,\"=\"&$C78)/SUMIFS('Vehicle Type Count by Agency'!AF:AF,'Vehicle Type Count by Agency'!$C:$C,\"=\"&$C78),\"\")","v":9.199215804554366E-3},{"$f":"IFERROR(SUMIFS('Vehicle Type Count by Agency'!AI:AI,'Vehicle Type Count by Agency'!$C:$C,\"=\"&$C78)/SUMIFS('Vehicle Type Count by Agency'!AH:AH,'Vehicle Type Count by Agency'!$C:$C,\"=\"&$C78),\"\")","v":1},{"$f":"IFERROR(SUMIFS('Vehicle Type Count by Agency'!AK:AK,'Vehicle Type Count by Agency'!$C:$C,\"=\"&$C78)/SUMIFS('Vehicle Type Count by Agency'!AJ:AJ,'Vehicle Type Count by Agency'!$C:$C,\"=\"&$C78),\"\")","v":0.18235294117647058},{"$f":"IFERROR(SUMIFS('Vehicle Type Count by Agency'!AM:AM,'Vehicle Type Count by Agency'!$C:$C,\"=\"&$C78)/SUMIFS('Vehicle Type Count by Agency'!AL:AL,'Vehicle Type Count by Agency'!$C:$C,\"=\"&$C78),\"\")","v":7.3796791443850263E-2},{"$f":"IFERROR(SUMIFS('Vehicle Type Count by Agency'!AO:AO,'Vehicle Type Count by Agency'!$C:$C,\"=\"&$C78)/SUMIFS('Vehicle Type Count by Agency'!AN:AN,'Vehicle Type Count by Agency'!$C:$C,\"=\"&$C78),\"\")","v":0},{"$f":"IFERROR(SUMIFS('Vehicle Type Count by Agency'!AQ:AQ,'Vehicle Type Count by Agency'!$C:$C,\"=\"&$C78)/SUMIFS('Vehicle Type Count by Agency'!AP:AP,'Vehicle Type Count by Agency'!$C:$C,\"=\"&$C78),\"\")","v":""},{"$f":"IFERROR(SUMIFS('Vehicle Type Count by Agency'!AS:AS,'Vehicle Type Count by Agency'!$C:$C,\"=\"&$C78)/SUMIFS('Vehicle Type Count by Agency'!AR:AR,'Vehicle Type Count by Agency'!$C:$C,\"=\"&$C78),\"\")","v":""},{"$f":"IFERROR(SUMIFS('Vehicle Type Count by Agency'!AU:AU,'Vehicle Type Count by Agency'!$C:$C,\"=\"&$C78)/SUMIFS('Vehicle Type Count by Agency'!AT:AT,'Vehicle Type Count by Agency'!$C:$C,\"=\"&$C78),\"\")","v":""},{"$f":"IFERROR(SUMIFS('Vehicle Type Count by Agency'!AW:AW,'Vehicle Type Count by Agency'!$C:$C,\"=\"&$C78)/SUMIFS('Vehicle Type Count by Agency'!AV:AV,'Vehicle Type Count by Agency'!$C:$C,\"=\"&$C78),\"\")","v":""},{"$f":"IFERROR(SUMIFS('Vehicle Type Count by Agency'!AY:AY,'Vehicle Type Count by Agency'!$C:$C,\"=\"&$C78)/SUMIFS('Vehicle Type Count by Agency'!AX:AX,'Vehicle Type Count by Agency'!$C:$C,\"=\"&$C78),\"\")","v":""},{"$f":"IFERROR(SUMIFS('Vehicle Type Count by Agency'!BA:BA,'Vehicle Type Count by Agency'!$C:$C,\"=\"&$C78)/SUMIFS('Vehicle Type Count by Agency'!AZ:AZ,'Vehicle Type Count by Agency'!$C:$C,\"=\"&$C78),\"\")","v":""},{"$f":"IFERROR(SUMIFS('Vehicle Type Count by Agency'!BC:BC,'Vehicle Type Count by Agency'!$C:$C,\"=\"&$C78)/SUMIFS('Vehicle Type Count by Agency'!BB:BB,'Vehicle Type Count by Agency'!$C:$C,\"=\"&$C78),\"\")","v":""},{"$f":"IFERROR(SUMIFS('Vehicle Type Count by Agency'!BE:BE,'Vehicle Type Count by Agency'!$C:$C,\"=\"&$C78)/SUMIFS('Vehicle Type Count by Agency'!BD:BD,'Vehicle Type Count by Agency'!$C:$C,\"=\"&$C78),\"\")","v":2.7777777777777776E-2},{"$f":"IFERROR(SUMIFS('Vehicle Type Count by Agency'!BG:BG,'Vehicle Type Count by Agency'!$C:$C,\"=\"&$C78)/SUMIFS('Vehicle Type Count by Agency'!BF:BF,'Vehicle Type Count by Agency'!$C:$C,\"=\"&$C78),\"\")","v":""},{"$f":"IFERROR(SUMIFS('Vehicle Type Count by Agency'!BI:BI,'Vehicle Type Count by Agency'!$C:$C,\"=\"&$C78)/SUMIFS('Vehicle Type Count by Agency'!BH:BH,'Vehicle Type Count by Agency'!$C:$C,\"=\"&$C78),\"\")","v":0.11443198439785471}]
[null,null,"OH","Ohio",null,{"$f":"IFERROR(SUMIFS('Vehicle Type Count by Agency'!K:K,'Vehicle Type Count by Agency'!$C:$C,\"=\"&$C79)/SUMIFS('Vehicle Type Count by Agency'!J:J,'Vehicle Type Count by Agency'!$C:$C,\"=\"&$C79),\"\")","v":0.17761989342806395},{"$f":"IFERROR(SUMIFS('Vehicle Type Count by Agency'!M:M,'Vehicle Type Count by Agency'!$C:$C,\"=\"&$C79)/SUMIFS('Vehicle Type Count by Agency'!L:L,'Vehicle Type Count by Agency'!$C:$C,\"=\"&$C79),\"\")","v":0},{"$f":"IFERROR(SUMIFS('Vehicle Type Count by Agency'!O:O,'Vehicle Type Count by Agency'!$C:$C,\"=\"&$C79)/SUMIFS('Vehicle Type Count by Agency'!N:N,'Vehicle Type Count by Agency'!$C:$C,\"=\"&$C79),\"\")","v":0.25490196078431371},{"$f":"IFERROR(SUMIFS('Vehicle Type Count by Agency'!Q:Q,'Vehicle Type Count by Agency'!$C:$C,\"=\"&$C79)/SUMIFS('Vehicle Type Count by Agency'!P:P,'Vehicle Type Count by Agency'!$C:$C,\"=\"&$C79),\"\")","v":""},{"$f":"IFERROR(SUMIFS('Vehicle Type Count by Agency'!S:S,'Vehicle Type Count by Agency'!$C:$C,\"=\"&$C79)/SUMIFS('Vehicle Type Count by Agency'!R:R,'Vehicle Type Count by Agency'!$C:$C,\"=\"&$C79),\"\")","v":0.4},{"$f":"IFERROR(SUMIFS('Vehicle Type Count by Agency'!U:U,'Vehicle Type Count by Agency'!$C:$C,\"=\"&$C79)/SUMIFS('Vehicle Type Count by Agency'!T:T,'Vehicle Type Count by Agency'!$C:$C,\"=\"&$C79),\"\")","v":0.24579124579124578},{"$f":"IFERROR(SUMIFS('Vehicle Type Count by Agency'!W:W,'Vehicle Type Count by Agency'!$C:$C,\"=\"&$C79)/SUMIFS('Vehicle Type Count by Agency'!V:V,'Vehicle Type Count by Agency'!$C:$C,\"=\"&$C79),\"\")","v":0.13905775075987842},{"$f":"IFERROR(SUMIFS('Vehicle Type Count by Agency'!Y:Y,'Vehicle Type Count by Agency'!$C:$C,\"=\"&$C79)/SUMIFS('Vehicle Type Count by Agency'!X:X,'Vehicle Type Count by Agency'!$C:$C,\"=\"&$C79),\"\")","v":2.717391304347826E-2},{"$f":"IFERROR(SUMIFS('Vehicle Type Count by Agency'!AA:AA,'Vehicle Type Count by Agency'!$C:$C,\"=\"&$C79)/SUMIFS('Vehicle Type Count by Agency'!Z:Z,'Vehicle Type Count by Agency'!$C:$C,\"=\"&$C79),\"\")","v":0.20040899795501022},{"$f":"IFERROR(SUMIFS('Vehicle Type Count by Agency'!AC:AC,'Vehicle Type Count by Agency'!$C:$C,\"=\"&$C79)/SUMIFS('Vehicle Type Count by Agency'!AB:AB,'Vehicle Type Count by Agency'!$C:$C,\"=\"&$C79),\"\")","v":0.25},{"$f":"IFERROR(SUMIFS('Vehicle Type Count by Agency'!AE:AE,'Vehicle Type Count by Agency'!$C:$C,\"=\"&$C79)/SUMIFS('Vehicle Type Count by Agency'!AD:AD,'Vehicle Type Count by Agency'!$C:$C,\"=\"&$C79),\"\")","v":0.89189189189189189},{"$f":"IFERROR(SUMIFS('Vehicle Type Count by Agency'!AG:AG,'Vehicle Type Count by Agency'!$C:$C,\"=\"&$C79)/SUMIFS('Vehicle Type Count by Agency'!AF:AF,'Vehicle Type Count by Agency'!$C:$C,\"=\"&$C79),\"\")","v":1},{"$f":"IFERROR(SUMIFS('Vehicle Type Count by Agency'!AI:AI,'Vehicle Type Count by Agency'!$C:$C,\"=\"&$C79)/SUMIFS('Vehicle Type Count by Agency'!AH:AH,'Vehicle Type Count by Agency'!$C:$C,\"=\"&$C79),\"\")","v":1},{"$f":"IFERROR(SUMIFS('Vehicle Type Count by Agency'!AK:AK,'Vehicle Type Count by Agency'!$C:$C,\"=\"&$C79)/SUMIFS('Vehicle Type Count by Agency'!AJ:AJ,'Vehicle Type Count by Agency'!$C:$C,\"=\"&$C79),\"\")","v":""},{"$f":"IFERROR(SUMIFS('Vehicle Type Count by Agency'!AM:AM,'Vehicle Type Count by Agency'!$C:$C,\"=\"&$C79)/SUMIFS('Vehicle Type Count by Agency'!AL:AL,'Vehicle Type Count by Agency'!$C:$C,\"=\"&$C79),\"\")","v":""},{"$f":"IFERROR(SUMIFS('Vehicle Type Count by Agency'!AO:AO,'Vehicle Type Count by Agency'!$C:$C,\"=\"&$C79)/SUMIFS('Vehicle Type Count by Agency'!AN:AN,'Vehicle Type Count by Agency'!$C:$C,\"=\"&$C79),\"\")","v":""},{"$f":"IFERROR(SUMIFS('Vehicle Type Count by Agency'!AQ:AQ,'Vehicle Type Count by Agency'!$C:$C,\"=\"&$C79)/SUMIFS('Vehicle Type Count by Agency'!AP:AP,'Vehicle Type Count by Agency'!$C:$C,\"=\"&$C79),\"\")","v":""},{"$f":"IFERROR(SUMIFS('Vehicle Type Count by Agency'!AS:AS,'Vehicle Type Count by Agency'!$C:$C,\"=\"&$C79)/SUMIFS('Vehicle Type Count by Agency'!AR:AR,'Vehicle Type Count by Agency'!$C:$C,\"=\"&$C79),\"\")","v":""},{"$f":"IFERROR(SUMIFS('Vehicle Type Count by Agency'!AU:AU,'Vehicle Type Count by Agency'!$C:$C,\"=\"&$C79)/SUMIFS('Vehicle Type Count by Agency'!AT:AT,'Vehicle Type Count by Agency'!$C:$C,\"=\"&$C79),\"\")","v":0},{"$f":"IFERROR(SUMIFS('Vehicle Type Count by Agency'!AW:AW,'Vehicle Type Count by Agency'!$C:$C,\"=\"&$C79)/SUMIFS('Vehicle Type Count by Agency'!AV:AV,'Vehicle Type Count by Agency'!$C:$C,\"=\"&$C79),\"\")","v":""},{"$f":"IFERROR(SUMIFS('Vehicle Type Count by Agency'!AY:AY,'Vehicle Type Count by Agency'!$C:$C,\"=\"&$C79)/SUMIFS('Vehicle Type Count by Agency'!AX:AX,'Vehicle Type Count by Agency'!$C:$C,\"=\"&$C79),\"\")","v":""},{"$f":"IFERROR(SUMIFS('Vehicle Type Count by Agency'!BA:BA,'Vehicle Type Count by Agency'!$C:$C,\"=\"&$C79)/SUMIFS('Vehicle Type Count by Agency'!AZ:AZ,'Vehicle Type Count by Agency'!$C:$C,\"=\"&$C79),\"\")","v":""},{"$f":"IFERROR(SUMIFS('Vehicle Type Count by Agency'!BC:BC,'Vehicle Type Count by Agency'!$C:$C,\"=\"&$C79)/SUMIFS('Vehicle Type Count by Agency'!BB:BB,'Vehicle Type Count by Agency'!$C:$C,\"=\"&$C79),\"\")","v":""},{"$f":"IFERROR(SUMIFS('Vehicle Type Count by Agency'!BE:BE,'Vehicle Type Count by Agency'!$C:$C,\"=\"&$C79)/SUMIFS('Vehicle Type Count by Agency'!BD:BD,'Vehicle Type Count by Agency'!$C:$C,\"=\"&$C79),\"\")","v":""},{"$f":"IFERROR(SUMIFS('Vehicle Type Count by Agency'!BG:BG,'Vehicle Type Count by Agency'!$C:$C,\"=\"&$C79)/SUMIFS('Vehicle Type Count by Agency'!BF:BF,'Vehicle Type Count by Agency'!$C:$C,\"=\"&$C79),\"\")","v":""},{"$f":"IFERROR(SUMIFS('Vehicle Type Count by Agency'!BI:BI,'Vehicle Type Count by Agency'!$C:$C,\"=\"&$C79)/SUMIFS('Vehicle Type Count by Agency'!BH:BH,'Vehicle Type Count by Agency'!$C:$C,\"=\"&$C79),\"\")","v":0.18516769012753898}]
[null,null,"OK","Oklahoma",null,{"$f":"IFERROR(SUMIFS('Vehicle Type Count by Agency'!K:K,'Vehicle Type Count by Agency'!$C:$C,\"=\"&$C80)/SUMIFS('Vehicle Type Count by Agency'!J:J,'Vehicle Type Count by Agency'!$C:$C,\"=\"&$C80),\"\")","v":0.22167487684729065},{"$f":"IFERROR(SUMIFS('Vehicle Type Count by Agency'!M:M,'Vehicle Type Count by Agency'!$C:$C,\"=\"&$C80)/SUMIFS('Vehicle Type Count by Agency'!L:L,'Vehicle Type Count by Agency'!$C:$C,\"=\"&$C80),\"\")","v":""},{"$f":"IFERROR(SUMIFS('Vehicle Type Count by Agency'!O:O,'Vehicle Type Count by Agency'!$C:$C,\"=\"&$C80)/SUMIFS('Vehicle Type Count by Agency'!N:N,'Vehicle Type Count by Agency'!$C:$C,\"=\"&$C80),\"\")","v":0.2},{"$f":"IFERROR(SUMIFS('Vehicle Type Count by Agency'!Q:Q,'Vehicle Type Count by Agency'!$C:$C,\"=\"&$C80)/SUMIFS('Vehicle Type Count by Agency'!P:P,'Vehicle Type Count by Agency'!$C:$C,\"=\"&$C80),\"\")","v":""},{"$f":"IFERROR(SUMIFS('Vehicle Type Count by Agency'!S:S,'Vehicle Type Count by Agency'!$C:$C,\"=\"&$C80)/SUMIFS('Vehicle Type Count by Agency'!R:R,'Vehicle Type Count by Agency'!$C:$C,\"=\"&$C80),\"\")","v":0},{"$f":"IFERROR(SUMIFS('Vehicle Type Count by Agency'!U:U,'Vehicle Type Count by Agency'!$C:$C,\"=\"&$C80)/SUMIFS('Vehicle Type Count by Agency'!T:T,'Vehicle Type Count by Agency'!$C:$C,\"=\"&$C80),\"\")","v":0.33636363636363636},{"$f":"IFERROR(SUMIFS('Vehicle Type Count by Agency'!W:W,'Vehicle Type Count by Agency'!$C:$C,\"=\"&$C80)/SUMIFS('Vehicle Type Count by Agency'!V:V,'Vehicle Type Count by Agency'!$C:$C,\"=\"&$C80),\"\")","v":0.35281837160751567},{"$f":"IFERROR(SUMIFS('Vehicle Type Count by Agency'!Y:Y,'Vehicle Type Count by Agency'!$C:$C,\"=\"&$C80)/SUMIFS('Vehicle Type Count by Agency'!X:X,'Vehicle Type Count by Agency'!$C:$C,\"=\"&$C80),\"\")","v":0.35},{"$f":"IFERROR(SUMIFS('Vehicle Type Count by Agency'!AA:AA,'Vehicle Type Count by Agency'!$C:$C,\"=\"&$C80)/SUMIFS('Vehicle Type Count by Agency'!Z:Z,'Vehicle Type Count by Agency'!$C:$C,\"=\"&$C80),\"\")","v":0.34615384615384615},{"$f":"IFERROR(SUMIFS('Vehicle Type Count by Agency'!AC:AC,'Vehicle Type Count by Agency'!$C:$C,\"=\"&$C80)/SUMIFS('Vehicle Type Count by Agency'!AB:AB,'Vehicle Type Count by Agency'!$C:$C,\"=\"&$C80),\"\")","v":1.6666666666666666E-2},{"$f":"IFERROR(SUMIFS('Vehicle Type Count by Agency'!AE:AE,'Vehicle Type Count by Agency'!$C:$C,\"=\"&$C80)/SUMIFS('Vehicle Type Count by Agency'!AD:AD,'Vehicle Type Count by Agency'!$C:$C,\"=\"&$C80),\"\")","v":""},{"$f":"IFERROR(SUMIFS('Vehicle Type Count by Agency'!AG:AG,'Vehicle Type Count by Agency'!$C:$C,\"=\"&$C80)/SUMIFS('Vehicle Type Count by Agency'!AF:AF,'Vehicle Type Count by Agency'!$C:$C,\"=\"&$C80),\"\")","v":""},{"$f":"IFERROR(SUMIFS('Vehicle Type Count by Agency'!AI:AI,'Vehicle Type Count by Agency'!$C:$C,\"=\"&$C80)/SUMIFS('Vehicle Type Count by Agency'!AH:AH,'Vehicle Type Count by Agency'!$C:$C,\"=\"&$C80),\"\")","v":""},{"$f":"IFERROR(SUMIFS('Vehicle Type Count by Agency'!AK:AK,'Vehicle Type Count by Agency'!$C:$C,\"=\"&$C80)/SUMIFS('Vehicle Type Count by Agency'!AJ:AJ,'Vehicle Type Count by Agency'!$C:$C,\"=\"&$C80),\"\")","v":""},{"$f":"IFERROR(SUMIFS('Vehicle Type Count by Agency'!AM:AM,'Vehicle Type Count by Agency'!$C:$C,\"=\"&$C80)/SUMIFS('Vehicle Type Count by Agency'!AL:AL,'Vehicle Type Count by Agency'!$C:$C,\"=\"&$C80),\"\")","v":""},{"$f":"IFERROR(SUMIFS('Vehicle Type Count by Agency'!AO:AO,'Vehicle Type Count by Agency'!$C:$C,\"=\"&$C80)/SUMIFS('Vehicle Type Count by Agency'!AN:AN,'Vehicle Type Count by Agency'!$C:$C,\"=\"&$C80),\"\")","v":""},{"$f":"IFERROR(SUMIFS('Vehicle Type Count by Agency'!AQ:AQ,'Vehicle Type Count by Agency'!$C:$C,\"=\"&$C80)/SUMIFS('Vehicle Type Count by Agency'!AP:AP,'Vehicle Type Count by Agency'!$C:$C,\"=\"&$C80),\"\")","v":""},{"$f":"IFERROR(SUMIFS('Vehicle Type Count by Agency'!AS:AS,'Vehicle Type Count by Agency'!$C:$C,\"=\"&$C80)/SUMIFS('Vehicle Type Count by Agency'!AR:AR,'Vehicle Type Count by Agency'!$C:$C,\"=\"&$C80),\"\")","v":""},{"$f":"IFERROR(SUMIFS('Vehicle Type Count by Agency'!AU:AU,'Vehicle Type Count by Agency'!$C:$C,\"=\"&$C80)/SUMIFS('Vehicle Type Count by Agency'!AT:AT,'Vehicle Type Count by Agency'!$C:$C,\"=\"&$C80),\"\")","v":""},{"$f":"IFERROR(SUMIFS('Vehicle Type Count by Agency'!AW:AW,'Vehicle Type Count by Agency'!$C:$C,\"=\"&$C80)/SUMIFS('Vehicle Type Count by Agency'!AV:AV,'Vehicle Type Count by Agency'!$C:$C,\"=\"&$C80),\"\")","v":""},{"$f":"IFERROR(SUMIFS('Vehicle Type Count by Agency'!AY:AY,'Vehicle Type Count by Agency'!$C:$C,\"=\"&$C80)/SUMIFS('Vehicle Type Count by Agency'!AX:AX,'Vehicle Type Count by Agency'!$C:$C,\"=\"&$C80),\"\")","v":""},{"$f":"IFERROR(SUMIFS('Vehicle Type Count by Agency'!BA:BA,'Vehicle Type Count by Agency'!$C:$C,\"=\"&$C80)/SUMIFS('Vehicle Type Count by Agency'!AZ:AZ,'Vehicle Type Count by Agency'!$C:$C,\"=\"&$C80),\"\")","v":""},{"$f":"IFERROR(SUMIFS('Vehicle Type Count by Agency'!BC:BC,'Vehicle Type Count by Agency'!$C:$C,\"=\"&$C80)/SUMIFS('Vehicle Type Count by Agency'!BB:BB,'Vehicle Type Count by Agency'!$C:$C,\"=\"&$C80),\"\")","v":""},{"$f":"IFERROR(SUMIFS('Vehicle Type Count by Agency'!BE:BE,'Vehicle Type Count by Agency'!$C:$C,\"=\"&$C80)/SUMIFS('Vehicle Type Count by Agency'!BD:BD,'Vehicle Type Count by Agency'!$C:$C,\"=\"&$C80),\"\")","v":0},{"$f":"IFERROR(SUMIFS('Vehicle Type Count by Agency'!BG:BG,'Vehicle Type Count by Agency'!$C:$C,\"=\"&$C80)/SUMIFS('Vehicle Type Count by Agency'!BF:BF,'Vehicle Type Count by Agency'!$C:$C,\"=\"&$C80),\"\")","v":""},{"$f":"IFERROR(SUMIFS('Vehicle Type Count by Agency'!BI:BI,'Vehicle Type Count by Agency'!$C:$C,\"=\"&$C80)/SUMIFS('Vehicle Type Count by Agency'!BH:BH,'Vehicle Type Count by Agency'!$C:$C,\"=\"&$C80),\"\")","v":0.31365576102418208}]
[null,null,"OR","Oregon",null,{"$f":"IFERROR(SUMIFS('Vehicle Type Count by Agency'!K:K,'Vehicle Type Count by Agency'!$C:$C,\"=\"&$C81)/SUMIFS('Vehicle Type Count by Agency'!J:J,'Vehicle Type Count by Agency'!$C:$C,\"=\"&$C81),\"\")","v":0.2479757085020243},{"$f":"IFERROR(SUMIFS('Vehicle Type Count by Agency'!M:M,'Vehicle Type Count by Agency'!$C:$C,\"=\"&$C81)/SUMIFS('Vehicle Type Count by Agency'!L:L,'Vehicle Type Count by Agency'!$C:$C,\"=\"&$C81),\"\")","v":3.125E-2},{"$f":"IFERROR(SUMIFS('Vehicle Type Count by Agency'!O:O,'Vehicle Type Count by Agency'!$C:$C,\"=\"&$C81)/SUMIFS('Vehicle Type Count by Agency'!N:N,'Vehicle Type Count by Agency'!$C:$C,\"=\"&$C81),\"\")","v":""},{"$f":"IFERROR(SUMIFS('Vehicle Type Count by Agency'!Q:Q,'Vehicle Type Count by Agency'!$C:$C,\"=\"&$C81)/SUMIFS('Vehicle Type Count by Agency'!P:P,'Vehicle Type Count by Agency'!$C:$C,\"=\"&$C81),\"\")","v":""},{"$f":"IFERROR(SUMIFS('Vehicle Type Count by Agency'!S:S,'Vehicle Type Count by Agency'!$C:$C,\"=\"&$C81)/SUMIFS('Vehicle Type Count by Agency'!R:R,'Vehicle Type Count by Agency'!$C:$C,\"=\"&$C81),\"\")","v":""},{"$f":"IFERROR(SUMIFS('Vehicle Type Count by Agency'!U:U,'Vehicle Type Count by Agency'!$C:$C,\"=\"&$C81)/SUMIFS('Vehicle Type Count by Agency'!T:T,'Vehicle Type Count by Agency'!$C:$C,\"=\"&$C81),\"\")","v":0.14000000000000001},{"$f":"IFERROR(SUMIFS('Vehicle Type Count by Agency'!W:W,'Vehicle Type Count by Agency'!$C:$C,\"=\"&$C81)/SUMIFS('Vehicle Type Count by Agency'!V:V,'Vehicle Type Count by Agency'!$C:$C,\"=\"&$C81),\"\")","v":0.2446043165467626},{"$f":"IFERROR(SUMIFS('Vehicle Type Count by Agency'!Y:Y,'Vehicle Type Count by Agency'!$C:$C,\"=\"&$C81)/SUMIFS('Vehicle Type Count by Agency'!X:X,'Vehicle Type Count by Agency'!$C:$C,\"=\"&$C81),\"\")","v":4.4117647058823532E-2},{"$f":"IFERROR(SUMIFS('Vehicle Type Count by Agency'!AA:AA,'Vehicle Type Count by Agency'!$C:$C,\"=\"&$C81)/SUMIFS('Vehicle Type Count by Agency'!Z:Z,'Vehicle Type Count by Agency'!$C:$C,\"=\"&$C81),\"\")","v":0.25517241379310346},{"$f":"IFERROR(SUMIFS('Vehicle Type Count by Agency'!AC:AC,'Vehicle Type Count by Agency'!$C:$C,\"=\"&$C81)/SUMIFS('Vehicle Type Count by Agency'!AB:AB,'Vehicle Type Count by Agency'!$C:$C,\"=\"&$C81),\"\")","v":9.0909090909090912E-2},{"$f":"IFERROR(SUMIFS('Vehicle Type Count by Agency'!AE:AE,'Vehicle Type Count by Agency'!$C:$C,\"=\"&$C81)/SUMIFS('Vehicle Type Count by Agency'!AD:AD,'Vehicle Type Count by Agency'!$C:$C,\"=\"&$C81),\"\")","v":""},{"$f":"IFERROR(SUMIFS('Vehicle Type Count by Agency'!AG:AG,'Vehicle Type Count by Agency'!$C:$C,\"=\"&$C81)/SUMIFS('Vehicle Type Count by Agency'!AF:AF,'Vehicle Type Count by Agency'!$C:$C,\"=\"&$C81),\"\")","v":""},{"$f":"IFERROR(SUMIFS('Vehicle Type Count by Agency'!AI:AI,'Vehicle Type Count by Agency'!$C:$C,\"=\"&$C81)/SUMIFS('Vehicle Type Count by Agency'!AH:AH,'Vehicle Type Count by Agency'!$C:$C,\"=\"&$C81),\"\")","v":0},{"$f":"IFERROR(SUMIFS('Vehicle Type Count by Agency'!AK:AK,'Vehicle Type Count by Agency'!$C:$C,\"=\"&$C81)/SUMIFS('Vehicle Type Count by Agency'!AJ:AJ,'Vehicle Type Count by Agency'!$C:$C,\"=\"&$C81),\"\")","v":0},{"$f":"IFERROR(SUMIFS('Vehicle Type Count by Agency'!AM:AM,'Vehicle Type Count by Agency'!$C:$C,\"=\"&$C81)/SUMIFS('Vehicle Type Count by Agency'!AL:AL,'Vehicle Type Count by Agency'!$C:$C,\"=\"&$C81),\"\")","v":0.4},{"$f":"IFERROR(SUMIFS('Vehicle Type Count by Agency'!AO:AO,'Vehicle Type Count by Agency'!$C:$C,\"=\"&$C81)/SUMIFS('Vehicle Type Count by Agency'!AN:AN,'Vehicle Type Count by Agency'!$C:$C,\"=\"&$C81),\"\")","v":""},{"$f":"IFERROR(SUMIFS('Vehicle Type Count by Agency'!AQ:AQ,'Vehicle Type Count by Agency'!$C:$C,\"=\"&$C81)/SUMIFS('Vehicle Type Count by Agency'!AP:AP,'Vehicle Type Count by Agency'!$C:$C,\"=\"&$C81),\"\")","v":""},{"$f":"IFERROR(SUMIFS('Vehicle Type Count by Agency'!AS:AS,'Vehicle Type Count by Agency'!$C:$C,\"=\"&$C81)/SUMIFS('Vehicle Type Count by Agency'!AR:AR,'Vehicle Type Count by Agency'!$C:$C,\"=\"&$C81),\"\")","v":""},{"$f":"IFERROR(SUMIFS('Vehicle Type Count by Agency'!AU:AU,'Vehicle Type Count by Agency'!$C:$C,\"=\"&$C81)/SUMIFS('Vehicle Type Count by Agency'!AT:AT,'Vehicle Type Count by Agency'!$C:$C,\"=\"&$C81),\"\")","v":0},{"$f":"IFERROR(SUMIFS('Vehicle Type Count by Agency'!AW:AW,'Vehicle Type Count by Agency'!$C:$C,\"=\"&$C81)/SUMIFS('Vehicle Type Count by Agency'!AV:AV,'Vehicle Type Count by Agency'!$C:$C,\"=\"&$C81),\"\")","v":0},{"$f":"IFERROR(SUMIFS('Vehicle Type Count by Agency'!AY:AY,'Vehicle Type Count by Agency'!$C:$C,\"=\"&$C81)/SUMIFS('Vehicle Type Count by Agency'!AX:AX,'Vehicle Type Count by Agency'!$C:$C,\"=\"&$C81),\"\")","v":""},{"$f":"IFERROR(SUMIFS('Vehicle Type Count by Agency'!BA:BA,'Vehicle Type Count by Agency'!$C:$C,\"=\"&$C81)/SUMIFS('Vehicle Type Count by Agency'!AZ:AZ,'Vehicle Type Count by Agency'!$C:$C,\"=\"&$C81),\"\")","v":""},{"$f":"IFERROR(SUMIFS('Vehicle Type Count by Agency'!BC:BC,'Vehicle Type Count by Agency'!$C:$C,\"=\"&$C81)/SUMIFS('Vehicle Type Count by Agency'!BB:BB,'Vehicle Type Count by Agency'!$C:$C,\"=\"&$C81),\"\")","v":""},{"$f":"IFERROR(SUMIFS('Vehicle Type Count by Agency'!BE:BE,'Vehicle Type Count by Agency'!$C:$C,\"=\"&$C81)/SUMIFS('Vehicle Type Count by Agency'!BD:BD,'Vehicle Type Count by Agency'!$C:$C,\"=\"&$C81),\"\")","v":""},{"$f":"IFERROR(SUMIFS('Vehicle Type Count by Agency'!BG:BG,'Vehicle Type Count by Agency'!$C:$C,\"=\"&$C81)/SUMIFS('Vehicle Type Count by Agency'!BF:BF,'Vehicle Type Count by Agency'!$C:$C,\"=\"&$C81),\"\")","v":""},{"$f":"IFERROR(SUMIFS('Vehicle Type Count by Agency'!BI:BI,'Vehicle Type Count by Agency'!$C:$C,\"=\"&$C81)/SUMIFS('Vehicle Type Count by Agency'!BH:BH,'Vehicle Type Count by Agency'!$C:$C,\"=\"&$C81),\"\")","v":0.19414194517461508}]
[null,null,"PA","Pennsylvania",null,{"$f":"IFERROR(SUMIFS('Vehicle Type Count by Agency'!K:K,'Vehicle Type Count by Agency'!$C:$C,\"=\"&$C82)/SUMIFS('Vehicle Type Count by Agency'!J:J,'Vehicle Type Count by Agency'!$C:$C,\"=\"&$C82),\"\")","v":0.30220955096222379},{"$f":"IFERROR(SUMIFS('Vehicle Type Count by Agency'!M:M,'Vehicle Type Count by Agency'!$C:$C,\"=\"&$C82)/SUMIFS('Vehicle Type Count by Agency'!L:L,'Vehicle Type Count by Agency'!$C:$C,\"=\"&$C82),\"\")","v":2.5078369905956112E-2},{"$f":"IFERROR(SUMIFS('Vehicle Type Count by Agency'!O:O,'Vehicle Type Count by Agency'!$C:$C,\"=\"&$C82)/SUMIFS('Vehicle Type Count by Agency'!N:N,'Vehicle Type Count by Agency'!$C:$C,\"=\"&$C82),\"\")","v":5.3846153846153849E-2},{"$f":"IFERROR(SUMIFS('Vehicle Type Count by Agency'!Q:Q,'Vehicle Type Count by Agency'!$C:$C,\"=\"&$C82)/SUMIFS('Vehicle Type Count by Agency'!P:P,'Vehicle Type Count by Agency'!$C:$C,\"=\"&$C82),\"\")","v":""},{"$f":"IFERROR(SUMIFS('Vehicle Type Count by Agency'!S:S,'Vehicle Type Count by Agency'!$C:$C,\"=\"&$C82)/SUMIFS('Vehicle Type Count by Agency'!R:R,'Vehicle Type Count by Agency'!$C:$C,\"=\"&$C82),\"\")","v":""},{"$f":"IFERROR(SUMIFS('Vehicle Type Count by Agency'!U:U,'Vehicle Type Count by Agency'!$C:$C,\"=\"&$C82)/SUMIFS('Vehicle Type Count by Agency'!T:T,'Vehicle Type Count by Agency'!$C:$C,\"=\"&$C82),\"\")","v":0.16119402985074627},{"$f":"IFERROR(SUMIFS('Vehicle Type Count by Agency'!W:W,'Vehicle Type Count by Agency'!$C:$C,\"=\"&$C82)/SUMIFS('Vehicle Type Count by Agency'!V:V,'Vehicle Type Count by Agency'!$C:$C,\"=\"&$C82),\"\")","v":0.23802612481857766},{"$f":"IFERROR(SUMIFS('Vehicle Type Count by Agency'!Y:Y,'Vehicle Type Count by Agency'!$C:$C,\"=\"&$C82)/SUMIFS('Vehicle Type Count by Agency'!X:X,'Vehicle Type Count by Agency'!$C:$C,\"=\"&$C82),\"\")","v":1.3452914798206279E-2},{"$f":"IFERROR(SUMIFS('Vehicle Type Count by Agency'!AA:AA,'Vehicle Type Count by Agency'!$C:$C,\"=\"&$C82)/SUMIFS('Vehicle Type Count by Agency'!Z:Z,'Vehicle Type Count by Agency'!$C:$C,\"=\"&$C82),\"\")","v":0.18023255813953487},{"$f":"IFERROR(SUMIFS('Vehicle Type Count by Agency'!AC:AC,'Vehicle Type Count by Agency'!$C:$C,\"=\"&$C82)/SUMIFS('Vehicle Type Count by Agency'!AB:AB,'Vehicle Type Count by Agency'!$C:$C,\"=\"&$C82),\"\")","v":0},{"$f":"IFERROR(SUMIFS('Vehicle Type Count by Agency'!AE:AE,'Vehicle Type Count by Agency'!$C:$C,\"=\"&$C82)/SUMIFS('Vehicle Type Count by Agency'!AD:AD,'Vehicle Type Count by Agency'!$C:$C,\"=\"&$C82),\"\")","v":0},{"$f":"IFERROR(SUMIFS('Vehicle Type Count by Agency'!AG:AG,'Vehicle Type Count by Agency'!$C:$C,\"=\"&$C82)/SUMIFS('Vehicle Type Count by Agency'!AF:AF,'Vehicle Type Count by Agency'!$C:$C,\"=\"&$C82),\"\")","v":0.34626038781163437},{"$f":"IFERROR(SUMIFS('Vehicle Type Count by Agency'!AI:AI,'Vehicle Type Count by Agency'!$C:$C,\"=\"&$C82)/SUMIFS('Vehicle Type Count by Agency'!AH:AH,'Vehicle Type Count by Agency'!$C:$C,\"=\"&$C82),\"\")","v":0},{"$f":"IFERROR(SUMIFS('Vehicle Type Count by Agency'!AK:AK,'Vehicle Type Count by Agency'!$C:$C,\"=\"&$C82)/SUMIFS('Vehicle Type Count by Agency'!AJ:AJ,'Vehicle Type Count by Agency'!$C:$C,\"=\"&$C82),\"\")","v":0},{"$f":"IFERROR(SUMIFS('Vehicle Type Count by Agency'!AM:AM,'Vehicle Type Count by Agency'!$C:$C,\"=\"&$C82)/SUMIFS('Vehicle Type Count by Agency'!AL:AL,'Vehicle Type Count by Agency'!$C:$C,\"=\"&$C82),\"\")","v":0.64525139664804465},{"$f":"IFERROR(SUMIFS('Vehicle Type Count by Agency'!AO:AO,'Vehicle Type Count by Agency'!$C:$C,\"=\"&$C82)/SUMIFS('Vehicle Type Count by Agency'!AN:AN,'Vehicle Type Count by Agency'!$C:$C,\"=\"&$C82),\"\")","v":0},{"$f":"IFERROR(SUMIFS('Vehicle Type Count by Agency'!AQ:AQ,'Vehicle Type Count by Agency'!$C:$C,\"=\"&$C82)/SUMIFS('Vehicle Type Count by Agency'!AP:AP,'Vehicle Type Count by Agency'!$C:$C,\"=\"&$C82),\"\")","v":""},{"$f":"IFERROR(SUMIFS('Vehicle Type Count by Agency'!AS:AS,'Vehicle Type Count by Agency'!$C:$C,\"=\"&$C82)/SUMIFS('Vehicle Type Count by Agency'!AR:AR,'Vehicle Type Count by Agency'!$C:$C,\"=\"&$C82),\"\")","v":1},{"$f":"IFERROR(SUMIFS('Vehicle Type Count by Agency'!AU:AU,'Vehicle Type Count by Agency'!$C:$C,\"=\"&$C82)/SUMIFS('Vehicle Type Count by Agency'!AT:AT,'Vehicle Type Count by Agency'!$C:$C,\"=\"&$C82),\"\")","v":1},{"$f":"IFERROR(SUMIFS('Vehicle Type Count by Agency'!AW:AW,'Vehicle Type Count by Agency'!$C:$C,\"=\"&$C82)/SUMIFS('Vehicle Type Count by Agency'!AV:AV,'Vehicle Type Count by Agency'!$C:$C,\"=\"&$C82),\"\")","v":""},{"$f":"IFERROR(SUMIFS('Vehicle Type Count by Agency'!AY:AY,'Vehicle Type Count by Agency'!$C:$C,\"=\"&$C82)/SUMIFS('Vehicle Type Count by Agency'!AX:AX,'Vehicle Type Count by Agency'!$C:$C,\"=\"&$C82),\"\")","v":""},{"$f":"IFERROR(SUMIFS('Vehicle Type Count by Agency'!BA:BA,'Vehicle Type Count by Agency'!$C:$C,\"=\"&$C82)/SUMIFS('Vehicle Type Count by Agency'!AZ:AZ,'Vehicle Type Count by Agency'!$C:$C,\"=\"&$C82),\"\")","v":""},{"$f":"IFERROR(SUMIFS('Vehicle Type Count by Agency'!BC:BC,'Vehicle Type Count by Agency'!$C:$C,\"=\"&$C82)/SUMIFS('Vehicle Type Count by Agency'!BB:BB,'Vehicle Type Count by Agency'!$C:$C,\"=\"&$C82),\"\")","v":0.5},{"$f":"IFERROR(SUMIFS('Vehicle Type Count by Agency'!BE:BE,'Vehicle Type Count by Agency'!$C:$C,\"=\"&$C82)/SUMIFS('Vehicle Type Count by Agency'!BD:BD,'Vehicle Type Count by Agency'!$C:$C,\"=\"&$C82),\"\")","v":""},{"$f":"IFERROR(SUMIFS('Vehicle Type Count by Agency'!BG:BG,'Vehicle Type Count by Agency'!$C:$C,\"=\"&$C82)/SUMIFS('Vehicle Type Count by Agency'!BF:BF,'Vehicle Type Count by Agency'!$C:$C,\"=\"&$C82),\"\")","v":""},{"$f":"IFERROR(SUMIFS('Vehicle Type Count by Agency'!BI:BI,'Vehicle Type Count by Agency'!$C:$C,\"=\"&$C82)/SUMIFS('Vehicle Type Count by Agency'!BH:BH,'Vehicle Type Count by Agency'!$C:$C,\"=\"&$C82),\"\")","v":0.26725039205436485}]
[null,null,"PR","Puerto Rico",null,{"$f":"IFERROR(SUMIFS('Vehicle Type Count by Agency'!K:K,'Vehicle Type Count by Agency'!$C:$C,\"=\"&$C83)/SUMIFS('Vehicle Type Count by Agency'!J:J,'Vehicle Type Count by Agency'!$C:$C,\"=\"&$C83),\"\")","v":0.42815249266862171},{"$f":"IFERROR(SUMIFS('Vehicle Type Count by Agency'!M:M,'Vehicle Type Count by Agency'!$C:$C,\"=\"&$C83)/SUMIFS('Vehicle Type Count by Agency'!L:L,'Vehicle Type Count by Agency'!$C:$C,\"=\"&$C83),\"\")","v":0},{"$f":"IFERROR(SUMIFS('Vehicle Type Count by Agency'!O:O,'Vehicle Type Count by Agency'!$C:$C,\"=\"&$C83)/SUMIFS('Vehicle Type Count by Agency'!N:N,'Vehicle Type Count by Agency'!$C:$C,\"=\"&$C83),\"\")","v":""},{"$f":"IFERROR(SUMIFS('Vehicle Type Count by Agency'!Q:Q,'Vehicle Type Count by Agency'!$C:$C,\"=\"&$C83)/SUMIFS('Vehicle Type Count by Agency'!P:P,'Vehicle Type Count by Agency'!$C:$C,\"=\"&$C83),\"\")","v":""},{"$f":"IFERROR(SUMIFS('Vehicle Type Count by Agency'!S:S,'Vehicle Type Count by Agency'!$C:$C,\"=\"&$C83)/SUMIFS('Vehicle Type Count by Agency'!R:R,'Vehicle Type Count by Agency'!$C:$C,\"=\"&$C83),\"\")","v":0.66666666666666663},{"$f":"IFERROR(SUMIFS('Vehicle Type Count by Agency'!U:U,'Vehicle Type Count by Agency'!$C:$C,\"=\"&$C83)/SUMIFS('Vehicle Type Count by Agency'!T:T,'Vehicle Type Count by Agency'!$C:$C,\"=\"&$C83),\"\")","v":2.6606099935107073E-2},{"$f":"IFERROR(SUMIFS('Vehicle Type Count by Agency'!W:W,'Vehicle Type Count by Agency'!$C:$C,\"=\"&$C83)/SUMIFS('Vehicle Type Count by Agency'!V:V,'Vehicle Type Count by Agency'!$C:$C,\"=\"&$C83),\"\")","v":9.0090090090090086E-2},{"$f":"IFERROR(SUMIFS('Vehicle Type Count by Agency'!Y:Y,'Vehicle Type Count by Agency'!$C:$C,\"=\"&$C83)/SUMIFS('Vehicle Type Count by Agency'!X:X,'Vehicle Type Count by Agency'!$C:$C,\"=\"&$C83),\"\")","v":2.2446689113355782E-3},{"$f":"IFERROR(SUMIFS('Vehicle Type Count by Agency'!AA:AA,'Vehicle Type Count by Agency'!$C:$C,\"=\"&$C83)/SUMIFS('Vehicle Type Count by Agency'!Z:Z,'Vehicle Type Count by Agency'!$C:$C,\"=\"&$C83),\"\")","v":1},{"$f":"IFERROR(SUMIFS('Vehicle Type Count by Agency'!AC:AC,'Vehicle Type Count by Agency'!$C:$C,\"=\"&$C83)/SUMIFS('Vehicle Type Count by Agency'!AB:AB,'Vehicle Type Count by Agency'!$C:$C,\"=\"&$C83),\"\")","v":""},{"$f":"IFERROR(SUMIFS('Vehicle Type Count by Agency'!AE:AE,'Vehicle Type Count by Agency'!$C:$C,\"=\"&$C83)/SUMIFS('Vehicle Type Count by Agency'!AD:AD,'Vehicle Type Count by Agency'!$C:$C,\"=\"&$C83),\"\")","v":""},{"$f":"IFERROR(SUMIFS('Vehicle Type Count by Agency'!AG:AG,'Vehicle Type Count by Agency'!$C:$C,\"=\"&$C83)/SUMIFS('Vehicle Type Count by Agency'!AF:AF,'Vehicle Type Count by Agency'!$C:$C,\"=\"&$C83),\"\")","v":0},{"$f":"IFERROR(SUMIFS('Vehicle Type Count by Agency'!AI:AI,'Vehicle Type Count by Agency'!$C:$C,\"=\"&$C83)/SUMIFS('Vehicle Type Count by Agency'!AH:AH,'Vehicle Type Count by Agency'!$C:$C,\"=\"&$C83),\"\")","v":""},{"$f":"IFERROR(SUMIFS('Vehicle Type Count by Agency'!AK:AK,'Vehicle Type Count by Agency'!$C:$C,\"=\"&$C83)/SUMIFS('Vehicle Type Count by Agency'!AJ:AJ,'Vehicle Type Count by Agency'!$C:$C,\"=\"&$C83),\"\")","v":""},{"$f":"IFERROR(SUMIFS('Vehicle Type Count by Agency'!AM:AM,'Vehicle Type Count by Agency'!$C:$C,\"=\"&$C83)/SUMIFS('Vehicle Type Count by Agency'!AL:AL,'Vehicle Type Count by Agency'!$C:$C,\"=\"&$C83),\"\")","v":""},{"$f":"IFERROR(SUMIFS('Vehicle Type Count by Agency'!AO:AO,'Vehicle Type Count by Agency'!$C:$C,\"=\"&$C83)/SUMIFS('Vehicle Type Count by Agency'!AN:AN,'Vehicle Type Count by Agency'!$C:$C,\"=\"&$C83),\"\")","v":""},{"$f":"IFERROR(SUMIFS('Vehicle Type Count by Agency'!AQ:AQ,'Vehicle Type Count by Agency'!$C:$C,\"=\"&$C83)/SUMIFS('Vehicle Type Count by Agency'!AP:AP,'Vehicle Type Count by Agency'!$C:$C,\"=\"&$C83),\"\")","v":""},{"$f":"IFERROR(SUMIFS('Vehicle Type Count by Agency'!AS:AS,'Vehicle Type Count by Agency'!$C:$C,\"=\"&$C83)/SUMIFS('Vehicle Type Count by Agency'!AR:AR,'Vehicle Type Count by Agency'!$C:$C,\"=\"&$C83),\"\")","v":""},{"$f":"IFERROR(SUMIFS('Vehicle Type Count by Agency'!AU:AU,'Vehicle Type Count by Agency'!$C:$C,\"=\"&$C83)/SUMIFS('Vehicle Type Count by Agency'!AT:AT,'Vehicle Type Count by Agency'!$C:$C,\"=\"&$C83),\"\")","v":""},{"$f":"IFERROR(SUMIFS('Vehicle Type Count by Agency'!AW:AW,'Vehicle Type Count by Agency'!$C:$C,\"=\"&$C83)/SUMIFS('Vehicle Type Count by Agency'!AV:AV,'Vehicle Type Count by Agency'!$C:$C,\"=\"&$C83),\"\")","v":""},{"$f":"IFERROR(SUMIFS('Vehicle Type Count by Agency'!AY:AY,'Vehicle Type Count by Agency'!$C:$C,\"=\"&$C83)/SUMIFS('Vehicle Type Count by Agency'!AX:AX,'Vehicle Type Count by Agency'!$C:$C,\"=\"&$C83),\"\")","v":""},{"$f":"IFERROR(SUMIFS('Vehicle Type Count by Agency'!BA:BA,'Vehicle Type Count by Agency'!$C:$C,\"=\"&$C83)/SUMIFS('Vehicle Type Count by Agency'!AZ:AZ,'Vehicle Type Count by Agency'!$C:$C,\"=\"&$C83),\"\")","v":""},{"$f":"IFERROR(SUMIFS('Vehicle Type Count by Agency'!BC:BC,'Vehicle Type Count by Agency'!$C:$C,\"=\"&$C83)/SUMIFS('Vehicle Type Count by Agency'!BB:BB,'Vehicle Type Count by Agency'!$C:$C,\"=\"&$C83),\"\")","v":""},{"$f":"IFERROR(SUMIFS('Vehicle Type Count by Agency'!BE:BE,'Vehicle Type Count by Agency'!$C:$C,\"=\"&$C83)/SUMIFS('Vehicle Type Count by Agency'!BD:BD,'Vehicle Type Count by Agency'!$C:$C,\"=\"&$C83),\"\")","v":0.42857142857142855},{"$f":"IFERROR(SUMIFS('Vehicle Type Count by Agency'!BG:BG,'Vehicle Type Count by Agency'!$C:$C,\"=\"&$C83)/SUMIFS('Vehicle Type Count by Agency'!BF:BF,'Vehicle Type Count by Agency'!$C:$C,\"=\"&$C83),\"\")","v":""},{"$f":"IFERROR(SUMIFS('Vehicle Type Count by Agency'!BI:BI,'Vehicle Type Count by Agency'!$C:$C,\"=\"&$C83)/SUMIFS('Vehicle Type Count by Agency'!BH:BH,'Vehicle Type Count by Agency'!$C:$C,\"=\"&$C83),\"\")","v":6.9186635167060417E-2}]
[null,null,"RI","Rhode Island",null,{"$f":"IFERROR(SUMIFS('Vehicle Type Count by Agency'!K:K,'Vehicle Type Count by Agency'!$C:$C,\"=\"&$C84)/SUMIFS('Vehicle Type Count by Agency'!J:J,'Vehicle Type Count by Agency'!$C:$C,\"=\"&$C84),\"\")","v":0.14503816793893129},{"$f":"IFERROR(SUMIFS('Vehicle Type Count by Agency'!M:M,'Vehicle Type Count by Agency'!$C:$C,\"=\"&$C84)/SUMIFS('Vehicle Type Count by Agency'!L:L,'Vehicle Type Count by Agency'!$C:$C,\"=\"&$C84),\"\")","v":""},{"$f":"IFERROR(SUMIFS('Vehicle Type Count by Agency'!O:O,'Vehicle Type Count by Agency'!$C:$C,\"=\"&$C84)/SUMIFS('Vehicle Type Count by Agency'!N:N,'Vehicle Type Count by Agency'!$C:$C,\"=\"&$C84),\"\")","v":""},{"$f":"IFERROR(SUMIFS('Vehicle Type Count by Agency'!Q:Q,'Vehicle Type Count by Agency'!$C:$C,\"=\"&$C84)/SUMIFS('Vehicle Type Count by Agency'!P:P,'Vehicle Type Count by Agency'!$C:$C,\"=\"&$C84),\"\")","v":""},{"$f":"IFERROR(SUMIFS('Vehicle Type Count by Agency'!S:S,'Vehicle Type Count by Agency'!$C:$C,\"=\"&$C84)/SUMIFS('Vehicle Type Count by Agency'!R:R,'Vehicle Type Count by Agency'!$C:$C,\"=\"&$C84),\"\")","v":""},{"$f":"IFERROR(SUMIFS('Vehicle Type Count by Agency'!U:U,'Vehicle Type Count by Agency'!$C:$C,\"=\"&$C84)/SUMIFS('Vehicle Type Count by Agency'!T:T,'Vehicle Type Count by Agency'!$C:$C,\"=\"&$C84),\"\")","v":0},{"$f":"IFERROR(SUMIFS('Vehicle Type Count by Agency'!W:W,'Vehicle Type Count by Agency'!$C:$C,\"=\"&$C84)/SUMIFS('Vehicle Type Count by Agency'!V:V,'Vehicle Type Count by Agency'!$C:$C,\"=\"&$C84),\"\")","v":0.64},{"$f":"IFERROR(SUMIFS('Vehicle Type Count by Agency'!Y:Y,'Vehicle Type Count by Agency'!$C:$C,\"=\"&$C84)/SUMIFS('Vehicle Type Count by Agency'!X:X,'Vehicle Type Count by Agency'!$C:$C,\"=\"&$C84),\"\")","v":0},{"$f":"IFERROR(SUMIFS('Vehicle Type Count by Agency'!AA:AA,'Vehicle Type Count by Agency'!$C:$C,\"=\"&$C84)/SUMIFS('Vehicle Type Count by Agency'!Z:Z,'Vehicle Type Count by Agency'!$C:$C,\"=\"&$C84),\"\")","v":""},{"$f":"IFERROR(SUMIFS('Vehicle Type Count by Agency'!AC:AC,'Vehicle Type Count by Agency'!$C:$C,\"=\"&$C84)/SUMIFS('Vehicle Type Count by Agency'!AB:AB,'Vehicle Type Count by Agency'!$C:$C,\"=\"&$C84),\"\")","v":""},{"$f":"IFERROR(SUMIFS('Vehicle Type Count by Agency'!AE:AE,'Vehicle Type Count by Agency'!$C:$C,\"=\"&$C84)/SUMIFS('Vehicle Type Count by Agency'!AD:AD,'Vehicle Type Count by Agency'!$C:$C,\"=\"&$C84),\"\")","v":""},{"$f":"IFERROR(SUMIFS('Vehicle Type Count by Agency'!AG:AG,'Vehicle Type Count by Agency'!$C:$C,\"=\"&$C84)/SUMIFS('Vehicle Type Count by Agency'!AF:AF,'Vehicle Type Count by Agency'!$C:$C,\"=\"&$C84),\"\")","v":""},{"$f":"IFERROR(SUMIFS('Vehicle Type Count by Agency'!AI:AI,'Vehicle Type Count by Agency'!$C:$C,\"=\"&$C84)/SUMIFS('Vehicle Type Count by Agency'!AH:AH,'Vehicle Type Count by Agency'!$C:$C,\"=\"&$C84),\"\")","v":""},{"$f":"IFERROR(SUMIFS('Vehicle Type Count by Agency'!AK:AK,'Vehicle Type Count by Agency'!$C:$C,\"=\"&$C84)/SUMIFS('Vehicle Type Count by Agency'!AJ:AJ,'Vehicle Type Count by Agency'!$C:$C,\"=\"&$C84),\"\")","v":""},{"$f":"IFERROR(SUMIFS('Vehicle Type Count by Agency'!AM:AM,'Vehicle Type Count by Agency'!$C:$C,\"=\"&$C84)/SUMIFS('Vehicle Type Count by Agency'!AL:AL,'Vehicle Type Count by Agency'!$C:$C,\"=\"&$C84),\"\")","v":""},{"$f":"IFERROR(SUMIFS('Vehicle Type Count by Agency'!AO:AO,'Vehicle Type Count by Agency'!$C:$C,\"=\"&$C84)/SUMIFS('Vehicle Type Count by Agency'!AN:AN,'Vehicle Type Count by Agency'!$C:$C,\"=\"&$C84),\"\")","v":""},{"$f":"IFERROR(SUMIFS('Vehicle Type Count by Agency'!AQ:AQ,'Vehicle Type Count by Agency'!$C:$C,\"=\"&$C84)/SUMIFS('Vehicle Type Count by Agency'!AP:AP,'Vehicle Type Count by Agency'!$C:$C,\"=\"&$C84),\"\")","v":""},{"$f":"IFERROR(SUMIFS('Vehicle Type Count by Agency'!AS:AS,'Vehicle Type Count by Agency'!$C:$C,\"=\"&$C84)/SUMIFS('Vehicle Type Count by Agency'!AR:AR,'Vehicle Type Count by Agency'!$C:$C,\"=\"&$C84),\"\")","v":""},{"$f":"IFERROR(SUMIFS('Vehicle Type Count by Agency'!AU:AU,'Vehicle Type Count by Agency'!$C:$C,\"=\"&$C84)/SUMIFS('Vehicle Type Count by Agency'!AT:AT,'Vehicle Type Count by Agency'!$C:$C,\"=\"&$C84),\"\")","v":""},{"$f":"IFERROR(SUMIFS('Vehicle Type Count by Agency'!AW:AW,'Vehicle Type Count by Agency'!$C:$C,\"=\"&$C84)/SUMIFS('Vehicle Type Count by Agency'!AV:AV,'Vehicle Type Count by Agency'!$C:$C,\"=\"&$C84),\"\")","v":""},{"$f":"IFERROR(SUMIFS('Vehicle Type Count by Agency'!AY:AY,'Vehicle Type Count by Agency'!$C:$C,\"=\"&$C84)/SUMIFS('Vehicle Type Count by Agency'!AX:AX,'Vehicle Type Count by Agency'!$C:$C,\"=\"&$C84),\"\")","v":""},{"$f":"IFERROR(SUMIFS('Vehicle Type Count by Agency'!BA:BA,'Vehicle Type Count by Agency'!$C:$C,\"=\"&$C84)/SUMIFS('Vehicle Type Count by Agency'!AZ:AZ,'Vehicle Type Count by Agency'!$C:$C,\"=\"&$C84),\"\")","v":""},{"$f":"IFERROR(SUMIFS('Vehicle Type Count by Agency'!BC:BC,'Vehicle Type Count by Agency'!$C:$C,\"=\"&$C84)/SUMIFS('Vehicle Type Count by Agency'!BB:BB,'Vehicle Type Count by Agency'!$C:$C,\"=\"&$C84),\"\")","v":""},{"$f":"IFERROR(SUMIFS('Vehicle Type Count by Agency'!BE:BE,'Vehicle Type Count by Agency'!$C:$C,\"=\"&$C84)/SUMIFS('Vehicle Type Count by Agency'!BD:BD,'Vehicle Type Count by Agency'!$C:$C,\"=\"&$C84),\"\")","v":0},{"$f":"IFERROR(SUMIFS('Vehicle Type Count by Agency'!BG:BG,'Vehicle Type Count by Agency'!$C:$C,\"=\"&$C84)/SUMIFS('Vehicle Type Count by Agency'!BF:BF,'Vehicle Type Count by Agency'!$C:$C,\"=\"&$C84),\"\")","v":""},{"$f":"IFERROR(SUMIFS('Vehicle Type Count by Agency'!BI:BI,'Vehicle Type Count by Agency'!$C:$C,\"=\"&$C84)/SUMIFS('Vehicle Type Count by Agency'!BH:BH,'Vehicle Type Count by Agency'!$C:$C,\"=\"&$C84),\"\")","v":0.24293785310734464}]
[null,null,"SC","South Carolina",null,{"$f":"IFERROR(SUMIFS('Vehicle Type Count by Agency'!K:K,'Vehicle Type Count by Agency'!$C:$C,\"=\"&$C85)/SUMIFS('Vehicle Type Count by Agency'!J:J,'Vehicle Type Count by Agency'!$C:$C,\"=\"&$C85),\"\")","v":0.40221402214022139},{"$f":"IFERROR(SUMIFS('Vehicle Type Count by Agency'!M:M,'Vehicle Type Count by Agency'!$C:$C,\"=\"&$C85)/SUMIFS('Vehicle Type Count by Agency'!L:L,'Vehicle Type Count by Agency'!$C:$C,\"=\"&$C85),\"\")","v":0},{"$f":"IFERROR(SUMIFS('Vehicle Type Count by Agency'!O:O,'Vehicle Type Count by Agency'!$C:$C,\"=\"&$C85)/SUMIFS('Vehicle Type Count by Agency'!N:N,'Vehicle Type Count by Agency'!$C:$C,\"=\"&$C85),\"\")","v":0.18181818181818182},{"$f":"IFERROR(SUMIFS('Vehicle Type Count by Agency'!Q:Q,'Vehicle Type Count by Agency'!$C:$C,\"=\"&$C85)/SUMIFS('Vehicle Type Count by Agency'!P:P,'Vehicle Type Count by Agency'!$C:$C,\"=\"&$C85),\"\")","v":""},{"$f":"IFERROR(SUMIFS('Vehicle Type Count by Agency'!S:S,'Vehicle Type Count by Agency'!$C:$C,\"=\"&$C85)/SUMIFS('Vehicle Type Count by Agency'!R:R,'Vehicle Type Count by Agency'!$C:$C,\"=\"&$C85),\"\")","v":0},{"$f":"IFERROR(SUMIFS('Vehicle Type Count by Agency'!U:U,'Vehicle Type Count by Agency'!$C:$C,\"=\"&$C85)/SUMIFS('Vehicle Type Count by Agency'!T:T,'Vehicle Type Count by Agency'!$C:$C,\"=\"&$C85),\"\")","v":0.11428571428571428},{"$f":"IFERROR(SUMIFS('Vehicle Type Count by Agency'!W:W,'Vehicle Type Count by Agency'!$C:$C,\"=\"&$C85)/SUMIFS('Vehicle Type Count by Agency'!V:V,'Vehicle Type Count by Agency'!$C:$C,\"=\"&$C85),\"\")","v":8.069164265129683E-2},{"$f":"IFERROR(SUMIFS('Vehicle Type Count by Agency'!Y:Y,'Vehicle Type Count by Agency'!$C:$C,\"=\"&$C85)/SUMIFS('Vehicle Type Count by Agency'!X:X,'Vehicle Type Count by Agency'!$C:$C,\"=\"&$C85),\"\")","v":0},{"$f":"IFERROR(SUMIFS('Vehicle Type Count by Agency'!AA:AA,'Vehicle Type Count by Agency'!$C:$C,\"=\"&$C85)/SUMIFS('Vehicle Type Count by Agency'!Z:Z,'Vehicle Type Count by Agency'!$C:$C,\"=\"&$C85),\"\")","v":4.6875E-2},{"$f":"IFERROR(SUMIFS('Vehicle Type Count by Agency'!AC:AC,'Vehicle Type Count by Agency'!$C:$C,\"=\"&$C85)/SUMIFS('Vehicle Type Count by Agency'!AB:AB,'Vehicle Type Count by Agency'!$C:$C,\"=\"&$C85),\"\")","v":0},{"$f":"IFERROR(SUMIFS('Vehicle Type Count by Agency'!AE:AE,'Vehicle Type Count by Agency'!$C:$C,\"=\"&$C85)/SUMIFS('Vehicle Type Count by Agency'!AD:AD,'Vehicle Type Count by Agency'!$C:$C,\"=\"&$C85),\"\")","v":""},{"$f":"IFERROR(SUMIFS('Vehicle Type Count by Agency'!AG:AG,'Vehicle Type Count by Agency'!$C:$C,\"=\"&$C85)/SUMIFS('Vehicle Type Count by Agency'!AF:AF,'Vehicle Type Count by Agency'!$C:$C,\"=\"&$C85),\"\")","v":""},{"$f":"IFERROR(SUMIFS('Vehicle Type Count by Agency'!AI:AI,'Vehicle Type Count by Agency'!$C:$C,\"=\"&$C85)/SUMIFS('Vehicle Type Count by Agency'!AH:AH,'Vehicle Type Count by Agency'!$C:$C,\"=\"&$C85),\"\")","v":""},{"$f":"IFERROR(SUMIFS('Vehicle Type Count by Agency'!AK:AK,'Vehicle Type Count by Agency'!$C:$C,\"=\"&$C85)/SUMIFS('Vehicle Type Count by Agency'!AJ:AJ,'Vehicle Type Count by Agency'!$C:$C,\"=\"&$C85),\"\")","v":""},{"$f":"IFERROR(SUMIFS('Vehicle Type Count by Agency'!AM:AM,'Vehicle Type Count by Agency'!$C:$C,\"=\"&$C85)/SUMIFS('Vehicle Type Count by Agency'!AL:AL,'Vehicle Type Count by Agency'!$C:$C,\"=\"&$C85),\"\")","v":""},{"$f":"IFERROR(SUMIFS('Vehicle Type Count by Agency'!AO:AO,'Vehicle Type Count by Agency'!$C:$C,\"=\"&$C85)/SUMIFS('Vehicle Type Count by Agency'!AN:AN,'Vehicle Type Count by Agency'!$C:$C,\"=\"&$C85),\"\")","v":""},{"$f":"IFERROR(SUMIFS('Vehicle Type Count by Agency'!AQ:AQ,'Vehicle Type Count by Agency'!$C:$C,\"=\"&$C85)/SUMIFS('Vehicle Type Count by Agency'!AP:AP,'Vehicle Type Count by Agency'!$C:$C,\"=\"&$C85),\"\")","v":""},{"$f":"IFERROR(SUMIFS('Vehicle Type Count by Agency'!AS:AS,'Vehicle Type Count by Agency'!$C:$C,\"=\"&$C85)/SUMIFS('Vehicle Type Count by Agency'!AR:AR,'Vehicle Type Count by Agency'!$C:$C,\"=\"&$C85),\"\")","v":""},{"$f":"IFERROR(SUMIFS('Vehicle Type Count by Agency'!AU:AU,'Vehicle Type Count by Agency'!$C:$C,\"=\"&$C85)/SUMIFS('Vehicle Type Count by Agency'!AT:AT,'Vehicle Type Count by Agency'!$C:$C,\"=\"&$C85),\"\")","v":""},{"$f":"IFERROR(SUMIFS('Vehicle Type Count by Agency'!AW:AW,'Vehicle Type Count by Agency'!$C:$C,\"=\"&$C85)/SUMIFS('Vehicle Type Count by Agency'!AV:AV,'Vehicle Type Count by Agency'!$C:$C,\"=\"&$C85),\"\")","v":""},{"$f":"IFERROR(SUMIFS('Vehicle Type Count by Agency'!AY:AY,'Vehicle Type Count by Agency'!$C:$C,\"=\"&$C85)/SUMIFS('Vehicle Type Count by Agency'!AX:AX,'Vehicle Type Count by Agency'!$C:$C,\"=\"&$C85),\"\")","v":""},{"$f":"IFERROR(SUMIFS('Vehicle Type Count by Agency'!BA:BA,'Vehicle Type Count by Agency'!$C:$C,\"=\"&$C85)/SUMIFS('Vehicle Type Count by Agency'!AZ:AZ,'Vehicle Type Count by Agency'!$C:$C,\"=\"&$C85),\"\")","v":""},{"$f":"IFERROR(SUMIFS('Vehicle Type Count by Agency'!BC:BC,'Vehicle Type Count by Agency'!$C:$C,\"=\"&$C85)/SUMIFS('Vehicle Type Count by Agency'!BB:BB,'Vehicle Type Count by Agency'!$C:$C,\"=\"&$C85),\"\")","v":""},{"$f":"IFERROR(SUMIFS('Vehicle Type Count by Agency'!BE:BE,'Vehicle Type Count by Agency'!$C:$C,\"=\"&$C85)/SUMIFS('Vehicle Type Count by Agency'!BD:BD,'Vehicle Type Count by Agency'!$C:$C,\"=\"&$C85),\"\")","v":""},{"$f":"IFERROR(SUMIFS('Vehicle Type Count by Agency'!BG:BG,'Vehicle Type Count by Agency'!$C:$C,\"=\"&$C85)/SUMIFS('Vehicle Type Count by Agency'!BF:BF,'Vehicle Type Count by Agency'!$C:$C,\"=\"&$C85),\"\")","v":""},{"$f":"IFERROR(SUMIFS('Vehicle Type Count by Agency'!BI:BI,'Vehicle Type Count by Agency'!$C:$C,\"=\"&$C85)/SUMIFS('Vehicle Type Count by Agency'!BH:BH,'Vehicle Type Count by Agency'!$C:$C,\"=\"&$C85),\"\")","v":0.19756427604871449}]
[null,null,"SD","South Dakota",null,{"$f":"IFERROR(SUMIFS('Vehicle Type Count by Agency'!K:K,'Vehicle Type Count by Agency'!$C:$C,\"=\"&$C86)/SUMIFS('Vehicle Type Count by Agency'!J:J,'Vehicle Type Count by Agency'!$C:$C,\"=\"&$C86),\"\")","v":0.30357142857142855},{"$f":"IFERROR(SUMIFS('Vehicle Type Count by Agency'!M:M,'Vehicle Type Count by Agency'!$C:$C,\"=\"&$C86)/SUMIFS('Vehicle Type Count by Agency'!L:L,'Vehicle Type Count by Agency'!$C:$C,\"=\"&$C86),\"\")","v":""},{"$f":"IFERROR(SUMIFS('Vehicle Type Count by Agency'!O:O,'Vehicle Type Count by Agency'!$C:$C,\"=\"&$C86)/SUMIFS('Vehicle Type Count by Agency'!N:N,'Vehicle Type Count by Agency'!$C:$C,\"=\"&$C86),\"\")","v":""},{"$f":"IFERROR(SUMIFS('Vehicle Type Count by Agency'!Q:Q,'Vehicle Type Count by Agency'!$C:$C,\"=\"&$C86)/SUMIFS('Vehicle Type Count by Agency'!P:P,'Vehicle Type Count by Agency'!$C:$C,\"=\"&$C86),\"\")","v":""},{"$f":"IFERROR(SUMIFS('Vehicle Type Count by Agency'!S:S,'Vehicle Type Count by Agency'!$C:$C,\"=\"&$C86)/SUMIFS('Vehicle Type Count by Agency'!R:R,'Vehicle Type Count by Agency'!$C:$C,\"=\"&$C86),\"\")","v":1},{"$f":"IFERROR(SUMIFS('Vehicle Type Count by Agency'!U:U,'Vehicle Type Count by Agency'!$C:$C,\"=\"&$C86)/SUMIFS('Vehicle Type Count by Agency'!T:T,'Vehicle Type Count by Agency'!$C:$C,\"=\"&$C86),\"\")","v":0.63157894736842102},{"$f":"IFERROR(SUMIFS('Vehicle Type Count by Agency'!W:W,'Vehicle Type Count by Agency'!$C:$C,\"=\"&$C86)/SUMIFS('Vehicle Type Count by Agency'!V:V,'Vehicle Type Count by Agency'!$C:$C,\"=\"&$C86),\"\")","v":0.46453900709219859},{"$f":"IFERROR(SUMIFS('Vehicle Type Count by Agency'!Y:Y,'Vehicle Type Count by Agency'!$C:$C,\"=\"&$C86)/SUMIFS('Vehicle Type Count by Agency'!X:X,'Vehicle Type Count by Agency'!$C:$C,\"=\"&$C86),\"\")","v":0.25},{"$f":"IFERROR(SUMIFS('Vehicle Type Count by Agency'!AA:AA,'Vehicle Type Count by Agency'!$C:$C,\"=\"&$C86)/SUMIFS('Vehicle Type Count by Agency'!Z:Z,'Vehicle Type Count by Agency'!$C:$C,\"=\"&$C86),\"\")","v":0.72277227722772275},{"$f":"IFERROR(SUMIFS('Vehicle Type Count by Agency'!AC:AC,'Vehicle Type Count by Agency'!$C:$C,\"=\"&$C86)/SUMIFS('Vehicle Type Count by Agency'!AB:AB,'Vehicle Type Count by Agency'!$C:$C,\"=\"&$C86),\"\")","v":0},{"$f":"IFERROR(SUMIFS('Vehicle Type Count by Agency'!AE:AE,'Vehicle Type Count by Agency'!$C:$C,\"=\"&$C86)/SUMIFS('Vehicle Type Count by Agency'!AD:AD,'Vehicle Type Count by Agency'!$C:$C,\"=\"&$C86),\"\")","v":""},{"$f":"IFERROR(SUMIFS('Vehicle Type Count by Agency'!AG:AG,'Vehicle Type Count by Agency'!$C:$C,\"=\"&$C86)/SUMIFS('Vehicle Type Count by Agency'!AF:AF,'Vehicle Type Count by Agency'!$C:$C,\"=\"&$C86),\"\")","v":""},{"$f":"IFERROR(SUMIFS('Vehicle Type Count by Agency'!AI:AI,'Vehicle Type Count by Agency'!$C:$C,\"=\"&$C86)/SUMIFS('Vehicle Type Count by Agency'!AH:AH,'Vehicle Type Count by Agency'!$C:$C,\"=\"&$C86),\"\")","v":""},{"$f":"IFERROR(SUMIFS('Vehicle Type Count by Agency'!AK:AK,'Vehicle Type Count by Agency'!$C:$C,\"=\"&$C86)/SUMIFS('Vehicle Type Count by Agency'!AJ:AJ,'Vehicle Type Count by Agency'!$C:$C,\"=\"&$C86),\"\")","v":""},{"$f":"IFERROR(SUMIFS('Vehicle Type Count by Agency'!AM:AM,'Vehicle Type Count by Agency'!$C:$C,\"=\"&$C86)/SUMIFS('Vehicle Type Count by Agency'!AL:AL,'Vehicle Type Count by Agency'!$C:$C,\"=\"&$C86),\"\")","v":""},{"$f":"IFERROR(SUMIFS('Vehicle Type Count by Agency'!AO:AO,'Vehicle Type Count by Agency'!$C:$C,\"=\"&$C86)/SUMIFS('Vehicle Type Count by Agency'!AN:AN,'Vehicle Type Count by Agency'!$C:$C,\"=\"&$C86),\"\")","v":""},{"$f":"IFERROR(SUMIFS('Vehicle Type Count by Agency'!AQ:AQ,'Vehicle Type Count by Agency'!$C:$C,\"=\"&$C86)/SUMIFS('Vehicle Type Count by Agency'!AP:AP,'Vehicle Type Count by Agency'!$C:$C,\"=\"&$C86),\"\")","v":""},{"$f":"IFERROR(SUMIFS('Vehicle Type Count by Agency'!AS:AS,'Vehicle Type Count by Agency'!$C:$C,\"=\"&$C86)/SUMIFS('Vehicle Type Count by Agency'!AR:AR,'Vehicle Type Count by Agency'!$C:$C,\"=\"&$C86),\"\")","v":""},{"$f":"IFERROR(SUMIFS('Vehicle Type Count by Agency'!AU:AU,'Vehicle Type Count by Agency'!$C:$C,\"=\"&$C86)/SUMIFS('Vehicle Type Count by Agency'!AT:AT,'Vehicle Type Count by Agency'!$C:$C,\"=\"&$C86),\"\")","v":""},{"$f":"IFERROR(SUMIFS('Vehicle Type Count by Agency'!AW:AW,'Vehicle Type Count by Agency'!$C:$C,\"=\"&$C86)/SUMIFS('Vehicle Type Count by Agency'!AV:AV,'Vehicle Type Count by Agency'!$C:$C,\"=\"&$C86),\"\")","v":""},{"$f":"IFERROR(SUMIFS('Vehicle Type Count by Agency'!AY:AY,'Vehicle Type Count by Agency'!$C:$C,\"=\"&$C86)/SUMIFS('Vehicle Type Count by Agency'!AX:AX,'Vehicle Type Count by Agency'!$C:$C,\"=\"&$C86),\"\")","v":""},{"$f":"IFERROR(SUMIFS('Vehicle Type Count by Agency'!BA:BA,'Vehicle Type Count by Agency'!$C:$C,\"=\"&$C86)/SUMIFS('Vehicle Type Count by Agency'!AZ:AZ,'Vehicle Type Count by Agency'!$C:$C,\"=\"&$C86),\"\")","v":""},{"$f":"IFERROR(SUMIFS('Vehicle Type Count by Agency'!BC:BC,'Vehicle Type Count by Agency'!$C:$C,\"=\"&$C86)/SUMIFS('Vehicle Type Count by Agency'!BB:BB,'Vehicle Type Count by Agency'!$C:$C,\"=\"&$C86),\"\")","v":""},{"$f":"IFERROR(SUMIFS('Vehicle Type Count by Agency'!BE:BE,'Vehicle Type Count by Agency'!$C:$C,\"=\"&$C86)/SUMIFS('Vehicle Type Count by Agency'!BD:BD,'Vehicle Type Count by Agency'!$C:$C,\"=\"&$C86),\"\")","v":""},{"$f":"IFERROR(SUMIFS('Vehicle Type Count by Agency'!BG:BG,'Vehicle Type Count by Agency'!$C:$C,\"=\"&$C86)/SUMIFS('Vehicle Type Count by Agency'!BF:BF,'Vehicle Type Count by Agency'!$C:$C,\"=\"&$C86),\"\")","v":1},{"$f":"IFERROR(SUMIFS('Vehicle Type Count by Agency'!BI:BI,'Vehicle Type Count by Agency'!$C:$C,\"=\"&$C86)/SUMIFS('Vehicle Type Count by Agency'!BH:BH,'Vehicle Type Count by Agency'!$C:$C,\"=\"&$C86),\"\")","v":0.50996015936254979}]
[null,null,"TN","Tennessee",null,{"$f":"IFERROR(SUMIFS('Vehicle Type Count by Agency'!K:K,'Vehicle Type Count by Agency'!$C:$C,\"=\"&$C87)/SUMIFS('Vehicle Type Count by Agency'!J:J,'Vehicle Type Count by Agency'!$C:$C,\"=\"&$C87),\"\")","v":0.19011406844106463},{"$f":"IFERROR(SUMIFS('Vehicle Type Count by Agency'!M:M,'Vehicle Type Count by Agency'!$C:$C,\"=\"&$C87)/SUMIFS('Vehicle Type Count by Agency'!L:L,'Vehicle Type Count by Agency'!$C:$C,\"=\"&$C87),\"\")","v":0},{"$f":"IFERROR(SUMIFS('Vehicle Type Count by Agency'!O:O,'Vehicle Type Count by Agency'!$C:$C,\"=\"&$C87)/SUMIFS('Vehicle Type Count by Agency'!N:N,'Vehicle Type Count by Agency'!$C:$C,\"=\"&$C87),\"\")","v":0},{"$f":"IFERROR(SUMIFS('Vehicle Type Count by Agency'!Q:Q,'Vehicle Type Count by Agency'!$C:$C,\"=\"&$C87)/SUMIFS('Vehicle Type Count by Agency'!P:P,'Vehicle Type Count by Agency'!$C:$C,\"=\"&$C87),\"\")","v":""},{"$f":"IFERROR(SUMIFS('Vehicle Type Count by Agency'!S:S,'Vehicle Type Count by Agency'!$C:$C,\"=\"&$C87)/SUMIFS('Vehicle Type Count by Agency'!R:R,'Vehicle Type Count by Agency'!$C:$C,\"=\"&$C87),\"\")","v":""},{"$f":"IFERROR(SUMIFS('Vehicle Type Count by Agency'!U:U,'Vehicle Type Count by Agency'!$C:$C,\"=\"&$C87)/SUMIFS('Vehicle Type Count by Agency'!T:T,'Vehicle Type Count by Agency'!$C:$C,\"=\"&$C87),\"\")","v":0.28424976700838772},{"$f":"IFERROR(SUMIFS('Vehicle Type Count by Agency'!W:W,'Vehicle Type Count by Agency'!$C:$C,\"=\"&$C87)/SUMIFS('Vehicle Type Count by Agency'!V:V,'Vehicle Type Count by Agency'!$C:$C,\"=\"&$C87),\"\")","v":0.21615720524017468},{"$f":"IFERROR(SUMIFS('Vehicle Type Count by Agency'!Y:Y,'Vehicle Type Count by Agency'!$C:$C,\"=\"&$C87)/SUMIFS('Vehicle Type Count by Agency'!X:X,'Vehicle Type Count by Agency'!$C:$C,\"=\"&$C87),\"\")","v":0.5714285714285714},{"$f":"IFERROR(SUMIFS('Vehicle Type Count by Agency'!AA:AA,'Vehicle Type Count by Agency'!$C:$C,\"=\"&$C87)/SUMIFS('Vehicle Type Count by Agency'!Z:Z,'Vehicle Type Count by Agency'!$C:$C,\"=\"&$C87),\"\")","v":0.35877862595419846},{"$f":"IFERROR(SUMIFS('Vehicle Type Count by Agency'!AC:AC,'Vehicle Type Count by Agency'!$C:$C,\"=\"&$C87)/SUMIFS('Vehicle Type Count by Agency'!AB:AB,'Vehicle Type Count by Agency'!$C:$C,\"=\"&$C87),\"\")","v":""},{"$f":"IFERROR(SUMIFS('Vehicle Type Count by Agency'!AE:AE,'Vehicle Type Count by Agency'!$C:$C,\"=\"&$C87)/SUMIFS('Vehicle Type Count by Agency'!AD:AD,'Vehicle Type Count by Agency'!$C:$C,\"=\"&$C87),\"\")","v":""},{"$f":"IFERROR(SUMIFS('Vehicle Type Count by Agency'!AG:AG,'Vehicle Type Count by Agency'!$C:$C,\"=\"&$C87)/SUMIFS('Vehicle Type Count by Agency'!AF:AF,'Vehicle Type Count by Agency'!$C:$C,\"=\"&$C87),\"\")","v":""},{"$f":"IFERROR(SUMIFS('Vehicle Type Count by Agency'!AI:AI,'Vehicle Type Count by Agency'!$C:$C,\"=\"&$C87)/SUMIFS('Vehicle Type Count by Agency'!AH:AH,'Vehicle Type Count by Agency'!$C:$C,\"=\"&$C87),\"\")","v":0.75},{"$f":"IFERROR(SUMIFS('Vehicle Type Count by Agency'!AK:AK,'Vehicle Type Count by Agency'!$C:$C,\"=\"&$C87)/SUMIFS('Vehicle Type Count by Agency'!AJ:AJ,'Vehicle Type Count by Agency'!$C:$C,\"=\"&$C87),\"\")","v":1},{"$f":"IFERROR(SUMIFS('Vehicle Type Count by Agency'!AM:AM,'Vehicle Type Count by Agency'!$C:$C,\"=\"&$C87)/SUMIFS('Vehicle Type Count by Agency'!AL:AL,'Vehicle Type Count by Agency'!$C:$C,\"=\"&$C87),\"\")","v":""},{"$f":"IFERROR(SUMIFS('Vehicle Type Count by Agency'!AO:AO,'Vehicle Type Count by Agency'!$C:$C,\"=\"&$C87)/SUMIFS('Vehicle Type Count by Agency'!AN:AN,'Vehicle Type Count by Agency'!$C:$C,\"=\"&$C87),\"\")","v":0},{"$f":"IFERROR(SUMIFS('Vehicle Type Count by Agency'!AQ:AQ,'Vehicle Type Count by Agency'!$C:$C,\"=\"&$C87)/SUMIFS('Vehicle Type Count by Agency'!AP:AP,'Vehicle Type Count by Agency'!$C:$C,\"=\"&$C87),\"\")","v":""},{"$f":"IFERROR(SUMIFS('Vehicle Type Count by Agency'!AS:AS,'Vehicle Type Count by Agency'!$C:$C,\"=\"&$C87)/SUMIFS('Vehicle Type Count by Agency'!AR:AR,'Vehicle Type Count by Agency'!$C:$C,\"=\"&$C87),\"\")","v":""},{"$f":"IFERROR(SUMIFS('Vehicle Type Count by Agency'!AU:AU,'Vehicle Type Count by Agency'!$C:$C,\"=\"&$C87)/SUMIFS('Vehicle Type Count by Agency'!AT:AT,'Vehicle Type Count by Agency'!$C:$C,\"=\"&$C87),\"\")","v":""},{"$f":"IFERROR(SUMIFS('Vehicle Type Count by Agency'!AW:AW,'Vehicle Type Count by Agency'!$C:$C,\"=\"&$C87)/SUMIFS('Vehicle Type Count by Agency'!AV:AV,'Vehicle Type Count by Agency'!$C:$C,\"=\"&$C87),\"\")","v":""},{"$f":"IFERROR(SUMIFS('Vehicle Type Count by Agency'!AY:AY,'Vehicle Type Count by Agency'!$C:$C,\"=\"&$C87)/SUMIFS('Vehicle Type Count by Agency'!AX:AX,'Vehicle Type Count by Agency'!$C:$C,\"=\"&$C87),\"\")","v":""},{"$f":"IFERROR(SUMIFS('Vehicle Type Count by Agency'!BA:BA,'Vehicle Type Count by Agency'!$C:$C,\"=\"&$C87)/SUMIFS('Vehicle Type Count by Agency'!AZ:AZ,'Vehicle Type Count by Agency'!$C:$C,\"=\"&$C87),\"\")","v":""},{"$f":"IFERROR(SUMIFS('Vehicle Type Count by Agency'!BC:BC,'Vehicle Type Count by Agency'!$C:$C,\"=\"&$C87)/SUMIFS('Vehicle Type Count by Agency'!BB:BB,'Vehicle Type Count by Agency'!$C:$C,\"=\"&$C87),\"\")","v":0},{"$f":"IFERROR(SUMIFS('Vehicle Type Count by Agency'!BE:BE,'Vehicle Type Count by Agency'!$C:$C,\"=\"&$C87)/SUMIFS('Vehicle Type Count by Agency'!BD:BD,'Vehicle Type Count by Agency'!$C:$C,\"=\"&$C87),\"\")","v":""},{"$f":"IFERROR(SUMIFS('Vehicle Type Count by Agency'!BG:BG,'Vehicle Type Count by Agency'!$C:$C,\"=\"&$C87)/SUMIFS('Vehicle Type Count by Agency'!BF:BF,'Vehicle Type Count by Agency'!$C:$C,\"=\"&$C87),\"\")","v":0},{"$f":"IFERROR(SUMIFS('Vehicle Type Count by Agency'!BI:BI,'Vehicle Type Count by Agency'!$C:$C,\"=\"&$C87)/SUMIFS('Vehicle Type Count by Agency'!BH:BH,'Vehicle Type Count by Agency'!$C:$C,\"=\"&$C87),\"\")","v":0.25065047701647875}]
[null,null,"TX","Texas",null,{"$f":"IFERROR(SUMIFS('Vehicle Type Count by Agency'!K:K,'Vehicle Type Count by Agency'!$C:$C,\"=\"&$C88)/SUMIFS('Vehicle Type Count by Agency'!J:J,'Vehicle Type Count by Agency'!$C:$C,\"=\"&$C88),\"\")","v":0.10270444301352222},{"$f":"IFERROR(SUMIFS('Vehicle Type Count by Agency'!M:M,'Vehicle Type Count by Agency'!$C:$C,\"=\"&$C88)/SUMIFS('Vehicle Type Count by Agency'!L:L,'Vehicle Type Count by Agency'!$C:$C,\"=\"&$C88),\"\")","v":0},{"$f":"IFERROR(SUMIFS('Vehicle Type Count by Agency'!O:O,'Vehicle Type Count by Agency'!$C:$C,\"=\"&$C88)/SUMIFS('Vehicle Type Count by Agency'!N:N,'Vehicle Type Count by Agency'!$C:$C,\"=\"&$C88),\"\")","v":8.098591549295775E-2},{"$f":"IFERROR(SUMIFS('Vehicle Type Count by Agency'!Q:Q,'Vehicle Type Count by Agency'!$C:$C,\"=\"&$C88)/SUMIFS('Vehicle Type Count by Agency'!P:P,'Vehicle Type Count by Agency'!$C:$C,\"=\"&$C88),\"\")","v":""},{"$f":"IFERROR(SUMIFS('Vehicle Type Count by Agency'!S:S,'Vehicle Type Count by Agency'!$C:$C,\"=\"&$C88)/SUMIFS('Vehicle Type Count by Agency'!R:R,'Vehicle Type Count by Agency'!$C:$C,\"=\"&$C88),\"\")","v":""},{"$f":"IFERROR(SUMIFS('Vehicle Type Count by Agency'!U:U,'Vehicle Type Count by Agency'!$C:$C,\"=\"&$C88)/SUMIFS('Vehicle Type Count by Agency'!T:T,'Vehicle Type Count by Agency'!$C:$C,\"=\"&$C88),\"\")","v":6.2203479177648922E-2},{"$f":"IFERROR(SUMIFS('Vehicle Type Count by Agency'!W:W,'Vehicle Type Count by Agency'!$C:$C,\"=\"&$C88)/SUMIFS('Vehicle Type Count by Agency'!V:V,'Vehicle Type Count by Agency'!$C:$C,\"=\"&$C88),\"\")","v":0.21099434114793855},{"$f":"IFERROR(SUMIFS('Vehicle Type Count by Agency'!Y:Y,'Vehicle Type Count by Agency'!$C:$C,\"=\"&$C88)/SUMIFS('Vehicle Type Count by Agency'!X:X,'Vehicle Type Count by Agency'!$C:$C,\"=\"&$C88),\"\")","v":6.5808297567954227E-2},{"$f":"IFERROR(SUMIFS('Vehicle Type Count by Agency'!AA:AA,'Vehicle Type Count by Agency'!$C:$C,\"=\"&$C88)/SUMIFS('Vehicle Type Count by Agency'!Z:Z,'Vehicle Type Count by Agency'!$C:$C,\"=\"&$C88),\"\")","v":0.18714768883878241},{"$f":"IFERROR(SUMIFS('Vehicle Type Count by Agency'!AC:AC,'Vehicle Type Count by Agency'!$C:$C,\"=\"&$C88)/SUMIFS('Vehicle Type Count by Agency'!AB:AB,'Vehicle Type Count by Agency'!$C:$C,\"=\"&$C88),\"\")","v":0.22388059701492538},{"$f":"IFERROR(SUMIFS('Vehicle Type Count by Agency'!AE:AE,'Vehicle Type Count by Agency'!$C:$C,\"=\"&$C88)/SUMIFS('Vehicle Type Count by Agency'!AD:AD,'Vehicle Type Count by Agency'!$C:$C,\"=\"&$C88),\"\")","v":""},{"$f":"IFERROR(SUMIFS('Vehicle Type Count by Agency'!AG:AG,'Vehicle Type Count by Agency'!$C:$C,\"=\"&$C88)/SUMIFS('Vehicle Type Count by Agency'!AF:AF,'Vehicle Type Count by Agency'!$C:$C,\"=\"&$C88),\"\")","v":""},{"$f":"IFERROR(SUMIFS('Vehicle Type Count by Agency'!AI:AI,'Vehicle Type Count by Agency'!$C:$C,\"=\"&$C88)/SUMIFS('Vehicle Type Count by Agency'!AH:AH,'Vehicle Type Count by Agency'!$C:$C,\"=\"&$C88),\"\")","v":0},{"$f":"IFERROR(SUMIFS('Vehicle Type Count by Agency'!AK:AK,'Vehicle Type Count by Agency'!$C:$C,\"=\"&$C88)/SUMIFS('Vehicle Type Count by Agency'!AJ:AJ,'Vehicle Type Count by Agency'!$C:$C,\"=\"&$C88),\"\")","v":0.43478260869565216},{"$f":"IFERROR(SUMIFS('Vehicle Type Count by Agency'!AM:AM,'Vehicle Type Count by Agency'!$C:$C,\"=\"&$C88)/SUMIFS('Vehicle Type Count by Agency'!AL:AL,'Vehicle Type Count by Agency'!$C:$C,\"=\"&$C88),\"\")","v":0},{"$f":"IFERROR(SUMIFS('Vehicle Type Count by Agency'!AO:AO,'Vehicle Type Count by Agency'!$C:$C,\"=\"&$C88)/SUMIFS('Vehicle Type Count by Agency'!AN:AN,'Vehicle Type Count by Agency'!$C:$C,\"=\"&$C88),\"\")","v":0},{"$f":"IFERROR(SUMIFS('Vehicle Type Count by Agency'!AQ:AQ,'Vehicle Type Count by Agency'!$C:$C,\"=\"&$C88)/SUMIFS('Vehicle Type Count by Agency'!AP:AP,'Vehicle Type Count by Agency'!$C:$C,\"=\"&$C88),\"\")","v":""},{"$f":"IFERROR(SUMIFS('Vehicle Type Count by Agency'!AS:AS,'Vehicle Type Count by Agency'!$C:$C,\"=\"&$C88)/SUMIFS('Vehicle Type Count by Agency'!AR:AR,'Vehicle Type Count by Agency'!$C:$C,\"=\"&$C88),\"\")","v":1},{"$f":"IFERROR(SUMIFS('Vehicle Type Count by Agency'!AU:AU,'Vehicle Type Count by Agency'!$C:$C,\"=\"&$C88)/SUMIFS('Vehicle Type Count by Agency'!AT:AT,'Vehicle Type Count by Agency'!$C:$C,\"=\"&$C88),\"\")","v":0},{"$f":"IFERROR(SUMIFS('Vehicle Type Count by Agency'!AW:AW,'Vehicle Type Count by Agency'!$C:$C,\"=\"&$C88)/SUMIFS('Vehicle Type Count by Agency'!AV:AV,'Vehicle Type Count by Agency'!$C:$C,\"=\"&$C88),\"\")","v":""},{"$f":"IFERROR(SUMIFS('Vehicle Type Count by Agency'!AY:AY,'Vehicle Type Count by Agency'!$C:$C,\"=\"&$C88)/SUMIFS('Vehicle Type Count by Agency'!AX:AX,'Vehicle Type Count by Agency'!$C:$C,\"=\"&$C88),\"\")","v":""},{"$f":"IFERROR(SUMIFS('Vehicle Type Count by Agency'!BA:BA,'Vehicle Type Count by Agency'!$C:$C,\"=\"&$C88)/SUMIFS('Vehicle Type Count by Agency'!AZ:AZ,'Vehicle Type Count by Agency'!$C:$C,\"=\"&$C88),\"\")","v":""},{"$f":"IFERROR(SUMIFS('Vehicle Type Count by Agency'!BC:BC,'Vehicle Type Count by Agency'!$C:$C,\"=\"&$C88)/SUMIFS('Vehicle Type Count by Agency'!BB:BB,'Vehicle Type Count by Agency'!$C:$C,\"=\"&$C88),\"\")","v":""},{"$f":"IFERROR(SUMIFS('Vehicle Type Count by Agency'!BE:BE,'Vehicle Type Count by Agency'!$C:$C,\"=\"&$C88)/SUMIFS('Vehicle Type Count by Agency'!BD:BD,'Vehicle Type Count by Agency'!$C:$C,\"=\"&$C88),\"\")","v":""},{"$f":"IFERROR(SUMIFS('Vehicle Type Count by Agency'!BG:BG,'Vehicle Type Count by Agency'!$C:$C,\"=\"&$C88)/SUMIFS('Vehicle Type Count by Agency'!BF:BF,'Vehicle Type Count by Agency'!$C:$C,\"=\"&$C88),\"\")","v":0},{"$f":"IFERROR(SUMIFS('Vehicle Type Count by Agency'!BI:BI,'Vehicle Type Count by Agency'!$C:$C,\"=\"&$C88)/SUMIFS('Vehicle Type Count by Agency'!BH:BH,'Vehicle Type Count by Agency'!$C:$C,\"=\"&$C88),\"\")","v":0.12392426850258176}]
[null,null,"UT","Utah",null,{"$f":"IFERROR(SUMIFS('Vehicle Type Count by Agency'!K:K,'Vehicle Type Count by Agency'!$C:$C,\"=\"&$C89)/SUMIFS('Vehicle Type Count by Agency'!J:J,'Vehicle Type Count by Agency'!$C:$C,\"=\"&$C89),\"\")","v":9.7560975609756101E-2},{"$f":"IFERROR(SUMIFS('Vehicle Type Count by Agency'!M:M,'Vehicle Type Count by Agency'!$C:$C,\"=\"&$C89)/SUMIFS('Vehicle Type Count by Agency'!L:L,'Vehicle Type Count by Agency'!$C:$C,\"=\"&$C89),\"\")","v":0},{"$f":"IFERROR(SUMIFS('Vehicle Type Count by Agency'!O:O,'Vehicle Type Count by Agency'!$C:$C,\"=\"&$C89)/SUMIFS('Vehicle Type Count by Agency'!N:N,'Vehicle Type Count by Agency'!$C:$C,\"=\"&$C89),\"\")","v":0.41509433962264153},{"$f":"IFERROR(SUMIFS('Vehicle Type Count by Agency'!Q:Q,'Vehicle Type Count by Agency'!$C:$C,\"=\"&$C89)/SUMIFS('Vehicle Type Count by Agency'!P:P,'Vehicle Type Count by Agency'!$C:$C,\"=\"&$C89),\"\")","v":""},{"$f":"IFERROR(SUMIFS('Vehicle Type Count by Agency'!S:S,'Vehicle Type Count by Agency'!$C:$C,\"=\"&$C89)/SUMIFS('Vehicle Type Count by Agency'!R:R,'Vehicle Type Count by Agency'!$C:$C,\"=\"&$C89),\"\")","v":""},{"$f":"IFERROR(SUMIFS('Vehicle Type Count by Agency'!U:U,'Vehicle Type Count by Agency'!$C:$C,\"=\"&$C89)/SUMIFS('Vehicle Type Count by Agency'!T:T,'Vehicle Type Count by Agency'!$C:$C,\"=\"&$C89),\"\")","v":0.24623115577889448},{"$f":"IFERROR(SUMIFS('Vehicle Type Count by Agency'!W:W,'Vehicle Type Count by Agency'!$C:$C,\"=\"&$C89)/SUMIFS('Vehicle Type Count by Agency'!V:V,'Vehicle Type Count by Agency'!$C:$C,\"=\"&$C89),\"\")","v":3.1578947368421054E-2},{"$f":"IFERROR(SUMIFS('Vehicle Type Count by Agency'!Y:Y,'Vehicle Type Count by Agency'!$C:$C,\"=\"&$C89)/SUMIFS('Vehicle Type Count by Agency'!X:X,'Vehicle Type Count by Agency'!$C:$C,\"=\"&$C89),\"\")","v":0.2857142857142857},{"$f":"IFERROR(SUMIFS('Vehicle Type Count by Agency'!AA:AA,'Vehicle Type Count by Agency'!$C:$C,\"=\"&$C89)/SUMIFS('Vehicle Type Count by Agency'!Z:Z,'Vehicle Type Count by Agency'!$C:$C,\"=\"&$C89),\"\")","v":0.47368421052631576},{"$f":"IFERROR(SUMIFS('Vehicle Type Count by Agency'!AC:AC,'Vehicle Type Count by Agency'!$C:$C,\"=\"&$C89)/SUMIFS('Vehicle Type Count by Agency'!AB:AB,'Vehicle Type Count by Agency'!$C:$C,\"=\"&$C89),\"\")","v":0},{"$f":"IFERROR(SUMIFS('Vehicle Type Count by Agency'!AE:AE,'Vehicle Type Count by Agency'!$C:$C,\"=\"&$C89)/SUMIFS('Vehicle Type Count by Agency'!AD:AD,'Vehicle Type Count by Agency'!$C:$C,\"=\"&$C89),\"\")","v":""},{"$f":"IFERROR(SUMIFS('Vehicle Type Count by Agency'!AG:AG,'Vehicle Type Count by Agency'!$C:$C,\"=\"&$C89)/SUMIFS('Vehicle Type Count by Agency'!AF:AF,'Vehicle Type Count by Agency'!$C:$C,\"=\"&$C89),\"\")","v":""},{"$f":"IFERROR(SUMIFS('Vehicle Type Count by Agency'!AI:AI,'Vehicle Type Count by Agency'!$C:$C,\"=\"&$C89)/SUMIFS('Vehicle Type Count by Agency'!AH:AH,'Vehicle Type Count by Agency'!$C:$C,\"=\"&$C89),\"\")","v":0},{"$f":"IFERROR(SUMIFS('Vehicle Type Count by Agency'!AK:AK,'Vehicle Type Count by Agency'!$C:$C,\"=\"&$C89)/SUMIFS('Vehicle Type Count by Agency'!AJ:AJ,'Vehicle Type Count by Agency'!$C:$C,\"=\"&$C89),\"\")","v":0.27450980392156865},{"$f":"IFERROR(SUMIFS('Vehicle Type Count by Agency'!AM:AM,'Vehicle Type Count by Agency'!$C:$C,\"=\"&$C89)/SUMIFS('Vehicle Type Count by Agency'!AL:AL,'Vehicle Type Count by Agency'!$C:$C,\"=\"&$C89),\"\")","v":""},{"$f":"IFERROR(SUMIFS('Vehicle Type Count by Agency'!AO:AO,'Vehicle Type Count by Agency'!$C:$C,\"=\"&$C89)/SUMIFS('Vehicle Type Count by Agency'!AN:AN,'Vehicle Type Count by Agency'!$C:$C,\"=\"&$C89),\"\")","v":0},{"$f":"IFERROR(SUMIFS('Vehicle Type Count by Agency'!AQ:AQ,'Vehicle Type Count by Agency'!$C:$C,\"=\"&$C89)/SUMIFS('Vehicle Type Count by Agency'!AP:AP,'Vehicle Type Count by Agency'!$C:$C,\"=\"&$C89),\"\")","v":""},{"$f":"IFERROR(SUMIFS('Vehicle Type Count by Agency'!AS:AS,'Vehicle Type Count by Agency'!$C:$C,\"=\"&$C89)/SUMIFS('Vehicle Type Count by Agency'!AR:AR,'Vehicle Type Count by Agency'!$C:$C,\"=\"&$C89),\"\")","v":""},{"$f":"IFERROR(SUMIFS('Vehicle Type Count by Agency'!AU:AU,'Vehicle Type Count by Agency'!$C:$C,\"=\"&$C89)/SUMIFS('Vehicle Type Count by Agency'!AT:AT,'Vehicle Type Count by Agency'!$C:$C,\"=\"&$C89),\"\")","v":""},{"$f":"IFERROR(SUMIFS('Vehicle Type Count by Agency'!AW:AW,'Vehicle Type Count by Agency'!$C:$C,\"=\"&$C89)/SUMIFS('Vehicle Type Count by Agency'!AV:AV,'Vehicle Type Count by Agency'!$C:$C,\"=\"&$C89),\"\")","v":""},{"$f":"IFERROR(SUMIFS('Vehicle Type Count by Agency'!AY:AY,'Vehicle Type Count by Agency'!$C:$C,\"=\"&$C89)/SUMIFS('Vehicle Type Count by Agency'!AX:AX,'Vehicle Type Count by Agency'!$C:$C,\"=\"&$C89),\"\")","v":""},{"$f":"IFERROR(SUMIFS('Vehicle Type Count by Agency'!BA:BA,'Vehicle Type Count by Agency'!$C:$C,\"=\"&$C89)/SUMIFS('Vehicle Type Count by Agency'!AZ:AZ,'Vehicle Type Count by Agency'!$C:$C,\"=\"&$C89),\"\")","v":""},{"$f":"IFERROR(SUMIFS('Vehicle Type Count by Agency'!BC:BC,'Vehicle Type Count by Agency'!$C:$C,\"=\"&$C89)/SUMIFS('Vehicle Type Count by Agency'!BB:BB,'Vehicle Type Count by Agency'!$C:$C,\"=\"&$C89),\"\")","v":""},{"$f":"IFERROR(SUMIFS('Vehicle Type Count by Agency'!BE:BE,'Vehicle Type Count by Agency'!$C:$C,\"=\"&$C89)/SUMIFS('Vehicle Type Count by Agency'!BD:BD,'Vehicle Type Count by Agency'!$C:$C,\"=\"&$C89),\"\")","v":""},{"$f":"IFERROR(SUMIFS('Vehicle Type Count by Agency'!BG:BG,'Vehicle Type Count by Agency'!$C:$C,\"=\"&$C89)/SUMIFS('Vehicle Type Count by Agency'!BF:BF,'Vehicle Type Count by Agency'!$C:$C,\"=\"&$C89),\"\")","v":""},{"$f":"IFERROR(SUMIFS('Vehicle Type Count by Agency'!BI:BI,'Vehicle Type Count by Agency'!$C:$C,\"=\"&$C89)/SUMIFS('Vehicle Type Count by Agency'!BH:BH,'Vehicle Type Count by Agency'!$C:$C,\"=\"&$C89),\"\")","v":0.13845099383139137}]
[null,null,"VA","Virginia",null,{"$f":"IFERROR(SUMIFS('Vehicle Type Count by Agency'!K:K,'Vehicle Type Count by Agency'!$C:$C,\"=\"&$C90)/SUMIFS('Vehicle Type Count by Agency'!J:J,'Vehicle Type Count by Agency'!$C:$C,\"=\"&$C90),\"\")","v":0.1306122448979592},{"$f":"IFERROR(SUMIFS('Vehicle Type Count by Agency'!M:M,'Vehicle Type Count by Agency'!$C:$C,\"=\"&$C90)/SUMIFS('Vehicle Type Count by Agency'!L:L,'Vehicle Type Count by Agency'!$C:$C,\"=\"&$C90),\"\")","v":0.18181818181818182},{"$f":"IFERROR(SUMIFS('Vehicle Type Count by Agency'!O:O,'Vehicle Type Count by Agency'!$C:$C,\"=\"&$C90)/SUMIFS('Vehicle Type Count by Agency'!N:N,'Vehicle Type Count by Agency'!$C:$C,\"=\"&$C90),\"\")","v":0.33139534883720928},{"$f":"IFERROR(SUMIFS('Vehicle Type Count by Agency'!Q:Q,'Vehicle Type Count by Agency'!$C:$C,\"=\"&$C90)/SUMIFS('Vehicle Type Count by Agency'!P:P,'Vehicle Type Count by Agency'!$C:$C,\"=\"&$C90),\"\")","v":""},{"$f":"IFERROR(SUMIFS('Vehicle Type Count by Agency'!S:S,'Vehicle Type Count by Agency'!$C:$C,\"=\"&$C90)/SUMIFS('Vehicle Type Count by Agency'!R:R,'Vehicle Type Count by Agency'!$C:$C,\"=\"&$C90),\"\")","v":""},{"$f":"IFERROR(SUMIFS('Vehicle Type Count by Agency'!U:U,'Vehicle Type Count by Agency'!$C:$C,\"=\"&$C90)/SUMIFS('Vehicle Type Count by Agency'!T:T,'Vehicle Type Count by Agency'!$C:$C,\"=\"&$C90),\"\")","v":1.0288065843621399E-2},{"$f":"IFERROR(SUMIFS('Vehicle Type Count by Agency'!W:W,'Vehicle Type Count by Agency'!$C:$C,\"=\"&$C90)/SUMIFS('Vehicle Type Count by Agency'!V:V,'Vehicle Type Count by Agency'!$C:$C,\"=\"&$C90),\"\")","v":0.13671875},{"$f":"IFERROR(SUMIFS('Vehicle Type Count by Agency'!Y:Y,'Vehicle Type Count by Agency'!$C:$C,\"=\"&$C90)/SUMIFS('Vehicle Type Count by Agency'!X:X,'Vehicle Type Count by Agency'!$C:$C,\"=\"&$C90),\"\")","v":0},{"$f":"IFERROR(SUMIFS('Vehicle Type Count by Agency'!AA:AA,'Vehicle Type Count by Agency'!$C:$C,\"=\"&$C90)/SUMIFS('Vehicle Type Count by Agency'!Z:Z,'Vehicle Type Count by Agency'!$C:$C,\"=\"&$C90),\"\")","v":7.5342465753424653E-2},{"$f":"IFERROR(SUMIFS('Vehicle Type Count by Agency'!AC:AC,'Vehicle Type Count by Agency'!$C:$C,\"=\"&$C90)/SUMIFS('Vehicle Type Count by Agency'!AB:AB,'Vehicle Type Count by Agency'!$C:$C,\"=\"&$C90),\"\")","v":0},{"$f":"IFERROR(SUMIFS('Vehicle Type Count by Agency'!AE:AE,'Vehicle Type Count by Agency'!$C:$C,\"=\"&$C90)/SUMIFS('Vehicle Type Count by Agency'!AD:AD,'Vehicle Type Count by Agency'!$C:$C,\"=\"&$C90),\"\")","v":""},{"$f":"IFERROR(SUMIFS('Vehicle Type Count by Agency'!AG:AG,'Vehicle Type Count by Agency'!$C:$C,\"=\"&$C90)/SUMIFS('Vehicle Type Count by Agency'!AF:AF,'Vehicle Type Count by Agency'!$C:$C,\"=\"&$C90),\"\")","v":""},{"$f":"IFERROR(SUMIFS('Vehicle Type Count by Agency'!AI:AI,'Vehicle Type Count by Agency'!$C:$C,\"=\"&$C90)/SUMIFS('Vehicle Type Count by Agency'!AH:AH,'Vehicle Type Count by Agency'!$C:$C,\"=\"&$C90),\"\")","v":0},{"$f":"IFERROR(SUMIFS('Vehicle Type Count by Agency'!AK:AK,'Vehicle Type Count by Agency'!$C:$C,\"=\"&$C90)/SUMIFS('Vehicle Type Count by Agency'!AJ:AJ,'Vehicle Type Count by Agency'!$C:$C,\"=\"&$C90),\"\")","v":0},{"$f":"IFERROR(SUMIFS('Vehicle Type Count by Agency'!AM:AM,'Vehicle Type Count by Agency'!$C:$C,\"=\"&$C90)/SUMIFS('Vehicle Type Count by Agency'!AL:AL,'Vehicle Type Count by Agency'!$C:$C,\"=\"&$C90),\"\")","v":""},{"$f":"IFERROR(SUMIFS('Vehicle Type Count by Agency'!AO:AO,'Vehicle Type Count by Agency'!$C:$C,\"=\"&$C90)/SUMIFS('Vehicle Type Count by Agency'!AN:AN,'Vehicle Type Count by Agency'!$C:$C,\"=\"&$C90),\"\")","v":0},{"$f":"IFERROR(SUMIFS('Vehicle Type Count by Agency'!AQ:AQ,'Vehicle Type Count by Agency'!$C:$C,\"=\"&$C90)/SUMIFS('Vehicle Type Count by Agency'!AP:AP,'Vehicle Type Count by Agency'!$C:$C,\"=\"&$C90),\"\")","v":""},{"$f":"IFERROR(SUMIFS('Vehicle Type Count by Agency'!AS:AS,'Vehicle Type Count by Agency'!$C:$C,\"=\"&$C90)/SUMIFS('Vehicle Type Count by Agency'!AR:AR,'Vehicle Type Count by Agency'!$C:$C,\"=\"&$C90),\"\")","v":""},{"$f":"IFERROR(SUMIFS('Vehicle Type Count by Agency'!AU:AU,'Vehicle Type Count by Agency'!$C:$C,\"=\"&$C90)/SUMIFS('Vehicle Type Count by Agency'!AT:AT,'Vehicle Type Count by Agency'!$C:$C,\"=\"&$C90),\"\")","v":""},{"$f":"IFERROR(SUMIFS('Vehicle Type Count by Agency'!AW:AW,'Vehicle Type Count by Agency'!$C:$C,\"=\"&$C90)/SUMIFS('Vehicle Type Count by Agency'!AV:AV,'Vehicle Type Count by Agency'!$C:$C,\"=\"&$C90),\"\")","v":""},{"$f":"IFERROR(SUMIFS('Vehicle Type Count by Agency'!AY:AY,'Vehicle Type Count by Agency'!$C:$C,\"=\"&$C90)/SUMIFS('Vehicle Type Count by Agency'!AX:AX,'Vehicle Type Count by Agency'!$C:$C,\"=\"&$C90),\"\")","v":""},{"$f":"IFERROR(SUMIFS('Vehicle Type Count by Agency'!BA:BA,'Vehicle Type Count by Agency'!$C:$C,\"=\"&$C90)/SUMIFS('Vehicle Type Count by Agency'!AZ:AZ,'Vehicle Type Count by Agency'!$C:$C,\"=\"&$C90),\"\")","v":""},{"$f":"IFERROR(SUMIFS('Vehicle Type Count by Agency'!BC:BC,'Vehicle Type Count by Agency'!$C:$C,\"=\"&$C90)/SUMIFS('Vehicle Type Count by Agency'!BB:BB,'Vehicle Type Count by Agency'!$C:$C,\"=\"&$C90),\"\")","v":""},{"$f":"IFERROR(SUMIFS('Vehicle Type Count by Agency'!BE:BE,'Vehicle Type Count by Agency'!$C:$C,\"=\"&$C90)/SUMIFS('Vehicle Type Count by Agency'!BD:BD,'Vehicle Type Count by Agency'!$C:$C,\"=\"&$C90),\"\")","v":0.5},{"$f":"IFERROR(SUMIFS('Vehicle Type Count by Agency'!BG:BG,'Vehicle Type Count by Agency'!$C:$C,\"=\"&$C90)/SUMIFS('Vehicle Type Count by Agency'!BF:BF,'Vehicle Type Count by Agency'!$C:$C,\"=\"&$C90),\"\")","v":""},{"$f":"IFERROR(SUMIFS('Vehicle Type Count by Agency'!BI:BI,'Vehicle Type Count by Agency'!$C:$C,\"=\"&$C90)/SUMIFS('Vehicle Type Count by Agency'!BH:BH,'Vehicle Type Count by Agency'!$C:$C,\"=\"&$C90),\"\")","v":9.8189020939445384E-2}]
[null,null,"VI","Virgin Islands",null,{"$f":"IFERROR(SUMIFS('Vehicle Type Count by Agency'!K:K,'Vehicle Type Count by Agency'!$C:$C,\"=\"&$C91)/SUMIFS('Vehicle Type Count by Agency'!J:J,'Vehicle Type Count by Agency'!$C:$C,\"=\"&$C91),\"\")","v":0},{"$f":"IFERROR(SUMIFS('Vehicle Type Count by Agency'!M:M,'Vehicle Type Count by Agency'!$C:$C,\"=\"&$C91)/SUMIFS('Vehicle Type Count by Agency'!L:L,'Vehicle Type Count by Agency'!$C:$C,\"=\"&$C91),\"\")","v":""},{"$f":"IFERROR(SUMIFS('Vehicle Type Count by Agency'!O:O,'Vehicle Type Count by Agency'!$C:$C,\"=\"&$C91)/SUMIFS('Vehicle Type Count by Agency'!N:N,'Vehicle Type Count by Agency'!$C:$C,\"=\"&$C91),\"\")","v":""},{"$f":"IFERROR(SUMIFS('Vehicle Type Count by Agency'!Q:Q,'Vehicle Type Count by Agency'!$C:$C,\"=\"&$C91)/SUMIFS('Vehicle Type Count by Agency'!P:P,'Vehicle Type Count by Agency'!$C:$C,\"=\"&$C91),\"\")","v":""},{"$f":"IFERROR(SUMIFS('Vehicle Type Count by Agency'!S:S,'Vehicle Type Count by Agency'!$C:$C,\"=\"&$C91)/SUMIFS('Vehicle Type Count by Agency'!R:R,'Vehicle Type Count by Agency'!$C:$C,\"=\"&$C91),\"\")","v":""},{"$f":"IFERROR(SUMIFS('Vehicle Type Count by Agency'!U:U,'Vehicle Type Count by Agency'!$C:$C,\"=\"&$C91)/SUMIFS('Vehicle Type Count by Agency'!T:T,'Vehicle Type Count by Agency'!$C:$C,\"=\"&$C91),\"\")","v":0.21052631578947367},{"$f":"IFERROR(SUMIFS('Vehicle Type Count by Agency'!W:W,'Vehicle Type Count by Agency'!$C:$C,\"=\"&$C91)/SUMIFS('Vehicle Type Count by Agency'!V:V,'Vehicle Type Count by Agency'!$C:$C,\"=\"&$C91),\"\")","v":0},{"$f":"IFERROR(SUMIFS('Vehicle Type Count by Agency'!Y:Y,'Vehicle Type Count by Agency'!$C:$C,\"=\"&$C91)/SUMIFS('Vehicle Type Count by Agency'!X:X,'Vehicle Type Count by Agency'!$C:$C,\"=\"&$C91),\"\")","v":""},{"$f":"IFERROR(SUMIFS('Vehicle Type Count by Agency'!AA:AA,'Vehicle Type Count by Agency'!$C:$C,\"=\"&$C91)/SUMIFS('Vehicle Type Count by Agency'!Z:Z,'Vehicle Type Count by Agency'!$C:$C,\"=\"&$C91),\"\")","v":""},{"$f":"IFERROR(SUMIFS('Vehicle Type Count by Agency'!AC:AC,'Vehicle Type Count by Agency'!$C:$C,\"=\"&$C91)/SUMIFS('Vehicle Type Count by Agency'!AB:AB,'Vehicle Type Count by Agency'!$C:$C,\"=\"&$C91),\"\")","v":""},{"$f":"IFERROR(SUMIFS('Vehicle Type Count by Agency'!AE:AE,'Vehicle Type Count by Agency'!$C:$C,\"=\"&$C91)/SUMIFS('Vehicle Type Count by Agency'!AD:AD,'Vehicle Type Count by Agency'!$C:$C,\"=\"&$C91),\"\")","v":""},{"$f":"IFERROR(SUMIFS('Vehicle Type Count by Agency'!AG:AG,'Vehicle Type Count by Agency'!$C:$C,\"=\"&$C91)/SUMIFS('Vehicle Type Count by Agency'!AF:AF,'Vehicle Type Count by Agency'!$C:$C,\"=\"&$C91),\"\")","v":""},{"$f":"IFERROR(SUMIFS('Vehicle Type Count by Agency'!AI:AI,'Vehicle Type Count by Agency'!$C:$C,\"=\"&$C91)/SUMIFS('Vehicle Type Count by Agency'!AH:AH,'Vehicle Type Count by Agency'!$C:$C,\"=\"&$C91),\"\")","v":""},{"$f":"IFERROR(SUMIFS('Vehicle Type Count by Agency'!AK:AK,'Vehicle Type Count by Agency'!$C:$C,\"=\"&$C91)/SUMIFS('Vehicle Type Count by Agency'!AJ:AJ,'Vehicle Type Count by Agency'!$C:$C,\"=\"&$C91),\"\")","v":""},{"$f":"IFERROR(SUMIFS('Vehicle Type Count by Agency'!AM:AM,'Vehicle Type Count by Agency'!$C:$C,\"=\"&$C91)/SUMIFS('Vehicle Type Count by Agency'!AL:AL,'Vehicle Type Count by Agency'!$C:$C,\"=\"&$C91),\"\")","v":""},{"$f":"IFERROR(SUMIFS('Vehicle Type Count by Agency'!AO:AO,'Vehicle Type Count by Agency'!$C:$C,\"=\"&$C91)/SUMIFS('Vehicle Type Count by Agency'!AN:AN,'Vehicle Type Count by Agency'!$C:$C,\"=\"&$C91),\"\")","v":""},{"$f":"IFERROR(SUMIFS('Vehicle Type Count by Agency'!AQ:AQ,'Vehicle Type Count by Agency'!$C:$C,\"=\"&$C91)/SUMIFS('Vehicle Type Count by Agency'!AP:AP,'Vehicle Type Count by Agency'!$C:$C,\"=\"&$C91),\"\")","v":""},{"$f":"IFERROR(SUMIFS('Vehicle Type Count by Agency'!AS:AS,'Vehicle Type Count by Agency'!$C:$C,\"=\"&$C91)/SUMIFS('Vehicle Type Count by Agency'!AR:AR,'Vehicle Type Count by Agency'!$C:$C,\"=\"&$C91),\"\")","v":""},{"$f":"IFERROR(SUMIFS('Vehicle Type Count by Agency'!AU:AU,'Vehicle Type Count by Agency'!$C:$C,\"=\"&$C91)/SUMIFS('Vehicle Type Count by Agency'!AT:AT,'Vehicle Type Count by Agency'!$C:$C,\"=\"&$C91),\"\")","v":""},{"$f":"IFERROR(SUMIFS('Vehicle Type Count by Agency'!AW:AW,'Vehicle Type Count by Agency'!$C:$C,\"=\"&$C91)/SUMIFS('Vehicle Type Count by Agency'!AV:AV,'Vehicle Type Count by Agency'!$C:$C,\"=\"&$C91),\"\")","v":""},{"$f":"IFERROR(SUMIFS('Vehicle Type Count by Agency'!AY:AY,'Vehicle Type Count by Agency'!$C:$C,\"=\"&$C91)/SUMIFS('Vehicle Type Count by Agency'!AX:AX,'Vehicle Type Count by Agency'!$C:$C,\"=\"&$C91),\"\")","v":""},{"$f":"IFERROR(SUMIFS('Vehicle Type Count by Agency'!BA:BA,'Vehicle Type Count by Agency'!$C:$C,\"=\"&$C91)/SUMIFS('Vehicle Type Count by Agency'!AZ:AZ,'Vehicle Type Count by Agency'!$C:$C,\"=\"&$C91),\"\")","v":""},{"$f":"IFERROR(SUMIFS('Vehicle Type Count by Agency'!BC:BC,'Vehicle Type Count by Agency'!$C:$C,\"=\"&$C91)/SUMIFS('Vehicle Type Count by Agency'!BB:BB,'Vehicle Type Count by Agency'!$C:$C,\"=\"&$C91),\"\")","v":""},{"$f":"IFERROR(SUMIFS('Vehicle Type Count by Agency'!BE:BE,'Vehicle Type Count by Agency'!$C:$C,\"=\"&$C91)/SUMIFS('Vehicle Type Count by Agency'!BD:BD,'Vehicle Type Count by Agency'!$C:$C,\"=\"&$C91),\"\")","v":""},{"$f":"IFERROR(SUMIFS('Vehicle Type Count by Agency'!BG:BG,'Vehicle Type Count by Agency'!$C:$C,\"=\"&$C91)/SUMIFS('Vehicle Type Count by Agency'!BF:BF,'Vehicle Type Count by Agency'!$C:$C,\"=\"&$C91),\"\")","v":""},{"$f":"IFERROR(SUMIFS('Vehicle Type Count by Agency'!BI:BI,'Vehicle Type Count by Agency'!$C:$C,\"=\"&$C91)/SUMIFS('Vehicle Type Count by Agency'!BH:BH,'Vehicle Type Count by Agency'!$C:$C,\"=\"&$C91),\"\")","v":0.14814814814814814}]
[null,null,"VT","Vermont",null,{"$f":"IFERROR(SUMIFS('Vehicle Type Count by Agency'!K:K,'Vehicle Type Count by Agency'!$C:$C,\"=\"&$C92)/SUMIFS('Vehicle Type Count by Agency'!J:J,'Vehicle Type Count by Agency'!$C:$C,\"=\"&$C92),\"\")","v":0.10434782608695652},{"$f":"IFERROR(SUMIFS('Vehicle Type Count by Agency'!M:M,'Vehicle Type Count by Agency'!$C:$C,\"=\"&$C92)/SUMIFS('Vehicle Type Count by Agency'!L:L,'Vehicle Type Count by Agency'!$C:$C,\"=\"&$C92),\"\")","v":""},{"$f":"IFERROR(SUMIFS('Vehicle Type Count by Agency'!O:O,'Vehicle Type Count by Agency'!$C:$C,\"=\"&$C92)/SUMIFS('Vehicle Type Count by Agency'!N:N,'Vehicle Type Count by Agency'!$C:$C,\"=\"&$C92),\"\")","v":0},{"$f":"IFERROR(SUMIFS('Vehicle Type Count by Agency'!Q:Q,'Vehicle Type Count by Agency'!$C:$C,\"=\"&$C92)/SUMIFS('Vehicle Type Count by Agency'!P:P,'Vehicle Type Count by Agency'!$C:$C,\"=\"&$C92),\"\")","v":""},{"$f":"IFERROR(SUMIFS('Vehicle Type Count by Agency'!S:S,'Vehicle Type Count by Agency'!$C:$C,\"=\"&$C92)/SUMIFS('Vehicle Type Count by Agency'!R:R,'Vehicle Type Count by Agency'!$C:$C,\"=\"&$C92),\"\")","v":""},{"$f":"IFERROR(SUMIFS('Vehicle Type Count by Agency'!U:U,'Vehicle Type Count by Agency'!$C:$C,\"=\"&$C92)/SUMIFS('Vehicle Type Count by Agency'!T:T,'Vehicle Type Count by Agency'!$C:$C,\"=\"&$C92),\"\")","v":0.4},{"$f":"IFERROR(SUMIFS('Vehicle Type Count by Agency'!W:W,'Vehicle Type Count by Agency'!$C:$C,\"=\"&$C92)/SUMIFS('Vehicle Type Count by Agency'!V:V,'Vehicle Type Count by Agency'!$C:$C,\"=\"&$C92),\"\")","v":0.12757201646090535},{"$f":"IFERROR(SUMIFS('Vehicle Type Count by Agency'!Y:Y,'Vehicle Type Count by Agency'!$C:$C,\"=\"&$C92)/SUMIFS('Vehicle Type Count by Agency'!X:X,'Vehicle Type Count by Agency'!$C:$C,\"=\"&$C92),\"\")","v":4.7619047619047616E-2},{"$f":"IFERROR(SUMIFS('Vehicle Type Count by Agency'!AA:AA,'Vehicle Type Count by Agency'!$C:$C,\"=\"&$C92)/SUMIFS('Vehicle Type Count by Agency'!Z:Z,'Vehicle Type Count by Agency'!$C:$C,\"=\"&$C92),\"\")","v":0.14285714285714285},{"$f":"IFERROR(SUMIFS('Vehicle Type Count by Agency'!AC:AC,'Vehicle Type Count by Agency'!$C:$C,\"=\"&$C92)/SUMIFS('Vehicle Type Count by Agency'!AB:AB,'Vehicle Type Count by Agency'!$C:$C,\"=\"&$C92),\"\")","v":""},{"$f":"IFERROR(SUMIFS('Vehicle Type Count by Agency'!AE:AE,'Vehicle Type Count by Agency'!$C:$C,\"=\"&$C92)/SUMIFS('Vehicle Type Count by Agency'!AD:AD,'Vehicle Type Count by Agency'!$C:$C,\"=\"&$C92),\"\")","v":""},{"$f":"IFERROR(SUMIFS('Vehicle Type Count by Agency'!AG:AG,'Vehicle Type Count by Agency'!$C:$C,\"=\"&$C92)/SUMIFS('Vehicle Type Count by Agency'!AF:AF,'Vehicle Type Count by Agency'!$C:$C,\"=\"&$C92),\"\")","v":""},{"$f":"IFERROR(SUMIFS('Vehicle Type Count by Agency'!AI:AI,'Vehicle Type Count by Agency'!$C:$C,\"=\"&$C92)/SUMIFS('Vehicle Type Count by Agency'!AH:AH,'Vehicle Type Count by Agency'!$C:$C,\"=\"&$C92),\"\")","v":""},{"$f":"IFERROR(SUMIFS('Vehicle Type Count by Agency'!AK:AK,'Vehicle Type Count by Agency'!$C:$C,\"=\"&$C92)/SUMIFS('Vehicle Type Count by Agency'!AJ:AJ,'Vehicle Type Count by Agency'!$C:$C,\"=\"&$C92),\"\")","v":""},{"$f":"IFERROR(SUMIFS('Vehicle Type Count by Agency'!AM:AM,'Vehicle Type Count by Agency'!$C:$C,\"=\"&$C92)/SUMIFS('Vehicle Type Count by Agency'!AL:AL,'Vehicle Type Count by Agency'!$C:$C,\"=\"&$C92),\"\")","v":""},{"$f":"IFERROR(SUMIFS('Vehicle Type Count by Agency'!AO:AO,'Vehicle Type Count by Agency'!$C:$C,\"=\"&$C92)/SUMIFS('Vehicle Type Count by Agency'!AN:AN,'Vehicle Type Count by Agency'!$C:$C,\"=\"&$C92),\"\")","v":""},{"$f":"IFERROR(SUMIFS('Vehicle Type Count by Agency'!AQ:AQ,'Vehicle Type Count by Agency'!$C:$C,\"=\"&$C92)/SUMIFS('Vehicle Type Count by Agency'!AP:AP,'Vehicle Type Count by Agency'!$C:$C,\"=\"&$C92),\"\")","v":""},{"$f":"IFERROR(SUMIFS('Vehicle Type Count by Agency'!AS:AS,'Vehicle Type Count by Agency'!$C:$C,\"=\"&$C92)/SUMIFS('Vehicle Type Count by Agency'!AR:AR,'Vehicle Type Count by Agency'!$C:$C,\"=\"&$C92),\"\")","v":""},{"$f":"IFERROR(SUMIFS('Vehicle Type Count by Agency'!AU:AU,'Vehicle Type Count by Agency'!$C:$C,\"=\"&$C92)/SUMIFS('Vehicle Type Count by Agency'!AT:AT,'Vehicle Type Count by Agency'!$C:$C,\"=\"&$C92),\"\")","v":""},{"$f":"IFERROR(SUMIFS('Vehicle Type Count by Agency'!AW:AW,'Vehicle Type Count by Agency'!$C:$C,\"=\"&$C92)/SUMIFS('Vehicle Type Count by Agency'!AV:AV,'Vehicle Type Count by Agency'!$C:$C,\"=\"&$C92),\"\")","v":""},{"$f":"IFERROR(SUMIFS('Vehicle Type Count by Agency'!AY:AY,'Vehicle Type Count by Agency'!$C:$C,\"=\"&$C92)/SUMIFS('Vehicle Type Count by Agency'!AX:AX,'Vehicle Type Count by Agency'!$C:$C,\"=\"&$C92),\"\")","v":""},{"$f":"IFERROR(SUMIFS('Vehicle Type Count by Agency'!BA:BA,'Vehicle Type Count by Agency'!$C:$C,\"=\"&$C92)/SUMIFS('Vehicle Type Count by Agency'!AZ:AZ,'Vehicle Type Count by Agency'!$C:$C,\"=\"&$C92),\"\")","v":""},{"$f":"IFERROR(SUMIFS('Vehicle Type Count by Agency'!BC:BC,'Vehicle Type Count by Agency'!$C:$C,\"=\"&$C92)/SUMIFS('Vehicle Type Count by Agency'!BB:BB,'Vehicle Type Count by Agency'!$C:$C,\"=\"&$C92),\"\")","v":""},{"$f":"IFERROR(SUMIFS('Vehicle Type Count by Agency'!BE:BE,'Vehicle Type Count by Agency'!$C:$C,\"=\"&$C92)/SUMIFS('Vehicle Type Count by Agency'!BD:BD,'Vehicle Type Count by Agency'!$C:$C,\"=\"&$C92),\"\")","v":""},{"$f":"IFERROR(SUMIFS('Vehicle Type Count by Agency'!BG:BG,'Vehicle Type Count by Agency'!$C:$C,\"=\"&$C92)/SUMIFS('Vehicle Type Count by Agency'!BF:BF,'Vehicle Type Count by Agency'!$C:$C,\"=\"&$C92),\"\")","v":""},{"$f":"IFERROR(SUMIFS('Vehicle Type Count by Agency'!BI:BI,'Vehicle Type Count by Agency'!$C:$C,\"=\"&$C92)/SUMIFS('Vehicle Type Count by Agency'!BH:BH,'Vehicle Type Count by Agency'!$C:$C,\"=\"&$C92),\"\")","v":0.11678832116788321}]
[null,null,"WA","Washington",null,{"$f":"IFERROR(SUMIFS('Vehicle Type Count by Agency'!K:K,'Vehicle Type Count by Agency'!$C:$C,\"=\"&$C93)/SUMIFS('Vehicle Type Count by Agency'!J:J,'Vehicle Type Count by Agency'!$C:$C,\"=\"&$C93),\"\")","v":0.22541690626797009},{"$f":"IFERROR(SUMIFS('Vehicle Type Count by Agency'!M:M,'Vehicle Type Count by Agency'!$C:$C,\"=\"&$C93)/SUMIFS('Vehicle Type Count by Agency'!L:L,'Vehicle Type Count by Agency'!$C:$C,\"=\"&$C93),\"\")","v":0.22184300341296928},{"$f":"IFERROR(SUMIFS('Vehicle Type Count by Agency'!O:O,'Vehicle Type Count by Agency'!$C:$C,\"=\"&$C93)/SUMIFS('Vehicle Type Count by Agency'!N:N,'Vehicle Type Count by Agency'!$C:$C,\"=\"&$C93),\"\")","v":0},{"$f":"IFERROR(SUMIFS('Vehicle Type Count by Agency'!Q:Q,'Vehicle Type Count by Agency'!$C:$C,\"=\"&$C93)/SUMIFS('Vehicle Type Count by Agency'!P:P,'Vehicle Type Count by Agency'!$C:$C,\"=\"&$C93),\"\")","v":0},{"$f":"IFERROR(SUMIFS('Vehicle Type Count by Agency'!S:S,'Vehicle Type Count by Agency'!$C:$C,\"=\"&$C93)/SUMIFS('Vehicle Type Count by Agency'!R:R,'Vehicle Type Count by Agency'!$C:$C,\"=\"&$C93),\"\")","v":""},{"$f":"IFERROR(SUMIFS('Vehicle Type Count by Agency'!U:U,'Vehicle Type Count by Agency'!$C:$C,\"=\"&$C93)/SUMIFS('Vehicle Type Count by Agency'!T:T,'Vehicle Type Count by Agency'!$C:$C,\"=\"&$C93),\"\")","v":0.34405010438413364},{"$f":"IFERROR(SUMIFS('Vehicle Type Count by Agency'!W:W,'Vehicle Type Count by Agency'!$C:$C,\"=\"&$C93)/SUMIFS('Vehicle Type Count by Agency'!V:V,'Vehicle Type Count by Agency'!$C:$C,\"=\"&$C93),\"\")","v":0.14929785661492978},{"$f":"IFERROR(SUMIFS('Vehicle Type Count by Agency'!Y:Y,'Vehicle Type Count by Agency'!$C:$C,\"=\"&$C93)/SUMIFS('Vehicle Type Count by Agency'!X:X,'Vehicle Type Count by Agency'!$C:$C,\"=\"&$C93),\"\")","v":7.575757575757576E-2},{"$f":"IFERROR(SUMIFS('Vehicle Type Count by Agency'!AA:AA,'Vehicle Type Count by Agency'!$C:$C,\"=\"&$C93)/SUMIFS('Vehicle Type Count by Agency'!Z:Z,'Vehicle Type Count by Agency'!$C:$C,\"=\"&$C93),\"\")","v":3.5280508964719494E-2},{"$f":"IFERROR(SUMIFS('Vehicle Type Count by Agency'!AC:AC,'Vehicle Type Count by Agency'!$C:$C,\"=\"&$C93)/SUMIFS('Vehicle Type Count by Agency'!AB:AB,'Vehicle Type Count by Agency'!$C:$C,\"=\"&$C93),\"\")","v":0.1111111111111111},{"$f":"IFERROR(SUMIFS('Vehicle Type Count by Agency'!AE:AE,'Vehicle Type Count by Agency'!$C:$C,\"=\"&$C93)/SUMIFS('Vehicle Type Count by Agency'!AD:AD,'Vehicle Type Count by Agency'!$C:$C,\"=\"&$C93),\"\")","v":0},{"$f":"IFERROR(SUMIFS('Vehicle Type Count by Agency'!AG:AG,'Vehicle Type Count by Agency'!$C:$C,\"=\"&$C93)/SUMIFS('Vehicle Type Count by Agency'!AF:AF,'Vehicle Type Count by Agency'!$C:$C,\"=\"&$C93),\"\")","v":""},{"$f":"IFERROR(SUMIFS('Vehicle Type Count by Agency'!AI:AI,'Vehicle Type Count by Agency'!$C:$C,\"=\"&$C93)/SUMIFS('Vehicle Type Count by Agency'!AH:AH,'Vehicle Type Count by Agency'!$C:$C,\"=\"&$C93),\"\")","v":0},{"$f":"IFERROR(SUMIFS('Vehicle Type Count by Agency'!AK:AK,'Vehicle Type Count by Agency'!$C:$C,\"=\"&$C93)/SUMIFS('Vehicle Type Count by Agency'!AJ:AJ,'Vehicle Type Count by Agency'!$C:$C,\"=\"&$C93),\"\")","v":0},{"$f":"IFERROR(SUMIFS('Vehicle Type Count by Agency'!AM:AM,'Vehicle Type Count by Agency'!$C:$C,\"=\"&$C93)/SUMIFS('Vehicle Type Count by Agency'!AL:AL,'Vehicle Type Count by Agency'!$C:$C,\"=\"&$C93),\"\")","v":""},{"$f":"IFERROR(SUMIFS('Vehicle Type Count by Agency'!AO:AO,'Vehicle Type Count by Agency'!$C:$C,\"=\"&$C93)/SUMIFS('Vehicle Type Count by Agency'!AN:AN,'Vehicle Type Count by Agency'!$C:$C,\"=\"&$C93),\"\")","v":0},{"$f":"IFERROR(SUMIFS('Vehicle Type Count by Agency'!AQ:AQ,'Vehicle Type Count by Agency'!$C:$C,\"=\"&$C93)/SUMIFS('Vehicle Type Count by Agency'!AP:AP,'Vehicle Type Count by Agency'!$C:$C,\"=\"&$C93),\"\")","v":""},{"$f":"IFERROR(SUMIFS('Vehicle Type Count by Agency'!AS:AS,'Vehicle Type Count by Agency'!$C:$C,\"=\"&$C93)/SUMIFS('Vehicle Type Count by Agency'!AR:AR,'Vehicle Type Count by Agency'!$C:$C,\"=\"&$C93),\"\")","v":""},{"$f":"IFERROR(SUMIFS('Vehicle Type Count by Agency'!AU:AU,'Vehicle Type Count by Agency'!$C:$C,\"=\"&$C93)/SUMIFS('Vehicle Type Count by Agency'!AT:AT,'Vehicle Type Count by Agency'!$C:$C,\"=\"&$C93),\"\")","v":0},{"$f":"IFERROR(SUMIFS('Vehicle Type Count by Agency'!AW:AW,'Vehicle Type Count by Agency'!$C:$C,\"=\"&$C93)/SUMIFS('Vehicle Type Count by Agency'!AV:AV,'Vehicle Type Count by Agency'!$C:$C,\"=\"&$C93),\"\")","v":""},{"$f":"IFERROR(SUMIFS('Vehicle Type Count by Agency'!AY:AY,'Vehicle Type Count by Agency'!$C:$C,\"=\"&$C93)/SUMIFS('Vehicle Type Count by Agency'!AX:AX,'Vehicle Type Count by Agency'!$C:$C,\"=\"&$C93),\"\")","v":0},{"$f":"IFERROR(SUMIFS('Vehicle Type Count by Agency'!BA:BA,'Vehicle Type Count by Agency'!$C:$C,\"=\"&$C93)/SUMIFS('Vehicle Type Count by Agency'!AZ:AZ,'Vehicle Type Count by Agency'!$C:$C,\"=\"&$C93),\"\")","v":""},{"$f":"IFERROR(SUMIFS('Vehicle Type Count by Agency'!BC:BC,'Vehicle Type Count by Agency'!$C:$C,\"=\"&$C93)/SUMIFS('Vehicle Type Count by Agency'!BB:BB,'Vehicle Type Count by Agency'!$C:$C,\"=\"&$C93),\"\")","v":""},{"$f":"IFERROR(SUMIFS('Vehicle Type Count by Agency'!BE:BE,'Vehicle Type Count by Agency'!$C:$C,\"=\"&$C93)/SUMIFS('Vehicle Type Count by Agency'!BD:BD,'Vehicle Type Count by Agency'!$C:$C,\"=\"&$C93),\"\")","v":0},{"$f":"IFERROR(SUMIFS('Vehicle Type Count by Agency'!BG:BG,'Vehicle Type Count by Agency'!$C:$C,\"=\"&$C93)/SUMIFS('Vehicle Type Count by Agency'!BF:BF,'Vehicle Type Count by Agency'!$C:$C,\"=\"&$C93),\"\")","v":1},{"$f":"IFERROR(SUMIFS('Vehicle Type Count by Agency'!BI:BI,'Vehicle Type Count by Agency'!$C:$C,\"=\"&$C93)/SUMIFS('Vehicle Type Count by Agency'!BH:BH,'Vehicle Type Count by Agency'!$C:$C,\"=\"&$C93),\"\")","v":0.19342338352524358}]
[null,null,"WI","Wisconsin",null,{"$f":"IFERROR(SUMIFS('Vehicle Type Count by Agency'!K:K,'Vehicle Type Count by Agency'!$C:$C,\"=\"&$C94)/SUMIFS('Vehicle Type Count by Agency'!J:J,'Vehicle Type Count by Agency'!$C:$C,\"=\"&$C94),\"\")","v":0.24743230625583568},{"$f":"IFERROR(SUMIFS('Vehicle Type Count by Agency'!M:M,'Vehicle Type Count by Agency'!$C:$C,\"=\"&$C94)/SUMIFS('Vehicle Type Count by Agency'!L:L,'Vehicle Type Count by Agency'!$C:$C,\"=\"&$C94),\"\")","v":""},{"$f":"IFERROR(SUMIFS('Vehicle Type Count by Agency'!O:O,'Vehicle Type Count by Agency'!$C:$C,\"=\"&$C94)/SUMIFS('Vehicle Type Count by Agency'!N:N,'Vehicle Type Count by Agency'!$C:$C,\"=\"&$C94),\"\")","v":0},{"$f":"IFERROR(SUMIFS('Vehicle Type Count by Agency'!Q:Q,'Vehicle Type Count by Agency'!$C:$C,\"=\"&$C94)/SUMIFS('Vehicle Type Count by Agency'!P:P,'Vehicle Type Count by Agency'!$C:$C,\"=\"&$C94),\"\")","v":""},{"$f":"IFERROR(SUMIFS('Vehicle Type Count by Agency'!S:S,'Vehicle Type Count by Agency'!$C:$C,\"=\"&$C94)/SUMIFS('Vehicle Type Count by Agency'!R:R,'Vehicle Type Count by Agency'!$C:$C,\"=\"&$C94),\"\")","v":0.66666666666666663},{"$f":"IFERROR(SUMIFS('Vehicle Type Count by Agency'!U:U,'Vehicle Type Count by Agency'!$C:$C,\"=\"&$C94)/SUMIFS('Vehicle Type Count by Agency'!T:T,'Vehicle Type Count by Agency'!$C:$C,\"=\"&$C94),\"\")","v":0.10991957104557641},{"$f":"IFERROR(SUMIFS('Vehicle Type Count by Agency'!W:W,'Vehicle Type Count by Agency'!$C:$C,\"=\"&$C94)/SUMIFS('Vehicle Type Count by Agency'!V:V,'Vehicle Type Count by Agency'!$C:$C,\"=\"&$C94),\"\")","v":0.3823953823953824},{"$f":"IFERROR(SUMIFS('Vehicle Type Count by Agency'!Y:Y,'Vehicle Type Count by Agency'!$C:$C,\"=\"&$C94)/SUMIFS('Vehicle Type Count by Agency'!X:X,'Vehicle Type Count by Agency'!$C:$C,\"=\"&$C94),\"\")","v":0.35514018691588783},{"$f":"IFERROR(SUMIFS('Vehicle Type Count by Agency'!AA:AA,'Vehicle Type Count by Agency'!$C:$C,\"=\"&$C94)/SUMIFS('Vehicle Type Count by Agency'!Z:Z,'Vehicle Type Count by Agency'!$C:$C,\"=\"&$C94),\"\")","v":0.35081967213114756},{"$f":"IFERROR(SUMIFS('Vehicle Type Count by Agency'!AC:AC,'Vehicle Type Count by Agency'!$C:$C,\"=\"&$C94)/SUMIFS('Vehicle Type Count by Agency'!AB:AB,'Vehicle Type Count by Agency'!$C:$C,\"=\"&$C94),\"\")","v":""},{"$f":"IFERROR(SUMIFS('Vehicle Type Count by Agency'!AE:AE,'Vehicle Type Count by Agency'!$C:$C,\"=\"&$C94)/SUMIFS('Vehicle Type Count by Agency'!AD:AD,'Vehicle Type Count by Agency'!$C:$C,\"=\"&$C94),\"\")","v":""},{"$f":"IFERROR(SUMIFS('Vehicle Type Count by Agency'!AG:AG,'Vehicle Type Count by Agency'!$C:$C,\"=\"&$C94)/SUMIFS('Vehicle Type Count by Agency'!AF:AF,'Vehicle Type Count by Agency'!$C:$C,\"=\"&$C94),\"\")","v":""},{"$f":"IFERROR(SUMIFS('Vehicle Type Count by Agency'!AI:AI,'Vehicle Type Count by Agency'!$C:$C,\"=\"&$C94)/SUMIFS('Vehicle Type Count by Agency'!AH:AH,'Vehicle Type Count by Agency'!$C:$C,\"=\"&$C94),\"\")","v":""},{"$f":"IFERROR(SUMIFS('Vehicle Type Count by Agency'!AK:AK,'Vehicle Type Count by Agency'!$C:$C,\"=\"&$C94)/SUMIFS('Vehicle Type Count by Agency'!AJ:AJ,'Vehicle Type Count by Agency'!$C:$C,\"=\"&$C94),\"\")","v":""},{"$f":"IFERROR(SUMIFS('Vehicle Type Count by Agency'!AM:AM,'Vehicle Type Count by Agency'!$C:$C,\"=\"&$C94)/SUMIFS('Vehicle Type Count by Agency'!AL:AL,'Vehicle Type Count by Agency'!$C:$C,\"=\"&$C94),\"\")","v":""},{"$f":"IFERROR(SUMIFS('Vehicle Type Count by Agency'!AO:AO,'Vehicle Type Count by Agency'!$C:$C,\"=\"&$C94)/SUMIFS('Vehicle Type Count by Agency'!AN:AN,'Vehicle Type Count by Agency'!$C:$C,\"=\"&$C94),\"\")","v":""},{"$f":"IFERROR(SUMIFS('Vehicle Type Count by Agency'!AQ:AQ,'Vehicle Type Count by Agency'!$C:$C,\"=\"&$C94)/SUMIFS('Vehicle Type Count by Agency'!AP:AP,'Vehicle Type Count by Agency'!$C:$C,\"=\"&$C94),\"\")","v":""},{"$f":"IFERROR(SUMIFS('Vehicle Type Count by Agency'!AS:AS,'Vehicle Type Count by Agency'!$C:$C,\"=\"&$C94)/SUMIFS('Vehicle Type Count by Agency'!AR:AR,'Vehicle Type Count by Agency'!$C:$C,\"=\"&$C94),\"\")","v":1},{"$f":"IFERROR(SUMIFS('Vehicle Type Count by Agency'!AU:AU,'Vehicle Type Count by Agency'!$C:$C,\"=\"&$C94)/SUMIFS('Vehicle Type Count by Agency'!AT:AT,'Vehicle Type Count by Agency'!$C:$C,\"=\"&$C94),\"\")","v":0},{"$f":"IFERROR(SUMIFS('Vehicle Type Count by Agency'!AW:AW,'Vehicle Type Count by Agency'!$C:$C,\"=\"&$C94)/SUMIFS('Vehicle Type Count by Agency'!AV:AV,'Vehicle Type Count by Agency'!$C:$C,\"=\"&$C94),\"\")","v":""},{"$f":"IFERROR(SUMIFS('Vehicle Type Count by Agency'!AY:AY,'Vehicle Type Count by Agency'!$C:$C,\"=\"&$C94)/SUMIFS('Vehicle Type Count by Agency'!AX:AX,'Vehicle Type Count by Agency'!$C:$C,\"=\"&$C94),\"\")","v":""},{"$f":"IFERROR(SUMIFS('Vehicle Type Count by Agency'!BA:BA,'Vehicle Type Count by Agency'!$C:$C,\"=\"&$C94)/SUMIFS('Vehicle Type Count by Agency'!AZ:AZ,'Vehicle Type Count by Agency'!$C:$C,\"=\"&$C94),\"\")","v":""},{"$f":"IFERROR(SUMIFS('Vehicle Type Count by Agency'!BC:BC,'Vehicle Type Count by Agency'!$C:$C,\"=\"&$C94)/SUMIFS('Vehicle Type Count by Agency'!BB:BB,'Vehicle Type Count by Agency'!$C:$C,\"=\"&$C94),\"\")","v":""},{"$f":"IFERROR(SUMIFS('Vehicle Type Count by Agency'!BE:BE,'Vehicle Type Count by Agency'!$C:$C,\"=\"&$C94)/SUMIFS('Vehicle Type Count by Agency'!BD:BD,'Vehicle Type Count by Agency'!$C:$C,\"=\"&$C94),\"\")","v":""},{"$f":"IFERROR(SUMIFS('Vehicle Type Count by Agency'!BG:BG,'Vehicle Type Count by Agency'!$C:$C,\"=\"&$C94)/SUMIFS('Vehicle Type Count by Agency'!BF:BF,'Vehicle Type Count by Agency'!$C:$C,\"=\"&$C94),\"\")","v":""},{"$f":"IFERROR(SUMIFS('Vehicle Type Count by Agency'!BI:BI,'Vehicle Type Count by Agency'!$C:$C,\"=\"&$C94)/SUMIFS('Vehicle Type Count by Agency'!BH:BH,'Vehicle Type Count by Agency'!$C:$C,\"=\"&$C94),\"\")","v":0.28947368421052633}]
[null,null,"WV","West Virginia",null,{"$f":"IFERROR(SUMIFS('Vehicle Type Count by Agency'!K:K,'Vehicle Type Count by Agency'!$C:$C,\"=\"&$C95)/SUMIFS('Vehicle Type Count by Agency'!J:J,'Vehicle Type Count by Agency'!$C:$C,\"=\"&$C95),\"\")","v":0.24285714285714285},{"$f":"IFERROR(SUMIFS('Vehicle Type Count by Agency'!M:M,'Vehicle Type Count by Agency'!$C:$C,\"=\"&$C95)/SUMIFS('Vehicle Type Count by Agency'!L:L,'Vehicle Type Count by Agency'!$C:$C,\"=\"&$C95),\"\")","v":""},{"$f":"IFERROR(SUMIFS('Vehicle Type Count by Agency'!O:O,'Vehicle Type Count by Agency'!$C:$C,\"=\"&$C95)/SUMIFS('Vehicle Type Count by Agency'!N:N,'Vehicle Type Count by Agency'!$C:$C,\"=\"&$C95),\"\")","v":""},{"$f":"IFERROR(SUMIFS('Vehicle Type Count by Agency'!Q:Q,'Vehicle Type Count by Agency'!$C:$C,\"=\"&$C95)/SUMIFS('Vehicle Type Count by Agency'!P:P,'Vehicle Type Count by Agency'!$C:$C,\"=\"&$C95),\"\")","v":""},{"$f":"IFERROR(SUMIFS('Vehicle Type Count by Agency'!S:S,'Vehicle Type Count by Agency'!$C:$C,\"=\"&$C95)/SUMIFS('Vehicle Type Count by Agency'!R:R,'Vehicle Type Count by Agency'!$C:$C,\"=\"&$C95),\"\")","v":""},{"$f":"IFERROR(SUMIFS('Vehicle Type Count by Agency'!U:U,'Vehicle Type Count by Agency'!$C:$C,\"=\"&$C95)/SUMIFS('Vehicle Type Count by Agency'!T:T,'Vehicle Type Count by Agency'!$C:$C,\"=\"&$C95),\"\")","v":0.63380281690140849},{"$f":"IFERROR(SUMIFS('Vehicle Type Count by Agency'!W:W,'Vehicle Type Count by Agency'!$C:$C,\"=\"&$C95)/SUMIFS('Vehicle Type Count by Agency'!V:V,'Vehicle Type Count by Agency'!$C:$C,\"=\"&$C95),\"\")","v":0.23157894736842105},{"$f":"IFERROR(SUMIFS('Vehicle Type Count by Agency'!Y:Y,'Vehicle Type Count by Agency'!$C:$C,\"=\"&$C95)/SUMIFS('Vehicle Type Count by Agency'!X:X,'Vehicle Type Count by Agency'!$C:$C,\"=\"&$C95),\"\")","v":0.5},{"$f":"IFERROR(SUMIFS('Vehicle Type Count by Agency'!AA:AA,'Vehicle Type Count by Agency'!$C:$C,\"=\"&$C95)/SUMIFS('Vehicle Type Count by Agency'!Z:Z,'Vehicle Type Count by Agency'!$C:$C,\"=\"&$C95),\"\")","v":0.26744186046511625},{"$f":"IFERROR(SUMIFS('Vehicle Type Count by Agency'!AC:AC,'Vehicle Type Count by Agency'!$C:$C,\"=\"&$C95)/SUMIFS('Vehicle Type Count by Agency'!AB:AB,'Vehicle Type Count by Agency'!$C:$C,\"=\"&$C95),\"\")","v":0.66666666666666663},{"$f":"IFERROR(SUMIFS('Vehicle Type Count by Agency'!AE:AE,'Vehicle Type Count by Agency'!$C:$C,\"=\"&$C95)/SUMIFS('Vehicle Type Count by Agency'!AD:AD,'Vehicle Type Count by Agency'!$C:$C,\"=\"&$C95),\"\")","v":""},{"$f":"IFERROR(SUMIFS('Vehicle Type Count by Agency'!AG:AG,'Vehicle Type Count by Agency'!$C:$C,\"=\"&$C95)/SUMIFS('Vehicle Type Count by Agency'!AF:AF,'Vehicle Type Count by Agency'!$C:$C,\"=\"&$C95),\"\")","v":""},{"$f":"IFERROR(SUMIFS('Vehicle Type Count by Agency'!AI:AI,'Vehicle Type Count by Agency'!$C:$C,\"=\"&$C95)/SUMIFS('Vehicle Type Count by Agency'!AH:AH,'Vehicle Type Count by Agency'!$C:$C,\"=\"&$C95),\"\")","v":""},{"$f":"IFERROR(SUMIFS('Vehicle Type Count by Agency'!AK:AK,'Vehicle Type Count by Agency'!$C:$C,\"=\"&$C95)/SUMIFS('Vehicle Type Count by Agency'!AJ:AJ,'Vehicle Type Count by Agency'!$C:$C,\"=\"&$C95),\"\")","v":""},{"$f":"IFERROR(SUMIFS('Vehicle Type Count by Agency'!AM:AM,'Vehicle Type Count by Agency'!$C:$C,\"=\"&$C95)/SUMIFS('Vehicle Type Count by Agency'!AL:AL,'Vehicle Type Count by Agency'!$C:$C,\"=\"&$C95),\"\")","v":""},{"$f":"IFERROR(SUMIFS('Vehicle Type Count by Agency'!AO:AO,'Vehicle Type Count by Agency'!$C:$C,\"=\"&$C95)/SUMIFS('Vehicle Type Count by Agency'!AN:AN,'Vehicle Type Count by Agency'!$C:$C,\"=\"&$C95),\"\")","v":""},{"$f":"IFERROR(SUMIFS('Vehicle Type Count by Agency'!AQ:AQ,'Vehicle Type Count by Agency'!$C:$C,\"=\"&$C95)/SUMIFS('Vehicle Type Count by Agency'!AP:AP,'Vehicle Type Count by Agency'!$C:$C,\"=\"&$C95),\"\")","v":0},{"$f":"IFERROR(SUMIFS('Vehicle Type Count by Agency'!AS:AS,'Vehicle Type Count by Agency'!$C:$C,\"=\"&$C95)/SUMIFS('Vehicle Type Count by Agency'!AR:AR,'Vehicle Type Count by Agency'!$C:$C,\"=\"&$C95),\"\")","v":""},{"$f":"IFERROR(SUMIFS('Vehicle Type Count by Agency'!AU:AU,'Vehicle Type Count by Agency'!$C:$C,\"=\"&$C95)/SUMIFS('Vehicle Type Count by Agency'!AT:AT,'Vehicle Type Count by Agency'!$C:$C,\"=\"&$C95),\"\")","v":""},{"$f":"IFERROR(SUMIFS('Vehicle Type Count by Agency'!AW:AW,'Vehicle Type Count by Agency'!$C:$C,\"=\"&$C95)/SUMIFS('Vehicle Type Count by Agency'!AV:AV,'Vehicle Type Count by Agency'!$C:$C,\"=\"&$C95),\"\")","v":""},{"$f":"IFERROR(SUMIFS('Vehicle Type Count by Agency'!AY:AY,'Vehicle Type Count by Agency'!$C:$C,\"=\"&$C95)/SUMIFS('Vehicle Type Count by Agency'!AX:AX,'Vehicle Type Count by Agency'!$C:$C,\"=\"&$C95),\"\")","v":""},{"$f":"IFERROR(SUMIFS('Vehicle Type Count by Agency'!BA:BA,'Vehicle Type Count by Agency'!$C:$C,\"=\"&$C95)/SUMIFS('Vehicle Type Count by Agency'!AZ:AZ,'Vehicle Type Count by Agency'!$C:$C,\"=\"&$C95),\"\")","v":""},{"$f":"IFERROR(SUMIFS('Vehicle Type Count by Agency'!BC:BC,'Vehicle Type Count by Agency'!$C:$C,\"=\"&$C95)/SUMIFS('Vehicle Type Count by Agency'!BB:BB,'Vehicle Type Count by Agency'!$C:$C,\"=\"&$C95),\"\")","v":""},{"$f":"IFERROR(SUMIFS('Vehicle Type Count by Agency'!BE:BE,'Vehicle Type Count by Agency'!$C:$C,\"=\"&$C95)/SUMIFS('Vehicle Type Count by Agency'!BD:BD,'Vehicle Type Count by Agency'!$C:$C,\"=\"&$C95),\"\")","v":0},{"$f":"IFERROR(SUMIFS('Vehicle Type Count by Agency'!BG:BG,'Vehicle Type Count by Agency'!$C:$C,\"=\"&$C95)/SUMIFS('Vehicle Type Count by Agency'!BF:BF,'Vehicle Type Count by Agency'!$C:$C,\"=\"&$C95),\"\")","v":""},{"$f":"IFERROR(SUMIFS('Vehicle Type Count by Agency'!BI:BI,'Vehicle Type Count by Agency'!$C:$C,\"=\"&$C95)/SUMIFS('Vehicle Type Count by Agency'!BH:BH,'Vehicle Type Count by Agency'!$C:$C,\"=\"&$C95),\"\")","v":0.26456692913385826}]
[null,null,"WY","Wyoming",null,{"$f":"IFERROR(SUMIFS('Vehicle Type Count by Agency'!K:K,'Vehicle Type Count by Agency'!$C:$C,\"=\"&$C96)/SUMIFS('Vehicle Type Count by Agency'!J:J,'Vehicle Type Count by Agency'!$C:$C,\"=\"&$C96),\"\")","v":0.19696969696969696},{"$f":"IFERROR(SUMIFS('Vehicle Type Count by Agency'!M:M,'Vehicle Type Count by Agency'!$C:$C,\"=\"&$C96)/SUMIFS('Vehicle Type Count by Agency'!L:L,'Vehicle Type Count by Agency'!$C:$C,\"=\"&$C96),\"\")","v":""},{"$f":"IFERROR(SUMIFS('Vehicle Type Count by Agency'!O:O,'Vehicle Type Count by Agency'!$C:$C,\"=\"&$C96)/SUMIFS('Vehicle Type Count by Agency'!N:N,'Vehicle Type Count by Agency'!$C:$C,\"=\"&$C96),\"\")","v":0},{"$f":"IFERROR(SUMIFS('Vehicle Type Count by Agency'!Q:Q,'Vehicle Type Count by Agency'!$C:$C,\"=\"&$C96)/SUMIFS('Vehicle Type Count by Agency'!P:P,'Vehicle Type Count by Agency'!$C:$C,\"=\"&$C96),\"\")","v":""},{"$f":"IFERROR(SUMIFS('Vehicle Type Count by Agency'!S:S,'Vehicle Type Count by Agency'!$C:$C,\"=\"&$C96)/SUMIFS('Vehicle Type Count by Agency'!R:R,'Vehicle Type Count by Agency'!$C:$C,\"=\"&$C96),\"\")","v":""},{"$f":"IFERROR(SUMIFS('Vehicle Type Count by Agency'!U:U,'Vehicle Type Count by Agency'!$C:$C,\"=\"&$C96)/SUMIFS('Vehicle Type Count by Agency'!T:T,'Vehicle Type Count by Agency'!$C:$C,\"=\"&$C96),\"\")","v":0.44444444444444442},{"$f":"IFERROR(SUMIFS('Vehicle Type Count by Agency'!W:W,'Vehicle Type Count by Agency'!$C:$C,\"=\"&$C96)/SUMIFS('Vehicle Type Count by Agency'!V:V,'Vehicle Type Count by Agency'!$C:$C,\"=\"&$C96),\"\")","v":0.33980582524271846},{"$f":"IFERROR(SUMIFS('Vehicle Type Count by Agency'!Y:Y,'Vehicle Type Count by Agency'!$C:$C,\"=\"&$C96)/SUMIFS('Vehicle Type Count by Agency'!X:X,'Vehicle Type Count by Agency'!$C:$C,\"=\"&$C96),\"\")","v":0.5714285714285714},{"$f":"IFERROR(SUMIFS('Vehicle Type Count by Agency'!AA:AA,'Vehicle Type Count by Agency'!$C:$C,\"=\"&$C96)/SUMIFS('Vehicle Type Count by Agency'!Z:Z,'Vehicle Type Count by Agency'!$C:$C,\"=\"&$C96),\"\")","v":0.34444444444444444},{"$f":"IFERROR(SUMIFS('Vehicle Type Count by Agency'!AC:AC,'Vehicle Type Count by Agency'!$C:$C,\"=\"&$C96)/SUMIFS('Vehicle Type Count by Agency'!AB:AB,'Vehicle Type Count by Agency'!$C:$C,\"=\"&$C96),\"\")","v":0.33333333333333331},{"$f":"IFERROR(SUMIFS('Vehicle Type Count by Agency'!AE:AE,'Vehicle Type Count by Agency'!$C:$C,\"=\"&$C96)/SUMIFS('Vehicle Type Count by Agency'!AD:AD,'Vehicle Type Count by Agency'!$C:$C,\"=\"&$C96),\"\")","v":""},{"$f":"IFERROR(SUMIFS('Vehicle Type Count by Agency'!AG:AG,'Vehicle Type Count by Agency'!$C:$C,\"=\"&$C96)/SUMIFS('Vehicle Type Count by Agency'!AF:AF,'Vehicle Type Count by Agency'!$C:$C,\"=\"&$C96),\"\")","v":""},{"$f":"IFERROR(SUMIFS('Vehicle Type Count by Agency'!AI:AI,'Vehicle Type Count by Agency'!$C:$C,\"=\"&$C96)/SUMIFS('Vehicle Type Count by Agency'!AH:AH,'Vehicle Type Count by Agency'!$C:$C,\"=\"&$C96),\"\")","v":""},{"$f":"IFERROR(SUMIFS('Vehicle Type Count by Agency'!AK:AK,'Vehicle Type Count by Agency'!$C:$C,\"=\"&$C96)/SUMIFS('Vehicle Type Count by Agency'!AJ:AJ,'Vehicle Type Count by Agency'!$C:$C,\"=\"&$C96),\"\")","v":""},{"$f":"IFERROR(SUMIFS('Vehicle Type Count by Agency'!AM:AM,'Vehicle Type Count by Agency'!$C:$C,\"=\"&$C96)/SUMIFS('Vehicle Type Count by Agency'!AL:AL,'Vehicle Type Count by Agency'!$C:$C,\"=\"&$C96),\"\")","v":""},{"$f":"IFERROR(SUMIFS('Vehicle Type Count by Agency'!AO:AO,'Vehicle Type Count by Agency'!$C:$C,\"=\"&$C96)/SUMIFS('Vehicle Type Count by Agency'!AN:AN,'Vehicle Type Count by Agency'!$C:$C,\"=\"&$C96),\"\")","v":""},{"$f":"IFERROR(SUMIFS('Vehicle Type Count by Agency'!AQ:AQ,'Vehicle Type Count by Agency'!$C:$C,\"=\"&$C96)/SUMIFS('Vehicle Type Count by Agency'!AP:AP,'Vehicle Type Count by Agency'!$C:$C,\"=\"&$C96),\"\")","v":""},{"$f":"IFERROR(SUMIFS('Vehicle Type Count by Agency'!AS:AS,'Vehicle Type Count by Agency'!$C:$C,\"=\"&$C96)/SUMIFS('Vehicle Type Count by Agency'!AR:AR,'Vehicle Type Count by Agency'!$C:$C,\"=\"&$C96),\"\")","v":""},{"$f":"IFERROR(SUMIFS('Vehicle Type Count by Agency'!AU:AU,'Vehicle Type Count by Agency'!$C:$C,\"=\"&$C96)/SUMIFS('Vehicle Type Count by Agency'!AT:AT,'Vehicle Type Count by Agency'!$C:$C,\"=\"&$C96),\"\")","v":""},{"$f":"IFERROR(SUMIFS('Vehicle Type Count by Agency'!AW:AW,'Vehicle Type Count by Agency'!$C:$C,\"=\"&$C96)/SUMIFS('Vehicle Type Count by Agency'!AV:AV,'Vehicle Type Count by Agency'!$C:$C,\"=\"&$C96),\"\")","v":""},{"$f":"IFERROR(SUMIFS('Vehicle Type Count by Agency'!AY:AY,'Vehicle Type Count by Agency'!$C:$C,\"=\"&$C96)/SUMIFS('Vehicle Type Count by Agency'!AX:AX,'Vehicle Type Count by Agency'!$C:$C,\"=\"&$C96),\"\")","v":""},{"$f":"IFERROR(SUMIFS('Vehicle Type Count by Agency'!BA:BA,'Vehicle Type Count by Agency'!$C:$C,\"=\"&$C96)/SUMIFS('Vehicle Type Count by Agency'!AZ:AZ,'Vehicle Type Count by Agency'!$C:$C,\"=\"&$C96),\"\")","v":""},{"$f":"IFERROR(SUMIFS('Vehicle Type Count by Agency'!BC:BC,'Vehicle Type Count by Agency'!$C:$C,\"=\"&$C96)/SUMIFS('Vehicle Type Count by Agency'!BB:BB,'Vehicle Type Count by Agency'!$C:$C,\"=\"&$C96),\"\")","v":""},{"$f":"IFERROR(SUMIFS('Vehicle Type Count by Agency'!BE:BE,'Vehicle Type Count by Agency'!$C:$C,\"=\"&$C96)/SUMIFS('Vehicle Type Count by Agency'!BD:BD,'Vehicle Type Count by Agency'!$C:$C,\"=\"&$C96),\"\")","v":""},{"$f":"IFERROR(SUMIFS('Vehicle Type Count by Agency'!BG:BG,'Vehicle Type Count by Agency'!$C:$C,\"=\"&$C96)/SUMIFS('Vehicle Type Count by Agency'!BF:BF,'Vehicle Type Count by Agency'!$C:$C,\"=\"&$C96),\"\")","v":""},{"$f":"IFERROR(SUMIFS('Vehicle Type Count by Agency'!BI:BI,'Vehicle Type Count by Agency'!$C:$C,\"=\"&$C96)/SUMIFS('Vehicle Type Count by Agency'!BH:BH,'Vehicle Type Count by Agency'!$C:$C,\"=\"&$C96),\"\")","v":0.31944444444444442}]
[]
[]
[]
[]
[null,null,null,"enter bins below","click to graph","Bus","Articulated Bus","Over-the-road Bus","Double Decker Bus","School Bus","Van","Cutaway","Automobile","Minivan","Sports Utility Vehicle","Trolleybus","Heavy Rail Passenger Car","Light Rail Vehicle","Commuter Rail Passenger Coach","Commuter Rail Self-Propelled Passenger Car","Locomotive","Automated Guideway Vehicle","Vintage/ Historic Trolley","Streetcar","Aerial Tramway","Monorail","Cable Car","Inclined Plane","Ferryboat","Other","Total"]
["Under",{"$f":"D102","v":200000},null,{"$f":"IF(D9=\"\",\"\",D9)","v":200000},{"$f":"IFERROR(IF(A102=\"Between\",A102&\" \"&FIXED(B102,0,0)&\" \"&C102&\" \"&FIXED(D102,0,0),A102&\" \"&FIXED(B102,0,0)),\"invalid bin\")","v":"Under 200,000"},{"$f":"SUMIFS('Vehicle Type Count by Agency'!J:J,'Vehicle Type Count by Agency'!$H:$H,\"<\"&$D102)","v":8534},{"$f":"SUMIFS('Vehicle Type Count by Agency'!L:L,'Vehicle Type Count by Agency'!$H:$H,\"<\"&$D102)","v":62},{"$f":"SUMIFS('Vehicle Type Count by Agency'!N:N,'Vehicle Type Count by Agency'!$H:$H,\"<\"&$D102)","v":258},{"$f":"SUMIFS('Vehicle Type Count by Agency'!P:P,'Vehicle Type Count by Agency'!$H:$H,\"<\"&$D102)","v":10},{"$f":"SUMIFS('Vehicle Type Count by Agency'!R:R,'Vehicle Type Count by Agency'!$H:$H,\"<\"&$D102)","v":93},{"$f":"SUMIFS('Vehicle Type Count by Agency'!T:T,'Vehicle Type Count by Agency'!$H:$H,\"<\"&$D102)","v":6473},{"$f":"SUMIFS('Vehicle Type Count by Agency'!V:V,'Vehicle Type Count by Agency'!$H:$H,\"<\"&$D102)","v":19192},{"$f":"SUMIFS('Vehicle Type Count by Agency'!X:X,'Vehicle Type Count by Agency'!$H:$H,\"<\"&$D102)","v":808},{"$f":"SUMIFS('Vehicle Type Count by Agency'!Z:Z,'Vehicle Type Count by Agency'!$H:$H,\"<\"&$D102)","v":6105},{"$f":"SUMIFS('Vehicle Type Count by Agency'!AB:AB,'Vehicle Type Count by Agency'!$H:$H,\"<\"&$D102)","v":367},{"$f":"SUMIFS('Vehicle Type Count by Agency'!AD:AD,'Vehicle Type Count by Agency'!$H:$H,\"<\"&$D102)","v":0},{"$f":"SUMIFS('Vehicle Type Count by Agency'!AF:AF,'Vehicle Type Count by Agency'!$H:$H,\"<\"&$D102)","v":0},{"$f":"SUMIFS('Vehicle Type Count by Agency'!AH:AH,'Vehicle Type Count by Agency'!$H:$H,\"<\"&$D102)","v":0},{"$f":"SUMIFS('Vehicle Type Count by Agency'!AJ:AJ,'Vehicle Type Count by Agency'!$H:$H,\"<\"&$D102)","v":0},{"$f":"SUMIFS('Vehicle Type Count by Agency'!AL:AL,'Vehicle Type Count by Agency'!$H:$H,\"<\"&$D102)","v":0},{"$f":"SUMIFS('Vehicle Type Count by Agency'!AN:AN,'Vehicle Type Count by Agency'!$H:$H,\"<\"&$D102)","v":0},{"$f":"SUMIFS('Vehicle Type Count by Agency'!AP:AP,'Vehicle Type Count by Agency'!$H:$H,\"<\"&$D102)","v":69},{"$f":"SUMIFS('Vehicle Type Count by Agency'!AR:AR,'Vehicle Type Count by Agency'!$H:$H,\"<\"&$D102)","v":7},{"$f":"SUMIFS('Vehicle Type Count by Agency'!AT:AT,'Vehicle Type Count by Agency'!$H:$H,\"<\"&$D102)","v":0},{"$f":"SUMIFS('Vehicle Type Count by Agency'!AV:AV,'Vehicle Type Count by Agency'!$H:$H,\"<\"&$D102)","v":68},{"$f":"SUMIFS('Vehicle Type Count by Agency'!AX:AX,'Vehicle Type Count by Agency'!$H:$H,\"<\"&$D102)","v":0},{"$f":"SUMIFS('Vehicle Type Count by Agency'!AZ:AZ,'Vehicle Type Count by Agency'!$H:$H,\"<\"&$D102)","v":0},{"$f":"SUMIFS('Vehicle Type Count by Agency'!BB:BB,'Vehicle Type Count by Agency'!$H:$H,\"<\"&$D102)","v":2},{"$f":"SUMIFS('Vehicle Type Count by Agency'!BD:BD,'Vehicle Type Count by Agency'!$H:$H,\"<\"&$D102)","v":24},{"$f":"SUMIFS('Vehicle Type Count by Agency'!BF:BF,'Vehicle Type Count by Agency'!$H:$H,\"<\"&$D102)","v":33},{"$f":"SUMIFS('Vehicle Type Count by Agency'!BH:BH,'Vehicle Type Count by Agency'!$H:$H,\"<\"&$D102)","v":42105}]
[{"$f":"IF(D103<>\"\",\"Between\",\"Over\")","v":"Between"},{"$f":"D102","v":200000},{"$f":"IF(D103<>\"\",\"and\",\"\")","v":"and"},{"$f":"IF(D10=\"\",\"\",D10)","v":1000000},"Between 200,000 and 1,000,000",{"$f":"IF($A103=\"Between\",SUMIFS('Vehicle Type Count by Agency'!J:J,'Vehicle Type Count by Agency'!$H:$H,\">=\"&$B103,'Vehicle Type Count by Agency'!$H:$H,\"<\"&$D103),SUMIFS('Vehicle Type Count by Agency'!J:J,'Vehicle Type Count by Agency'!$H:$H,\">=\"&$B103))","v":10600},{"$f":"IF($A103=\"Between\",SUMIFS('Vehicle Type Count by Agency'!L:L,'Vehicle Type Count by Agency'!$H:$H,\">=\"&$B103,'Vehicle Type Count by Agency'!$H:$H,\"<\"&$D103),SUMIFS('Vehicle Type Count by Agency'!L:L,'Vehicle Type Count by Agency'!$H:$H,\">=\"&$B103))","v":420},{"$f":"IF($A103=\"Between\",SUMIFS('Vehicle Type Count by Agency'!N:N,'Vehicle Type Count by Agency'!$H:$H,\">=\"&$B103,'Vehicle Type Count by Agency'!$H:$H,\"<\"&$D103),SUMIFS('Vehicle Type Count by Agency'!N:N,'Vehicle Type Count by Agency'!$H:$H,\">=\"&$B103))","v":330},{"$f":"IF($A103=\"Between\",SUMIFS('Vehicle Type Count by Agency'!P:P,'Vehicle Type Count by Agency'!$H:$H,\">=\"&$B103,'Vehicle Type Count by Agency'!$H:$H,\"<\"&$D103),SUMIFS('Vehicle Type Count by Agency'!P:P,'Vehicle Type Count by Agency'!$H:$H,\">=\"&$B103))","v":0},{"$f":"IF($A103=\"Between\",SUMIFS('Vehicle Type Count by Agency'!R:R,'Vehicle Type Count by Agency'!$H:$H,\">=\"&$B103,'Vehicle Type Count by Agency'!$H:$H,\"<\"&$D103),SUMIFS('Vehicle Type Count by Agency'!R:R,'Vehicle Type Count by Agency'!$H:$H,\">=\"&$B103))","v":5},{"$f":"IF($A103=\"Between\",SUMIFS('Vehicle Type Count by Agency'!T:T,'Vehicle Type Count by Agency'!$H:$H,\">=\"&$B103,'Vehicle Type Count by Agency'!$H:$H,\"<\"&$D103),SUMIFS('Vehicle Type Count by Agency'!T:T,'Vehicle Type Count by Agency'!$H:$H,\">=\"&$B103))","v":3693},{"$f":"IF($A103=\"Between\",SUMIFS('Vehicle Type Count by Agency'!V:V,'Vehicle Type Count by Agency'!$H:$H,\">=\"&$B103,'Vehicle Type Count by Agency'!$H:$H,\"<\"&$D103),SUMIFS('Vehicle Type Count by Agency'!V:V,'Vehicle Type Count by Agency'!$H:$H,\">=\"&$B103))","v":6517},{"$f":"IF($A103=\"Between\",SUMIFS('Vehicle Type Count by Agency'!X:X,'Vehicle Type Count by Agency'!$H:$H,\">=\"&$B103,'Vehicle Type Count by Agency'!$H:$H,\"<\"&$D103),SUMIFS('Vehicle Type Count by Agency'!X:X,'Vehicle Type Count by Agency'!$H:$H,\">=\"&$B103))","v":1024},{"$f":"IF($A103=\"Between\",SUMIFS('Vehicle Type Count by Agency'!Z:Z,'Vehicle Type Count by Agency'!$H:$H,\">=\"&$B103,'Vehicle Type Count by Agency'!$H:$H,\"<\"&$D103),SUMIFS('Vehicle Type Count by Agency'!Z:Z,'Vehicle Type Count by Agency'!$H:$H,\">=\"&$B103))","v":634},{"$f":"IF($A103=\"Between\",SUMIFS('Vehicle Type Count by Agency'!AB:AB,'Vehicle Type Count by Agency'!$H:$H,\">=\"&$B103,'Vehicle Type Count by Agency'!$H:$H,\"<\"&$D103),SUMIFS('Vehicle Type Count by Agency'!AB:AB,'Vehicle Type Count by Agency'!$H:$H,\">=\"&$B103))","v":95},{"$f":"IF($A103=\"Between\",SUMIFS('Vehicle Type Count by Agency'!AD:AD,'Vehicle Type Count by Agency'!$H:$H,\">=\"&$B103,'Vehicle Type Count by Agency'!$H:$H,\"<\"&$D103),SUMIFS('Vehicle Type Count by Agency'!AD:AD,'Vehicle Type Count by Agency'!$H:$H,\">=\"&$B103))","v":37},{"$f":"IF($A103=\"Between\",SUMIFS('Vehicle Type Count by Agency'!AF:AF,'Vehicle Type Count by Agency'!$H:$H,\">=\"&$B103,'Vehicle Type Count by Agency'!$H:$H,\"<\"&$D103),SUMIFS('Vehicle Type Count by Agency'!AF:AF,'Vehicle Type Count by Agency'!$H:$H,\">=\"&$B103))","v":0},{"$f":"IF($A103=\"Between\",SUMIFS('Vehicle Type Count by Agency'!AH:AH,'Vehicle Type Count by Agency'!$H:$H,\">=\"&$B103,'Vehicle Type Count by Agency'!$H:$H,\"<\"&$D103),SUMIFS('Vehicle Type Count by Agency'!AH:AH,'Vehicle Type Count by Agency'!$H:$H,\">=\"&$B103))","v":27},{"$f":"IF($A103=\"Between\",SUMIFS('Vehicle Type Count by Agency'!AJ:AJ,'Vehicle Type Count by Agency'!$H:$H,\">=\"&$B103,'Vehicle Type Count by Agency'!$H:$H,\"<\"&$D103),SUMIFS('Vehicle Type Count by Agency'!AJ:AJ,'Vehicle Type Count by Agency'!$H:$H,\">=\"&$B103))","v":149},{"$f":"IF($A103=\"Between\",SUMIFS('Vehicle Type Count by Agency'!AL:AL,'Vehicle Type Count by Agency'!$H:$H,\">=\"&$B103,'Vehicle Type Count by Agency'!$H:$H,\"<\"&$D103),SUMIFS('Vehicle Type Count by Agency'!AL:AL,'Vehicle Type Count by Agency'!$H:$H,\">=\"&$B103))","v":25},{"$f":"IF($A103=\"Between\",SUMIFS('Vehicle Type Count by Agency'!AN:AN,'Vehicle Type Count by Agency'!$H:$H,\">=\"&$B103,'Vehicle Type Count by Agency'!$H:$H,\"<\"&$D103),SUMIFS('Vehicle Type Count by Agency'!AN:AN,'Vehicle Type Count by Agency'!$H:$H,\">=\"&$B103))","v":93},{"$f":"IF($A103=\"Between\",SUMIFS('Vehicle Type Count by Agency'!AP:AP,'Vehicle Type Count by Agency'!$H:$H,\">=\"&$B103,'Vehicle Type Count by Agency'!$H:$H,\"<\"&$D103),SUMIFS('Vehicle Type Count by Agency'!AP:AP,'Vehicle Type Count by Agency'!$H:$H,\">=\"&$B103))","v":0},{"$f":"IF($A103=\"Between\",SUMIFS('Vehicle Type Count by Agency'!AR:AR,'Vehicle Type Count by Agency'!$H:$H,\">=\"&$B103,'Vehicle Type Count by Agency'!$H:$H,\"<\"&$D103),SUMIFS('Vehicle Type Count by Agency'!AR:AR,'Vehicle Type Count by Agency'!$H:$H,\">=\"&$B103))","v":40},{"$f":"IF($A103=\"Between\",SUMIFS('Vehicle Type Count by Agency'!AT:AT,'Vehicle Type Count by Agency'!$H:$H,\">=\"&$B103,'Vehicle Type Count by Agency'!$H:$H,\"<\"&$D103),SUMIFS('Vehicle Type Count by Agency'!AT:AT,'Vehicle Type Count by Agency'!$H:$H,\">=\"&$B103))","v":39},{"$f":"IF($A103=\"Between\",SUMIFS('Vehicle Type Count by Agency'!AV:AV,'Vehicle Type Count by Agency'!$H:$H,\">=\"&$B103,'Vehicle Type Count by Agency'!$H:$H,\"<\"&$D103),SUMIFS('Vehicle Type Count by Agency'!AV:AV,'Vehicle Type Count by Agency'!$H:$H,\">=\"&$B103))","v":0},{"$f":"IF($A103=\"Between\",SUMIFS('Vehicle Type Count by Agency'!AX:AX,'Vehicle Type Count by Agency'!$H:$H,\">=\"&$B103,'Vehicle Type Count by Agency'!$H:$H,\"<\"&$D103),SUMIFS('Vehicle Type Count by Agency'!AX:AX,'Vehicle Type Count by Agency'!$H:$H,\">=\"&$B103))","v":0},{"$f":"IF($A103=\"Between\",SUMIFS('Vehicle Type Count by Agency'!AZ:AZ,'Vehicle Type Count by Agency'!$H:$H,\">=\"&$B103,'Vehicle Type Count by Agency'!$H:$H,\"<\"&$D103),SUMIFS('Vehicle Type Count by Agency'!AZ:AZ,'Vehicle Type Count by Agency'!$H:$H,\">=\"&$B103))","v":0},{"$f":"IF($A103=\"Between\",SUMIFS('Vehicle Type Count by Agency'!BB:BB,'Vehicle Type Count by Agency'!$H:$H,\">=\"&$B103,'Vehicle Type Count by Agency'!$H:$H,\"<\"&$D103),SUMIFS('Vehicle Type Count by Agency'!BB:BB,'Vehicle Type Count by Agency'!$H:$H,\">=\"&$B103))","v":2},{"$f":"IF($A103=\"Between\",SUMIFS('Vehicle Type Count by Agency'!BD:BD,'Vehicle Type Count by Agency'!$H:$H,\">=\"&$B103,'Vehicle Type Count by Agency'!$H:$H,\"<\"&$D103),SUMIFS('Vehicle Type Count by Agency'!BD:BD,'Vehicle Type Count by Agency'!$H:$H,\">=\"&$B103))","v":31},{"$f":"IF($A103=\"Between\",SUMIFS('Vehicle Type Count by Agency'!BF:BF,'Vehicle Type Count by Agency'!$H:$H,\">=\"&$B103,'Vehicle Type Count by Agency'!$H:$H,\"<\"&$D103),SUMIFS('Vehicle Type Count by Agency'!BF:BF,'Vehicle Type Count by Agency'!$H:$H,\">=\"&$B103))","v":2},{"$f":"IF($A103=\"Between\",SUMIFS('Vehicle Type Count by Agency'!BH:BH,'Vehicle Type Count by Agency'!$H:$H,\">=\"&$B103,'Vehicle Type Count by Agency'!$H:$H,\"<\"&$D103),SUMIFS('Vehicle Type Count by Agency'!BH:BH,'Vehicle Type Count by Agency'!$H:$H,\">=\"&$B103))","v":23763}]
[{"$f":"IF(OR(A103=\"Over\",A103=\"\"),\"\",IF(D104=\"\",\"Over\",\"Between\"))","v":"Over"},{"$f":"IF(D103=\"\",\"\",D103)","v":1000000},{"$f":"IF(D104<>\"\",\"and\",\"\")","v":""},"","Over 1,000,000",{"$f":"IF($A104=\"\",\"\",IF($A104=\"Between\",SUMIFS('Vehicle Type Count by Agency'!J:J,'Vehicle Type Count by Agency'!$H:$H,\">=\"&$B104,'Vehicle Type Count by Agency'!$H:$H,\"<\"&$D104),SUMIFS('Vehicle Type Count by Agency'!J:J,'Vehicle Type Count by Agency'!$H:$H,\">=\"&$B104)))","v":36795},{"$f":"IF($A104=\"\",\"\",IF($A104=\"Between\",SUMIFS('Vehicle Type Count by Agency'!L:L,'Vehicle Type Count by Agency'!$H:$H,\">=\"&$B104,'Vehicle Type Count by Agency'!$H:$H,\"<\"&$D104),SUMIFS('Vehicle Type Count by Agency'!L:L,'Vehicle Type Count by Agency'!$H:$H,\">=\"&$B104)))","v":5188},{"$f":"IF($A104=\"\",\"\",IF($A104=\"Between\",SUMIFS('Vehicle Type Count by Agency'!N:N,'Vehicle Type Count by Agency'!$H:$H,\">=\"&$B104,'Vehicle Type Count by Agency'!$H:$H,\"<\"&$D104),SUMIFS('Vehicle Type Count by Agency'!N:N,'Vehicle Type Count by Agency'!$H:$H,\">=\"&$B104)))","v":5344},{"$f":"IF($A104=\"\",\"\",IF($A104=\"Between\",SUMIFS('Vehicle Type Count by Agency'!P:P,'Vehicle Type Count by Agency'!$H:$H,\">=\"&$B104,'Vehicle Type Count by Agency'!$H:$H,\"<\"&$D104),SUMIFS('Vehicle Type Count by Agency'!P:P,'Vehicle Type Count by Agency'!$H:$H,\">=\"&$B104)))","v":219},{"$f":"IF($A104=\"\",\"\",IF($A104=\"Between\",SUMIFS('Vehicle Type Count by Agency'!R:R,'Vehicle Type Count by Agency'!$H:$H,\">=\"&$B104,'Vehicle Type Count by Agency'!$H:$H,\"<\"&$D104),SUMIFS('Vehicle Type Count by Agency'!R:R,'Vehicle Type Count by Agency'!$H:$H,\">=\"&$B104)))","v":1},{"$f":"IF($A104=\"\",\"\",IF($A104=\"Between\",SUMIFS('Vehicle Type Count by Agency'!T:T,'Vehicle Type Count by Agency'!$H:$H,\">=\"&$B104,'Vehicle Type Count by Agency'!$H:$H,\"<\"&$D104),SUMIFS('Vehicle Type Count by Agency'!T:T,'Vehicle Type Count by Agency'!$H:$H,\">=\"&$B104)))","v":13541},{"$f":"IF($A104=\"\",\"\",IF($A104=\"Between\",SUMIFS('Vehicle Type Count by Agency'!V:V,'Vehicle Type Count by Agency'!$H:$H,\">=\"&$B104,'Vehicle Type Count by Agency'!$H:$H,\"<\"&$D104),SUMIFS('Vehicle Type Count by Agency'!V:V,'Vehicle Type Count by Agency'!$H:$H,\">=\"&$B104)))","v":13163},{"$f":"IF($A104=\"\",\"\",IF($A104=\"Between\",SUMIFS('Vehicle Type Count by Agency'!X:X,'Vehicle Type Count by Agency'!$H:$H,\">=\"&$B104,'Vehicle Type Count by Agency'!$H:$H,\"<\"&$D104),SUMIFS('Vehicle Type Count by Agency'!X:X,'Vehicle Type Count by Agency'!$H:$H,\">=\"&$B104)))","v":5715},{"$f":"IF($A104=\"\",\"\",IF($A104=\"Between\",SUMIFS('Vehicle Type Count by Agency'!Z:Z,'Vehicle Type Count by Agency'!$H:$H,\">=\"&$B104,'Vehicle Type Count by Agency'!$H:$H,\"<\"&$D104),SUMIFS('Vehicle Type Count by Agency'!Z:Z,'Vehicle Type Count by Agency'!$H:$H,\">=\"&$B104)))","v":4428},{"$f":"IF($A104=\"\",\"\",IF($A104=\"Between\",SUMIFS('Vehicle Type Count by Agency'!AB:AB,'Vehicle Type Count by Agency'!$H:$H,\">=\"&$B104,'Vehicle Type Count by Agency'!$H:$H,\"<\"&$D104),SUMIFS('Vehicle Type Count by Agency'!AB:AB,'Vehicle Type Count by Agency'!$H:$H,\">=\"&$B104)))","v":1193},{"$f":"IF($A104=\"\",\"\",IF($A104=\"Between\",SUMIFS('Vehicle Type Count by Agency'!AD:AD,'Vehicle Type Count by Agency'!$H:$H,\">=\"&$B104,'Vehicle Type Count by Agency'!$H:$H,\"<\"&$D104),SUMIFS('Vehicle Type Count by Agency'!AD:AD,'Vehicle Type Count by Agency'!$H:$H,\">=\"&$B104)))","v":559},{"$f":"IF($A104=\"\",\"\",IF($A104=\"Between\",SUMIFS('Vehicle Type Count by Agency'!AF:AF,'Vehicle Type Count by Agency'!$H:$H,\">=\"&$B104,'Vehicle Type Count by Agency'!$H:$H,\"<\"&$D104),SUMIFS('Vehicle Type Count by Agency'!AF:AF,'Vehicle Type Count by Agency'!$H:$H,\">=\"&$B104)))","v":11892},{"$f":"IF($A104=\"\",\"\",IF($A104=\"Between\",SUMIFS('Vehicle Type Count by Agency'!AH:AH,'Vehicle Type Count by Agency'!$H:$H,\">=\"&$B104,'Vehicle Type Count by Agency'!$H:$H,\"<\"&$D104),SUMIFS('Vehicle Type Count by Agency'!AH:AH,'Vehicle Type Count by Agency'!$H:$H,\">=\"&$B104)))","v":2301},{"$f":"IF($A104=\"\",\"\",IF($A104=\"Between\",SUMIFS('Vehicle Type Count by Agency'!AJ:AJ,'Vehicle Type Count by Agency'!$H:$H,\">=\"&$B104,'Vehicle Type Count by Agency'!$H:$H,\"<\"&$D104),SUMIFS('Vehicle Type Count by Agency'!AJ:AJ,'Vehicle Type Count by Agency'!$H:$H,\">=\"&$B104)))","v":3517},{"$f":"IF($A104=\"\",\"\",IF($A104=\"Between\",SUMIFS('Vehicle Type Count by Agency'!AL:AL,'Vehicle Type Count by Agency'!$H:$H,\">=\"&$B104,'Vehicle Type Count by Agency'!$H:$H,\"<\"&$D104),SUMIFS('Vehicle Type Count by Agency'!AL:AL,'Vehicle Type Count by Agency'!$H:$H,\">=\"&$B104)))","v":2731},{"$f":"IF($A104=\"\",\"\",IF($A104=\"Between\",SUMIFS('Vehicle Type Count by Agency'!AN:AN,'Vehicle Type Count by Agency'!$H:$H,\">=\"&$B104,'Vehicle Type Count by Agency'!$H:$H,\"<\"&$D104),SUMIFS('Vehicle Type Count by Agency'!AN:AN,'Vehicle Type Count by Agency'!$H:$H,\">=\"&$B104)))","v":747},{"$f":"IF($A104=\"\",\"\",IF($A104=\"Between\",SUMIFS('Vehicle Type Count by Agency'!AP:AP,'Vehicle Type Count by Agency'!$H:$H,\">=\"&$B104,'Vehicle Type Count by Agency'!$H:$H,\"<\"&$D104),SUMIFS('Vehicle Type Count by Agency'!AP:AP,'Vehicle Type Count by Agency'!$H:$H,\">=\"&$B104)))","v":47},{"$f":"IF($A104=\"\",\"\",IF($A104=\"Between\",SUMIFS('Vehicle Type Count by Agency'!AR:AR,'Vehicle Type Count by Agency'!$H:$H,\">=\"&$B104,'Vehicle Type Count by Agency'!$H:$H,\"<\"&$D104),SUMIFS('Vehicle Type Count by Agency'!AR:AR,'Vehicle Type Count by Agency'!$H:$H,\">=\"&$B104)))","v":26},{"$f":"IF($A104=\"\",\"\",IF($A104=\"Between\",SUMIFS('Vehicle Type Count by Agency'!AT:AT,'Vehicle Type Count by Agency'!$H:$H,\">=\"&$B104,'Vehicle Type Count by Agency'!$H:$H,\"<\"&$D104),SUMIFS('Vehicle Type Count by Agency'!AT:AT,'Vehicle Type Count by Agency'!$H:$H,\">=\"&$B104)))","v":252},{"$f":"IF($A104=\"\",\"\",IF($A104=\"Between\",SUMIFS('Vehicle Type Count by Agency'!AV:AV,'Vehicle Type Count by Agency'!$H:$H,\">=\"&$B104,'Vehicle Type Count by Agency'!$H:$H,\"<\"&$D104),SUMIFS('Vehicle Type Count by Agency'!AV:AV,'Vehicle Type Count by Agency'!$H:$H,\">=\"&$B104)))","v":2},{"$f":"IF($A104=\"\",\"\",IF($A104=\"Between\",SUMIFS('Vehicle Type Count by Agency'!AX:AX,'Vehicle Type Count by Agency'!$H:$H,\">=\"&$B104,'Vehicle Type Count by Agency'!$H:$H,\"<\"&$D104),SUMIFS('Vehicle Type Count by Agency'!AX:AX,'Vehicle Type Count by Agency'!$H:$H,\">=\"&$B104)))","v":8},{"$f":"IF($A104=\"\",\"\",IF($A104=\"Between\",SUMIFS('Vehicle Type Count by Agency'!AZ:AZ,'Vehicle Type Count by Agency'!$H:$H,\">=\"&$B104,'Vehicle Type Count by Agency'!$H:$H,\"<\"&$D104),SUMIFS('Vehicle Type Count by Agency'!AZ:AZ,'Vehicle Type Count by Agency'!$H:$H,\">=\"&$B104)))","v":36},{"$f":"IF($A104=\"\",\"\",IF($A104=\"Between\",SUMIFS('Vehicle Type Count by Agency'!BB:BB,'Vehicle Type Count by Agency'!$H:$H,\">=\"&$B104,'Vehicle Type Count by Agency'!$H:$H,\"<\"&$D104),SUMIFS('Vehicle Type Count by Agency'!BB:BB,'Vehicle Type Count by Agency'!$H:$H,\">=\"&$B104)))","v":2},{"$f":"IF($A104=\"\",\"\",IF($A104=\"Between\",SUMIFS('Vehicle Type Count by Agency'!BD:BD,'Vehicle Type Count by Agency'!$H:$H,\">=\"&$B104,'Vehicle Type Count by Agency'!$H:$H,\"<\"&$D104),SUMIFS('Vehicle Type Count by Agency'!BD:BD,'Vehicle Type Count by Agency'!$H:$H,\">=\"&$B104)))","v":141},{"$f":"IF($A104=\"\",\"\",IF($A104=\"Between\",SUMIFS('Vehicle Type Count by Agency'!BF:BF,'Vehicle Type Count by Agency'!$H:$H,\">=\"&$B104,'Vehicle Type Count by Agency'!$H:$H,\"<\"&$D104),SUMIFS('Vehicle Type Count by Agency'!BF:BF,'Vehicle Type Count by Agency'!$H:$H,\">=\"&$B104)))","v":2},{"$f":"IF($A104=\"\",\"\",IF($A104=\"Between\",SUMIFS('Vehicle Type Count by Agency'!BH:BH,'Vehicle Type Count by Agency'!$H:$H,\">=\"&$B104,'Vehicle Type Count by Agency'!$H:$H,\"<\"&$D104),SUMIFS('Vehicle Type Count by Agency'!BH:BH,'Vehicle Type Count by Agency'!$H:$H,\">=\"&$B104)))","v":107850}]
["","",{"$f":"IF(D105<>\"\",\"and\",\"\")","v":""},"","invalid bin",{"$f":"IF($A105=\"\",\"\",IF($A105=\"Between\",SUMIFS('Vehicle Type Count by Agency'!J:J,'Vehicle Type Count by Agency'!$H:$H,\">=\"&$B105,'Vehicle Type Count by Agency'!$H:$H,\"<\"&$D105),SUMIFS('Vehicle Type Count by Agency'!J:J,'Vehicle Type Count by Agency'!$H:$H,\">=\"&$B105)))","v":""},{"$f":"IF($A105=\"\",\"\",IF($A105=\"Between\",SUMIFS('Vehicle Type Count by Agency'!L:L,'Vehicle Type Count by Agency'!$H:$H,\">=\"&$B105,'Vehicle Type Count by Agency'!$H:$H,\"<\"&$D105),SUMIFS('Vehicle Type Count by Agency'!L:L,'Vehicle Type Count by Agency'!$H:$H,\">=\"&$B105)))","v":""},{"$f":"IF($A105=\"\",\"\",IF($A105=\"Between\",SUMIFS('Vehicle Type Count by Agency'!N:N,'Vehicle Type Count by Agency'!$H:$H,\">=\"&$B105,'Vehicle Type Count by Agency'!$H:$H,\"<\"&$D105),SUMIFS('Vehicle Type Count by Agency'!N:N,'Vehicle Type Count by Agency'!$H:$H,\">=\"&$B105)))","v":""},{"$f":"IF($A105=\"\",\"\",IF($A105=\"Between\",SUMIFS('Vehicle Type Count by Agency'!P:P,'Vehicle Type Count by Agency'!$H:$H,\">=\"&$B105,'Vehicle Type Count by Agency'!$H:$H,\"<\"&$D105),SUMIFS('Vehicle Type Count by Agency'!P:P,'Vehicle Type Count by Agency'!$H:$H,\">=\"&$B105)))","v":""},{"$f":"IF($A105=\"\",\"\",IF($A105=\"Between\",SUMIFS('Vehicle Type Count by Agency'!R:R,'Vehicle Type Count by Agency'!$H:$H,\">=\"&$B105,'Vehicle Type Count by Agency'!$H:$H,\"<\"&$D105),SUMIFS('Vehicle Type Count by Agency'!R:R,'Vehicle Type Count by Agency'!$H:$H,\">=\"&$B105)))","v":""},{"$f":"IF($A105=\"\",\"\",IF($A105=\"Between\",SUMIFS('Vehicle Type Count by Agency'!T:T,'Vehicle Type Count by Agency'!$H:$H,\">=\"&$B105,'Vehicle Type Count by Agency'!$H:$H,\"<\"&$D105),SUMIFS('Vehicle Type Count by Agency'!T:T,'Vehicle Type Count by Agency'!$H:$H,\">=\"&$B105)))","v":""},{"$f":"IF($A105=\"\",\"\",IF($A105=\"Between\",SUMIFS('Vehicle Type Count by Agency'!V:V,'Vehicle Type Count by Agency'!$H:$H,\">=\"&$B105,'Vehicle Type Count by Agency'!$H:$H,\"<\"&$D105),SUMIFS('Vehicle Type Count by Agency'!V:V,'Vehicle Type Count by Agency'!$H:$H,\">=\"&$B105)))","v":""},{"$f":"IF($A105=\"\",\"\",IF($A105=\"Between\",SUMIFS('Vehicle Type Count by Agency'!X:X,'Vehicle Type Count by Agency'!$H:$H,\">=\"&$B105,'Vehicle Type Count by Agency'!$H:$H,\"<\"&$D105),SUMIFS('Vehicle Type Count by Agency'!X:X,'Vehicle Type Count by Agency'!$H:$H,\">=\"&$B105)))","v":""},{"$f":"IF($A105=\"\",\"\",IF($A105=\"Between\",SUMIFS('Vehicle Type Count by Agency'!Z:Z,'Vehicle Type Count by Agency'!$H:$H,\">=\"&$B105,'Vehicle Type Count by Agency'!$H:$H,\"<\"&$D105),SUMIFS('Vehicle Type Count by Agency'!Z:Z,'Vehicle Type Count by Agency'!$H:$H,\">=\"&$B105)))","v":""},{"$f":"IF($A105=\"\",\"\",IF($A105=\"Between\",SUMIFS('Vehicle Type Count by Agency'!AB:AB,'Vehicle Type Count by Agency'!$H:$H,\">=\"&$B105,'Vehicle Type Count by Agency'!$H:$H,\"<\"&$D105),SUMIFS('Vehicle Type Count by Agency'!AB:AB,'Vehicle Type Count by Agency'!$H:$H,\">=\"&$B105)))","v":""},{"$f":"IF($A105=\"\",\"\",IF($A105=\"Between\",SUMIFS('Vehicle Type Count by Agency'!AD:AD,'Vehicle Type Count by Agency'!$H:$H,\">=\"&$B105,'Vehicle Type Count by Agency'!$H:$H,\"<\"&$D105),SUMIFS('Vehicle Type Count by Agency'!AD:AD,'Vehicle Type Count by Agency'!$H:$H,\">=\"&$B105)))","v":""},{"$f":"IF($A105=\"\",\"\",IF($A105=\"Between\",SUMIFS('Vehicle Type Count by Agency'!AF:AF,'Vehicle Type Count by Agency'!$H:$H,\">=\"&$B105,'Vehicle Type Count by Agency'!$H:$H,\"<\"&$D105),SUMIFS('Vehicle Type Count by Agency'!AF:AF,'Vehicle Type Count by Agency'!$H:$H,\">=\"&$B105)))","v":""},{"$f":"IF($A105=\"\",\"\",IF($A105=\"Between\",SUMIFS('Vehicle Type Count by Agency'!AH:AH,'Vehicle Type Count by Agency'!$H:$H,\">=\"&$B105,'Vehicle Type Count by Agency'!$H:$H,\"<\"&$D105),SUMIFS('Vehicle Type Count by Agency'!AH:AH,'Vehicle Type Count by Agency'!$H:$H,\">=\"&$B105)))","v":""},{"$f":"IF($A105=\"\",\"\",IF($A105=\"Between\",SUMIFS('Vehicle Type Count by Agency'!AJ:AJ,'Vehicle Type Count by Agency'!$H:$H,\">=\"&$B105,'Vehicle Type Count by Agency'!$H:$H,\"<\"&$D105),SUMIFS('Vehicle Type Count by Agency'!AJ:AJ,'Vehicle Type Count by Agency'!$H:$H,\">=\"&$B105)))","v":""},{"$f":"IF($A105=\"\",\"\",IF($A105=\"Between\",SUMIFS('Vehicle Type Count by Agency'!AL:AL,'Vehicle Type Count by Agency'!$H:$H,\">=\"&$B105,'Vehicle Type Count by Agency'!$H:$H,\"<\"&$D105),SUMIFS('Vehicle Type Count by Agency'!AL:AL,'Vehicle Type Count by Agency'!$H:$H,\">=\"&$B105)))","v":""},{"$f":"IF($A105=\"\",\"\",IF($A105=\"Between\",SUMIFS('Vehicle Type Count by Agency'!AN:AN,'Vehicle Type Count by Agency'!$H:$H,\">=\"&$B105,'Vehicle Type Count by Agency'!$H:$H,\"<\"&$D105),SUMIFS('Vehicle Type Count by Agency'!AN:AN,'Vehicle Type Count by Agency'!$H:$H,\">=\"&$B105)))","v":""},{"$f":"IF($A105=\"\",\"\",IF($A105=\"Between\",SUMIFS('Vehicle Type Count by Agency'!AP:AP,'Vehicle Type Count by Agency'!$H:$H,\">=\"&$B105,'Vehicle Type Count by Agency'!$H:$H,\"<\"&$D105),SUMIFS('Vehicle Type Count by Agency'!AP:AP,'Vehicle Type Count by Agency'!$H:$H,\">=\"&$B105)))","v":""},{"$f":"IF($A105=\"\",\"\",IF($A105=\"Between\",SUMIFS('Vehicle Type Count by Agency'!AR:AR,'Vehicle Type Count by Agency'!$H:$H,\">=\"&$B105,'Vehicle Type Count by Agency'!$H:$H,\"<\"&$D105),SUMIFS('Vehicle Type Count by Agency'!AR:AR,'Vehicle Type Count by Agency'!$H:$H,\">=\"&$B105)))","v":""},{"$f":"IF($A105=\"\",\"\",IF($A105=\"Between\",SUMIFS('Vehicle Type Count by Agency'!AT:AT,'Vehicle Type Count by Agency'!$H:$H,\">=\"&$B105,'Vehicle Type Count by Agency'!$H:$H,\"<\"&$D105),SUMIFS('Vehicle Type Count by Agency'!AT:AT,'Vehicle Type Count by Agency'!$H:$H,\">=\"&$B105)))","v":""},{"$f":"IF($A105=\"\",\"\",IF($A105=\"Between\",SUMIFS('Vehicle Type Count by Agency'!AV:AV,'Vehicle Type Count by Agency'!$H:$H,\">=\"&$B105,'Vehicle Type Count by Agency'!$H:$H,\"<\"&$D105),SUMIFS('Vehicle Type Count by Agency'!AV:AV,'Vehicle Type Count by Agency'!$H:$H,\">=\"&$B105)))","v":""},{"$f":"IF($A105=\"\",\"\",IF($A105=\"Between\",SUMIFS('Vehicle Type Count by Agency'!AX:AX,'Vehicle Type Count by Agency'!$H:$H,\">=\"&$B105,'Vehicle Type Count by Agency'!$H:$H,\"<\"&$D105),SUMIFS('Vehicle Type Count by Agency'!AX:AX,'Vehicle Type Count by Agency'!$H:$H,\">=\"&$B105)))","v":""},{"$f":"IF($A105=\"\",\"\",IF($A105=\"Between\",SUMIFS('Vehicle Type Count by Agency'!AZ:AZ,'Vehicle Type Count by Agency'!$H:$H,\">=\"&$B105,'Vehicle Type Count by Agency'!$H:$H,\"<\"&$D105),SUMIFS('Vehicle Type Count by Agency'!AZ:AZ,'Vehicle Type Count by Agency'!$H:$H,\">=\"&$B105)))","v":""},{"$f":"IF($A105=\"\",\"\",IF($A105=\"Between\",SUMIFS('Vehicle Type Count by Agency'!BB:BB,'Vehicle Type Count by Agency'!$H:$H,\">=\"&$B105,'Vehicle Type Count by Agency'!$H:$H,\"<\"&$D105),SUMIFS('Vehicle Type Count by Agency'!BB:BB,'Vehicle Type Count by Agency'!$H:$H,\">=\"&$B105)))","v":""},{"$f":"IF($A105=\"\",\"\",IF($A105=\"Between\",SUMIFS('Vehicle Type Count by Agency'!BD:BD,'Vehicle Type Count by Agency'!$H:$H,\">=\"&$B105,'Vehicle Type Count by Agency'!$H:$H,\"<\"&$D105),SUMIFS('Vehicle Type Count by Agency'!BD:BD,'Vehicle Type Count by Agency'!$H:$H,\">=\"&$B105)))","v":""},{"$f":"IF($A105=\"\",\"\",IF($A105=\"Between\",SUMIFS('Vehicle Type Count by Agency'!BF:BF,'Vehicle Type Count by Agency'!$H:$H,\">=\"&$B105,'Vehicle Type Count by Agency'!$H:$H,\"<\"&$D105),SUMIFS('Vehicle Type Count by Agency'!BF:BF,'Vehicle Type Count by Agency'!$H:$H,\">=\"&$B105)))","v":""},{"$f":"IF($A105=\"\",\"\",IF($A105=\"Between\",SUMIFS('Vehicle Type Count by Agency'!BH:BH,'Vehicle Type Count by Agency'!$H:$H,\">=\"&$B105,'Vehicle Type Count by Agency'!$H:$H,\"<\"&$D105),SUMIFS('Vehicle Type Count by Agency'!BH:BH,'Vehicle Type Count by Agency'!$H:$H,\">=\"&$B105)))","v":""}]
["","","","","invalid bin",{"$f":"IF($A106=\"\",\"\",IF($A106=\"Between\",SUMIFS('Vehicle Type Count by Agency'!J:J,'Vehicle Type Count by Agency'!$H:$H,\">=\"&$B106,'Vehicle Type Count by Agency'!$H:$H,\"<\"&$D106),SUMIFS('Vehicle Type Count by Agency'!J:J,'Vehicle Type Count by Agency'!$H:$H,\">=\"&$B106)))","v":""},{"$f":"IF($A106=\"\",\"\",IF($A106=\"Between\",SUMIFS('Vehicle Type Count by Agency'!L:L,'Vehicle Type Count by Agency'!$H:$H,\">=\"&$B106,'Vehicle Type Count by Agency'!$H:$H,\"<\"&$D106),SUMIFS('Vehicle Type Count by Agency'!L:L,'Vehicle Type Count by Agency'!$H:$H,\">=\"&$B106)))","v":""},{"$f":"IF($A106=\"\",\"\",IF($A106=\"Between\",SUMIFS('Vehicle Type Count by Agency'!N:N,'Vehicle Type Count by Agency'!$H:$H,\">=\"&$B106,'Vehicle Type Count by Agency'!$H:$H,\"<\"&$D106),SUMIFS('Vehicle Type Count by Agency'!N:N,'Vehicle Type Count by Agency'!$H:$H,\">=\"&$B106)))","v":""},{"$f":"IF($A106=\"\",\"\",IF($A106=\"Between\",SUMIFS('Vehicle Type Count by Agency'!P:P,'Vehicle Type Count by Agency'!$H:$H,\">=\"&$B106,'Vehicle Type Count by Agency'!$H:$H,\"<\"&$D106),SUMIFS('Vehicle Type Count by Agency'!P:P,'Vehicle Type Count by Agency'!$H:$H,\">=\"&$B106)))","v":""},{"$f":"IF($A106=\"\",\"\",IF($A106=\"Between\",SUMIFS('Vehicle Type Count by Agency'!R:R,'Vehicle Type Count by Agency'!$H:$H,\">=\"&$B106,'Vehicle Type Count by Agency'!$H:$H,\"<\"&$D106),SUMIFS('Vehicle Type Count by Agency'!R:R,'Vehicle Type Count by Agency'!$H:$H,\">=\"&$B106)))","v":""},{"$f":"IF($A106=\"\",\"\",IF($A106=\"Between\",SUMIFS('Vehicle Type Count by Agency'!T:T,'Vehicle Type Count by Agency'!$H:$H,\">=\"&$B106,'Vehicle Type Count by Agency'!$H:$H,\"<\"&$D106),SUMIFS('Vehicle Type Count by Agency'!T:T,'Vehicle Type Count by Agency'!$H:$H,\">=\"&$B106)))","v":""},{"$f":"IF($A106=\"\",\"\",IF($A106=\"Between\",SUMIFS('Vehicle Type Count by Agency'!V:V,'Vehicle Type Count by Agency'!$H:$H,\">=\"&$B106,'Vehicle Type Count by Agency'!$H:$H,\"<\"&$D106),SUMIFS('Vehicle Type Count by Agency'!V:V,'Vehicle Type Count by Agency'!$H:$H,\">=\"&$B106)))","v":""},{"$f":"IF($A106=\"\",\"\",IF($A106=\"Between\",SUMIFS('Vehicle Type Count by Agency'!X:X,'Vehicle Type Count by Agency'!$H:$H,\">=\"&$B106,'Vehicle Type Count by Agency'!$H:$H,\"<\"&$D106),SUMIFS('Vehicle Type Count by Agency'!X:X,'Vehicle Type Count by Agency'!$H:$H,\">=\"&$B106)))","v":""},{"$f":"IF($A106=\"\",\"\",IF($A106=\"Between\",SUMIFS('Vehicle Type Count by Agency'!Z:Z,'Vehicle Type Count by Agency'!$H:$H,\">=\"&$B106,'Vehicle Type Count by Agency'!$H:$H,\"<\"&$D106),SUMIFS('Vehicle Type Count by Agency'!Z:Z,'Vehicle Type Count by Agency'!$H:$H,\">=\"&$B106)))","v":""},{"$f":"IF($A106=\"\",\"\",IF($A106=\"Between\",SUMIFS('Vehicle Type Count by Agency'!AB:AB,'Vehicle Type Count by Agency'!$H:$H,\">=\"&$B106,'Vehicle Type Count by Agency'!$H:$H,\"<\"&$D106),SUMIFS('Vehicle Type Count by Agency'!AB:AB,'Vehicle Type Count by Agency'!$H:$H,\">=\"&$B106)))","v":""},{"$f":"IF($A106=\"\",\"\",IF($A106=\"Between\",SUMIFS('Vehicle Type Count by Agency'!AD:AD,'Vehicle Type Count by Agency'!$H:$H,\">=\"&$B106,'Vehicle Type Count by Agency'!$H:$H,\"<\"&$D106),SUMIFS('Vehicle Type Count by Agency'!AD:AD,'Vehicle Type Count by Agency'!$H:$H,\">=\"&$B106)))","v":""},{"$f":"IF($A106=\"\",\"\",IF($A106=\"Between\",SUMIFS('Vehicle Type Count by Agency'!AF:AF,'Vehicle Type Count by Agency'!$H:$H,\">=\"&$B106,'Vehicle Type Count by Agency'!$H:$H,\"<\"&$D106),SUMIFS('Vehicle Type Count by Agency'!AF:AF,'Vehicle Type Count by Agency'!$H:$H,\">=\"&$B106)))","v":""},{"$f":"IF($A106=\"\",\"\",IF($A106=\"Between\",SUMIFS('Vehicle Type Count by Agency'!AH:AH,'Vehicle Type Count by Agency'!$H:$H,\">=\"&$B106,'Vehicle Type Count by Agency'!$H:$H,\"<\"&$D106),SUMIFS('Vehicle Type Count by Agency'!AH:AH,'Vehicle Type Count by Agency'!$H:$H,\">=\"&$B106)))","v":""},{"$f":"IF($A106=\"\",\"\",IF($A106=\"Between\",SUMIFS('Vehicle Type Count by Agency'!AJ:AJ,'Vehicle Type Count by Agency'!$H:$H,\">=\"&$B106,'Vehicle Type Count by Agency'!$H:$H,\"<\"&$D106),SUMIFS('Vehicle Type Count by Agency'!AJ:AJ,'Vehicle Type Count by Agency'!$H:$H,\">=\"&$B106)))","v":""},{"$f":"IF($A106=\"\",\"\",IF($A106=\"Between\",SUMIFS('Vehicle Type Count by Agency'!AL:AL,'Vehicle Type Count by Agency'!$H:$H,\">=\"&$B106,'Vehicle Type Count by Agency'!$H:$H,\"<\"&$D106),SUMIFS('Vehicle Type Count by Agency'!AL:AL,'Vehicle Type Count by Agency'!$H:$H,\">=\"&$B106)))","v":""},{"$f":"IF($A106=\"\",\"\",IF($A106=\"Between\",SUMIFS('Vehicle Type Count by Agency'!AN:AN,'Vehicle Type Count by Agency'!$H:$H,\">=\"&$B106,'Vehicle Type Count by Agency'!$H:$H,\"<\"&$D106),SUMIFS('Vehicle Type Count by Agency'!AN:AN,'Vehicle Type Count by Agency'!$H:$H,\">=\"&$B106)))","v":""},{"$f":"IF($A106=\"\",\"\",IF($A106=\"Between\",SUMIFS('Vehicle Type Count by Agency'!AP:AP,'Vehicle Type Count by Agency'!$H:$H,\">=\"&$B106,'Vehicle Type Count by Agency'!$H:$H,\"<\"&$D106),SUMIFS('Vehicle Type Count by Agency'!AP:AP,'Vehicle Type Count by Agency'!$H:$H,\">=\"&$B106)))","v":""},{"$f":"IF($A106=\"\",\"\",IF($A106=\"Between\",SUMIFS('Vehicle Type Count by Agency'!AR:AR,'Vehicle Type Count by Agency'!$H:$H,\">=\"&$B106,'Vehicle Type Count by Agency'!$H:$H,\"<\"&$D106),SUMIFS('Vehicle Type Count by Agency'!AR:AR,'Vehicle Type Count by Agency'!$H:$H,\">=\"&$B106)))","v":""},{"$f":"IF($A106=\"\",\"\",IF($A106=\"Between\",SUMIFS('Vehicle Type Count by Agency'!AT:AT,'Vehicle Type Count by Agency'!$H:$H,\">=\"&$B106,'Vehicle Type Count by Agency'!$H:$H,\"<\"&$D106),SUMIFS('Vehicle Type Count by Agency'!AT:AT,'Vehicle Type Count by Agency'!$H:$H,\">=\"&$B106)))","v":""},{"$f":"IF($A106=\"\",\"\",IF($A106=\"Between\",SUMIFS('Vehicle Type Count by Agency'!AV:AV,'Vehicle Type Count by Agency'!$H:$H,\">=\"&$B106,'Vehicle Type Count by Agency'!$H:$H,\"<\"&$D106),SUMIFS('Vehicle Type Count by Agency'!AV:AV,'Vehicle Type Count by Agency'!$H:$H,\">=\"&$B106)))","v":""},{"$f":"IF($A106=\"\",\"\",IF($A106=\"Between\",SUMIFS('Vehicle Type Count by Agency'!AX:AX,'Vehicle Type Count by Agency'!$H:$H,\">=\"&$B106,'Vehicle Type Count by Agency'!$H:$H,\"<\"&$D106),SUMIFS('Vehicle Type Count by Agency'!AX:AX,'Vehicle Type Count by Agency'!$H:$H,\">=\"&$B106)))","v":""},{"$f":"IF($A106=\"\",\"\",IF($A106=\"Between\",SUMIFS('Vehicle Type Count by Agency'!AZ:AZ,'Vehicle Type Count by Agency'!$H:$H,\">=\"&$B106,'Vehicle Type Count by Agency'!$H:$H,\"<\"&$D106),SUMIFS('Vehicle Type Count by Agency'!AZ:AZ,'Vehicle Type Count by Agency'!$H:$H,\">=\"&$B106)))","v":""},{"$f":"IF($A106=\"\",\"\",IF($A106=\"Between\",SUMIFS('Vehicle Type Count by Agency'!BB:BB,'Vehicle Type Count by Agency'!$H:$H,\">=\"&$B106,'Vehicle Type Count by Agency'!$H:$H,\"<\"&$D106),SUMIFS('Vehicle Type Count by Agency'!BB:BB,'Vehicle Type Count by Agency'!$H:$H,\">=\"&$B106)))","v":""},{"$f":"IF($A106=\"\",\"\",IF($A106=\"Between\",SUMIFS('Vehicle Type Count by Agency'!BD:BD,'Vehicle Type Count by Agency'!$H:$H,\">=\"&$B106,'Vehicle Type Count by Agency'!$H:$H,\"<\"&$D106),SUMIFS('Vehicle Type Count by Agency'!BD:BD,'Vehicle Type Count by Agency'!$H:$H,\">=\"&$B106)))","v":""},{"$f":"IF($A106=\"\",\"\",IF($A106=\"Between\",SUMIFS('Vehicle Type Count by Agency'!BF:BF,'Vehicle Type Count by Agency'!$H:$H,\">=\"&$B106,'Vehicle Type Count by Agency'!$H:$H,\"<\"&$D106),SUMIFS('Vehicle Type Count by Agency'!BF:BF,'Vehicle Type Count by Agency'!$H:$H,\">=\"&$B106)))","v":""},{"$f":"IF($A106=\"\",\"\",IF($A106=\"Between\",SUMIFS('Vehicle Type Count by Agency'!BH:BH,'Vehicle Type Count by Agency'!$H:$H,\">=\"&$B106,'Vehicle Type Count by Agency'!$H:$H,\"<\"&$D106),SUMIFS('Vehicle Type Count by Agency'!BH:BH,'Vehicle Type Count by Agency'!$H:$H,\">=\"&$B106)))","v":""}]
["","","","","invalid bin",{"$f":"IF($A107=\"\",\"\",IF($A107=\"Between\",SUMIFS('Vehicle Type Count by Agency'!J:J,'Vehicle Type Count by Agency'!$H:$H,\">=\"&$B107,'Vehicle Type Count by Agency'!$H:$H,\"<\"&$D107),SUMIFS('Vehicle Type Count by Agency'!J:J,'Vehicle Type Count by Agency'!$H:$H,\">=\"&$B107)))","v":""},{"$f":"IF($A107=\"\",\"\",IF($A107=\"Between\",SUMIFS('Vehicle Type Count by Agency'!L:L,'Vehicle Type Count by Agency'!$H:$H,\">=\"&$B107,'Vehicle Type Count by Agency'!$H:$H,\"<\"&$D107),SUMIFS('Vehicle Type Count by Agency'!L:L,'Vehicle Type Count by Agency'!$H:$H,\">=\"&$B107)))","v":""},{"$f":"IF($A107=\"\",\"\",IF($A107=\"Between\",SUMIFS('Vehicle Type Count by Agency'!N:N,'Vehicle Type Count by Agency'!$H:$H,\">=\"&$B107,'Vehicle Type Count by Agency'!$H:$H,\"<\"&$D107),SUMIFS('Vehicle Type Count by Agency'!N:N,'Vehicle Type Count by Agency'!$H:$H,\">=\"&$B107)))","v":""},{"$f":"IF($A107=\"\",\"\",IF($A107=\"Between\",SUMIFS('Vehicle Type Count by Agency'!P:P,'Vehicle Type Count by Agency'!$H:$H,\">=\"&$B107,'Vehicle Type Count by Agency'!$H:$H,\"<\"&$D107),SUMIFS('Vehicle Type Count by Agency'!P:P,'Vehicle Type Count by Agency'!$H:$H,\">=\"&$B107)))","v":""},{"$f":"IF($A107=\"\",\"\",IF($A107=\"Between\",SUMIFS('Vehicle Type Count by Agency'!R:R,'Vehicle Type Count by Agency'!$H:$H,\">=\"&$B107,'Vehicle Type Count by Agency'!$H:$H,\"<\"&$D107),SUMIFS('Vehicle Type Count by Agency'!R:R,'Vehicle Type Count by Agency'!$H:$H,\">=\"&$B107)))","v":""},{"$f":"IF($A107=\"\",\"\",IF($A107=\"Between\",SUMIFS('Vehicle Type Count by Agency'!T:T,'Vehicle Type Count by Agency'!$H:$H,\">=\"&$B107,'Vehicle Type Count by Agency'!$H:$H,\"<\"&$D107),SUMIFS('Vehicle Type Count by Agency'!T:T,'Vehicle Type Count by Agency'!$H:$H,\">=\"&$B107)))","v":""},{"$f":"IF($A107=\"\",\"\",IF($A107=\"Between\",SUMIFS('Vehicle Type Count by Agency'!V:V,'Vehicle Type Count by Agency'!$H:$H,\">=\"&$B107,'Vehicle Type Count by Agency'!$H:$H,\"<\"&$D107),SUMIFS('Vehicle Type Count by Agency'!V:V,'Vehicle Type Count by Agency'!$H:$H,\">=\"&$B107)))","v":""},{"$f":"IF($A107=\"\",\"\",IF($A107=\"Between\",SUMIFS('Vehicle Type Count by Agency'!X:X,'Vehicle Type Count by Agency'!$H:$H,\">=\"&$B107,'Vehicle Type Count by Agency'!$H:$H,\"<\"&$D107),SUMIFS('Vehicle Type Count by Agency'!X:X,'Vehicle Type Count by Agency'!$H:$H,\">=\"&$B107)))","v":""},{"$f":"IF($A107=\"\",\"\",IF($A107=\"Between\",SUMIFS('Vehicle Type Count by Agency'!Z:Z,'Vehicle Type Count by Agency'!$H:$H,\">=\"&$B107,'Vehicle Type Count by Agency'!$H:$H,\"<\"&$D107),SUMIFS('Vehicle Type Count by Agency'!Z:Z,'Vehicle Type Count by Agency'!$H:$H,\">=\"&$B107)))","v":""},{"$f":"IF($A107=\"\",\"\",IF($A107=\"Between\",SUMIFS('Vehicle Type Count by Agency'!AB:AB,'Vehicle Type Count by Agency'!$H:$H,\">=\"&$B107,'Vehicle Type Count by Agency'!$H:$H,\"<\"&$D107),SUMIFS('Vehicle Type Count by Agency'!AB:AB,'Vehicle Type Count by Agency'!$H:$H,\">=\"&$B107)))","v":""},{"$f":"IF($A107=\"\",\"\",IF($A107=\"Between\",SUMIFS('Vehicle Type Count by Agency'!AD:AD,'Vehicle Type Count by Agency'!$H:$H,\">=\"&$B107,'Vehicle Type Count by Agency'!$H:$H,\"<\"&$D107),SUMIFS('Vehicle Type Count by Agency'!AD:AD,'Vehicle Type Count by Agency'!$H:$H,\">=\"&$B107)))","v":""},{"$f":"IF($A107=\"\",\"\",IF($A107=\"Between\",SUMIFS('Vehicle Type Count by Agency'!AF:AF,'Vehicle Type Count by Agency'!$H:$H,\">=\"&$B107,'Vehicle Type Count by Agency'!$H:$H,\"<\"&$D107),SUMIFS('Vehicle Type Count by Agency'!AF:AF,'Vehicle Type Count by Agency'!$H:$H,\">=\"&$B107)))","v":""},{"$f":"IF($A107=\"\",\"\",IF($A107=\"Between\",SUMIFS('Vehicle Type Count by Agency'!AH:AH,'Vehicle Type Count by Agency'!$H:$H,\">=\"&$B107,'Vehicle Type Count by Agency'!$H:$H,\"<\"&$D107),SUMIFS('Vehicle Type Count by Agency'!AH:AH,'Vehicle Type Count by Agency'!$H:$H,\">=\"&$B107)))","v":""},{"$f":"IF($A107=\"\",\"\",IF($A107=\"Between\",SUMIFS('Vehicle Type Count by Agency'!AJ:AJ,'Vehicle Type Count by Agency'!$H:$H,\">=\"&$B107,'Vehicle Type Count by Agency'!$H:$H,\"<\"&$D107),SUMIFS('Vehicle Type Count by Agency'!AJ:AJ,'Vehicle Type Count by Agency'!$H:$H,\">=\"&$B107)))","v":""},{"$f":"IF($A107=\"\",\"\",IF($A107=\"Between\",SUMIFS('Vehicle Type Count by Agency'!AL:AL,'Vehicle Type Count by Agency'!$H:$H,\">=\"&$B107,'Vehicle Type Count by Agency'!$H:$H,\"<\"&$D107),SUMIFS('Vehicle Type Count by Agency'!AL:AL,'Vehicle Type Count by Agency'!$H:$H,\">=\"&$B107)))","v":""},{"$f":"IF($A107=\"\",\"\",IF($A107=\"Between\",SUMIFS('Vehicle Type Count by Agency'!AN:AN,'Vehicle Type Count by Agency'!$H:$H,\">=\"&$B107,'Vehicle Type Count by Agency'!$H:$H,\"<\"&$D107),SUMIFS('Vehicle Type Count by Agency'!AN:AN,'Vehicle Type Count by Agency'!$H:$H,\">=\"&$B107)))","v":""},{"$f":"IF($A107=\"\",\"\",IF($A107=\"Between\",SUMIFS('Vehicle Type Count by Agency'!AP:AP,'Vehicle Type Count by Agency'!$H:$H,\">=\"&$B107,'Vehicle Type Count by Agency'!$H:$H,\"<\"&$D107),SUMIFS('Vehicle Type Count by Agency'!AP:AP,'Vehicle Type Count by Agency'!$H:$H,\">=\"&$B107)))","v":""},{"$f":"IF($A107=\"\",\"\",IF($A107=\"Between\",SUMIFS('Vehicle Type Count by Agency'!AR:AR,'Vehicle Type Count by Agency'!$H:$H,\">=\"&$B107,'Vehicle Type Count by Agency'!$H:$H,\"<\"&$D107),SUMIFS('Vehicle Type Count by Agency'!AR:AR,'Vehicle Type Count by Agency'!$H:$H,\">=\"&$B107)))","v":""},{"$f":"IF($A107=\"\",\"\",IF($A107=\"Between\",SUMIFS('Vehicle Type Count by Agency'!AT:AT,'Vehicle Type Count by Agency'!$H:$H,\">=\"&$B107,'Vehicle Type Count by Agency'!$H:$H,\"<\"&$D107),SUMIFS('Vehicle Type Count by Agency'!AT:AT,'Vehicle Type Count by Agency'!$H:$H,\">=\"&$B107)))","v":""},{"$f":"IF($A107=\"\",\"\",IF($A107=\"Between\",SUMIFS('Vehicle Type Count by Agency'!AV:AV,'Vehicle Type Count by Agency'!$H:$H,\">=\"&$B107,'Vehicle Type Count by Agency'!$H:$H,\"<\"&$D107),SUMIFS('Vehicle Type Count by Agency'!AV:AV,'Vehicle Type Count by Agency'!$H:$H,\">=\"&$B107)))","v":""},{"$f":"IF($A107=\"\",\"\",IF($A107=\"Between\",SUMIFS('Vehicle Type Count by Agency'!AX:AX,'Vehicle Type Count by Agency'!$H:$H,\">=\"&$B107,'Vehicle Type Count by Agency'!$H:$H,\"<\"&$D107),SUMIFS('Vehicle Type Count by Agency'!AX:AX,'Vehicle Type Count by Agency'!$H:$H,\">=\"&$B107)))","v":""},{"$f":"IF($A107=\"\",\"\",IF($A107=\"Between\",SUMIFS('Vehicle Type Count by Agency'!AZ:AZ,'Vehicle Type Count by Agency'!$H:$H,\">=\"&$B107,'Vehicle Type Count by Agency'!$H:$H,\"<\"&$D107),SUMIFS('Vehicle Type Count by Agency'!AZ:AZ,'Vehicle Type Count by Agency'!$H:$H,\">=\"&$B107)))","v":""},{"$f":"IF($A107=\"\",\"\",IF($A107=\"Between\",SUMIFS('Vehicle Type Count by Agency'!BB:BB,'Vehicle Type Count by Agency'!$H:$H,\">=\"&$B107,'Vehicle Type Count by Agency'!$H:$H,\"<\"&$D107),SUMIFS('Vehicle Type Count by Agency'!BB:BB,'Vehicle Type Count by Agency'!$H:$H,\">=\"&$B107)))","v":""},{"$f":"IF($A107=\"\",\"\",IF($A107=\"Between\",SUMIFS('Vehicle Type Count by Agency'!BD:BD,'Vehicle Type Count by Agency'!$H:$H,\">=\"&$B107,'Vehicle Type Count by Agency'!$H:$H,\"<\"&$D107),SUMIFS('Vehicle Type Count by Agency'!BD:BD,'Vehicle Type Count by Agency'!$H:$H,\">=\"&$B107)))","v":""},{"$f":"IF($A107=\"\",\"\",IF($A107=\"Between\",SUMIFS('Vehicle Type Count by Agency'!BF:BF,'Vehicle Type Count by Agency'!$H:$H,\">=\"&$B107,'Vehicle Type Count by Agency'!$H:$H,\"<\"&$D107),SUMIFS('Vehicle Type Count by Agency'!BF:BF,'Vehicle Type Count by Agency'!$H:$H,\">=\"&$B107)))","v":""},{"$f":"IF($A107=\"\",\"\",IF($A107=\"Between\",SUMIFS('Vehicle Type Count by Agency'!BH:BH,'Vehicle Type Count by Agency'!$H:$H,\">=\"&$B107,'Vehicle Type Count by Agency'!$H:$H,\"<\"&$D107),SUMIFS('Vehicle Type Count by Agency'!BH:BH,'Vehicle Type Count by Agency'!$H:$H,\">=\"&$B107)))","v":""}]
["","","","","invalid bin",{"$f":"IF($A108=\"\",\"\",IF($A108=\"Between\",SUMIFS('Vehicle Type Count by Agency'!J:J,'Vehicle Type Count by Agency'!$H:$H,\">=\"&$B108,'Vehicle Type Count by Agency'!$H:$H,\"<\"&$D108),SUMIFS('Vehicle Type Count by Agency'!J:J,'Vehicle Type Count by Agency'!$H:$H,\">=\"&$B108)))","v":""},{"$f":"IF($A108=\"\",\"\",IF($A108=\"Between\",SUMIFS('Vehicle Type Count by Agency'!L:L,'Vehicle Type Count by Agency'!$H:$H,\">=\"&$B108,'Vehicle Type Count by Agency'!$H:$H,\"<\"&$D108),SUMIFS('Vehicle Type Count by Agency'!L:L,'Vehicle Type Count by Agency'!$H:$H,\">=\"&$B108)))","v":""},{"$f":"IF($A108=\"\",\"\",IF($A108=\"Between\",SUMIFS('Vehicle Type Count by Agency'!N:N,'Vehicle Type Count by Agency'!$H:$H,\">=\"&$B108,'Vehicle Type Count by Agency'!$H:$H,\"<\"&$D108),SUMIFS('Vehicle Type Count by Agency'!N:N,'Vehicle Type Count by Agency'!$H:$H,\">=\"&$B108)))","v":""},{"$f":"IF($A108=\"\",\"\",IF($A108=\"Between\",SUMIFS('Vehicle Type Count by Agency'!P:P,'Vehicle Type Count by Agency'!$H:$H,\">=\"&$B108,'Vehicle Type Count by Agency'!$H:$H,\"<\"&$D108),SUMIFS('Vehicle Type Count by Agency'!P:P,'Vehicle Type Count by Agency'!$H:$H,\">=\"&$B108)))","v":""},{"$f":"IF($A108=\"\",\"\",IF($A108=\"Between\",SUMIFS('Vehicle Type Count by Agency'!R:R,'Vehicle Type Count by Agency'!$H:$H,\">=\"&$B108,'Vehicle Type Count by Agency'!$H:$H,\"<\"&$D108),SUMIFS('Vehicle Type Count by Agency'!R:R,'Vehicle Type Count by Agency'!$H:$H,\">=\"&$B108)))","v":""},{"$f":"IF($A108=\"\",\"\",IF($A108=\"Between\",SUMIFS('Vehicle Type Count by Agency'!T:T,'Vehicle Type Count by Agency'!$H:$H,\">=\"&$B108,'Vehicle Type Count by Agency'!$H:$H,\"<\"&$D108),SUMIFS('Vehicle Type Count by Agency'!T:T,'Vehicle Type Count by Agency'!$H:$H,\">=\"&$B108)))","v":""},{"$f":"IF($A108=\"\",\"\",IF($A108=\"Between\",SUMIFS('Vehicle Type Count by Agency'!V:V,'Vehicle Type Count by Agency'!$H:$H,\">=\"&$B108,'Vehicle Type Count by Agency'!$H:$H,\"<\"&$D108),SUMIFS('Vehicle Type Count by Agency'!V:V,'Vehicle Type Count by Agency'!$H:$H,\">=\"&$B108)))","v":""},{"$f":"IF($A108=\"\",\"\",IF($A108=\"Between\",SUMIFS('Vehicle Type Count by Agency'!X:X,'Vehicle Type Count by Agency'!$H:$H,\">=\"&$B108,'Vehicle Type Count by Agency'!$H:$H,\"<\"&$D108),SUMIFS('Vehicle Type Count by Agency'!X:X,'Vehicle Type Count by Agency'!$H:$H,\">=\"&$B108)))","v":""},{"$f":"IF($A108=\"\",\"\",IF($A108=\"Between\",SUMIFS('Vehicle Type Count by Agency'!Z:Z,'Vehicle Type Count by Agency'!$H:$H,\">=\"&$B108,'Vehicle Type Count by Agency'!$H:$H,\"<\"&$D108),SUMIFS('Vehicle Type Count by Agency'!Z:Z,'Vehicle Type Count by Agency'!$H:$H,\">=\"&$B108)))","v":""},{"$f":"IF($A108=\"\",\"\",IF($A108=\"Between\",SUMIFS('Vehicle Type Count by Agency'!AB:AB,'Vehicle Type Count by Agency'!$H:$H,\">=\"&$B108,'Vehicle Type Count by Agency'!$H:$H,\"<\"&$D108),SUMIFS('Vehicle Type Count by Agency'!AB:AB,'Vehicle Type Count by Agency'!$H:$H,\">=\"&$B108)))","v":""},{"$f":"IF($A108=\"\",\"\",IF($A108=\"Between\",SUMIFS('Vehicle Type Count by Agency'!AD:AD,'Vehicle Type Count by Agency'!$H:$H,\">=\"&$B108,'Vehicle Type Count by Agency'!$H:$H,\"<\"&$D108),SUMIFS('Vehicle Type Count by Agency'!AD:AD,'Vehicle Type Count by Agency'!$H:$H,\">=\"&$B108)))","v":""},{"$f":"IF($A108=\"\",\"\",IF($A108=\"Between\",SUMIFS('Vehicle Type Count by Agency'!AF:AF,'Vehicle Type Count by Agency'!$H:$H,\">=\"&$B108,'Vehicle Type Count by Agency'!$H:$H,\"<\"&$D108),SUMIFS('Vehicle Type Count by Agency'!AF:AF,'Vehicle Type Count by Agency'!$H:$H,\">=\"&$B108)))","v":""},{"$f":"IF($A108=\"\",\"\",IF($A108=\"Between\",SUMIFS('Vehicle Type Count by Agency'!AH:AH,'Vehicle Type Count by Agency'!$H:$H,\">=\"&$B108,'Vehicle Type Count by Agency'!$H:$H,\"<\"&$D108),SUMIFS('Vehicle Type Count by Agency'!AH:AH,'Vehicle Type Count by Agency'!$H:$H,\">=\"&$B108)))","v":""},{"$f":"IF($A108=\"\",\"\",IF($A108=\"Between\",SUMIFS('Vehicle Type Count by Agency'!AJ:AJ,'Vehicle Type Count by Agency'!$H:$H,\">=\"&$B108,'Vehicle Type Count by Agency'!$H:$H,\"<\"&$D108),SUMIFS('Vehicle Type Count by Agency'!AJ:AJ,'Vehicle Type Count by Agency'!$H:$H,\">=\"&$B108)))","v":""},{"$f":"IF($A108=\"\",\"\",IF($A108=\"Between\",SUMIFS('Vehicle Type Count by Agency'!AL:AL,'Vehicle Type Count by Agency'!$H:$H,\">=\"&$B108,'Vehicle Type Count by Agency'!$H:$H,\"<\"&$D108),SUMIFS('Vehicle Type Count by Agency'!AL:AL,'Vehicle Type Count by Agency'!$H:$H,\">=\"&$B108)))","v":""},{"$f":"IF($A108=\"\",\"\",IF($A108=\"Between\",SUMIFS('Vehicle Type Count by Agency'!AN:AN,'Vehicle Type Count by Agency'!$H:$H,\">=\"&$B108,'Vehicle Type Count by Agency'!$H:$H,\"<\"&$D108),SUMIFS('Vehicle Type Count by Agency'!AN:AN,'Vehicle Type Count by Agency'!$H:$H,\">=\"&$B108)))","v":""},{"$f":"IF($A108=\"\",\"\",IF($A108=\"Between\",SUMIFS('Vehicle Type Count by Agency'!AP:AP,'Vehicle Type Count by Agency'!$H:$H,\">=\"&$B108,'Vehicle Type Count by Agency'!$H:$H,\"<\"&$D108),SUMIFS('Vehicle Type Count by Agency'!AP:AP,'Vehicle Type Count by Agency'!$H:$H,\">=\"&$B108)))","v":""},{"$f":"IF($A108=\"\",\"\",IF($A108=\"Between\",SUMIFS('Vehicle Type Count by Agency'!AR:AR,'Vehicle Type Count by Agency'!$H:$H,\">=\"&$B108,'Vehicle Type Count by Agency'!$H:$H,\"<\"&$D108),SUMIFS('Vehicle Type Count by Agency'!AR:AR,'Vehicle Type Count by Agency'!$H:$H,\">=\"&$B108)))","v":""},{"$f":"IF($A108=\"\",\"\",IF($A108=\"Between\",SUMIFS('Vehicle Type Count by Agency'!AT:AT,'Vehicle Type Count by Agency'!$H:$H,\">=\"&$B108,'Vehicle Type Count by Agency'!$H:$H,\"<\"&$D108),SUMIFS('Vehicle Type Count by Agency'!AT:AT,'Vehicle Type Count by Agency'!$H:$H,\">=\"&$B108)))","v":""},{"$f":"IF($A108=\"\",\"\",IF($A108=\"Between\",SUMIFS('Vehicle Type Count by Agency'!AV:AV,'Vehicle Type Count by Agency'!$H:$H,\">=\"&$B108,'Vehicle Type Count by Agency'!$H:$H,\"<\"&$D108),SUMIFS('Vehicle Type Count by Agency'!AV:AV,'Vehicle Type Count by Agency'!$H:$H,\">=\"&$B108)))","v":""},{"$f":"IF($A108=\"\",\"\",IF($A108=\"Between\",SUMIFS('Vehicle Type Count by Agency'!AX:AX,'Vehicle Type Count by Agency'!$H:$H,\">=\"&$B108,'Vehicle Type Count by Agency'!$H:$H,\"<\"&$D108),SUMIFS('Vehicle Type Count by Agency'!AX:AX,'Vehicle Type Count by Agency'!$H:$H,\">=\"&$B108)))","v":""},{"$f":"IF($A108=\"\",\"\",IF($A108=\"Between\",SUMIFS('Vehicle Type Count by Agency'!AZ:AZ,'Vehicle Type Count by Agency'!$H:$H,\">=\"&$B108,'Vehicle Type Count by Agency'!$H:$H,\"<\"&$D108),SUMIFS('Vehicle Type Count by Agency'!AZ:AZ,'Vehicle Type Count by Agency'!$H:$H,\">=\"&$B108)))","v":""},{"$f":"IF($A108=\"\",\"\",IF($A108=\"Between\",SUMIFS('Vehicle Type Count by Agency'!BB:BB,'Vehicle Type Count by Agency'!$H:$H,\">=\"&$B108,'Vehicle Type Count by Agency'!$H:$H,\"<\"&$D108),SUMIFS('Vehicle Type Count by Agency'!BB:BB,'Vehicle Type Count by Agency'!$H:$H,\">=\"&$B108)))","v":""},{"$f":"IF($A108=\"\",\"\",IF($A108=\"Between\",SUMIFS('Vehicle Type Count by Agency'!BD:BD,'Vehicle Type Count by Agency'!$H:$H,\">=\"&$B108,'Vehicle Type Count by Agency'!$H:$H,\"<\"&$D108),SUMIFS('Vehicle Type Count by Agency'!BD:BD,'Vehicle Type Count by Agency'!$H:$H,\">=\"&$B108)))","v":""},{"$f":"IF($A108=\"\",\"\",IF($A108=\"Between\",SUMIFS('Vehicle Type Count by Agency'!BF:BF,'Vehicle Type Count by Agency'!$H:$H,\">=\"&$B108,'Vehicle Type Count by Agency'!$H:$H,\"<\"&$D108),SUMIFS('Vehicle Type Count by Agency'!BF:BF,'Vehicle Type Count by Agency'!$H:$H,\">=\"&$B108)))","v":""},{"$f":"IF($A108=\"\",\"\",IF($A108=\"Between\",SUMIFS('Vehicle Type Count by Agency'!BH:BH,'Vehicle Type Count by Agency'!$H:$H,\">=\"&$B108,'Vehicle Type Count by Agency'!$H:$H,\"<\"&$D108),SUMIFS('Vehicle Type Count by Agency'!BH:BH,'Vehicle Type Count by Agency'!$H:$H,\">=\"&$B108)))","v":""}]
["","","","","invalid bin",{"$f":"IF($A109=\"\",\"\",IF($A109=\"Between\",SUMIFS('Vehicle Type Count by Agency'!J:J,'Vehicle Type Count by Agency'!$H:$H,\">=\"&$B109,'Vehicle Type Count by Agency'!$H:$H,\"<\"&$D109),SUMIFS('Vehicle Type Count by Agency'!J:J,'Vehicle Type Count by Agency'!$H:$H,\">=\"&$B109)))","v":""},{"$f":"IF($A109=\"\",\"\",IF($A109=\"Between\",SUMIFS('Vehicle Type Count by Agency'!L:L,'Vehicle Type Count by Agency'!$H:$H,\">=\"&$B109,'Vehicle Type Count by Agency'!$H:$H,\"<\"&$D109),SUMIFS('Vehicle Type Count by Agency'!L:L,'Vehicle Type Count by Agency'!$H:$H,\">=\"&$B109)))","v":""},{"$f":"IF($A109=\"\",\"\",IF($A109=\"Between\",SUMIFS('Vehicle Type Count by Agency'!N:N,'Vehicle Type Count by Agency'!$H:$H,\">=\"&$B109,'Vehicle Type Count by Agency'!$H:$H,\"<\"&$D109),SUMIFS('Vehicle Type Count by Agency'!N:N,'Vehicle Type Count by Agency'!$H:$H,\">=\"&$B109)))","v":""},{"$f":"IF($A109=\"\",\"\",IF($A109=\"Between\",SUMIFS('Vehicle Type Count by Agency'!P:P,'Vehicle Type Count by Agency'!$H:$H,\">=\"&$B109,'Vehicle Type Count by Agency'!$H:$H,\"<\"&$D109),SUMIFS('Vehicle Type Count by Agency'!P:P,'Vehicle Type Count by Agency'!$H:$H,\">=\"&$B109)))","v":""},{"$f":"IF($A109=\"\",\"\",IF($A109=\"Between\",SUMIFS('Vehicle Type Count by Agency'!R:R,'Vehicle Type Count by Agency'!$H:$H,\">=\"&$B109,'Vehicle Type Count by Agency'!$H:$H,\"<\"&$D109),SUMIFS('Vehicle Type Count by Agency'!R:R,'Vehicle Type Count by Agency'!$H:$H,\">=\"&$B109)))","v":""},{"$f":"IF($A109=\"\",\"\",IF($A109=\"Between\",SUMIFS('Vehicle Type Count by Agency'!T:T,'Vehicle Type Count by Agency'!$H:$H,\">=\"&$B109,'Vehicle Type Count by Agency'!$H:$H,\"<\"&$D109),SUMIFS('Vehicle Type Count by Agency'!T:T,'Vehicle Type Count by Agency'!$H:$H,\">=\"&$B109)))","v":""},{"$f":"IF($A109=\"\",\"\",IF($A109=\"Between\",SUMIFS('Vehicle Type Count by Agency'!V:V,'Vehicle Type Count by Agency'!$H:$H,\">=\"&$B109,'Vehicle Type Count by Agency'!$H:$H,\"<\"&$D109),SUMIFS('Vehicle Type Count by Agency'!V:V,'Vehicle Type Count by Agency'!$H:$H,\">=\"&$B109)))","v":""},{"$f":"IF($A109=\"\",\"\",IF($A109=\"Between\",SUMIFS('Vehicle Type Count by Agency'!X:X,'Vehicle Type Count by Agency'!$H:$H,\">=\"&$B109,'Vehicle Type Count by Agency'!$H:$H,\"<\"&$D109),SUMIFS('Vehicle Type Count by Agency'!X:X,'Vehicle Type Count by Agency'!$H:$H,\">=\"&$B109)))","v":""},{"$f":"IF($A109=\"\",\"\",IF($A109=\"Between\",SUMIFS('Vehicle Type Count by Agency'!Z:Z,'Vehicle Type Count by Agency'!$H:$H,\">=\"&$B109,'Vehicle Type Count by Agency'!$H:$H,\"<\"&$D109),SUMIFS('Vehicle Type Count by Agency'!Z:Z,'Vehicle Type Count by Agency'!$H:$H,\">=\"&$B109)))","v":""},{"$f":"IF($A109=\"\",\"\",IF($A109=\"Between\",SUMIFS('Vehicle Type Count by Agency'!AB:AB,'Vehicle Type Count by Agency'!$H:$H,\">=\"&$B109,'Vehicle Type Count by Agency'!$H:$H,\"<\"&$D109),SUMIFS('Vehicle Type Count by Agency'!AB:AB,'Vehicle Type Count by Agency'!$H:$H,\">=\"&$B109)))","v":""},{"$f":"IF($A109=\"\",\"\",IF($A109=\"Between\",SUMIFS('Vehicle Type Count by Agency'!AD:AD,'Vehicle Type Count by Agency'!$H:$H,\">=\"&$B109,'Vehicle Type Count by Agency'!$H:$H,\"<\"&$D109),SUMIFS('Vehicle Type Count by Agency'!AD:AD,'Vehicle Type Count by Agency'!$H:$H,\">=\"&$B109)))","v":""},{"$f":"IF($A109=\"\",\"\",IF($A109=\"Between\",SUMIFS('Vehicle Type Count by Agency'!AF:AF,'Vehicle Type Count by Agency'!$H:$H,\">=\"&$B109,'Vehicle Type Count by Agency'!$H:$H,\"<\"&$D109),SUMIFS('Vehicle Type Count by Agency'!AF:AF,'Vehicle Type Count by Agency'!$H:$H,\">=\"&$B109)))","v":""},{"$f":"IF($A109=\"\",\"\",IF($A109=\"Between\",SUMIFS('Vehicle Type Count by Agency'!AH:AH,'Vehicle Type Count by Agency'!$H:$H,\">=\"&$B109,'Vehicle Type Count by Agency'!$H:$H,\"<\"&$D109),SUMIFS('Vehicle Type Count by Agency'!AH:AH,'Vehicle Type Count by Agency'!$H:$H,\">=\"&$B109)))","v":""},{"$f":"IF($A109=\"\",\"\",IF($A109=\"Between\",SUMIFS('Vehicle Type Count by Agency'!AJ:AJ,'Vehicle Type Count by Agency'!$H:$H,\">=\"&$B109,'Vehicle Type Count by Agency'!$H:$H,\"<\"&$D109),SUMIFS('Vehicle Type Count by Agency'!AJ:AJ,'Vehicle Type Count by Agency'!$H:$H,\">=\"&$B109)))","v":""},{"$f":"IF($A109=\"\",\"\",IF($A109=\"Between\",SUMIFS('Vehicle Type Count by Agency'!AL:AL,'Vehicle Type Count by Agency'!$H:$H,\">=\"&$B109,'Vehicle Type Count by Agency'!$H:$H,\"<\"&$D109),SUMIFS('Vehicle Type Count by Agency'!AL:AL,'Vehicle Type Count by Agency'!$H:$H,\">=\"&$B109)))","v":""},{"$f":"IF($A109=\"\",\"\",IF($A109=\"Between\",SUMIFS('Vehicle Type Count by Agency'!AN:AN,'Vehicle Type Count by Agency'!$H:$H,\">=\"&$B109,'Vehicle Type Count by Agency'!$H:$H,\"<\"&$D109),SUMIFS('Vehicle Type Count by Agency'!AN:AN,'Vehicle Type Count by Agency'!$H:$H,\">=\"&$B109)))","v":""},{"$f":"IF($A109=\"\",\"\",IF($A109=\"Between\",SUMIFS('Vehicle Type Count by Agency'!AP:AP,'Vehicle Type Count by Agency'!$H:$H,\">=\"&$B109,'Vehicle Type Count by Agency'!$H:$H,\"<\"&$D109),SUMIFS('Vehicle Type Count by Agency'!AP:AP,'Vehicle Type Count by Agency'!$H:$H,\">=\"&$B109)))","v":""},{"$f":"IF($A109=\"\",\"\",IF($A109=\"Between\",SUMIFS('Vehicle Type Count by Agency'!AR:AR,'Vehicle Type Count by Agency'!$H:$H,\">=\"&$B109,'Vehicle Type Count by Agency'!$H:$H,\"<\"&$D109),SUMIFS('Vehicle Type Count by Agency'!AR:AR,'Vehicle Type Count by Agency'!$H:$H,\">=\"&$B109)))","v":""},{"$f":"IF($A109=\"\",\"\",IF($A109=\"Between\",SUMIFS('Vehicle Type Count by Agency'!AT:AT,'Vehicle Type Count by Agency'!$H:$H,\">=\"&$B109,'Vehicle Type Count by Agency'!$H:$H,\"<\"&$D109),SUMIFS('Vehicle Type Count by Agency'!AT:AT,'Vehicle Type Count by Agency'!$H:$H,\">=\"&$B109)))","v":""},{"$f":"IF($A109=\"\",\"\",IF($A109=\"Between\",SUMIFS('Vehicle Type Count by Agency'!AV:AV,'Vehicle Type Count by Agency'!$H:$H,\">=\"&$B109,'Vehicle Type Count by Agency'!$H:$H,\"<\"&$D109),SUMIFS('Vehicle Type Count by Agency'!AV:AV,'Vehicle Type Count by Agency'!$H:$H,\">=\"&$B109)))","v":""},{"$f":"IF($A109=\"\",\"\",IF($A109=\"Between\",SUMIFS('Vehicle Type Count by Agency'!AX:AX,'Vehicle Type Count by Agency'!$H:$H,\">=\"&$B109,'Vehicle Type Count by Agency'!$H:$H,\"<\"&$D109),SUMIFS('Vehicle Type Count by Agency'!AX:AX,'Vehicle Type Count by Agency'!$H:$H,\">=\"&$B109)))","v":""},{"$f":"IF($A109=\"\",\"\",IF($A109=\"Between\",SUMIFS('Vehicle Type Count by Agency'!AZ:AZ,'Vehicle Type Count by Agency'!$H:$H,\">=\"&$B109,'Vehicle Type Count by Agency'!$H:$H,\"<\"&$D109),SUMIFS('Vehicle Type Count by Agency'!AZ:AZ,'Vehicle Type Count by Agency'!$H:$H,\">=\"&$B109)))","v":""},{"$f":"IF($A109=\"\",\"\",IF($A109=\"Between\",SUMIFS('Vehicle Type Count by Agency'!BB:BB,'Vehicle Type Count by Agency'!$H:$H,\">=\"&$B109,'Vehicle Type Count by Agency'!$H:$H,\"<\"&$D109),SUMIFS('Vehicle Type Count by Agency'!BB:BB,'Vehicle Type Count by Agency'!$H:$H,\">=\"&$B109)))","v":""},{"$f":"IF($A109=\"\",\"\",IF($A109=\"Between\",SUMIFS('Vehicle Type Count by Agency'!BD:BD,'Vehicle Type Count by Agency'!$H:$H,\">=\"&$B109,'Vehicle Type Count by Agency'!$H:$H,\"<\"&$D109),SUMIFS('Vehicle Type Count by Agency'!BD:BD,'Vehicle Type Count by Agency'!$H:$H,\">=\"&$B109)))","v":""},{"$f":"IF($A109=\"\",\"\",IF($A109=\"Between\",SUMIFS('Vehicle Type Count by Agency'!BF:BF,'Vehicle Type Count by Agency'!$H:$H,\">=\"&$B109,'Vehicle Type Count by Agency'!$H:$H,\"<\"&$D109),SUMIFS('Vehicle Type Count by Agency'!BF:BF,'Vehicle Type Count by Agency'!$H:$H,\">=\"&$B109)))","v":""},{"$f":"IF($A109=\"\",\"\",IF($A109=\"Between\",SUMIFS('Vehicle Type Count by Agency'!BH:BH,'Vehicle Type Count by Agency'!$H:$H,\">=\"&$B109,'Vehicle Type Count by Agency'!$H:$H,\"<\"&$D109),SUMIFS('Vehicle Type Count by Agency'!BH:BH,'Vehicle Type Count by Agency'!$H:$H,\">=\"&$B109)))","v":""}]
["","","","","invalid bin",{"$f":"IF($A110=\"\",\"\",IF($A110=\"Between\",SUMIFS('Vehicle Type Count by Agency'!J:J,'Vehicle Type Count by Agency'!$H:$H,\">=\"&$B110,'Vehicle Type Count by Agency'!$H:$H,\"<\"&$D110),SUMIFS('Vehicle Type Count by Agency'!J:J,'Vehicle Type Count by Agency'!$H:$H,\">=\"&$B110)))","v":""},{"$f":"IF($A110=\"\",\"\",IF($A110=\"Between\",SUMIFS('Vehicle Type Count by Agency'!L:L,'Vehicle Type Count by Agency'!$H:$H,\">=\"&$B110,'Vehicle Type Count by Agency'!$H:$H,\"<\"&$D110),SUMIFS('Vehicle Type Count by Agency'!L:L,'Vehicle Type Count by Agency'!$H:$H,\">=\"&$B110)))","v":""},{"$f":"IF($A110=\"\",\"\",IF($A110=\"Between\",SUMIFS('Vehicle Type Count by Agency'!N:N,'Vehicle Type Count by Agency'!$H:$H,\">=\"&$B110,'Vehicle Type Count by Agency'!$H:$H,\"<\"&$D110),SUMIFS('Vehicle Type Count by Agency'!N:N,'Vehicle Type Count by Agency'!$H:$H,\">=\"&$B110)))","v":""},{"$f":"IF($A110=\"\",\"\",IF($A110=\"Between\",SUMIFS('Vehicle Type Count by Agency'!P:P,'Vehicle Type Count by Agency'!$H:$H,\">=\"&$B110,'Vehicle Type Count by Agency'!$H:$H,\"<\"&$D110),SUMIFS('Vehicle Type Count by Agency'!P:P,'Vehicle Type Count by Agency'!$H:$H,\">=\"&$B110)))","v":""},{"$f":"IF($A110=\"\",\"\",IF($A110=\"Between\",SUMIFS('Vehicle Type Count by Agency'!R:R,'Vehicle Type Count by Agency'!$H:$H,\">=\"&$B110,'Vehicle Type Count by Agency'!$H:$H,\"<\"&$D110),SUMIFS('Vehicle Type Count by Agency'!R:R,'Vehicle Type Count by Agency'!$H:$H,\">=\"&$B110)))","v":""},{"$f":"IF($A110=\"\",\"\",IF($A110=\"Between\",SUMIFS('Vehicle Type Count by Agency'!T:T,'Vehicle Type Count by Agency'!$H:$H,\">=\"&$B110,'Vehicle Type Count by Agency'!$H:$H,\"<\"&$D110),SUMIFS('Vehicle Type Count by Agency'!T:T,'Vehicle Type Count by Agency'!$H:$H,\">=\"&$B110)))","v":""},{"$f":"IF($A110=\"\",\"\",IF($A110=\"Between\",SUMIFS('Vehicle Type Count by Agency'!V:V,'Vehicle Type Count by Agency'!$H:$H,\">=\"&$B110,'Vehicle Type Count by Agency'!$H:$H,\"<\"&$D110),SUMIFS('Vehicle Type Count by Agency'!V:V,'Vehicle Type Count by Agency'!$H:$H,\">=\"&$B110)))","v":""},{"$f":"IF($A110=\"\",\"\",IF($A110=\"Between\",SUMIFS('Vehicle Type Count by Agency'!X:X,'Vehicle Type Count by Agency'!$H:$H,\">=\"&$B110,'Vehicle Type Count by Agency'!$H:$H,\"<\"&$D110),SUMIFS('Vehicle Type Count by Agency'!X:X,'Vehicle Type Count by Agency'!$H:$H,\">=\"&$B110)))","v":""},{"$f":"IF($A110=\"\",\"\",IF($A110=\"Between\",SUMIFS('Vehicle Type Count by Agency'!Z:Z,'Vehicle Type Count by Agency'!$H:$H,\">=\"&$B110,'Vehicle Type Count by Agency'!$H:$H,\"<\"&$D110),SUMIFS('Vehicle Type Count by Agency'!Z:Z,'Vehicle Type Count by Agency'!$H:$H,\">=\"&$B110)))","v":""},{"$f":"IF($A110=\"\",\"\",IF($A110=\"Between\",SUMIFS('Vehicle Type Count by Agency'!AB:AB,'Vehicle Type Count by Agency'!$H:$H,\">=\"&$B110,'Vehicle Type Count by Agency'!$H:$H,\"<\"&$D110),SUMIFS('Vehicle Type Count by Agency'!AB:AB,'Vehicle Type Count by Agency'!$H:$H,\">=\"&$B110)))","v":""},{"$f":"IF($A110=\"\",\"\",IF($A110=\"Between\",SUMIFS('Vehicle Type Count by Agency'!AD:AD,'Vehicle Type Count by Agency'!$H:$H,\">=\"&$B110,'Vehicle Type Count by Agency'!$H:$H,\"<\"&$D110),SUMIFS('Vehicle Type Count by Agency'!AD:AD,'Vehicle Type Count by Agency'!$H:$H,\">=\"&$B110)))","v":""},{"$f":"IF($A110=\"\",\"\",IF($A110=\"Between\",SUMIFS('Vehicle Type Count by Agency'!AF:AF,'Vehicle Type Count by Agency'!$H:$H,\">=\"&$B110,'Vehicle Type Count by Agency'!$H:$H,\"<\"&$D110),SUMIFS('Vehicle Type Count by Agency'!AF:AF,'Vehicle Type Count by Agency'!$H:$H,\">=\"&$B110)))","v":""},{"$f":"IF($A110=\"\",\"\",IF($A110=\"Between\",SUMIFS('Vehicle Type Count by Agency'!AH:AH,'Vehicle Type Count by Agency'!$H:$H,\">=\"&$B110,'Vehicle Type Count by Agency'!$H:$H,\"<\"&$D110),SUMIFS('Vehicle Type Count by Agency'!AH:AH,'Vehicle Type Count by Agency'!$H:$H,\">=\"&$B110)))","v":""},{"$f":"IF($A110=\"\",\"\",IF($A110=\"Between\",SUMIFS('Vehicle Type Count by Agency'!AJ:AJ,'Vehicle Type Count by Agency'!$H:$H,\">=\"&$B110,'Vehicle Type Count by Agency'!$H:$H,\"<\"&$D110),SUMIFS('Vehicle Type Count by Agency'!AJ:AJ,'Vehicle Type Count by Agency'!$H:$H,\">=\"&$B110)))","v":""},{"$f":"IF($A110=\"\",\"\",IF($A110=\"Between\",SUMIFS('Vehicle Type Count by Agency'!AL:AL,'Vehicle Type Count by Agency'!$H:$H,\">=\"&$B110,'Vehicle Type Count by Agency'!$H:$H,\"<\"&$D110),SUMIFS('Vehicle Type Count by Agency'!AL:AL,'Vehicle Type Count by Agency'!$H:$H,\">=\"&$B110)))","v":""},{"$f":"IF($A110=\"\",\"\",IF($A110=\"Between\",SUMIFS('Vehicle Type Count by Agency'!AN:AN,'Vehicle Type Count by Agency'!$H:$H,\">=\"&$B110,'Vehicle Type Count by Agency'!$H:$H,\"<\"&$D110),SUMIFS('Vehicle Type Count by Agency'!AN:AN,'Vehicle Type Count by Agency'!$H:$H,\">=\"&$B110)))","v":""},{"$f":"IF($A110=\"\",\"\",IF($A110=\"Between\",SUMIFS('Vehicle Type Count by Agency'!AP:AP,'Vehicle Type Count by Agency'!$H:$H,\">=\"&$B110,'Vehicle Type Count by Agency'!$H:$H,\"<\"&$D110),SUMIFS('Vehicle Type Count by Agency'!AP:AP,'Vehicle Type Count by Agency'!$H:$H,\">=\"&$B110)))","v":""},{"$f":"IF($A110=\"\",\"\",IF($A110=\"Between\",SUMIFS('Vehicle Type Count by Agency'!AR:AR,'Vehicle Type Count by Agency'!$H:$H,\">=\"&$B110,'Vehicle Type Count by Agency'!$H:$H,\"<\"&$D110),SUMIFS('Vehicle Type Count by Agency'!AR:AR,'Vehicle Type Count by Agency'!$H:$H,\">=\"&$B110)))","v":""},{"$f":"IF($A110=\"\",\"\",IF($A110=\"Between\",SUMIFS('Vehicle Type Count by Agency'!AT:AT,'Vehicle Type Count by Agency'!$H:$H,\">=\"&$B110,'Vehicle Type Count by Agency'!$H:$H,\"<\"&$D110),SUMIFS('Vehicle Type Count by Agency'!AT:AT,'Vehicle Type Count by Agency'!$H:$H,\">=\"&$B110)))","v":""},{"$f":"IF($A110=\"\",\"\",IF($A110=\"Between\",SUMIFS('Vehicle Type Count by Agency'!AV:AV,'Vehicle Type Count by Agency'!$H:$H,\">=\"&$B110,'Vehicle Type Count by Agency'!$H:$H,\"<\"&$D110),SUMIFS('Vehicle Type Count by Agency'!AV:AV,'Vehicle Type Count by Agency'!$H:$H,\">=\"&$B110)))","v":""},{"$f":"IF($A110=\"\",\"\",IF($A110=\"Between\",SUMIFS('Vehicle Type Count by Agency'!AX:AX,'Vehicle Type Count by Agency'!$H:$H,\">=\"&$B110,'Vehicle Type Count by Agency'!$H:$H,\"<\"&$D110),SUMIFS('Vehicle Type Count by Agency'!AX:AX,'Vehicle Type Count by Agency'!$H:$H,\">=\"&$B110)))","v":""},{"$f":"IF($A110=\"\",\"\",IF($A110=\"Between\",SUMIFS('Vehicle Type Count by Agency'!AZ:AZ,'Vehicle Type Count by Agency'!$H:$H,\">=\"&$B110,'Vehicle Type Count by Agency'!$H:$H,\"<\"&$D110),SUMIFS('Vehicle Type Count by Agency'!AZ:AZ,'Vehicle Type Count by Agency'!$H:$H,\">=\"&$B110)))","v":""},{"$f":"IF($A110=\"\",\"\",IF($A110=\"Between\",SUMIFS('Vehicle Type Count by Agency'!BB:BB,'Vehicle Type Count by Agency'!$H:$H,\">=\"&$B110,'Vehicle Type Count by Agency'!$H:$H,\"<\"&$D110),SUMIFS('Vehicle Type Count by Agency'!BB:BB,'Vehicle Type Count by Agency'!$H:$H,\">=\"&$B110)))","v":""},{"$f":"IF($A110=\"\",\"\",IF($A110=\"Between\",SUMIFS('Vehicle Type Count by Agency'!BD:BD,'Vehicle Type Count by Agency'!$H:$H,\">=\"&$B110,'Vehicle Type Count by Agency'!$H:$H,\"<\"&$D110),SUMIFS('Vehicle Type Count by Agency'!BD:BD,'Vehicle Type Count by Agency'!$H:$H,\">=\"&$B110)))","v":""},{"$f":"IF($A110=\"\",\"\",IF($A110=\"Between\",SUMIFS('Vehicle Type Count by Agency'!BF:BF,'Vehicle Type Count by Agency'!$H:$H,\">=\"&$B110,'Vehicle Type Count by Agency'!$H:$H,\"<\"&$D110),SUMIFS('Vehicle Type Count by Agency'!BF:BF,'Vehicle Type Count by Agency'!$H:$H,\">=\"&$B110)))","v":""},{"$f":"IF($A110=\"\",\"\",IF($A110=\"Between\",SUMIFS('Vehicle Type Count by Agency'!BH:BH,'Vehicle Type Count by Agency'!$H:$H,\">=\"&$B110,'Vehicle Type Count by Agency'!$H:$H,\"<\"&$D110),SUMIFS('Vehicle Type Count by Agency'!BH:BH,'Vehicle Type Count by Agency'!$H:$H,\">=\"&$B110)))","v":""}]
[null,null,null,null,null,{"$f":"IFERROR(F112*F19,\"\")","v":2059},{"$f":"IFERROR(G112*G19,\"\")","v":25},58,3,37,2301,4784,305,2038,93.000000000000014,"","","","","","",0,7,"",57,"","",0,3,5]
[null,null,null,null,null,{"$f":"IF(INDIRECT(ADDRESS(ROW('Summary Tables Useful Life'!F101)+$F$20,COLUMN('Summary Tables Useful Life'!F101)))=0,\"\",INDIRECT(ADDRESS(ROW('Summary Tables Useful Life'!F101)+$F$20,COLUMN('Summary Tables Useful Life'!F101))))","v":8534},{"$f":"IF(INDIRECT(ADDRESS(ROW('Summary Tables Useful Life'!G101)+$F$20,COLUMN('Summary Tables Useful Life'!G101)))=0,\"\",INDIRECT(ADDRESS(ROW('Summary Tables Useful Life'!G101)+$F$20,COLUMN('Summary Tables Useful Life'!G101))))","v":62},{"$f":"IF(INDIRECT(ADDRESS(ROW('Summary Tables Useful Life'!H101)+$F$20,COLUMN('Summary Tables Useful Life'!H101)))=0,\"\",INDIRECT(ADDRESS(ROW('Summary Tables Useful Life'!H101)+$F$20,COLUMN('Summary Tables Useful Life'!H101))))","v":258},{"$f":"IF(INDIRECT(ADDRESS(ROW('Summary Tables Useful Life'!I101)+$F$20,COLUMN('Summary Tables Useful Life'!I101)))=0,\"\",INDIRECT(ADDRESS(ROW('Summary Tables Useful Life'!I101)+$F$20,COLUMN('Summary Tables Useful Life'!I101))))","v":10},{"$f":"IF(INDIRECT(ADDRESS(ROW('Summary Tables Useful Life'!J101)+$F$20,COLUMN('Summary Tables Useful Life'!J101)))=0,\"\",INDIRECT(ADDRESS(ROW('Summary Tables Useful Life'!J101)+$F$20,COLUMN('Summary Tables Useful Life'!J101))))","v":93},{"$f":"IF(INDIRECT(ADDRESS(ROW('Summary Tables Useful Life'!K101)+$F$20,COLUMN('Summary Tables Useful Life'!K101)))=0,\"\",INDIRECT(ADDRESS(ROW('Summary Tables Useful Life'!K101)+$F$20,COLUMN('Summary Tables Useful Life'!K101))))","v":6473},{"$f":"IF(INDIRECT(ADDRESS(ROW('Summary Tables Useful Life'!L101)+$F$20,COLUMN('Summary Tables Useful Life'!L101)))=0,\"\",INDIRECT(ADDRESS(ROW('Summary Tables Useful Life'!L101)+$F$20,COLUMN('Summary Tables Useful Life'!L101))))","v":19192},{"$f":"IF(INDIRECT(ADDRESS(ROW('Summary Tables Useful Life'!M101)+$F$20,COLUMN('Summary Tables Useful Life'!M101)))=0,\"\",INDIRECT(ADDRESS(ROW('Summary Tables Useful Life'!M101)+$F$20,COLUMN('Summary Tables Useful Life'!M101))))","v":808},{"$f":"IF(INDIRECT(ADDRESS(ROW('Summary Tables Useful Life'!N101)+$F$20,COLUMN('Summary Tables Useful Life'!N101)))=0,\"\",INDIRECT(ADDRESS(ROW('Summary Tables Useful Life'!N101)+$F$20,COLUMN('Summary Tables Useful Life'!N101))))","v":6105},{"$f":"IF(INDIRECT(ADDRESS(ROW('Summary Tables Useful Life'!O101)+$F$20,COLUMN('Summary Tables Useful Life'!O101)))=0,\"\",INDIRECT(ADDRESS(ROW('Summary Tables Useful Life'!O101)+$F$20,COLUMN('Summary Tables Useful Life'!O101))))","v":367},{"$f":"IF(INDIRECT(ADDRESS(ROW('Summary Tables Useful Life'!P101)+$F$20,COLUMN('Summary Tables Useful Life'!P101)))=0,\"\",INDIRECT(ADDRESS(ROW('Summary Tables Useful Life'!P101)+$F$20,COLUMN('Summary Tables Useful Life'!P101))))","v":""},{"$f":"IF(INDIRECT(ADDRESS(ROW('Summary Tables Useful Life'!Q101)+$F$20,COLUMN('Summary Tables Useful Life'!Q101)))=0,\"\",INDIRECT(ADDRESS(ROW('Summary Tables Useful Life'!Q101)+$F$20,COLUMN('Summary Tables Useful Life'!Q101))))","v":""},{"$f":"IF(INDIRECT(ADDRESS(ROW('Summary Tables Useful Life'!R101)+$F$20,COLUMN('Summary Tables Useful Life'!R101)))=0,\"\",INDIRECT(ADDRESS(ROW('Summary Tables Useful Life'!R101)+$F$20,COLUMN('Summary Tables Useful Life'!R101))))","v":""},{"$f":"IF(INDIRECT(ADDRESS(ROW('Summary Tables Useful Life'!S101)+$F$20,COLUMN('Summary Tables Useful Life'!S101)))=0,\"\",INDIRECT(ADDRESS(ROW('Summary Tables Useful Life'!S101)+$F$20,COLUMN('Summary Tables Useful Life'!S101))))","v":""},{"$f":"IF(INDIRECT(ADDRESS(ROW('Summary Tables Useful Life'!T101)+$F$20,COLUMN('Summary Tables Useful Life'!T101)))=0,\"\",INDIRECT(ADDRESS(ROW('Summary Tables Useful Life'!T101)+$F$20,COLUMN('Summary Tables Useful Life'!T101))))","v":""},{"$f":"IF(INDIRECT(ADDRESS(ROW('Summary Tables Useful Life'!U101)+$F$20,COLUMN('Summary Tables Useful Life'!U101)))=0,\"\",INDIRECT(ADDRESS(ROW('Summary Tables Useful Life'!U101)+$F$20,COLUMN('Summary Tables Useful Life'!U101))))","v":""},{"$f":"IF(INDIRECT(ADDRESS(ROW('Summary Tables Useful Life'!V101)+$F$20,COLUMN('Summary Tables Useful Life'!V101)))=0,\"\",INDIRECT(ADDRESS(ROW('Summary Tables Useful Life'!V101)+$F$20,COLUMN('Summary Tables Useful Life'!V101))))","v":69},{"$f":"IF(INDIRECT(ADDRESS(ROW('Summary Tables Useful Life'!W101)+$F$20,COLUMN('Summary Tables Useful Life'!W101)))=0,\"\",INDIRECT(ADDRESS(ROW('Summary Tables Useful Life'!W101)+$F$20,COLUMN('Summary Tables Useful Life'!W101))))","v":7},{"$f":"IF(INDIRECT(ADDRESS(ROW('Summary Tables Useful Life'!X101)+$F$20,COLUMN('Summary Tables Useful Life'!X101)))=0,\"\",INDIRECT(ADDRESS(ROW('Summary Tables Useful Life'!X101)+$F$20,COLUMN('Summary Tables Useful Life'!X101))))","v":""},{"$f":"IF(INDIRECT(ADDRESS(ROW('Summary Tables Useful Life'!Y101)+$F$20,COLUMN('Summary Tables Useful Life'!Y101)))=0,\"\",INDIRECT(ADDRESS(ROW('Summary Tables Useful Life'!Y101)+$F$20,COLUMN('Summary Tables Useful Life'!Y101))))","v":68},{"$f":"IF(INDIRECT(ADDRESS(ROW('Summary Tables Useful Life'!Z101)+$F$20,COLUMN('Summary Tables Useful Life'!Z101)))=0,\"\",INDIRECT(ADDRESS(ROW('Summary Tables Useful Life'!Z101)+$F$20,COLUMN('Summary Tables Useful Life'!Z101))))","v":""},{"$f":"IF(INDIRECT(ADDRESS(ROW('Summary Tables Useful Life'!AA101)+$F$20,COLUMN('Summary Tables Useful Life'!AA101)))=0,\"\",INDIRECT(ADDRESS(ROW('Summary Tables Useful Life'!AA101)+$F$20,COLUMN('Summary Tables Useful Life'!AA101))))","v":""},{"$f":"IF(INDIRECT(ADDRESS(ROW('Summary Tables Useful Life'!AB101)+$F$20,COLUMN('Summary Tables Useful Life'!AB101)))=0,\"\",INDIRECT(ADDRESS(ROW('Summary Tables Useful Life'!AB101)+$F$20,COLUMN('Summary Tables Useful Life'!AB101))))","v":2},{"$f":"IF(INDIRECT(ADDRESS(ROW('Summary Tables Useful Life'!AC101)+$F$20,COLUMN('Summary Tables Useful Life'!AC101)))=0,\"\",INDIRECT(ADDRESS(ROW('Summary Tables Useful Life'!AC101)+$F$20,COLUMN('Summary Tables Useful Life'!AC101))))","v":24},{"$f":"IF(INDIRECT(ADDRESS(ROW('Summary Tables Useful Life'!AD101)+$F$20,COLUMN('Summary Tables Useful Life'!AD101)))=0,\"\",INDIRECT(ADDRESS(ROW('Summary Tables Useful Life'!AD101)+$F$20,COLUMN('Summary Tables Useful Life'!AD101))))","v":33}]
[]
[null,null,null,null,"click to graph","Bus","Articulated Bus","Over-the-road Bus","Double Decker Bus","School Bus","Van","Cutaway","Automobile","Minivan","Sports Utility Vehicle","Trolleybus","Heavy Rail Passenger Car","Light Rail Vehicle","Commuter Rail Passenger Coach","Commuter Rail Self-Propelled Passenger Car","Locomotive","Automated Guideway Vehicle","Vintage/ Historic Trolley","Streetcar","Aerial Tramway","Monorail","Cable Car","Inclined Plane","Ferryboat","Other","Total"]
["Under",{"$f":"D115","v":10},null,{"$f":"IF(D25=\"\",\"\",D25)","v":10},{"$f":"IFERROR(IF(A115=\"Between\",A115&\" \"&FIXED(B115,0,0)&\" \"&C115&\" \"&FIXED(D116,0,0),A115&\" \"&FIXED(B115,0,0)),\"invalid bin\")","v":"Under 10"},{"$f":"SUMIFS('Vehicle Type Count by Agency'!J:J,'Vehicle Type Count by Agency'!$I:$I,\"<\"&$D115)","v":1054},{"$f":"SUMIFS('Vehicle Type Count by Agency'!L:L,'Vehicle Type Count by Agency'!$I:$I,\"<\"&$D115)","v":12},{"$f":"SUMIFS('Vehicle Type Count by Agency'!N:N,'Vehicle Type Count by Agency'!$I:$I,\"<\"&$D115)","v":77},{"$f":"SUMIFS('Vehicle Type Count by Agency'!P:P,'Vehicle Type Count by Agency'!$I:$I,\"<\"&$D115)","v":0},{"$f":"SUMIFS('Vehicle Type Count by Agency'!R:R,'Vehicle Type Count by Agency'!$I:$I,\"<\"&$D115)","v":10},{"$f":"SUMIFS('Vehicle Type Count by Agency'!T:T,'Vehicle Type Count by Agency'!$I:$I,\"<\"&$D115)","v":1338},{"$f":"SUMIFS('Vehicle Type Count by Agency'!V:V,'Vehicle Type Count by Agency'!$I:$I,\"<\"&$D115)","v":5129},{"$f":"SUMIFS('Vehicle Type Count by Agency'!X:X,'Vehicle Type Count by Agency'!$I:$I,\"<\"&$D115)","v":369},{"$f":"SUMIFS('Vehicle Type Count by Agency'!Z:Z,'Vehicle Type Count by Agency'!$I:$I,\"<\"&$D115)","v":2026},{"$f":"SUMIFS('Vehicle Type Count by Agency'!AB:AB,'Vehicle Type Count by Agency'!$I:$I,\"<\"&$D115)","v":93},{"$f":"SUMIFS('Vehicle Type Count by Agency'!AD:AD,'Vehicle Type Count by Agency'!$I:$I,\"<\"&$D115)","v":0},{"$f":"SUMIFS('Vehicle Type Count by Agency'!AF:AF,'Vehicle Type Count by Agency'!$I:$I,\"<\"&$D115)","v":0},{"$f":"SUMIFS('Vehicle Type Count by Agency'!AH:AH,'Vehicle Type Count by Agency'!$I:$I,\"<\"&$D115)","v":0},{"$f":"SUMIFS('Vehicle Type Count by Agency'!AJ:AJ,'Vehicle Type Count by Agency'!$I:$I,\"<\"&$D115)","v":0},{"$f":"SUMIFS('Vehicle Type Count by Agency'!AL:AL,'Vehicle Type Count by Agency'!$I:$I,\"<\"&$D115)","v":0},{"$f":"SUMIFS('Vehicle Type Count by Agency'!AN:AN,'Vehicle Type Count by Agency'!$I:$I,\"<\"&$D115)","v":0},{"$f":"SUMIFS('Vehicle Type Count by Agency'!AP:AP,'Vehicle Type Count by Agency'!$I:$I,\"<\"&$D115)","v":0},{"$f":"SUMIFS('Vehicle Type Count by Agency'!AR:AR,'Vehicle Type Count by Agency'!$I:$I,\"<\"&$D115)","v":5},{"$f":"SUMIFS('Vehicle Type Count by Agency'!AT:AT,'Vehicle Type Count by Agency'!$I:$I,\"<\"&$D115)","v":21},{"$f":"SUMIFS('Vehicle Type Count by Agency'!AV:AV,'Vehicle Type Count by Agency'!$I:$I,\"<\"&$D115)","v":0},{"$f":"SUMIFS('Vehicle Type Count by Agency'!AX:AX,'Vehicle Type Count by Agency'!$I:$I,\"<\"&$D115)","v":8},{"$f":"SUMIFS('Vehicle Type Count by Agency'!AZ:AZ,'Vehicle Type Count by Agency'!$I:$I,\"<\"&$D115)","v":0},{"$f":"SUMIFS('Vehicle Type Count by Agency'!BB:BB,'Vehicle Type Count by Agency'!$I:$I,\"<\"&$D115)","v":0},{"$f":"SUMIFS('Vehicle Type Count by Agency'!BD:BD,'Vehicle Type Count by Agency'!$I:$I,\"<\"&$D115)","v":43},{"$f":"SUMIFS('Vehicle Type Count by Agency'!BF:BF,'Vehicle Type Count by Agency'!$I:$I,\"<\"&$D115)","v":5},{"$f":"SUMIFS('Vehicle Type Count by Agency'!BH:BH,'Vehicle Type Count by Agency'!$I:$I,\"<\"&$D115)","v":10190}]
[{"$f":"IF(D117<>\"\",\"Between\",\"Over\")","v":"Between"},{"$f":"D115","v":10},{"$f":"IF(D116<>\"\",\"and\",\"\")","v":"and"},{"$f":"IF(D26=\"\",\"\",D26)","v":25},"Between 10 and 50",{"$f":"IF($A116=\"Between\",SUMIFS('Vehicle Type Count by Agency'!J:J,'Vehicle Type Count by Agency'!$I:$I,\">=\"&$B116,'Vehicle Type Count by Agency'!$I:$I,\"<\"&$D116),SUMIFS('Vehicle Type Count by Agency'!J:J,'Vehicle Type Count by Agency'!$I:$I,\">=\"&$B116))","v":3238},{"$f":"IF($A116=\"Between\",SUMIFS('Vehicle Type Count by Agency'!L:L,'Vehicle Type Count by Agency'!$I:$I,\">=\"&$B116,'Vehicle Type Count by Agency'!$I:$I,\"<\"&$D116),SUMIFS('Vehicle Type Count by Agency'!L:L,'Vehicle Type Count by Agency'!$I:$I,\">=\"&$B116))","v":2},{"$f":"IF($A116=\"Between\",SUMIFS('Vehicle Type Count by Agency'!N:N,'Vehicle Type Count by Agency'!$I:$I,\">=\"&$B116,'Vehicle Type Count by Agency'!$I:$I,\"<\"&$D116),SUMIFS('Vehicle Type Count by Agency'!N:N,'Vehicle Type Count by Agency'!$I:$I,\">=\"&$B116))","v":171},{"$f":"IF($A116=\"Between\",SUMIFS('Vehicle Type Count by Agency'!P:P,'Vehicle Type Count by Agency'!$I:$I,\">=\"&$B116,'Vehicle Type Count by Agency'!$I:$I,\"<\"&$D116),SUMIFS('Vehicle Type Count by Agency'!P:P,'Vehicle Type Count by Agency'!$I:$I,\">=\"&$B116))","v":1},{"$f":"IF($A116=\"Between\",SUMIFS('Vehicle Type Count by Agency'!R:R,'Vehicle Type Count by Agency'!$I:$I,\">=\"&$B116,'Vehicle Type Count by Agency'!$I:$I,\"<\"&$D116),SUMIFS('Vehicle Type Count by Agency'!R:R,'Vehicle Type Count by Agency'!$I:$I,\">=\"&$B116))","v":32},{"$f":"IF($A116=\"Between\",SUMIFS('Vehicle Type Count by Agency'!T:T,'Vehicle Type Count by Agency'!$I:$I,\">=\"&$B116,'Vehicle Type Count by Agency'!$I:$I,\"<\"&$D116),SUMIFS('Vehicle Type Count by Agency'!T:T,'Vehicle Type Count by Agency'!$I:$I,\">=\"&$B116))","v":1309},{"$f":"IF($A116=\"Between\",SUMIFS('Vehicle Type Count by Agency'!V:V,'Vehicle Type Count by Agency'!$I:$I,\">=\"&$B116,'Vehicle Type Count by Agency'!$I:$I,\"<\"&$D116),SUMIFS('Vehicle Type Count by Agency'!V:V,'Vehicle Type Count by Agency'!$I:$I,\">=\"&$B116))","v":5956},{"$f":"IF($A116=\"Between\",SUMIFS('Vehicle Type Count by Agency'!X:X,'Vehicle Type Count by Agency'!$I:$I,\">=\"&$B116,'Vehicle Type Count by Agency'!$I:$I,\"<\"&$D116),SUMIFS('Vehicle Type Count by Agency'!X:X,'Vehicle Type Count by Agency'!$I:$I,\">=\"&$B116))","v":137},{"$f":"IF($A116=\"Between\",SUMIFS('Vehicle Type Count by Agency'!Z:Z,'Vehicle Type Count by Agency'!$I:$I,\">=\"&$B116,'Vehicle Type Count by Agency'!$I:$I,\"<\"&$D116),SUMIFS('Vehicle Type Count by Agency'!Z:Z,'Vehicle Type Count by Agency'!$I:$I,\">=\"&$B116))","v":1377},{"$f":"IF($A116=\"Between\",SUMIFS('Vehicle Type Count by Agency'!AB:AB,'Vehicle Type Count by Agency'!$I:$I,\">=\"&$B116,'Vehicle Type Count by Agency'!$I:$I,\"<\"&$D116),SUMIFS('Vehicle Type Count by Agency'!AB:AB,'Vehicle Type Count by Agency'!$I:$I,\">=\"&$B116))","v":66},{"$f":"IF($A116=\"Between\",SUMIFS('Vehicle Type Count by Agency'!AD:AD,'Vehicle Type Count by Agency'!$I:$I,\">=\"&$B116,'Vehicle Type Count by Agency'!$I:$I,\"<\"&$D116),SUMIFS('Vehicle Type Count by Agency'!AD:AD,'Vehicle Type Count by Agency'!$I:$I,\">=\"&$B116))","v":0},{"$f":"IF($A116=\"Between\",SUMIFS('Vehicle Type Count by Agency'!AF:AF,'Vehicle Type Count by Agency'!$I:$I,\">=\"&$B116,'Vehicle Type Count by Agency'!$I:$I,\"<\"&$D116),SUMIFS('Vehicle Type Count by Agency'!AF:AF,'Vehicle Type Count by Agency'!$I:$I,\">=\"&$B116))","v":0},{"$f":"IF($A116=\"Between\",SUMIFS('Vehicle Type Count by Agency'!AH:AH,'Vehicle Type Count by Agency'!$I:$I,\">=\"&$B116,'Vehicle Type Count by Agency'!$I:$I,\"<\"&$D116),SUMIFS('Vehicle Type Count by Agency'!AH:AH,'Vehicle Type Count by Agency'!$I:$I,\">=\"&$B116))","v":0},{"$f":"IF($A116=\"Between\",SUMIFS('Vehicle Type Count by Agency'!AJ:AJ,'Vehicle Type Count by Agency'!$I:$I,\">=\"&$B116,'Vehicle Type Count by Agency'!$I:$I,\"<\"&$D116),SUMIFS('Vehicle Type Count by Agency'!AJ:AJ,'Vehicle Type Count by Agency'!$I:$I,\">=\"&$B116))","v":35},{"$f":"IF($A116=\"Between\",SUMIFS('Vehicle Type Count by Agency'!AL:AL,'Vehicle Type Count by Agency'!$I:$I,\">=\"&$B116,'Vehicle Type Count by Agency'!$I:$I,\"<\"&$D116),SUMIFS('Vehicle Type Count by Agency'!AL:AL,'Vehicle Type Count by Agency'!$I:$I,\">=\"&$B116))","v":14},{"$f":"IF($A116=\"Between\",SUMIFS('Vehicle Type Count by Agency'!AN:AN,'Vehicle Type Count by Agency'!$I:$I,\">=\"&$B116,'Vehicle Type Count by Agency'!$I:$I,\"<\"&$D116),SUMIFS('Vehicle Type Count by Agency'!AN:AN,'Vehicle Type Count by Agency'!$I:$I,\">=\"&$B116))","v":17},{"$f":"IF($A116=\"Between\",SUMIFS('Vehicle Type Count by Agency'!AP:AP,'Vehicle Type Count by Agency'!$I:$I,\">=\"&$B116,'Vehicle Type Count by Agency'!$I:$I,\"<\"&$D116),SUMIFS('Vehicle Type Count by Agency'!AP:AP,'Vehicle Type Count by Agency'!$I:$I,\">=\"&$B116))","v":10},{"$f":"IF($A116=\"Between\",SUMIFS('Vehicle Type Count by Agency'!AR:AR,'Vehicle Type Count by Agency'!$I:$I,\">=\"&$B116,'Vehicle Type Count by Agency'!$I:$I,\"<\"&$D116),SUMIFS('Vehicle Type Count by Agency'!AR:AR,'Vehicle Type Count by Agency'!$I:$I,\">=\"&$B116))","v":0},{"$f":"IF($A116=\"Between\",SUMIFS('Vehicle Type Count by Agency'!AT:AT,'Vehicle Type Count by Agency'!$I:$I,\">=\"&$B116,'Vehicle Type Count by Agency'!$I:$I,\"<\"&$D116),SUMIFS('Vehicle Type Count by Agency'!AT:AT,'Vehicle Type Count by Agency'!$I:$I,\">=\"&$B116))","v":17},{"$f":"IF($A116=\"Between\",SUMIFS('Vehicle Type Count by Agency'!AV:AV,'Vehicle Type Count by Agency'!$I:$I,\">=\"&$B116,'Vehicle Type Count by Agency'!$I:$I,\"<\"&$D116),SUMIFS('Vehicle Type Count by Agency'!AV:AV,'Vehicle Type Count by Agency'!$I:$I,\">=\"&$B116))","v":2},{"$f":"IF($A116=\"Between\",SUMIFS('Vehicle Type Count by Agency'!AX:AX,'Vehicle Type Count by Agency'!$I:$I,\">=\"&$B116,'Vehicle Type Count by Agency'!$I:$I,\"<\"&$D116),SUMIFS('Vehicle Type Count by Agency'!AX:AX,'Vehicle Type Count by Agency'!$I:$I,\">=\"&$B116))","v":0},{"$f":"IF($A116=\"Between\",SUMIFS('Vehicle Type Count by Agency'!AZ:AZ,'Vehicle Type Count by Agency'!$I:$I,\">=\"&$B116,'Vehicle Type Count by Agency'!$I:$I,\"<\"&$D116),SUMIFS('Vehicle Type Count by Agency'!AZ:AZ,'Vehicle Type Count by Agency'!$I:$I,\">=\"&$B116))","v":0},{"$f":"IF($A116=\"Between\",SUMIFS('Vehicle Type Count by Agency'!BB:BB,'Vehicle Type Count by Agency'!$I:$I,\">=\"&$B116,'Vehicle Type Count by Agency'!$I:$I,\"<\"&$D116),SUMIFS('Vehicle Type Count by Agency'!BB:BB,'Vehicle Type Count by Agency'!$I:$I,\">=\"&$B116))","v":0},{"$f":"IF($A116=\"Between\",SUMIFS('Vehicle Type Count by Agency'!BD:BD,'Vehicle Type Count by Agency'!$I:$I,\">=\"&$B116,'Vehicle Type Count by Agency'!$I:$I,\"<\"&$D116),SUMIFS('Vehicle Type Count by Agency'!BD:BD,'Vehicle Type Count by Agency'!$I:$I,\">=\"&$B116))","v":64},{"$f":"IF($A116=\"Between\",SUMIFS('Vehicle Type Count by Agency'!BF:BF,'Vehicle Type Count by Agency'!$I:$I,\">=\"&$B116,'Vehicle Type Count by Agency'!$I:$I,\"<\"&$D116),SUMIFS('Vehicle Type Count by Agency'!BF:BF,'Vehicle Type Count by Agency'!$I:$I,\">=\"&$B116))","v":0},{"$f":"IF($A116=\"Between\",SUMIFS('Vehicle Type Count by Agency'!BH:BH,'Vehicle Type Count by Agency'!$I:$I,\">=\"&$B116,'Vehicle Type Count by Agency'!$I:$I,\"<\"&$D116),SUMIFS('Vehicle Type Count by Agency'!BH:BH,'Vehicle Type Count by Agency'!$I:$I,\">=\"&$B116))","v":12448}]
[{"$f":"IF(OR(A116=\"Over\",A116=\"\"),\"\",IF(D117=\"\",\"Over\",\"Between\"))","v":"Between"},{"$f":"IF(D116=\"\",\"\",D116)","v":25},{"$f":"IF(D117<>\"\",\"and\",\"\")","v":"and"},50,"Between 25 and 100",{"$f":"IF($A117=\"\",\"\",IF($A117=\"Between\",SUMIFS('Vehicle Type Count by Agency'!J:J,'Vehicle Type Count by Agency'!$I:$I,\">=\"&$B117,'Vehicle Type Count by Agency'!$I:$I,\"<\"&$D117),SUMIFS('Vehicle Type Count by Agency'!J:J,'Vehicle Type Count by Agency'!$I:$I,\">=\"&$B117)))","v":4298},{"$f":"IF($A117=\"\",\"\",IF($A117=\"Between\",SUMIFS('Vehicle Type Count by Agency'!L:L,'Vehicle Type Count by Agency'!$I:$I,\">=\"&$B117,'Vehicle Type Count by Agency'!$I:$I,\"<\"&$D117),SUMIFS('Vehicle Type Count by Agency'!L:L,'Vehicle Type Count by Agency'!$I:$I,\">=\"&$B117)))","v":34},{"$f":"IF($A117=\"\",\"\",IF($A117=\"Between\",SUMIFS('Vehicle Type Count by Agency'!N:N,'Vehicle Type Count by Agency'!$I:$I,\">=\"&$B117,'Vehicle Type Count by Agency'!$I:$I,\"<\"&$D117),SUMIFS('Vehicle Type Count by Agency'!N:N,'Vehicle Type Count by Agency'!$I:$I,\">=\"&$B117)))","v":371},{"$f":"IF($A117=\"\",\"\",IF($A117=\"Between\",SUMIFS('Vehicle Type Count by Agency'!P:P,'Vehicle Type Count by Agency'!$I:$I,\">=\"&$B117,'Vehicle Type Count by Agency'!$I:$I,\"<\"&$D117),SUMIFS('Vehicle Type Count by Agency'!P:P,'Vehicle Type Count by Agency'!$I:$I,\">=\"&$B117)))","v":9},{"$f":"IF($A117=\"\",\"\",IF($A117=\"Between\",SUMIFS('Vehicle Type Count by Agency'!R:R,'Vehicle Type Count by Agency'!$I:$I,\">=\"&$B117,'Vehicle Type Count by Agency'!$I:$I,\"<\"&$D117),SUMIFS('Vehicle Type Count by Agency'!R:R,'Vehicle Type Count by Agency'!$I:$I,\">=\"&$B117)))","v":10},{"$f":"IF($A117=\"\",\"\",IF($A117=\"Between\",SUMIFS('Vehicle Type Count by Agency'!T:T,'Vehicle Type Count by Agency'!$I:$I,\">=\"&$B117,'Vehicle Type Count by Agency'!$I:$I,\"<\"&$D117),SUMIFS('Vehicle Type Count by Agency'!T:T,'Vehicle Type Count by Agency'!$I:$I,\">=\"&$B117)))","v":1387},{"$f":"IF($A117=\"\",\"\",IF($A117=\"Between\",SUMIFS('Vehicle Type Count by Agency'!V:V,'Vehicle Type Count by Agency'!$I:$I,\">=\"&$B117,'Vehicle Type Count by Agency'!$I:$I,\"<\"&$D117),SUMIFS('Vehicle Type Count by Agency'!V:V,'Vehicle Type Count by Agency'!$I:$I,\">=\"&$B117)))","v":6193},{"$f":"IF($A117=\"\",\"\",IF($A117=\"Between\",SUMIFS('Vehicle Type Count by Agency'!X:X,'Vehicle Type Count by Agency'!$I:$I,\">=\"&$B117,'Vehicle Type Count by Agency'!$I:$I,\"<\"&$D117),SUMIFS('Vehicle Type Count by Agency'!X:X,'Vehicle Type Count by Agency'!$I:$I,\">=\"&$B117)))","v":286},{"$f":"IF($A117=\"\",\"\",IF($A117=\"Between\",SUMIFS('Vehicle Type Count by Agency'!Z:Z,'Vehicle Type Count by Agency'!$I:$I,\">=\"&$B117,'Vehicle Type Count by Agency'!$I:$I,\"<\"&$D117),SUMIFS('Vehicle Type Count by Agency'!Z:Z,'Vehicle Type Count by Agency'!$I:$I,\">=\"&$B117)))","v":1466},{"$f":"IF($A117=\"\",\"\",IF($A117=\"Between\",SUMIFS('Vehicle Type Count by Agency'!AB:AB,'Vehicle Type Count by Agency'!$I:$I,\">=\"&$B117,'Vehicle Type Count by Agency'!$I:$I,\"<\"&$D117),SUMIFS('Vehicle Type Count by Agency'!AB:AB,'Vehicle Type Count by Agency'!$I:$I,\">=\"&$B117)))","v":88},{"$f":"IF($A117=\"\",\"\",IF($A117=\"Between\",SUMIFS('Vehicle Type Count by Agency'!AD:AD,'Vehicle Type Count by Agency'!$I:$I,\">=\"&$B117,'Vehicle Type Count by Agency'!$I:$I,\"<\"&$D117),SUMIFS('Vehicle Type Count by Agency'!AD:AD,'Vehicle Type Count by Agency'!$I:$I,\">=\"&$B117)))","v":0},{"$f":"IF($A117=\"\",\"\",IF($A117=\"Between\",SUMIFS('Vehicle Type Count by Agency'!AF:AF,'Vehicle Type Count by Agency'!$I:$I,\">=\"&$B117,'Vehicle Type Count by Agency'!$I:$I,\"<\"&$D117),SUMIFS('Vehicle Type Count by Agency'!AF:AF,'Vehicle Type Count by Agency'!$I:$I,\">=\"&$B117)))","v":61},{"$f":"IF($A117=\"\",\"\",IF($A117=\"Between\",SUMIFS('Vehicle Type Count by Agency'!AH:AH,'Vehicle Type Count by Agency'!$I:$I,\">=\"&$B117,'Vehicle Type Count by Agency'!$I:$I,\"<\"&$D117),SUMIFS('Vehicle Type Count by Agency'!AH:AH,'Vehicle Type Count by Agency'!$I:$I,\">=\"&$B117)))","v":50},{"$f":"IF($A117=\"\",\"\",IF($A117=\"Between\",SUMIFS('Vehicle Type Count by Agency'!AJ:AJ,'Vehicle Type Count by Agency'!$I:$I,\">=\"&$B117,'Vehicle Type Count by Agency'!$I:$I,\"<\"&$D117),SUMIFS('Vehicle Type Count by Agency'!AJ:AJ,'Vehicle Type Count by Agency'!$I:$I,\">=\"&$B117)))","v":132},{"$f":"IF($A117=\"\",\"\",IF($A117=\"Between\",SUMIFS('Vehicle Type Count by Agency'!AL:AL,'Vehicle Type Count by Agency'!$I:$I,\">=\"&$B117,'Vehicle Type Count by Agency'!$I:$I,\"<\"&$D117),SUMIFS('Vehicle Type Count by Agency'!AL:AL,'Vehicle Type Count by Agency'!$I:$I,\">=\"&$B117)))","v":7},{"$f":"IF($A117=\"\",\"\",IF($A117=\"Between\",SUMIFS('Vehicle Type Count by Agency'!AN:AN,'Vehicle Type Count by Agency'!$I:$I,\">=\"&$B117,'Vehicle Type Count by Agency'!$I:$I,\"<\"&$D117),SUMIFS('Vehicle Type Count by Agency'!AN:AN,'Vehicle Type Count by Agency'!$I:$I,\">=\"&$B117)))","v":81},{"$f":"IF($A117=\"\",\"\",IF($A117=\"Between\",SUMIFS('Vehicle Type Count by Agency'!AP:AP,'Vehicle Type Count by Agency'!$I:$I,\">=\"&$B117,'Vehicle Type Count by Agency'!$I:$I,\"<\"&$D117),SUMIFS('Vehicle Type Count by Agency'!AP:AP,'Vehicle Type Count by Agency'!$I:$I,\">=\"&$B117)))","v":69},{"$f":"IF($A117=\"\",\"\",IF($A117=\"Between\",SUMIFS('Vehicle Type Count by Agency'!AR:AR,'Vehicle Type Count by Agency'!$I:$I,\">=\"&$B117,'Vehicle Type Count by Agency'!$I:$I,\"<\"&$D117),SUMIFS('Vehicle Type Count by Agency'!AR:AR,'Vehicle Type Count by Agency'!$I:$I,\">=\"&$B117)))","v":0},{"$f":"IF($A117=\"\",\"\",IF($A117=\"Between\",SUMIFS('Vehicle Type Count by Agency'!AT:AT,'Vehicle Type Count by Agency'!$I:$I,\">=\"&$B117,'Vehicle Type Count by Agency'!$I:$I,\"<\"&$D117),SUMIFS('Vehicle Type Count by Agency'!AT:AT,'Vehicle Type Count by Agency'!$I:$I,\">=\"&$B117)))","v":0},{"$f":"IF($A117=\"\",\"\",IF($A117=\"Between\",SUMIFS('Vehicle Type Count by Agency'!AV:AV,'Vehicle Type Count by Agency'!$I:$I,\">=\"&$B117,'Vehicle Type Count by Agency'!$I:$I,\"<\"&$D117),SUMIFS('Vehicle Type Count by Agency'!AV:AV,'Vehicle Type Count by Agency'!$I:$I,\">=\"&$B117)))","v":0},{"$f":"IF($A117=\"\",\"\",IF($A117=\"Between\",SUMIFS('Vehicle Type Count by Agency'!AX:AX,'Vehicle Type Count by Agency'!$I:$I,\">=\"&$B117,'Vehicle Type Count by Agency'!$I:$I,\"<\"&$D117),SUMIFS('Vehicle Type Count by Agency'!AX:AX,'Vehicle Type Count by Agency'!$I:$I,\">=\"&$B117)))","v":0},{"$f":"IF($A117=\"\",\"\",IF($A117=\"Between\",SUMIFS('Vehicle Type Count by Agency'!AZ:AZ,'Vehicle Type Count by Agency'!$I:$I,\">=\"&$B117,'Vehicle Type Count by Agency'!$I:$I,\"<\"&$D117),SUMIFS('Vehicle Type Count by Agency'!AZ:AZ,'Vehicle Type Count by Agency'!$I:$I,\">=\"&$B117)))","v":0},{"$f":"IF($A117=\"\",\"\",IF($A117=\"Between\",SUMIFS('Vehicle Type Count by Agency'!BB:BB,'Vehicle Type Count by Agency'!$I:$I,\">=\"&$B117,'Vehicle Type Count by Agency'!$I:$I,\"<\"&$D117),SUMIFS('Vehicle Type Count by Agency'!BB:BB,'Vehicle Type Count by Agency'!$I:$I,\">=\"&$B117)))","v":0},{"$f":"IF($A117=\"\",\"\",IF($A117=\"Between\",SUMIFS('Vehicle Type Count by Agency'!BD:BD,'Vehicle Type Count by Agency'!$I:$I,\">=\"&$B117,'Vehicle Type Count by Agency'!$I:$I,\"<\"&$D117),SUMIFS('Vehicle Type Count by Agency'!BD:BD,'Vehicle Type Count by Agency'!$I:$I,\">=\"&$B117)))","v":18},{"$f":"IF($A117=\"\",\"\",IF($A117=\"Between\",SUMIFS('Vehicle Type Count by Agency'!BF:BF,'Vehicle Type Count by Agency'!$I:$I,\">=\"&$B117,'Vehicle Type Count by Agency'!$I:$I,\"<\"&$D117),SUMIFS('Vehicle Type Count by Agency'!BF:BF,'Vehicle Type Count by Agency'!$I:$I,\">=\"&$B117)))","v":5},{"$f":"IF($A117=\"\",\"\",IF($A117=\"Between\",SUMIFS('Vehicle Type Count by Agency'!BH:BH,'Vehicle Type Count by Agency'!$I:$I,\">=\"&$B117,'Vehicle Type Count by Agency'!$I:$I,\"<\"&$D117),SUMIFS('Vehicle Type Count by Agency'!BH:BH,'Vehicle Type Count by Agency'!$I:$I,\">=\"&$B117)))","v":14565}]
[{"$f":"IF(OR(A117=\"Over\",A117=\"\"),\"\",IF(D118=\"\",\"Over\",\"Between\"))","v":"Between"},{"$f":"IF(D117=\"\",\"\",D117)","v":50},"and",100,"Between 50 and 250",{"$f":"IF($A118=\"\",\"\",IF($A118=\"Between\",SUMIFS('Vehicle Type Count by Agency'!J:J,'Vehicle Type Count by Agency'!$I:$I,\">=\"&$B118,'Vehicle Type Count by Agency'!$I:$I,\"<\"&$D118),SUMIFS('Vehicle Type Count by Agency'!J:J,'Vehicle Type Count by Agency'!$I:$I,\">=\"&$B118)))","v":5707},{"$f":"IF($A118=\"\",\"\",IF($A118=\"Between\",SUMIFS('Vehicle Type Count by Agency'!L:L,'Vehicle Type Count by Agency'!$I:$I,\">=\"&$B118,'Vehicle Type Count by Agency'!$I:$I,\"<\"&$D118),SUMIFS('Vehicle Type Count by Agency'!L:L,'Vehicle Type Count by Agency'!$I:$I,\">=\"&$B118)))","v":80},{"$f":"IF($A118=\"\",\"\",IF($A118=\"Between\",SUMIFS('Vehicle Type Count by Agency'!N:N,'Vehicle Type Count by Agency'!$I:$I,\">=\"&$B118,'Vehicle Type Count by Agency'!$I:$I,\"<\"&$D118),SUMIFS('Vehicle Type Count by Agency'!N:N,'Vehicle Type Count by Agency'!$I:$I,\">=\"&$B118)))","v":952},{"$f":"IF($A118=\"\",\"\",IF($A118=\"Between\",SUMIFS('Vehicle Type Count by Agency'!P:P,'Vehicle Type Count by Agency'!$I:$I,\">=\"&$B118,'Vehicle Type Count by Agency'!$I:$I,\"<\"&$D118),SUMIFS('Vehicle Type Count by Agency'!P:P,'Vehicle Type Count by Agency'!$I:$I,\">=\"&$B118)))","v":0},{"$f":"IF($A118=\"\",\"\",IF($A118=\"Between\",SUMIFS('Vehicle Type Count by Agency'!R:R,'Vehicle Type Count by Agency'!$I:$I,\">=\"&$B118,'Vehicle Type Count by Agency'!$I:$I,\"<\"&$D118),SUMIFS('Vehicle Type Count by Agency'!R:R,'Vehicle Type Count by Agency'!$I:$I,\">=\"&$B118)))","v":42},{"$f":"IF($A118=\"\",\"\",IF($A118=\"Between\",SUMIFS('Vehicle Type Count by Agency'!T:T,'Vehicle Type Count by Agency'!$I:$I,\">=\"&$B118,'Vehicle Type Count by Agency'!$I:$I,\"<\"&$D118),SUMIFS('Vehicle Type Count by Agency'!T:T,'Vehicle Type Count by Agency'!$I:$I,\">=\"&$B118)))","v":2371},{"$f":"IF($A118=\"\",\"\",IF($A118=\"Between\",SUMIFS('Vehicle Type Count by Agency'!V:V,'Vehicle Type Count by Agency'!$I:$I,\">=\"&$B118,'Vehicle Type Count by Agency'!$I:$I,\"<\"&$D118),SUMIFS('Vehicle Type Count by Agency'!V:V,'Vehicle Type Count by Agency'!$I:$I,\">=\"&$B118)))","v":5406},{"$f":"IF($A118=\"\",\"\",IF($A118=\"Between\",SUMIFS('Vehicle Type Count by Agency'!X:X,'Vehicle Type Count by Agency'!$I:$I,\">=\"&$B118,'Vehicle Type Count by Agency'!$I:$I,\"<\"&$D118),SUMIFS('Vehicle Type Count by Agency'!X:X,'Vehicle Type Count by Agency'!$I:$I,\">=\"&$B118)))","v":449},{"$f":"IF($A118=\"\",\"\",IF($A118=\"Between\",SUMIFS('Vehicle Type Count by Agency'!Z:Z,'Vehicle Type Count by Agency'!$I:$I,\">=\"&$B118,'Vehicle Type Count by Agency'!$I:$I,\"<\"&$D118),SUMIFS('Vehicle Type Count by Agency'!Z:Z,'Vehicle Type Count by Agency'!$I:$I,\">=\"&$B118)))","v":1211},{"$f":"IF($A118=\"\",\"\",IF($A118=\"Between\",SUMIFS('Vehicle Type Count by Agency'!AB:AB,'Vehicle Type Count by Agency'!$I:$I,\">=\"&$B118,'Vehicle Type Count by Agency'!$I:$I,\"<\"&$D118),SUMIFS('Vehicle Type Count by Agency'!AB:AB,'Vehicle Type Count by Agency'!$I:$I,\">=\"&$B118)))","v":123},{"$f":"IF($A118=\"\",\"\",IF($A118=\"Between\",SUMIFS('Vehicle Type Count by Agency'!AD:AD,'Vehicle Type Count by Agency'!$I:$I,\">=\"&$B118,'Vehicle Type Count by Agency'!$I:$I,\"<\"&$D118),SUMIFS('Vehicle Type Count by Agency'!AD:AD,'Vehicle Type Count by Agency'!$I:$I,\">=\"&$B118)))","v":0},{"$f":"IF($A118=\"\",\"\",IF($A118=\"Between\",SUMIFS('Vehicle Type Count by Agency'!AF:AF,'Vehicle Type Count by Agency'!$I:$I,\">=\"&$B118,'Vehicle Type Count by Agency'!$I:$I,\"<\"&$D118),SUMIFS('Vehicle Type Count by Agency'!AF:AF,'Vehicle Type Count by Agency'!$I:$I,\">=\"&$B118)))","v":200},{"$f":"IF($A118=\"\",\"\",IF($A118=\"Between\",SUMIFS('Vehicle Type Count by Agency'!AH:AH,'Vehicle Type Count by Agency'!$I:$I,\">=\"&$B118,'Vehicle Type Count by Agency'!$I:$I,\"<\"&$D118),SUMIFS('Vehicle Type Count by Agency'!AH:AH,'Vehicle Type Count by Agency'!$I:$I,\">=\"&$B118)))","v":0},{"$f":"IF($A118=\"\",\"\",IF($A118=\"Between\",SUMIFS('Vehicle Type Count by Agency'!AJ:AJ,'Vehicle Type Count by Agency'!$I:$I,\">=\"&$B118,'Vehicle Type Count by Agency'!$I:$I,\"<\"&$D118),SUMIFS('Vehicle Type Count by Agency'!AJ:AJ,'Vehicle Type Count by Agency'!$I:$I,\">=\"&$B118)))","v":186},{"$f":"IF($A118=\"\",\"\",IF($A118=\"Between\",SUMIFS('Vehicle Type Count by Agency'!AL:AL,'Vehicle Type Count by Agency'!$I:$I,\">=\"&$B118,'Vehicle Type Count by Agency'!$I:$I,\"<\"&$D118),SUMIFS('Vehicle Type Count by Agency'!AL:AL,'Vehicle Type Count by Agency'!$I:$I,\">=\"&$B118)))","v":72},{"$f":"IF($A118=\"\",\"\",IF($A118=\"Between\",SUMIFS('Vehicle Type Count by Agency'!AN:AN,'Vehicle Type Count by Agency'!$I:$I,\">=\"&$B118,'Vehicle Type Count by Agency'!$I:$I,\"<\"&$D118),SUMIFS('Vehicle Type Count by Agency'!AN:AN,'Vehicle Type Count by Agency'!$I:$I,\">=\"&$B118)))","v":49},{"$f":"IF($A118=\"\",\"\",IF($A118=\"Between\",SUMIFS('Vehicle Type Count by Agency'!AP:AP,'Vehicle Type Count by Agency'!$I:$I,\">=\"&$B118,'Vehicle Type Count by Agency'!$I:$I,\"<\"&$D118),SUMIFS('Vehicle Type Count by Agency'!AP:AP,'Vehicle Type Count by Agency'!$I:$I,\">=\"&$B118)))","v":0},{"$f":"IF($A118=\"\",\"\",IF($A118=\"Between\",SUMIFS('Vehicle Type Count by Agency'!AR:AR,'Vehicle Type Count by Agency'!$I:$I,\">=\"&$B118,'Vehicle Type Count by Agency'!$I:$I,\"<\"&$D118),SUMIFS('Vehicle Type Count by Agency'!AR:AR,'Vehicle Type Count by Agency'!$I:$I,\">=\"&$B118)))","v":12},{"$f":"IF($A118=\"\",\"\",IF($A118=\"Between\",SUMIFS('Vehicle Type Count by Agency'!AT:AT,'Vehicle Type Count by Agency'!$I:$I,\">=\"&$B118,'Vehicle Type Count by Agency'!$I:$I,\"<\"&$D118),SUMIFS('Vehicle Type Count by Agency'!AT:AT,'Vehicle Type Count by Agency'!$I:$I,\">=\"&$B118)))","v":6},{"$f":"IF($A118=\"\",\"\",IF($A118=\"Between\",SUMIFS('Vehicle Type Count by Agency'!AV:AV,'Vehicle Type Count by Agency'!$I:$I,\">=\"&$B118,'Vehicle Type Count by Agency'!$I:$I,\"<\"&$D118),SUMIFS('Vehicle Type Count by Agency'!AV:AV,'Vehicle Type Count by Agency'!$I:$I,\">=\"&$B118)))","v":68},{"$f":"IF($A118=\"\",\"\",IF($A118=\"Between\",SUMIFS('Vehicle Type Count by Agency'!AX:AX,'Vehicle Type Count by Agency'!$I:$I,\">=\"&$B118,'Vehicle Type Count by Agency'!$I:$I,\"<\"&$D118),SUMIFS('Vehicle Type Count by Agency'!AX:AX,'Vehicle Type Count by Agency'!$I:$I,\">=\"&$B118)))","v":0},{"$f":"IF($A118=\"\",\"\",IF($A118=\"Between\",SUMIFS('Vehicle Type Count by Agency'!AZ:AZ,'Vehicle Type Count by Agency'!$I:$I,\">=\"&$B118,'Vehicle Type Count by Agency'!$I:$I,\"<\"&$D118),SUMIFS('Vehicle Type Count by Agency'!AZ:AZ,'Vehicle Type Count by Agency'!$I:$I,\">=\"&$B118)))","v":0},{"$f":"IF($A118=\"\",\"\",IF($A118=\"Between\",SUMIFS('Vehicle Type Count by Agency'!BB:BB,'Vehicle Type Count by Agency'!$I:$I,\">=\"&$B118,'Vehicle Type Count by Agency'!$I:$I,\"<\"&$D118),SUMIFS('Vehicle Type Count by Agency'!BB:BB,'Vehicle Type Count by Agency'!$I:$I,\">=\"&$B118)))","v":4},{"$f":"IF($A118=\"\",\"\",IF($A118=\"Between\",SUMIFS('Vehicle Type Count by Agency'!BD:BD,'Vehicle Type Count by Agency'!$I:$I,\">=\"&$B118,'Vehicle Type Count by Agency'!$I:$I,\"<\"&$D118),SUMIFS('Vehicle Type Count by Agency'!BD:BD,'Vehicle Type Count by Agency'!$I:$I,\">=\"&$B118)))","v":25},{"$f":"IF($A118=\"\",\"\",IF($A118=\"Between\",SUMIFS('Vehicle Type Count by Agency'!BF:BF,'Vehicle Type Count by Agency'!$I:$I,\">=\"&$B118,'Vehicle Type Count by Agency'!$I:$I,\"<\"&$D118),SUMIFS('Vehicle Type Count by Agency'!BF:BF,'Vehicle Type Count by Agency'!$I:$I,\">=\"&$B118)))","v":23},{"$f":"IF($A118=\"\",\"\",IF($A118=\"Between\",SUMIFS('Vehicle Type Count by Agency'!BH:BH,'Vehicle Type Count by Agency'!$I:$I,\">=\"&$B118,'Vehicle Type Count by Agency'!$I:$I,\"<\"&$D118),SUMIFS('Vehicle Type Count by Agency'!BH:BH,'Vehicle Type Count by Agency'!$I:$I,\">=\"&$B118)))","v":16986}]
["Between",100,"and",250,"Between 100 and 500",{"$f":"IF($A119=\"\",\"\",IF($A119=\"Between\",SUMIFS('Vehicle Type Count by Agency'!J:J,'Vehicle Type Count by Agency'!$I:$I,\">=\"&$B119,'Vehicle Type Count by Agency'!$I:$I,\"<\"&$D119),SUMIFS('Vehicle Type Count by Agency'!J:J,'Vehicle Type Count by Agency'!$I:$I,\">=\"&$B119)))","v":6791},{"$f":"IF($A119=\"\",\"\",IF($A119=\"Between\",SUMIFS('Vehicle Type Count by Agency'!L:L,'Vehicle Type Count by Agency'!$I:$I,\">=\"&$B119,'Vehicle Type Count by Agency'!$I:$I,\"<\"&$D119),SUMIFS('Vehicle Type Count by Agency'!L:L,'Vehicle Type Count by Agency'!$I:$I,\">=\"&$B119)))","v":235},{"$f":"IF($A119=\"\",\"\",IF($A119=\"Between\",SUMIFS('Vehicle Type Count by Agency'!N:N,'Vehicle Type Count by Agency'!$I:$I,\">=\"&$B119,'Vehicle Type Count by Agency'!$I:$I,\"<\"&$D119),SUMIFS('Vehicle Type Count by Agency'!N:N,'Vehicle Type Count by Agency'!$I:$I,\">=\"&$B119)))","v":794},{"$f":"IF($A119=\"\",\"\",IF($A119=\"Between\",SUMIFS('Vehicle Type Count by Agency'!P:P,'Vehicle Type Count by Agency'!$I:$I,\">=\"&$B119,'Vehicle Type Count by Agency'!$I:$I,\"<\"&$D119),SUMIFS('Vehicle Type Count by Agency'!P:P,'Vehicle Type Count by Agency'!$I:$I,\">=\"&$B119)))","v":0},{"$f":"IF($A119=\"\",\"\",IF($A119=\"Between\",SUMIFS('Vehicle Type Count by Agency'!R:R,'Vehicle Type Count by Agency'!$I:$I,\">=\"&$B119,'Vehicle Type Count by Agency'!$I:$I,\"<\"&$D119),SUMIFS('Vehicle Type Count by Agency'!R:R,'Vehicle Type Count by Agency'!$I:$I,\">=\"&$B119)))","v":5},{"$f":"IF($A119=\"\",\"\",IF($A119=\"Between\",SUMIFS('Vehicle Type Count by Agency'!T:T,'Vehicle Type Count by Agency'!$I:$I,\">=\"&$B119,'Vehicle Type Count by Agency'!$I:$I,\"<\"&$D119),SUMIFS('Vehicle Type Count by Agency'!T:T,'Vehicle Type Count by Agency'!$I:$I,\">=\"&$B119)))","v":1747},{"$f":"IF($A119=\"\",\"\",IF($A119=\"Between\",SUMIFS('Vehicle Type Count by Agency'!V:V,'Vehicle Type Count by Agency'!$I:$I,\">=\"&$B119,'Vehicle Type Count by Agency'!$I:$I,\"<\"&$D119),SUMIFS('Vehicle Type Count by Agency'!V:V,'Vehicle Type Count by Agency'!$I:$I,\">=\"&$B119)))","v":4166},{"$f":"IF($A119=\"\",\"\",IF($A119=\"Between\",SUMIFS('Vehicle Type Count by Agency'!X:X,'Vehicle Type Count by Agency'!$I:$I,\">=\"&$B119,'Vehicle Type Count by Agency'!$I:$I,\"<\"&$D119),SUMIFS('Vehicle Type Count by Agency'!X:X,'Vehicle Type Count by Agency'!$I:$I,\">=\"&$B119)))","v":576},{"$f":"IF($A119=\"\",\"\",IF($A119=\"Between\",SUMIFS('Vehicle Type Count by Agency'!Z:Z,'Vehicle Type Count by Agency'!$I:$I,\">=\"&$B119,'Vehicle Type Count by Agency'!$I:$I,\"<\"&$D119),SUMIFS('Vehicle Type Count by Agency'!Z:Z,'Vehicle Type Count by Agency'!$I:$I,\">=\"&$B119)))","v":780},{"$f":"IF($A119=\"\",\"\",IF($A119=\"Between\",SUMIFS('Vehicle Type Count by Agency'!AB:AB,'Vehicle Type Count by Agency'!$I:$I,\">=\"&$B119,'Vehicle Type Count by Agency'!$I:$I,\"<\"&$D119),SUMIFS('Vehicle Type Count by Agency'!AB:AB,'Vehicle Type Count by Agency'!$I:$I,\">=\"&$B119)))","v":192},{"$f":"IF($A119=\"\",\"\",IF($A119=\"Between\",SUMIFS('Vehicle Type Count by Agency'!AD:AD,'Vehicle Type Count by Agency'!$I:$I,\">=\"&$B119,'Vehicle Type Count by Agency'!$I:$I,\"<\"&$D119),SUMIFS('Vehicle Type Count by Agency'!AD:AD,'Vehicle Type Count by Agency'!$I:$I,\">=\"&$B119)))","v":37},{"$f":"IF($A119=\"\",\"\",IF($A119=\"Between\",SUMIFS('Vehicle Type Count by Agency'!AF:AF,'Vehicle Type Count by Agency'!$I:$I,\">=\"&$B119,'Vehicle Type Count by Agency'!$I:$I,\"<\"&$D119),SUMIFS('Vehicle Type Count by Agency'!AF:AF,'Vehicle Type Count by Agency'!$I:$I,\">=\"&$B119)))","v":0},{"$f":"IF($A119=\"\",\"\",IF($A119=\"Between\",SUMIFS('Vehicle Type Count by Agency'!AH:AH,'Vehicle Type Count by Agency'!$I:$I,\">=\"&$B119,'Vehicle Type Count by Agency'!$I:$I,\"<\"&$D119),SUMIFS('Vehicle Type Count by Agency'!AH:AH,'Vehicle Type Count by Agency'!$I:$I,\">=\"&$B119)))","v":121},{"$f":"IF($A119=\"\",\"\",IF($A119=\"Between\",SUMIFS('Vehicle Type Count by Agency'!AJ:AJ,'Vehicle Type Count by Agency'!$I:$I,\">=\"&$B119,'Vehicle Type Count by Agency'!$I:$I,\"<\"&$D119),SUMIFS('Vehicle Type Count by Agency'!AJ:AJ,'Vehicle Type Count by Agency'!$I:$I,\">=\"&$B119)))","v":397},{"$f":"IF($A119=\"\",\"\",IF($A119=\"Between\",SUMIFS('Vehicle Type Count by Agency'!AL:AL,'Vehicle Type Count by Agency'!$I:$I,\">=\"&$B119,'Vehicle Type Count by Agency'!$I:$I,\"<\"&$D119),SUMIFS('Vehicle Type Count by Agency'!AL:AL,'Vehicle Type Count by Agency'!$I:$I,\">=\"&$B119)))","v":11},{"$f":"IF($A119=\"\",\"\",IF($A119=\"Between\",SUMIFS('Vehicle Type Count by Agency'!AN:AN,'Vehicle Type Count by Agency'!$I:$I,\">=\"&$B119,'Vehicle Type Count by Agency'!$I:$I,\"<\"&$D119),SUMIFS('Vehicle Type Count by Agency'!AN:AN,'Vehicle Type Count by Agency'!$I:$I,\">=\"&$B119)))","v":91},{"$f":"IF($A119=\"\",\"\",IF($A119=\"Between\",SUMIFS('Vehicle Type Count by Agency'!AP:AP,'Vehicle Type Count by Agency'!$I:$I,\">=\"&$B119,'Vehicle Type Count by Agency'!$I:$I,\"<\"&$D119),SUMIFS('Vehicle Type Count by Agency'!AP:AP,'Vehicle Type Count by Agency'!$I:$I,\">=\"&$B119)))","v":0},{"$f":"IF($A119=\"\",\"\",IF($A119=\"Between\",SUMIFS('Vehicle Type Count by Agency'!AR:AR,'Vehicle Type Count by Agency'!$I:$I,\">=\"&$B119,'Vehicle Type Count by Agency'!$I:$I,\"<\"&$D119),SUMIFS('Vehicle Type Count by Agency'!AR:AR,'Vehicle Type Count by Agency'!$I:$I,\">=\"&$B119)))","v":35},{"$f":"IF($A119=\"\",\"\",IF($A119=\"Between\",SUMIFS('Vehicle Type Count by Agency'!AT:AT,'Vehicle Type Count by Agency'!$I:$I,\">=\"&$B119,'Vehicle Type Count by Agency'!$I:$I,\"<\"&$D119),SUMIFS('Vehicle Type Count by Agency'!AT:AT,'Vehicle Type Count by Agency'!$I:$I,\">=\"&$B119)))","v":31},{"$f":"IF($A119=\"\",\"\",IF($A119=\"Between\",SUMIFS('Vehicle Type Count by Agency'!AV:AV,'Vehicle Type Count by Agency'!$I:$I,\">=\"&$B119,'Vehicle Type Count by Agency'!$I:$I,\"<\"&$D119),SUMIFS('Vehicle Type Count by Agency'!AV:AV,'Vehicle Type Count by Agency'!$I:$I,\">=\"&$B119)))","v":0},{"$f":"IF($A119=\"\",\"\",IF($A119=\"Between\",SUMIFS('Vehicle Type Count by Agency'!AX:AX,'Vehicle Type Count by Agency'!$I:$I,\">=\"&$B119,'Vehicle Type Count by Agency'!$I:$I,\"<\"&$D119),SUMIFS('Vehicle Type Count by Agency'!AX:AX,'Vehicle Type Count by Agency'!$I:$I,\">=\"&$B119)))","v":0},{"$f":"IF($A119=\"\",\"\",IF($A119=\"Between\",SUMIFS('Vehicle Type Count by Agency'!AZ:AZ,'Vehicle Type Count by Agency'!$I:$I,\">=\"&$B119,'Vehicle Type Count by Agency'!$I:$I,\"<\"&$D119),SUMIFS('Vehicle Type Count by Agency'!AZ:AZ,'Vehicle Type Count by Agency'!$I:$I,\">=\"&$B119)))","v":0},{"$f":"IF($A119=\"\",\"\",IF($A119=\"Between\",SUMIFS('Vehicle Type Count by Agency'!BB:BB,'Vehicle Type Count by Agency'!$I:$I,\">=\"&$B119,'Vehicle Type Count by Agency'!$I:$I,\"<\"&$D119),SUMIFS('Vehicle Type Count by Agency'!BB:BB,'Vehicle Type Count by Agency'!$I:$I,\">=\"&$B119)))","v":0},{"$f":"IF($A119=\"\",\"\",IF($A119=\"Between\",SUMIFS('Vehicle Type Count by Agency'!BD:BD,'Vehicle Type Count by Agency'!$I:$I,\">=\"&$B119,'Vehicle Type Count by Agency'!$I:$I,\"<\"&$D119),SUMIFS('Vehicle Type Count by Agency'!BD:BD,'Vehicle Type Count by Agency'!$I:$I,\">=\"&$B119)))","v":10},{"$f":"IF($A119=\"\",\"\",IF($A119=\"Between\",SUMIFS('Vehicle Type Count by Agency'!BF:BF,'Vehicle Type Count by Agency'!$I:$I,\">=\"&$B119,'Vehicle Type Count by Agency'!$I:$I,\"<\"&$D119),SUMIFS('Vehicle Type Count by Agency'!BF:BF,'Vehicle Type Count by Agency'!$I:$I,\">=\"&$B119)))","v":2},{"$f":"IF($A119=\"\",\"\",IF($A119=\"Between\",SUMIFS('Vehicle Type Count by Agency'!BH:BH,'Vehicle Type Count by Agency'!$I:$I,\">=\"&$B119,'Vehicle Type Count by Agency'!$I:$I,\"<\"&$D119),SUMIFS('Vehicle Type Count by Agency'!BH:BH,'Vehicle Type Count by Agency'!$I:$I,\">=\"&$B119)))","v":16021}]
["Between",250,"and",500,"Between 250 and 1,000",{"$f":"IF($A120=\"\",\"\",IF($A120=\"Between\",SUMIFS('Vehicle Type Count by Agency'!J:J,'Vehicle Type Count by Agency'!$I:$I,\">=\"&$B120,'Vehicle Type Count by Agency'!$I:$I,\"<\"&$D120),SUMIFS('Vehicle Type Count by Agency'!J:J,'Vehicle Type Count by Agency'!$I:$I,\">=\"&$B120)))","v":9156},{"$f":"IF($A120=\"\",\"\",IF($A120=\"Between\",SUMIFS('Vehicle Type Count by Agency'!L:L,'Vehicle Type Count by Agency'!$I:$I,\">=\"&$B120,'Vehicle Type Count by Agency'!$I:$I,\"<\"&$D120),SUMIFS('Vehicle Type Count by Agency'!L:L,'Vehicle Type Count by Agency'!$I:$I,\">=\"&$B120)))","v":538},{"$f":"IF($A120=\"\",\"\",IF($A120=\"Between\",SUMIFS('Vehicle Type Count by Agency'!N:N,'Vehicle Type Count by Agency'!$I:$I,\">=\"&$B120,'Vehicle Type Count by Agency'!$I:$I,\"<\"&$D120),SUMIFS('Vehicle Type Count by Agency'!N:N,'Vehicle Type Count by Agency'!$I:$I,\">=\"&$B120)))","v":286},{"$f":"IF($A120=\"\",\"\",IF($A120=\"Between\",SUMIFS('Vehicle Type Count by Agency'!P:P,'Vehicle Type Count by Agency'!$I:$I,\">=\"&$B120,'Vehicle Type Count by Agency'!$I:$I,\"<\"&$D120),SUMIFS('Vehicle Type Count by Agency'!P:P,'Vehicle Type Count by Agency'!$I:$I,\">=\"&$B120)))","v":37},{"$f":"IF($A120=\"\",\"\",IF($A120=\"Between\",SUMIFS('Vehicle Type Count by Agency'!R:R,'Vehicle Type Count by Agency'!$I:$I,\">=\"&$B120,'Vehicle Type Count by Agency'!$I:$I,\"<\"&$D120),SUMIFS('Vehicle Type Count by Agency'!R:R,'Vehicle Type Count by Agency'!$I:$I,\">=\"&$B120)))","v":0},{"$f":"IF($A120=\"\",\"\",IF($A120=\"Between\",SUMIFS('Vehicle Type Count by Agency'!T:T,'Vehicle Type Count by Agency'!$I:$I,\">=\"&$B120,'Vehicle Type Count by Agency'!$I:$I,\"<\"&$D120),SUMIFS('Vehicle Type Count by Agency'!T:T,'Vehicle Type Count by Agency'!$I:$I,\">=\"&$B120)))","v":3319},{"$f":"IF($A120=\"\",\"\",IF($A120=\"Between\",SUMIFS('Vehicle Type Count by Agency'!V:V,'Vehicle Type Count by Agency'!$I:$I,\">=\"&$B120,'Vehicle Type Count by Agency'!$I:$I,\"<\"&$D120),SUMIFS('Vehicle Type Count by Agency'!V:V,'Vehicle Type Count by Agency'!$I:$I,\">=\"&$B120)))","v":2912},{"$f":"IF($A120=\"\",\"\",IF($A120=\"Between\",SUMIFS('Vehicle Type Count by Agency'!X:X,'Vehicle Type Count by Agency'!$I:$I,\">=\"&$B120,'Vehicle Type Count by Agency'!$I:$I,\"<\"&$D120),SUMIFS('Vehicle Type Count by Agency'!X:X,'Vehicle Type Count by Agency'!$I:$I,\">=\"&$B120)))","v":935},{"$f":"IF($A120=\"\",\"\",IF($A120=\"Between\",SUMIFS('Vehicle Type Count by Agency'!Z:Z,'Vehicle Type Count by Agency'!$I:$I,\">=\"&$B120,'Vehicle Type Count by Agency'!$I:$I,\"<\"&$D120),SUMIFS('Vehicle Type Count by Agency'!Z:Z,'Vehicle Type Count by Agency'!$I:$I,\">=\"&$B120)))","v":375},{"$f":"IF($A120=\"\",\"\",IF($A120=\"Between\",SUMIFS('Vehicle Type Count by Agency'!AB:AB,'Vehicle Type Count by Agency'!$I:$I,\">=\"&$B120,'Vehicle Type Count by Agency'!$I:$I,\"<\"&$D120),SUMIFS('Vehicle Type Count by Agency'!AB:AB,'Vehicle Type Count by Agency'!$I:$I,\">=\"&$B120)))","v":247},{"$f":"IF($A120=\"\",\"\",IF($A120=\"Between\",SUMIFS('Vehicle Type Count by Agency'!AD:AD,'Vehicle Type Count by Agency'!$I:$I,\">=\"&$B120,'Vehicle Type Count by Agency'!$I:$I,\"<\"&$D120),SUMIFS('Vehicle Type Count by Agency'!AD:AD,'Vehicle Type Count by Agency'!$I:$I,\">=\"&$B120)))","v":0},{"$f":"IF($A120=\"\",\"\",IF($A120=\"Between\",SUMIFS('Vehicle Type Count by Agency'!AF:AF,'Vehicle Type Count by Agency'!$I:$I,\">=\"&$B120,'Vehicle Type Count by Agency'!$I:$I,\"<\"&$D120),SUMIFS('Vehicle Type Count by Agency'!AF:AF,'Vehicle Type Count by Agency'!$I:$I,\">=\"&$B120)))","v":390},{"$f":"IF($A120=\"\",\"\",IF($A120=\"Between\",SUMIFS('Vehicle Type Count by Agency'!AH:AH,'Vehicle Type Count by Agency'!$I:$I,\">=\"&$B120,'Vehicle Type Count by Agency'!$I:$I,\"<\"&$D120),SUMIFS('Vehicle Type Count by Agency'!AH:AH,'Vehicle Type Count by Agency'!$I:$I,\">=\"&$B120)))","v":262},{"$f":"IF($A120=\"\",\"\",IF($A120=\"Between\",SUMIFS('Vehicle Type Count by Agency'!AJ:AJ,'Vehicle Type Count by Agency'!$I:$I,\">=\"&$B120,'Vehicle Type Count by Agency'!$I:$I,\"<\"&$D120),SUMIFS('Vehicle Type Count by Agency'!AJ:AJ,'Vehicle Type Count by Agency'!$I:$I,\">=\"&$B120)))","v":67},{"$f":"IF($A120=\"\",\"\",IF($A120=\"Between\",SUMIFS('Vehicle Type Count by Agency'!AL:AL,'Vehicle Type Count by Agency'!$I:$I,\">=\"&$B120,'Vehicle Type Count by Agency'!$I:$I,\"<\"&$D120),SUMIFS('Vehicle Type Count by Agency'!AL:AL,'Vehicle Type Count by Agency'!$I:$I,\">=\"&$B120)))","v":0},{"$f":"IF($A120=\"\",\"\",IF($A120=\"Between\",SUMIFS('Vehicle Type Count by Agency'!AN:AN,'Vehicle Type Count by Agency'!$I:$I,\">=\"&$B120,'Vehicle Type Count by Agency'!$I:$I,\"<\"&$D120),SUMIFS('Vehicle Type Count by Agency'!AN:AN,'Vehicle Type Count by Agency'!$I:$I,\">=\"&$B120)))","v":14},{"$f":"IF($A120=\"\",\"\",IF($A120=\"Between\",SUMIFS('Vehicle Type Count by Agency'!AP:AP,'Vehicle Type Count by Agency'!$I:$I,\">=\"&$B120,'Vehicle Type Count by Agency'!$I:$I,\"<\"&$D120),SUMIFS('Vehicle Type Count by Agency'!AP:AP,'Vehicle Type Count by Agency'!$I:$I,\">=\"&$B120)))","v":6},{"$f":"IF($A120=\"\",\"\",IF($A120=\"Between\",SUMIFS('Vehicle Type Count by Agency'!AR:AR,'Vehicle Type Count by Agency'!$I:$I,\">=\"&$B120,'Vehicle Type Count by Agency'!$I:$I,\"<\"&$D120),SUMIFS('Vehicle Type Count by Agency'!AR:AR,'Vehicle Type Count by Agency'!$I:$I,\">=\"&$B120)))","v":0},{"$f":"IF($A120=\"\",\"\",IF($A120=\"Between\",SUMIFS('Vehicle Type Count by Agency'!AT:AT,'Vehicle Type Count by Agency'!$I:$I,\">=\"&$B120,'Vehicle Type Count by Agency'!$I:$I,\"<\"&$D120),SUMIFS('Vehicle Type Count by Agency'!AT:AT,'Vehicle Type Count by Agency'!$I:$I,\">=\"&$B120)))","v":16},{"$f":"IF($A120=\"\",\"\",IF($A120=\"Between\",SUMIFS('Vehicle Type Count by Agency'!AV:AV,'Vehicle Type Count by Agency'!$I:$I,\">=\"&$B120,'Vehicle Type Count by Agency'!$I:$I,\"<\"&$D120),SUMIFS('Vehicle Type Count by Agency'!AV:AV,'Vehicle Type Count by Agency'!$I:$I,\">=\"&$B120)))","v":0},{"$f":"IF($A120=\"\",\"\",IF($A120=\"Between\",SUMIFS('Vehicle Type Count by Agency'!AX:AX,'Vehicle Type Count by Agency'!$I:$I,\">=\"&$B120,'Vehicle Type Count by Agency'!$I:$I,\"<\"&$D120),SUMIFS('Vehicle Type Count by Agency'!AX:AX,'Vehicle Type Count by Agency'!$I:$I,\">=\"&$B120)))","v":0},{"$f":"IF($A120=\"\",\"\",IF($A120=\"Between\",SUMIFS('Vehicle Type Count by Agency'!AZ:AZ,'Vehicle Type Count by Agency'!$I:$I,\">=\"&$B120,'Vehicle Type Count by Agency'!$I:$I,\"<\"&$D120),SUMIFS('Vehicle Type Count by Agency'!AZ:AZ,'Vehicle Type Count by Agency'!$I:$I,\">=\"&$B120)))","v":0},{"$f":"IF($A120=\"\",\"\",IF($A120=\"Between\",SUMIFS('Vehicle Type Count by Agency'!BB:BB,'Vehicle Type Count by Agency'!$I:$I,\">=\"&$B120,'Vehicle Type Count by Agency'!$I:$I,\"<\"&$D120),SUMIFS('Vehicle Type Count by Agency'!BB:BB,'Vehicle Type Count by Agency'!$I:$I,\">=\"&$B120)))","v":0},{"$f":"IF($A120=\"\",\"\",IF($A120=\"Between\",SUMIFS('Vehicle Type Count by Agency'!BD:BD,'Vehicle Type Count by Agency'!$I:$I,\">=\"&$B120,'Vehicle Type Count by Agency'!$I:$I,\"<\"&$D120),SUMIFS('Vehicle Type Count by Agency'!BD:BD,'Vehicle Type Count by Agency'!$I:$I,\">=\"&$B120)))","v":17},{"$f":"IF($A120=\"\",\"\",IF($A120=\"Between\",SUMIFS('Vehicle Type Count by Agency'!BF:BF,'Vehicle Type Count by Agency'!$I:$I,\">=\"&$B120,'Vehicle Type Count by Agency'!$I:$I,\"<\"&$D120),SUMIFS('Vehicle Type Count by Agency'!BF:BF,'Vehicle Type Count by Agency'!$I:$I,\">=\"&$B120)))","v":0},{"$f":"IF($A120=\"\",\"\",IF($A120=\"Between\",SUMIFS('Vehicle Type Count by Agency'!BH:BH,'Vehicle Type Count by Agency'!$I:$I,\">=\"&$B120,'Vehicle Type Count by Agency'!$I:$I,\"<\"&$D120),SUMIFS('Vehicle Type Count by Agency'!BH:BH,'Vehicle Type Count by Agency'!$I:$I,\">=\"&$B120)))","v":18577}]
["Between",500,"and",1000,"Between 500 and 2,000",{"$f":"IF($A121=\"\",\"\",IF($A121=\"Between\",SUMIFS('Vehicle Type Count by Agency'!J:J,'Vehicle Type Count by Agency'!$I:$I,\">=\"&$B121,'Vehicle Type Count by Agency'!$I:$I,\"<\"&$D121),SUMIFS('Vehicle Type Count by Agency'!J:J,'Vehicle Type Count by Agency'!$I:$I,\">=\"&$B121)))","v":7022},{"$f":"IF($A121=\"\",\"\",IF($A121=\"Between\",SUMIFS('Vehicle Type Count by Agency'!L:L,'Vehicle Type Count by Agency'!$I:$I,\">=\"&$B121,'Vehicle Type Count by Agency'!$I:$I,\"<\"&$D121),SUMIFS('Vehicle Type Count by Agency'!L:L,'Vehicle Type Count by Agency'!$I:$I,\">=\"&$B121)))","v":1184},{"$f":"IF($A121=\"\",\"\",IF($A121=\"Between\",SUMIFS('Vehicle Type Count by Agency'!N:N,'Vehicle Type Count by Agency'!$I:$I,\">=\"&$B121,'Vehicle Type Count by Agency'!$I:$I,\"<\"&$D121),SUMIFS('Vehicle Type Count by Agency'!N:N,'Vehicle Type Count by Agency'!$I:$I,\">=\"&$B121)))","v":307},{"$f":"IF($A121=\"\",\"\",IF($A121=\"Between\",SUMIFS('Vehicle Type Count by Agency'!P:P,'Vehicle Type Count by Agency'!$I:$I,\">=\"&$B121,'Vehicle Type Count by Agency'!$I:$I,\"<\"&$D121),SUMIFS('Vehicle Type Count by Agency'!P:P,'Vehicle Type Count by Agency'!$I:$I,\">=\"&$B121)))","v":182},{"$f":"IF($A121=\"\",\"\",IF($A121=\"Between\",SUMIFS('Vehicle Type Count by Agency'!R:R,'Vehicle Type Count by Agency'!$I:$I,\">=\"&$B121,'Vehicle Type Count by Agency'!$I:$I,\"<\"&$D121),SUMIFS('Vehicle Type Count by Agency'!R:R,'Vehicle Type Count by Agency'!$I:$I,\">=\"&$B121)))","v":0},{"$f":"IF($A121=\"\",\"\",IF($A121=\"Between\",SUMIFS('Vehicle Type Count by Agency'!T:T,'Vehicle Type Count by Agency'!$I:$I,\">=\"&$B121,'Vehicle Type Count by Agency'!$I:$I,\"<\"&$D121),SUMIFS('Vehicle Type Count by Agency'!T:T,'Vehicle Type Count by Agency'!$I:$I,\">=\"&$B121)))","v":4473},{"$f":"IF($A121=\"\",\"\",IF($A121=\"Between\",SUMIFS('Vehicle Type Count by Agency'!V:V,'Vehicle Type Count by Agency'!$I:$I,\">=\"&$B121,'Vehicle Type Count by Agency'!$I:$I,\"<\"&$D121),SUMIFS('Vehicle Type Count by Agency'!V:V,'Vehicle Type Count by Agency'!$I:$I,\">=\"&$B121)))","v":3836},{"$f":"IF($A121=\"\",\"\",IF($A121=\"Between\",SUMIFS('Vehicle Type Count by Agency'!X:X,'Vehicle Type Count by Agency'!$I:$I,\">=\"&$B121,'Vehicle Type Count by Agency'!$I:$I,\"<\"&$D121),SUMIFS('Vehicle Type Count by Agency'!X:X,'Vehicle Type Count by Agency'!$I:$I,\">=\"&$B121)))","v":379},{"$f":"IF($A121=\"\",\"\",IF($A121=\"Between\",SUMIFS('Vehicle Type Count by Agency'!Z:Z,'Vehicle Type Count by Agency'!$I:$I,\">=\"&$B121,'Vehicle Type Count by Agency'!$I:$I,\"<\"&$D121),SUMIFS('Vehicle Type Count by Agency'!Z:Z,'Vehicle Type Count by Agency'!$I:$I,\">=\"&$B121)))","v":454},{"$f":"IF($A121=\"\",\"\",IF($A121=\"Between\",SUMIFS('Vehicle Type Count by Agency'!AB:AB,'Vehicle Type Count by Agency'!$I:$I,\">=\"&$B121,'Vehicle Type Count by Agency'!$I:$I,\"<\"&$D121),SUMIFS('Vehicle Type Count by Agency'!AB:AB,'Vehicle Type Count by Agency'!$I:$I,\">=\"&$B121)))","v":137},{"$f":"IF($A121=\"\",\"\",IF($A121=\"Between\",SUMIFS('Vehicle Type Count by Agency'!AD:AD,'Vehicle Type Count by Agency'!$I:$I,\">=\"&$B121,'Vehicle Type Count by Agency'!$I:$I,\"<\"&$D121),SUMIFS('Vehicle Type Count by Agency'!AD:AD,'Vehicle Type Count by Agency'!$I:$I,\">=\"&$B121)))","v":0},{"$f":"IF($A121=\"\",\"\",IF($A121=\"Between\",SUMIFS('Vehicle Type Count by Agency'!AF:AF,'Vehicle Type Count by Agency'!$I:$I,\">=\"&$B121,'Vehicle Type Count by Agency'!$I:$I,\"<\"&$D121),SUMIFS('Vehicle Type Count by Agency'!AF:AF,'Vehicle Type Count by Agency'!$I:$I,\">=\"&$B121)))","v":996},{"$f":"IF($A121=\"\",\"\",IF($A121=\"Between\",SUMIFS('Vehicle Type Count by Agency'!AH:AH,'Vehicle Type Count by Agency'!$I:$I,\">=\"&$B121,'Vehicle Type Count by Agency'!$I:$I,\"<\"&$D121),SUMIFS('Vehicle Type Count by Agency'!AH:AH,'Vehicle Type Count by Agency'!$I:$I,\">=\"&$B121)))","v":546},{"$f":"IF($A121=\"\",\"\",IF($A121=\"Between\",SUMIFS('Vehicle Type Count by Agency'!AJ:AJ,'Vehicle Type Count by Agency'!$I:$I,\">=\"&$B121,'Vehicle Type Count by Agency'!$I:$I,\"<\"&$D121),SUMIFS('Vehicle Type Count by Agency'!AJ:AJ,'Vehicle Type Count by Agency'!$I:$I,\">=\"&$B121)))","v":19},{"$f":"IF($A121=\"\",\"\",IF($A121=\"Between\",SUMIFS('Vehicle Type Count by Agency'!AL:AL,'Vehicle Type Count by Agency'!$I:$I,\">=\"&$B121,'Vehicle Type Count by Agency'!$I:$I,\"<\"&$D121),SUMIFS('Vehicle Type Count by Agency'!AL:AL,'Vehicle Type Count by Agency'!$I:$I,\">=\"&$B121)))","v":23},{"$f":"IF($A121=\"\",\"\",IF($A121=\"Between\",SUMIFS('Vehicle Type Count by Agency'!AN:AN,'Vehicle Type Count by Agency'!$I:$I,\">=\"&$B121,'Vehicle Type Count by Agency'!$I:$I,\"<\"&$D121),SUMIFS('Vehicle Type Count by Agency'!AN:AN,'Vehicle Type Count by Agency'!$I:$I,\">=\"&$B121)))","v":6},{"$f":"IF($A121=\"\",\"\",IF($A121=\"Between\",SUMIFS('Vehicle Type Count by Agency'!AP:AP,'Vehicle Type Count by Agency'!$I:$I,\">=\"&$B121,'Vehicle Type Count by Agency'!$I:$I,\"<\"&$D121),SUMIFS('Vehicle Type Count by Agency'!AP:AP,'Vehicle Type Count by Agency'!$I:$I,\">=\"&$B121)))","v":4},{"$f":"IF($A121=\"\",\"\",IF($A121=\"Between\",SUMIFS('Vehicle Type Count by Agency'!AR:AR,'Vehicle Type Count by Agency'!$I:$I,\">=\"&$B121,'Vehicle Type Count by Agency'!$I:$I,\"<\"&$D121),SUMIFS('Vehicle Type Count by Agency'!AR:AR,'Vehicle Type Count by Agency'!$I:$I,\">=\"&$B121)))","v":3},{"$f":"IF($A121=\"\",\"\",IF($A121=\"Between\",SUMIFS('Vehicle Type Count by Agency'!AT:AT,'Vehicle Type Count by Agency'!$I:$I,\">=\"&$B121,'Vehicle Type Count by Agency'!$I:$I,\"<\"&$D121),SUMIFS('Vehicle Type Count by Agency'!AT:AT,'Vehicle Type Count by Agency'!$I:$I,\">=\"&$B121)))","v":0},{"$f":"IF($A121=\"\",\"\",IF($A121=\"Between\",SUMIFS('Vehicle Type Count by Agency'!AV:AV,'Vehicle Type Count by Agency'!$I:$I,\">=\"&$B121,'Vehicle Type Count by Agency'!$I:$I,\"<\"&$D121),SUMIFS('Vehicle Type Count by Agency'!AV:AV,'Vehicle Type Count by Agency'!$I:$I,\">=\"&$B121)))","v":0},{"$f":"IF($A121=\"\",\"\",IF($A121=\"Between\",SUMIFS('Vehicle Type Count by Agency'!AX:AX,'Vehicle Type Count by Agency'!$I:$I,\">=\"&$B121,'Vehicle Type Count by Agency'!$I:$I,\"<\"&$D121),SUMIFS('Vehicle Type Count by Agency'!AX:AX,'Vehicle Type Count by Agency'!$I:$I,\">=\"&$B121)))","v":0},{"$f":"IF($A121=\"\",\"\",IF($A121=\"Between\",SUMIFS('Vehicle Type Count by Agency'!AZ:AZ,'Vehicle Type Count by Agency'!$I:$I,\">=\"&$B121,'Vehicle Type Count by Agency'!$I:$I,\"<\"&$D121),SUMIFS('Vehicle Type Count by Agency'!AZ:AZ,'Vehicle Type Count by Agency'!$I:$I,\">=\"&$B121)))","v":0},{"$f":"IF($A121=\"\",\"\",IF($A121=\"Between\",SUMIFS('Vehicle Type Count by Agency'!BB:BB,'Vehicle Type Count by Agency'!$I:$I,\">=\"&$B121,'Vehicle Type Count by Agency'!$I:$I,\"<\"&$D121),SUMIFS('Vehicle Type Count by Agency'!BB:BB,'Vehicle Type Count by Agency'!$I:$I,\">=\"&$B121)))","v":2},{"$f":"IF($A121=\"\",\"\",IF($A121=\"Between\",SUMIFS('Vehicle Type Count by Agency'!BD:BD,'Vehicle Type Count by Agency'!$I:$I,\">=\"&$B121,'Vehicle Type Count by Agency'!$I:$I,\"<\"&$D121),SUMIFS('Vehicle Type Count by Agency'!BD:BD,'Vehicle Type Count by Agency'!$I:$I,\">=\"&$B121)))","v":0},{"$f":"IF($A121=\"\",\"\",IF($A121=\"Between\",SUMIFS('Vehicle Type Count by Agency'!BF:BF,'Vehicle Type Count by Agency'!$I:$I,\">=\"&$B121,'Vehicle Type Count by Agency'!$I:$I,\"<\"&$D121),SUMIFS('Vehicle Type Count by Agency'!BF:BF,'Vehicle Type Count by Agency'!$I:$I,\">=\"&$B121)))","v":2},{"$f":"IF($A121=\"\",\"\",IF($A121=\"Between\",SUMIFS('Vehicle Type Count by Agency'!BH:BH,'Vehicle Type Count by Agency'!$I:$I,\">=\"&$B121,'Vehicle Type Count by Agency'!$I:$I,\"<\"&$D121),SUMIFS('Vehicle Type Count by Agency'!BH:BH,'Vehicle Type Count by Agency'!$I:$I,\">=\"&$B121)))","v":19575}]
["Between",1000,"and",2000,{"$f":"IFERROR(IF(A122=\"Between\",A122&\" \"&FIXED(B122,0,0)&\" \"&C122&\" \"&FIXED(#REF!,0,0),A122&\" \"&FIXED(B122,0,0)),\"invalid bin\")","v":"invalid bin"},{"$f":"IF($A122=\"\",\"\",IF($A122=\"Between\",SUMIFS('Vehicle Type Count by Agency'!J:J,'Vehicle Type Count by Agency'!$I:$I,\">=\"&$B122,'Vehicle Type Count by Agency'!$I:$I,\"<\"&$D122),SUMIFS('Vehicle Type Count by Agency'!J:J,'Vehicle Type Count by Agency'!$I:$I,\">=\"&$B122)))","v":5679},{"$f":"IF($A122=\"\",\"\",IF($A122=\"Between\",SUMIFS('Vehicle Type Count by Agency'!L:L,'Vehicle Type Count by Agency'!$I:$I,\">=\"&$B122,'Vehicle Type Count by Agency'!$I:$I,\"<\"&$D122),SUMIFS('Vehicle Type Count by Agency'!L:L,'Vehicle Type Count by Agency'!$I:$I,\">=\"&$B122)))","v":732},{"$f":"IF($A122=\"\",\"\",IF($A122=\"Between\",SUMIFS('Vehicle Type Count by Agency'!N:N,'Vehicle Type Count by Agency'!$I:$I,\">=\"&$B122,'Vehicle Type Count by Agency'!$I:$I,\"<\"&$D122),SUMIFS('Vehicle Type Count by Agency'!N:N,'Vehicle Type Count by Agency'!$I:$I,\">=\"&$B122)))","v":1123},{"$f":"IF($A122=\"\",\"\",IF($A122=\"Between\",SUMIFS('Vehicle Type Count by Agency'!P:P,'Vehicle Type Count by Agency'!$I:$I,\">=\"&$B122,'Vehicle Type Count by Agency'!$I:$I,\"<\"&$D122),SUMIFS('Vehicle Type Count by Agency'!P:P,'Vehicle Type Count by Agency'!$I:$I,\">=\"&$B122)))","v":0},{"$f":"IF($A122=\"\",\"\",IF($A122=\"Between\",SUMIFS('Vehicle Type Count by Agency'!R:R,'Vehicle Type Count by Agency'!$I:$I,\">=\"&$B122,'Vehicle Type Count by Agency'!$I:$I,\"<\"&$D122),SUMIFS('Vehicle Type Count by Agency'!R:R,'Vehicle Type Count by Agency'!$I:$I,\">=\"&$B122)))","v":0},{"$f":"IF($A122=\"\",\"\",IF($A122=\"Between\",SUMIFS('Vehicle Type Count by Agency'!T:T,'Vehicle Type Count by Agency'!$I:$I,\">=\"&$B122,'Vehicle Type Count by Agency'!$I:$I,\"<\"&$D122),SUMIFS('Vehicle Type Count by Agency'!T:T,'Vehicle Type Count by Agency'!$I:$I,\">=\"&$B122)))","v":4277},{"$f":"IF($A122=\"\",\"\",IF($A122=\"Between\",SUMIFS('Vehicle Type Count by Agency'!V:V,'Vehicle Type Count by Agency'!$I:$I,\">=\"&$B122,'Vehicle Type Count by Agency'!$I:$I,\"<\"&$D122),SUMIFS('Vehicle Type Count by Agency'!V:V,'Vehicle Type Count by Agency'!$I:$I,\">=\"&$B122)))","v":2997},{"$f":"IF($A122=\"\",\"\",IF($A122=\"Between\",SUMIFS('Vehicle Type Count by Agency'!X:X,'Vehicle Type Count by Agency'!$I:$I,\">=\"&$B122,'Vehicle Type Count by Agency'!$I:$I,\"<\"&$D122),SUMIFS('Vehicle Type Count by Agency'!X:X,'Vehicle Type Count by Agency'!$I:$I,\">=\"&$B122)))","v":2818},{"$f":"IF($A122=\"\",\"\",IF($A122=\"Between\",SUMIFS('Vehicle Type Count by Agency'!Z:Z,'Vehicle Type Count by Agency'!$I:$I,\">=\"&$B122,'Vehicle Type Count by Agency'!$I:$I,\"<\"&$D122),SUMIFS('Vehicle Type Count by Agency'!Z:Z,'Vehicle Type Count by Agency'!$I:$I,\">=\"&$B122)))","v":1512},{"$f":"IF($A122=\"\",\"\",IF($A122=\"Between\",SUMIFS('Vehicle Type Count by Agency'!AB:AB,'Vehicle Type Count by Agency'!$I:$I,\">=\"&$B122,'Vehicle Type Count by Agency'!$I:$I,\"<\"&$D122),SUMIFS('Vehicle Type Count by Agency'!AB:AB,'Vehicle Type Count by Agency'!$I:$I,\">=\"&$B122)))","v":252},{"$f":"IF($A122=\"\",\"\",IF($A122=\"Between\",SUMIFS('Vehicle Type Count by Agency'!AD:AD,'Vehicle Type Count by Agency'!$I:$I,\">=\"&$B122,'Vehicle Type Count by Agency'!$I:$I,\"<\"&$D122),SUMIFS('Vehicle Type Count by Agency'!AD:AD,'Vehicle Type Count by Agency'!$I:$I,\">=\"&$B122)))","v":319},{"$f":"IF($A122=\"\",\"\",IF($A122=\"Between\",SUMIFS('Vehicle Type Count by Agency'!AF:AF,'Vehicle Type Count by Agency'!$I:$I,\">=\"&$B122,'Vehicle Type Count by Agency'!$I:$I,\"<\"&$D122),SUMIFS('Vehicle Type Count by Agency'!AF:AF,'Vehicle Type Count by Agency'!$I:$I,\">=\"&$B122)))","v":226},{"$f":"IF($A122=\"\",\"\",IF($A122=\"Between\",SUMIFS('Vehicle Type Count by Agency'!AH:AH,'Vehicle Type Count by Agency'!$I:$I,\">=\"&$B122,'Vehicle Type Count by Agency'!$I:$I,\"<\"&$D122),SUMIFS('Vehicle Type Count by Agency'!AH:AH,'Vehicle Type Count by Agency'!$I:$I,\">=\"&$B122)))","v":664},{"$f":"IF($A122=\"\",\"\",IF($A122=\"Between\",SUMIFS('Vehicle Type Count by Agency'!AJ:AJ,'Vehicle Type Count by Agency'!$I:$I,\">=\"&$B122,'Vehicle Type Count by Agency'!$I:$I,\"<\"&$D122),SUMIFS('Vehicle Type Count by Agency'!AJ:AJ,'Vehicle Type Count by Agency'!$I:$I,\">=\"&$B122)))","v":1438},{"$f":"IF($A122=\"\",\"\",IF($A122=\"Between\",SUMIFS('Vehicle Type Count by Agency'!AL:AL,'Vehicle Type Count by Agency'!$I:$I,\">=\"&$B122,'Vehicle Type Count by Agency'!$I:$I,\"<\"&$D122),SUMIFS('Vehicle Type Count by Agency'!AL:AL,'Vehicle Type Count by Agency'!$I:$I,\">=\"&$B122)))","v":2122},{"$f":"IF($A122=\"\",\"\",IF($A122=\"Between\",SUMIFS('Vehicle Type Count by Agency'!AN:AN,'Vehicle Type Count by Agency'!$I:$I,\">=\"&$B122,'Vehicle Type Count by Agency'!$I:$I,\"<\"&$D122),SUMIFS('Vehicle Type Count by Agency'!AN:AN,'Vehicle Type Count by Agency'!$I:$I,\">=\"&$B122)))","v":310},{"$f":"IF($A122=\"\",\"\",IF($A122=\"Between\",SUMIFS('Vehicle Type Count by Agency'!AP:AP,'Vehicle Type Count by Agency'!$I:$I,\">=\"&$B122,'Vehicle Type Count by Agency'!$I:$I,\"<\"&$D122),SUMIFS('Vehicle Type Count by Agency'!AP:AP,'Vehicle Type Count by Agency'!$I:$I,\">=\"&$B122)))","v":27},{"$f":"IF($A122=\"\",\"\",IF($A122=\"Between\",SUMIFS('Vehicle Type Count by Agency'!AR:AR,'Vehicle Type Count by Agency'!$I:$I,\">=\"&$B122,'Vehicle Type Count by Agency'!$I:$I,\"<\"&$D122),SUMIFS('Vehicle Type Count by Agency'!AR:AR,'Vehicle Type Count by Agency'!$I:$I,\">=\"&$B122)))","v":0},{"$f":"IF($A122=\"\",\"\",IF($A122=\"Between\",SUMIFS('Vehicle Type Count by Agency'!AT:AT,'Vehicle Type Count by Agency'!$I:$I,\">=\"&$B122,'Vehicle Type Count by Agency'!$I:$I,\"<\"&$D122),SUMIFS('Vehicle Type Count by Agency'!AT:AT,'Vehicle Type Count by Agency'!$I:$I,\">=\"&$B122)))","v":49},{"$f":"IF($A122=\"\",\"\",IF($A122=\"Between\",SUMIFS('Vehicle Type Count by Agency'!AV:AV,'Vehicle Type Count by Agency'!$I:$I,\">=\"&$B122,'Vehicle Type Count by Agency'!$I:$I,\"<\"&$D122),SUMIFS('Vehicle Type Count by Agency'!AV:AV,'Vehicle Type Count by Agency'!$I:$I,\">=\"&$B122)))","v":0},{"$f":"IF($A122=\"\",\"\",IF($A122=\"Between\",SUMIFS('Vehicle Type Count by Agency'!AX:AX,'Vehicle Type Count by Agency'!$I:$I,\">=\"&$B122,'Vehicle Type Count by Agency'!$I:$I,\"<\"&$D122),SUMIFS('Vehicle Type Count by Agency'!AX:AX,'Vehicle Type Count by Agency'!$I:$I,\">=\"&$B122)))","v":0},{"$f":"IF($A122=\"\",\"\",IF($A122=\"Between\",SUMIFS('Vehicle Type Count by Agency'!AZ:AZ,'Vehicle Type Count by Agency'!$I:$I,\">=\"&$B122,'Vehicle Type Count by Agency'!$I:$I,\"<\"&$D122),SUMIFS('Vehicle Type Count by Agency'!AZ:AZ,'Vehicle Type Count by Agency'!$I:$I,\">=\"&$B122)))","v":36},{"$f":"IF($A122=\"\",\"\",IF($A122=\"Between\",SUMIFS('Vehicle Type Count by Agency'!BB:BB,'Vehicle Type Count by Agency'!$I:$I,\">=\"&$B122,'Vehicle Type Count by Agency'!$I:$I,\"<\"&$D122),SUMIFS('Vehicle Type Count by Agency'!BB:BB,'Vehicle Type Count by Agency'!$I:$I,\">=\"&$B122)))","v":0},{"$f":"IF($A122=\"\",\"\",IF($A122=\"Between\",SUMIFS('Vehicle Type Count by Agency'!BD:BD,'Vehicle Type Count by Agency'!$I:$I,\">=\"&$B122,'Vehicle Type Count by Agency'!$I:$I,\"<\"&$D122),SUMIFS('Vehicle Type Count by Agency'!BD:BD,'Vehicle Type Count by Agency'!$I:$I,\">=\"&$B122)))","v":2},{"$f":"IF($A122=\"\",\"\",IF($A122=\"Between\",SUMIFS('Vehicle Type Count by Agency'!BF:BF,'Vehicle Type Count by Agency'!$I:$I,\">=\"&$B122,'Vehicle Type Count by Agency'!$I:$I,\"<\"&$D122),SUMIFS('Vehicle Type Count by Agency'!BF:BF,'Vehicle Type Count by Agency'!$I:$I,\">=\"&$B122)))","v":0},{"$f":"IF($A122=\"\",\"\",IF($A122=\"Between\",SUMIFS('Vehicle Type Count by Agency'!BH:BH,'Vehicle Type Count by Agency'!$I:$I,\">=\"&$B122,'Vehicle Type Count by Agency'!$I:$I,\"<\"&$D122),SUMIFS('Vehicle Type Count by Agency'!BH:BH,'Vehicle Type Count by Agency'!$I:$I,\">=\"&$B122)))","v":24583}]
["Over",2000,"","",{"$f":"IFERROR(IF(A123=\"Between\",A123&\" \"&FIXED(B123,0,0)&\" \"&C123&\" \"&FIXED(D123,0,0),A123&\" \"&FIXED(B123,0,0)),\"invalid bin\")","v":"Over 2,000"},{"$f":"IF($A123=\"\",\"\",IF($A123=\"Between\",SUMIFS('Vehicle Type Count by Agency'!J:J,'Vehicle Type Count by Agency'!$I:$I,\">=\"&$B123,'Vehicle Type Count by Agency'!$I:$I,\"<\"&$D123),SUMIFS('Vehicle Type Count by Agency'!J:J,'Vehicle Type Count by Agency'!$I:$I,\">=\"&$B123)))","v":12984},{"$f":"IF($A123=\"\",\"\",IF($A123=\"Between\",SUMIFS('Vehicle Type Count by Agency'!L:L,'Vehicle Type Count by Agency'!$I:$I,\">=\"&$B123,'Vehicle Type Count by Agency'!$I:$I,\"<\"&$D123),SUMIFS('Vehicle Type Count by Agency'!L:L,'Vehicle Type Count by Agency'!$I:$I,\">=\"&$B123)))","v":2853},{"$f":"IF($A123=\"\",\"\",IF($A123=\"Between\",SUMIFS('Vehicle Type Count by Agency'!N:N,'Vehicle Type Count by Agency'!$I:$I,\">=\"&$B123,'Vehicle Type Count by Agency'!$I:$I,\"<\"&$D123),SUMIFS('Vehicle Type Count by Agency'!N:N,'Vehicle Type Count by Agency'!$I:$I,\">=\"&$B123)))","v":1851},{"$f":"IF($A123=\"\",\"\",IF($A123=\"Between\",SUMIFS('Vehicle Type Count by Agency'!P:P,'Vehicle Type Count by Agency'!$I:$I,\">=\"&$B123,'Vehicle Type Count by Agency'!$I:$I,\"<\"&$D123),SUMIFS('Vehicle Type Count by Agency'!P:P,'Vehicle Type Count by Agency'!$I:$I,\">=\"&$B123)))","v":0},{"$f":"IF($A123=\"\",\"\",IF($A123=\"Between\",SUMIFS('Vehicle Type Count by Agency'!R:R,'Vehicle Type Count by Agency'!$I:$I,\">=\"&$B123,'Vehicle Type Count by Agency'!$I:$I,\"<\"&$D123),SUMIFS('Vehicle Type Count by Agency'!R:R,'Vehicle Type Count by Agency'!$I:$I,\">=\"&$B123)))","v":0},{"$f":"IF($A123=\"\",\"\",IF($A123=\"Between\",SUMIFS('Vehicle Type Count by Agency'!T:T,'Vehicle Type Count by Agency'!$I:$I,\">=\"&$B123,'Vehicle Type Count by Agency'!$I:$I,\"<\"&$D123),SUMIFS('Vehicle Type Count by Agency'!T:T,'Vehicle Type Count by Agency'!$I:$I,\">=\"&$B123)))","v":3486},{"$f":"IF($A123=\"\",\"\",IF($A123=\"Between\",SUMIFS('Vehicle Type Count by Agency'!V:V,'Vehicle Type Count by Agency'!$I:$I,\">=\"&$B123,'Vehicle Type Count by Agency'!$I:$I,\"<\"&$D123),SUMIFS('Vehicle Type Count by Agency'!V:V,'Vehicle Type Count by Agency'!$I:$I,\">=\"&$B123)))","v":2277},{"$f":"IF($A123=\"\",\"\",IF($A123=\"Between\",SUMIFS('Vehicle Type Count by Agency'!X:X,'Vehicle Type Count by Agency'!$I:$I,\">=\"&$B123,'Vehicle Type Count by Agency'!$I:$I,\"<\"&$D123),SUMIFS('Vehicle Type Count by Agency'!X:X,'Vehicle Type Count by Agency'!$I:$I,\">=\"&$B123)))","v":1598},{"$f":"IF($A123=\"\",\"\",IF($A123=\"Between\",SUMIFS('Vehicle Type Count by Agency'!Z:Z,'Vehicle Type Count by Agency'!$I:$I,\">=\"&$B123,'Vehicle Type Count by Agency'!$I:$I,\"<\"&$D123),SUMIFS('Vehicle Type Count by Agency'!Z:Z,'Vehicle Type Count by Agency'!$I:$I,\">=\"&$B123)))","v":1966},{"$f":"IF($A123=\"\",\"\",IF($A123=\"Between\",SUMIFS('Vehicle Type Count by Agency'!AB:AB,'Vehicle Type Count by Agency'!$I:$I,\">=\"&$B123,'Vehicle Type Count by Agency'!$I:$I,\"<\"&$D123),SUMIFS('Vehicle Type Count by Agency'!AB:AB,'Vehicle Type Count by Agency'!$I:$I,\">=\"&$B123)))","v":457},{"$f":"IF($A123=\"\",\"\",IF($A123=\"Between\",SUMIFS('Vehicle Type Count by Agency'!AD:AD,'Vehicle Type Count by Agency'!$I:$I,\">=\"&$B123,'Vehicle Type Count by Agency'!$I:$I,\"<\"&$D123),SUMIFS('Vehicle Type Count by Agency'!AD:AD,'Vehicle Type Count by Agency'!$I:$I,\">=\"&$B123)))","v":240},{"$f":"IF($A123=\"\",\"\",IF($A123=\"Between\",SUMIFS('Vehicle Type Count by Agency'!AF:AF,'Vehicle Type Count by Agency'!$I:$I,\">=\"&$B123,'Vehicle Type Count by Agency'!$I:$I,\"<\"&$D123),SUMIFS('Vehicle Type Count by Agency'!AF:AF,'Vehicle Type Count by Agency'!$I:$I,\">=\"&$B123)))","v":10019},{"$f":"IF($A123=\"\",\"\",IF($A123=\"Between\",SUMIFS('Vehicle Type Count by Agency'!AH:AH,'Vehicle Type Count by Agency'!$I:$I,\">=\"&$B123,'Vehicle Type Count by Agency'!$I:$I,\"<\"&$D123),SUMIFS('Vehicle Type Count by Agency'!AH:AH,'Vehicle Type Count by Agency'!$I:$I,\">=\"&$B123)))","v":685},{"$f":"IF($A123=\"\",\"\",IF($A123=\"Between\",SUMIFS('Vehicle Type Count by Agency'!AJ:AJ,'Vehicle Type Count by Agency'!$I:$I,\">=\"&$B123,'Vehicle Type Count by Agency'!$I:$I,\"<\"&$D123),SUMIFS('Vehicle Type Count by Agency'!AJ:AJ,'Vehicle Type Count by Agency'!$I:$I,\">=\"&$B123)))","v":1392},{"$f":"IF($A123=\"\",\"\",IF($A123=\"Between\",SUMIFS('Vehicle Type Count by Agency'!AL:AL,'Vehicle Type Count by Agency'!$I:$I,\">=\"&$B123,'Vehicle Type Count by Agency'!$I:$I,\"<\"&$D123),SUMIFS('Vehicle Type Count by Agency'!AL:AL,'Vehicle Type Count by Agency'!$I:$I,\">=\"&$B123)))","v":507},{"$f":"IF($A123=\"\",\"\",IF($A123=\"Between\",SUMIFS('Vehicle Type Count by Agency'!AN:AN,'Vehicle Type Count by Agency'!$I:$I,\">=\"&$B123,'Vehicle Type Count by Agency'!$I:$I,\"<\"&$D123),SUMIFS('Vehicle Type Count by Agency'!AN:AN,'Vehicle Type Count by Agency'!$I:$I,\">=\"&$B123)))","v":272},{"$f":"IF($A123=\"\",\"\",IF($A123=\"Between\",SUMIFS('Vehicle Type Count by Agency'!AP:AP,'Vehicle Type Count by Agency'!$I:$I,\">=\"&$B123,'Vehicle Type Count by Agency'!$I:$I,\"<\"&$D123),SUMIFS('Vehicle Type Count by Agency'!AP:AP,'Vehicle Type Count by Agency'!$I:$I,\">=\"&$B123)))","v":0},{"$f":"IF($A123=\"\",\"\",IF($A123=\"Between\",SUMIFS('Vehicle Type Count by Agency'!AR:AR,'Vehicle Type Count by Agency'!$I:$I,\">=\"&$B123,'Vehicle Type Count by Agency'!$I:$I,\"<\"&$D123),SUMIFS('Vehicle Type Count by Agency'!AR:AR,'Vehicle Type Count by Agency'!$I:$I,\">=\"&$B123)))","v":18},{"$f":"IF($A123=\"\",\"\",IF($A123=\"Between\",SUMIFS('Vehicle Type Count by Agency'!AT:AT,'Vehicle Type Count by Agency'!$I:$I,\">=\"&$B123,'Vehicle Type Count by Agency'!$I:$I,\"<\"&$D123),SUMIFS('Vehicle Type Count by Agency'!AT:AT,'Vehicle Type Count by Agency'!$I:$I,\">=\"&$B123)))","v":151},{"$f":"IF($A123=\"\",\"\",IF($A123=\"Between\",SUMIFS('Vehicle Type Count by Agency'!AV:AV,'Vehicle Type Count by Agency'!$I:$I,\">=\"&$B123,'Vehicle Type Count by Agency'!$I:$I,\"<\"&$D123),SUMIFS('Vehicle Type Count by Agency'!AV:AV,'Vehicle Type Count by Agency'!$I:$I,\">=\"&$B123)))","v":0},{"$f":"IF($A123=\"\",\"\",IF($A123=\"Between\",SUMIFS('Vehicle Type Count by Agency'!AX:AX,'Vehicle Type Count by Agency'!$I:$I,\">=\"&$B123,'Vehicle Type Count by Agency'!$I:$I,\"<\"&$D123),SUMIFS('Vehicle Type Count by Agency'!AX:AX,'Vehicle Type Count by Agency'!$I:$I,\">=\"&$B123)))","v":0},{"$f":"IF($A123=\"\",\"\",IF($A123=\"Between\",SUMIFS('Vehicle Type Count by Agency'!AZ:AZ,'Vehicle Type Count by Agency'!$I:$I,\">=\"&$B123,'Vehicle Type Count by Agency'!$I:$I,\"<\"&$D123),SUMIFS('Vehicle Type Count by Agency'!AZ:AZ,'Vehicle Type Count by Agency'!$I:$I,\">=\"&$B123)))","v":0},{"$f":"IF($A123=\"\",\"\",IF($A123=\"Between\",SUMIFS('Vehicle Type Count by Agency'!BB:BB,'Vehicle Type Count by Agency'!$I:$I,\">=\"&$B123,'Vehicle Type Count by Agency'!$I:$I,\"<\"&$D123),SUMIFS('Vehicle Type Count by Agency'!BB:BB,'Vehicle Type Count by Agency'!$I:$I,\">=\"&$B123)))","v":0},{"$f":"IF($A123=\"\",\"\",IF($A123=\"Between\",SUMIFS('Vehicle Type Count by Agency'!BD:BD,'Vehicle Type Count by Agency'!$I:$I,\">=\"&$B123,'Vehicle Type Count by Agency'!$I:$I,\"<\"&$D123),SUMIFS('Vehicle Type Count by Agency'!BD:BD,'Vehicle Type Count by Agency'!$I:$I,\">=\"&$B123)))","v":17},{"$f":"IF($A123=\"\",\"\",IF($A123=\"Between\",SUMIFS('Vehicle Type Count by Agency'!BF:BF,'Vehicle Type Count by Agency'!$I:$I,\">=\"&$B123,'Vehicle Type Count by Agency'!$I:$I,\"<\"&$D123),SUMIFS('Vehicle Type Count by Agency'!BF:BF,'Vehicle Type Count by Agency'!$I:$I,\">=\"&$B123)))","v":0},{"$f":"IF($A123=\"\",\"\",IF($A123=\"Between\",SUMIFS('Vehicle Type Count by Agency'!BH:BH,'Vehicle Type Count by Agency'!$I:$I,\">=\"&$B123,'Vehicle Type Count by Agency'!$I:$I,\"<\"&$D123),SUMIFS('Vehicle Type Count by Agency'!BH:BH,'Vehicle Type Count by Agency'!$I:$I,\">=\"&$B123)))","v":40773}]
[null,null,null,null,null,{"$f":"IFERROR(F125*F35,\"\")","v":701},{"$f":"IFERROR(G125*G35,\"\")","v":38},362,"","",322,545,5,96,0,201,192,0,456,138,87,0,"",45,"","",22,"",0,"",{"$f":"IF($A124=\"\",\"\",IF($A124=\"Between\",SUMIFS('Vehicle Type Count by Agency'!BH:BH,'Vehicle Type Count by Agency'!$I:$I,\">=\"&$B124,'Vehicle Type Count by Agency'!$I:$I,\"<\"&$D124),SUMIFS('Vehicle Type Count by Agency'!BH:BH,'Vehicle Type Count by Agency'!$I:$I,\">=\"&$B124)))","v":""}]
[null,null,null,null,null,{"$f":"IF(INDIRECT(ADDRESS(ROW('Summary Tables Useful Life'!F114)+$F$36,COLUMN('Summary Tables Useful Life'!F114)))=0,\"\",INDIRECT(ADDRESS(ROW('Summary Tables Useful Life'!F114)+$F$36,COLUMN('Summary Tables Useful Life'!F114))))","v":5679},{"$f":"IF(INDIRECT(ADDRESS(ROW('Summary Tables Useful Life'!G114)+$F$36,COLUMN('Summary Tables Useful Life'!G114)))=0,\"\",INDIRECT(ADDRESS(ROW('Summary Tables Useful Life'!G114)+$F$36,COLUMN('Summary Tables Useful Life'!G114))))","v":732},{"$f":"IF(INDIRECT(ADDRESS(ROW('Summary Tables Useful Life'!H114)+$F$36,COLUMN('Summary Tables Useful Life'!H114)))=0,\"\",INDIRECT(ADDRESS(ROW('Summary Tables Useful Life'!H114)+$F$36,COLUMN('Summary Tables Useful Life'!H114))))","v":1123},{"$f":"IF(INDIRECT(ADDRESS(ROW('Summary Tables Useful Life'!I114)+$F$36,COLUMN('Summary Tables Useful Life'!I114)))=0,\"\",INDIRECT(ADDRESS(ROW('Summary Tables Useful Life'!I114)+$F$36,COLUMN('Summary Tables Useful Life'!I114))))","v":""},{"$f":"IF(INDIRECT(ADDRESS(ROW('Summary Tables Useful Life'!J114)+$F$36,COLUMN('Summary Tables Useful Life'!J114)))=0,\"\",INDIRECT(ADDRESS(ROW('Summary Tables Useful Life'!J114)+$F$36,COLUMN('Summary Tables Useful Life'!J114))))","v":""},{"$f":"IF(INDIRECT(ADDRESS(ROW('Summary Tables Useful Life'!K114)+$F$36,COLUMN('Summary Tables Useful Life'!K114)))=0,\"\",INDIRECT(ADDRESS(ROW('Summary Tables Useful Life'!K114)+$F$36,COLUMN('Summary Tables Useful Life'!K114))))","v":4277},{"$f":"IF(INDIRECT(ADDRESS(ROW('Summary Tables Useful Life'!L114)+$F$36,COLUMN('Summary Tables Useful Life'!L114)))=0,\"\",INDIRECT(ADDRESS(ROW('Summary Tables Useful Life'!L114)+$F$36,COLUMN('Summary Tables Useful Life'!L114))))","v":2997},{"$f":"IF(INDIRECT(ADDRESS(ROW('Summary Tables Useful Life'!M114)+$F$36,COLUMN('Summary Tables Useful Life'!M114)))=0,\"\",INDIRECT(ADDRESS(ROW('Summary Tables Useful Life'!M114)+$F$36,COLUMN('Summary Tables Useful Life'!M114))))","v":2818},{"$f":"IF(INDIRECT(ADDRESS(ROW('Summary Tables Useful Life'!N114)+$F$36,COLUMN('Summary Tables Useful Life'!N114)))=0,\"\",INDIRECT(ADDRESS(ROW('Summary Tables Useful Life'!N114)+$F$36,COLUMN('Summary Tables Useful Life'!N114))))","v":1512},{"$f":"IF(INDIRECT(ADDRESS(ROW('Summary Tables Useful Life'!O114)+$F$36,COLUMN('Summary Tables Useful Life'!O114)))=0,\"\",INDIRECT(ADDRESS(ROW('Summary Tables Useful Life'!O114)+$F$36,COLUMN('Summary Tables Useful Life'!O114))))","v":252},{"$f":"IF(INDIRECT(ADDRESS(ROW('Summary Tables Useful Life'!P114)+$F$36,COLUMN('Summary Tables Useful Life'!P114)))=0,\"\",INDIRECT(ADDRESS(ROW('Summary Tables Useful Life'!P114)+$F$36,COLUMN('Summary Tables Useful Life'!P114))))","v":319},{"$f":"IF(INDIRECT(ADDRESS(ROW('Summary Tables Useful Life'!Q114)+$F$36,COLUMN('Summary Tables Useful Life'!Q114)))=0,\"\",INDIRECT(ADDRESS(ROW('Summary Tables Useful Life'!Q114)+$F$36,COLUMN('Summary Tables Useful Life'!Q114))))","v":226},{"$f":"IF(INDIRECT(ADDRESS(ROW('Summary Tables Useful Life'!R114)+$F$36,COLUMN('Summary Tables Useful Life'!R114)))=0,\"\",INDIRECT(ADDRESS(ROW('Summary Tables Useful Life'!R114)+$F$36,COLUMN('Summary Tables Useful Life'!R114))))","v":664},{"$f":"IF(INDIRECT(ADDRESS(ROW('Summary Tables Useful Life'!S114)+$F$36,COLUMN('Summary Tables Useful Life'!S114)))=0,\"\",INDIRECT(ADDRESS(ROW('Summary Tables Useful Life'!S114)+$F$36,COLUMN('Summary Tables Useful Life'!S114))))","v":1438},{"$f":"IF(INDIRECT(ADDRESS(ROW('Summary Tables Useful Life'!T114)+$F$36,COLUMN('Summary Tables Useful Life'!T114)))=0,\"\",INDIRECT(ADDRESS(ROW('Summary Tables Useful Life'!T114)+$F$36,COLUMN('Summary Tables Useful Life'!T114))))","v":2122},{"$f":"IF(INDIRECT(ADDRESS(ROW('Summary Tables Useful Life'!U114)+$F$36,COLUMN('Summary Tables Useful Life'!U114)))=0,\"\",INDIRECT(ADDRESS(ROW('Summary Tables Useful Life'!U114)+$F$36,COLUMN('Summary Tables Useful Life'!U114))))","v":310},{"$f":"IF(INDIRECT(ADDRESS(ROW('Summary Tables Useful Life'!V114)+$F$36,COLUMN('Summary Tables Useful Life'!V114)))=0,\"\",INDIRECT(ADDRESS(ROW('Summary Tables Useful Life'!V114)+$F$36,COLUMN('Summary Tables Useful Life'!V114))))","v":27},{"$f":"IF(INDIRECT(ADDRESS(ROW('Summary Tables Useful Life'!W114)+$F$36,COLUMN('Summary Tables Useful Life'!W114)))=0,\"\",INDIRECT(ADDRESS(ROW('Summary Tables Useful Life'!W114)+$F$36,COLUMN('Summary Tables Useful Life'!W114))))","v":""},{"$f":"IF(INDIRECT(ADDRESS(ROW('Summary Tables Useful Life'!X114)+$F$36,COLUMN('Summary Tables Useful Life'!X114)))=0,\"\",INDIRECT(ADDRESS(ROW('Summary Tables Useful Life'!X114)+$F$36,COLUMN('Summary Tables Useful Life'!X114))))","v":49},{"$f":"IF(INDIRECT(ADDRESS(ROW('Summary Tables Useful Life'!Y114)+$F$36,COLUMN('Summary Tables Useful Life'!Y114)))=0,\"\",INDIRECT(ADDRESS(ROW('Summary Tables Useful Life'!Y114)+$F$36,COLUMN('Summary Tables Useful Life'!Y114))))","v":""},{"$f":"IF(INDIRECT(ADDRESS(ROW('Summary Tables Useful Life'!Z114)+$F$36,COLUMN('Summary Tables Useful Life'!Z114)))=0,\"\",INDIRECT(ADDRESS(ROW('Summary Tables Useful Life'!Z114)+$F$36,COLUMN('Summary Tables Useful Life'!Z114))))","v":""},{"$f":"IF(INDIRECT(ADDRESS(ROW('Summary Tables Useful Life'!AA114)+$F$36,COLUMN('Summary Tables Useful Life'!AA114)))=0,\"\",INDIRECT(ADDRESS(ROW('Summary Tables Useful Life'!AA114)+$F$36,COLUMN('Summary Tables Useful Life'!AA114))))","v":36},{"$f":"IF(INDIRECT(ADDRESS(ROW('Summary Tables Useful Life'!AB114)+$F$36,COLUMN('Summary Tables Useful Life'!AB114)))=0,\"\",INDIRECT(ADDRESS(ROW('Summary Tables Useful Life'!AB114)+$F$36,COLUMN('Summary Tables Useful Life'!AB114))))","v":""},{"$f":"IF(INDIRECT(ADDRESS(ROW('Summary Tables Useful Life'!AC114)+$F$36,COLUMN('Summary Tables Useful Life'!AC114)))=0,\"\",INDIRECT(ADDRESS(ROW('Summary Tables Useful Life'!AC114)+$F$36,COLUMN('Summary Tables Useful Life'!AC114))))","v":2},{"$f":"IF(INDIRECT(ADDRESS(ROW('Summary Tables Useful Life'!AD114)+$F$36,COLUMN('Summary Tables Useful Life'!AD114)))=0,\"\",INDIRECT(ADDRESS(ROW('Summary Tables Useful Life'!AD114)+$F$36,COLUMN('Summary Tables Useful Life'!AD114))))","v":""},{"$f":"IF($A125=\"\",\"\",IF($A125=\"Between\",SUMIFS('Vehicle Type Count by Agency'!BH:BH,'Vehicle Type Count by Agency'!$I:$I,\">=\"&$B125,'Vehicle Type Count by Agency'!$I:$I,\"<\"&$D125),SUMIFS('Vehicle Type Count by Agency'!BH:BH,'Vehicle Type Count by Agency'!$I:$I,\">=\"&$B125)))","v":""}]
[]
[null,null,null,{"$f":"IFERROR(\"This bar chart shows vehicle types for one agency size bin, from the table above called \"\"By Urbanized Area Size\"\".\"&CHAR(10)&\"Number of Active Vehicles Beyond their Useful Life out of the Total Number of Active Vehicles\"&\":\"&CHAR(10)&$G$20&\":\"&CHAR(10)&D128&CHAR(10)&D129&CHAR(10)&D130&CHAR(10)&D131&CHAR(10)&D132&CHAR(10)&D133&CHAR(10)&D134&CHAR(10)&D135&CHAR(10)&D136&CHAR(10)&D137&CHAR(10)&D138&CHAR(10)&D139&CHAR(10)&D140&CHAR(10)&D141&CHAR(10)&D142&CHAR(10)&D143&CHAR(10)&D144&CHAR(10)&D145&CHAR(10)&D146&CHAR(10)&D147&CHAR(10)&D148&CHAR(10)&D149&CHAR(10)&D150&CHAR(10)&D151&CHAR(10)&D152,\"\")","v":"This bar chart shows vehicle types for one agency size bin, from the table above called \"By Urbanized Area Size\".\nNumber of Active Vehicles Beyond their Useful Life out of the Total Number of Active Vehicles:\nUnder 200,000 Population:\nBus: 2059 past useful life out of 8534\nArticulated Bus: 25 past useful life out of 62\nOver-the-road Bus: 58 past useful life out of 258\nDouble Decker Bus: 3 past useful life out of 10\nSchool Bus: 37 past useful life out of 93\nVan: 2301 past useful life out of 6473\nCutaway: 4784 past useful life out of 19192\nAutomobile: 305 past useful life out of 808\nMinivan: 2038 past useful life out of 6105\nSports Utility Vehicle: 93 past useful life out of 367\nTrolleybus: no vehicles in this bin\nHeavy Rail Passenger Car: no vehicles in this bin\nLight Rail Vehicle: no vehicles in this bin\nCommuter Rail Passenger Coach: no vehicles in this bin\nCommuter Rail Self-Propelled Passenger Car: no vehicles in this bin\nLocomotive: no vehicles in this bin\nAutomated Guideway Vehicle: 0 past useful life out of 69\nVintage/ Historic Trolley: 7 past useful life out of 7\nStreetcar: no vehicles in this bin\nAerial Tramway: 57 past useful life out of 68\nMonorail: no vehicles in this bin\nCable Car: no vehicles in this bin\nInclined Plane: 0 past useful life out of 2\nFerryboat: 3 past useful life out of 24\nOther: 5 past useful life out of 33"}]
["Bus",{"$f":"TRANSPOSE(F111:AD112)","v":2059},8534,{"$f":"A128&\": \"&IF(C128=\"\",\"no vehicles in this bin\",B128&\" past useful life out of \"&C128)","v":"Bus: 2059 past useful life out of 8534"}]
["Articulated Bus",25,62,{"$f":"A129&\": \"&IF(C129=\"\",\"no vehicles in this bin\",B129&\" past useful life out of \"&C129)","v":"Articulated Bus: 25 past useful life out of 62"}]
["Over-the-road Bus",58,258,"Over-the-road Bus: 58 past useful life out of 258"]
["Double Decker Bus",3,10,"Double Decker Bus: 3 past useful life out of 10"]
["School Bus",37,93,"School Bus: 37 past useful life out of 93"]
["Van",2301,6473,"Van: 2301 past useful life out of 6473"]
["Cutaway",4784,19192,"Cutaway: 4784 past useful life out of 19192"]
["Automobile",305,808,"Automobile: 305 past useful life out of 808"]
["Minivan",2038,6105,"Minivan: 2038 past useful life out of 6105"]
["Sports Utility Vehicle",93.000000000000014,367,"Sports Utility Vehicle: 93 past useful life out of 367"]
["Trolleybus","","","Trolleybus: no vehicles in this bin"]
["Heavy Rail Passenger Car","","","Heavy Rail Passenger Car: no vehicles in this bin"]
["Light Rail Vehicle","","","Light Rail Vehicle: no vehicles in this bin"]
["Commuter Rail Passenger Coach","","","Commuter Rail Passenger Coach: no vehicles in this bin"]
["Commuter Rail Self-Propelled Passenger Car","","","Commuter Rail Self-Propelled Passenger Car: no vehicles in this bin"]
["Locomotive","","","Locomotive: no vehicles in this bin"]
["Automated Guideway Vehicle",0,69,"Automated Guideway Vehicle: 0 past useful life out of 69"]
["Vintage/ Historic Trolley",7,7,"Vintage/ Historic Trolley: 7 past useful life out of 7"]
["Streetcar","","","Streetcar: no vehicles in this bin"]
["Aerial Tramway",57,68,"Aerial Tramway: 57 past useful life out of 68"]
["Monorail","","","Monorail: no vehicles in this bin"]
["Cable Car","","","Cable Car: no vehicles in this bin"]
["Inclined Plane",0,2,"Inclined Plane: 0 past useful life out of 2"]
["Ferryboat",3,24,"Ferryboat: 3 past useful life out of 24"]
["Other",5,33,"Other: 5 past useful life out of 33"]
[]
[null,null,null,{"$f":"IFERROR(\"This bar chart shows vehicle types for one agency size bin, from the table above called \"\"By Agency Size (Vehicles)\"\".\"&CHAR(10)&\"Number of Active Vehicles Beyond their Useful Life out of the Total Number of Active Vehicles\"&\":\"&CHAR(10)&$G$36&\":\"&CHAR(10)&D155&CHAR(10)&D156&CHAR(10)&D157&CHAR(10)&D158&CHAR(10)&D159&CHAR(10)&D160&CHAR(10)&D161&CHAR(10)&D162&CHAR(10)&D163&CHAR(10)&D164&CHAR(10)&D165&CHAR(10)&D166&CHAR(10)&D167&CHAR(10)&D168&CHAR(10)&D169&CHAR(10)&D170&CHAR(10)&D171&CHAR(10)&D172&CHAR(10)&D173&CHAR(10)&D174&CHAR(10)&D175&CHAR(10)&D176&CHAR(10)&D177&CHAR(10)&D178&CHAR(10)&D179,\"\")","v":"This bar chart shows vehicle types for one agency size bin, from the table above called \"By Agency Size (Vehicles)\".\nNumber of Active Vehicles Beyond their Useful Life out of the Total Number of Active Vehicles:\nAgency Size Between 1,000 and 2,000 Vehicles:\nBus: 701 past useful life out of 5679\nArticulated Bus: 38 past useful life out of 732\nOver-the-road Bus: 362 past useful life out of 1123\nDouble Decker Bus: no vehicles in this bin\nSchool Bus: no vehicles in this bin\nVan: 322 past useful life out of 4277\nCutaway: 545 past useful life out of 2997\nAutomobile: 5 past useful life out of 2818\nMinivan: 96 past useful life out of 1512\nSports Utility Vehicle: 0 past useful life out of 252\nTrolleybus: 201 past useful life out of 319\nHeavy Rail Passenger Car: 192 past useful life out of 226\nLight Rail Vehicle: 0 past useful life out of 664\nCommuter Rail Passenger Coach: 456 past useful life out of 1438\nCommuter Rail Self-Propelled Passenger Car: 138 past useful life out of 2122\nLocomotive: 87 past useful life out of 310\nAutomated Guideway Vehicle: 0 past useful life out of 27\nVintage/ Historic Trolley: no vehicles in this bin\nStreetcar: 45 past useful life out of 49\nAerial Tramway: no vehicles in this bin\nMonorail: no vehicles in this bin\nCable Car: 22 past useful life out of 36\nInclined Plane: no vehicles in this bin\nFerryboat: 0 past useful life out of 2\nOther: no vehicles in this bin"}]
["Bus",{"$f":"TRANSPOSE(F124:AD125)","v":701},5679,{"$f":"A155&\": \"&IF(C155=\"\",\"no vehicles in this bin\",B155&\" past useful life out of \"&C155)","v":"Bus: 701 past useful life out of 5679"}]
["Articulated Bus",38,732,{"$f":"A156&\": \"&IF(C156=\"\",\"no vehicles in this bin\",B156&\" past useful life out of \"&C156)","v":"Articulated Bus: 38 past useful life out of 732"}]
["Over-the-road Bus",362,1123,"Over-the-road Bus: 362 past useful life out of 1123"]
["Double Decker Bus","","","Double Decker Bus: no vehicles in this bin"]
["School Bus","","","School Bus: no vehicles in this bin"]
["Van",322,4277,"Van: 322 past useful life out of 4277"]
["Cutaway",545,2997,"Cutaway: 545 past useful life out of 2997"]
["Automobile",5,2818,"Automobile: 5 past useful life out of 2818"]
["Minivan",96,1512,"Minivan: 96 past useful life out of 1512"]
["Sports Utility Vehicle",0,252,"Sports Utility Vehicle: 0 past useful life out of 252"]
["Trolleybus",201,319,"Trolleybus: 201 past useful life out of 319"]
["Heavy Rail Passenger Car",192,226,"Heavy Rail Passenger Car: 192 past useful life out of 226"]
["Light Rail Vehicle",0,664,"Light Rail Vehicle: 0 past useful life out of 664"]
["Commuter Rail Passenger Coach",456,1438,"Commuter Rail Passenger Coach: 456 past useful life out of 1438"]
["Commuter Rail Self-Propelled Passenger Car",138,2122,"Commuter Rail Self-Propelled Passenger Car: 138 past useful life out of 2122"]
["Locomotive",87,310,"Locomotive: 87 past useful life out of 310"]
["Automated Guideway Vehicle",0,27,"Automated Guideway Vehicle: 0 past useful life out of 27"]
["Vintage/ Historic Trolley","","","Vintage/ Historic Trolley: no vehicles in this bin"]
["Streetcar",45,49,"Streetcar: 45 past useful life out of 49"]
["Aerial Tramway","","","Aerial Tramway: no vehicles in this bin"]
["Monorail","","","Monorail: no vehicles in this bin"]
["Cable Car",22,36,"Cable Car: 22 past useful life out of 36"]
["Inclined Plane","","","Inclined Plane: no vehicles in this bin"]
["Ferryboat",0,2,"Ferryboat: 0 past useful life out of 2"]
["Other","","","Other: no vehicles in this bin"]